{"text_format":"1","workbook":"xlsx","n_sheets":11,"sheets":["Y7G","Y7B","JG","JB","IG","IB","SG","SB","Team_Results","Summary Sheet","Schools List"],"not_rendered":{"charts":0,"images":0,"macros":1,"external_links":0,"defined_names":18,"comments":0,"pivot_tables":0},"unopened":[],"bounds":{"document_bytes":16777216,"sheet_cells":100000,"rows_first":2000,"rows_last":500,"rows_between":2000,"halvings":0,"cell_chars":16384,"cell_head_chars":4096},"cells_cut":0,"cells_raw":0,"read":"whole","date_system":"1900"}

{"sheet":"Y7G","index":0,"n_rows":150,"n_cols":29,"rows_kept":150,"cut":false,"hidden":false,"merged":[]}
["Total Number of Runners","Race Complete (Y/N) ","Y",null,"Y",null,"Y",null,"Y",null,"N",{"$f":"COUNTIF(C1:K1,\"=Y\")","v":4},null,null,null,null,null,"Total Eligible for League",null,{"$f":"IF(K1=\"Y\",1,0)","v":0},null,{"$f":"SUM(S1:T1)","v":0}]
[{"$f":"COUNTA(A5:A300)","v":65},"No of Finishers",39,{"$f":"MAX(D5:D151)","v":39},41,41,35,35,33,33,null,null,null,null,null,null,null,{"$f":"COUNTIF(R5:R200,\"Yes\")","v":31}]
["Year 7 Girls","Number of results recorded",{"$f":"COUNTIF(C5:C150,\">0\")","v":39},null,{"$f":"COUNTIF(F5:F150,\">0\")","v":41},null,{"$f":"COUNTIF(H5:H150,\">0\")","v":35},null,{"$f":"COUNTIF(J5:J150,\">0\")","v":33},null,0]
["Name","School","Race 1","Normalised result -1","Race 2","Normalised result -2","Race 3","Normalised result -3","Race 4","Normalised result -4","Race 5","Normalised result -5","School duplicate column","Total\n(All Races)","Lowest Place Finish","Final Total","League contender?\n(No. of races - missed)","Eligible For League Title","Competed 1","Competed 2","Competed 3","Competed 4","Competed 5","Competed Count",null,null,null,null," "]
["Elsie Robinson","Lutterworth High School",1,{"$f":"IF(C5=\"-\",0,C5)","v":1},"-",{"$f":"IF(E5=\"-\",0,E5)","v":0},1,{"$f":"IF(G5=\"-\",0,G5)","v":1},1,{"$f":"IF(I5=\"-\",0,I5)","v":1},"-",{"$f":"IF(K5=\"-\",0,K5)","v":0},{"$f":"Table10[[#This Row],[School]]","v":"Lutterworth High School"},{"$f":"D5+F5+H5+J5+L5","v":3},{"$f":"MAX(C5,E5,G5,I5,K5)","v":1},{"$f":"IF(Q5=1,N5,IF(Q5=0,(N5-O5),\"-\"))","v":3},{"$f":"$L$1-Table10[Competed Count]","v":1},{"$f":"IF(Q5<2,\"Yes\",\"No\")","v":"Yes"},{"$f":"AND($C$1=\"Y\",D5>0)","v":true},{"$f":"AND($E$1=\"Y\",F5>0)","v":false},{"$f":"AND($G$1=\"Y\",H5>0)","v":true},{"$f":"AND($I$1=\"Y\",J5>0)","v":true},{"$f":"AND($K$1=\"Y\",L5>0)","v":false},{"$f":"COUNTIF(Table10[[#This Row],[Competed 1]:[Competed 5]],\"=TRUE\")","v":3}]
["Isobel Orencas","Bosworth Academy",5,{"$f":"IF(C6=\"-\",0,C6)","v":5},1,{"$f":"IF(E6=\"-\",0,E6)","v":1},"-",{"$f":"IF(G6=\"-\",0,G6)","v":0},2,{"$f":"IF(I6=\"-\",0,I6)","v":2},"-",{"$f":"IF(K6=\"-\",0,K6)","v":0},{"$f":"Table10[[#This Row],[School]]","v":"Bosworth Academy"},{"$f":"D6+F6+H6+J6+L6","v":8},{"$f":"MAX(C6,E6,G6,I6,K6)","v":5},{"$f":"IF(Q6=1,N6,IF(Q6=0,(N6-O6),\"-\"))","v":8},{"$f":"$L$1-Table10[Competed Count]","v":1},{"$f":"IF(Q6<2,\"Yes\",\"No\")","v":"Yes"},{"$f":"AND($C$1=\"Y\",D6>0)","v":true},{"$f":"AND($E$1=\"Y\",F6>0)","v":true},{"$f":"AND($G$1=\"Y\",H6>0)","v":false},{"$f":"AND($I$1=\"Y\",J6>0)","v":true},{"$f":"AND($K$1=\"Y\",L6>0)","v":false},{"$f":"COUNTIF(Table10[[#This Row],[Competed 1]:[Competed 5]],\"=TRUE\")","v":3}]
["Rebecca Cullen","Uppingham CC",3,{"$f":"IF(C7=\"-\",0,C7)","v":3},"-",{"$f":"IF(E7=\"-\",0,E7)","v":0},3,{"$f":"IF(G7=\"-\",0,G7)","v":3},3,{"$f":"IF(I7=\"-\",0,I7)","v":3},"-",{"$f":"IF(K7=\"-\",0,K7)","v":0},{"$f":"Table10[[#This Row],[School]]","v":"Uppingham CC"},{"$f":"D7+F7+H7+J7+L7","v":9},{"$f":"MAX(C7,E7,G7,I7,K7)","v":3},{"$f":"IF(Q7=1,N7,IF(Q7=0,(N7-O7),\"-\"))","v":9},{"$f":"$L$1-Table10[Competed Count]","v":1},{"$f":"IF(Q7<2,\"Yes\",\"No\")","v":"Yes"},{"$f":"AND($C$1=\"Y\",D7>0)","v":true},{"$f":"AND($E$1=\"Y\",F7>0)","v":false},{"$f":"AND($G$1=\"Y\",H7>0)","v":true},{"$f":"AND($I$1=\"Y\",J7>0)","v":true},{"$f":"AND($K$1=\"Y\",L7>0)","v":false},{"$f":"COUNTIF(Table10[[#This Row],[Competed 1]:[Competed 5]],\"=TRUE\")","v":3}]
["Eliza Weselby","Gartree High School",2,{"$f":"IF(C8=\"-\",0,C8)","v":2},"-",{"$f":"IF(E8=\"-\",0,E8)","v":0},2,{"$f":"IF(G8=\"-\",0,G8)","v":2},4,{"$f":"IF(I8=\"-\",0,I8)","v":4},"-",{"$f":"IF(K8=\"-\",0,K8)","v":0},{"$f":"Table10[[#This Row],[School]]","v":"Gartree High School"},{"$f":"D8+F8+H8+J8+L8","v":8},{"$f":"MAX(C8,E8,G8,I8,K8)","v":4},{"$f":"IF(Q8=1,N8,IF(Q8=0,(N8-O8),\"-\"))","v":8},{"$f":"$L$1-Table10[Competed Count]","v":1},{"$f":"IF(Q8<2,\"Yes\",\"No\")","v":"Yes"},{"$f":"AND($C$1=\"Y\",D8>0)","v":true},{"$f":"AND($E$1=\"Y\",F8>0)","v":false},{"$f":"AND($G$1=\"Y\",H8>0)","v":true},{"$f":"AND($I$1=\"Y\",J8>0)","v":true},{"$f":"AND($K$1=\"Y\",L8>0)","v":false},{"$f":"COUNTIF(Table10[[#This Row],[Competed 1]:[Competed 5]],\"=TRUE\")","v":3}]
["Lucy Morrison","Ivanhoe College",4,{"$f":"IF(C9=\"-\",0,C9)","v":4},"-",{"$f":"IF(E9=\"-\",0,E9)","v":0},4,{"$f":"IF(G9=\"-\",0,G9)","v":4},5,{"$f":"IF(I9=\"-\",0,I9)","v":5},"-",{"$f":"IF(K9=\"-\",0,K9)","v":0},{"$f":"Table10[[#This Row],[School]]","v":"Ivanhoe College"},{"$f":"D9+F9+H9+J9+L9","v":13},{"$f":"MAX(C9,E9,G9,I9,K9)","v":5},{"$f":"IF(Q9=1,N9,IF(Q9=0,(N9-O9),\"-\"))","v":13},{"$f":"$L$1-Table10[Competed Count]","v":1},{"$f":"IF(Q9<2,\"Yes\",\"No\")","v":"Yes"},{"$f":"AND($C$1=\"Y\",D9>0)","v":true},{"$f":"AND($E$1=\"Y\",F9>0)","v":false},{"$f":"AND($G$1=\"Y\",H9>0)","v":true},{"$f":"AND($I$1=\"Y\",J9>0)","v":true},{"$f":"AND($K$1=\"Y\",L9>0)","v":false},{"$f":"COUNTIF(Table10[[#This Row],[Competed 1]:[Competed 5]],\"=TRUE\")","v":3}]
["Amelie McCann","De Lisle College",7,{"$f":"IF(C10=\"-\",0,C10)","v":7},2,{"$f":"IF(E10=\"-\",0,E10)","v":2},"-",{"$f":"IF(G10=\"-\",0,G10)","v":0},6,{"$f":"IF(I10=\"-\",0,I10)","v":6},"-",{"$f":"IF(K10=\"-\",0,K10)","v":0},{"$f":"Table10[[#This Row],[School]]","v":"De Lisle College"},{"$f":"D10+F10+H10+J10+L10","v":15},{"$f":"MAX(C10,E10,G10,I10,K10)","v":7},{"$f":"IF(Q10=1,N10,IF(Q10=0,(N10-O10),\"-\"))","v":15},{"$f":"$L$1-Table10[Competed Count]","v":1},{"$f":"IF(Q10<2,\"Yes\",\"No\")","v":"Yes"},{"$f":"AND($C$1=\"Y\",D10>0)","v":true},{"$f":"AND($E$1=\"Y\",F10>0)","v":true},{"$f":"AND($G$1=\"Y\",H10>0)","v":false},{"$f":"AND($I$1=\"Y\",J10>0)","v":true},{"$f":"AND($K$1=\"Y\",L10>0)","v":false},{"$f":"COUNTIF(Table10[[#This Row],[Competed 1]:[Competed 5]],\"=TRUE\")","v":3}]
["Eleanor Taylor","John Ferneley College",8,{"$f":"IF(C11=\"-\",0,C11)","v":8},3,{"$f":"IF(E11=\"-\",0,E11)","v":3},7,{"$f":"IF(G11=\"-\",0,G11)","v":7},7,{"$f":"IF(I11=\"-\",0,I11)","v":7},"-",{"$f":"IF(K11=\"-\",0,K11)","v":0},{"$f":"Table10[[#This Row],[School]]","v":"John Ferneley College"},{"$f":"D11+F11+H11+J11+L11","v":25},{"$f":"MAX(C11,E11,G11,I11,K11)","v":8},{"$f":"IF(Q11=1,N11,IF(Q11=0,(N11-O11),\"-\"))","v":17},{"$f":"$L$1-Table10[Competed Count]","v":0},{"$f":"IF(Q11<2,\"Yes\",\"No\")","v":"Yes"},{"$f":"AND($C$1=\"Y\",D11>0)","v":true},{"$f":"AND($E$1=\"Y\",F11>0)","v":true},{"$f":"AND($G$1=\"Y\",H11>0)","v":true},{"$f":"AND($I$1=\"Y\",J11>0)","v":true},{"$f":"AND($K$1=\"Y\",L11>0)","v":false},{"$f":"COUNTIF(Table10[[#This Row],[Competed 1]:[Competed 5]],\"=TRUE\")","v":4}]
["Rhona Johnston","Wreake Valley Academy","-",{"$f":"IF(C12=\"-\",0,C12)","v":0},"-",{"$f":"IF(E12=\"-\",0,E12)","v":0},6,{"$f":"IF(G12=\"-\",0,G12)","v":6},8,{"$f":"IF(I12=\"-\",0,I12)","v":8},"-",{"$f":"IF(K12=\"-\",0,K12)","v":0},{"$f":"Table10[[#This Row],[School]]","v":"Wreake Valley Academy"},{"$f":"D12+F12+H12+J12+L12","v":14},{"$f":"MAX(C12,E12,G12,I12,K12)","v":8},{"$f":"IF(Q12=1,N12,IF(Q12=0,(N12-O12),\"-\"))","v":"-"},{"$f":"$L$1-Table10[Competed Count]","v":2},{"$f":"IF(Q12<2,\"Yes\",\"No\")","v":"No"},{"$f":"AND($C$1=\"Y\",D12>0)","v":false},{"$f":"AND($E$1=\"Y\",F12>0)","v":false},{"$f":"AND($G$1=\"Y\",H12>0)","v":true},{"$f":"AND($I$1=\"Y\",J12>0)","v":true},{"$f":"AND($K$1=\"Y\",L12>0)","v":false},{"$f":"COUNTIF(Table10[[#This Row],[Competed 1]:[Competed 5]],\"=TRUE\")","v":2}]
["Ruby Bland","Countesthorpe Leysland CC","-",{"$f":"IF(C13=\"-\",0,C13)","v":0},6,{"$f":"IF(E13=\"-\",0,E13)","v":6},10,{"$f":"IF(G13=\"-\",0,G13)","v":10},9,{"$f":"IF(I13=\"-\",0,I13)","v":9},"-",{"$f":"IF(K13=\"-\",0,K13)","v":0},{"$f":"Table10[[#This Row],[School]]","v":"Countesthorpe Leysland CC"},{"$f":"D13+F13+H13+J13+L13","v":25},{"$f":"MAX(C13,E13,G13,I13,K13)","v":10},{"$f":"IF(Q13=1,N13,IF(Q13=0,(N13-O13),\"-\"))","v":25},{"$f":"$L$1-Table10[Competed Count]","v":1},{"$f":"IF(Q13<2,\"Yes\",\"No\")","v":"Yes"},{"$f":"AND($C$1=\"Y\",D13>0)","v":false},{"$f":"AND($E$1=\"Y\",F13>0)","v":true},{"$f":"AND($G$1=\"Y\",H13>0)","v":true},{"$f":"AND($I$1=\"Y\",J13>0)","v":true},{"$f":"AND($K$1=\"Y\",L13>0)","v":false},{"$f":"COUNTIF(Table10[[#This Row],[Competed 1]:[Competed 5]],\"=TRUE\")","v":3}]
["Isabel Oakland","De Lisle College",15,{"$f":"IF(C14=\"-\",0,C14)","v":15},5,{"$f":"IF(E14=\"-\",0,E14)","v":5},9,{"$f":"IF(G14=\"-\",0,G14)","v":9},10,{"$f":"IF(I14=\"-\",0,I14)","v":10},"-",{"$f":"IF(K14=\"-\",0,K14)","v":0},{"$f":"Table10[[#This Row],[School]]","v":"De Lisle College"},{"$f":"D14+F14+H14+J14+L14","v":39},{"$f":"MAX(C14,E14,G14,I14,K14)","v":15},{"$f":"IF(Q14=1,N14,IF(Q14=0,(N14-O14),\"-\"))","v":24},{"$f":"$L$1-Table10[Competed Count]","v":0},{"$f":"IF(Q14<2,\"Yes\",\"No\")","v":"Yes"},{"$f":"AND($C$1=\"Y\",D14>0)","v":true},{"$f":"AND($E$1=\"Y\",F14>0)","v":true},{"$f":"AND($G$1=\"Y\",H14>0)","v":true},{"$f":"AND($I$1=\"Y\",J14>0)","v":true},{"$f":"AND($K$1=\"Y\",L14>0)","v":false},{"$f":"COUNTIF(Table10[[#This Row],[Competed 1]:[Competed 5]],\"=TRUE\")","v":4}]
["Eleanor Harewood","Countesthorpe Leysland CC","-",{"$f":"IF(C15=\"-\",0,C15)","v":0},"-",{"$f":"IF(E15=\"-\",0,E15)","v":0},"-",{"$f":"IF(G15=\"-\",0,G15)","v":0},11,{"$f":"IF(I15=\"-\",0,I15)","v":11},"-",{"$f":"IF(K15=\"-\",0,K15)","v":0},{"$f":"Table10[[#This Row],[School]]","v":"Countesthorpe Leysland CC"},{"$f":"D15+F15+H15+J15+L15","v":11},{"$f":"MAX(C15,E15,G15,I15,K15)","v":11},{"$f":"IF(Q15=1,N15,IF(Q15=0,(N15-O15),\"-\"))","v":"-"},{"$f":"$L$1-Table10[Competed Count]","v":3},{"$f":"IF(Q15<2,\"Yes\",\"No\")","v":"No"},{"$f":"AND($C$1=\"Y\",D15>0)","v":false},{"$f":"AND($E$1=\"Y\",F15>0)","v":false},{"$f":"AND($G$1=\"Y\",H15>0)","v":false},{"$f":"AND($I$1=\"Y\",J15>0)","v":true},{"$f":"AND($K$1=\"Y\",L15>0)","v":false},{"$f":"COUNTIF(Table10[[#This Row],[Competed 1]:[Competed 5]],\"=TRUE\")","v":1}]
["Holly Wright","Guest",14,{"$f":"IF(C16=\"-\",0,C16)","v":14},7,{"$f":"IF(E16=\"-\",0,E16)","v":7},12,{"$f":"IF(G16=\"-\",0,G16)","v":12},12,{"$f":"IF(I16=\"-\",0,I16)","v":12},"-",{"$f":"IF(K16=\"-\",0,K16)","v":0},{"$f":"Table10[[#This Row],[School]]","v":"Guest"},{"$f":"D16+F16+H16+J16+L16","v":45},{"$f":"MAX(C16,E16,G16,I16,K16)","v":14},{"$f":"IF(Q16=1,N16,IF(Q16=0,(N16-O16),\"-\"))","v":31},{"$f":"$L$1-Table10[Competed Count]","v":0},{"$f":"IF(Q16<2,\"Yes\",\"No\")","v":"Yes"},{"$f":"AND($C$1=\"Y\",D16>0)","v":true},{"$f":"AND($E$1=\"Y\",F16>0)","v":true},{"$f":"AND($G$1=\"Y\",H16>0)","v":true},{"$f":"AND($I$1=\"Y\",J16>0)","v":true},{"$f":"AND($K$1=\"Y\",L16>0)","v":false},{"$f":"COUNTIF(Table10[[#This Row],[Competed 1]:[Competed 5]],\"=TRUE\")","v":4}]
["Scarlot Blake-Rider","Countesthorpe Leysland CC","-",{"$f":"IF(C17=\"-\",0,C17)","v":0},"-",{"$f":"IF(E17=\"-\",0,E17)","v":0},15,{"$f":"IF(G17=\"-\",0,G17)","v":15},13,{"$f":"IF(I17=\"-\",0,I17)","v":13},"-",{"$f":"IF(K17=\"-\",0,K17)","v":0},{"$f":"Table10[[#This Row],[School]]","v":"Countesthorpe Leysland CC"},{"$f":"D17+F17+H17+J17+L17","v":28},{"$f":"MAX(C17,E17,G17,I17,K17)","v":15},{"$f":"IF(Q17=1,N17,IF(Q17=0,(N17-O17),\"-\"))","v":"-"},{"$f":"$L$1-Table10[Competed Count]","v":2},{"$f":"IF(Q17<2,\"Yes\",\"No\")","v":"No"},{"$f":"AND($C$1=\"Y\",D17>0)","v":false},{"$f":"AND($E$1=\"Y\",F17>0)","v":false},{"$f":"AND($G$1=\"Y\",H17>0)","v":true},{"$f":"AND($I$1=\"Y\",J17>0)","v":true},{"$f":"AND($K$1=\"Y\",L17>0)","v":false},{"$f":"COUNTIF(Table10[[#This Row],[Competed 1]:[Competed 5]],\"=TRUE\")","v":2}]
["Flo Hagger","Thomas Estley CC",6,{"$f":"IF(C18=\"-\",0,C18)","v":6},"-",{"$f":"IF(E18=\"-\",0,E18)","v":0},5,{"$f":"IF(G18=\"-\",0,G18)","v":5},14,{"$f":"IF(I18=\"-\",0,I18)","v":14},"-",{"$f":"IF(K18=\"-\",0,K18)","v":0},{"$f":"Table10[[#This Row],[School]]","v":"Thomas Estley CC"},{"$f":"D18+F18+H18+J18+L18","v":25},{"$f":"MAX(C18,E18,G18,I18,K18)","v":14},{"$f":"IF(Q18=1,N18,IF(Q18=0,(N18-O18),\"-\"))","v":25},{"$f":"$L$1-Table10[Competed Count]","v":1},{"$f":"IF(Q18<2,\"Yes\",\"No\")","v":"Yes"},{"$f":"AND($C$1=\"Y\",D18>0)","v":true},{"$f":"AND($E$1=\"Y\",F18>0)","v":false},{"$f":"AND($G$1=\"Y\",H18>0)","v":true},{"$f":"AND($I$1=\"Y\",J18>0)","v":true},{"$f":"AND($K$1=\"Y\",L18>0)","v":false},{"$f":"COUNTIF(Table10[[#This Row],[Competed 1]:[Competed 5]],\"=TRUE\")","v":3}]
["Ruby Howe","Welland Park Academy",12,{"$f":"IF(C19=\"-\",0,C19)","v":12},9,{"$f":"IF(E19=\"-\",0,E19)","v":9},14,{"$f":"IF(G19=\"-\",0,G19)","v":14},15,{"$f":"IF(I19=\"-\",0,I19)","v":15},"-",{"$f":"IF(K19=\"-\",0,K19)","v":0},{"$f":"Table10[[#This Row],[School]]","v":"Welland Park Academy"},{"$f":"D19+F19+H19+J19+L19","v":50},{"$f":"MAX(C19,E19,G19,I19,K19)","v":15},{"$f":"IF(Q19=1,N19,IF(Q19=0,(N19-O19),\"-\"))","v":35},{"$f":"$L$1-Table10[Competed Count]","v":0},{"$f":"IF(Q19<2,\"Yes\",\"No\")","v":"Yes"},{"$f":"AND($C$1=\"Y\",D19>0)","v":true},{"$f":"AND($E$1=\"Y\",F19>0)","v":true},{"$f":"AND($G$1=\"Y\",H19>0)","v":true},{"$f":"AND($I$1=\"Y\",J19>0)","v":true},{"$f":"AND($K$1=\"Y\",L19>0)","v":false},{"$f":"COUNTIF(Table10[[#This Row],[Competed 1]:[Competed 5]],\"=TRUE\")","v":4}]
["Isabelle Wilson","De Lisle College",11,{"$f":"IF(C20=\"-\",0,C20)","v":11},"-",{"$f":"IF(E20=\"-\",0,E20)","v":0},11,{"$f":"IF(G20=\"-\",0,G20)","v":11},16,{"$f":"IF(I20=\"-\",0,I20)","v":16},"-",{"$f":"IF(K20=\"-\",0,K20)","v":0},{"$f":"Table10[[#This Row],[School]]","v":"De Lisle College"},{"$f":"D20+F20+H20+J20+L20","v":38},{"$f":"MAX(C20,E20,G20,I20,K20)","v":16},{"$f":"IF(Q20=1,N20,IF(Q20=0,(N20-O20),\"-\"))","v":38},{"$f":"$L$1-Table10[Competed Count]","v":1},{"$f":"IF(Q20<2,\"Yes\",\"No\")","v":"Yes"},{"$f":"AND($C$1=\"Y\",D20>0)","v":true},{"$f":"AND($E$1=\"Y\",F20>0)","v":false},{"$f":"AND($G$1=\"Y\",H20>0)","v":true},{"$f":"AND($I$1=\"Y\",J20>0)","v":true},{"$f":"AND($K$1=\"Y\",L20>0)","v":false},{"$f":"COUNTIF(Table10[[#This Row],[Competed 1]:[Competed 5]],\"=TRUE\")","v":3}]
["Emily Cutler","Dixie Grammar School",9,{"$f":"IF(C21=\"-\",0,C21)","v":9},"-",{"$f":"IF(E21=\"-\",0,E21)","v":0},8,{"$f":"IF(G21=\"-\",0,G21)","v":8},17,{"$f":"IF(I21=\"-\",0,I21)","v":17},"-",{"$f":"IF(K21=\"-\",0,K21)","v":0},{"$f":"Table10[[#This Row],[School]]","v":"Dixie Grammar School"},{"$f":"D21+F21+H21+J21+L21","v":34},{"$f":"MAX(C21,E21,G21,I21,K21)","v":17},{"$f":"IF(Q21=1,N21,IF(Q21=0,(N21-O21),\"-\"))","v":34},{"$f":"$L$1-Table10[Competed Count]","v":1},{"$f":"IF(Q21<2,\"Yes\",\"No\")","v":"Yes"},{"$f":"AND($C$1=\"Y\",D21>0)","v":true},{"$f":"AND($E$1=\"Y\",F21>0)","v":false},{"$f":"AND($G$1=\"Y\",H21>0)","v":true},{"$f":"AND($I$1=\"Y\",J21>0)","v":true},{"$f":"AND($K$1=\"Y\",L21>0)","v":false},{"$f":"COUNTIF(Table10[[#This Row],[Competed 1]:[Competed 5]],\"=TRUE\")","v":3}]
["Freya Banneriff","Uppingham CC","-",{"$f":"IF(C22=\"-\",0,C22)","v":0},11,{"$f":"IF(E22=\"-\",0,E22)","v":11},18,{"$f":"IF(G22=\"-\",0,G22)","v":18},18,{"$f":"IF(I22=\"-\",0,I22)","v":18},"-",{"$f":"IF(K22=\"-\",0,K22)","v":0},{"$f":"Table10[[#This Row],[School]]","v":"Uppingham CC"},{"$f":"D22+F22+H22+J22+L22","v":47},{"$f":"MAX(C22,E22,G22,I22,K22)","v":18},{"$f":"IF(Q22=1,N22,IF(Q22=0,(N22-O22),\"-\"))","v":47},{"$f":"$L$1-Table10[Competed Count]","v":1},{"$f":"IF(Q22<2,\"Yes\",\"No\")","v":"Yes"},{"$f":"AND($C$1=\"Y\",D22>0)","v":false},{"$f":"AND($E$1=\"Y\",F22>0)","v":true},{"$f":"AND($G$1=\"Y\",H22>0)","v":true},{"$f":"AND($I$1=\"Y\",J22>0)","v":true},{"$f":"AND($K$1=\"Y\",L22>0)","v":false},{"$f":"COUNTIF(Table10[[#This Row],[Competed 1]:[Competed 5]],\"=TRUE\")","v":3}]
["Isobel Edwards","Ivanhoe College",17,{"$f":"IF(C23=\"-\",0,C23)","v":17},"-",{"$f":"IF(E23=\"-\",0,E23)","v":0},19,{"$f":"IF(G23=\"-\",0,G23)","v":19},19,{"$f":"IF(I23=\"-\",0,I23)","v":19},"-",{"$f":"IF(K23=\"-\",0,K23)","v":0},{"$f":"Table10[[#This Row],[School]]","v":"Ivanhoe College"},{"$f":"D23+F23+H23+J23+L23","v":55},{"$f":"MAX(C23,E23,G23,I23,K23)","v":19},{"$f":"IF(Q23=1,N23,IF(Q23=0,(N23-O23),\"-\"))","v":55},{"$f":"$L$1-Table10[Competed Count]","v":1},{"$f":"IF(Q23<2,\"Yes\",\"No\")","v":"Yes"},{"$f":"AND($C$1=\"Y\",D23>0)","v":true},{"$f":"AND($E$1=\"Y\",F23>0)","v":false},{"$f":"AND($G$1=\"Y\",H23>0)","v":true},{"$f":"AND($I$1=\"Y\",J23>0)","v":true},{"$f":"AND($K$1=\"Y\",L23>0)","v":false},{"$f":"COUNTIF(Table10[[#This Row],[Competed 1]:[Competed 5]],\"=TRUE\")","v":3}]
["Nataliya Karapchanska","Robert Smyth Academy","-",{"$f":"IF(C24=\"-\",0,C24)","v":0},"-",{"$f":"IF(E24=\"-\",0,E24)","v":0},"-",{"$f":"IF(G24=\"-\",0,G24)","v":0},20,{"$f":"IF(I24=\"-\",0,I24)","v":20},"-",{"$f":"IF(K24=\"-\",0,K24)","v":0},{"$f":"Table10[[#This Row],[School]]","v":"Robert Smyth Academy"},{"$f":"D24+F24+H24+J24+L24","v":20},{"$f":"MAX(C24,E24,G24,I24,K24)","v":20},{"$f":"IF(Q24=1,N24,IF(Q24=0,(N24-O24),\"-\"))","v":"-"},{"$f":"$L$1-Table10[Competed Count]","v":3},{"$f":"IF(Q24<2,\"Yes\",\"No\")","v":"No"},{"$f":"AND($C$1=\"Y\",D24>0)","v":false},{"$f":"AND($E$1=\"Y\",F24>0)","v":false},{"$f":"AND($G$1=\"Y\",H24>0)","v":false},{"$f":"AND($I$1=\"Y\",J24>0)","v":true},{"$f":"AND($K$1=\"Y\",L24>0)","v":false},{"$f":"COUNTIF(Table10[[#This Row],[Competed 1]:[Competed 5]],\"=TRUE\")","v":1}]
["Bay Mitchell","Catmose College","-",{"$f":"IF(C25=\"-\",0,C25)","v":0},21,{"$f":"IF(E25=\"-\",0,E25)","v":21},24,{"$f":"IF(G25=\"-\",0,G25)","v":24},21,{"$f":"IF(I25=\"-\",0,I25)","v":21},"-",{"$f":"IF(K25=\"-\",0,K25)","v":0},{"$f":"Table10[[#This Row],[School]]","v":"Catmose College"},{"$f":"D25+F25+H25+J25+L25","v":66},{"$f":"MAX(C25,E25,G25,I25,K25)","v":24},{"$f":"IF(Q25=1,N25,IF(Q25=0,(N25-O25),\"-\"))","v":66},{"$f":"$L$1-Table10[Competed Count]","v":1},{"$f":"IF(Q25<2,\"Yes\",\"No\")","v":"Yes"},{"$f":"AND($C$1=\"Y\",D25>0)","v":false},{"$f":"AND($E$1=\"Y\",F25>0)","v":true},{"$f":"AND($G$1=\"Y\",H25>0)","v":true},{"$f":"AND($I$1=\"Y\",J25>0)","v":true},{"$f":"AND($K$1=\"Y\",L25>0)","v":false},{"$f":"COUNTIF(Table10[[#This Row],[Competed 1]:[Competed 5]],\"=TRUE\")","v":3}]
["Daisy Low","Lutterworth College",13,{"$f":"IF(C26=\"-\",0,C26)","v":13},10,{"$f":"IF(E26=\"-\",0,E26)","v":10},16,{"$f":"IF(G26=\"-\",0,G26)","v":16},22,{"$f":"IF(I26=\"-\",0,I26)","v":22},"-",{"$f":"IF(K26=\"-\",0,K26)","v":0},{"$f":"Table10[[#This Row],[School]]","v":"Lutterworth College"},{"$f":"D26+F26+H26+J26+L26","v":61},{"$f":"MAX(C26,E26,G26,I26,K26)","v":22},{"$f":"IF(Q26=1,N26,IF(Q26=0,(N26-O26),\"-\"))","v":39},{"$f":"$L$1-Table10[Competed Count]","v":0},{"$f":"IF(Q26<2,\"Yes\",\"No\")","v":"Yes"},{"$f":"AND($C$1=\"Y\",D26>0)","v":true},{"$f":"AND($E$1=\"Y\",F26>0)","v":true},{"$f":"AND($G$1=\"Y\",H26>0)","v":true},{"$f":"AND($I$1=\"Y\",J26>0)","v":true},{"$f":"AND($K$1=\"Y\",L26>0)","v":false},{"$f":"COUNTIF(Table10[[#This Row],[Competed 1]:[Competed 5]],\"=TRUE\")","v":4}]
["Lily Grocock","Countesthorpe Leysland CC",20,{"$f":"IF(C27=\"-\",0,C27)","v":20},23,{"$f":"IF(E27=\"-\",0,E27)","v":23},21,{"$f":"IF(G27=\"-\",0,G27)","v":21},23,{"$f":"IF(I27=\"-\",0,I27)","v":23},"-",{"$f":"IF(K27=\"-\",0,K27)","v":0},{"$f":"Table10[[#This Row],[School]]","v":"Countesthorpe Leysland CC"},{"$f":"D27+F27+H27+J27+L27","v":87},{"$f":"MAX(C27,E27,G27,I27,K27)","v":23},{"$f":"IF(Q27=1,N27,IF(Q27=0,(N27-O27),\"-\"))","v":64},{"$f":"$L$1-Table10[Competed Count]","v":0},{"$f":"IF(Q27<2,\"Yes\",\"No\")","v":"Yes"},{"$f":"AND($C$1=\"Y\",D27>0)","v":true},{"$f":"AND($E$1=\"Y\",F27>0)","v":true},{"$f":"AND($G$1=\"Y\",H27>0)","v":true},{"$f":"AND($I$1=\"Y\",J27>0)","v":true},{"$f":"AND($K$1=\"Y\",L27>0)","v":false},{"$f":"COUNTIF(Table10[[#This Row],[Competed 1]:[Competed 5]],\"=TRUE\")","v":4}]
["Georgie Wade","John Ferneley College",29,{"$f":"IF(C28=\"-\",0,C28)","v":29},18,{"$f":"IF(E28=\"-\",0,E28)","v":18},22,{"$f":"IF(G28=\"-\",0,G28)","v":22},24,{"$f":"IF(I28=\"-\",0,I28)","v":24},"-",{"$f":"IF(K28=\"-\",0,K28)","v":0},{"$f":"Table10[[#This Row],[School]]","v":"John Ferneley College"},{"$f":"D28+F28+H28+J28+L28","v":93},{"$f":"MAX(C28,E28,G28,I28,K28)","v":29},{"$f":"IF(Q28=1,N28,IF(Q28=0,(N28-O28),\"-\"))","v":64},{"$f":"$L$1-Table10[Competed Count]","v":0},{"$f":"IF(Q28<2,\"Yes\",\"No\")","v":"Yes"},{"$f":"AND($C$1=\"Y\",D28>0)","v":true},{"$f":"AND($E$1=\"Y\",F28>0)","v":true},{"$f":"AND($G$1=\"Y\",H28>0)","v":true},{"$f":"AND($I$1=\"Y\",J28>0)","v":true},{"$f":"AND($K$1=\"Y\",L28>0)","v":false},{"$f":"COUNTIF(Table10[[#This Row],[Competed 1]:[Competed 5]],\"=TRUE\")","v":4}]
["Annabella Jagger","De Lisle College",25,{"$f":"IF(C29=\"-\",0,C29)","v":25},20,{"$f":"IF(E29=\"-\",0,E29)","v":20},25,{"$f":"IF(G29=\"-\",0,G29)","v":25},25,{"$f":"IF(I29=\"-\",0,I29)","v":25},"-",{"$f":"IF(K29=\"-\",0,K29)","v":0},{"$f":"Table10[[#This Row],[School]]","v":"De Lisle College"},{"$f":"D29+F29+H29+J29+L29","v":95},{"$f":"MAX(C29,E29,G29,I29,K29)","v":25},{"$f":"IF(Q29=1,N29,IF(Q29=0,(N29-O29),\"-\"))","v":70},{"$f":"$L$1-Table10[Competed Count]","v":0},{"$f":"IF(Q29<2,\"Yes\",\"No\")","v":"Yes"},{"$f":"AND($C$1=\"Y\",D29>0)","v":true},{"$f":"AND($E$1=\"Y\",F29>0)","v":true},{"$f":"AND($G$1=\"Y\",H29>0)","v":true},{"$f":"AND($I$1=\"Y\",J29>0)","v":true},{"$f":"AND($K$1=\"Y\",L29>0)","v":false},{"$f":"COUNTIF(Table10[[#This Row],[Competed 1]:[Competed 5]],\"=TRUE\")","v":4}]
["Emily McGiellis","Thomas Estley CC",21,{"$f":"IF(C30=\"-\",0,C30)","v":21},13,{"$f":"IF(E30=\"-\",0,E30)","v":13},"-",{"$f":"IF(G30=\"-\",0,G30)","v":0},26,{"$f":"IF(I30=\"-\",0,I30)","v":26},"-",{"$f":"IF(K30=\"-\",0,K30)","v":0},{"$f":"Table10[[#This Row],[School]]","v":"Thomas Estley CC"},{"$f":"D30+F30+H30+J30+L30","v":60},{"$f":"MAX(C30,E30,G30,I30,K30)","v":26},{"$f":"IF(Q30=1,N30,IF(Q30=0,(N30-O30),\"-\"))","v":60},{"$f":"$L$1-Table10[Competed Count]","v":1},{"$f":"IF(Q30<2,\"Yes\",\"No\")","v":"Yes"},{"$f":"AND($C$1=\"Y\",D30>0)","v":true},{"$f":"AND($E$1=\"Y\",F30>0)","v":true},{"$f":"AND($G$1=\"Y\",H30>0)","v":false},{"$f":"AND($I$1=\"Y\",J30>0)","v":true},{"$f":"AND($K$1=\"Y\",L30>0)","v":false},{"$f":"COUNTIF(Table10[[#This Row],[Competed 1]:[Competed 5]],\"=TRUE\")","v":3}]
["Lottie Jarvis","Humphrey Perkins School",19,{"$f":"IF(C31=\"-\",0,C31)","v":19},17,{"$f":"IF(E31=\"-\",0,E31)","v":17},"-",{"$f":"IF(G31=\"-\",0,G31)","v":0},27,{"$f":"IF(I31=\"-\",0,I31)","v":27},"-",{"$f":"IF(K31=\"-\",0,K31)","v":0},{"$f":"Table10[[#This Row],[School]]","v":"Humphrey Perkins School"},{"$f":"D31+F31+H31+J31+L31","v":63},{"$f":"MAX(C31,E31,G31,I31,K31)","v":27},{"$f":"IF(Q31=1,N31,IF(Q31=0,(N31-O31),\"-\"))","v":63},{"$f":"$L$1-Table10[Competed Count]","v":1},{"$f":"IF(Q31<2,\"Yes\",\"No\")","v":"Yes"},{"$f":"AND($C$1=\"Y\",D31>0)","v":true},{"$f":"AND($E$1=\"Y\",F31>0)","v":true},{"$f":"AND($G$1=\"Y\",H31>0)","v":false},{"$f":"AND($I$1=\"Y\",J31>0)","v":true},{"$f":"AND($K$1=\"Y\",L31>0)","v":false},{"$f":"COUNTIF(Table10[[#This Row],[Competed 1]:[Competed 5]],\"=TRUE\")","v":3}]
["Lexi Hodkinson","Woodbrook Vale School","-",{"$f":"IF(C32=\"-\",0,C32)","v":0},19,{"$f":"IF(E32=\"-\",0,E32)","v":19},"-",{"$f":"IF(G32=\"-\",0,G32)","v":0},28,{"$f":"IF(I32=\"-\",0,I32)","v":28},"-",{"$f":"IF(K32=\"-\",0,K32)","v":0},{"$f":"Table10[[#This Row],[School]]","v":"Woodbrook Vale School"},{"$f":"D32+F32+H32+J32+L32","v":47},{"$f":"MAX(C32,E32,G32,I32,K32)","v":28},{"$f":"IF(Q32=1,N32,IF(Q32=0,(N32-O32),\"-\"))","v":"-"},{"$f":"$L$1-Table10[Competed Count]","v":2},{"$f":"IF(Q32<2,\"Yes\",\"No\")","v":"No"},{"$f":"AND($C$1=\"Y\",D32>0)","v":false},{"$f":"AND($E$1=\"Y\",F32>0)","v":true},{"$f":"AND($G$1=\"Y\",H32>0)","v":false},{"$f":"AND($I$1=\"Y\",J32>0)","v":true},{"$f":"AND($K$1=\"Y\",L32>0)","v":false},{"$f":"COUNTIF(Table10[[#This Row],[Competed 1]:[Competed 5]],\"=TRUE\")","v":2}]
["Mia Potter","De Lisle College",33,{"$f":"IF(C33=\"-\",0,C33)","v":33},"-",{"$f":"IF(E33=\"-\",0,E33)","v":0},26,{"$f":"IF(G33=\"-\",0,G33)","v":26},29,{"$f":"IF(I33=\"-\",0,I33)","v":29},"-",{"$f":"IF(K33=\"-\",0,K33)","v":0},{"$f":"Table10[[#This Row],[School]]","v":"De Lisle College"},{"$f":"D33+F33+H33+J33+L33","v":88},{"$f":"MAX(C33,E33,G33,I33,K33)","v":33},{"$f":"IF(Q33=1,N33,IF(Q33=0,(N33-O33),\"-\"))","v":88},{"$f":"$L$1-Table10[Competed Count]","v":1},{"$f":"IF(Q33<2,\"Yes\",\"No\")","v":"Yes"},{"$f":"AND($C$1=\"Y\",D33>0)","v":true},{"$f":"AND($E$1=\"Y\",F33>0)","v":false},{"$f":"AND($G$1=\"Y\",H33>0)","v":true},{"$f":"AND($I$1=\"Y\",J33>0)","v":true},{"$f":"AND($K$1=\"Y\",L33>0)","v":false},{"$f":"COUNTIF(Table10[[#This Row],[Competed 1]:[Competed 5]],\"=TRUE\")","v":3}]
["Millie Leavis","Thomas Estley CC",28,{"$f":"IF(C34=\"-\",0,C34)","v":28},22,{"$f":"IF(E34=\"-\",0,E34)","v":22},31,{"$f":"IF(G34=\"-\",0,G34)","v":31},30,{"$f":"IF(I34=\"-\",0,I34)","v":30},"-",{"$f":"IF(K34=\"-\",0,K34)","v":0},{"$f":"Table10[[#This Row],[School]]","v":"Thomas Estley CC"},{"$f":"D34+F34+H34+J34+L34","v":111},{"$f":"MAX(C34,E34,G34,I34,K34)","v":31},{"$f":"IF(Q34=1,N34,IF(Q34=0,(N34-O34),\"-\"))","v":80},{"$f":"$L$1-Table10[Competed Count]","v":0},{"$f":"IF(Q34<2,\"Yes\",\"No\")","v":"Yes"},{"$f":"AND($C$1=\"Y\",D34>0)","v":true},{"$f":"AND($E$1=\"Y\",F34>0)","v":true},{"$f":"AND($G$1=\"Y\",H34>0)","v":true},{"$f":"AND($I$1=\"Y\",J34>0)","v":true},{"$f":"AND($K$1=\"Y\",L34>0)","v":false},{"$f":"COUNTIF(Table10[[#This Row],[Competed 1]:[Competed 5]],\"=TRUE\")","v":4}]
["Erin Rose Ashworth","John Ferneley College","-",{"$f":"IF(C35=\"-\",0,C35)","v":0},28,{"$f":"IF(E35=\"-\",0,E35)","v":28},29,{"$f":"IF(G35=\"-\",0,G35)","v":29},31,{"$f":"IF(I35=\"-\",0,I35)","v":31},"-",{"$f":"IF(K35=\"-\",0,K35)","v":0},{"$f":"Table10[[#This Row],[School]]","v":"John Ferneley College"},{"$f":"D35+F35+H35+J35+L35","v":88},{"$f":"MAX(C35,E35,G35,I35,K35)","v":31},{"$f":"IF(Q35=1,N35,IF(Q35=0,(N35-O35),\"-\"))","v":88},{"$f":"$L$1-Table10[Competed Count]","v":1},{"$f":"IF(Q35<2,\"Yes\",\"No\")","v":"Yes"},{"$f":"AND($C$1=\"Y\",D35>0)","v":false},{"$f":"AND($E$1=\"Y\",F35>0)","v":true},{"$f":"AND($G$1=\"Y\",H35>0)","v":true},{"$f":"AND($I$1=\"Y\",J35>0)","v":true},{"$f":"AND($K$1=\"Y\",L35>0)","v":false},{"$f":"COUNTIF(Table10[[#This Row],[Competed 1]:[Competed 5]],\"=TRUE\")","v":3}]
["Daisy Sharpe","John Ferneley College",27,{"$f":"IF(C36=\"-\",0,C36)","v":27},24,{"$f":"IF(E36=\"-\",0,E36)","v":24},28,{"$f":"IF(G36=\"-\",0,G36)","v":28},32,{"$f":"IF(I36=\"-\",0,I36)","v":32},"-",{"$f":"IF(K36=\"-\",0,K36)","v":0},{"$f":"Table10[[#This Row],[School]]","v":"John Ferneley College"},{"$f":"D36+F36+H36+J36+L36","v":111},{"$f":"MAX(C36,E36,G36,I36,K36)","v":32},{"$f":"IF(Q36=1,N36,IF(Q36=0,(N36-O36),\"-\"))","v":79},{"$f":"$L$1-Table10[Competed Count]","v":0},{"$f":"IF(Q36<2,\"Yes\",\"No\")","v":"Yes"},{"$f":"AND($C$1=\"Y\",D36>0)","v":true},{"$f":"AND($E$1=\"Y\",F36>0)","v":true},{"$f":"AND($G$1=\"Y\",H36>0)","v":true},{"$f":"AND($I$1=\"Y\",J36>0)","v":true},{"$f":"AND($K$1=\"Y\",L36>0)","v":false},{"$f":"COUNTIF(Table10[[#This Row],[Competed 1]:[Competed 5]],\"=TRUE\")","v":4}]
["Zahra Nisbett","St Pauls Catholic School","-",{"$f":"IF(C37=\"-\",0,C37)","v":0},26,{"$f":"IF(E37=\"-\",0,E37)","v":26},"-",{"$f":"IF(G37=\"-\",0,G37)","v":0},33,{"$f":"IF(I37=\"-\",0,I37)","v":33},"-",{"$f":"IF(K37=\"-\",0,K37)","v":0},{"$f":"Table10[[#This Row],[School]]","v":"St Pauls Catholic School"},{"$f":"D37+F37+H37+J37+L37","v":59},{"$f":"MAX(C37,E37,G37,I37,K37)","v":33},{"$f":"IF(Q37=1,N37,IF(Q37=0,(N37-O37),\"-\"))","v":"-"},{"$f":"$L$1-Table10[Competed Count]","v":2},{"$f":"IF(Q37<2,\"Yes\",\"No\")","v":"No"},{"$f":"AND($C$1=\"Y\",D37>0)","v":false},{"$f":"AND($E$1=\"Y\",F37>0)","v":true},{"$f":"AND($G$1=\"Y\",H37>0)","v":false},{"$f":"AND($I$1=\"Y\",J37>0)","v":true},{"$f":"AND($K$1=\"Y\",L37>0)","v":false},{"$f":"COUNTIF(Table10[[#This Row],[Competed 1]:[Competed 5]],\"=TRUE\")","v":2}]
["Emily Beer","Charnwood College",10,{"$f":"IF(C38=\"-\",0,C38)","v":10},4,{"$f":"IF(E38=\"-\",0,E38)","v":4},13,{"$f":"IF(G38=\"-\",0,G38)","v":13},"-",{"$f":"IF(I38=\"-\",0,I38)","v":0},"-",{"$f":"IF(K38=\"-\",0,K38)","v":0},{"$f":"Table10[[#This Row],[School]]","v":"Charnwood College"},{"$f":"D38+F38+H38+J38+L38","v":27},{"$f":"MAX(C38,E38,G38,I38,K38)","v":13},{"$f":"IF(Q38=1,N38,IF(Q38=0,(N38-O38),\"-\"))","v":27},{"$f":"$L$1-Table10[Competed Count]","v":1},{"$f":"IF(Q38<2,\"Yes\",\"No\")","v":"Yes"},{"$f":"AND($C$1=\"Y\",D38>0)","v":true},{"$f":"AND($E$1=\"Y\",F38>0)","v":true},{"$f":"AND($G$1=\"Y\",H38>0)","v":true},{"$f":"AND($I$1=\"Y\",J38>0)","v":false},{"$f":"AND($K$1=\"Y\",L38>0)","v":false},{"$f":"COUNTIF(Table10[[#This Row],[Competed 1]:[Competed 5]],\"=TRUE\")","v":3}]
["Jemma Simons","Long Field Academy","-",{"$f":"IF(C39=\"-\",0,C39)","v":0},"-",{"$f":"IF(E39=\"-\",0,E39)","v":0},17,{"$f":"IF(G39=\"-\",0,G39)","v":17},"-",{"$f":"IF(I39=\"-\",0,I39)","v":0},"-",{"$f":"IF(K39=\"-\",0,K39)","v":0},{"$f":"Table10[[#This Row],[School]]","v":"Long Field Academy"},{"$f":"D39+F39+H39+J39+L39","v":17},{"$f":"MAX(C39,E39,G39,I39,K39)","v":17},{"$f":"IF(Q39=1,N39,IF(Q39=0,(N39-O39),\"-\"))","v":"-"},{"$f":"$L$1-Table10[Competed Count]","v":3},{"$f":"IF(Q39<2,\"Yes\",\"No\")","v":"No"},{"$f":"AND($C$1=\"Y\",D39>0)","v":false},{"$f":"AND($E$1=\"Y\",F39>0)","v":false},{"$f":"AND($G$1=\"Y\",H39>0)","v":true},{"$f":"AND($I$1=\"Y\",J39>0)","v":false},{"$f":"AND($K$1=\"Y\",L39>0)","v":false},{"$f":"COUNTIF(Table10[[#This Row],[Competed 1]:[Competed 5]],\"=TRUE\")","v":1}]
["Elizabeth Barber","De Lisle College",18,{"$f":"IF(C40=\"-\",0,C40)","v":18},"-",{"$f":"IF(E40=\"-\",0,E40)","v":0},20,{"$f":"IF(G40=\"-\",0,G40)","v":20},"-",{"$f":"IF(I40=\"-\",0,I40)","v":0},"-",{"$f":"IF(K40=\"-\",0,K40)","v":0},{"$f":"Table10[[#This Row],[School]]","v":"De Lisle College"},{"$f":"D40+F40+H40+J40+L40","v":38},{"$f":"MAX(C40,E40,G40,I40,K40)","v":20},{"$f":"IF(Q40=1,N40,IF(Q40=0,(N40-O40),\"-\"))","v":"-"},{"$f":"$L$1-Table10[Competed Count]","v":2},{"$f":"IF(Q40<2,\"Yes\",\"No\")","v":"No"},{"$f":"AND($C$1=\"Y\",D40>0)","v":true},{"$f":"AND($E$1=\"Y\",F40>0)","v":false},{"$f":"AND($G$1=\"Y\",H40>0)","v":true},{"$f":"AND($I$1=\"Y\",J40>0)","v":false},{"$f":"AND($K$1=\"Y\",L40>0)","v":false},{"$f":"COUNTIF(Table10[[#This Row],[Competed 1]:[Competed 5]],\"=TRUE\")","v":2}]
["Rosie Harris","Ivanhoe College","-",{"$f":"IF(C41=\"-\",0,C41)","v":0},14,{"$f":"IF(E41=\"-\",0,E41)","v":14},23,{"$f":"IF(G41=\"-\",0,G41)","v":23},"-",{"$f":"IF(I41=\"-\",0,I41)","v":0},"-",{"$f":"IF(K41=\"-\",0,K41)","v":0},{"$f":"Table10[[#This Row],[School]]","v":"Ivanhoe College"},{"$f":"D41+F41+H41+J41+L41","v":37},{"$f":"MAX(C41,E41,G41,I41,K41)","v":23},{"$f":"IF(Q41=1,N41,IF(Q41=0,(N41-O41),\"-\"))","v":"-"},{"$f":"$L$1-Table10[Competed Count]","v":2},{"$f":"IF(Q41<2,\"Yes\",\"No\")","v":"No"},{"$f":"AND($C$1=\"Y\",D41>0)","v":false},{"$f":"AND($E$1=\"Y\",F41>0)","v":true},{"$f":"AND($G$1=\"Y\",H41>0)","v":true},{"$f":"AND($I$1=\"Y\",J41>0)","v":false},{"$f":"AND($K$1=\"Y\",L41>0)","v":false},{"$f":"COUNTIF(Table10[[#This Row],[Competed 1]:[Competed 5]],\"=TRUE\")","v":2}]
["Jessica Shorrock","Long Field Academy","-",{"$f":"IF(C42=\"-\",0,C42)","v":0},"-",{"$f":"IF(E42=\"-\",0,E42)","v":0},27,{"$f":"IF(G42=\"-\",0,G42)","v":27},"-",{"$f":"IF(I42=\"-\",0,I42)","v":0},"-",{"$f":"IF(K42=\"-\",0,K42)","v":0},{"$f":"Table10[[#This Row],[School]]","v":"Long Field Academy"},{"$f":"D42+F42+H42+J42+L42","v":27},{"$f":"MAX(C42,E42,G42,I42,K42)","v":27},{"$f":"IF(Q42=1,N42,IF(Q42=0,(N42-O42),\"-\"))","v":"-"},{"$f":"$L$1-Table10[Competed Count]","v":3},{"$f":"IF(Q42<2,\"Yes\",\"No\")","v":"No"},{"$f":"AND($C$1=\"Y\",D42>0)","v":false},{"$f":"AND($E$1=\"Y\",F42>0)","v":false},{"$f":"AND($G$1=\"Y\",H42>0)","v":true},{"$f":"AND($I$1=\"Y\",J42>0)","v":false},{"$f":"AND($K$1=\"Y\",L42>0)","v":false},{"$f":"COUNTIF(Table10[[#This Row],[Competed 1]:[Competed 5]],\"=TRUE\")","v":1}]
["Maisy Forbes-Carpenter","Charnwood College",23,{"$f":"IF(C43=\"-\",0,C43)","v":23},16,{"$f":"IF(E43=\"-\",0,E43)","v":16},30,{"$f":"IF(G43=\"-\",0,G43)","v":30},"-",{"$f":"IF(I43=\"-\",0,I43)","v":0},"-",{"$f":"IF(K43=\"-\",0,K43)","v":0},{"$f":"Table10[[#This Row],[School]]","v":"Charnwood College"},{"$f":"D43+F43+H43+J43+L43","v":69},{"$f":"MAX(C43,E43,G43,I43,K43)","v":30},{"$f":"IF(Q43=1,N43,IF(Q43=0,(N43-O43),\"-\"))","v":69},{"$f":"$L$1-Table10[Competed Count]","v":1},{"$f":"IF(Q43<2,\"Yes\",\"No\")","v":"Yes"},{"$f":"AND($C$1=\"Y\",D43>0)","v":true},{"$f":"AND($E$1=\"Y\",F43>0)","v":true},{"$f":"AND($G$1=\"Y\",H43>0)","v":true},{"$f":"AND($I$1=\"Y\",J43>0)","v":false},{"$f":"AND($K$1=\"Y\",L43>0)","v":false},{"$f":"COUNTIF(Table10[[#This Row],[Competed 1]:[Competed 5]],\"=TRUE\")","v":3}]
["Amy Griffin","Ratcliffe College","-",{"$f":"IF(C44=\"-\",0,C44)","v":0},"-",{"$f":"IF(E44=\"-\",0,E44)","v":0},32,{"$f":"IF(G44=\"-\",0,G44)","v":32},"-",{"$f":"IF(I44=\"-\",0,I44)","v":0},"-",{"$f":"IF(K44=\"-\",0,K44)","v":0},{"$f":"Table10[[#This Row],[School]]","v":"Ratcliffe College"},{"$f":"D44+F44+H44+J44+L44","v":32},{"$f":"MAX(C44,E44,G44,I44,K44)","v":32},{"$f":"IF(Q44=1,N44,IF(Q44=0,(N44-O44),\"-\"))","v":"-"},{"$f":"$L$1-Table10[Competed Count]","v":3},{"$f":"IF(Q44<2,\"Yes\",\"No\")","v":"No"},{"$f":"AND($C$1=\"Y\",D44>0)","v":false},{"$f":"AND($E$1=\"Y\",F44>0)","v":false},{"$f":"AND($G$1=\"Y\",H44>0)","v":true},{"$f":"AND($I$1=\"Y\",J44>0)","v":false},{"$f":"AND($K$1=\"Y\",L44>0)","v":false},{"$f":"COUNTIF(Table10[[#This Row],[Competed 1]:[Competed 5]],\"=TRUE\")","v":1}]
["Unclaimed","Brookvale High School",31,{"$f":"IF(C45=\"-\",0,C45)","v":31},27,{"$f":"IF(E45=\"-\",0,E45)","v":27},33,{"$f":"IF(G45=\"-\",0,G45)","v":33},"-",{"$f":"IF(I45=\"-\",0,I45)","v":0},"-",{"$f":"IF(K45=\"-\",0,K45)","v":0},{"$f":"Table10[[#This Row],[School]]","v":"Brookvale High School"},{"$f":"D45+F45+H45+J45+L45","v":91},{"$f":"MAX(C45,E45,G45,I45,K45)","v":33},{"$f":"IF(Q45=1,N45,IF(Q45=0,(N45-O45),\"-\"))","v":91},{"$f":"$L$1-Table10[Competed Count]","v":1},{"$f":"IF(Q45<2,\"Yes\",\"No\")","v":"Yes"},{"$f":"AND($C$1=\"Y\",D45>0)","v":true},{"$f":"AND($E$1=\"Y\",F45>0)","v":true},{"$f":"AND($G$1=\"Y\",H45>0)","v":true},{"$f":"AND($I$1=\"Y\",J45>0)","v":false},{"$f":"AND($K$1=\"Y\",L45>0)","v":false},{"$f":"COUNTIF(Table10[[#This Row],[Competed 1]:[Competed 5]],\"=TRUE\")","v":3}]
["Melika Glover","Charnwood College","-",{"$f":"IF(C46=\"-\",0,C46)","v":0},33,{"$f":"IF(E46=\"-\",0,E46)","v":33},34,{"$f":"IF(G46=\"-\",0,G46)","v":34},"-",{"$f":"IF(I46=\"-\",0,I46)","v":0},"-",{"$f":"IF(K46=\"-\",0,K46)","v":0},{"$f":"Table10[[#This Row],[School]]","v":"Charnwood College"},{"$f":"D46+F46+H46+J46+L46","v":67},{"$f":"MAX(C46,E46,G46,I46,K46)","v":34},{"$f":"IF(Q46=1,N46,IF(Q46=0,(N46-O46),\"-\"))","v":"-"},{"$f":"$L$1-Table10[Competed Count]","v":2},{"$f":"IF(Q46<2,\"Yes\",\"No\")","v":"No"},{"$f":"AND($C$1=\"Y\",D46>0)","v":false},{"$f":"AND($E$1=\"Y\",F46>0)","v":true},{"$f":"AND($G$1=\"Y\",H46>0)","v":true},{"$f":"AND($I$1=\"Y\",J46>0)","v":false},{"$f":"AND($K$1=\"Y\",L46>0)","v":false},{"$f":"COUNTIF(Table10[[#This Row],[Competed 1]:[Competed 5]],\"=TRUE\")","v":2}]
["Ellie Smith","Charnwood College",37,{"$f":"IF(C47=\"-\",0,C47)","v":37},36,{"$f":"IF(E47=\"-\",0,E47)","v":36},35,{"$f":"IF(G47=\"-\",0,G47)","v":35},"-",{"$f":"IF(I47=\"-\",0,I47)","v":0},"-",{"$f":"IF(K47=\"-\",0,K47)","v":0},{"$f":"Table10[[#This Row],[School]]","v":"Charnwood College"},{"$f":"D47+F47+H47+J47+L47","v":108},{"$f":"MAX(C47,E47,G47,I47,K47)","v":37},{"$f":"IF(Q47=1,N47,IF(Q47=0,(N47-O47),\"-\"))","v":108},{"$f":"$L$1-Table10[Competed Count]","v":1},{"$f":"IF(Q47<2,\"Yes\",\"No\")","v":"Yes"},{"$f":"AND($C$1=\"Y\",D47>0)","v":true},{"$f":"AND($E$1=\"Y\",F47>0)","v":true},{"$f":"AND($G$1=\"Y\",H47>0)","v":true},{"$f":"AND($I$1=\"Y\",J47>0)","v":false},{"$f":"AND($K$1=\"Y\",L47>0)","v":false},{"$f":"COUNTIF(Table10[[#This Row],[Competed 1]:[Competed 5]],\"=TRUE\")","v":3}]
["Robyn Butler","Rawlins Academy","-",{"$f":"IF(C48=\"-\",0,C48)","v":0},8,{"$f":"IF(E48=\"-\",0,E48)","v":8},"-",{"$f":"IF(G48=\"-\",0,G48)","v":0},"-",{"$f":"IF(I48=\"-\",0,I48)","v":0},"-",{"$f":"IF(K48=\"-\",0,K48)","v":0},{"$f":"Table10[[#This Row],[School]]","v":"Rawlins Academy"},{"$f":"D48+F48+H48+J48+L48","v":8},{"$f":"MAX(C48,E48,G48,I48,K48)","v":8},{"$f":"IF(Q48=1,N48,IF(Q48=0,(N48-O48),\"-\"))","v":"-"},{"$f":"$L$1-Table10[Competed Count]","v":3},{"$f":"IF(Q48<2,\"Yes\",\"No\")","v":"No"},{"$f":"AND($C$1=\"Y\",D48>0)","v":false},{"$f":"AND($E$1=\"Y\",F48>0)","v":true},{"$f":"AND($G$1=\"Y\",H48>0)","v":false},{"$f":"AND($I$1=\"Y\",J48>0)","v":false},{"$f":"AND($K$1=\"Y\",L48>0)","v":false},{"$f":"COUNTIF(Table10[[#This Row],[Competed 1]:[Competed 5]],\"=TRUE\")","v":1}]
["Maya Richards","Crown Hills CC","-",{"$f":"IF(C49=\"-\",0,C49)","v":0},12,{"$f":"IF(E49=\"-\",0,E49)","v":12},"-",{"$f":"IF(G49=\"-\",0,G49)","v":0},"-",{"$f":"IF(I49=\"-\",0,I49)","v":0},"-",{"$f":"IF(K49=\"-\",0,K49)","v":0},{"$f":"Table10[[#This Row],[School]]","v":"Crown Hills CC"},{"$f":"D49+F49+H49+J49+L49","v":12},{"$f":"MAX(C49,E49,G49,I49,K49)","v":12},{"$f":"IF(Q49=1,N49,IF(Q49=0,(N49-O49),\"-\"))","v":"-"},{"$f":"$L$1-Table10[Competed Count]","v":3},{"$f":"IF(Q49<2,\"Yes\",\"No\")","v":"No"},{"$f":"AND($C$1=\"Y\",D49>0)","v":false},{"$f":"AND($E$1=\"Y\",F49>0)","v":true},{"$f":"AND($G$1=\"Y\",H49>0)","v":false},{"$f":"AND($I$1=\"Y\",J49>0)","v":false},{"$f":"AND($K$1=\"Y\",L49>0)","v":false},{"$f":"COUNTIF(Table10[[#This Row],[Competed 1]:[Competed 5]],\"=TRUE\")","v":1}]
["Abi Moitiboys","Thomas Estley CC",22,{"$f":"IF(C50=\"-\",0,C50)","v":22},15,{"$f":"IF(E50=\"-\",0,E50)","v":15},"-",{"$f":"IF(G50=\"-\",0,G50)","v":0},"-",{"$f":"IF(I50=\"-\",0,I50)","v":0},"-",{"$f":"IF(K50=\"-\",0,K50)","v":0},{"$f":"Table10[[#This Row],[School]]","v":"Thomas Estley CC"},{"$f":"D50+F50+H50+J50+L50","v":37},{"$f":"MAX(C50,E50,G50,I50,K50)","v":22},{"$f":"IF(Q50=1,N50,IF(Q50=0,(N50-O50),\"-\"))","v":"-"},{"$f":"$L$1-Table10[Competed Count]","v":2},{"$f":"IF(Q50<2,\"Yes\",\"No\")","v":"No"},{"$f":"AND($C$1=\"Y\",D50>0)","v":true},{"$f":"AND($E$1=\"Y\",F50>0)","v":true},{"$f":"AND($G$1=\"Y\",H50>0)","v":false},{"$f":"AND($I$1=\"Y\",J50>0)","v":false},{"$f":"AND($K$1=\"Y\",L50>0)","v":false},{"$f":"COUNTIF(Table10[[#This Row],[Competed 1]:[Competed 5]],\"=TRUE\")","v":2}]
["Abigail Cook","De Lisle College",30,{"$f":"IF(C51=\"-\",0,C51)","v":30},25,{"$f":"IF(E51=\"-\",0,E51)","v":25},"-",{"$f":"IF(G51=\"-\",0,G51)","v":0},"-",{"$f":"IF(I51=\"-\",0,I51)","v":0},"-",{"$f":"IF(K51=\"-\",0,K51)","v":0},{"$f":"Table10[[#This Row],[School]]","v":"De Lisle College"},{"$f":"D51+F51+H51+J51+L51","v":55},{"$f":"MAX(C51,E51,G51,I51,K51)","v":30},{"$f":"IF(Q51=1,N51,IF(Q51=0,(N51-O51),\"-\"))","v":"-"},{"$f":"$L$1-Table10[Competed Count]","v":2},{"$f":"IF(Q51<2,\"Yes\",\"No\")","v":"No"},{"$f":"AND($C$1=\"Y\",D51>0)","v":true},{"$f":"AND($E$1=\"Y\",F51>0)","v":true},{"$f":"AND($G$1=\"Y\",H51>0)","v":false},{"$f":"AND($I$1=\"Y\",J51>0)","v":false},{"$f":"AND($K$1=\"Y\",L51>0)","v":false},{"$f":"COUNTIF(Table10[[#This Row],[Competed 1]:[Competed 5]],\"=TRUE\")","v":2}]
["Emma Smith","Thomas Estley CC",32,{"$f":"IF(C52=\"-\",0,C52)","v":32},29,{"$f":"IF(E52=\"-\",0,E52)","v":29},"-",{"$f":"IF(G52=\"-\",0,G52)","v":0},"-",{"$f":"IF(I52=\"-\",0,I52)","v":0},"-",{"$f":"IF(K52=\"-\",0,K52)","v":0},{"$f":"Table10[[#This Row],[School]]","v":"Thomas Estley CC"},{"$f":"D52+F52+H52+J52+L52","v":61},{"$f":"MAX(C52,E52,G52,I52,K52)","v":32},{"$f":"IF(Q52=1,N52,IF(Q52=0,(N52-O52),\"-\"))","v":"-"},{"$f":"$L$1-Table10[Competed Count]","v":2},{"$f":"IF(Q52<2,\"Yes\",\"No\")","v":"No"},{"$f":"AND($C$1=\"Y\",D52>0)","v":true},{"$f":"AND($E$1=\"Y\",F52>0)","v":true},{"$f":"AND($G$1=\"Y\",H52>0)","v":false},{"$f":"AND($I$1=\"Y\",J52>0)","v":false},{"$f":"AND($K$1=\"Y\",L52>0)","v":false},{"$f":"COUNTIF(Table10[[#This Row],[Competed 1]:[Competed 5]],\"=TRUE\")","v":2}]
["Teri-Ann Harris","Wigston Academy","-",{"$f":"IF(C53=\"-\",0,C53)","v":0},30,{"$f":"IF(E53=\"-\",0,E53)","v":30},"-",{"$f":"IF(G53=\"-\",0,G53)","v":0},"-",{"$f":"IF(I53=\"-\",0,I53)","v":0},"-",{"$f":"IF(K53=\"-\",0,K53)","v":0},{"$f":"Table10[[#This Row],[School]]","v":"Wigston Academy"},{"$f":"D53+F53+H53+J53+L53","v":30},{"$f":"MAX(C53,E53,G53,I53,K53)","v":30},{"$f":"IF(Q53=1,N53,IF(Q53=0,(N53-O53),\"-\"))","v":"-"},{"$f":"$L$1-Table10[Competed Count]","v":3},{"$f":"IF(Q53<2,\"Yes\",\"No\")","v":"No"},{"$f":"AND($C$1=\"Y\",D53>0)","v":false},{"$f":"AND($E$1=\"Y\",F53>0)","v":true},{"$f":"AND($G$1=\"Y\",H53>0)","v":false},{"$f":"AND($I$1=\"Y\",J53>0)","v":false},{"$f":"AND($K$1=\"Y\",L53>0)","v":false},{"$f":"COUNTIF(Table10[[#This Row],[Competed 1]:[Competed 5]],\"=TRUE\")","v":1}]
["Lauren Purcell","Lutterworth College","-",{"$f":"IF(C54=\"-\",0,C54)","v":0},31,{"$f":"IF(E54=\"-\",0,E54)","v":31},"-",{"$f":"IF(G54=\"-\",0,G54)","v":0},"-",{"$f":"IF(I54=\"-\",0,I54)","v":0},"-",{"$f":"IF(K54=\"-\",0,K54)","v":0},{"$f":"Table10[[#This Row],[School]]","v":"Lutterworth College"},{"$f":"D54+F54+H54+J54+L54","v":31},{"$f":"MAX(C54,E54,G54,I54,K54)","v":31},{"$f":"IF(Q54=1,N54,IF(Q54=0,(N54-O54),\"-\"))","v":"-"},{"$f":"$L$1-Table10[Competed Count]","v":3},{"$f":"IF(Q54<2,\"Yes\",\"No\")","v":"No"},{"$f":"AND($C$1=\"Y\",D54>0)","v":false},{"$f":"AND($E$1=\"Y\",F54>0)","v":true},{"$f":"AND($G$1=\"Y\",H54>0)","v":false},{"$f":"AND($I$1=\"Y\",J54>0)","v":false},{"$f":"AND($K$1=\"Y\",L54>0)","v":false},{"$f":"COUNTIF(Table10[[#This Row],[Competed 1]:[Competed 5]],\"=TRUE\")","v":1}]
["Tilly Savage","Catmose College","-",{"$f":"IF(C55=\"-\",0,C55)","v":0},32,{"$f":"IF(E55=\"-\",0,E55)","v":32},"-",{"$f":"IF(G55=\"-\",0,G55)","v":0},"-",{"$f":"IF(I55=\"-\",0,I55)","v":0},"-",{"$f":"IF(K55=\"-\",0,K55)","v":0},{"$f":"Table10[[#This Row],[School]]","v":"Catmose College"},{"$f":"D55+F55+H55+J55+L55","v":32},{"$f":"MAX(C55,E55,G55,I55,K55)","v":32},{"$f":"IF(Q55=1,N55,IF(Q55=0,(N55-O55),\"-\"))","v":"-"},{"$f":"$L$1-Table10[Competed Count]","v":3},{"$f":"IF(Q55<2,\"Yes\",\"No\")","v":"No"},{"$f":"AND($C$1=\"Y\",D55>0)","v":false},{"$f":"AND($E$1=\"Y\",F55>0)","v":true},{"$f":"AND($G$1=\"Y\",H55>0)","v":false},{"$f":"AND($I$1=\"Y\",J55>0)","v":false},{"$f":"AND($K$1=\"Y\",L55>0)","v":false},{"$f":"COUNTIF(Table10[[#This Row],[Competed 1]:[Competed 5]],\"=TRUE\")","v":1}]
["Esha Barha","St Pauls Catholic School","-",{"$f":"IF(C56=\"-\",0,C56)","v":0},34,{"$f":"IF(E56=\"-\",0,E56)","v":34},"-",{"$f":"IF(G56=\"-\",0,G56)","v":0},"-",{"$f":"IF(I56=\"-\",0,I56)","v":0},"-",{"$f":"IF(K56=\"-\",0,K56)","v":0},{"$f":"Table10[[#This Row],[School]]","v":"St Pauls Catholic School"},{"$f":"D56+F56+H56+J56+L56","v":34},{"$f":"MAX(C56,E56,G56,I56,K56)","v":34},{"$f":"IF(Q56=1,N56,IF(Q56=0,(N56-O56),\"-\"))","v":"-"},{"$f":"$L$1-Table10[Competed Count]","v":3},{"$f":"IF(Q56<2,\"Yes\",\"No\")","v":"No"},{"$f":"AND($C$1=\"Y\",D56>0)","v":false},{"$f":"AND($E$1=\"Y\",F56>0)","v":true},{"$f":"AND($G$1=\"Y\",H56>0)","v":false},{"$f":"AND($I$1=\"Y\",J56>0)","v":false},{"$f":"AND($K$1=\"Y\",L56>0)","v":false},{"$f":"COUNTIF(Table10[[#This Row],[Competed 1]:[Competed 5]],\"=TRUE\")","v":1}]
["Ellie-Mae Cooper","Charnwood College",38,{"$f":"IF(C57=\"-\",0,C57)","v":38},35,{"$f":"IF(E57=\"-\",0,E57)","v":35},"-",{"$f":"IF(G57=\"-\",0,G57)","v":0},"-",{"$f":"IF(I57=\"-\",0,I57)","v":0},"-",{"$f":"IF(K57=\"-\",0,K57)","v":0},{"$f":"Table10[[#This Row],[School]]","v":"Charnwood College"},{"$f":"D57+F57+H57+J57+L57","v":73},{"$f":"MAX(C57,E57,G57,I57,K57)","v":38},{"$f":"IF(Q57=1,N57,IF(Q57=0,(N57-O57),\"-\"))","v":"-"},{"$f":"$L$1-Table10[Competed Count]","v":2},{"$f":"IF(Q57<2,\"Yes\",\"No\")","v":"No"},{"$f":"AND($C$1=\"Y\",D57>0)","v":true},{"$f":"AND($E$1=\"Y\",F57>0)","v":true},{"$f":"AND($G$1=\"Y\",H57>0)","v":false},{"$f":"AND($I$1=\"Y\",J57>0)","v":false},{"$f":"AND($K$1=\"Y\",L57>0)","v":false},{"$f":"COUNTIF(Table10[[#This Row],[Competed 1]:[Competed 5]],\"=TRUE\")","v":2}]
["Amber Adam","Crown Hills CC","-",{"$f":"IF(C58=\"-\",0,C58)","v":0},37,{"$f":"IF(E58=\"-\",0,E58)","v":37},"-",{"$f":"IF(G58=\"-\",0,G58)","v":0},"-",{"$f":"IF(I58=\"-\",0,I58)","v":0},"-",{"$f":"IF(K58=\"-\",0,K58)","v":0},{"$f":"Table10[[#This Row],[School]]","v":"Crown Hills CC"},{"$f":"D58+F58+H58+J58+L58","v":37},{"$f":"MAX(C58,E58,G58,I58,K58)","v":37},{"$f":"IF(Q58=1,N58,IF(Q58=0,(N58-O58),\"-\"))","v":"-"},{"$f":"$L$1-Table10[Competed Count]","v":3},{"$f":"IF(Q58<2,\"Yes\",\"No\")","v":"No"},{"$f":"AND($C$1=\"Y\",D58>0)","v":false},{"$f":"AND($E$1=\"Y\",F58>0)","v":true},{"$f":"AND($G$1=\"Y\",H58>0)","v":false},{"$f":"AND($I$1=\"Y\",J58>0)","v":false},{"$f":"AND($K$1=\"Y\",L58>0)","v":false},{"$f":"COUNTIF(Table10[[#This Row],[Competed 1]:[Competed 5]],\"=TRUE\")","v":1}]
["Ashley Smart","Catmose College","-",{"$f":"IF(C59=\"-\",0,C59)","v":0},38,{"$f":"IF(E59=\"-\",0,E59)","v":38},"-",{"$f":"IF(G59=\"-\",0,G59)","v":0},"-",{"$f":"IF(I59=\"-\",0,I59)","v":0},"-",{"$f":"IF(K59=\"-\",0,K59)","v":0},{"$f":"Table10[[#This Row],[School]]","v":"Catmose College"},{"$f":"D59+F59+H59+J59+L59","v":38},{"$f":"MAX(C59,E59,G59,I59,K59)","v":38},{"$f":"IF(Q59=1,N59,IF(Q59=0,(N59-O59),\"-\"))","v":"-"},{"$f":"$L$1-Table10[Competed Count]","v":3},{"$f":"IF(Q59<2,\"Yes\",\"No\")","v":"No"},{"$f":"AND($C$1=\"Y\",D59>0)","v":false},{"$f":"AND($E$1=\"Y\",F59>0)","v":true},{"$f":"AND($G$1=\"Y\",H59>0)","v":false},{"$f":"AND($I$1=\"Y\",J59>0)","v":false},{"$f":"AND($K$1=\"Y\",L59>0)","v":false},{"$f":"COUNTIF(Table10[[#This Row],[Competed 1]:[Competed 5]],\"=TRUE\")","v":1}]
["Amy Wocjilc","Crown Hills CC","-",{"$f":"IF(C60=\"-\",0,C60)","v":0},39,{"$f":"IF(E60=\"-\",0,E60)","v":39},"-",{"$f":"IF(G60=\"-\",0,G60)","v":0},"-",{"$f":"IF(I60=\"-\",0,I60)","v":0},"-",{"$f":"IF(K60=\"-\",0,K60)","v":0},{"$f":"Table10[[#This Row],[School]]","v":"Crown Hills CC"},{"$f":"D60+F60+H60+J60+L60","v":39},{"$f":"MAX(C60,E60,G60,I60,K60)","v":39},{"$f":"IF(Q60=1,N60,IF(Q60=0,(N60-O60),\"-\"))","v":"-"},{"$f":"$L$1-Table10[Competed Count]","v":3},{"$f":"IF(Q60<2,\"Yes\",\"No\")","v":"No"},{"$f":"AND($C$1=\"Y\",D60>0)","v":false},{"$f":"AND($E$1=\"Y\",F60>0)","v":true},{"$f":"AND($G$1=\"Y\",H60>0)","v":false},{"$f":"AND($I$1=\"Y\",J60>0)","v":false},{"$f":"AND($K$1=\"Y\",L60>0)","v":false},{"$f":"COUNTIF(Table10[[#This Row],[Competed 1]:[Competed 5]],\"=TRUE\")","v":1}]
["Daisy farnell","Charnwood College","-",{"$f":"IF(C61=\"-\",0,C61)","v":0},40,{"$f":"IF(E61=\"-\",0,E61)","v":40},"-",{"$f":"IF(G61=\"-\",0,G61)","v":0},"-",{"$f":"IF(I61=\"-\",0,I61)","v":0},"-",{"$f":"IF(K61=\"-\",0,K61)","v":0},{"$f":"Table10[[#This Row],[School]]","v":"Charnwood College"},{"$f":"D61+F61+H61+J61+L61","v":40},{"$f":"MAX(C61,E61,G61,I61,K61)","v":40},{"$f":"IF(Q61=1,N61,IF(Q61=0,(N61-O61),\"-\"))","v":"-"},{"$f":"$L$1-Table10[Competed Count]","v":3},{"$f":"IF(Q61<2,\"Yes\",\"No\")","v":"No"},{"$f":"AND($C$1=\"Y\",D61>0)","v":false},{"$f":"AND($E$1=\"Y\",F61>0)","v":true},{"$f":"AND($G$1=\"Y\",H61>0)","v":false},{"$f":"AND($I$1=\"Y\",J61>0)","v":false},{"$f":"AND($K$1=\"Y\",L61>0)","v":false},{"$f":"COUNTIF(Table10[[#This Row],[Competed 1]:[Competed 5]],\"=TRUE\")","v":1}]
["Harley-Rae Street","The Martin High School","-",{"$f":"IF(C62=\"-\",0,C62)","v":0},41,{"$f":"IF(E62=\"-\",0,E62)","v":41},"-",{"$f":"IF(G62=\"-\",0,G62)","v":0},"-",{"$f":"IF(I62=\"-\",0,I62)","v":0},"-",{"$f":"IF(K62=\"-\",0,K62)","v":0},{"$f":"Table10[[#This Row],[School]]","v":"The Martin High School"},{"$f":"D62+F62+H62+J62+L62","v":41},{"$f":"MAX(C62,E62,G62,I62,K62)","v":41},{"$f":"IF(Q62=1,N62,IF(Q62=0,(N62-O62),\"-\"))","v":"-"},{"$f":"$L$1-Table10[Competed Count]","v":3},{"$f":"IF(Q62<2,\"Yes\",\"No\")","v":"No"},{"$f":"AND($C$1=\"Y\",D62>0)","v":false},{"$f":"AND($E$1=\"Y\",F62>0)","v":true},{"$f":"AND($G$1=\"Y\",H62>0)","v":false},{"$f":"AND($I$1=\"Y\",J62>0)","v":false},{"$f":"AND($K$1=\"Y\",L62>0)","v":false},{"$f":"COUNTIF(Table10[[#This Row],[Competed 1]:[Competed 5]],\"=TRUE\")","v":1}]
["Charli Sampson","Ivanhoe College",16,{"$f":"IF(C63=\"-\",0,C63)","v":16},"-",{"$f":"IF(E63=\"-\",0,E63)","v":0},"-",{"$f":"IF(G63=\"-\",0,G63)","v":0},"-",{"$f":"IF(I63=\"-\",0,I63)","v":0},"-",{"$f":"IF(K63=\"-\",0,K63)","v":0},{"$f":"Table10[[#This Row],[School]]","v":"Ivanhoe College"},{"$f":"D63+F63+H63+J63+L63","v":16},{"$f":"MAX(C63,E63,G63,I63,K63)","v":16},{"$f":"IF(Q63=1,N63,IF(Q63=0,(N63-O63),\"-\"))","v":"-"},{"$f":"$L$1-Table10[Competed Count]","v":3},{"$f":"IF(Q63<2,\"Yes\",\"No\")","v":"No"},{"$f":"AND($C$1=\"Y\",D63>0)","v":true},{"$f":"AND($E$1=\"Y\",F63>0)","v":false},{"$f":"AND($G$1=\"Y\",H63>0)","v":false},{"$f":"AND($I$1=\"Y\",J63>0)","v":false},{"$f":"AND($K$1=\"Y\",L63>0)","v":false},{"$f":"COUNTIF(Table10[[#This Row],[Competed 1]:[Competed 5]],\"=TRUE\")","v":1}]
["Tara Lawton","Ivanhoe College",24,{"$f":"IF(C64=\"-\",0,C64)","v":24},"-",{"$f":"IF(E64=\"-\",0,E64)","v":0},"-",{"$f":"IF(G64=\"-\",0,G64)","v":0},"-",{"$f":"IF(I64=\"-\",0,I64)","v":0},"-",{"$f":"IF(K64=\"-\",0,K64)","v":0},{"$f":"Table10[[#This Row],[School]]","v":"Ivanhoe College"},{"$f":"D64+F64+H64+J64+L64","v":24},{"$f":"MAX(C64,E64,G64,I64,K64)","v":24},{"$f":"IF(Q64=1,N64,IF(Q64=0,(N64-O64),\"-\"))","v":"-"},{"$f":"$L$1-Table10[Competed Count]","v":3},{"$f":"IF(Q64<2,\"Yes\",\"No\")","v":"No"},{"$f":"AND($C$1=\"Y\",D64>0)","v":true},{"$f":"AND($E$1=\"Y\",F64>0)","v":false},{"$f":"AND($G$1=\"Y\",H64>0)","v":false},{"$f":"AND($I$1=\"Y\",J64>0)","v":false},{"$f":"AND($K$1=\"Y\",L64>0)","v":false},{"$f":"COUNTIF(Table10[[#This Row],[Competed 1]:[Competed 5]],\"=TRUE\")","v":1}]
["Poppy Lloyd-Williams","Welland Park Academy",26,{"$f":"IF(C65=\"-\",0,C65)","v":26},"-",{"$f":"IF(E65=\"-\",0,E65)","v":0},"-",{"$f":"IF(G65=\"-\",0,G65)","v":0},"-",{"$f":"IF(I65=\"-\",0,I65)","v":0},"-",{"$f":"IF(K65=\"-\",0,K65)","v":0},{"$f":"Table10[[#This Row],[School]]","v":"Welland Park Academy"},{"$f":"D65+F65+H65+J65+L65","v":26},{"$f":"MAX(C65,E65,G65,I65,K65)","v":26},{"$f":"IF(Q65=1,N65,IF(Q65=0,(N65-O65),\"-\"))","v":"-"},{"$f":"$L$1-Table10[Competed Count]","v":3},{"$f":"IF(Q65<2,\"Yes\",\"No\")","v":"No"},{"$f":"AND($C$1=\"Y\",D65>0)","v":true},{"$f":"AND($E$1=\"Y\",F65>0)","v":false},{"$f":"AND($G$1=\"Y\",H65>0)","v":false},{"$f":"AND($I$1=\"Y\",J65>0)","v":false},{"$f":"AND($K$1=\"Y\",L65>0)","v":false},{"$f":"COUNTIF(Table10[[#This Row],[Competed 1]:[Competed 5]],\"=TRUE\")","v":1}]
["Amy Rigby","Rawlins Academy",34,{"$f":"IF(C66=\"-\",0,C66)","v":34},"-",{"$f":"IF(E66=\"-\",0,E66)","v":0},"-",{"$f":"IF(G66=\"-\",0,G66)","v":0},"-",{"$f":"IF(I66=\"-\",0,I66)","v":0},"-",{"$f":"IF(K66=\"-\",0,K66)","v":0},{"$f":"Table10[[#This Row],[School]]","v":"Rawlins Academy"},{"$f":"D66+F66+H66+J66+L66","v":34},{"$f":"MAX(C66,E66,G66,I66,K66)","v":34},{"$f":"IF(Q66=1,N66,IF(Q66=0,(N66-O66),\"-\"))","v":"-"},{"$f":"$L$1-Table10[Competed Count]","v":3},{"$f":"IF(Q66<2,\"Yes\",\"No\")","v":"No"},{"$f":"AND($C$1=\"Y\",D66>0)","v":true},{"$f":"AND($E$1=\"Y\",F66>0)","v":false},{"$f":"AND($G$1=\"Y\",H66>0)","v":false},{"$f":"AND($I$1=\"Y\",J66>0)","v":false},{"$f":"AND($K$1=\"Y\",L66>0)","v":false},{"$f":"COUNTIF(Table10[[#This Row],[Competed 1]:[Competed 5]],\"=TRUE\")","v":1}]
["Amelia Tydeman","Brookvale High School",35,{"$f":"IF(C67=\"-\",0,C67)","v":35},"-",{"$f":"IF(E67=\"-\",0,E67)","v":0},"-",{"$f":"IF(G67=\"-\",0,G67)","v":0},"-",{"$f":"IF(I67=\"-\",0,I67)","v":0},"-",{"$f":"IF(K67=\"-\",0,K67)","v":0},{"$f":"Table10[[#This Row],[School]]","v":"Brookvale High School"},{"$f":"D67+F67+H67+J67+L67","v":35},{"$f":"MAX(C67,E67,G67,I67,K67)","v":35},{"$f":"IF(Q67=1,N67,IF(Q67=0,(N67-O67),\"-\"))","v":"-"},{"$f":"$L$1-Table10[Competed Count]","v":3},{"$f":"IF(Q67<2,\"Yes\",\"No\")","v":"No"},{"$f":"AND($C$1=\"Y\",D67>0)","v":true},{"$f":"AND($E$1=\"Y\",F67>0)","v":false},{"$f":"AND($G$1=\"Y\",H67>0)","v":false},{"$f":"AND($I$1=\"Y\",J67>0)","v":false},{"$f":"AND($K$1=\"Y\",L67>0)","v":false},{"$f":"COUNTIF(Table10[[#This Row],[Competed 1]:[Competed 5]],\"=TRUE\")","v":1}]
["Grace Richardson","The Martin High School",36,{"$f":"IF(C68=\"-\",0,C68)","v":36},"-",{"$f":"IF(E68=\"-\",0,E68)","v":0},"-",{"$f":"IF(G68=\"-\",0,G68)","v":0},"-",{"$f":"IF(I68=\"-\",0,I68)","v":0},"-",{"$f":"IF(K68=\"-\",0,K68)","v":0},{"$f":"Table10[[#This Row],[School]]","v":"The Martin High School"},{"$f":"D68+F68+H68+J68+L68","v":36},{"$f":"MAX(C68,E68,G68,I68,K68)","v":36},{"$f":"IF(Q68=1,N68,IF(Q68=0,(N68-O68),\"-\"))","v":"-"},{"$f":"$L$1-Table10[Competed Count]","v":3},{"$f":"IF(Q68<2,\"Yes\",\"No\")","v":"No"},{"$f":"AND($C$1=\"Y\",D68>0)","v":true},{"$f":"AND($E$1=\"Y\",F68>0)","v":false},{"$f":"AND($G$1=\"Y\",H68>0)","v":false},{"$f":"AND($I$1=\"Y\",J68>0)","v":false},{"$f":"AND($K$1=\"Y\",L68>0)","v":false},{"$f":"COUNTIF(Table10[[#This Row],[Competed 1]:[Competed 5]],\"=TRUE\")","v":1}]
["Ruquya Henly","St Pauls Catholic School",39,{"$f":"IF(C69=\"-\",0,C69)","v":39},"-",{"$f":"IF(E69=\"-\",0,E69)","v":0},"-",{"$f":"IF(G69=\"-\",0,G69)","v":0},"-",{"$f":"IF(I69=\"-\",0,I69)","v":0},"-",{"$f":"IF(K69=\"-\",0,K69)","v":0},{"$f":"Table10[[#This Row],[School]]","v":"St Pauls Catholic School"},{"$f":"D69+F69+H69+J69+L69","v":39},{"$f":"MAX(C69,E69,G69,I69,K69)","v":39},{"$f":"IF(Q69=1,N69,IF(Q69=0,(N69-O69),\"-\"))","v":"-"},{"$f":"$L$1-Table10[Competed Count]","v":3},{"$f":"IF(Q69<2,\"Yes\",\"No\")","v":"No"},{"$f":"AND($C$1=\"Y\",D69>0)","v":true},{"$f":"AND($E$1=\"Y\",F69>0)","v":false},{"$f":"AND($G$1=\"Y\",H69>0)","v":false},{"$f":"AND($I$1=\"Y\",J69>0)","v":false},{"$f":"AND($K$1=\"Y\",L69>0)","v":false},{"$f":"COUNTIF(Table10[[#This Row],[Competed 1]:[Competed 5]],\"=TRUE\")","v":1}]
[null,"-","-",{"$f":"IF(C70=\"-\",0,C70)","v":0},"-",{"$f":"IF(E70=\"-\",0,E70)","v":0},"-",{"$f":"IF(G70=\"-\",0,G70)","v":0},"-",{"$f":"IF(I70=\"-\",0,I70)","v":0},"-",{"$f":"IF(K70=\"-\",0,K70)","v":0},{"$f":"Table10[[#This Row],[School]]","v":"-"},{"$f":"D70+F70+H70+J70+L70","v":0},{"$f":"MAX(C70,E70,G70,I70,K70)","v":0},{"$f":"IF(Q70=1,N70,IF(Q70=0,(N70-O70),\"-\"))","v":"-"},{"$f":"$L$1-Table10[Competed Count]","v":4},{"$f":"IF(Q70<2,\"Yes\",\"No\")","v":"No"},{"$f":"AND($C$1=\"Y\",D70>0)","v":false},{"$f":"AND($E$1=\"Y\",F70>0)","v":false},{"$f":"AND($G$1=\"Y\",H70>0)","v":false},{"$f":"AND($I$1=\"Y\",J70>0)","v":false},{"$f":"AND($K$1=\"Y\",L70>0)","v":false},{"$f":"COUNTIF(Table10[[#This Row],[Competed 1]:[Competed 5]],\"=TRUE\")","v":0}]
[null,"-","-",{"$f":"IF(C71=\"-\",0,C71)","v":0},"-",{"$f":"IF(E71=\"-\",0,E71)","v":0},"-",{"$f":"IF(G71=\"-\",0,G71)","v":0},"-",{"$f":"IF(I71=\"-\",0,I71)","v":0},"-",{"$f":"IF(K71=\"-\",0,K71)","v":0},{"$f":"Table10[[#This Row],[School]]","v":"-"},{"$f":"D71+F71+H71+J71+L71","v":0},{"$f":"MAX(C71,E71,G71,I71,K71)","v":0},{"$f":"IF(Q71=1,N71,IF(Q71=0,(N71-O71),\"-\"))","v":"-"},{"$f":"$L$1-Table10[Competed Count]","v":4},{"$f":"IF(Q71<2,\"Yes\",\"No\")","v":"No"},{"$f":"AND($C$1=\"Y\",D71>0)","v":false},{"$f":"AND($E$1=\"Y\",F71>0)","v":false},{"$f":"AND($G$1=\"Y\",H71>0)","v":false},{"$f":"AND($I$1=\"Y\",J71>0)","v":false},{"$f":"AND($K$1=\"Y\",L71>0)","v":false},{"$f":"COUNTIF(Table10[[#This Row],[Competed 1]:[Competed 5]],\"=TRUE\")","v":0}]
[null,"-","-",{"$f":"IF(C72=\"-\",0,C72)","v":0},"-",{"$f":"IF(E72=\"-\",0,E72)","v":0},"-",{"$f":"IF(G72=\"-\",0,G72)","v":0},"-",{"$f":"IF(I72=\"-\",0,I72)","v":0},"-",{"$f":"IF(K72=\"-\",0,K72)","v":0},{"$f":"Table10[[#This Row],[School]]","v":"-"},{"$f":"D72+F72+H72+J72+L72","v":0},{"$f":"MAX(C72,E72,G72,I72,K72)","v":0},{"$f":"IF(Q72=1,N72,IF(Q72=0,(N72-O72),\"-\"))","v":"-"},{"$f":"$L$1-Table10[Competed Count]","v":4},{"$f":"IF(Q72<2,\"Yes\",\"No\")","v":"No"},{"$f":"AND($C$1=\"Y\",D72>0)","v":false},{"$f":"AND($E$1=\"Y\",F72>0)","v":false},{"$f":"AND($G$1=\"Y\",H72>0)","v":false},{"$f":"AND($I$1=\"Y\",J72>0)","v":false},{"$f":"AND($K$1=\"Y\",L72>0)","v":false},{"$f":"COUNTIF(Table10[[#This Row],[Competed 1]:[Competed 5]],\"=TRUE\")","v":0}]
[null,"-","-",{"$f":"IF(C73=\"-\",0,C73)","v":0},"-",{"$f":"IF(E73=\"-\",0,E73)","v":0},"-",{"$f":"IF(G73=\"-\",0,G73)","v":0},"-",{"$f":"IF(I73=\"-\",0,I73)","v":0},"-",{"$f":"IF(K73=\"-\",0,K73)","v":0},{"$f":"Table10[[#This Row],[School]]","v":"-"},{"$f":"D73+F73+H73+J73+L73","v":0},{"$f":"MAX(C73,E73,G73,I73,K73)","v":0},{"$f":"IF(Q73=1,N73,IF(Q73=0,(N73-O73),\"-\"))","v":"-"},{"$f":"$L$1-Table10[Competed Count]","v":4},{"$f":"IF(Q73<2,\"Yes\",\"No\")","v":"No"},{"$f":"AND($C$1=\"Y\",D73>0)","v":false},{"$f":"AND($E$1=\"Y\",F73>0)","v":false},{"$f":"AND($G$1=\"Y\",H73>0)","v":false},{"$f":"AND($I$1=\"Y\",J73>0)","v":false},{"$f":"AND($K$1=\"Y\",L73>0)","v":false},{"$f":"COUNTIF(Table10[[#This Row],[Competed 1]:[Competed 5]],\"=TRUE\")","v":0}]
[null,"-","-",{"$f":"IF(C74=\"-\",0,C74)","v":0},"-",{"$f":"IF(E74=\"-\",0,E74)","v":0},"-",{"$f":"IF(G74=\"-\",0,G74)","v":0},"-",{"$f":"IF(I74=\"-\",0,I74)","v":0},"-",{"$f":"IF(K74=\"-\",0,K74)","v":0},{"$f":"Table10[[#This Row],[School]]","v":"-"},{"$f":"D74+F74+H74+J74+L74","v":0},{"$f":"MAX(C74,E74,G74,I74,K74)","v":0},{"$f":"IF(Q74=1,N74,IF(Q74=0,(N74-O74),\"-\"))","v":"-"},{"$f":"$L$1-Table10[Competed Count]","v":4},{"$f":"IF(Q74<2,\"Yes\",\"No\")","v":"No"},{"$f":"AND($C$1=\"Y\",D74>0)","v":false},{"$f":"AND($E$1=\"Y\",F74>0)","v":false},{"$f":"AND($G$1=\"Y\",H74>0)","v":false},{"$f":"AND($I$1=\"Y\",J74>0)","v":false},{"$f":"AND($K$1=\"Y\",L74>0)","v":false},{"$f":"COUNTIF(Table10[[#This Row],[Competed 1]:[Competed 5]],\"=TRUE\")","v":0}]
[null,"-","-",{"$f":"IF(C75=\"-\",0,C75)","v":0},"-",{"$f":"IF(E75=\"-\",0,E75)","v":0},"-",{"$f":"IF(G75=\"-\",0,G75)","v":0},"-",{"$f":"IF(I75=\"-\",0,I75)","v":0},"-",{"$f":"IF(K75=\"-\",0,K75)","v":0},{"$f":"Table10[[#This Row],[School]]","v":"-"},{"$f":"D75+F75+H75+J75+L75","v":0},{"$f":"MAX(C75,E75,G75,I75,K75)","v":0},{"$f":"IF(Q75=1,N75,IF(Q75=0,(N75-O75),\"-\"))","v":"-"},{"$f":"$L$1-Table10[Competed Count]","v":4},{"$f":"IF(Q75<2,\"Yes\",\"No\")","v":"No"},{"$f":"AND($C$1=\"Y\",D75>0)","v":false},{"$f":"AND($E$1=\"Y\",F75>0)","v":false},{"$f":"AND($G$1=\"Y\",H75>0)","v":false},{"$f":"AND($I$1=\"Y\",J75>0)","v":false},{"$f":"AND($K$1=\"Y\",L75>0)","v":false},{"$f":"COUNTIF(Table10[[#This Row],[Competed 1]:[Competed 5]],\"=TRUE\")","v":0}]
[null,"-","-",{"$f":"IF(C76=\"-\",0,C76)","v":0},"-",{"$f":"IF(E76=\"-\",0,E76)","v":0},"-",{"$f":"IF(G76=\"-\",0,G76)","v":0},"-",{"$f":"IF(I76=\"-\",0,I76)","v":0},"-",{"$f":"IF(K76=\"-\",0,K76)","v":0},{"$f":"Table10[[#This Row],[School]]","v":"-"},{"$f":"D76+F76+H76+J76+L76","v":0},{"$f":"MAX(C76,E76,G76,I76,K76)","v":0},{"$f":"IF(Q76=1,N76,IF(Q76=0,(N76-O76),\"-\"))","v":"-"},{"$f":"$L$1-Table10[Competed Count]","v":4},{"$f":"IF(Q76<2,\"Yes\",\"No\")","v":"No"},{"$f":"AND($C$1=\"Y\",D76>0)","v":false},{"$f":"AND($E$1=\"Y\",F76>0)","v":false},{"$f":"AND($G$1=\"Y\",H76>0)","v":false},{"$f":"AND($I$1=\"Y\",J76>0)","v":false},{"$f":"AND($K$1=\"Y\",L76>0)","v":false},{"$f":"COUNTIF(Table10[[#This Row],[Competed 1]:[Competed 5]],\"=TRUE\")","v":0}]
[null,"-","-",{"$f":"IF(C77=\"-\",0,C77)","v":0},"-",{"$f":"IF(E77=\"-\",0,E77)","v":0},"-",{"$f":"IF(G77=\"-\",0,G77)","v":0},"-",{"$f":"IF(I77=\"-\",0,I77)","v":0},"-",{"$f":"IF(K77=\"-\",0,K77)","v":0},{"$f":"Table10[[#This Row],[School]]","v":"-"},{"$f":"D77+F77+H77+J77+L77","v":0},{"$f":"MAX(C77,E77,G77,I77,K77)","v":0},{"$f":"IF(Q77=1,N77,IF(Q77=0,(N77-O77),\"-\"))","v":"-"},{"$f":"$L$1-Table10[Competed Count]","v":4},{"$f":"IF(Q77<2,\"Yes\",\"No\")","v":"No"},{"$f":"AND($C$1=\"Y\",D77>0)","v":false},{"$f":"AND($E$1=\"Y\",F77>0)","v":false},{"$f":"AND($G$1=\"Y\",H77>0)","v":false},{"$f":"AND($I$1=\"Y\",J77>0)","v":false},{"$f":"AND($K$1=\"Y\",L77>0)","v":false},{"$f":"COUNTIF(Table10[[#This Row],[Competed 1]:[Competed 5]],\"=TRUE\")","v":0}]
[null,"-","-",{"$f":"IF(C78=\"-\",0,C78)","v":0},"-",{"$f":"IF(E78=\"-\",0,E78)","v":0},"-",{"$f":"IF(G78=\"-\",0,G78)","v":0},"-",{"$f":"IF(I78=\"-\",0,I78)","v":0},"-",{"$f":"IF(K78=\"-\",0,K78)","v":0},{"$f":"Table10[[#This Row],[School]]","v":"-"},{"$f":"D78+F78+H78+J78+L78","v":0},{"$f":"MAX(C78,E78,G78,I78,K78)","v":0},{"$f":"IF(Q78=1,N78,IF(Q78=0,(N78-O78),\"-\"))","v":"-"},{"$f":"$L$1-Table10[Competed Count]","v":4},{"$f":"IF(Q78<2,\"Yes\",\"No\")","v":"No"},{"$f":"AND($C$1=\"Y\",D78>0)","v":false},{"$f":"AND($E$1=\"Y\",F78>0)","v":false},{"$f":"AND($G$1=\"Y\",H78>0)","v":false},{"$f":"AND($I$1=\"Y\",J78>0)","v":false},{"$f":"AND($K$1=\"Y\",L78>0)","v":false},{"$f":"COUNTIF(Table10[[#This Row],[Competed 1]:[Competed 5]],\"=TRUE\")","v":0}]
[null,"-","-",{"$f":"IF(C79=\"-\",0,C79)","v":0},"-",{"$f":"IF(E79=\"-\",0,E79)","v":0},"-",{"$f":"IF(G79=\"-\",0,G79)","v":0},"-",{"$f":"IF(I79=\"-\",0,I79)","v":0},"-",{"$f":"IF(K79=\"-\",0,K79)","v":0},{"$f":"Table10[[#This Row],[School]]","v":"-"},{"$f":"D79+F79+H79+J79+L79","v":0},{"$f":"MAX(C79,E79,G79,I79,K79)","v":0},{"$f":"IF(Q79=1,N79,IF(Q79=0,(N79-O79),\"-\"))","v":"-"},{"$f":"$L$1-Table10[Competed Count]","v":4},{"$f":"IF(Q79<2,\"Yes\",\"No\")","v":"No"},{"$f":"AND($C$1=\"Y\",D79>0)","v":false},{"$f":"AND($E$1=\"Y\",F79>0)","v":false},{"$f":"AND($G$1=\"Y\",H79>0)","v":false},{"$f":"AND($I$1=\"Y\",J79>0)","v":false},{"$f":"AND($K$1=\"Y\",L79>0)","v":false},{"$f":"COUNTIF(Table10[[#This Row],[Competed 1]:[Competed 5]],\"=TRUE\")","v":0}]
[null,"-","-",{"$f":"IF(C80=\"-\",0,C80)","v":0},"-",{"$f":"IF(E80=\"-\",0,E80)","v":0},"-",{"$f":"IF(G80=\"-\",0,G80)","v":0},"-",{"$f":"IF(I80=\"-\",0,I80)","v":0},"-",{"$f":"IF(K80=\"-\",0,K80)","v":0},{"$f":"Table10[[#This Row],[School]]","v":"-"},{"$f":"D80+F80+H80+J80+L80","v":0},{"$f":"MAX(C80,E80,G80,I80,K80)","v":0},{"$f":"IF(Q80=1,N80,IF(Q80=0,(N80-O80),\"-\"))","v":"-"},{"$f":"$L$1-Table10[Competed Count]","v":4},{"$f":"IF(Q80<2,\"Yes\",\"No\")","v":"No"},{"$f":"AND($C$1=\"Y\",D80>0)","v":false},{"$f":"AND($E$1=\"Y\",F80>0)","v":false},{"$f":"AND($G$1=\"Y\",H80>0)","v":false},{"$f":"AND($I$1=\"Y\",J80>0)","v":false},{"$f":"AND($K$1=\"Y\",L80>0)","v":false},{"$f":"COUNTIF(Table10[[#This Row],[Competed 1]:[Competed 5]],\"=TRUE\")","v":0}]
[null,"-","-",{"$f":"IF(C81=\"-\",0,C81)","v":0},"-",{"$f":"IF(E81=\"-\",0,E81)","v":0},"-",{"$f":"IF(G81=\"-\",0,G81)","v":0},"-",{"$f":"IF(I81=\"-\",0,I81)","v":0},"-",{"$f":"IF(K81=\"-\",0,K81)","v":0},{"$f":"Table10[[#This Row],[School]]","v":"-"},{"$f":"D81+F81+H81+J81+L81","v":0},{"$f":"MAX(C81,E81,G81,I81,K81)","v":0},{"$f":"IF(Q81=1,N81,IF(Q81=0,(N81-O81),\"-\"))","v":"-"},{"$f":"$L$1-Table10[Competed Count]","v":4},{"$f":"IF(Q81<2,\"Yes\",\"No\")","v":"No"},{"$f":"AND($C$1=\"Y\",D81>0)","v":false},{"$f":"AND($E$1=\"Y\",F81>0)","v":false},{"$f":"AND($G$1=\"Y\",H81>0)","v":false},{"$f":"AND($I$1=\"Y\",J81>0)","v":false},{"$f":"AND($K$1=\"Y\",L81>0)","v":false},{"$f":"COUNTIF(Table10[[#This Row],[Competed 1]:[Competed 5]],\"=TRUE\")","v":0}]
[null,"-","-",{"$f":"IF(C82=\"-\",0,C82)","v":0},"-",{"$f":"IF(E82=\"-\",0,E82)","v":0},"-",{"$f":"IF(G82=\"-\",0,G82)","v":0},"-",{"$f":"IF(I82=\"-\",0,I82)","v":0},"-",{"$f":"IF(K82=\"-\",0,K82)","v":0},{"$f":"Table10[[#This Row],[School]]","v":"-"},{"$f":"D82+F82+H82+J82+L82","v":0},{"$f":"MAX(C82,E82,G82,I82,K82)","v":0},{"$f":"IF(Q82=1,N82,IF(Q82=0,(N82-O82),\"-\"))","v":"-"},{"$f":"$L$1-Table10[Competed Count]","v":4},{"$f":"IF(Q82<2,\"Yes\",\"No\")","v":"No"},{"$f":"AND($C$1=\"Y\",D82>0)","v":false},{"$f":"AND($E$1=\"Y\",F82>0)","v":false},{"$f":"AND($G$1=\"Y\",H82>0)","v":false},{"$f":"AND($I$1=\"Y\",J82>0)","v":false},{"$f":"AND($K$1=\"Y\",L82>0)","v":false},{"$f":"COUNTIF(Table10[[#This Row],[Competed 1]:[Competed 5]],\"=TRUE\")","v":0}]
[null,"-","-",{"$f":"IF(C83=\"-\",0,C83)","v":0},"-",{"$f":"IF(E83=\"-\",0,E83)","v":0},"-",{"$f":"IF(G83=\"-\",0,G83)","v":0},"-",{"$f":"IF(I83=\"-\",0,I83)","v":0},"-",{"$f":"IF(K83=\"-\",0,K83)","v":0},{"$f":"Table10[[#This Row],[School]]","v":"-"},{"$f":"D83+F83+H83+J83+L83","v":0},{"$f":"MAX(C83,E83,G83,I83,K83)","v":0},{"$f":"IF(Q83=1,N83,IF(Q83=0,(N83-O83),\"-\"))","v":"-"},{"$f":"$L$1-Table10[Competed Count]","v":4},{"$f":"IF(Q83<2,\"Yes\",\"No\")","v":"No"},{"$f":"AND($C$1=\"Y\",D83>0)","v":false},{"$f":"AND($E$1=\"Y\",F83>0)","v":false},{"$f":"AND($G$1=\"Y\",H83>0)","v":false},{"$f":"AND($I$1=\"Y\",J83>0)","v":false},{"$f":"AND($K$1=\"Y\",L83>0)","v":false},{"$f":"COUNTIF(Table10[[#This Row],[Competed 1]:[Competed 5]],\"=TRUE\")","v":0}]
[null,"-","-",{"$f":"IF(C84=\"-\",0,C84)","v":0},"-",{"$f":"IF(E84=\"-\",0,E84)","v":0},"-",{"$f":"IF(G84=\"-\",0,G84)","v":0},"-",{"$f":"IF(I84=\"-\",0,I84)","v":0},"-",{"$f":"IF(K84=\"-\",0,K84)","v":0},{"$f":"Table10[[#This Row],[School]]","v":"-"},{"$f":"D84+F84+H84+J84+L84","v":0},{"$f":"MAX(C84,E84,G84,I84,K84)","v":0},{"$f":"IF(Q84=1,N84,IF(Q84=0,(N84-O84),\"-\"))","v":"-"},{"$f":"$L$1-Table10[Competed Count]","v":4},{"$f":"IF(Q84<2,\"Yes\",\"No\")","v":"No"},{"$f":"AND($C$1=\"Y\",D84>0)","v":false},{"$f":"AND($E$1=\"Y\",F84>0)","v":false},{"$f":"AND($G$1=\"Y\",H84>0)","v":false},{"$f":"AND($I$1=\"Y\",J84>0)","v":false},{"$f":"AND($K$1=\"Y\",L84>0)","v":false},{"$f":"COUNTIF(Table10[[#This Row],[Competed 1]:[Competed 5]],\"=TRUE\")","v":0}]
[null,"-","-",{"$f":"IF(C85=\"-\",0,C85)","v":0},"-",{"$f":"IF(E85=\"-\",0,E85)","v":0},"-",{"$f":"IF(G85=\"-\",0,G85)","v":0},"-",{"$f":"IF(I85=\"-\",0,I85)","v":0},"-",{"$f":"IF(K85=\"-\",0,K85)","v":0},{"$f":"Table10[[#This Row],[School]]","v":"-"},{"$f":"D85+F85+H85+J85+L85","v":0},{"$f":"MAX(C85,E85,G85,I85,K85)","v":0},{"$f":"IF(Q85=1,N85,IF(Q85=0,(N85-O85),\"-\"))","v":"-"},{"$f":"$L$1-Table10[Competed Count]","v":4},{"$f":"IF(Q85<2,\"Yes\",\"No\")","v":"No"},{"$f":"AND($C$1=\"Y\",D85>0)","v":false},{"$f":"AND($E$1=\"Y\",F85>0)","v":false},{"$f":"AND($G$1=\"Y\",H85>0)","v":false},{"$f":"AND($I$1=\"Y\",J85>0)","v":false},{"$f":"AND($K$1=\"Y\",L85>0)","v":false},{"$f":"COUNTIF(Table10[[#This Row],[Competed 1]:[Competed 5]],\"=TRUE\")","v":0}]
[null,"-","-",{"$f":"IF(C86=\"-\",0,C86)","v":0},"-",{"$f":"IF(E86=\"-\",0,E86)","v":0},"-",{"$f":"IF(G86=\"-\",0,G86)","v":0},"-",{"$f":"IF(I86=\"-\",0,I86)","v":0},"-",{"$f":"IF(K86=\"-\",0,K86)","v":0},{"$f":"Table10[[#This Row],[School]]","v":"-"},{"$f":"D86+F86+H86+J86+L86","v":0},{"$f":"MAX(C86,E86,G86,I86,K86)","v":0},{"$f":"IF(Q86=1,N86,IF(Q86=0,(N86-O86),\"-\"))","v":"-"},{"$f":"$L$1-Table10[Competed Count]","v":4},{"$f":"IF(Q86<2,\"Yes\",\"No\")","v":"No"},{"$f":"AND($C$1=\"Y\",D86>0)","v":false},{"$f":"AND($E$1=\"Y\",F86>0)","v":false},{"$f":"AND($G$1=\"Y\",H86>0)","v":false},{"$f":"AND($I$1=\"Y\",J86>0)","v":false},{"$f":"AND($K$1=\"Y\",L86>0)","v":false},{"$f":"COUNTIF(Table10[[#This Row],[Competed 1]:[Competed 5]],\"=TRUE\")","v":0}]
[null,"-","-",{"$f":"IF(C87=\"-\",0,C87)","v":0},"-",{"$f":"IF(E87=\"-\",0,E87)","v":0},"-",{"$f":"IF(G87=\"-\",0,G87)","v":0},"-",{"$f":"IF(I87=\"-\",0,I87)","v":0},"-",{"$f":"IF(K87=\"-\",0,K87)","v":0},{"$f":"Table10[[#This Row],[School]]","v":"-"},{"$f":"D87+F87+H87+J87+L87","v":0},{"$f":"MAX(C87,E87,G87,I87,K87)","v":0},{"$f":"IF(Q87=1,N87,IF(Q87=0,(N87-O87),\"-\"))","v":"-"},{"$f":"$L$1-Table10[Competed Count]","v":4},{"$f":"IF(Q87<2,\"Yes\",\"No\")","v":"No"},{"$f":"AND($C$1=\"Y\",D87>0)","v":false},{"$f":"AND($E$1=\"Y\",F87>0)","v":false},{"$f":"AND($G$1=\"Y\",H87>0)","v":false},{"$f":"AND($I$1=\"Y\",J87>0)","v":false},{"$f":"AND($K$1=\"Y\",L87>0)","v":false},{"$f":"COUNTIF(Table10[[#This Row],[Competed 1]:[Competed 5]],\"=TRUE\")","v":0}]
[null,"-","-",{"$f":"IF(C88=\"-\",0,C88)","v":0},"-",{"$f":"IF(E88=\"-\",0,E88)","v":0},"-",{"$f":"IF(G88=\"-\",0,G88)","v":0},"-",{"$f":"IF(I88=\"-\",0,I88)","v":0},"-",{"$f":"IF(K88=\"-\",0,K88)","v":0},{"$f":"Table10[[#This Row],[School]]","v":"-"},{"$f":"D88+F88+H88+J88+L88","v":0},{"$f":"MAX(C88,E88,G88,I88,K88)","v":0},{"$f":"IF(Q88=1,N88,IF(Q88=0,(N88-O88),\"-\"))","v":"-"},{"$f":"$L$1-Table10[Competed Count]","v":4},{"$f":"IF(Q88<2,\"Yes\",\"No\")","v":"No"},{"$f":"AND($C$1=\"Y\",D88>0)","v":false},{"$f":"AND($E$1=\"Y\",F88>0)","v":false},{"$f":"AND($G$1=\"Y\",H88>0)","v":false},{"$f":"AND($I$1=\"Y\",J88>0)","v":false},{"$f":"AND($K$1=\"Y\",L88>0)","v":false},{"$f":"COUNTIF(Table10[[#This Row],[Competed 1]:[Competed 5]],\"=TRUE\")","v":0}]
[null,"-","-",{"$f":"IF(C89=\"-\",0,C89)","v":0},"-",{"$f":"IF(E89=\"-\",0,E89)","v":0},"-",{"$f":"IF(G89=\"-\",0,G89)","v":0},"-",{"$f":"IF(I89=\"-\",0,I89)","v":0},"-",{"$f":"IF(K89=\"-\",0,K89)","v":0},{"$f":"Table10[[#This Row],[School]]","v":"-"},{"$f":"D89+F89+H89+J89+L89","v":0},{"$f":"MAX(C89,E89,G89,I89,K89)","v":0},{"$f":"IF(Q89=1,N89,IF(Q89=0,(N89-O89),\"-\"))","v":"-"},{"$f":"$L$1-Table10[Competed Count]","v":4},{"$f":"IF(Q89<2,\"Yes\",\"No\")","v":"No"},{"$f":"AND($C$1=\"Y\",D89>0)","v":false},{"$f":"AND($E$1=\"Y\",F89>0)","v":false},{"$f":"AND($G$1=\"Y\",H89>0)","v":false},{"$f":"AND($I$1=\"Y\",J89>0)","v":false},{"$f":"AND($K$1=\"Y\",L89>0)","v":false},{"$f":"COUNTIF(Table10[[#This Row],[Competed 1]:[Competed 5]],\"=TRUE\")","v":0}]
[null,"-","-",{"$f":"IF(C90=\"-\",0,C90)","v":0},"-",{"$f":"IF(E90=\"-\",0,E90)","v":0},"-",{"$f":"IF(G90=\"-\",0,G90)","v":0},"-",{"$f":"IF(I90=\"-\",0,I90)","v":0},"-",{"$f":"IF(K90=\"-\",0,K90)","v":0},{"$f":"Table10[[#This Row],[School]]","v":"-"},{"$f":"D90+F90+H90+J90+L90","v":0},{"$f":"MAX(C90,E90,G90,I90,K90)","v":0},{"$f":"IF(Q90=1,N90,IF(Q90=0,(N90-O90),\"-\"))","v":"-"},{"$f":"$L$1-Table10[Competed Count]","v":4},{"$f":"IF(Q90<2,\"Yes\",\"No\")","v":"No"},{"$f":"AND($C$1=\"Y\",D90>0)","v":false},{"$f":"AND($E$1=\"Y\",F90>0)","v":false},{"$f":"AND($G$1=\"Y\",H90>0)","v":false},{"$f":"AND($I$1=\"Y\",J90>0)","v":false},{"$f":"AND($K$1=\"Y\",L90>0)","v":false},{"$f":"COUNTIF(Table10[[#This Row],[Competed 1]:[Competed 5]],\"=TRUE\")","v":0}]
[null,"-","-",{"$f":"IF(C91=\"-\",0,C91)","v":0},"-",{"$f":"IF(E91=\"-\",0,E91)","v":0},"-",{"$f":"IF(G91=\"-\",0,G91)","v":0},"-",{"$f":"IF(I91=\"-\",0,I91)","v":0},"-",{"$f":"IF(K91=\"-\",0,K91)","v":0},{"$f":"Table10[[#This Row],[School]]","v":"-"},{"$f":"D91+F91+H91+J91+L91","v":0},{"$f":"MAX(C91,E91,G91,I91,K91)","v":0},{"$f":"IF(Q91=1,N91,IF(Q91=0,(N91-O91),\"-\"))","v":"-"},{"$f":"$L$1-Table10[Competed Count]","v":4},{"$f":"IF(Q91<2,\"Yes\",\"No\")","v":"No"},{"$f":"AND($C$1=\"Y\",D91>0)","v":false},{"$f":"AND($E$1=\"Y\",F91>0)","v":false},{"$f":"AND($G$1=\"Y\",H91>0)","v":false},{"$f":"AND($I$1=\"Y\",J91>0)","v":false},{"$f":"AND($K$1=\"Y\",L91>0)","v":false},{"$f":"COUNTIF(Table10[[#This Row],[Competed 1]:[Competed 5]],\"=TRUE\")","v":0}]
[null,"-","-",{"$f":"IF(C92=\"-\",0,C92)","v":0},"-",{"$f":"IF(E92=\"-\",0,E92)","v":0},"-",{"$f":"IF(G92=\"-\",0,G92)","v":0},"-",{"$f":"IF(I92=\"-\",0,I92)","v":0},"-",{"$f":"IF(K92=\"-\",0,K92)","v":0},{"$f":"Table10[[#This Row],[School]]","v":"-"},{"$f":"D92+F92+H92+J92+L92","v":0},{"$f":"MAX(C92,E92,G92,I92,K92)","v":0},{"$f":"IF(Q92=1,N92,IF(Q92=0,(N92-O92),\"-\"))","v":"-"},{"$f":"$L$1-Table10[Competed Count]","v":4},{"$f":"IF(Q92<2,\"Yes\",\"No\")","v":"No"},{"$f":"AND($C$1=\"Y\",D92>0)","v":false},{"$f":"AND($E$1=\"Y\",F92>0)","v":false},{"$f":"AND($G$1=\"Y\",H92>0)","v":false},{"$f":"AND($I$1=\"Y\",J92>0)","v":false},{"$f":"AND($K$1=\"Y\",L92>0)","v":false},{"$f":"COUNTIF(Table10[[#This Row],[Competed 1]:[Competed 5]],\"=TRUE\")","v":0}]
[null,"-","-",{"$f":"IF(C93=\"-\",0,C93)","v":0},"-",{"$f":"IF(E93=\"-\",0,E93)","v":0},"-",{"$f":"IF(G93=\"-\",0,G93)","v":0},"-",{"$f":"IF(I93=\"-\",0,I93)","v":0},"-",{"$f":"IF(K93=\"-\",0,K93)","v":0},{"$f":"Table10[[#This Row],[School]]","v":"-"},{"$f":"D93+F93+H93+J93+L93","v":0},{"$f":"MAX(C93,E93,G93,I93,K93)","v":0},{"$f":"IF(Q93=1,N93,IF(Q93=0,(N93-O93),\"-\"))","v":"-"},{"$f":"$L$1-Table10[Competed Count]","v":4},{"$f":"IF(Q93<2,\"Yes\",\"No\")","v":"No"},{"$f":"AND($C$1=\"Y\",D93>0)","v":false},{"$f":"AND($E$1=\"Y\",F93>0)","v":false},{"$f":"AND($G$1=\"Y\",H93>0)","v":false},{"$f":"AND($I$1=\"Y\",J93>0)","v":false},{"$f":"AND($K$1=\"Y\",L93>0)","v":false},{"$f":"COUNTIF(Table10[[#This Row],[Competed 1]:[Competed 5]],\"=TRUE\")","v":0}]
[null,"-","-",{"$f":"IF(C94=\"-\",0,C94)","v":0},"-",{"$f":"IF(E94=\"-\",0,E94)","v":0},"-",{"$f":"IF(G94=\"-\",0,G94)","v":0},"-",{"$f":"IF(I94=\"-\",0,I94)","v":0},"-",{"$f":"IF(K94=\"-\",0,K94)","v":0},{"$f":"Table10[[#This Row],[School]]","v":"-"},{"$f":"D94+F94+H94+J94+L94","v":0},{"$f":"MAX(C94,E94,G94,I94,K94)","v":0},{"$f":"IF(Q94=1,N94,IF(Q94=0,(N94-O94),\"-\"))","v":"-"},{"$f":"$L$1-Table10[Competed Count]","v":4},{"$f":"IF(Q94<2,\"Yes\",\"No\")","v":"No"},{"$f":"AND($C$1=\"Y\",D94>0)","v":false},{"$f":"AND($E$1=\"Y\",F94>0)","v":false},{"$f":"AND($G$1=\"Y\",H94>0)","v":false},{"$f":"AND($I$1=\"Y\",J94>0)","v":false},{"$f":"AND($K$1=\"Y\",L94>0)","v":false},{"$f":"COUNTIF(Table10[[#This Row],[Competed 1]:[Competed 5]],\"=TRUE\")","v":0}]
[null,"-","-",null,"-",{"$f":"IF(E95=\"-\",0,E95)","v":0},"-",{"$f":"IF(G95=\"-\",0,G95)","v":0},"-",{"$f":"IF(I95=\"-\",0,I95)","v":0},"-",{"$f":"IF(K95=\"-\",0,K95)","v":0},{"$f":"Table10[[#This Row],[School]]","v":"-"},{"$f":"D95+F95+H95+J95+L95","v":0},{"$f":"MAX(C95,E95,G95,I95,K95)","v":0},{"$f":"IF(Q95=1,N95,IF(Q95=0,(N95-O95),\"-\"))","v":"-"},{"$f":"$L$1-Table10[Competed Count]","v":4},{"$f":"IF(Q95<2,\"Yes\",\"No\")","v":"No"},{"$f":"AND($C$1=\"Y\",D95>0)","v":false},{"$f":"AND($E$1=\"Y\",F95>0)","v":false},{"$f":"AND($G$1=\"Y\",H95>0)","v":false},{"$f":"AND($I$1=\"Y\",J95>0)","v":false},{"$f":"AND($K$1=\"Y\",L95>0)","v":false},{"$f":"COUNTIF(Table10[[#This Row],[Competed 1]:[Competed 5]],\"=TRUE\")","v":0}]
[null,"-","-",{"$f":"IF(C96=\"-\",0,C96)","v":0},"-",{"$f":"IF(E96=\"-\",0,E96)","v":0},"-",{"$f":"IF(G96=\"-\",0,G96)","v":0},"-",{"$f":"IF(I96=\"-\",0,I96)","v":0},"-",{"$f":"IF(K96=\"-\",0,K96)","v":0},{"$f":"Table10[[#This Row],[School]]","v":"-"},{"$f":"D96+F96+H96+J96+L96","v":0},{"$f":"MAX(C96,E96,G96,I96,K96)","v":0},{"$f":"IF(Q96=1,N96,IF(Q96=0,(N96-O96),\"-\"))","v":"-"},{"$f":"$L$1-Table10[Competed Count]","v":4},{"$f":"IF(Q96<2,\"Yes\",\"No\")","v":"No"},{"$f":"AND($C$1=\"Y\",D96>0)","v":false},{"$f":"AND($E$1=\"Y\",F96>0)","v":false},{"$f":"AND($G$1=\"Y\",H96>0)","v":false},{"$f":"AND($I$1=\"Y\",J96>0)","v":false},{"$f":"AND($K$1=\"Y\",L96>0)","v":false},{"$f":"COUNTIF(Table10[[#This Row],[Competed 1]:[Competed 5]],\"=TRUE\")","v":0}]
[null,"-","-",{"$f":"IF(C97=\"-\",0,C97)","v":0},"-",{"$f":"IF(E97=\"-\",0,E97)","v":0},"-",{"$f":"IF(G97=\"-\",0,G97)","v":0},"-",{"$f":"IF(I97=\"-\",0,I97)","v":0},"-",{"$f":"IF(K97=\"-\",0,K97)","v":0},{"$f":"Table10[[#This Row],[School]]","v":"-"},{"$f":"D97+F97+H97+J97+L97","v":0},{"$f":"MAX(C97,E97,G97,I97,K97)","v":0},{"$f":"IF(Q97=1,N97,IF(Q97=0,(N97-O97),\"-\"))","v":"-"},{"$f":"$L$1-Table10[Competed Count]","v":4},{"$f":"IF(Q97<2,\"Yes\",\"No\")","v":"No"},{"$f":"AND($C$1=\"Y\",D97>0)","v":false},{"$f":"AND($E$1=\"Y\",F97>0)","v":false},{"$f":"AND($G$1=\"Y\",H97>0)","v":false},{"$f":"AND($I$1=\"Y\",J97>0)","v":false},{"$f":"AND($K$1=\"Y\",L97>0)","v":false},{"$f":"COUNTIF(Table10[[#This Row],[Competed 1]:[Competed 5]],\"=TRUE\")","v":0}]
[null,"-","-",{"$f":"IF(C98=\"-\",0,C98)","v":0},"-",{"$f":"IF(E98=\"-\",0,E98)","v":0},"-",{"$f":"IF(G98=\"-\",0,G98)","v":0},"-",{"$f":"IF(I98=\"-\",0,I98)","v":0},"-",{"$f":"IF(K98=\"-\",0,K98)","v":0},{"$f":"Table10[[#This Row],[School]]","v":"-"},{"$f":"D98+F98+H98+J98+L98","v":0},{"$f":"MAX(C98,E98,G98,I98,K98)","v":0},{"$f":"IF(Q98=1,N98,IF(Q98=0,(N98-O98),\"-\"))","v":"-"},{"$f":"$L$1-Table10[Competed Count]","v":4},{"$f":"IF(Q98<2,\"Yes\",\"No\")","v":"No"},{"$f":"AND($C$1=\"Y\",D98>0)","v":false},{"$f":"AND($E$1=\"Y\",F98>0)","v":false},{"$f":"AND($G$1=\"Y\",H98>0)","v":false},{"$f":"AND($I$1=\"Y\",J98>0)","v":false},{"$f":"AND($K$1=\"Y\",L98>0)","v":false},{"$f":"COUNTIF(Table10[[#This Row],[Competed 1]:[Competed 5]],\"=TRUE\")","v":0}]
[null,"-","-",{"$f":"IF(C99=\"-\",0,C99)","v":0},"-",{"$f":"IF(E99=\"-\",0,E99)","v":0},"-",{"$f":"IF(G99=\"-\",0,G99)","v":0},"-",{"$f":"IF(I99=\"-\",0,I99)","v":0},"-",{"$f":"IF(K99=\"-\",0,K99)","v":0},{"$f":"Table10[[#This Row],[School]]","v":"-"},{"$f":"D99+F99+H99+J99+L99","v":0},{"$f":"MAX(C99,E99,G99,I99,K99)","v":0},{"$f":"IF(Q99=1,N99,IF(Q99=0,(N99-O99),\"-\"))","v":"-"},{"$f":"$L$1-Table10[Competed Count]","v":4},{"$f":"IF(Q99<2,\"Yes\",\"No\")","v":"No"},{"$f":"AND($C$1=\"Y\",D99>0)","v":false},{"$f":"AND($E$1=\"Y\",F99>0)","v":false},{"$f":"AND($G$1=\"Y\",H99>0)","v":false},{"$f":"AND($I$1=\"Y\",J99>0)","v":false},{"$f":"AND($K$1=\"Y\",L99>0)","v":false},{"$f":"COUNTIF(Table10[[#This Row],[Competed 1]:[Competed 5]],\"=TRUE\")","v":0}]
[null,"-","-",{"$f":"IF(C100=\"-\",0,C100)","v":0},"-",{"$f":"IF(E100=\"-\",0,E100)","v":0},"-",{"$f":"IF(G100=\"-\",0,G100)","v":0},"-",{"$f":"IF(I100=\"-\",0,I100)","v":0},"-",{"$f":"IF(K100=\"-\",0,K100)","v":0},{"$f":"Table10[[#This Row],[School]]","v":"-"},{"$f":"D100+F100+H100+J100+L100","v":0},{"$f":"MAX(C100,E100,G100,I100,K100)","v":0},{"$f":"IF(Q100=1,N100,IF(Q100=0,(N100-O100),\"-\"))","v":"-"},{"$f":"$L$1-Table10[Competed Count]","v":4},{"$f":"IF(Q100<2,\"Yes\",\"No\")","v":"No"},{"$f":"AND($C$1=\"Y\",D100>0)","v":false},{"$f":"AND($E$1=\"Y\",F100>0)","v":false},{"$f":"AND($G$1=\"Y\",H100>0)","v":false},{"$f":"AND($I$1=\"Y\",J100>0)","v":false},{"$f":"AND($K$1=\"Y\",L100>0)","v":false},{"$f":"COUNTIF(Table10[[#This Row],[Competed 1]:[Competed 5]],\"=TRUE\")","v":0}]
[null,"-","-",{"$f":"IF(C101=\"-\",0,C101)","v":0},"-",{"$f":"IF(E101=\"-\",0,E101)","v":0},"-",{"$f":"IF(G101=\"-\",0,G101)","v":0},"-",{"$f":"IF(I101=\"-\",0,I101)","v":0},"-",{"$f":"IF(K101=\"-\",0,K101)","v":0},{"$f":"Table10[[#This Row],[School]]","v":"-"},{"$f":"D101+F101+H101+J101+L101","v":0},{"$f":"MAX(C101,E101,G101,I101,K101)","v":0},{"$f":"IF(Q101=1,N101,IF(Q101=0,(N101-O101),\"-\"))","v":"-"},{"$f":"$L$1-Table10[Competed Count]","v":4},{"$f":"IF(Q101<2,\"Yes\",\"No\")","v":"No"},{"$f":"AND($C$1=\"Y\",D101>0)","v":false},{"$f":"AND($E$1=\"Y\",F101>0)","v":false},{"$f":"AND($G$1=\"Y\",H101>0)","v":false},{"$f":"AND($I$1=\"Y\",J101>0)","v":false},{"$f":"AND($K$1=\"Y\",L101>0)","v":false},{"$f":"COUNTIF(Table10[[#This Row],[Competed 1]:[Competed 5]],\"=TRUE\")","v":0}]
[null,"-","-",{"$f":"IF(C102=\"-\",0,C102)","v":0},"-",{"$f":"IF(E102=\"-\",0,E102)","v":0},"-",{"$f":"IF(G102=\"-\",0,G102)","v":0},"-",{"$f":"IF(I102=\"-\",0,I102)","v":0},"-",{"$f":"IF(K102=\"-\",0,K102)","v":0},{"$f":"Table10[[#This Row],[School]]","v":"-"},{"$f":"D102+F102+H102+J102+L102","v":0},{"$f":"MAX(C102,E102,G102,I102,K102)","v":0},{"$f":"IF(Q102=1,N102,IF(Q102=0,(N102-O102),\"-\"))","v":"-"},{"$f":"$L$1-Table10[Competed Count]","v":4},{"$f":"IF(Q102<2,\"Yes\",\"No\")","v":"No"},{"$f":"AND($C$1=\"Y\",D102>0)","v":false},{"$f":"AND($E$1=\"Y\",F102>0)","v":false},{"$f":"AND($G$1=\"Y\",H102>0)","v":false},{"$f":"AND($I$1=\"Y\",J102>0)","v":false},{"$f":"AND($K$1=\"Y\",L102>0)","v":false},{"$f":"COUNTIF(Table10[[#This Row],[Competed 1]:[Competed 5]],\"=TRUE\")","v":0}]
[null,"-","-",{"$f":"IF(C103=\"-\",0,C103)","v":0},"-",{"$f":"IF(E103=\"-\",0,E103)","v":0},"-",{"$f":"IF(G103=\"-\",0,G103)","v":0},"-",{"$f":"IF(I103=\"-\",0,I103)","v":0},"-",{"$f":"IF(K103=\"-\",0,K103)","v":0},{"$f":"Table10[[#This Row],[School]]","v":"-"},{"$f":"D103+F103+H103+J103+L103","v":0},{"$f":"MAX(C103,E103,G103,I103,K103)","v":0},{"$f":"IF(Q103=1,N103,IF(Q103=0,(N103-O103),\"-\"))","v":"-"},{"$f":"$L$1-Table10[Competed Count]","v":4},{"$f":"IF(Q103<2,\"Yes\",\"No\")","v":"No"},{"$f":"AND($C$1=\"Y\",D103>0)","v":false},{"$f":"AND($E$1=\"Y\",F103>0)","v":false},{"$f":"AND($G$1=\"Y\",H103>0)","v":false},{"$f":"AND($I$1=\"Y\",J103>0)","v":false},{"$f":"AND($K$1=\"Y\",L103>0)","v":false},{"$f":"COUNTIF(Table10[[#This Row],[Competed 1]:[Competed 5]],\"=TRUE\")","v":0}]
[null,"-","-",{"$f":"IF(C104=\"-\",0,C104)","v":0},"-",{"$f":"IF(E104=\"-\",0,E104)","v":0},"-",{"$f":"IF(G104=\"-\",0,G104)","v":0},"-",{"$f":"IF(I104=\"-\",0,I104)","v":0},"-",{"$f":"IF(K104=\"-\",0,K104)","v":0},{"$f":"Table10[[#This Row],[School]]","v":"-"},{"$f":"D104+F104+H104+J104+L104","v":0},{"$f":"MAX(C104,E104,G104,I104,K104)","v":0},{"$f":"IF(Q104=1,N104,IF(Q104=0,(N104-O104),\"-\"))","v":"-"},{"$f":"$L$1-Table10[Competed Count]","v":4},{"$f":"IF(Q104<2,\"Yes\",\"No\")","v":"No"},{"$f":"AND($C$1=\"Y\",D104>0)","v":false},{"$f":"AND($E$1=\"Y\",F104>0)","v":false},{"$f":"AND($G$1=\"Y\",H104>0)","v":false},{"$f":"AND($I$1=\"Y\",J104>0)","v":false},{"$f":"AND($K$1=\"Y\",L104>0)","v":false},{"$f":"COUNTIF(Table10[[#This Row],[Competed 1]:[Competed 5]],\"=TRUE\")","v":0}]
[null,"-","-",{"$f":"IF(C105=\"-\",0,C105)","v":0},"-",{"$f":"IF(E105=\"-\",0,E105)","v":0},"-",{"$f":"IF(G105=\"-\",0,G105)","v":0},"-",{"$f":"IF(I105=\"-\",0,I105)","v":0},"-",{"$f":"IF(K105=\"-\",0,K105)","v":0},{"$f":"Table10[[#This Row],[School]]","v":"-"},{"$f":"D105+F105+H105+J105+L105","v":0},{"$f":"MAX(C105,E105,G105,I105,K105)","v":0},{"$f":"IF(Q105=1,N105,IF(Q105=0,(N105-O105),\"-\"))","v":"-"},{"$f":"$L$1-Table10[Competed Count]","v":4},{"$f":"IF(Q105<2,\"Yes\",\"No\")","v":"No"},{"$f":"AND($C$1=\"Y\",D105>0)","v":false},{"$f":"AND($E$1=\"Y\",F105>0)","v":false},{"$f":"AND($G$1=\"Y\",H105>0)","v":false},{"$f":"AND($I$1=\"Y\",J105>0)","v":false},{"$f":"AND($K$1=\"Y\",L105>0)","v":false},{"$f":"COUNTIF(Table10[[#This Row],[Competed 1]:[Competed 5]],\"=TRUE\")","v":0}]
[null,"-","-",{"$f":"IF(C106=\"-\",0,C106)","v":0},"-",{"$f":"IF(E106=\"-\",0,E106)","v":0},"-",{"$f":"IF(G106=\"-\",0,G106)","v":0},"-",{"$f":"IF(I106=\"-\",0,I106)","v":0},"-",{"$f":"IF(K106=\"-\",0,K106)","v":0},{"$f":"Table10[[#This Row],[School]]","v":"-"},{"$f":"D106+F106+H106+J106+L106","v":0},{"$f":"MAX(C106,E106,G106,I106,K106)","v":0},{"$f":"IF(Q106=1,N106,IF(Q106=0,(N106-O106),\"-\"))","v":"-"},{"$f":"$L$1-Table10[Competed Count]","v":4},{"$f":"IF(Q106<2,\"Yes\",\"No\")","v":"No"},{"$f":"AND($C$1=\"Y\",D106>0)","v":false},{"$f":"AND($E$1=\"Y\",F106>0)","v":false},{"$f":"AND($G$1=\"Y\",H106>0)","v":false},{"$f":"AND($I$1=\"Y\",J106>0)","v":false},{"$f":"AND($K$1=\"Y\",L106>0)","v":false},{"$f":"COUNTIF(Table10[[#This Row],[Competed 1]:[Competed 5]],\"=TRUE\")","v":0}]
[null,"-","-",{"$f":"IF(C107=\"-\",0,C107)","v":0},"-",{"$f":"IF(E107=\"-\",0,E107)","v":0},"-",{"$f":"IF(G107=\"-\",0,G107)","v":0},"-",{"$f":"IF(I107=\"-\",0,I107)","v":0},"-",{"$f":"IF(K107=\"-\",0,K107)","v":0},{"$f":"Table10[[#This Row],[School]]","v":"-"},{"$f":"D107+F107+H107+J107+L107","v":0},{"$f":"MAX(C107,E107,G107,I107,K107)","v":0},{"$f":"IF(Q107=1,N107,IF(Q107=0,(N107-O107),\"-\"))","v":"-"},{"$f":"$L$1-Table10[Competed Count]","v":4},{"$f":"IF(Q107<2,\"Yes\",\"No\")","v":"No"},{"$f":"AND($C$1=\"Y\",D107>0)","v":false},{"$f":"AND($E$1=\"Y\",F107>0)","v":false},{"$f":"AND($G$1=\"Y\",H107>0)","v":false},{"$f":"AND($I$1=\"Y\",J107>0)","v":false},{"$f":"AND($K$1=\"Y\",L107>0)","v":false},{"$f":"COUNTIF(Table10[[#This Row],[Competed 1]:[Competed 5]],\"=TRUE\")","v":0}]
[null,"-","-",{"$f":"IF(C108=\"-\",0,C108)","v":0},"-",{"$f":"IF(E108=\"-\",0,E108)","v":0},"-",{"$f":"IF(G108=\"-\",0,G108)","v":0},"-",{"$f":"IF(I108=\"-\",0,I108)","v":0},"-",{"$f":"IF(K108=\"-\",0,K108)","v":0},{"$f":"Table10[[#This Row],[School]]","v":"-"},{"$f":"D108+F108+H108+J108+L108","v":0},{"$f":"MAX(C108,E108,G108,I108,K108)","v":0},{"$f":"IF(Q108=1,N108,IF(Q108=0,(N108-O108),\"-\"))","v":"-"},{"$f":"$L$1-Table10[Competed Count]","v":4},{"$f":"IF(Q108<2,\"Yes\",\"No\")","v":"No"},{"$f":"AND($C$1=\"Y\",D108>0)","v":false},{"$f":"AND($E$1=\"Y\",F108>0)","v":false},{"$f":"AND($G$1=\"Y\",H108>0)","v":false},{"$f":"AND($I$1=\"Y\",J108>0)","v":false},{"$f":"AND($K$1=\"Y\",L108>0)","v":false},{"$f":"COUNTIF(Table10[[#This Row],[Competed 1]:[Competed 5]],\"=TRUE\")","v":0}]
[null,"-","-",{"$f":"IF(C109=\"-\",0,C109)","v":0},"-",{"$f":"IF(E109=\"-\",0,E109)","v":0},"-",{"$f":"IF(G109=\"-\",0,G109)","v":0},"-",{"$f":"IF(I109=\"-\",0,I109)","v":0},"-",{"$f":"IF(K109=\"-\",0,K109)","v":0},{"$f":"Table10[[#This Row],[School]]","v":"-"},{"$f":"D109+F109+H109+J109+L109","v":0},{"$f":"MAX(C109,E109,G109,I109,K109)","v":0},{"$f":"IF(Q109=1,N109,IF(Q109=0,(N109-O109),\"-\"))","v":"-"},{"$f":"$L$1-Table10[Competed Count]","v":4},{"$f":"IF(Q109<2,\"Yes\",\"No\")","v":"No"},{"$f":"AND($C$1=\"Y\",D109>0)","v":false},{"$f":"AND($E$1=\"Y\",F109>0)","v":false},{"$f":"AND($G$1=\"Y\",H109>0)","v":false},{"$f":"AND($I$1=\"Y\",J109>0)","v":false},{"$f":"AND($K$1=\"Y\",L109>0)","v":false},{"$f":"COUNTIF(Table10[[#This Row],[Competed 1]:[Competed 5]],\"=TRUE\")","v":0}]
[null,"-","-",{"$f":"IF(C110=\"-\",0,C110)","v":0},"-",{"$f":"IF(E110=\"-\",0,E110)","v":0},"-",{"$f":"IF(G110=\"-\",0,G110)","v":0},"-",{"$f":"IF(I110=\"-\",0,I110)","v":0},"-",{"$f":"IF(K110=\"-\",0,K110)","v":0},{"$f":"Table10[[#This Row],[School]]","v":"-"},{"$f":"D110+F110+H110+J110+L110","v":0},{"$f":"MAX(C110,E110,G110,I110,K110)","v":0},{"$f":"IF(Q110=1,N110,IF(Q110=0,(N110-O110),\"-\"))","v":"-"},{"$f":"$L$1-Table10[Competed Count]","v":4},{"$f":"IF(Q110<2,\"Yes\",\"No\")","v":"No"},{"$f":"AND($C$1=\"Y\",D110>0)","v":false},{"$f":"AND($E$1=\"Y\",F110>0)","v":false},{"$f":"AND($G$1=\"Y\",H110>0)","v":false},{"$f":"AND($I$1=\"Y\",J110>0)","v":false},{"$f":"AND($K$1=\"Y\",L110>0)","v":false},{"$f":"COUNTIF(Table10[[#This Row],[Competed 1]:[Competed 5]],\"=TRUE\")","v":0}]
[null,"-","-",{"$f":"IF(C111=\"-\",0,C111)","v":0},"-",{"$f":"IF(E111=\"-\",0,E111)","v":0},"-",{"$f":"IF(G111=\"-\",0,G111)","v":0},"-",{"$f":"IF(I111=\"-\",0,I111)","v":0},"-",{"$f":"IF(K111=\"-\",0,K111)","v":0},{"$f":"Table10[[#This Row],[School]]","v":"-"},{"$f":"D111+F111+H111+J111+L111","v":0},{"$f":"MAX(C111,E111,G111,I111,K111)","v":0},{"$f":"IF(Q111=1,N111,IF(Q111=0,(N111-O111),\"-\"))","v":"-"},{"$f":"$L$1-Table10[Competed Count]","v":4},{"$f":"IF(Q111<2,\"Yes\",\"No\")","v":"No"},{"$f":"AND($C$1=\"Y\",D111>0)","v":false},{"$f":"AND($E$1=\"Y\",F111>0)","v":false},{"$f":"AND($G$1=\"Y\",H111>0)","v":false},{"$f":"AND($I$1=\"Y\",J111>0)","v":false},{"$f":"AND($K$1=\"Y\",L111>0)","v":false},{"$f":"COUNTIF(Table10[[#This Row],[Competed 1]:[Competed 5]],\"=TRUE\")","v":0}]
[null,"-","-",{"$f":"IF(C112=\"-\",0,C112)","v":0},"-",{"$f":"IF(E112=\"-\",0,E112)","v":0},"-",{"$f":"IF(G112=\"-\",0,G112)","v":0},"-",{"$f":"IF(I112=\"-\",0,I112)","v":0},"-",{"$f":"IF(K112=\"-\",0,K112)","v":0},{"$f":"Table10[[#This Row],[School]]","v":"-"},{"$f":"D112+F112+H112+J112+L112","v":0},{"$f":"MAX(C112,E112,G112,I112,K112)","v":0},{"$f":"IF(Q112=1,N112,IF(Q112=0,(N112-O112),\"-\"))","v":"-"},{"$f":"$L$1-Table10[Competed Count]","v":4},{"$f":"IF(Q112<2,\"Yes\",\"No\")","v":"No"},{"$f":"AND($C$1=\"Y\",D112>0)","v":false},{"$f":"AND($E$1=\"Y\",F112>0)","v":false},{"$f":"AND($G$1=\"Y\",H112>0)","v":false},{"$f":"AND($I$1=\"Y\",J112>0)","v":false},{"$f":"AND($K$1=\"Y\",L112>0)","v":false},{"$f":"COUNTIF(Table10[[#This Row],[Competed 1]:[Competed 5]],\"=TRUE\")","v":0}]
[null,"-","-",{"$f":"IF(C113=\"-\",0,C113)","v":0},"-",{"$f":"IF(E113=\"-\",0,E113)","v":0},"-",{"$f":"IF(G113=\"-\",0,G113)","v":0},"-",{"$f":"IF(I113=\"-\",0,I113)","v":0},"-",{"$f":"IF(K113=\"-\",0,K113)","v":0},{"$f":"Table10[[#This Row],[School]]","v":"-"},{"$f":"D113+F113+H113+J113+L113","v":0},{"$f":"MAX(C113,E113,G113,I113,K113)","v":0},{"$f":"IF(Q113=1,N113,IF(Q113=0,(N113-O113),\"-\"))","v":"-"},{"$f":"$L$1-Table10[Competed Count]","v":4},{"$f":"IF(Q113<2,\"Yes\",\"No\")","v":"No"},{"$f":"AND($C$1=\"Y\",D113>0)","v":false},{"$f":"AND($E$1=\"Y\",F113>0)","v":false},{"$f":"AND($G$1=\"Y\",H113>0)","v":false},{"$f":"AND($I$1=\"Y\",J113>0)","v":false},{"$f":"AND($K$1=\"Y\",L113>0)","v":false},{"$f":"COUNTIF(Table10[[#This Row],[Competed 1]:[Competed 5]],\"=TRUE\")","v":0}]
[null,"-","-",{"$f":"IF(C114=\"-\",0,C114)","v":0},"-",{"$f":"IF(E114=\"-\",0,E114)","v":0},"-",{"$f":"IF(G114=\"-\",0,G114)","v":0},"-",{"$f":"IF(I114=\"-\",0,I114)","v":0},"-",{"$f":"IF(K114=\"-\",0,K114)","v":0},{"$f":"Table10[[#This Row],[School]]","v":"-"},{"$f":"D114+F114+H114+J114+L114","v":0},{"$f":"MAX(C114,E114,G114,I114,K114)","v":0},{"$f":"IF(Q114=1,N114,IF(Q114=0,(N114-O114),\"-\"))","v":"-"},{"$f":"$L$1-Table10[Competed Count]","v":4},{"$f":"IF(Q114<2,\"Yes\",\"No\")","v":"No"},{"$f":"AND($C$1=\"Y\",D114>0)","v":false},{"$f":"AND($E$1=\"Y\",F114>0)","v":false},{"$f":"AND($G$1=\"Y\",H114>0)","v":false},{"$f":"AND($I$1=\"Y\",J114>0)","v":false},{"$f":"AND($K$1=\"Y\",L114>0)","v":false},{"$f":"COUNTIF(Table10[[#This Row],[Competed 1]:[Competed 5]],\"=TRUE\")","v":0}]
[null,"-","-",{"$f":"IF(C115=\"-\",0,C115)","v":0},"-",{"$f":"IF(E115=\"-\",0,E115)","v":0},"-",{"$f":"IF(G115=\"-\",0,G115)","v":0},"-",{"$f":"IF(I115=\"-\",0,I115)","v":0},"-",{"$f":"IF(K115=\"-\",0,K115)","v":0},{"$f":"Table10[[#This Row],[School]]","v":"-"},{"$f":"D115+F115+H115+J115+L115","v":0},{"$f":"MAX(C115,E115,G115,I115,K115)","v":0},{"$f":"IF(Q115=1,N115,IF(Q115=0,(N115-O115),\"-\"))","v":"-"},{"$f":"$L$1-Table10[Competed Count]","v":4},{"$f":"IF(Q115<2,\"Yes\",\"No\")","v":"No"},{"$f":"AND($C$1=\"Y\",D115>0)","v":false},{"$f":"AND($E$1=\"Y\",F115>0)","v":false},{"$f":"AND($G$1=\"Y\",H115>0)","v":false},{"$f":"AND($I$1=\"Y\",J115>0)","v":false},{"$f":"AND($K$1=\"Y\",L115>0)","v":false},{"$f":"COUNTIF(Table10[[#This Row],[Competed 1]:[Competed 5]],\"=TRUE\")","v":0}]
[null,"-","-",{"$f":"IF(C116=\"-\",0,C116)","v":0},"-",{"$f":"IF(E116=\"-\",0,E116)","v":0},"-",{"$f":"IF(G116=\"-\",0,G116)","v":0},"-",{"$f":"IF(I116=\"-\",0,I116)","v":0},"-",{"$f":"IF(K116=\"-\",0,K116)","v":0},{"$f":"Table10[[#This Row],[School]]","v":"-"},{"$f":"D116+F116+H116+J116+L116","v":0},{"$f":"MAX(C116,E116,G116,I116,K116)","v":0},{"$f":"IF(Q116=1,N116,IF(Q116=0,(N116-O116),\"-\"))","v":"-"},{"$f":"$L$1-Table10[Competed Count]","v":4},{"$f":"IF(Q116<2,\"Yes\",\"No\")","v":"No"},{"$f":"AND($C$1=\"Y\",D116>0)","v":false},{"$f":"AND($E$1=\"Y\",F116>0)","v":false},{"$f":"AND($G$1=\"Y\",H116>0)","v":false},{"$f":"AND($I$1=\"Y\",J116>0)","v":false},{"$f":"AND($K$1=\"Y\",L116>0)","v":false},{"$f":"COUNTIF(Table10[[#This Row],[Competed 1]:[Competed 5]],\"=TRUE\")","v":0}]
[null,"-","-",{"$f":"IF(C117=\"-\",0,C117)","v":0},"-",{"$f":"IF(E117=\"-\",0,E117)","v":0},"-",{"$f":"IF(G117=\"-\",0,G117)","v":0},"-",{"$f":"IF(I117=\"-\",0,I117)","v":0},"-",{"$f":"IF(K117=\"-\",0,K117)","v":0},{"$f":"Table10[[#This Row],[School]]","v":"-"},{"$f":"D117+F117+H117+J117+L117","v":0},{"$f":"MAX(C117,E117,G117,I117,K117)","v":0},{"$f":"IF(Q117=1,N117,IF(Q117=0,(N117-O117),\"-\"))","v":"-"},{"$f":"$L$1-Table10[Competed Count]","v":4},{"$f":"IF(Q117<2,\"Yes\",\"No\")","v":"No"},{"$f":"AND($C$1=\"Y\",D117>0)","v":false},{"$f":"AND($E$1=\"Y\",F117>0)","v":false},{"$f":"AND($G$1=\"Y\",H117>0)","v":false},{"$f":"AND($I$1=\"Y\",J117>0)","v":false},{"$f":"AND($K$1=\"Y\",L117>0)","v":false},{"$f":"COUNTIF(Table10[[#This Row],[Competed 1]:[Competed 5]],\"=TRUE\")","v":0}]
[null,"-","-",{"$f":"IF(C118=\"-\",0,C118)","v":0},"-",{"$f":"IF(E118=\"-\",0,E118)","v":0},"-",{"$f":"IF(G118=\"-\",0,G118)","v":0},"-",{"$f":"IF(I118=\"-\",0,I118)","v":0},"-",{"$f":"IF(K118=\"-\",0,K118)","v":0},{"$f":"Table10[[#This Row],[School]]","v":"-"},{"$f":"D118+F118+H118+J118+L118","v":0},{"$f":"MAX(C118,E118,G118,I118,K118)","v":0},{"$f":"IF(Q118=1,N118,IF(Q118=0,(N118-O118),\"-\"))","v":"-"},{"$f":"$L$1-Table10[Competed Count]","v":4},{"$f":"IF(Q118<2,\"Yes\",\"No\")","v":"No"},{"$f":"AND($C$1=\"Y\",D118>0)","v":false},{"$f":"AND($E$1=\"Y\",F118>0)","v":false},{"$f":"AND($G$1=\"Y\",H118>0)","v":false},{"$f":"AND($I$1=\"Y\",J118>0)","v":false},{"$f":"AND($K$1=\"Y\",L118>0)","v":false},{"$f":"COUNTIF(Table10[[#This Row],[Competed 1]:[Competed 5]],\"=TRUE\")","v":0}]
[null,"-","-",{"$f":"IF(C119=\"-\",0,C119)","v":0},"-",{"$f":"IF(E119=\"-\",0,E119)","v":0},"-",{"$f":"IF(G119=\"-\",0,G119)","v":0},"-",{"$f":"IF(I119=\"-\",0,I119)","v":0},"-",{"$f":"IF(K119=\"-\",0,K119)","v":0},{"$f":"Table10[[#This Row],[School]]","v":"-"},{"$f":"D119+F119+H119+J119+L119","v":0},{"$f":"MAX(C119,E119,G119,I119,K119)","v":0},{"$f":"IF(Q119=1,N119,IF(Q119=0,(N119-O119),\"-\"))","v":"-"},{"$f":"$L$1-Table10[Competed Count]","v":4},{"$f":"IF(Q119<2,\"Yes\",\"No\")","v":"No"},{"$f":"AND($C$1=\"Y\",D119>0)","v":false},{"$f":"AND($E$1=\"Y\",F119>0)","v":false},{"$f":"AND($G$1=\"Y\",H119>0)","v":false},{"$f":"AND($I$1=\"Y\",J119>0)","v":false},{"$f":"AND($K$1=\"Y\",L119>0)","v":false},{"$f":"COUNTIF(Table10[[#This Row],[Competed 1]:[Competed 5]],\"=TRUE\")","v":0}]
[null,"-","-",{"$f":"IF(C120=\"-\",0,C120)","v":0},"-",{"$f":"IF(E120=\"-\",0,E120)","v":0},"-",{"$f":"IF(G120=\"-\",0,G120)","v":0},"-",{"$f":"IF(I120=\"-\",0,I120)","v":0},"-",{"$f":"IF(K120=\"-\",0,K120)","v":0},{"$f":"Table10[[#This Row],[School]]","v":"-"},{"$f":"D120+F120+H120+J120+L120","v":0},{"$f":"MAX(C120,E120,G120,I120,K120)","v":0},{"$f":"IF(Q120=1,N120,IF(Q120=0,(N120-O120),\"-\"))","v":"-"},{"$f":"$L$1-Table10[Competed Count]","v":4},{"$f":"IF(Q120<2,\"Yes\",\"No\")","v":"No"},{"$f":"AND($C$1=\"Y\",D120>0)","v":false},{"$f":"AND($E$1=\"Y\",F120>0)","v":false},{"$f":"AND($G$1=\"Y\",H120>0)","v":false},{"$f":"AND($I$1=\"Y\",J120>0)","v":false},{"$f":"AND($K$1=\"Y\",L120>0)","v":false},{"$f":"COUNTIF(Table10[[#This Row],[Competed 1]:[Competed 5]],\"=TRUE\")","v":0}]
[null,"-","-",{"$f":"IF(C121=\"-\",0,C121)","v":0},"-",{"$f":"IF(E121=\"-\",0,E121)","v":0},"-",{"$f":"IF(G121=\"-\",0,G121)","v":0},"-",{"$f":"IF(I121=\"-\",0,I121)","v":0},"-",{"$f":"IF(K121=\"-\",0,K121)","v":0},{"$f":"Table10[[#This Row],[School]]","v":"-"},{"$f":"D121+F121+H121+J121+L121","v":0},{"$f":"MAX(C121,E121,G121,I121,K121)","v":0},{"$f":"IF(Q121=1,N121,IF(Q121=0,(N121-O121),\"-\"))","v":"-"},{"$f":"$L$1-Table10[Competed Count]","v":4},{"$f":"IF(Q121<2,\"Yes\",\"No\")","v":"No"},{"$f":"AND($C$1=\"Y\",D121>0)","v":false},{"$f":"AND($E$1=\"Y\",F121>0)","v":false},{"$f":"AND($G$1=\"Y\",H121>0)","v":false},{"$f":"AND($I$1=\"Y\",J121>0)","v":false},{"$f":"AND($K$1=\"Y\",L121>0)","v":false},{"$f":"COUNTIF(Table10[[#This Row],[Competed 1]:[Competed 5]],\"=TRUE\")","v":0}]
[null,"-","-",{"$f":"IF(C122=\"-\",0,C122)","v":0},"-",{"$f":"IF(E122=\"-\",0,E122)","v":0},"-",{"$f":"IF(G122=\"-\",0,G122)","v":0},"-",{"$f":"IF(I122=\"-\",0,I122)","v":0},"-",{"$f":"IF(K122=\"-\",0,K122)","v":0},{"$f":"Table10[[#This Row],[School]]","v":"-"},{"$f":"D122+F122+H122+J122+L122","v":0},{"$f":"MAX(C122,E122,G122,I122,K122)","v":0},{"$f":"IF(Q122=1,N122,IF(Q122=0,(N122-O122),\"-\"))","v":"-"},{"$f":"$L$1-Table10[Competed Count]","v":4},{"$f":"IF(Q122<2,\"Yes\",\"No\")","v":"No"},{"$f":"AND($C$1=\"Y\",D122>0)","v":false},{"$f":"AND($E$1=\"Y\",F122>0)","v":false},{"$f":"AND($G$1=\"Y\",H122>0)","v":false},{"$f":"AND($I$1=\"Y\",J122>0)","v":false},{"$f":"AND($K$1=\"Y\",L122>0)","v":false},{"$f":"COUNTIF(Table10[[#This Row],[Competed 1]:[Competed 5]],\"=TRUE\")","v":0}]
[null,"-","-",{"$f":"IF(C123=\"-\",0,C123)","v":0},"-",{"$f":"IF(E123=\"-\",0,E123)","v":0},"-",{"$f":"IF(G123=\"-\",0,G123)","v":0},"-",{"$f":"IF(I123=\"-\",0,I123)","v":0},"-",{"$f":"IF(K123=\"-\",0,K123)","v":0},{"$f":"Table10[[#This Row],[School]]","v":"-"},{"$f":"D123+F123+H123+J123+L123","v":0},{"$f":"MAX(C123,E123,G123,I123,K123)","v":0},{"$f":"IF(Q123=1,N123,IF(Q123=0,(N123-O123),\"-\"))","v":"-"},{"$f":"$L$1-Table10[Competed Count]","v":4},{"$f":"IF(Q123<2,\"Yes\",\"No\")","v":"No"},{"$f":"AND($C$1=\"Y\",D123>0)","v":false},{"$f":"AND($E$1=\"Y\",F123>0)","v":false},{"$f":"AND($G$1=\"Y\",H123>0)","v":false},{"$f":"AND($I$1=\"Y\",J123>0)","v":false},{"$f":"AND($K$1=\"Y\",L123>0)","v":false},{"$f":"COUNTIF(Table10[[#This Row],[Competed 1]:[Competed 5]],\"=TRUE\")","v":0}]
[null,"-","-",{"$f":"IF(C124=\"-\",0,C124)","v":0},"-",{"$f":"IF(E124=\"-\",0,E124)","v":0},"-",{"$f":"IF(G124=\"-\",0,G124)","v":0},"-",{"$f":"IF(I124=\"-\",0,I124)","v":0},"-",{"$f":"IF(K124=\"-\",0,K124)","v":0},{"$f":"Table10[[#This Row],[School]]","v":"-"},{"$f":"D124+F124+H124+J124+L124","v":0},{"$f":"MAX(C124,E124,G124,I124,K124)","v":0},{"$f":"IF(Q124=1,N124,IF(Q124=0,(N124-O124),\"-\"))","v":"-"},{"$f":"$L$1-Table10[Competed Count]","v":4},{"$f":"IF(Q124<2,\"Yes\",\"No\")","v":"No"},{"$f":"AND($C$1=\"Y\",D124>0)","v":false},{"$f":"AND($E$1=\"Y\",F124>0)","v":false},{"$f":"AND($G$1=\"Y\",H124>0)","v":false},{"$f":"AND($I$1=\"Y\",J124>0)","v":false},{"$f":"AND($K$1=\"Y\",L124>0)","v":false},{"$f":"COUNTIF(Table10[[#This Row],[Competed 1]:[Competed 5]],\"=TRUE\")","v":0}]
[null,"-","-",{"$f":"IF(C125=\"-\",0,C125)","v":0},"-",{"$f":"IF(E125=\"-\",0,E125)","v":0},"-",{"$f":"IF(G125=\"-\",0,G125)","v":0},"-",{"$f":"IF(I125=\"-\",0,I125)","v":0},"-",{"$f":"IF(K125=\"-\",0,K125)","v":0},{"$f":"Table10[[#This Row],[School]]","v":"-"},{"$f":"D125+F125+H125+J125+L125","v":0},{"$f":"MAX(C125,E125,G125,I125,K125)","v":0},{"$f":"IF(Q125=1,N125,IF(Q125=0,(N125-O125),\"-\"))","v":"-"},{"$f":"$L$1-Table10[Competed Count]","v":4},{"$f":"IF(Q125<2,\"Yes\",\"No\")","v":"No"},{"$f":"AND($C$1=\"Y\",D125>0)","v":false},{"$f":"AND($E$1=\"Y\",F125>0)","v":false},{"$f":"AND($G$1=\"Y\",H125>0)","v":false},{"$f":"AND($I$1=\"Y\",J125>0)","v":false},{"$f":"AND($K$1=\"Y\",L125>0)","v":false},{"$f":"COUNTIF(Table10[[#This Row],[Competed 1]:[Competed 5]],\"=TRUE\")","v":0}]
[null,"-","-",{"$f":"IF(C126=\"-\",0,C126)","v":0},"-",{"$f":"IF(E126=\"-\",0,E126)","v":0},"-",{"$f":"IF(G126=\"-\",0,G126)","v":0},"-",{"$f":"IF(I126=\"-\",0,I126)","v":0},"-",{"$f":"IF(K126=\"-\",0,K126)","v":0},{"$f":"Table10[[#This Row],[School]]","v":"-"},{"$f":"D126+F126+H126+J126+L126","v":0},{"$f":"MAX(C126,E126,G126,I126,K126)","v":0},{"$f":"IF(Q126=1,N126,IF(Q126=0,(N126-O126),\"-\"))","v":"-"},{"$f":"$L$1-Table10[Competed Count]","v":4},{"$f":"IF(Q126<2,\"Yes\",\"No\")","v":"No"},{"$f":"AND($C$1=\"Y\",D126>0)","v":false},{"$f":"AND($E$1=\"Y\",F126>0)","v":false},{"$f":"AND($G$1=\"Y\",H126>0)","v":false},{"$f":"AND($I$1=\"Y\",J126>0)","v":false},{"$f":"AND($K$1=\"Y\",L126>0)","v":false},{"$f":"COUNTIF(Table10[[#This Row],[Competed 1]:[Competed 5]],\"=TRUE\")","v":0}]
[null,"-","-",{"$f":"IF(C127=\"-\",0,C127)","v":0},"-",{"$f":"IF(E127=\"-\",0,E127)","v":0},"-",{"$f":"IF(G127=\"-\",0,G127)","v":0},"-",{"$f":"IF(I127=\"-\",0,I127)","v":0},"-",{"$f":"IF(K127=\"-\",0,K127)","v":0},{"$f":"Table10[[#This Row],[School]]","v":"-"},{"$f":"D127+F127+H127+J127+L127","v":0},{"$f":"MAX(C127,E127,G127,I127,K127)","v":0},{"$f":"IF(Q127=1,N127,IF(Q127=0,(N127-O127),\"-\"))","v":"-"},{"$f":"$L$1-Table10[Competed Count]","v":4},{"$f":"IF(Q127<2,\"Yes\",\"No\")","v":"No"},{"$f":"AND($C$1=\"Y\",D127>0)","v":false},{"$f":"AND($E$1=\"Y\",F127>0)","v":false},{"$f":"AND($G$1=\"Y\",H127>0)","v":false},{"$f":"AND($I$1=\"Y\",J127>0)","v":false},{"$f":"AND($K$1=\"Y\",L127>0)","v":false},{"$f":"COUNTIF(Table10[[#This Row],[Competed 1]:[Competed 5]],\"=TRUE\")","v":0}]
[null,"-","-",{"$f":"IF(C128=\"-\",0,C128)","v":0},"-",{"$f":"IF(E128=\"-\",0,E128)","v":0},"-",{"$f":"IF(G128=\"-\",0,G128)","v":0},"-",{"$f":"IF(I128=\"-\",0,I128)","v":0},"-",{"$f":"IF(K128=\"-\",0,K128)","v":0},{"$f":"Table10[[#This Row],[School]]","v":"-"},{"$f":"D128+F128+H128+J128+L128","v":0},{"$f":"MAX(C128,E128,G128,I128,K128)","v":0},{"$f":"IF(Q128=1,N128,IF(Q128=0,(N128-O128),\"-\"))","v":"-"},{"$f":"$L$1-Table10[Competed Count]","v":4},{"$f":"IF(Q128<2,\"Yes\",\"No\")","v":"No"},{"$f":"AND($C$1=\"Y\",D128>0)","v":false},{"$f":"AND($E$1=\"Y\",F128>0)","v":false},{"$f":"AND($G$1=\"Y\",H128>0)","v":false},{"$f":"AND($I$1=\"Y\",J128>0)","v":false},{"$f":"AND($K$1=\"Y\",L128>0)","v":false},{"$f":"COUNTIF(Table10[[#This Row],[Competed 1]:[Competed 5]],\"=TRUE\")","v":0}]
[null,"-","-",{"$f":"IF(C129=\"-\",0,C129)","v":0},"-",{"$f":"IF(E129=\"-\",0,E129)","v":0},"-",{"$f":"IF(G129=\"-\",0,G129)","v":0},"-",{"$f":"IF(I129=\"-\",0,I129)","v":0},"-",{"$f":"IF(K129=\"-\",0,K129)","v":0},{"$f":"Table10[[#This Row],[School]]","v":"-"},{"$f":"D129+F129+H129+J129+L129","v":0},{"$f":"MAX(C129,E129,G129,I129,K129)","v":0},{"$f":"IF(Q129=1,N129,IF(Q129=0,(N129-O129),\"-\"))","v":"-"},{"$f":"$L$1-Table10[Competed Count]","v":4},{"$f":"IF(Q129<2,\"Yes\",\"No\")","v":"No"},{"$f":"AND($C$1=\"Y\",D129>0)","v":false},{"$f":"AND($E$1=\"Y\",F129>0)","v":false},{"$f":"AND($G$1=\"Y\",H129>0)","v":false},{"$f":"AND($I$1=\"Y\",J129>0)","v":false},{"$f":"AND($K$1=\"Y\",L129>0)","v":false},{"$f":"COUNTIF(Table10[[#This Row],[Competed 1]:[Competed 5]],\"=TRUE\")","v":0}]
[null,"-","-",{"$f":"IF(C130=\"-\",0,C130)","v":0},"-",{"$f":"IF(E130=\"-\",0,E130)","v":0},"-",{"$f":"IF(G130=\"-\",0,G130)","v":0},"-",{"$f":"IF(I130=\"-\",0,I130)","v":0},"-",{"$f":"IF(K130=\"-\",0,K130)","v":0},{"$f":"Table10[[#This Row],[School]]","v":"-"},{"$f":"D130+F130+H130+J130+L130","v":0},{"$f":"MAX(C130,E130,G130,I130,K130)","v":0},{"$f":"IF(Q130=1,N130,IF(Q130=0,(N130-O130),\"-\"))","v":"-"},{"$f":"$L$1-Table10[Competed Count]","v":4},{"$f":"IF(Q130<2,\"Yes\",\"No\")","v":"No"},{"$f":"AND($C$1=\"Y\",D130>0)","v":false},{"$f":"AND($E$1=\"Y\",F130>0)","v":false},{"$f":"AND($G$1=\"Y\",H130>0)","v":false},{"$f":"AND($I$1=\"Y\",J130>0)","v":false},{"$f":"AND($K$1=\"Y\",L130>0)","v":false},{"$f":"COUNTIF(Table10[[#This Row],[Competed 1]:[Competed 5]],\"=TRUE\")","v":0}]
[null,"-","-",{"$f":"IF(C131=\"-\",0,C131)","v":0},"-",{"$f":"IF(E131=\"-\",0,E131)","v":0},"-",{"$f":"IF(G131=\"-\",0,G131)","v":0},"-",{"$f":"IF(I131=\"-\",0,I131)","v":0},"-",{"$f":"IF(K131=\"-\",0,K131)","v":0},{"$f":"Table10[[#This Row],[School]]","v":"-"},{"$f":"D131+F131+H131+J131+L131","v":0},{"$f":"MAX(C131,E131,G131,I131,K131)","v":0},{"$f":"IF(Q131=1,N131,IF(Q131=0,(N131-O131),\"-\"))","v":"-"},{"$f":"$L$1-Table10[Competed Count]","v":4},{"$f":"IF(Q131<2,\"Yes\",\"No\")","v":"No"},{"$f":"AND($C$1=\"Y\",D131>0)","v":false},{"$f":"AND($E$1=\"Y\",F131>0)","v":false},{"$f":"AND($G$1=\"Y\",H131>0)","v":false},{"$f":"AND($I$1=\"Y\",J131>0)","v":false},{"$f":"AND($K$1=\"Y\",L131>0)","v":false},{"$f":"COUNTIF(Table10[[#This Row],[Competed 1]:[Competed 5]],\"=TRUE\")","v":0}]
[null,"-","-",{"$f":"IF(C132=\"-\",0,C132)","v":0},"-",{"$f":"IF(E132=\"-\",0,E132)","v":0},"-",{"$f":"IF(G132=\"-\",0,G132)","v":0},"-",{"$f":"IF(I132=\"-\",0,I132)","v":0},"-",{"$f":"IF(K132=\"-\",0,K132)","v":0},{"$f":"Table10[[#This Row],[School]]","v":"-"},{"$f":"D132+F132+H132+J132+L132","v":0},{"$f":"MAX(C132,E132,G132,I132,K132)","v":0},{"$f":"IF(Q132=1,N132,IF(Q132=0,(N132-O132),\"-\"))","v":"-"},{"$f":"$L$1-Table10[Competed Count]","v":4},{"$f":"IF(Q132<2,\"Yes\",\"No\")","v":"No"},{"$f":"AND($C$1=\"Y\",D132>0)","v":false},{"$f":"AND($E$1=\"Y\",F132>0)","v":false},{"$f":"AND($G$1=\"Y\",H132>0)","v":false},{"$f":"AND($I$1=\"Y\",J132>0)","v":false},{"$f":"AND($K$1=\"Y\",L132>0)","v":false},{"$f":"COUNTIF(Table10[[#This Row],[Competed 1]:[Competed 5]],\"=TRUE\")","v":0}]
[null,"-","-",{"$f":"IF(C133=\"-\",0,C133)","v":0},"-",{"$f":"IF(E133=\"-\",0,E133)","v":0},"-",{"$f":"IF(G133=\"-\",0,G133)","v":0},"-",{"$f":"IF(I133=\"-\",0,I133)","v":0},"-",{"$f":"IF(K133=\"-\",0,K133)","v":0},{"$f":"Table10[[#This Row],[School]]","v":"-"},{"$f":"D133+F133+H133+J133+L133","v":0},{"$f":"MAX(C133,E133,G133,I133,K133)","v":0},{"$f":"IF(Q133=1,N133,IF(Q133=0,(N133-O133),\"-\"))","v":"-"},{"$f":"$L$1-Table10[Competed Count]","v":4},{"$f":"IF(Q133<2,\"Yes\",\"No\")","v":"No"},{"$f":"AND($C$1=\"Y\",D133>0)","v":false},{"$f":"AND($E$1=\"Y\",F133>0)","v":false},{"$f":"AND($G$1=\"Y\",H133>0)","v":false},{"$f":"AND($I$1=\"Y\",J133>0)","v":false},{"$f":"AND($K$1=\"Y\",L133>0)","v":false},{"$f":"COUNTIF(Table10[[#This Row],[Competed 1]:[Competed 5]],\"=TRUE\")","v":0}]
[null,"-","-",{"$f":"IF(C134=\"-\",0,C134)","v":0},"-",{"$f":"IF(E134=\"-\",0,E134)","v":0},"-",{"$f":"IF(G134=\"-\",0,G134)","v":0},"-",{"$f":"IF(I134=\"-\",0,I134)","v":0},"-",{"$f":"IF(K134=\"-\",0,K134)","v":0},{"$f":"Table10[[#This Row],[School]]","v":"-"},{"$f":"D134+F134+H134+J134+L134","v":0},{"$f":"MAX(C134,E134,G134,I134,K134)","v":0},{"$f":"IF(Q134=1,N134,IF(Q134=0,(N134-O134),\"-\"))","v":"-"},{"$f":"$L$1-Table10[Competed Count]","v":4},{"$f":"IF(Q134<2,\"Yes\",\"No\")","v":"No"},{"$f":"AND($C$1=\"Y\",D134>0)","v":false},{"$f":"AND($E$1=\"Y\",F134>0)","v":false},{"$f":"AND($G$1=\"Y\",H134>0)","v":false},{"$f":"AND($I$1=\"Y\",J134>0)","v":false},{"$f":"AND($K$1=\"Y\",L134>0)","v":false},{"$f":"COUNTIF(Table10[[#This Row],[Competed 1]:[Competed 5]],\"=TRUE\")","v":0}]
[null,"-","-",{"$f":"IF(C135=\"-\",0,C135)","v":0},"-",{"$f":"IF(E135=\"-\",0,E135)","v":0},"-",{"$f":"IF(G135=\"-\",0,G135)","v":0},"-",{"$f":"IF(I135=\"-\",0,I135)","v":0},"-",{"$f":"IF(K135=\"-\",0,K135)","v":0},{"$f":"Table10[[#This Row],[School]]","v":"-"},{"$f":"D135+F135+H135+J135+L135","v":0},{"$f":"MAX(C135,E135,G135,I135,K135)","v":0},{"$f":"IF(Q135=1,N135,IF(Q135=0,(N135-O135),\"-\"))","v":"-"},{"$f":"$L$1-Table10[Competed Count]","v":4},{"$f":"IF(Q135<2,\"Yes\",\"No\")","v":"No"},{"$f":"AND($C$1=\"Y\",D135>0)","v":false},{"$f":"AND($E$1=\"Y\",F135>0)","v":false},{"$f":"AND($G$1=\"Y\",H135>0)","v":false},{"$f":"AND($I$1=\"Y\",J135>0)","v":false},{"$f":"AND($K$1=\"Y\",L135>0)","v":false},{"$f":"COUNTIF(Table10[[#This Row],[Competed 1]:[Competed 5]],\"=TRUE\")","v":0}]
[null,"-","-",{"$f":"IF(C136=\"-\",0,C136)","v":0},"-",{"$f":"IF(E136=\"-\",0,E136)","v":0},"-",{"$f":"IF(G136=\"-\",0,G136)","v":0},"-",{"$f":"IF(I136=\"-\",0,I136)","v":0},"-",{"$f":"IF(K136=\"-\",0,K136)","v":0},{"$f":"Table10[[#This Row],[School]]","v":"-"},{"$f":"D136+F136+H136+J136+L136","v":0},{"$f":"MAX(C136,E136,G136,I136,K136)","v":0},{"$f":"IF(Q136=1,N136,IF(Q136=0,(N136-O136),\"-\"))","v":"-"},{"$f":"$L$1-Table10[Competed Count]","v":4},{"$f":"IF(Q136<2,\"Yes\",\"No\")","v":"No"},{"$f":"AND($C$1=\"Y\",D136>0)","v":false},{"$f":"AND($E$1=\"Y\",F136>0)","v":false},{"$f":"AND($G$1=\"Y\",H136>0)","v":false},{"$f":"AND($I$1=\"Y\",J136>0)","v":false},{"$f":"AND($K$1=\"Y\",L136>0)","v":false},{"$f":"COUNTIF(Table10[[#This Row],[Competed 1]:[Competed 5]],\"=TRUE\")","v":0}]
[null,"-","-",{"$f":"IF(C137=\"-\",0,C137)","v":0},"-",{"$f":"IF(E137=\"-\",0,E137)","v":0},"-",{"$f":"IF(G137=\"-\",0,G137)","v":0},"-",{"$f":"IF(I137=\"-\",0,I137)","v":0},"-",{"$f":"IF(K137=\"-\",0,K137)","v":0},{"$f":"Table10[[#This Row],[School]]","v":"-"},{"$f":"D137+F137+H137+J137+L137","v":0},{"$f":"MAX(C137,E137,G137,I137,K137)","v":0},{"$f":"IF(Q137=1,N137,IF(Q137=0,(N137-O137),\"-\"))","v":"-"},{"$f":"$L$1-Table10[Competed Count]","v":4},{"$f":"IF(Q137<2,\"Yes\",\"No\")","v":"No"},{"$f":"AND($C$1=\"Y\",D137>0)","v":false},{"$f":"AND($E$1=\"Y\",F137>0)","v":false},{"$f":"AND($G$1=\"Y\",H137>0)","v":false},{"$f":"AND($I$1=\"Y\",J137>0)","v":false},{"$f":"AND($K$1=\"Y\",L137>0)","v":false},{"$f":"COUNTIF(Table10[[#This Row],[Competed 1]:[Competed 5]],\"=TRUE\")","v":0}]
[null,"-","-",{"$f":"IF(C138=\"-\",0,C138)","v":0},"-",{"$f":"IF(E138=\"-\",0,E138)","v":0},"-",{"$f":"IF(G138=\"-\",0,G138)","v":0},"-",{"$f":"IF(I138=\"-\",0,I138)","v":0},"-",{"$f":"IF(K138=\"-\",0,K138)","v":0},{"$f":"Table10[[#This Row],[School]]","v":"-"},{"$f":"D138+F138+H138+J138+L138","v":0},{"$f":"MAX(C138,E138,G138,I138,K138)","v":0},{"$f":"IF(Q138=1,N138,IF(Q138=0,(N138-O138),\"-\"))","v":"-"},{"$f":"$L$1-Table10[Competed Count]","v":4},{"$f":"IF(Q138<2,\"Yes\",\"No\")","v":"No"},{"$f":"AND($C$1=\"Y\",D138>0)","v":false},{"$f":"AND($E$1=\"Y\",F138>0)","v":false},{"$f":"AND($G$1=\"Y\",H138>0)","v":false},{"$f":"AND($I$1=\"Y\",J138>0)","v":false},{"$f":"AND($K$1=\"Y\",L138>0)","v":false},{"$f":"COUNTIF(Table10[[#This Row],[Competed 1]:[Competed 5]],\"=TRUE\")","v":0}]
[null,"-","-",{"$f":"IF(C139=\"-\",0,C139)","v":0},"-",{"$f":"IF(E139=\"-\",0,E139)","v":0},"-",{"$f":"IF(G139=\"-\",0,G139)","v":0},"-",{"$f":"IF(I139=\"-\",0,I139)","v":0},"-",{"$f":"IF(K139=\"-\",0,K139)","v":0},{"$f":"Table10[[#This Row],[School]]","v":"-"},{"$f":"D139+F139+H139+J139+L139","v":0},{"$f":"MAX(C139,E139,G139,I139,K139)","v":0},{"$f":"IF(Q139=1,N139,IF(Q139=0,(N139-O139),\"-\"))","v":"-"},{"$f":"$L$1-Table10[Competed Count]","v":4},{"$f":"IF(Q139<2,\"Yes\",\"No\")","v":"No"},{"$f":"AND($C$1=\"Y\",D139>0)","v":false},{"$f":"AND($E$1=\"Y\",F139>0)","v":false},{"$f":"AND($G$1=\"Y\",H139>0)","v":false},{"$f":"AND($I$1=\"Y\",J139>0)","v":false},{"$f":"AND($K$1=\"Y\",L139>0)","v":false},{"$f":"COUNTIF(Table10[[#This Row],[Competed 1]:[Competed 5]],\"=TRUE\")","v":0}]
[null,"-","-",{"$f":"IF(C140=\"-\",0,C140)","v":0},"-",{"$f":"IF(E140=\"-\",0,E140)","v":0},"-",{"$f":"IF(G140=\"-\",0,G140)","v":0},"-",{"$f":"IF(I140=\"-\",0,I140)","v":0},"-",{"$f":"IF(K140=\"-\",0,K140)","v":0},{"$f":"Table10[[#This Row],[School]]","v":"-"},{"$f":"D140+F140+H140+J140+L140","v":0},{"$f":"MAX(C140,E140,G140,I140,K140)","v":0},{"$f":"IF(Q140=1,N140,IF(Q140=0,(N140-O140),\"-\"))","v":"-"},{"$f":"$L$1-Table10[Competed Count]","v":4},{"$f":"IF(Q140<2,\"Yes\",\"No\")","v":"No"},{"$f":"AND($C$1=\"Y\",D140>0)","v":false},{"$f":"AND($E$1=\"Y\",F140>0)","v":false},{"$f":"AND($G$1=\"Y\",H140>0)","v":false},{"$f":"AND($I$1=\"Y\",J140>0)","v":false},{"$f":"AND($K$1=\"Y\",L140>0)","v":false},{"$f":"COUNTIF(Table10[[#This Row],[Competed 1]:[Competed 5]],\"=TRUE\")","v":0}]
[null,"-","-",{"$f":"IF(C141=\"-\",0,C141)","v":0},"-",{"$f":"IF(E141=\"-\",0,E141)","v":0},"-",{"$f":"IF(G141=\"-\",0,G141)","v":0},"-",{"$f":"IF(I141=\"-\",0,I141)","v":0},"-",{"$f":"IF(K141=\"-\",0,K141)","v":0},{"$f":"Table10[[#This Row],[School]]","v":"-"},{"$f":"D141+F141+H141+J141+L141","v":0},{"$f":"MAX(C141,E141,G141,I141,K141)","v":0},{"$f":"IF(Q141=1,N141,IF(Q141=0,(N141-O141),\"-\"))","v":"-"},{"$f":"$L$1-Table10[Competed Count]","v":4},{"$f":"IF(Q141<2,\"Yes\",\"No\")","v":"No"},{"$f":"AND($C$1=\"Y\",D141>0)","v":false},{"$f":"AND($E$1=\"Y\",F141>0)","v":false},{"$f":"AND($G$1=\"Y\",H141>0)","v":false},{"$f":"AND($I$1=\"Y\",J141>0)","v":false},{"$f":"AND($K$1=\"Y\",L141>0)","v":false},{"$f":"COUNTIF(Table10[[#This Row],[Competed 1]:[Competed 5]],\"=TRUE\")","v":0}]
[null,"-","-",{"$f":"IF(C142=\"-\",0,C142)","v":0},"-",{"$f":"IF(E142=\"-\",0,E142)","v":0},"-",{"$f":"IF(G142=\"-\",0,G142)","v":0},"-",{"$f":"IF(I142=\"-\",0,I142)","v":0},"-",{"$f":"IF(K142=\"-\",0,K142)","v":0},{"$f":"Table10[[#This Row],[School]]","v":"-"},{"$f":"D142+F142+H142+J142+L142","v":0},{"$f":"MAX(C142,E142,G142,I142,K142)","v":0},{"$f":"IF(Q142=1,N142,IF(Q142=0,(N142-O142),\"-\"))","v":"-"},{"$f":"$L$1-Table10[Competed Count]","v":4},{"$f":"IF(Q142<2,\"Yes\",\"No\")","v":"No"},{"$f":"AND($C$1=\"Y\",D142>0)","v":false},{"$f":"AND($E$1=\"Y\",F142>0)","v":false},{"$f":"AND($G$1=\"Y\",H142>0)","v":false},{"$f":"AND($I$1=\"Y\",J142>0)","v":false},{"$f":"AND($K$1=\"Y\",L142>0)","v":false},{"$f":"COUNTIF(Table10[[#This Row],[Competed 1]:[Competed 5]],\"=TRUE\")","v":0}]
[null,"-","-",{"$f":"IF(C143=\"-\",0,C143)","v":0},"-",{"$f":"IF(E143=\"-\",0,E143)","v":0},"-",{"$f":"IF(G143=\"-\",0,G143)","v":0},"-",{"$f":"IF(I143=\"-\",0,I143)","v":0},"-",{"$f":"IF(K143=\"-\",0,K143)","v":0},{"$f":"Table10[[#This Row],[School]]","v":"-"},{"$f":"D143+F143+H143+J143+L143","v":0},{"$f":"MAX(C143,E143,G143,I143,K143)","v":0},{"$f":"IF(Q143=1,N143,IF(Q143=0,(N143-O143),\"-\"))","v":"-"},{"$f":"$L$1-Table10[Competed Count]","v":4},{"$f":"IF(Q143<2,\"Yes\",\"No\")","v":"No"},{"$f":"AND($C$1=\"Y\",D143>0)","v":false},{"$f":"AND($E$1=\"Y\",F143>0)","v":false},{"$f":"AND($G$1=\"Y\",H143>0)","v":false},{"$f":"AND($I$1=\"Y\",J143>0)","v":false},{"$f":"AND($K$1=\"Y\",L143>0)","v":false},{"$f":"COUNTIF(Table10[[#This Row],[Competed 1]:[Competed 5]],\"=TRUE\")","v":0}]
[null,"-","-",{"$f":"IF(C144=\"-\",0,C144)","v":0},"-",{"$f":"IF(E144=\"-\",0,E144)","v":0},"-",{"$f":"IF(G144=\"-\",0,G144)","v":0},"-",{"$f":"IF(I144=\"-\",0,I144)","v":0},"-",{"$f":"IF(K144=\"-\",0,K144)","v":0},{"$f":"Table10[[#This Row],[School]]","v":"-"},{"$f":"D144+F144+H144+J144+L144","v":0},{"$f":"MAX(C144,E144,G144,I144,K144)","v":0},{"$f":"IF(Q144=1,N144,IF(Q144=0,(N144-O144),\"-\"))","v":"-"},{"$f":"$L$1-Table10[Competed Count]","v":4},{"$f":"IF(Q144<2,\"Yes\",\"No\")","v":"No"},{"$f":"AND($C$1=\"Y\",D144>0)","v":false},{"$f":"AND($E$1=\"Y\",F144>0)","v":false},{"$f":"AND($G$1=\"Y\",H144>0)","v":false},{"$f":"AND($I$1=\"Y\",J144>0)","v":false},{"$f":"AND($K$1=\"Y\",L144>0)","v":false},{"$f":"COUNTIF(Table10[[#This Row],[Competed 1]:[Competed 5]],\"=TRUE\")","v":0}]
[null,"-","-",{"$f":"IF(C145=\"-\",0,C145)","v":0},"-",{"$f":"IF(E145=\"-\",0,E145)","v":0},"-",{"$f":"IF(G145=\"-\",0,G145)","v":0},"-",{"$f":"IF(I145=\"-\",0,I145)","v":0},"-",{"$f":"IF(K145=\"-\",0,K145)","v":0},{"$f":"Table10[[#This Row],[School]]","v":"-"},{"$f":"D145+F145+H145+J145+L145","v":0},{"$f":"MAX(C145,E145,G145,I145,K145)","v":0},{"$f":"IF(Q145=1,N145,IF(Q145=0,(N145-O145),\"-\"))","v":"-"},{"$f":"$L$1-Table10[Competed Count]","v":4},{"$f":"IF(Q145<2,\"Yes\",\"No\")","v":"No"},{"$f":"AND($C$1=\"Y\",D145>0)","v":false},{"$f":"AND($E$1=\"Y\",F145>0)","v":false},{"$f":"AND($G$1=\"Y\",H145>0)","v":false},{"$f":"AND($I$1=\"Y\",J145>0)","v":false},{"$f":"AND($K$1=\"Y\",L145>0)","v":false},{"$f":"COUNTIF(Table10[[#This Row],[Competed 1]:[Competed 5]],\"=TRUE\")","v":0}]
[null,"-","-",{"$f":"IF(C146=\"-\",0,C146)","v":0},"-",{"$f":"IF(E146=\"-\",0,E146)","v":0},"-",{"$f":"IF(G146=\"-\",0,G146)","v":0},"-",{"$f":"IF(I146=\"-\",0,I146)","v":0},"-",{"$f":"IF(K146=\"-\",0,K146)","v":0},{"$f":"Table10[[#This Row],[School]]","v":"-"},{"$f":"D146+F146+H146+J146+L146","v":0},{"$f":"MAX(C146,E146,G146,I146,K146)","v":0},{"$f":"IF(Q146=1,N146,IF(Q146=0,(N146-O146),\"-\"))","v":"-"},{"$f":"$L$1-Table10[Competed Count]","v":4},{"$f":"IF(Q146<2,\"Yes\",\"No\")","v":"No"},{"$f":"AND($C$1=\"Y\",D146>0)","v":false},{"$f":"AND($E$1=\"Y\",F146>0)","v":false},{"$f":"AND($G$1=\"Y\",H146>0)","v":false},{"$f":"AND($I$1=\"Y\",J146>0)","v":false},{"$f":"AND($K$1=\"Y\",L146>0)","v":false},{"$f":"COUNTIF(Table10[[#This Row],[Competed 1]:[Competed 5]],\"=TRUE\")","v":0}]
[null,"-","-",{"$f":"IF(C147=\"-\",0,C147)","v":0},"-",{"$f":"IF(E147=\"-\",0,E147)","v":0},"-",{"$f":"IF(G147=\"-\",0,G147)","v":0},"-",{"$f":"IF(I147=\"-\",0,I147)","v":0},"-",{"$f":"IF(K147=\"-\",0,K147)","v":0},{"$f":"Table10[[#This Row],[School]]","v":"-"},{"$f":"D147+F147+H147+J147+L147","v":0},{"$f":"MAX(C147,E147,G147,I147,K147)","v":0},{"$f":"IF(Q147=1,N147,IF(Q147=0,(N147-O147),\"-\"))","v":"-"},{"$f":"$L$1-Table10[Competed Count]","v":4},{"$f":"IF(Q147<2,\"Yes\",\"No\")","v":"No"},{"$f":"AND($C$1=\"Y\",D147>0)","v":false},{"$f":"AND($E$1=\"Y\",F147>0)","v":false},{"$f":"AND($G$1=\"Y\",H147>0)","v":false},{"$f":"AND($I$1=\"Y\",J147>0)","v":false},{"$f":"AND($K$1=\"Y\",L147>0)","v":false},{"$f":"COUNTIF(Table10[[#This Row],[Competed 1]:[Competed 5]],\"=TRUE\")","v":0}]
[null,"-","-",{"$f":"IF(C148=\"-\",0,C148)","v":0},"-",{"$f":"IF(E148=\"-\",0,E148)","v":0},"-",{"$f":"IF(G148=\"-\",0,G148)","v":0},"-",{"$f":"IF(I148=\"-\",0,I148)","v":0},"-",{"$f":"IF(K148=\"-\",0,K148)","v":0},{"$f":"Table10[[#This Row],[School]]","v":"-"},{"$f":"D148+F148+H148+J148+L148","v":0},{"$f":"MAX(C148,E148,G148,I148,K148)","v":0},{"$f":"IF(Q148=1,N148,IF(Q148=0,(N148-O148),\"-\"))","v":"-"},{"$f":"$L$1-Table10[Competed Count]","v":4},{"$f":"IF(Q148<2,\"Yes\",\"No\")","v":"No"},{"$f":"AND($C$1=\"Y\",D148>0)","v":false},{"$f":"AND($E$1=\"Y\",F148>0)","v":false},{"$f":"AND($G$1=\"Y\",H148>0)","v":false},{"$f":"AND($I$1=\"Y\",J148>0)","v":false},{"$f":"AND($K$1=\"Y\",L148>0)","v":false},{"$f":"COUNTIF(Table10[[#This Row],[Competed 1]:[Competed 5]],\"=TRUE\")","v":0}]
[null,"-","-",{"$f":"IF(C149=\"-\",0,C149)","v":0},"-",{"$f":"IF(E149=\"-\",0,E149)","v":0},"-",{"$f":"IF(G149=\"-\",0,G149)","v":0},"-",{"$f":"IF(I149=\"-\",0,I149)","v":0},"-",{"$f":"IF(K149=\"-\",0,K149)","v":0},{"$f":"Table10[[#This Row],[School]]","v":"-"},{"$f":"D149+F149+H149+J149+L149","v":0},{"$f":"MAX(C149,E149,G149,I149,K149)","v":0},{"$f":"IF(Q149=1,N149,IF(Q149=0,(N149-O149),\"-\"))","v":"-"},{"$f":"$L$1-Table10[Competed Count]","v":4},{"$f":"IF(Q149<2,\"Yes\",\"No\")","v":"No"},{"$f":"AND($C$1=\"Y\",D149>0)","v":false},{"$f":"AND($E$1=\"Y\",F149>0)","v":false},{"$f":"AND($G$1=\"Y\",H149>0)","v":false},{"$f":"AND($I$1=\"Y\",J149>0)","v":false},{"$f":"AND($K$1=\"Y\",L149>0)","v":false},{"$f":"COUNTIF(Table10[[#This Row],[Competed 1]:[Competed 5]],\"=TRUE\")","v":0}]
[null,"-","-",{"$f":"IF(C150=\"-\",0,C150)","v":0},"-",{"$f":"IF(E150=\"-\",0,E150)","v":0},"-",{"$f":"IF(G150=\"-\",0,G150)","v":0},"-",{"$f":"IF(I150=\"-\",0,I150)","v":0},"-",{"$f":"IF(K150=\"-\",0,K150)","v":0},{"$f":"Table10[[#This Row],[School]]","v":"-"},{"$f":"D150+F150+H150+J150+L150","v":0},{"$f":"MAX(C150,E150,G150,I150,K150)","v":0},{"$f":"IF(Q150=1,N150,IF(Q150=0,(N150-O150),\"-\"))","v":"-"},{"$f":"$L$1-Table10[Competed Count]","v":4},{"$f":"IF(Q150<2,\"Yes\",\"No\")","v":"No"},{"$f":"AND($C$1=\"Y\",D150>0)","v":false},{"$f":"AND($E$1=\"Y\",F150>0)","v":false},{"$f":"AND($G$1=\"Y\",H150>0)","v":false},{"$f":"AND($I$1=\"Y\",J150>0)","v":false},{"$f":"AND($K$1=\"Y\",L150>0)","v":false},{"$f":"COUNTIF(Table10[[#This Row],[Competed 1]:[Competed 5]],\"=TRUE\")","v":0}]

{"sheet":"Y7B","index":1,"n_rows":149,"n_cols":29,"rows_kept":149,"cut":false,"hidden":false,"merged":[]}
["Total Number of Runners","Race Complete (Y/N) ",{"$f":"Y7G!C1","v":"Y"},null,{"$f":"Y7G!E1","v":"Y"},null,{"$f":"Y7G!G1","v":"Y"},null,{"$f":"Y7G!I1","v":"Y"},null,{"$f":"Y7G!K1","v":"N"},{"$f":"COUNTIF(C1:K1,\"=Y\")","v":4},null,null,null,null,null,"Total Eligible for League",null,{"$f":"IF(K1=\"Y\",1,0)","v":0},null,{"$f":"SUM(S1:T1)","v":0}]
[{"$f":"COUNTA(A5:A299)","v":127},"No of Finishers",74,{"$f":"MAX(D5:D150)","v":74},70,{"$f":"MAX(F5:F150)","v":70},53,{"$f":"MAX(H5:H150)","v":53},53,{"$f":"MAX(J5:J150)","v":53},null,null,null,null,null,null,null,{"$f":"COUNTIF(R5:R199,\"Yes\")","v":36}]
["Year 7 Boys","Number of results recorded",{"$f":"COUNTIF(C5:C149,\">0\")","v":74},null,{"$f":"COUNTIF(F5:F149,\">0\")","v":70},null,52,null,{"$f":"COUNTIF(J5:J150,\">0\")","v":52},null,0]
["Name","School","Race 1","Normalised result -1","Race 2","Normalised result -2","Race 3","Normalised result -3","Race 4","Normalised result -4","Race 5","Normalised result -5","Duplicate School Name","Total\n(All Races)","Lowest Place Finish","Final Total","League contender?\n(No. of races - missed)","Eligible For League Title","Competed 1","Competed 2","Competed 3","Competed 4","Competed 5","Competed Count",null,null,null,null," "]
["Lachlan Finch","Brockington College",1,{"$f":"IF(C5=\"-\",0,C5)","v":1},1,{"$f":"IF(E5=\"-\",0,E5)","v":1},1,{"$f":"IF(G5=\"-\",0,G5)","v":1},1,{"$f":"IF(I5=\"-\",0,I5)","v":1},"-",{"$f":"IF(K5=\"-\",0,K5)","v":0},{"$f":"Table1013[[#This Row],[School]]","v":"Brockington College"},{"$f":"D5+F5+H5+J5+L5","v":4},{"$f":"MAX(C5,E5,G5,I5,K5)","v":1},{"$f":"IF(Q5=1,N5,IF(Q5=0,(N5-O5),\"-\"))","v":3},{"$f":"$L$1-Table1013[Competed Count]","v":0},{"$f":"IF(Q5<2,\"Yes\",\"No\")","v":"Yes"},{"$f":"AND($C$1=\"Y\",D5>0)","v":true},{"$f":"AND($E$1=\"Y\",F5>0)","v":true},{"$f":"AND($G$1=\"Y\",H5>0)","v":true},{"$f":"AND($I$1=\"Y\",J5>0)","v":true},{"$f":"AND($K$1=\"Y\",L5>0)","v":false},{"$f":"COUNTIF(Table1013[[#This Row],[Competed 1]:[Competed 5]],\"=TRUE\")","v":4}]
["Ash Butler","Thomas Estley CC",2,{"$f":"IF(C6=\"-\",0,C6)","v":2},2,{"$f":"IF(E6=\"-\",0,E6)","v":2},2,{"$f":"IF(G6=\"-\",0,G6)","v":2},2,{"$f":"IF(I6=\"-\",0,I6)","v":2},"-",{"$f":"IF(K6=\"-\",0,K6)","v":0},{"$f":"Table1013[[#This Row],[School]]","v":"Thomas Estley CC"},{"$f":"D6+F6+H6+J6+L6","v":8},{"$f":"MAX(C6,E6,G6,I6,K6)","v":2},{"$f":"IF(Q6=1,N6,IF(Q6=0,(N6-O6),\"-\"))","v":6},{"$f":"$L$1-Table1013[Competed Count]","v":0},{"$f":"IF(Q6<2,\"Yes\",\"No\")","v":"Yes"},{"$f":"AND($C$1=\"Y\",D6>0)","v":true},{"$f":"AND($E$1=\"Y\",F6>0)","v":true},{"$f":"AND($G$1=\"Y\",H6>0)","v":true},{"$f":"AND($I$1=\"Y\",J6>0)","v":true},{"$f":"AND($K$1=\"Y\",L6>0)","v":false},{"$f":"COUNTIF(Table1013[[#This Row],[Competed 1]:[Competed 5]],\"=TRUE\")","v":4}]
["Thomas Dixon","Leicester Grammar School",3,{"$f":"IF(C7=\"-\",0,C7)","v":3},"-",{"$f":"IF(E7=\"-\",0,E7)","v":0},3,{"$f":"IF(G7=\"-\",0,G7)","v":3},3,{"$f":"IF(I7=\"-\",0,I7)","v":3},"-",{"$f":"IF(K7=\"-\",0,K7)","v":0},{"$f":"Table1013[[#This Row],[School]]","v":"Leicester Grammar School"},{"$f":"D7+F7+H7+J7+L7","v":9},{"$f":"MAX(C7,E7,G7,I7,K7)","v":3},{"$f":"IF(Q7=1,N7,IF(Q7=0,(N7-O7),\"-\"))","v":9},{"$f":"$L$1-Table1013[Competed Count]","v":1},{"$f":"IF(Q7<2,\"Yes\",\"No\")","v":"Yes"},{"$f":"AND($C$1=\"Y\",D7>0)","v":true},{"$f":"AND($E$1=\"Y\",F7>0)","v":false},{"$f":"AND($G$1=\"Y\",H7>0)","v":true},{"$f":"AND($I$1=\"Y\",J7>0)","v":true},{"$f":"AND($K$1=\"Y\",L7>0)","v":false},{"$f":"COUNTIF(Table1013[[#This Row],[Competed 1]:[Competed 5]],\"=TRUE\")","v":3}]
["Sean McCann","De Lisle College",4,{"$f":"IF(C8=\"-\",0,C8)","v":4},3,{"$f":"IF(E8=\"-\",0,E8)","v":3},"-",{"$f":"IF(G8=\"-\",0,G8)","v":0},4,{"$f":"IF(I8=\"-\",0,I8)","v":4},"-",{"$f":"IF(K8=\"-\",0,K8)","v":0},{"$f":"Table1013[[#This Row],[School]]","v":"De Lisle College"},{"$f":"D8+F8+H8+J8+L8","v":11},{"$f":"MAX(C8,E8,G8,I8,K8)","v":4},{"$f":"IF(Q8=1,N8,IF(Q8=0,(N8-O8),\"-\"))","v":11},{"$f":"$L$1-Table1013[Competed Count]","v":1},{"$f":"IF(Q8<2,\"Yes\",\"No\")","v":"Yes"},{"$f":"AND($C$1=\"Y\",D8>0)","v":true},{"$f":"AND($E$1=\"Y\",F8>0)","v":true},{"$f":"AND($G$1=\"Y\",H8>0)","v":false},{"$f":"AND($I$1=\"Y\",J8>0)","v":true},{"$f":"AND($K$1=\"Y\",L8>0)","v":false},{"$f":"COUNTIF(Table1013[[#This Row],[Competed 1]:[Competed 5]],\"=TRUE\")","v":3}]
["Douglas Low","Lutterworth College",7,{"$f":"IF(C9=\"-\",0,C9)","v":7},5,{"$f":"IF(E9=\"-\",0,E9)","v":5},4,{"$f":"IF(G9=\"-\",0,G9)","v":4},5,{"$f":"IF(I9=\"-\",0,I9)","v":5},"-",{"$f":"IF(K9=\"-\",0,K9)","v":0},{"$f":"Table1013[[#This Row],[School]]","v":"Lutterworth College"},{"$f":"D9+F9+H9+J9+L9","v":21},{"$f":"MAX(C9,E9,G9,I9,K9)","v":7},{"$f":"IF(Q9=1,N9,IF(Q9=0,(N9-O9),\"-\"))","v":14},{"$f":"$L$1-Table1013[Competed Count]","v":0},{"$f":"IF(Q9<2,\"Yes\",\"No\")","v":"Yes"},{"$f":"AND($C$1=\"Y\",D9>0)","v":true},{"$f":"AND($E$1=\"Y\",F9>0)","v":true},{"$f":"AND($G$1=\"Y\",H9>0)","v":true},{"$f":"AND($I$1=\"Y\",J9>0)","v":true},{"$f":"AND($K$1=\"Y\",L9>0)","v":false},{"$f":"COUNTIF(Table1013[[#This Row],[Competed 1]:[Competed 5]],\"=TRUE\")","v":4}]
["Ruaidhri Maquire","Loughborough Grammar School",9,{"$f":"IF(C10=\"-\",0,C10)","v":9},4,{"$f":"IF(E10=\"-\",0,E10)","v":4},5,{"$f":"IF(G10=\"-\",0,G10)","v":5},6,{"$f":"IF(I10=\"-\",0,I10)","v":6},"-",{"$f":"IF(K10=\"-\",0,K10)","v":0},{"$f":"Table1013[[#This Row],[School]]","v":"Loughborough Grammar School"},{"$f":"D10+F10+H10+J10+L10","v":24},{"$f":"MAX(C10,E10,G10,I10,K10)","v":9},{"$f":"IF(Q10=1,N10,IF(Q10=0,(N10-O10),\"-\"))","v":15},{"$f":"$L$1-Table1013[Competed Count]","v":0},{"$f":"IF(Q10<2,\"Yes\",\"No\")","v":"Yes"},{"$f":"AND($C$1=\"Y\",D10>0)","v":true},{"$f":"AND($E$1=\"Y\",F10>0)","v":true},{"$f":"AND($G$1=\"Y\",H10>0)","v":true},{"$f":"AND($I$1=\"Y\",J10>0)","v":true},{"$f":"AND($K$1=\"Y\",L10>0)","v":false},{"$f":"COUNTIF(Table1013[[#This Row],[Competed 1]:[Competed 5]],\"=TRUE\")","v":4}]
["Luke Talbot","Ivanhoe College",6,{"$f":"IF(C11=\"-\",0,C11)","v":6},"-",{"$f":"IF(E11=\"-\",0,E11)","v":0},7,{"$f":"IF(G11=\"-\",0,G11)","v":7},7,{"$f":"IF(I11=\"-\",0,I11)","v":7},"-",{"$f":"IF(K11=\"-\",0,K11)","v":0},{"$f":"Table1013[[#This Row],[School]]","v":"Ivanhoe College"},{"$f":"D11+F11+H11+J11+L11","v":20},{"$f":"MAX(C11,E11,G11,I11,K11)","v":7},{"$f":"IF(Q11=1,N11,IF(Q11=0,(N11-O11),\"-\"))","v":20},{"$f":"$L$1-Table1013[Competed Count]","v":1},{"$f":"IF(Q11<2,\"Yes\",\"No\")","v":"Yes"},{"$f":"AND($C$1=\"Y\",D11>0)","v":true},{"$f":"AND($E$1=\"Y\",F11>0)","v":false},{"$f":"AND($G$1=\"Y\",H11>0)","v":true},{"$f":"AND($I$1=\"Y\",J11>0)","v":true},{"$f":"AND($K$1=\"Y\",L11>0)","v":false},{"$f":"COUNTIF(Table1013[[#This Row],[Competed 1]:[Competed 5]],\"=TRUE\")","v":3}]
["Alex Keeble","Lutterworth College",5,{"$f":"IF(C12=\"-\",0,C12)","v":5},"-",{"$f":"IF(E12=\"-\",0,E12)","v":0},8,{"$f":"IF(G12=\"-\",0,G12)","v":8},8,{"$f":"IF(I12=\"-\",0,I12)","v":8},"-",{"$f":"IF(K12=\"-\",0,K12)","v":0},{"$f":"Table1013[[#This Row],[School]]","v":"Lutterworth College"},{"$f":"D12+F12+H12+J12+L12","v":21},{"$f":"MAX(C12,E12,G12,I12,K12)","v":8},{"$f":"IF(Q12=1,N12,IF(Q12=0,(N12-O12),\"-\"))","v":21},{"$f":"$L$1-Table1013[Competed Count]","v":1},{"$f":"IF(Q12<2,\"Yes\",\"No\")","v":"Yes"},{"$f":"AND($C$1=\"Y\",D12>0)","v":true},{"$f":"AND($E$1=\"Y\",F12>0)","v":false},{"$f":"AND($G$1=\"Y\",H12>0)","v":true},{"$f":"AND($I$1=\"Y\",J12>0)","v":true},{"$f":"AND($K$1=\"Y\",L12>0)","v":false},{"$f":"COUNTIF(Table1013[[#This Row],[Competed 1]:[Competed 5]],\"=TRUE\")","v":3}]
["Sam Wright","Thomas Estley CC",10,{"$f":"IF(C13=\"-\",0,C13)","v":10},"-",{"$f":"IF(E13=\"-\",0,E13)","v":0},6,{"$f":"IF(G13=\"-\",0,G13)","v":6},9,{"$f":"IF(I13=\"-\",0,I13)","v":9},"-",{"$f":"IF(K13=\"-\",0,K13)","v":0},{"$f":"Table1013[[#This Row],[School]]","v":"Thomas Estley CC"},{"$f":"D13+F13+H13+J13+L13","v":25},{"$f":"MAX(C13,E13,G13,I13,K13)","v":10},{"$f":"IF(Q13=1,N13,IF(Q13=0,(N13-O13),\"-\"))","v":25},{"$f":"$L$1-Table1013[Competed Count]","v":1},{"$f":"IF(Q13<2,\"Yes\",\"No\")","v":"Yes"},{"$f":"AND($C$1=\"Y\",D13>0)","v":true},{"$f":"AND($E$1=\"Y\",F13>0)","v":false},{"$f":"AND($G$1=\"Y\",H13>0)","v":true},{"$f":"AND($I$1=\"Y\",J13>0)","v":true},{"$f":"AND($K$1=\"Y\",L13>0)","v":false},{"$f":"COUNTIF(Table1013[[#This Row],[Competed 1]:[Competed 5]],\"=TRUE\")","v":3}]
["Layton Thomas","Uppingham CC",17,{"$f":"IF(C14=\"-\",0,C14)","v":17},7,{"$f":"IF(E14=\"-\",0,E14)","v":7},9,{"$f":"IF(G14=\"-\",0,G14)","v":9},10,{"$f":"IF(I14=\"-\",0,I14)","v":10},"-",{"$f":"IF(K14=\"-\",0,K14)","v":0},{"$f":"Table1013[[#This Row],[School]]","v":"Uppingham CC"},{"$f":"D14+F14+H14+J14+L14","v":43},{"$f":"MAX(C14,E14,G14,I14,K14)","v":17},{"$f":"IF(Q14=1,N14,IF(Q14=0,(N14-O14),\"-\"))","v":26},{"$f":"$L$1-Table1013[Competed Count]","v":0},{"$f":"IF(Q14<2,\"Yes\",\"No\")","v":"Yes"},{"$f":"AND($C$1=\"Y\",D14>0)","v":true},{"$f":"AND($E$1=\"Y\",F14>0)","v":true},{"$f":"AND($G$1=\"Y\",H14>0)","v":true},{"$f":"AND($I$1=\"Y\",J14>0)","v":true},{"$f":"AND($K$1=\"Y\",L14>0)","v":false},{"$f":"COUNTIF(Table1013[[#This Row],[Competed 1]:[Competed 5]],\"=TRUE\")","v":4}]
["Henry Wells","Manor High School",11,{"$f":"IF(C15=\"-\",0,C15)","v":11},"-",{"$f":"IF(E15=\"-\",0,E15)","v":0},"-",{"$f":"IF(G15=\"-\",0,G15)","v":0},11,{"$f":"IF(I15=\"-\",0,I15)","v":11},"-",{"$f":"IF(K15=\"-\",0,K15)","v":0},{"$f":"Table1013[[#This Row],[School]]","v":"Manor High School"},{"$f":"D15+F15+H15+J15+L15","v":22},{"$f":"MAX(C15,E15,G15,I15,K15)","v":11},{"$f":"IF(Q15=1,N15,IF(Q15=0,(N15-O15),\"-\"))","v":"-"},{"$f":"$L$1-Table1013[Competed Count]","v":2},{"$f":"IF(Q15<2,\"Yes\",\"No\")","v":"No"},{"$f":"AND($C$1=\"Y\",D15>0)","v":true},{"$f":"AND($E$1=\"Y\",F15>0)","v":false},{"$f":"AND($G$1=\"Y\",H15>0)","v":false},{"$f":"AND($I$1=\"Y\",J15>0)","v":true},{"$f":"AND($K$1=\"Y\",L15>0)","v":false},{"$f":"COUNTIF(Table1013[[#This Row],[Competed 1]:[Competed 5]],\"=TRUE\")","v":2}]
["Bayley Purkis","John Ferneley College",12,{"$f":"IF(C16=\"-\",0,C16)","v":12},16,{"$f":"IF(E16=\"-\",0,E16)","v":16},23,{"$f":"IF(G16=\"-\",0,G16)","v":23},12,{"$f":"IF(I16=\"-\",0,I16)","v":12},"-",{"$f":"IF(K16=\"-\",0,K16)","v":0},{"$f":"Table1013[[#This Row],[School]]","v":"John Ferneley College"},{"$f":"D16+F16+H16+J16+L16","v":63},{"$f":"MAX(C16,E16,G16,I16,K16)","v":23},{"$f":"IF(Q16=1,N16,IF(Q16=0,(N16-O16),\"-\"))","v":40},{"$f":"$L$1-Table1013[Competed Count]","v":0},{"$f":"IF(Q16<2,\"Yes\",\"No\")","v":"Yes"},{"$f":"AND($C$1=\"Y\",D16>0)","v":true},{"$f":"AND($E$1=\"Y\",F16>0)","v":true},{"$f":"AND($G$1=\"Y\",H16>0)","v":true},{"$f":"AND($I$1=\"Y\",J16>0)","v":true},{"$f":"AND($K$1=\"Y\",L16>0)","v":false},{"$f":"COUNTIF(Table1013[[#This Row],[Competed 1]:[Competed 5]],\"=TRUE\")","v":4}]
["James Tansey","St Martins Catholic Academy","-",{"$f":"IF(C17=\"-\",0,C17)","v":0},6,{"$f":"IF(E17=\"-\",0,E17)","v":6},15,{"$f":"IF(G17=\"-\",0,G17)","v":15},13,{"$f":"IF(I17=\"-\",0,I17)","v":13},"-",{"$f":"IF(K17=\"-\",0,K17)","v":0},{"$f":"Table1013[[#This Row],[School]]","v":"St Martins Catholic Academy"},{"$f":"D17+F17+H17+J17+L17","v":34},{"$f":"MAX(C17,E17,G17,I17,K17)","v":15},{"$f":"IF(Q17=1,N17,IF(Q17=0,(N17-O17),\"-\"))","v":34},{"$f":"$L$1-Table1013[Competed Count]","v":1},{"$f":"IF(Q17<2,\"Yes\",\"No\")","v":"Yes"},{"$f":"AND($C$1=\"Y\",D17>0)","v":false},{"$f":"AND($E$1=\"Y\",F17>0)","v":true},{"$f":"AND($G$1=\"Y\",H17>0)","v":true},{"$f":"AND($I$1=\"Y\",J17>0)","v":true},{"$f":"AND($K$1=\"Y\",L17>0)","v":false},{"$f":"COUNTIF(Table1013[[#This Row],[Competed 1]:[Competed 5]],\"=TRUE\")","v":3}]
["Ethan Day","South Charnwood High School","-",{"$f":"IF(C18=\"-\",0,C18)","v":0},"-",{"$f":"IF(E18=\"-\",0,E18)","v":0},11,{"$f":"IF(G18=\"-\",0,G18)","v":11},14,{"$f":"IF(I18=\"-\",0,I18)","v":14},"-",{"$f":"IF(K18=\"-\",0,K18)","v":0},{"$f":"Table1013[[#This Row],[School]]","v":"South Charnwood High School"},{"$f":"D18+F18+H18+J18+L18","v":25},{"$f":"MAX(C18,E18,G18,I18,K18)","v":14},{"$f":"IF(Q18=1,N18,IF(Q18=0,(N18-O18),\"-\"))","v":"-"},{"$f":"$L$1-Table1013[Competed Count]","v":2},{"$f":"IF(Q18<2,\"Yes\",\"No\")","v":"No"},{"$f":"AND($C$1=\"Y\",D18>0)","v":false},{"$f":"AND($E$1=\"Y\",F18>0)","v":false},{"$f":"AND($G$1=\"Y\",H18>0)","v":true},{"$f":"AND($I$1=\"Y\",J18>0)","v":true},{"$f":"AND($K$1=\"Y\",L18>0)","v":false},{"$f":"COUNTIF(Table1013[[#This Row],[Competed 1]:[Competed 5]],\"=TRUE\")","v":2}]
["Logan Clapton","De Lisle College",18,{"$f":"IF(C19=\"-\",0,C19)","v":18},22,{"$f":"IF(E19=\"-\",0,E19)","v":22},18,{"$f":"IF(G19=\"-\",0,G19)","v":18},15,{"$f":"IF(I19=\"-\",0,I19)","v":15},"-",{"$f":"IF(K19=\"-\",0,K19)","v":0},{"$f":"Table1013[[#This Row],[School]]","v":"De Lisle College"},{"$f":"D19+F19+H19+J19+L19","v":73},{"$f":"MAX(C19,E19,G19,I19,K19)","v":22},{"$f":"IF(Q19=1,N19,IF(Q19=0,(N19-O19),\"-\"))","v":51},{"$f":"$L$1-Table1013[Competed Count]","v":0},{"$f":"IF(Q19<2,\"Yes\",\"No\")","v":"Yes"},{"$f":"AND($C$1=\"Y\",D19>0)","v":true},{"$f":"AND($E$1=\"Y\",F19>0)","v":true},{"$f":"AND($G$1=\"Y\",H19>0)","v":true},{"$f":"AND($I$1=\"Y\",J19>0)","v":true},{"$f":"AND($K$1=\"Y\",L19>0)","v":false},{"$f":"COUNTIF(Table1013[[#This Row],[Competed 1]:[Competed 5]],\"=TRUE\")","v":4}]
["William Lewin","Uppingham CC",15,{"$f":"IF(C20=\"-\",0,C20)","v":15},18,{"$f":"IF(E20=\"-\",0,E20)","v":18},16,{"$f":"IF(G20=\"-\",0,G20)","v":16},16,{"$f":"IF(I20=\"-\",0,I20)","v":16},"-",{"$f":"IF(K20=\"-\",0,K20)","v":0},{"$f":"Table1013[[#This Row],[School]]","v":"Uppingham CC"},{"$f":"D20+F20+H20+J20+L20","v":65},{"$f":"MAX(C20,E20,G20,I20,K20)","v":18},{"$f":"IF(Q20=1,N20,IF(Q20=0,(N20-O20),\"-\"))","v":47},{"$f":"$L$1-Table1013[Competed Count]","v":0},{"$f":"IF(Q20<2,\"Yes\",\"No\")","v":"Yes"},{"$f":"AND($C$1=\"Y\",D20>0)","v":true},{"$f":"AND($E$1=\"Y\",F20>0)","v":true},{"$f":"AND($G$1=\"Y\",H20>0)","v":true},{"$f":"AND($I$1=\"Y\",J20>0)","v":true},{"$f":"AND($K$1=\"Y\",L20>0)","v":false},{"$f":"COUNTIF(Table1013[[#This Row],[Competed 1]:[Competed 5]],\"=TRUE\")","v":4}]
["T Maguire","Loughborough Grammar School","-",{"$f":"IF(C21=\"-\",0,C21)","v":0},"-",{"$f":"IF(E21=\"-\",0,E21)","v":0},"-",{"$f":"IF(G21=\"-\",0,G21)","v":0},17,{"$f":"IF(I21=\"-\",0,I21)","v":17},"-",{"$f":"IF(K21=\"-\",0,K21)","v":0},{"$f":"Table1013[[#This Row],[School]]","v":"Loughborough Grammar School"},{"$f":"D21+F21+H21+J21+L21","v":17},{"$f":"MAX(C21,E21,G21,I21,K21)","v":17},{"$f":"IF(Q21=1,N21,IF(Q21=0,(N21-O21),\"-\"))","v":"-"},{"$f":"$L$1-Table1013[Competed Count]","v":3},{"$f":"IF(Q21<2,\"Yes\",\"No\")","v":"No"},{"$f":"AND($C$1=\"Y\",D21>0)","v":false},{"$f":"AND($E$1=\"Y\",F21>0)","v":false},{"$f":"AND($G$1=\"Y\",H21>0)","v":false},{"$f":"AND($I$1=\"Y\",J21>0)","v":true},{"$f":"AND($K$1=\"Y\",L21>0)","v":false},{"$f":"COUNTIF(Table1013[[#This Row],[Competed 1]:[Competed 5]],\"=TRUE\")","v":1}]
["Jack Sanders","De Lisle College","-",{"$f":"IF(C22=\"-\",0,C22)","v":0},"-",{"$f":"IF(E22=\"-\",0,E22)","v":0},17,{"$f":"IF(G22=\"-\",0,G22)","v":17},18,{"$f":"IF(I22=\"-\",0,I22)","v":18},"-",{"$f":"IF(K22=\"-\",0,K22)","v":0},{"$f":"Table1013[[#This Row],[School]]","v":"De Lisle College"},{"$f":"D22+F22+H22+J22+L22","v":35},{"$f":"MAX(C22,E22,G22,I22,K22)","v":18},{"$f":"IF(Q22=1,N22,IF(Q22=0,(N22-O22),\"-\"))","v":"-"},{"$f":"$L$1-Table1013[Competed Count]","v":2},{"$f":"IF(Q22<2,\"Yes\",\"No\")","v":"No"},{"$f":"AND($C$1=\"Y\",D22>0)","v":false},{"$f":"AND($E$1=\"Y\",F22>0)","v":false},{"$f":"AND($G$1=\"Y\",H22>0)","v":true},{"$f":"AND($I$1=\"Y\",J22>0)","v":true},{"$f":"AND($K$1=\"Y\",L22>0)","v":false},{"$f":"COUNTIF(Table1013[[#This Row],[Competed 1]:[Competed 5]],\"=TRUE\")","v":2}]
["Max Ranson","Uppingham CC","-",{"$f":"IF(C23=\"-\",0,C23)","v":0},8,{"$f":"IF(E23=\"-\",0,E23)","v":8},14,{"$f":"IF(G23=\"-\",0,G23)","v":14},19,{"$f":"IF(I23=\"-\",0,I23)","v":19},"-",{"$f":"IF(K23=\"-\",0,K23)","v":0},{"$f":"Table1013[[#This Row],[School]]","v":"Uppingham CC"},{"$f":"D23+F23+H23+J23+L23","v":41},{"$f":"MAX(C23,E23,G23,I23,K23)","v":19},{"$f":"IF(Q23=1,N23,IF(Q23=0,(N23-O23),\"-\"))","v":41},{"$f":"$L$1-Table1013[Competed Count]","v":1},{"$f":"IF(Q23<2,\"Yes\",\"No\")","v":"Yes"},{"$f":"AND($C$1=\"Y\",D23>0)","v":false},{"$f":"AND($E$1=\"Y\",F23>0)","v":true},{"$f":"AND($G$1=\"Y\",H23>0)","v":true},{"$f":"AND($I$1=\"Y\",J23>0)","v":true},{"$f":"AND($K$1=\"Y\",L23>0)","v":false},{"$f":"COUNTIF(Table1013[[#This Row],[Competed 1]:[Competed 5]],\"=TRUE\")","v":3}]
["Corey Morris","Dixie Grammar School","-",{"$f":"IF(C24=\"-\",0,C24)","v":0},13,{"$f":"IF(E24=\"-\",0,E24)","v":13},24,{"$f":"IF(G24=\"-\",0,G24)","v":24},20,{"$f":"IF(I24=\"-\",0,I24)","v":20},"-",{"$f":"IF(K24=\"-\",0,K24)","v":0},{"$f":"Table1013[[#This Row],[School]]","v":"Dixie Grammar School"},{"$f":"D24+F24+H24+J24+L24","v":57},{"$f":"MAX(C24,E24,G24,I24,K24)","v":24},{"$f":"IF(Q24=1,N24,IF(Q24=0,(N24-O24),\"-\"))","v":57},{"$f":"$L$1-Table1013[Competed Count]","v":1},{"$f":"IF(Q24<2,\"Yes\",\"No\")","v":"Yes"},{"$f":"AND($C$1=\"Y\",D24>0)","v":false},{"$f":"AND($E$1=\"Y\",F24>0)","v":true},{"$f":"AND($G$1=\"Y\",H24>0)","v":true},{"$f":"AND($I$1=\"Y\",J24>0)","v":true},{"$f":"AND($K$1=\"Y\",L24>0)","v":false},{"$f":"COUNTIF(Table1013[[#This Row],[Competed 1]:[Competed 5]],\"=TRUE\")","v":3}]
["Callum McGregor","Hastings High School","-",{"$f":"IF(C25=\"-\",0,C25)","v":0},"-",{"$f":"IF(E25=\"-\",0,E25)","v":0},"-",{"$f":"IF(G25=\"-\",0,G25)","v":0},21,{"$f":"IF(I25=\"-\",0,I25)","v":21},"-",{"$f":"IF(K25=\"-\",0,K25)","v":0},{"$f":"Table1013[[#This Row],[School]]","v":"Hastings High School"},{"$f":"D25+F25+H25+J25+L25","v":21},{"$f":"MAX(C25,E25,G25,I25,K25)","v":21},{"$f":"IF(Q25=1,N25,IF(Q25=0,(N25-O25),\"-\"))","v":"-"},{"$f":"$L$1-Table1013[Competed Count]","v":3},{"$f":"IF(Q25<2,\"Yes\",\"No\")","v":"No"},{"$f":"AND($C$1=\"Y\",D25>0)","v":false},{"$f":"AND($E$1=\"Y\",F25>0)","v":false},{"$f":"AND($G$1=\"Y\",H25>0)","v":false},{"$f":"AND($I$1=\"Y\",J25>0)","v":true},{"$f":"AND($K$1=\"Y\",L25>0)","v":false},{"$f":"COUNTIF(Table1013[[#This Row],[Competed 1]:[Competed 5]],\"=TRUE\")","v":1}]
["H Day","Loughborough Grammar School","-",{"$f":"IF(C26=\"-\",0,C26)","v":0},"-",{"$f":"IF(E26=\"-\",0,E26)","v":0},21,{"$f":"IF(G26=\"-\",0,G26)","v":21},22,{"$f":"IF(I26=\"-\",0,I26)","v":22},"-",{"$f":"IF(K26=\"-\",0,K26)","v":0},{"$f":"Table1013[[#This Row],[School]]","v":"Loughborough Grammar School"},{"$f":"D26+F26+H26+J26+L26","v":43},{"$f":"MAX(C26,E26,G26,I26,K26)","v":22},{"$f":"IF(Q26=1,N26,IF(Q26=0,(N26-O26),\"-\"))","v":"-"},{"$f":"$L$1-Table1013[Competed Count]","v":2},{"$f":"IF(Q26<2,\"Yes\",\"No\")","v":"No"},{"$f":"AND($C$1=\"Y\",D26>0)","v":false},{"$f":"AND($E$1=\"Y\",F26>0)","v":false},{"$f":"AND($G$1=\"Y\",H26>0)","v":true},{"$f":"AND($I$1=\"Y\",J26>0)","v":true},{"$f":"AND($K$1=\"Y\",L26>0)","v":false},{"$f":"COUNTIF(Table1013[[#This Row],[Competed 1]:[Competed 5]],\"=TRUE\")","v":2}]
["Finlay Storey","The Martin High School",14,{"$f":"IF(C27=\"-\",0,C27)","v":14},12,{"$f":"IF(E27=\"-\",0,E27)","v":12},19,{"$f":"IF(G27=\"-\",0,G27)","v":19},23,{"$f":"IF(I27=\"-\",0,I27)","v":23},"-",{"$f":"IF(K27=\"-\",0,K27)","v":0},{"$f":"Table1013[[#This Row],[School]]","v":"The Martin High School"},{"$f":"D27+F27+H27+J27+L27","v":68},{"$f":"MAX(C27,E27,G27,I27,K27)","v":23},{"$f":"IF(Q27=1,N27,IF(Q27=0,(N27-O27),\"-\"))","v":45},{"$f":"$L$1-Table1013[Competed Count]","v":0},{"$f":"IF(Q27<2,\"Yes\",\"No\")","v":"Yes"},{"$f":"AND($C$1=\"Y\",D27>0)","v":true},{"$f":"AND($E$1=\"Y\",F27>0)","v":true},{"$f":"AND($G$1=\"Y\",H27>0)","v":true},{"$f":"AND($I$1=\"Y\",J27>0)","v":true},{"$f":"AND($K$1=\"Y\",L27>0)","v":false},{"$f":"COUNTIF(Table1013[[#This Row],[Competed 1]:[Competed 5]],\"=TRUE\")","v":4}]
["Matthew Reuben","Rawlins Academy",13,{"$f":"IF(C28=\"-\",0,C28)","v":13},"-",{"$f":"IF(E28=\"-\",0,E28)","v":0},13,{"$f":"IF(G28=\"-\",0,G28)","v":13},24,{"$f":"IF(I28=\"-\",0,I28)","v":24},"-",{"$f":"IF(K28=\"-\",0,K28)","v":0},{"$f":"Table1013[[#This Row],[School]]","v":"Rawlins Academy"},{"$f":"D28+F28+H28+J28+L28","v":50},{"$f":"MAX(C28,E28,G28,I28,K28)","v":24},{"$f":"IF(Q28=1,N28,IF(Q28=0,(N28-O28),\"-\"))","v":50},{"$f":"$L$1-Table1013[Competed Count]","v":1},{"$f":"IF(Q28<2,\"Yes\",\"No\")","v":"Yes"},{"$f":"AND($C$1=\"Y\",D28>0)","v":true},{"$f":"AND($E$1=\"Y\",F28>0)","v":false},{"$f":"AND($G$1=\"Y\",H28>0)","v":true},{"$f":"AND($I$1=\"Y\",J28>0)","v":true},{"$f":"AND($K$1=\"Y\",L28>0)","v":false},{"$f":"COUNTIF(Table1013[[#This Row],[Competed 1]:[Competed 5]],\"=TRUE\")","v":3}]
["Tusheq Bolorchuluun","Loughborough Grammar School","-",{"$f":"IF(C29=\"-\",0,C29)","v":0},20,{"$f":"IF(E29=\"-\",0,E29)","v":20},"-",{"$f":"IF(G29=\"-\",0,G29)","v":0},25,{"$f":"IF(I29=\"-\",0,I29)","v":25},"-",{"$f":"IF(K29=\"-\",0,K29)","v":0},{"$f":"Table1013[[#This Row],[School]]","v":"Loughborough Grammar School"},{"$f":"D29+F29+H29+J29+L29","v":45},{"$f":"MAX(C29,E29,G29,I29,K29)","v":25},{"$f":"IF(Q29=1,N29,IF(Q29=0,(N29-O29),\"-\"))","v":"-"},{"$f":"$L$1-Table1013[Competed Count]","v":2},{"$f":"IF(Q29<2,\"Yes\",\"No\")","v":"No"},{"$f":"AND($C$1=\"Y\",D29>0)","v":false},{"$f":"AND($E$1=\"Y\",F29>0)","v":true},{"$f":"AND($G$1=\"Y\",H29>0)","v":false},{"$f":"AND($I$1=\"Y\",J29>0)","v":true},{"$f":"AND($K$1=\"Y\",L29>0)","v":false},{"$f":"COUNTIF(Table1013[[#This Row],[Competed 1]:[Competed 5]],\"=TRUE\")","v":2}]
["A Nelson","Loughborough Grammar School","-",{"$f":"IF(C30=\"-\",0,C30)","v":0},"-",{"$f":"IF(E30=\"-\",0,E30)","v":0},"-",{"$f":"IF(G30=\"-\",0,G30)","v":0},26,{"$f":"IF(I30=\"-\",0,I30)","v":26},"-",{"$f":"IF(K30=\"-\",0,K30)","v":0},{"$f":"Table1013[[#This Row],[School]]","v":"Loughborough Grammar School"},{"$f":"D30+F30+H30+J30+L30","v":26},{"$f":"MAX(C30,E30,G30,I30,K30)","v":26},{"$f":"IF(Q30=1,N30,IF(Q30=0,(N30-O30),\"-\"))","v":"-"},{"$f":"$L$1-Table1013[Competed Count]","v":3},{"$f":"IF(Q30<2,\"Yes\",\"No\")","v":"No"},{"$f":"AND($C$1=\"Y\",D30>0)","v":false},{"$f":"AND($E$1=\"Y\",F30>0)","v":false},{"$f":"AND($G$1=\"Y\",H30>0)","v":false},{"$f":"AND($I$1=\"Y\",J30>0)","v":true},{"$f":"AND($K$1=\"Y\",L30>0)","v":false},{"$f":"COUNTIF(Table1013[[#This Row],[Competed 1]:[Competed 5]],\"=TRUE\")","v":1}]
["Dhruva Jadhau","Wigston Academy","-",{"$f":"IF(C31=\"-\",0,C31)","v":0},"-",{"$f":"IF(E31=\"-\",0,E31)","v":0},27,{"$f":"IF(G31=\"-\",0,G31)","v":27},27,{"$f":"IF(I31=\"-\",0,I31)","v":27},"-",{"$f":"IF(K31=\"-\",0,K31)","v":0},{"$f":"Table1013[[#This Row],[School]]","v":"Wigston Academy"},{"$f":"D31+F31+H31+J31+L31","v":54},{"$f":"MAX(C31,E31,G31,I31,K31)","v":27},{"$f":"IF(Q31=1,N31,IF(Q31=0,(N31-O31),\"-\"))","v":"-"},{"$f":"$L$1-Table1013[Competed Count]","v":2},{"$f":"IF(Q31<2,\"Yes\",\"No\")","v":"No"},{"$f":"AND($C$1=\"Y\",D31>0)","v":false},{"$f":"AND($E$1=\"Y\",F31>0)","v":false},{"$f":"AND($G$1=\"Y\",H31>0)","v":true},{"$f":"AND($I$1=\"Y\",J31>0)","v":true},{"$f":"AND($K$1=\"Y\",L31>0)","v":false},{"$f":"COUNTIF(Table1013[[#This Row],[Competed 1]:[Competed 5]],\"=TRUE\")","v":2}]
["Liam Hall","Wigston Academy",21,{"$f":"IF(C32=\"-\",0,C32)","v":21},"-",{"$f":"IF(E32=\"-\",0,E32)","v":0},"-",{"$f":"IF(G32=\"-\",0,G32)","v":0},28,{"$f":"IF(I32=\"-\",0,I32)","v":28},"-",{"$f":"IF(K32=\"-\",0,K32)","v":0},{"$f":"Table1013[[#This Row],[School]]","v":"Wigston Academy"},{"$f":"D32+F32+H32+J32+L32","v":49},{"$f":"MAX(C32,E32,G32,I32,K32)","v":28},{"$f":"IF(Q32=1,N32,IF(Q32=0,(N32-O32),\"-\"))","v":"-"},{"$f":"$L$1-Table1013[Competed Count]","v":2},{"$f":"IF(Q32<2,\"Yes\",\"No\")","v":"No"},{"$f":"AND($C$1=\"Y\",D32>0)","v":true},{"$f":"AND($E$1=\"Y\",F32>0)","v":false},{"$f":"AND($G$1=\"Y\",H32>0)","v":false},{"$f":"AND($I$1=\"Y\",J32>0)","v":true},{"$f":"AND($K$1=\"Y\",L32>0)","v":false},{"$f":"COUNTIF(Table1013[[#This Row],[Competed 1]:[Competed 5]],\"=TRUE\")","v":2}]
["Alex Wilebore","Redmoor Academy",29,{"$f":"IF(C33=\"-\",0,C33)","v":29},"-",{"$f":"IF(E33=\"-\",0,E33)","v":0},25,{"$f":"IF(G33=\"-\",0,G33)","v":25},29,{"$f":"IF(I33=\"-\",0,I33)","v":29},"-",{"$f":"IF(K33=\"-\",0,K33)","v":0},{"$f":"Table1013[[#This Row],[School]]","v":"Redmoor Academy"},{"$f":"D33+F33+H33+J33+L33","v":83},{"$f":"MAX(C33,E33,G33,I33,K33)","v":29},{"$f":"IF(Q33=1,N33,IF(Q33=0,(N33-O33),\"-\"))","v":83},{"$f":"$L$1-Table1013[Competed Count]","v":1},{"$f":"IF(Q33<2,\"Yes\",\"No\")","v":"Yes"},{"$f":"AND($C$1=\"Y\",D33>0)","v":true},{"$f":"AND($E$1=\"Y\",F33>0)","v":false},{"$f":"AND($G$1=\"Y\",H33>0)","v":true},{"$f":"AND($I$1=\"Y\",J33>0)","v":true},{"$f":"AND($K$1=\"Y\",L33>0)","v":false},{"$f":"COUNTIF(Table1013[[#This Row],[Competed 1]:[Competed 5]],\"=TRUE\")","v":3}]
["Tom Widdowson","The Martin High School",28,{"$f":"IF(C34=\"-\",0,C34)","v":28},33,{"$f":"IF(E34=\"-\",0,E34)","v":33},"-",{"$f":"IF(G34=\"-\",0,G34)","v":0},30,{"$f":"IF(I34=\"-\",0,I34)","v":30},"-",{"$f":"IF(K34=\"-\",0,K34)","v":0},{"$f":"Table1013[[#This Row],[School]]","v":"The Martin High School"},{"$f":"D34+F34+H34+J34+L34","v":91},{"$f":"MAX(C34,E34,G34,I34,K34)","v":33},{"$f":"IF(Q34=1,N34,IF(Q34=0,(N34-O34),\"-\"))","v":91},{"$f":"$L$1-Table1013[Competed Count]","v":1},{"$f":"IF(Q34<2,\"Yes\",\"No\")","v":"Yes"},{"$f":"AND($C$1=\"Y\",D34>0)","v":true},{"$f":"AND($E$1=\"Y\",F34>0)","v":true},{"$f":"AND($G$1=\"Y\",H34>0)","v":false},{"$f":"AND($I$1=\"Y\",J34>0)","v":true},{"$f":"AND($K$1=\"Y\",L34>0)","v":false},{"$f":"COUNTIF(Table1013[[#This Row],[Competed 1]:[Competed 5]],\"=TRUE\")","v":3}]
["Oliver Rowles","Ivanhoe College","-",{"$f":"IF(C35=\"-\",0,C35)","v":0},37,{"$f":"IF(E35=\"-\",0,E35)","v":37},"-",{"$f":"IF(G35=\"-\",0,G35)","v":0},32,{"$f":"IF(I35=\"-\",0,I35)","v":32},"-",{"$f":"IF(K35=\"-\",0,K35)","v":0},{"$f":"Table1013[[#This Row],[School]]","v":"Ivanhoe College"},{"$f":"D35+F35+H35+J35+L35","v":69},{"$f":"MAX(C35,E35,G35,I35,K35)","v":37},{"$f":"IF(Q35=1,N35,IF(Q35=0,(N35-O35),\"-\"))","v":"-"},{"$f":"$L$1-Table1013[Competed Count]","v":2},{"$f":"IF(Q35<2,\"Yes\",\"No\")","v":"No"},{"$f":"AND($C$1=\"Y\",D35>0)","v":false},{"$f":"AND($E$1=\"Y\",F35>0)","v":true},{"$f":"AND($G$1=\"Y\",H35>0)","v":false},{"$f":"AND($I$1=\"Y\",J35>0)","v":true},{"$f":"AND($K$1=\"Y\",L35>0)","v":false},{"$f":"COUNTIF(Table1013[[#This Row],[Competed 1]:[Competed 5]],\"=TRUE\")","v":2}]
["Noah Smith","Uppingham CC",33,{"$f":"IF(C36=\"-\",0,C36)","v":33},29,{"$f":"IF(E36=\"-\",0,E36)","v":29},35,{"$f":"IF(G36=\"-\",0,G36)","v":35},33,{"$f":"IF(I36=\"-\",0,I36)","v":33},"-",{"$f":"IF(K36=\"-\",0,K36)","v":0},{"$f":"Table1013[[#This Row],[School]]","v":"Uppingham CC"},{"$f":"D36+F36+H36+J36+L36","v":130},{"$f":"MAX(C36,E36,G36,I36,K36)","v":35},{"$f":"IF(Q36=1,N36,IF(Q36=0,(N36-O36),\"-\"))","v":95},{"$f":"$L$1-Table1013[Competed Count]","v":0},{"$f":"IF(Q36<2,\"Yes\",\"No\")","v":"Yes"},{"$f":"AND($C$1=\"Y\",D36>0)","v":true},{"$f":"AND($E$1=\"Y\",F36>0)","v":true},{"$f":"AND($G$1=\"Y\",H36>0)","v":true},{"$f":"AND($I$1=\"Y\",J36>0)","v":true},{"$f":"AND($K$1=\"Y\",L36>0)","v":false},{"$f":"COUNTIF(Table1013[[#This Row],[Competed 1]:[Competed 5]],\"=TRUE\")","v":4}]
["Josh Swain","John Ferneley College",53,{"$f":"IF(C37=\"-\",0,C37)","v":53},"-",{"$f":"IF(E37=\"-\",0,E37)","v":0},45,{"$f":"IF(G37=\"-\",0,G37)","v":45},34,{"$f":"IF(I37=\"-\",0,I37)","v":34},"-",{"$f":"IF(K37=\"-\",0,K37)","v":0},{"$f":"Table1013[[#This Row],[School]]","v":"John Ferneley College"},{"$f":"D37+F37+H37+J37+L37","v":132},{"$f":"MAX(C37,E37,G37,I37,K37)","v":53},{"$f":"IF(Q37=1,N37,IF(Q37=0,(N37-O37),\"-\"))","v":132},{"$f":"$L$1-Table1013[Competed Count]","v":1},{"$f":"IF(Q37<2,\"Yes\",\"No\")","v":"Yes"},{"$f":"AND($C$1=\"Y\",D37>0)","v":true},{"$f":"AND($E$1=\"Y\",F37>0)","v":false},{"$f":"AND($G$1=\"Y\",H37>0)","v":true},{"$f":"AND($I$1=\"Y\",J37>0)","v":true},{"$f":"AND($K$1=\"Y\",L37>0)","v":false},{"$f":"COUNTIF(Table1013[[#This Row],[Competed 1]:[Competed 5]],\"=TRUE\")","v":3}]
["Will Crowe","De Lisle College",27,{"$f":"IF(C38=\"-\",0,C38)","v":27},48,{"$f":"IF(E38=\"-\",0,E38)","v":48},26,{"$f":"IF(G38=\"-\",0,G38)","v":26},35,{"$f":"IF(I38=\"-\",0,I38)","v":35},"-",{"$f":"IF(K38=\"-\",0,K38)","v":0},{"$f":"Table1013[[#This Row],[School]]","v":"De Lisle College"},{"$f":"D38+F38+H38+J38+L38","v":136},{"$f":"MAX(C38,E38,G38,I38,K38)","v":48},{"$f":"IF(Q38=1,N38,IF(Q38=0,(N38-O38),\"-\"))","v":88},{"$f":"$L$1-Table1013[Competed Count]","v":0},{"$f":"IF(Q38<2,\"Yes\",\"No\")","v":"Yes"},{"$f":"AND($C$1=\"Y\",D38>0)","v":true},{"$f":"AND($E$1=\"Y\",F38>0)","v":true},{"$f":"AND($G$1=\"Y\",H38>0)","v":true},{"$f":"AND($I$1=\"Y\",J38>0)","v":true},{"$f":"AND($K$1=\"Y\",L38>0)","v":false},{"$f":"COUNTIF(Table1013[[#This Row],[Competed 1]:[Competed 5]],\"=TRUE\")","v":4}]
["H Mitchell","Loughborough Grammar School",67,{"$f":"IF(C39=\"-\",0,C39)","v":67},"-",{"$f":"IF(E39=\"-\",0,E39)","v":0},"-",{"$f":"IF(G39=\"-\",0,G39)","v":0},36,{"$f":"IF(I39=\"-\",0,I39)","v":36},"-",{"$f":"IF(K39=\"-\",0,K39)","v":0},{"$f":"Table1013[[#This Row],[School]]","v":"Loughborough Grammar School"},{"$f":"D39+F39+H39+J39+L39","v":103},{"$f":"MAX(C39,E39,G39,I39,K39)","v":67},{"$f":"IF(Q39=1,N39,IF(Q39=0,(N39-O39),\"-\"))","v":"-"},{"$f":"$L$1-Table1013[Competed Count]","v":2},{"$f":"IF(Q39<2,\"Yes\",\"No\")","v":"No"},{"$f":"AND($C$1=\"Y\",D39>0)","v":true},{"$f":"AND($E$1=\"Y\",F39>0)","v":false},{"$f":"AND($G$1=\"Y\",H39>0)","v":false},{"$f":"AND($I$1=\"Y\",J39>0)","v":true},{"$f":"AND($K$1=\"Y\",L39>0)","v":false},{"$f":"COUNTIF(Table1013[[#This Row],[Competed 1]:[Competed 5]],\"=TRUE\")","v":2}]
["Max Green","Redmoor Academy","-",{"$f":"IF(C40=\"-\",0,C40)","v":0},"-",{"$f":"IF(E40=\"-\",0,E40)","v":0},"-",{"$f":"IF(G40=\"-\",0,G40)","v":0},37,{"$f":"IF(I40=\"-\",0,I40)","v":37},"-",{"$f":"IF(K40=\"-\",0,K40)","v":0},{"$f":"Table1013[[#This Row],[School]]","v":"Redmoor Academy"},{"$f":"D40+F40+H40+J40+L40","v":37},{"$f":"MAX(C40,E40,G40,I40,K40)","v":37},{"$f":"IF(Q40=1,N40,IF(Q40=0,(N40-O40),\"-\"))","v":"-"},{"$f":"$L$1-Table1013[Competed Count]","v":3},{"$f":"IF(Q40<2,\"Yes\",\"No\")","v":"No"},{"$f":"AND($C$1=\"Y\",D40>0)","v":false},{"$f":"AND($E$1=\"Y\",F40>0)","v":false},{"$f":"AND($G$1=\"Y\",H40>0)","v":false},{"$f":"AND($I$1=\"Y\",J40>0)","v":true},{"$f":"AND($K$1=\"Y\",L40>0)","v":false},{"$f":"COUNTIF(Table1013[[#This Row],[Competed 1]:[Competed 5]],\"=TRUE\")","v":1}]
["Charlie Phillips Ames","John Ferneley College",54,{"$f":"IF(C41=\"-\",0,C41)","v":54},44,{"$f":"IF(E41=\"-\",0,E41)","v":44},"-",{"$f":"IF(G41=\"-\",0,G41)","v":0},38,{"$f":"IF(I41=\"-\",0,I41)","v":38},"-",{"$f":"IF(K41=\"-\",0,K41)","v":0},{"$f":"Table1013[[#This Row],[School]]","v":"John Ferneley College"},{"$f":"D41+F41+H41+J41+L41","v":136},{"$f":"MAX(C41,E41,G41,I41,K41)","v":54},{"$f":"IF(Q41=1,N41,IF(Q41=0,(N41-O41),\"-\"))","v":136},{"$f":"$L$1-Table1013[Competed Count]","v":1},{"$f":"IF(Q41<2,\"Yes\",\"No\")","v":"Yes"},{"$f":"AND($C$1=\"Y\",D41>0)","v":true},{"$f":"AND($E$1=\"Y\",F41>0)","v":true},{"$f":"AND($G$1=\"Y\",H41>0)","v":false},{"$f":"AND($I$1=\"Y\",J41>0)","v":true},{"$f":"AND($K$1=\"Y\",L41>0)","v":false},{"$f":"COUNTIF(Table1013[[#This Row],[Competed 1]:[Competed 5]],\"=TRUE\")","v":3}]
["Harli Pridmore","Uppingham CC",39,{"$f":"IF(C42=\"-\",0,C42)","v":39},34,{"$f":"IF(E42=\"-\",0,E42)","v":34},"-",{"$f":"IF(G42=\"-\",0,G42)","v":0},39,{"$f":"IF(I42=\"-\",0,I42)","v":39},"-",{"$f":"IF(K42=\"-\",0,K42)","v":0},{"$f":"Table1013[[#This Row],[School]]","v":"Uppingham CC"},{"$f":"D42+F42+H42+J42+L42","v":112},{"$f":"MAX(C42,E42,G42,I42,K42)","v":39},{"$f":"IF(Q42=1,N42,IF(Q42=0,(N42-O42),\"-\"))","v":112},{"$f":"$L$1-Table1013[Competed Count]","v":1},{"$f":"IF(Q42<2,\"Yes\",\"No\")","v":"Yes"},{"$f":"AND($C$1=\"Y\",D42>0)","v":true},{"$f":"AND($E$1=\"Y\",F42>0)","v":true},{"$f":"AND($G$1=\"Y\",H42>0)","v":false},{"$f":"AND($I$1=\"Y\",J42>0)","v":true},{"$f":"AND($K$1=\"Y\",L42>0)","v":false},{"$f":"COUNTIF(Table1013[[#This Row],[Competed 1]:[Competed 5]],\"=TRUE\")","v":3}]
["Ben Cook","Thomas Estley CC",40,{"$f":"IF(C43=\"-\",0,C43)","v":40},41,{"$f":"IF(E43=\"-\",0,E43)","v":41},44,{"$f":"IF(G43=\"-\",0,G43)","v":44},40,{"$f":"IF(I43=\"-\",0,I43)","v":40},"-",{"$f":"IF(K43=\"-\",0,K43)","v":0},{"$f":"Table1013[[#This Row],[School]]","v":"Thomas Estley CC"},{"$f":"D43+F43+H43+J43+L43","v":165},{"$f":"MAX(C43,E43,G43,I43,K43)","v":44},{"$f":"IF(Q43=1,N43,IF(Q43=0,(N43-O43),\"-\"))","v":121},{"$f":"$L$1-Table1013[Competed Count]","v":0},{"$f":"IF(Q43<2,\"Yes\",\"No\")","v":"Yes"},{"$f":"AND($C$1=\"Y\",D43>0)","v":true},{"$f":"AND($E$1=\"Y\",F43>0)","v":true},{"$f":"AND($G$1=\"Y\",H43>0)","v":true},{"$f":"AND($I$1=\"Y\",J43>0)","v":true},{"$f":"AND($K$1=\"Y\",L43>0)","v":false},{"$f":"COUNTIF(Table1013[[#This Row],[Competed 1]:[Competed 5]],\"=TRUE\")","v":4}]
["James Ravenhill","Thomas Estley CC",58,{"$f":"IF(C44=\"-\",0,C44)","v":58},"-",{"$f":"IF(E44=\"-\",0,E44)","v":0},"-",{"$f":"IF(G44=\"-\",0,G44)","v":0},41,{"$f":"IF(I44=\"-\",0,I44)","v":41},"-",{"$f":"IF(K44=\"-\",0,K44)","v":0},{"$f":"Table1013[[#This Row],[School]]","v":"Thomas Estley CC"},{"$f":"D44+F44+H44+J44+L44","v":99},{"$f":"MAX(C44,E44,G44,I44,K44)","v":58},{"$f":"IF(Q44=1,N44,IF(Q44=0,(N44-O44),\"-\"))","v":"-"},{"$f":"$L$1-Table1013[Competed Count]","v":2},{"$f":"IF(Q44<2,\"Yes\",\"No\")","v":"No"},{"$f":"AND($C$1=\"Y\",D44>0)","v":true},{"$f":"AND($E$1=\"Y\",F44>0)","v":false},{"$f":"AND($G$1=\"Y\",H44>0)","v":false},{"$f":"AND($I$1=\"Y\",J44>0)","v":true},{"$f":"AND($K$1=\"Y\",L44>0)","v":false},{"$f":"COUNTIF(Table1013[[#This Row],[Competed 1]:[Competed 5]],\"=TRUE\")","v":2}]
["Owen Hurrell","John Ferneley College","-",{"$f":"IF(C45=\"-\",0,C45)","v":0},27,{"$f":"IF(E45=\"-\",0,E45)","v":27},30,{"$f":"IF(G45=\"-\",0,G45)","v":30},42,{"$f":"IF(I45=\"-\",0,I45)","v":42},"-",{"$f":"IF(K45=\"-\",0,K45)","v":0},{"$f":"Table1013[[#This Row],[School]]","v":"John Ferneley College"},{"$f":"D45+F45+H45+J45+L45","v":99},{"$f":"MAX(C45,E45,G45,I45,K45)","v":42},{"$f":"IF(Q45=1,N45,IF(Q45=0,(N45-O45),\"-\"))","v":99},{"$f":"$L$1-Table1013[Competed Count]","v":1},{"$f":"IF(Q45<2,\"Yes\",\"No\")","v":"Yes"},{"$f":"AND($C$1=\"Y\",D45>0)","v":false},{"$f":"AND($E$1=\"Y\",F45>0)","v":true},{"$f":"AND($G$1=\"Y\",H45>0)","v":true},{"$f":"AND($I$1=\"Y\",J45>0)","v":true},{"$f":"AND($K$1=\"Y\",L45>0)","v":false},{"$f":"COUNTIF(Table1013[[#This Row],[Competed 1]:[Competed 5]],\"=TRUE\")","v":3}]
["Noah Derry","Catmose College","-",{"$f":"IF(C46=\"-\",0,C46)","v":0},53,{"$f":"IF(E46=\"-\",0,E46)","v":53},47,{"$f":"IF(G46=\"-\",0,G46)","v":47},43,{"$f":"IF(I46=\"-\",0,I46)","v":43},"-",{"$f":"IF(K46=\"-\",0,K46)","v":0},{"$f":"Table1013[[#This Row],[School]]","v":"Catmose College"},{"$f":"D46+F46+H46+J46+L46","v":143},{"$f":"MAX(C46,E46,G46,I46,K46)","v":53},{"$f":"IF(Q46=1,N46,IF(Q46=0,(N46-O46),\"-\"))","v":143},{"$f":"$L$1-Table1013[Competed Count]","v":1},{"$f":"IF(Q46<2,\"Yes\",\"No\")","v":"Yes"},{"$f":"AND($C$1=\"Y\",D46>0)","v":false},{"$f":"AND($E$1=\"Y\",F46>0)","v":true},{"$f":"AND($G$1=\"Y\",H46>0)","v":true},{"$f":"AND($I$1=\"Y\",J46>0)","v":true},{"$f":"AND($K$1=\"Y\",L46>0)","v":false},{"$f":"COUNTIF(Table1013[[#This Row],[Competed 1]:[Competed 5]],\"=TRUE\")","v":3}]
["Luke Nichols","John Ferneley College",36,{"$f":"IF(C47=\"-\",0,C47)","v":36},50,{"$f":"IF(E47=\"-\",0,E47)","v":50},28,{"$f":"IF(G47=\"-\",0,G47)","v":28},44,{"$f":"IF(I47=\"-\",0,I47)","v":44},"-",{"$f":"IF(K47=\"-\",0,K47)","v":0},{"$f":"Table1013[[#This Row],[School]]","v":"John Ferneley College"},{"$f":"D47+F47+H47+J47+L47","v":158},{"$f":"MAX(C47,E47,G47,I47,K47)","v":50},{"$f":"IF(Q47=1,N47,IF(Q47=0,(N47-O47),\"-\"))","v":108},{"$f":"$L$1-Table1013[Competed Count]","v":0},{"$f":"IF(Q47<2,\"Yes\",\"No\")","v":"Yes"},{"$f":"AND($C$1=\"Y\",D47>0)","v":true},{"$f":"AND($E$1=\"Y\",F47>0)","v":true},{"$f":"AND($G$1=\"Y\",H47>0)","v":true},{"$f":"AND($I$1=\"Y\",J47>0)","v":true},{"$f":"AND($K$1=\"Y\",L47>0)","v":false},{"$f":"COUNTIF(Table1013[[#This Row],[Competed 1]:[Competed 5]],\"=TRUE\")","v":4}]
["Spencer Parker","John Ferneley College","-",{"$f":"IF(C48=\"-\",0,C48)","v":0},45,{"$f":"IF(E48=\"-\",0,E48)","v":45},31,{"$f":"IF(G48=\"-\",0,G48)","v":31},45,{"$f":"IF(I48=\"-\",0,I48)","v":45},"-",{"$f":"IF(K48=\"-\",0,K48)","v":0},{"$f":"Table1013[[#This Row],[School]]","v":"John Ferneley College"},{"$f":"D48+F48+H48+J48+L48","v":121},{"$f":"MAX(C48,E48,G48,I48,K48)","v":45},{"$f":"IF(Q48=1,N48,IF(Q48=0,(N48-O48),\"-\"))","v":121},{"$f":"$L$1-Table1013[Competed Count]","v":1},{"$f":"IF(Q48<2,\"Yes\",\"No\")","v":"Yes"},{"$f":"AND($C$1=\"Y\",D48>0)","v":false},{"$f":"AND($E$1=\"Y\",F48>0)","v":true},{"$f":"AND($G$1=\"Y\",H48>0)","v":true},{"$f":"AND($I$1=\"Y\",J48>0)","v":true},{"$f":"AND($K$1=\"Y\",L48>0)","v":false},{"$f":"COUNTIF(Table1013[[#This Row],[Competed 1]:[Competed 5]],\"=TRUE\")","v":3}]
["Arthur Williams","Lutterworth High School","-",{"$f":"IF(C49=\"-\",0,C49)","v":0},"-",{"$f":"IF(E49=\"-\",0,E49)","v":0},38,{"$f":"IF(G49=\"-\",0,G49)","v":38},46,{"$f":"IF(I49=\"-\",0,I49)","v":46},"-",{"$f":"IF(K49=\"-\",0,K49)","v":0},{"$f":"Table1013[[#This Row],[School]]","v":"Lutterworth High School"},{"$f":"D49+F49+H49+J49+L49","v":84},{"$f":"MAX(C49,E49,G49,I49,K49)","v":46},{"$f":"IF(Q49=1,N49,IF(Q49=0,(N49-O49),\"-\"))","v":"-"},{"$f":"$L$1-Table1013[Competed Count]","v":2},{"$f":"IF(Q49<2,\"Yes\",\"No\")","v":"No"},{"$f":"AND($C$1=\"Y\",D49>0)","v":false},{"$f":"AND($E$1=\"Y\",F49>0)","v":false},{"$f":"AND($G$1=\"Y\",H49>0)","v":true},{"$f":"AND($I$1=\"Y\",J49>0)","v":true},{"$f":"AND($K$1=\"Y\",L49>0)","v":false},{"$f":"COUNTIF(Table1013[[#This Row],[Competed 1]:[Competed 5]],\"=TRUE\")","v":2}]
["Alex Ryves","Wreake Valley Academy","-",{"$f":"IF(C50=\"-\",0,C50)","v":0},25,{"$f":"IF(E50=\"-\",0,E50)","v":25},40,{"$f":"IF(G50=\"-\",0,G50)","v":40},47,{"$f":"IF(I50=\"-\",0,I50)","v":47},"-",{"$f":"IF(K50=\"-\",0,K50)","v":0},{"$f":"Table1013[[#This Row],[School]]","v":"Wreake Valley Academy"},{"$f":"D50+F50+H50+J50+L50","v":112},{"$f":"MAX(C50,E50,G50,I50,K50)","v":47},{"$f":"IF(Q50=1,N50,IF(Q50=0,(N50-O50),\"-\"))","v":112},{"$f":"$L$1-Table1013[Competed Count]","v":1},{"$f":"IF(Q50<2,\"Yes\",\"No\")","v":"Yes"},{"$f":"AND($C$1=\"Y\",D50>0)","v":false},{"$f":"AND($E$1=\"Y\",F50>0)","v":true},{"$f":"AND($G$1=\"Y\",H50>0)","v":true},{"$f":"AND($I$1=\"Y\",J50>0)","v":true},{"$f":"AND($K$1=\"Y\",L50>0)","v":false},{"$f":"COUNTIF(Table1013[[#This Row],[Competed 1]:[Competed 5]],\"=TRUE\")","v":3}]
["Niji Oguhgeola","St Pauls Catholic School","-",{"$f":"IF(C51=\"-\",0,C51)","v":0},"-",{"$f":"IF(E51=\"-\",0,E51)","v":0},"-",{"$f":"IF(G51=\"-\",0,G51)","v":0},48,{"$f":"IF(I51=\"-\",0,I51)","v":48},"-",{"$f":"IF(K51=\"-\",0,K51)","v":0},{"$f":"Table1013[[#This Row],[School]]","v":"St Pauls Catholic School"},{"$f":"D51+F51+H51+J51+L51","v":48},{"$f":"MAX(C51,E51,G51,I51,K51)","v":48},{"$f":"IF(Q51=1,N51,IF(Q51=0,(N51-O51),\"-\"))","v":"-"},{"$f":"$L$1-Table1013[Competed Count]","v":3},{"$f":"IF(Q51<2,\"Yes\",\"No\")","v":"No"},{"$f":"AND($C$1=\"Y\",D51>0)","v":false},{"$f":"AND($E$1=\"Y\",F51>0)","v":false},{"$f":"AND($G$1=\"Y\",H51>0)","v":false},{"$f":"AND($I$1=\"Y\",J51>0)","v":true},{"$f":"AND($K$1=\"Y\",L51>0)","v":false},{"$f":"COUNTIF(Table1013[[#This Row],[Competed 1]:[Competed 5]],\"=TRUE\")","v":1}]
["Ethan Dillon","St Pauls Catholic School","-",{"$f":"IF(C52=\"-\",0,C52)","v":0},64,{"$f":"IF(E52=\"-\",0,E52)","v":64},50,{"$f":"IF(G52=\"-\",0,G52)","v":50},49,{"$f":"IF(I52=\"-\",0,I52)","v":49},"-",{"$f":"IF(K52=\"-\",0,K52)","v":0},{"$f":"Table1013[[#This Row],[School]]","v":"St Pauls Catholic School"},{"$f":"D52+F52+H52+J52+L52","v":163},{"$f":"MAX(C52,E52,G52,I52,K52)","v":64},{"$f":"IF(Q52=1,N52,IF(Q52=0,(N52-O52),\"-\"))","v":163},{"$f":"$L$1-Table1013[Competed Count]","v":1},{"$f":"IF(Q52<2,\"Yes\",\"No\")","v":"Yes"},{"$f":"AND($C$1=\"Y\",D52>0)","v":false},{"$f":"AND($E$1=\"Y\",F52>0)","v":true},{"$f":"AND($G$1=\"Y\",H52>0)","v":true},{"$f":"AND($I$1=\"Y\",J52>0)","v":true},{"$f":"AND($K$1=\"Y\",L52>0)","v":false},{"$f":"COUNTIF(Table1013[[#This Row],[Competed 1]:[Competed 5]],\"=TRUE\")","v":3}]
["Alex Cotton","Ratcliffe College","-",{"$f":"IF(C53=\"-\",0,C53)","v":0},"-",{"$f":"IF(E53=\"-\",0,E53)","v":0},34,{"$f":"IF(G53=\"-\",0,G53)","v":34},50,{"$f":"IF(I53=\"-\",0,I53)","v":50},"-",{"$f":"IF(K53=\"-\",0,K53)","v":0},{"$f":"Table1013[[#This Row],[School]]","v":"Ratcliffe College"},{"$f":"D53+F53+H53+J53+L53","v":84},{"$f":"MAX(C53,E53,G53,I53,K53)","v":50},{"$f":"IF(Q53=1,N53,IF(Q53=0,(N53-O53),\"-\"))","v":"-"},{"$f":"$L$1-Table1013[Competed Count]","v":2},{"$f":"IF(Q53<2,\"Yes\",\"No\")","v":"No"},{"$f":"AND($C$1=\"Y\",D53>0)","v":false},{"$f":"AND($E$1=\"Y\",F53>0)","v":false},{"$f":"AND($G$1=\"Y\",H53>0)","v":true},{"$f":"AND($I$1=\"Y\",J53>0)","v":true},{"$f":"AND($K$1=\"Y\",L53>0)","v":false},{"$f":"COUNTIF(Table1013[[#This Row],[Competed 1]:[Competed 5]],\"=TRUE\")","v":2}]
["Jake Wood","De Lisle College",42,{"$f":"IF(C54=\"-\",0,C54)","v":42},52,{"$f":"IF(E54=\"-\",0,E54)","v":52},46,{"$f":"IF(G54=\"-\",0,G54)","v":46},51,{"$f":"IF(I54=\"-\",0,I54)","v":51},"-",{"$f":"IF(K54=\"-\",0,K54)","v":0},{"$f":"Table1013[[#This Row],[School]]","v":"De Lisle College"},{"$f":"D54+F54+H54+J54+L54","v":191},{"$f":"MAX(C54,E54,G54,I54,K54)","v":52},{"$f":"IF(Q54=1,N54,IF(Q54=0,(N54-O54),\"-\"))","v":139},{"$f":"$L$1-Table1013[Competed Count]","v":0},{"$f":"IF(Q54<2,\"Yes\",\"No\")","v":"Yes"},{"$f":"AND($C$1=\"Y\",D54>0)","v":true},{"$f":"AND($E$1=\"Y\",F54>0)","v":true},{"$f":"AND($G$1=\"Y\",H54>0)","v":true},{"$f":"AND($I$1=\"Y\",J54>0)","v":true},{"$f":"AND($K$1=\"Y\",L54>0)","v":false},{"$f":"COUNTIF(Table1013[[#This Row],[Competed 1]:[Competed 5]],\"=TRUE\")","v":4}]
["Will Paris","Thomas Estley CC","-",{"$f":"IF(C55=\"-\",0,C55)","v":0},"-",{"$f":"IF(E55=\"-\",0,E55)","v":0},48,{"$f":"IF(G55=\"-\",0,G55)","v":48},52,{"$f":"IF(I55=\"-\",0,I55)","v":52},"-",{"$f":"IF(K55=\"-\",0,K55)","v":0},{"$f":"Table1013[[#This Row],[School]]","v":"Thomas Estley CC"},{"$f":"D55+F55+H55+J55+L55","v":100},{"$f":"MAX(C55,E55,G55,I55,K55)","v":52},{"$f":"IF(Q55=1,N55,IF(Q55=0,(N55-O55),\"-\"))","v":"-"},{"$f":"$L$1-Table1013[Competed Count]","v":2},{"$f":"IF(Q55<2,\"Yes\",\"No\")","v":"No"},{"$f":"AND($C$1=\"Y\",D55>0)","v":false},{"$f":"AND($E$1=\"Y\",F55>0)","v":false},{"$f":"AND($G$1=\"Y\",H55>0)","v":true},{"$f":"AND($I$1=\"Y\",J55>0)","v":true},{"$f":"AND($K$1=\"Y\",L55>0)","v":false},{"$f":"COUNTIF(Table1013[[#This Row],[Competed 1]:[Competed 5]],\"=TRUE\")","v":2}]
["Aaron Hill","St Pauls Catholic School",72,{"$f":"IF(C56=\"-\",0,C56)","v":72},"-",{"$f":"IF(E56=\"-\",0,E56)","v":0},52,{"$f":"IF(G56=\"-\",0,G56)","v":52},53,{"$f":"IF(I56=\"-\",0,I56)","v":53},"-",{"$f":"IF(K56=\"-\",0,K56)","v":0},{"$f":"Table1013[[#This Row],[School]]","v":"St Pauls Catholic School"},{"$f":"D56+F56+H56+J56+L56","v":177},{"$f":"MAX(C56,E56,G56,I56,K56)","v":72},{"$f":"IF(Q56=1,N56,IF(Q56=0,(N56-O56),\"-\"))","v":177},{"$f":"$L$1-Table1013[Competed Count]","v":1},{"$f":"IF(Q56<2,\"Yes\",\"No\")","v":"Yes"},{"$f":"AND($C$1=\"Y\",D56>0)","v":true},{"$f":"AND($E$1=\"Y\",F56>0)","v":false},{"$f":"AND($G$1=\"Y\",H56>0)","v":true},{"$f":"AND($I$1=\"Y\",J56>0)","v":true},{"$f":"AND($K$1=\"Y\",L56>0)","v":false},{"$f":"COUNTIF(Table1013[[#This Row],[Competed 1]:[Competed 5]],\"=TRUE\")","v":3}]
["Maxim Manokhin","De Lisle College",24,{"$f":"IF(C57=\"-\",0,C57)","v":24},17,{"$f":"IF(E57=\"-\",0,E57)","v":17},10,{"$f":"IF(G57=\"-\",0,G57)","v":10},"-",{"$f":"IF(I57=\"-\",0,I57)","v":0},"-",{"$f":"IF(K57=\"-\",0,K57)","v":0},{"$f":"Table1013[[#This Row],[School]]","v":"De Lisle College"},{"$f":"D57+F57+H57+J57+L57","v":51},{"$f":"MAX(C57,E57,G57,I57,K57)","v":24},{"$f":"IF(Q57=1,N57,IF(Q57=0,(N57-O57),\"-\"))","v":51},{"$f":"$L$1-Table1013[Competed Count]","v":1},{"$f":"IF(Q57<2,\"Yes\",\"No\")","v":"Yes"},{"$f":"AND($C$1=\"Y\",D57>0)","v":true},{"$f":"AND($E$1=\"Y\",F57>0)","v":true},{"$f":"AND($G$1=\"Y\",H57>0)","v":true},{"$f":"AND($I$1=\"Y\",J57>0)","v":false},{"$f":"AND($K$1=\"Y\",L57>0)","v":false},{"$f":"COUNTIF(Table1013[[#This Row],[Competed 1]:[Competed 5]],\"=TRUE\")","v":3}]
["Ziggy Joachim","Wreake Valley Academy","-",{"$f":"IF(C58=\"-\",0,C58)","v":0},11,{"$f":"IF(E58=\"-\",0,E58)","v":11},12,{"$f":"IF(G58=\"-\",0,G58)","v":12},"-",{"$f":"IF(I58=\"-\",0,I58)","v":0},"-",{"$f":"IF(K58=\"-\",0,K58)","v":0},{"$f":"Table1013[[#This Row],[School]]","v":"Wreake Valley Academy"},{"$f":"D58+F58+H58+J58+L58","v":23},{"$f":"MAX(C58,E58,G58,I58,K58)","v":12},{"$f":"IF(Q58=1,N58,IF(Q58=0,(N58-O58),\"-\"))","v":"-"},{"$f":"$L$1-Table1013[Competed Count]","v":2},{"$f":"IF(Q58<2,\"Yes\",\"No\")","v":"No"},{"$f":"AND($C$1=\"Y\",D58>0)","v":false},{"$f":"AND($E$1=\"Y\",F58>0)","v":true},{"$f":"AND($G$1=\"Y\",H58>0)","v":true},{"$f":"AND($I$1=\"Y\",J58>0)","v":false},{"$f":"AND($K$1=\"Y\",L58>0)","v":false},{"$f":"COUNTIF(Table1013[[#This Row],[Competed 1]:[Competed 5]],\"=TRUE\")","v":2}]
["Nicolas Wood","Robert Smyth Academy",26,{"$f":"IF(C59=\"-\",0,C59)","v":26},"-",{"$f":"IF(E59=\"-\",0,E59)","v":0},20,{"$f":"IF(G59=\"-\",0,G59)","v":20},"-",{"$f":"IF(I59=\"-\",0,I59)","v":0},"-",{"$f":"IF(K59=\"-\",0,K59)","v":0},{"$f":"Table1013[[#This Row],[School]]","v":"Robert Smyth Academy"},{"$f":"D59+F59+H59+J59+L59","v":46},{"$f":"MAX(C59,E59,G59,I59,K59)","v":26},{"$f":"IF(Q59=1,N59,IF(Q59=0,(N59-O59),\"-\"))","v":"-"},{"$f":"$L$1-Table1013[Competed Count]","v":2},{"$f":"IF(Q59<2,\"Yes\",\"No\")","v":"No"},{"$f":"AND($C$1=\"Y\",D59>0)","v":true},{"$f":"AND($E$1=\"Y\",F59>0)","v":false},{"$f":"AND($G$1=\"Y\",H59>0)","v":true},{"$f":"AND($I$1=\"Y\",J59>0)","v":false},{"$f":"AND($K$1=\"Y\",L59>0)","v":false},{"$f":"COUNTIF(Table1013[[#This Row],[Competed 1]:[Competed 5]],\"=TRUE\")","v":2}]
["Charlie White-Godden","Long Field Academy",16,{"$f":"IF(C60=\"-\",0,C60)","v":16},14,{"$f":"IF(E60=\"-\",0,E60)","v":14},22,{"$f":"IF(G60=\"-\",0,G60)","v":22},"-",{"$f":"IF(I60=\"-\",0,I60)","v":0},"-",{"$f":"IF(K60=\"-\",0,K60)","v":0},{"$f":"Table1013[[#This Row],[School]]","v":"Long Field Academy"},{"$f":"D60+F60+H60+J60+L60","v":52},{"$f":"MAX(C60,E60,G60,I60,K60)","v":22},{"$f":"IF(Q60=1,N60,IF(Q60=0,(N60-O60),\"-\"))","v":52},{"$f":"$L$1-Table1013[Competed Count]","v":1},{"$f":"IF(Q60<2,\"Yes\",\"No\")","v":"Yes"},{"$f":"AND($C$1=\"Y\",D60>0)","v":true},{"$f":"AND($E$1=\"Y\",F60>0)","v":true},{"$f":"AND($G$1=\"Y\",H60>0)","v":true},{"$f":"AND($I$1=\"Y\",J60>0)","v":false},{"$f":"AND($K$1=\"Y\",L60>0)","v":false},{"$f":"COUNTIF(Table1013[[#This Row],[Competed 1]:[Competed 5]],\"=TRUE\")","v":3}]
["Ollie Thorburn","Ivanhoe College","-",{"$f":"IF(C61=\"-\",0,C61)","v":0},"-",{"$f":"IF(E61=\"-\",0,E61)","v":0},29,{"$f":"IF(G61=\"-\",0,G61)","v":29},"-",{"$f":"IF(I61=\"-\",0,I61)","v":0},"-",{"$f":"IF(K61=\"-\",0,K61)","v":0},{"$f":"Table1013[[#This Row],[School]]","v":"Ivanhoe College"},{"$f":"D61+F61+H61+J61+L61","v":29},{"$f":"MAX(C61,E61,G61,I61,K61)","v":29},{"$f":"IF(Q61=1,N61,IF(Q61=0,(N61-O61),\"-\"))","v":"-"},{"$f":"$L$1-Table1013[Competed Count]","v":3},{"$f":"IF(Q61<2,\"Yes\",\"No\")","v":"No"},{"$f":"AND($C$1=\"Y\",D61>0)","v":false},{"$f":"AND($E$1=\"Y\",F61>0)","v":false},{"$f":"AND($G$1=\"Y\",H61>0)","v":true},{"$f":"AND($I$1=\"Y\",J61>0)","v":false},{"$f":"AND($K$1=\"Y\",L61>0)","v":false},{"$f":"COUNTIF(Table1013[[#This Row],[Competed 1]:[Competed 5]],\"=TRUE\")","v":1}]
["Danny Dealmacla","Lutterworth High School","-",{"$f":"IF(C62=\"-\",0,C62)","v":0},36,{"$f":"IF(E62=\"-\",0,E62)","v":36},32,{"$f":"IF(G62=\"-\",0,G62)","v":32},"-",{"$f":"IF(I62=\"-\",0,I62)","v":0},"-",{"$f":"IF(K62=\"-\",0,K62)","v":0},{"$f":"Table1013[[#This Row],[School]]","v":"Lutterworth High School"},{"$f":"D62+F62+H62+J62+L62","v":68},{"$f":"MAX(C62,E62,G62,I62,K62)","v":36},{"$f":"IF(Q62=1,N62,IF(Q62=0,(N62-O62),\"-\"))","v":"-"},{"$f":"$L$1-Table1013[Competed Count]","v":2},{"$f":"IF(Q62<2,\"Yes\",\"No\")","v":"No"},{"$f":"AND($C$1=\"Y\",D62>0)","v":false},{"$f":"AND($E$1=\"Y\",F62>0)","v":true},{"$f":"AND($G$1=\"Y\",H62>0)","v":true},{"$f":"AND($I$1=\"Y\",J62>0)","v":false},{"$f":"AND($K$1=\"Y\",L62>0)","v":false},{"$f":"COUNTIF(Table1013[[#This Row],[Competed 1]:[Competed 5]],\"=TRUE\")","v":2}]
["Niyi Ogungbola","Wreake Valley Academy","-",{"$f":"IF(C63=\"-\",0,C63)","v":0},"-",{"$f":"IF(E63=\"-\",0,E63)","v":0},33,{"$f":"IF(G63=\"-\",0,G63)","v":33},"-",{"$f":"IF(I63=\"-\",0,I63)","v":0},"-",{"$f":"IF(K63=\"-\",0,K63)","v":0},{"$f":"Table1013[[#This Row],[School]]","v":"Wreake Valley Academy"},{"$f":"D63+F63+H63+J63+L63","v":33},{"$f":"MAX(C63,E63,G63,I63,K63)","v":33},{"$f":"IF(Q63=1,N63,IF(Q63=0,(N63-O63),\"-\"))","v":"-"},{"$f":"$L$1-Table1013[Competed Count]","v":3},{"$f":"IF(Q63<2,\"Yes\",\"No\")","v":"No"},{"$f":"AND($C$1=\"Y\",D63>0)","v":false},{"$f":"AND($E$1=\"Y\",F63>0)","v":false},{"$f":"AND($G$1=\"Y\",H63>0)","v":true},{"$f":"AND($I$1=\"Y\",J63>0)","v":false},{"$f":"AND($K$1=\"Y\",L63>0)","v":false},{"$f":"COUNTIF(Table1013[[#This Row],[Competed 1]:[Competed 5]],\"=TRUE\")","v":1}]
["Freddie Palin","Leicester Grammar School","-",{"$f":"IF(C64=\"-\",0,C64)","v":0},"-",{"$f":"IF(E64=\"-\",0,E64)","v":0},36,{"$f":"IF(G64=\"-\",0,G64)","v":36},"-",{"$f":"IF(I64=\"-\",0,I64)","v":0},"-",{"$f":"IF(K64=\"-\",0,K64)","v":0},{"$f":"Table1013[[#This Row],[School]]","v":"Leicester Grammar School"},{"$f":"D64+F64+H64+J64+L64","v":36},{"$f":"MAX(C64,E64,G64,I64,K64)","v":36},{"$f":"IF(Q64=1,N64,IF(Q64=0,(N64-O64),\"-\"))","v":"-"},{"$f":"$L$1-Table1013[Competed Count]","v":3},{"$f":"IF(Q64<2,\"Yes\",\"No\")","v":"No"},{"$f":"AND($C$1=\"Y\",D64>0)","v":false},{"$f":"AND($E$1=\"Y\",F64>0)","v":false},{"$f":"AND($G$1=\"Y\",H64>0)","v":true},{"$f":"AND($I$1=\"Y\",J64>0)","v":false},{"$f":"AND($K$1=\"Y\",L64>0)","v":false},{"$f":"COUNTIF(Table1013[[#This Row],[Competed 1]:[Competed 5]],\"=TRUE\")","v":1}]
["Jamie Tylecote","Catmose College","-",{"$f":"IF(C65=\"-\",0,C65)","v":0},30,{"$f":"IF(E65=\"-\",0,E65)","v":30},39,{"$f":"IF(G65=\"-\",0,G65)","v":39},"-",{"$f":"IF(I65=\"-\",0,I65)","v":0},"-",{"$f":"IF(K65=\"-\",0,K65)","v":0},{"$f":"Table1013[[#This Row],[School]]","v":"Catmose College"},{"$f":"D65+F65+H65+J65+L65","v":69},{"$f":"MAX(C65,E65,G65,I65,K65)","v":39},{"$f":"IF(Q65=1,N65,IF(Q65=0,(N65-O65),\"-\"))","v":"-"},{"$f":"$L$1-Table1013[Competed Count]","v":2},{"$f":"IF(Q65<2,\"Yes\",\"No\")","v":"No"},{"$f":"AND($C$1=\"Y\",D65>0)","v":false},{"$f":"AND($E$1=\"Y\",F65>0)","v":true},{"$f":"AND($G$1=\"Y\",H65>0)","v":true},{"$f":"AND($I$1=\"Y\",J65>0)","v":false},{"$f":"AND($K$1=\"Y\",L65>0)","v":false},{"$f":"COUNTIF(Table1013[[#This Row],[Competed 1]:[Competed 5]],\"=TRUE\")","v":2}]
["Louis Woodcock","John Ferneley College",56,{"$f":"IF(C66=\"-\",0,C66)","v":56},"-",{"$f":"IF(E66=\"-\",0,E66)","v":0},41,{"$f":"IF(G66=\"-\",0,G66)","v":41},"-",{"$f":"IF(I66=\"-\",0,I66)","v":0},"-",{"$f":"IF(K66=\"-\",0,K66)","v":0},{"$f":"Table1013[[#This Row],[School]]","v":"John Ferneley College"},{"$f":"D66+F66+H66+J66+L66","v":97},{"$f":"MAX(C66,E66,G66,I66,K66)","v":56},{"$f":"IF(Q66=1,N66,IF(Q66=0,(N66-O66),\"-\"))","v":"-"},{"$f":"$L$1-Table1013[Competed Count]","v":2},{"$f":"IF(Q66<2,\"Yes\",\"No\")","v":"No"},{"$f":"AND($C$1=\"Y\",D66>0)","v":true},{"$f":"AND($E$1=\"Y\",F66>0)","v":false},{"$f":"AND($G$1=\"Y\",H66>0)","v":true},{"$f":"AND($I$1=\"Y\",J66>0)","v":false},{"$f":"AND($K$1=\"Y\",L66>0)","v":false},{"$f":"COUNTIF(Table1013[[#This Row],[Competed 1]:[Competed 5]],\"=TRUE\")","v":2}]
["Will McCade","Catmose College","-",{"$f":"IF(C67=\"-\",0,C67)","v":0},51,{"$f":"IF(E67=\"-\",0,E67)","v":51},42,{"$f":"IF(G67=\"-\",0,G67)","v":42},"-",{"$f":"IF(I67=\"-\",0,I67)","v":0},"-",{"$f":"IF(K67=\"-\",0,K67)","v":0},{"$f":"Table1013[[#This Row],[School]]","v":"Catmose College"},{"$f":"D67+F67+H67+J67+L67","v":93},{"$f":"MAX(C67,E67,G67,I67,K67)","v":51},{"$f":"IF(Q67=1,N67,IF(Q67=0,(N67-O67),\"-\"))","v":"-"},{"$f":"$L$1-Table1013[Competed Count]","v":2},{"$f":"IF(Q67<2,\"Yes\",\"No\")","v":"No"},{"$f":"AND($C$1=\"Y\",D67>0)","v":false},{"$f":"AND($E$1=\"Y\",F67>0)","v":true},{"$f":"AND($G$1=\"Y\",H67>0)","v":true},{"$f":"AND($I$1=\"Y\",J67>0)","v":false},{"$f":"AND($K$1=\"Y\",L67>0)","v":false},{"$f":"COUNTIF(Table1013[[#This Row],[Competed 1]:[Competed 5]],\"=TRUE\")","v":2}]
["Alfie Sanders","The Martin High School",49,{"$f":"IF(C68=\"-\",0,C68)","v":49},"-",{"$f":"IF(E68=\"-\",0,E68)","v":0},43,{"$f":"IF(G68=\"-\",0,G68)","v":43},"-",{"$f":"IF(I68=\"-\",0,I68)","v":0},"-",{"$f":"IF(K68=\"-\",0,K68)","v":0},{"$f":"Table1013[[#This Row],[School]]","v":"The Martin High School"},{"$f":"D68+F68+H68+J68+L68","v":92},{"$f":"MAX(C68,E68,G68,I68,K68)","v":49},{"$f":"IF(Q68=1,N68,IF(Q68=0,(N68-O68),\"-\"))","v":"-"},{"$f":"$L$1-Table1013[Competed Count]","v":2},{"$f":"IF(Q68<2,\"Yes\",\"No\")","v":"No"},{"$f":"AND($C$1=\"Y\",D68>0)","v":true},{"$f":"AND($E$1=\"Y\",F68>0)","v":false},{"$f":"AND($G$1=\"Y\",H68>0)","v":true},{"$f":"AND($I$1=\"Y\",J68>0)","v":false},{"$f":"AND($K$1=\"Y\",L68>0)","v":false},{"$f":"COUNTIF(Table1013[[#This Row],[Competed 1]:[Competed 5]],\"=TRUE\")","v":2}]
["Zack Michalowski","The Market Bosworth School","-",{"$f":"IF(C69=\"-\",0,C69)","v":0},"-",{"$f":"IF(E69=\"-\",0,E69)","v":0},49,{"$f":"IF(G69=\"-\",0,G69)","v":49},"-",{"$f":"IF(I69=\"-\",0,I69)","v":0},"-",{"$f":"IF(K69=\"-\",0,K69)","v":0},{"$f":"Table1013[[#This Row],[School]]","v":"The Market Bosworth School"},{"$f":"D69+F69+H69+J69+L69","v":49},{"$f":"MAX(C69,E69,G69,I69,K69)","v":49},{"$f":"IF(Q69=1,N69,IF(Q69=0,(N69-O69),\"-\"))","v":"-"},{"$f":"$L$1-Table1013[Competed Count]","v":3},{"$f":"IF(Q69<2,\"Yes\",\"No\")","v":"No"},{"$f":"AND($C$1=\"Y\",D69>0)","v":false},{"$f":"AND($E$1=\"Y\",F69>0)","v":false},{"$f":"AND($G$1=\"Y\",H69>0)","v":true},{"$f":"AND($I$1=\"Y\",J69>0)","v":false},{"$f":"AND($K$1=\"Y\",L69>0)","v":false},{"$f":"COUNTIF(Table1013[[#This Row],[Competed 1]:[Competed 5]],\"=TRUE\")","v":1}]
["Alex Hollinshead","Ratcliffe College","-",{"$f":"IF(C70=\"-\",0,C70)","v":0},"-",{"$f":"IF(E70=\"-\",0,E70)","v":0},51,{"$f":"IF(G70=\"-\",0,G70)","v":51},"-",{"$f":"IF(I70=\"-\",0,I70)","v":0},"-",{"$f":"IF(K70=\"-\",0,K70)","v":0},{"$f":"Table1013[[#This Row],[School]]","v":"Ratcliffe College"},{"$f":"D70+F70+H70+J70+L70","v":51},{"$f":"MAX(C70,E70,G70,I70,K70)","v":51},{"$f":"IF(Q70=1,N70,IF(Q70=0,(N70-O70),\"-\"))","v":"-"},{"$f":"$L$1-Table1013[Competed Count]","v":3},{"$f":"IF(Q70<2,\"Yes\",\"No\")","v":"No"},{"$f":"AND($C$1=\"Y\",D70>0)","v":false},{"$f":"AND($E$1=\"Y\",F70>0)","v":false},{"$f":"AND($G$1=\"Y\",H70>0)","v":true},{"$f":"AND($I$1=\"Y\",J70>0)","v":false},{"$f":"AND($K$1=\"Y\",L70>0)","v":false},{"$f":"COUNTIF(Table1013[[#This Row],[Competed 1]:[Competed 5]],\"=TRUE\")","v":1}]
["Zunaid Bhaisi","Crown Hills CC","-",{"$f":"IF(C71=\"-\",0,C71)","v":0},70,{"$f":"IF(E71=\"-\",0,E71)","v":70},53,{"$f":"IF(G71=\"-\",0,G71)","v":53},"-",{"$f":"IF(I71=\"-\",0,I71)","v":0},"-",{"$f":"IF(K71=\"-\",0,K71)","v":0},{"$f":"Table1013[[#This Row],[School]]","v":"Crown Hills CC"},{"$f":"D71+F71+H71+J71+L71","v":123},{"$f":"MAX(C71,E71,G71,I71,K71)","v":70},{"$f":"IF(Q71=1,N71,IF(Q71=0,(N71-O71),\"-\"))","v":"-"},{"$f":"$L$1-Table1013[Competed Count]","v":2},{"$f":"IF(Q71<2,\"Yes\",\"No\")","v":"No"},{"$f":"AND($C$1=\"Y\",D71>0)","v":false},{"$f":"AND($E$1=\"Y\",F71>0)","v":true},{"$f":"AND($G$1=\"Y\",H71>0)","v":true},{"$f":"AND($I$1=\"Y\",J71>0)","v":false},{"$f":"AND($K$1=\"Y\",L71>0)","v":false},{"$f":"COUNTIF(Table1013[[#This Row],[Competed 1]:[Competed 5]],\"=TRUE\")","v":2}]
["Sam Walklin","Kibworth School","-",{"$f":"IF(C72=\"-\",0,C72)","v":0},9,{"$f":"IF(E72=\"-\",0,E72)","v":9},"-",{"$f":"IF(G72=\"-\",0,G72)","v":0},"-",{"$f":"IF(I72=\"-\",0,I72)","v":0},"-",{"$f":"IF(K72=\"-\",0,K72)","v":0},{"$f":"Table1013[[#This Row],[School]]","v":"Kibworth School"},{"$f":"D72+F72+H72+J72+L72","v":9},{"$f":"MAX(C72,E72,G72,I72,K72)","v":9},{"$f":"IF(Q72=1,N72,IF(Q72=0,(N72-O72),\"-\"))","v":"-"},{"$f":"$L$1-Table1013[Competed Count]","v":3},{"$f":"IF(Q72<2,\"Yes\",\"No\")","v":"No"},{"$f":"AND($C$1=\"Y\",D72>0)","v":false},{"$f":"AND($E$1=\"Y\",F72>0)","v":true},{"$f":"AND($G$1=\"Y\",H72>0)","v":false},{"$f":"AND($I$1=\"Y\",J72>0)","v":false},{"$f":"AND($K$1=\"Y\",L72>0)","v":false},{"$f":"COUNTIF(Table1013[[#This Row],[Competed 1]:[Competed 5]],\"=TRUE\")","v":1}]
["William Blood","Manor High School","-",{"$f":"IF(C73=\"-\",0,C73)","v":0},10,{"$f":"IF(E73=\"-\",0,E73)","v":10},"-",{"$f":"IF(G73=\"-\",0,G73)","v":0},"-",{"$f":"IF(I73=\"-\",0,I73)","v":0},"-",{"$f":"IF(K73=\"-\",0,K73)","v":0},{"$f":"Table1013[[#This Row],[School]]","v":"Manor High School"},{"$f":"D73+F73+H73+J73+L73","v":10},{"$f":"MAX(C73,E73,G73,I73,K73)","v":10},{"$f":"IF(Q73=1,N73,IF(Q73=0,(N73-O73),\"-\"))","v":"-"},{"$f":"$L$1-Table1013[Competed Count]","v":3},{"$f":"IF(Q73<2,\"Yes\",\"No\")","v":"No"},{"$f":"AND($C$1=\"Y\",D73>0)","v":false},{"$f":"AND($E$1=\"Y\",F73>0)","v":true},{"$f":"AND($G$1=\"Y\",H73>0)","v":false},{"$f":"AND($I$1=\"Y\",J73>0)","v":false},{"$f":"AND($K$1=\"Y\",L73>0)","v":false},{"$f":"COUNTIF(Table1013[[#This Row],[Competed 1]:[Competed 5]],\"=TRUE\")","v":1}]
["Jake Dowling","Robert Smyth Academy","-",{"$f":"IF(C74=\"-\",0,C74)","v":0},15,{"$f":"IF(E74=\"-\",0,E74)","v":15},"-",{"$f":"IF(G74=\"-\",0,G74)","v":0},"-",{"$f":"IF(I74=\"-\",0,I74)","v":0},"-",{"$f":"IF(K74=\"-\",0,K74)","v":0},{"$f":"Table1013[[#This Row],[School]]","v":"Robert Smyth Academy"},{"$f":"D74+F74+H74+J74+L74","v":15},{"$f":"MAX(C74,E74,G74,I74,K74)","v":15},{"$f":"IF(Q74=1,N74,IF(Q74=0,(N74-O74),\"-\"))","v":"-"},{"$f":"$L$1-Table1013[Competed Count]","v":3},{"$f":"IF(Q74<2,\"Yes\",\"No\")","v":"No"},{"$f":"AND($C$1=\"Y\",D74>0)","v":false},{"$f":"AND($E$1=\"Y\",F74>0)","v":true},{"$f":"AND($G$1=\"Y\",H74>0)","v":false},{"$f":"AND($I$1=\"Y\",J74>0)","v":false},{"$f":"AND($K$1=\"Y\",L74>0)","v":false},{"$f":"COUNTIF(Table1013[[#This Row],[Competed 1]:[Competed 5]],\"=TRUE\")","v":1}]
["Harry Champion","Kibworth School","-",{"$f":"IF(C75=\"-\",0,C75)","v":0},19,{"$f":"IF(E75=\"-\",0,E75)","v":19},"-",{"$f":"IF(G75=\"-\",0,G75)","v":0},"-",{"$f":"IF(I75=\"-\",0,I75)","v":0},"-",{"$f":"IF(K75=\"-\",0,K75)","v":0},{"$f":"Table1013[[#This Row],[School]]","v":"Kibworth School"},{"$f":"D75+F75+H75+J75+L75","v":19},{"$f":"MAX(C75,E75,G75,I75,K75)","v":19},{"$f":"IF(Q75=1,N75,IF(Q75=0,(N75-O75),\"-\"))","v":"-"},{"$f":"$L$1-Table1013[Competed Count]","v":3},{"$f":"IF(Q75<2,\"Yes\",\"No\")","v":"No"},{"$f":"AND($C$1=\"Y\",D75>0)","v":false},{"$f":"AND($E$1=\"Y\",F75>0)","v":true},{"$f":"AND($G$1=\"Y\",H75>0)","v":false},{"$f":"AND($I$1=\"Y\",J75>0)","v":false},{"$f":"AND($K$1=\"Y\",L75>0)","v":false},{"$f":"COUNTIF(Table1013[[#This Row],[Competed 1]:[Competed 5]],\"=TRUE\")","v":1}]
["Alex Tripp","Kibworth School","-",{"$f":"IF(C76=\"-\",0,C76)","v":0},21,{"$f":"IF(E76=\"-\",0,E76)","v":21},"-",{"$f":"IF(G76=\"-\",0,G76)","v":0},"-",{"$f":"IF(I76=\"-\",0,I76)","v":0},"-",{"$f":"IF(K76=\"-\",0,K76)","v":0},{"$f":"Table1013[[#This Row],[School]]","v":"Kibworth School"},{"$f":"D76+F76+H76+J76+L76","v":21},{"$f":"MAX(C76,E76,G76,I76,K76)","v":21},{"$f":"IF(Q76=1,N76,IF(Q76=0,(N76-O76),\"-\"))","v":"-"},{"$f":"$L$1-Table1013[Competed Count]","v":3},{"$f":"IF(Q76<2,\"Yes\",\"No\")","v":"No"},{"$f":"AND($C$1=\"Y\",D76>0)","v":false},{"$f":"AND($E$1=\"Y\",F76>0)","v":true},{"$f":"AND($G$1=\"Y\",H76>0)","v":false},{"$f":"AND($I$1=\"Y\",J76>0)","v":false},{"$f":"AND($K$1=\"Y\",L76>0)","v":false},{"$f":"COUNTIF(Table1013[[#This Row],[Competed 1]:[Competed 5]],\"=TRUE\")","v":1}]
["Will Jarvis","Humphrey Perkins School",20,{"$f":"IF(C77=\"-\",0,C77)","v":20},23,{"$f":"IF(E77=\"-\",0,E77)","v":23},"-",{"$f":"IF(G77=\"-\",0,G77)","v":0},"-",{"$f":"IF(I77=\"-\",0,I77)","v":0},"-",{"$f":"IF(K77=\"-\",0,K77)","v":0},{"$f":"Table1013[[#This Row],[School]]","v":"Humphrey Perkins School"},{"$f":"D77+F77+H77+J77+L77","v":43},{"$f":"MAX(C77,E77,G77,I77,K77)","v":23},{"$f":"IF(Q77=1,N77,IF(Q77=0,(N77-O77),\"-\"))","v":"-"},{"$f":"$L$1-Table1013[Competed Count]","v":2},{"$f":"IF(Q77<2,\"Yes\",\"No\")","v":"No"},{"$f":"AND($C$1=\"Y\",D77>0)","v":true},{"$f":"AND($E$1=\"Y\",F77>0)","v":true},{"$f":"AND($G$1=\"Y\",H77>0)","v":false},{"$f":"AND($I$1=\"Y\",J77>0)","v":false},{"$f":"AND($K$1=\"Y\",L77>0)","v":false},{"$f":"COUNTIF(Table1013[[#This Row],[Competed 1]:[Competed 5]],\"=TRUE\")","v":2}]
["L Turrell","Loughborough Grammar School","-",{"$f":"IF(C78=\"-\",0,C78)","v":0},24,{"$f":"IF(E78=\"-\",0,E78)","v":24},"-",{"$f":"IF(G78=\"-\",0,G78)","v":0},"-",{"$f":"IF(I78=\"-\",0,I78)","v":0},"-",{"$f":"IF(K78=\"-\",0,K78)","v":0},{"$f":"Table1013[[#This Row],[School]]","v":"Loughborough Grammar School"},{"$f":"D78+F78+H78+J78+L78","v":24},{"$f":"MAX(C78,E78,G78,I78,K78)","v":24},{"$f":"IF(Q78=1,N78,IF(Q78=0,(N78-O78),\"-\"))","v":"-"},{"$f":"$L$1-Table1013[Competed Count]","v":3},{"$f":"IF(Q78<2,\"Yes\",\"No\")","v":"No"},{"$f":"AND($C$1=\"Y\",D78>0)","v":false},{"$f":"AND($E$1=\"Y\",F78>0)","v":true},{"$f":"AND($G$1=\"Y\",H78>0)","v":false},{"$f":"AND($I$1=\"Y\",J78>0)","v":false},{"$f":"AND($K$1=\"Y\",L78>0)","v":false},{"$f":"COUNTIF(Table1013[[#This Row],[Competed 1]:[Competed 5]],\"=TRUE\")","v":1}]
["Sam Sykes-Pile","Catmose College","-",{"$f":"IF(C79=\"-\",0,C79)","v":0},26,{"$f":"IF(E79=\"-\",0,E79)","v":26},"-",{"$f":"IF(G79=\"-\",0,G79)","v":0},"-",{"$f":"IF(I79=\"-\",0,I79)","v":0},"-",{"$f":"IF(K79=\"-\",0,K79)","v":0},{"$f":"Table1013[[#This Row],[School]]","v":"Catmose College"},{"$f":"D79+F79+H79+J79+L79","v":26},{"$f":"MAX(C79,E79,G79,I79,K79)","v":26},{"$f":"IF(Q79=1,N79,IF(Q79=0,(N79-O79),\"-\"))","v":"-"},{"$f":"$L$1-Table1013[Competed Count]","v":3},{"$f":"IF(Q79<2,\"Yes\",\"No\")","v":"No"},{"$f":"AND($C$1=\"Y\",D79>0)","v":false},{"$f":"AND($E$1=\"Y\",F79>0)","v":true},{"$f":"AND($G$1=\"Y\",H79>0)","v":false},{"$f":"AND($I$1=\"Y\",J79>0)","v":false},{"$f":"AND($K$1=\"Y\",L79>0)","v":false},{"$f":"COUNTIF(Table1013[[#This Row],[Competed 1]:[Competed 5]],\"=TRUE\")","v":1}]
["Chris Halford","Charnwood College",32,{"$f":"IF(C80=\"-\",0,C80)","v":32},28,{"$f":"IF(E80=\"-\",0,E80)","v":28},"-",{"$f":"IF(G80=\"-\",0,G80)","v":0},"-",{"$f":"IF(I80=\"-\",0,I80)","v":0},"-",{"$f":"IF(K80=\"-\",0,K80)","v":0},{"$f":"Table1013[[#This Row],[School]]","v":"Charnwood College"},{"$f":"D80+F80+H80+J80+L80","v":60},{"$f":"MAX(C80,E80,G80,I80,K80)","v":32},{"$f":"IF(Q80=1,N80,IF(Q80=0,(N80-O80),\"-\"))","v":"-"},{"$f":"$L$1-Table1013[Competed Count]","v":2},{"$f":"IF(Q80<2,\"Yes\",\"No\")","v":"No"},{"$f":"AND($C$1=\"Y\",D80>0)","v":true},{"$f":"AND($E$1=\"Y\",F80>0)","v":true},{"$f":"AND($G$1=\"Y\",H80>0)","v":false},{"$f":"AND($I$1=\"Y\",J80>0)","v":false},{"$f":"AND($K$1=\"Y\",L80>0)","v":false},{"$f":"COUNTIF(Table1013[[#This Row],[Competed 1]:[Competed 5]],\"=TRUE\")","v":2}]
["Michael Mcloney","Catmose College","-",{"$f":"IF(C81=\"-\",0,C81)","v":0},31,{"$f":"IF(E81=\"-\",0,E81)","v":31},"-",{"$f":"IF(G81=\"-\",0,G81)","v":0},"-",{"$f":"IF(I81=\"-\",0,I81)","v":0},"-",{"$f":"IF(K81=\"-\",0,K81)","v":0},{"$f":"Table1013[[#This Row],[School]]","v":"Catmose College"},{"$f":"D81+F81+H81+J81+L81","v":31},{"$f":"MAX(C81,E81,G81,I81,K81)","v":31},{"$f":"IF(Q81=1,N81,IF(Q81=0,(N81-O81),\"-\"))","v":"-"},{"$f":"$L$1-Table1013[Competed Count]","v":3},{"$f":"IF(Q81<2,\"Yes\",\"No\")","v":"No"},{"$f":"AND($C$1=\"Y\",D81>0)","v":false},{"$f":"AND($E$1=\"Y\",F81>0)","v":true},{"$f":"AND($G$1=\"Y\",H81>0)","v":false},{"$f":"AND($I$1=\"Y\",J81>0)","v":false},{"$f":"AND($K$1=\"Y\",L81>0)","v":false},{"$f":"COUNTIF(Table1013[[#This Row],[Competed 1]:[Competed 5]],\"=TRUE\")","v":1}]
["T Mitchell","Loughborough Grammar School","-",{"$f":"IF(C82=\"-\",0,C82)","v":0},32,{"$f":"IF(E82=\"-\",0,E82)","v":32},"-",{"$f":"IF(G82=\"-\",0,G82)","v":0},"-",{"$f":"IF(I82=\"-\",0,I82)","v":0},"-",{"$f":"IF(K82=\"-\",0,K82)","v":0},{"$f":"Table1013[[#This Row],[School]]","v":"Loughborough Grammar School"},{"$f":"D82+F82+H82+J82+L82","v":32},{"$f":"MAX(C82,E82,G82,I82,K82)","v":32},{"$f":"IF(Q82=1,N82,IF(Q82=0,(N82-O82),\"-\"))","v":"-"},{"$f":"$L$1-Table1013[Competed Count]","v":3},{"$f":"IF(Q82<2,\"Yes\",\"No\")","v":"No"},{"$f":"AND($C$1=\"Y\",D82>0)","v":false},{"$f":"AND($E$1=\"Y\",F82>0)","v":true},{"$f":"AND($G$1=\"Y\",H82>0)","v":false},{"$f":"AND($I$1=\"Y\",J82>0)","v":false},{"$f":"AND($K$1=\"Y\",L82>0)","v":false},{"$f":"COUNTIF(Table1013[[#This Row],[Competed 1]:[Competed 5]],\"=TRUE\")","v":1}]
["Mackenzie Large","Brookvale High School",31,{"$f":"IF(C83=\"-\",0,C83)","v":31},35,{"$f":"IF(E83=\"-\",0,E83)","v":35},"-",{"$f":"IF(G83=\"-\",0,G83)","v":0},"-",{"$f":"IF(I83=\"-\",0,I83)","v":0},"-",{"$f":"IF(K83=\"-\",0,K83)","v":0},{"$f":"Table1013[[#This Row],[School]]","v":"Brookvale High School"},{"$f":"D83+F83+H83+J83+L83","v":66},{"$f":"MAX(C83,E83,G83,I83,K83)","v":35},{"$f":"IF(Q83=1,N83,IF(Q83=0,(N83-O83),\"-\"))","v":"-"},{"$f":"$L$1-Table1013[Competed Count]","v":2},{"$f":"IF(Q83<2,\"Yes\",\"No\")","v":"No"},{"$f":"AND($C$1=\"Y\",D83>0)","v":true},{"$f":"AND($E$1=\"Y\",F83>0)","v":true},{"$f":"AND($G$1=\"Y\",H83>0)","v":false},{"$f":"AND($I$1=\"Y\",J83>0)","v":false},{"$f":"AND($K$1=\"Y\",L83>0)","v":false},{"$f":"COUNTIF(Table1013[[#This Row],[Competed 1]:[Competed 5]],\"=TRUE\")","v":2}]
["Liam Wakeling","Charnwood College","-",{"$f":"IF(C84=\"-\",0,C84)","v":0},38,{"$f":"IF(E84=\"-\",0,E84)","v":38},"-",{"$f":"IF(G84=\"-\",0,G84)","v":0},"-",{"$f":"IF(I84=\"-\",0,I84)","v":0},"-",{"$f":"IF(K84=\"-\",0,K84)","v":0},{"$f":"Table1013[[#This Row],[School]]","v":"Charnwood College"},{"$f":"D84+F84+H84+J84+L84","v":38},{"$f":"MAX(C84,E84,G84,I84,K84)","v":38},{"$f":"IF(Q84=1,N84,IF(Q84=0,(N84-O84),\"-\"))","v":"-"},{"$f":"$L$1-Table1013[Competed Count]","v":3},{"$f":"IF(Q84<2,\"Yes\",\"No\")","v":"No"},{"$f":"AND($C$1=\"Y\",D84>0)","v":false},{"$f":"AND($E$1=\"Y\",F84>0)","v":true},{"$f":"AND($G$1=\"Y\",H84>0)","v":false},{"$f":"AND($I$1=\"Y\",J84>0)","v":false},{"$f":"AND($K$1=\"Y\",L84>0)","v":false},{"$f":"COUNTIF(Table1013[[#This Row],[Competed 1]:[Competed 5]],\"=TRUE\")","v":1}]
["Matthew Halford","Charnwood College",41,{"$f":"IF(C85=\"-\",0,C85)","v":41},39,{"$f":"IF(E85=\"-\",0,E85)","v":39},"-",{"$f":"IF(G85=\"-\",0,G85)","v":0},"-",{"$f":"IF(I85=\"-\",0,I85)","v":0},"-",{"$f":"IF(K85=\"-\",0,K85)","v":0},{"$f":"Table1013[[#This Row],[School]]","v":"Charnwood College"},{"$f":"D85+F85+H85+J85+L85","v":80},{"$f":"MAX(C85,E85,G85,I85,K85)","v":41},{"$f":"IF(Q85=1,N85,IF(Q85=0,(N85-O85),\"-\"))","v":"-"},{"$f":"$L$1-Table1013[Competed Count]","v":2},{"$f":"IF(Q85<2,\"Yes\",\"No\")","v":"No"},{"$f":"AND($C$1=\"Y\",D85>0)","v":true},{"$f":"AND($E$1=\"Y\",F85>0)","v":true},{"$f":"AND($G$1=\"Y\",H85>0)","v":false},{"$f":"AND($I$1=\"Y\",J85>0)","v":false},{"$f":"AND($K$1=\"Y\",L85>0)","v":false},{"$f":"COUNTIF(Table1013[[#This Row],[Competed 1]:[Competed 5]],\"=TRUE\")","v":2}]
["Charlie Plews","Catmose College","-",{"$f":"IF(C86=\"-\",0,C86)","v":0},40,{"$f":"IF(E86=\"-\",0,E86)","v":40},"-",{"$f":"IF(G86=\"-\",0,G86)","v":0},"-",{"$f":"IF(I86=\"-\",0,I86)","v":0},"-",{"$f":"IF(K86=\"-\",0,K86)","v":0},{"$f":"Table1013[[#This Row],[School]]","v":"Catmose College"},{"$f":"D86+F86+H86+J86+L86","v":40},{"$f":"MAX(C86,E86,G86,I86,K86)","v":40},{"$f":"IF(Q86=1,N86,IF(Q86=0,(N86-O86),\"-\"))","v":"-"},{"$f":"$L$1-Table1013[Competed Count]","v":3},{"$f":"IF(Q86<2,\"Yes\",\"No\")","v":"No"},{"$f":"AND($C$1=\"Y\",D86>0)","v":false},{"$f":"AND($E$1=\"Y\",F86>0)","v":true},{"$f":"AND($G$1=\"Y\",H86>0)","v":false},{"$f":"AND($I$1=\"Y\",J86>0)","v":false},{"$f":"AND($K$1=\"Y\",L86>0)","v":false},{"$f":"COUNTIF(Table1013[[#This Row],[Competed 1]:[Competed 5]],\"=TRUE\")","v":1}]
["Josh Sennett","Catmose College","-",{"$f":"IF(C87=\"-\",0,C87)","v":0},42,{"$f":"IF(E87=\"-\",0,E87)","v":42},"-",{"$f":"IF(G87=\"-\",0,G87)","v":0},"-",{"$f":"IF(I87=\"-\",0,I87)","v":0},"-",{"$f":"IF(K87=\"-\",0,K87)","v":0},{"$f":"Table1013[[#This Row],[School]]","v":"Catmose College"},{"$f":"D87+F87+H87+J87+L87","v":42},{"$f":"MAX(C87,E87,G87,I87,K87)","v":42},{"$f":"IF(Q87=1,N87,IF(Q87=0,(N87-O87),\"-\"))","v":"-"},{"$f":"$L$1-Table1013[Competed Count]","v":3},{"$f":"IF(Q87<2,\"Yes\",\"No\")","v":"No"},{"$f":"AND($C$1=\"Y\",D87>0)","v":false},{"$f":"AND($E$1=\"Y\",F87>0)","v":true},{"$f":"AND($G$1=\"Y\",H87>0)","v":false},{"$f":"AND($I$1=\"Y\",J87>0)","v":false},{"$f":"AND($K$1=\"Y\",L87>0)","v":false},{"$f":"COUNTIF(Table1013[[#This Row],[Competed 1]:[Competed 5]],\"=TRUE\")","v":1}]
["Callum Ginchrist","Charnwood College","-",{"$f":"IF(C88=\"-\",0,C88)","v":0},43,{"$f":"IF(E88=\"-\",0,E88)","v":43},"-",{"$f":"IF(G88=\"-\",0,G88)","v":0},"-",{"$f":"IF(I88=\"-\",0,I88)","v":0},"-",{"$f":"IF(K88=\"-\",0,K88)","v":0},{"$f":"Table1013[[#This Row],[School]]","v":"Charnwood College"},{"$f":"D88+F88+H88+J88+L88","v":43},{"$f":"MAX(C88,E88,G88,I88,K88)","v":43},{"$f":"IF(Q88=1,N88,IF(Q88=0,(N88-O88),\"-\"))","v":"-"},{"$f":"$L$1-Table1013[Competed Count]","v":3},{"$f":"IF(Q88<2,\"Yes\",\"No\")","v":"No"},{"$f":"AND($C$1=\"Y\",D88>0)","v":false},{"$f":"AND($E$1=\"Y\",F88>0)","v":true},{"$f":"AND($G$1=\"Y\",H88>0)","v":false},{"$f":"AND($I$1=\"Y\",J88>0)","v":false},{"$f":"AND($K$1=\"Y\",L88>0)","v":false},{"$f":"COUNTIF(Table1013[[#This Row],[Competed 1]:[Competed 5]],\"=TRUE\")","v":1}]
["Luke Goodwin","The Martin High School",25,{"$f":"IF(C89=\"-\",0,C89)","v":25},46,{"$f":"IF(E89=\"-\",0,E89)","v":46},"-",{"$f":"IF(G89=\"-\",0,G89)","v":0},"-",{"$f":"IF(I89=\"-\",0,I89)","v":0},"-",{"$f":"IF(K89=\"-\",0,K89)","v":0},{"$f":"Table1013[[#This Row],[School]]","v":"The Martin High School"},{"$f":"D89+F89+H89+J89+L89","v":71},{"$f":"MAX(C89,E89,G89,I89,K89)","v":46},{"$f":"IF(Q89=1,N89,IF(Q89=0,(N89-O89),\"-\"))","v":"-"},{"$f":"$L$1-Table1013[Competed Count]","v":2},{"$f":"IF(Q89<2,\"Yes\",\"No\")","v":"No"},{"$f":"AND($C$1=\"Y\",D89>0)","v":true},{"$f":"AND($E$1=\"Y\",F89>0)","v":true},{"$f":"AND($G$1=\"Y\",H89>0)","v":false},{"$f":"AND($I$1=\"Y\",J89>0)","v":false},{"$f":"AND($K$1=\"Y\",L89>0)","v":false},{"$f":"COUNTIF(Table1013[[#This Row],[Competed 1]:[Competed 5]],\"=TRUE\")","v":2}]
["Corey Bottrill","Charnwood College","-",{"$f":"IF(C90=\"-\",0,C90)","v":0},47,{"$f":"IF(E90=\"-\",0,E90)","v":47},"-",{"$f":"IF(G90=\"-\",0,G90)","v":0},"-",{"$f":"IF(I90=\"-\",0,I90)","v":0},"-",{"$f":"IF(K90=\"-\",0,K90)","v":0},{"$f":"Table1013[[#This Row],[School]]","v":"Charnwood College"},{"$f":"D90+F90+H90+J90+L90","v":47},{"$f":"MAX(C90,E90,G90,I90,K90)","v":47},{"$f":"IF(Q90=1,N90,IF(Q90=0,(N90-O90),\"-\"))","v":"-"},{"$f":"$L$1-Table1013[Competed Count]","v":3},{"$f":"IF(Q90<2,\"Yes\",\"No\")","v":"No"},{"$f":"AND($C$1=\"Y\",D90>0)","v":false},{"$f":"AND($E$1=\"Y\",F90>0)","v":true},{"$f":"AND($G$1=\"Y\",H90>0)","v":false},{"$f":"AND($I$1=\"Y\",J90>0)","v":false},{"$f":"AND($K$1=\"Y\",L90>0)","v":false},{"$f":"COUNTIF(Table1013[[#This Row],[Competed 1]:[Competed 5]],\"=TRUE\")","v":1}]
["Ben Wright","Catmose College",37,{"$f":"IF(C91=\"-\",0,C91)","v":37},49,{"$f":"IF(E91=\"-\",0,E91)","v":49},"-",{"$f":"IF(G91=\"-\",0,G91)","v":0},"-",{"$f":"IF(I91=\"-\",0,I91)","v":0},"-",{"$f":"IF(K91=\"-\",0,K91)","v":0},{"$f":"Table1013[[#This Row],[School]]","v":"Catmose College"},{"$f":"D91+F91+H91+J91+L91","v":86},{"$f":"MAX(C91,E91,G91,I91,K91)","v":49},{"$f":"IF(Q91=1,N91,IF(Q91=0,(N91-O91),\"-\"))","v":"-"},{"$f":"$L$1-Table1013[Competed Count]","v":2},{"$f":"IF(Q91<2,\"Yes\",\"No\")","v":"No"},{"$f":"AND($C$1=\"Y\",D91>0)","v":true},{"$f":"AND($E$1=\"Y\",F91>0)","v":true},{"$f":"AND($G$1=\"Y\",H91>0)","v":false},{"$f":"AND($I$1=\"Y\",J91>0)","v":false},{"$f":"AND($K$1=\"Y\",L91>0)","v":false},{"$f":"COUNTIF(Table1013[[#This Row],[Competed 1]:[Competed 5]],\"=TRUE\")","v":2}]
["C Williams","Loughborough Grammar School",64,{"$f":"IF(C92=\"-\",0,C92)","v":64},54,{"$f":"IF(E92=\"-\",0,E92)","v":54},"-",{"$f":"IF(G92=\"-\",0,G92)","v":0},"-",{"$f":"IF(I92=\"-\",0,I92)","v":0},"-",{"$f":"IF(K92=\"-\",0,K92)","v":0},{"$f":"Table1013[[#This Row],[School]]","v":"Loughborough Grammar School"},{"$f":"D92+F92+H92+J92+L92","v":118},{"$f":"MAX(C92,E92,G92,I92,K92)","v":64},{"$f":"IF(Q92=1,N92,IF(Q92=0,(N92-O92),\"-\"))","v":"-"},{"$f":"$L$1-Table1013[Competed Count]","v":2},{"$f":"IF(Q92<2,\"Yes\",\"No\")","v":"No"},{"$f":"AND($C$1=\"Y\",D92>0)","v":true},{"$f":"AND($E$1=\"Y\",F92>0)","v":true},{"$f":"AND($G$1=\"Y\",H92>0)","v":false},{"$f":"AND($I$1=\"Y\",J92>0)","v":false},{"$f":"AND($K$1=\"Y\",L92>0)","v":false},{"$f":"COUNTIF(Table1013[[#This Row],[Competed 1]:[Competed 5]],\"=TRUE\")","v":2}]
["Jack Vandenbrand","Kibworth School","-",{"$f":"IF(C93=\"-\",0,C93)","v":0},55,{"$f":"IF(E93=\"-\",0,E93)","v":55},"-",{"$f":"IF(G93=\"-\",0,G93)","v":0},"-",{"$f":"IF(I93=\"-\",0,I93)","v":0},"-",{"$f":"IF(K93=\"-\",0,K93)","v":0},{"$f":"Table1013[[#This Row],[School]]","v":"Kibworth School"},{"$f":"D93+F93+H93+J93+L93","v":55},{"$f":"MAX(C93,E93,G93,I93,K93)","v":55},{"$f":"IF(Q93=1,N93,IF(Q93=0,(N93-O93),\"-\"))","v":"-"},{"$f":"$L$1-Table1013[Competed Count]","v":3},{"$f":"IF(Q93<2,\"Yes\",\"No\")","v":"No"},{"$f":"AND($C$1=\"Y\",D93>0)","v":false},{"$f":"AND($E$1=\"Y\",F93>0)","v":true},{"$f":"AND($G$1=\"Y\",H93>0)","v":false},{"$f":"AND($I$1=\"Y\",J93>0)","v":false},{"$f":"AND($K$1=\"Y\",L93>0)","v":false},{"$f":"COUNTIF(Table1013[[#This Row],[Competed 1]:[Competed 5]],\"=TRUE\")","v":1}]
["Jamie Baxter","Kibworth School",44,{"$f":"IF(C94=\"-\",0,C94)","v":44},56,{"$f":"IF(E94=\"-\",0,E94)","v":56},"-",{"$f":"IF(G94=\"-\",0,G94)","v":0},"-",{"$f":"IF(I94=\"-\",0,I94)","v":0},"-",{"$f":"IF(K94=\"-\",0,K94)","v":0},{"$f":"Table1013[[#This Row],[School]]","v":"Kibworth School"},{"$f":"D94+F94+H94+J94+L94","v":100},{"$f":"MAX(C94,E94,G94,I94,K94)","v":56},{"$f":"IF(Q94=1,N94,IF(Q94=0,(N94-O94),\"-\"))","v":"-"},{"$f":"$L$1-Table1013[Competed Count]","v":2},{"$f":"IF(Q94<2,\"Yes\",\"No\")","v":"No"},{"$f":"AND($C$1=\"Y\",D94>0)","v":true},{"$f":"AND($E$1=\"Y\",F94>0)","v":true},{"$f":"AND($G$1=\"Y\",H94>0)","v":false},{"$f":"AND($I$1=\"Y\",J94>0)","v":false},{"$f":"AND($K$1=\"Y\",L94>0)","v":false},{"$f":"COUNTIF(Table1013[[#This Row],[Competed 1]:[Competed 5]],\"=TRUE\")","v":2}]
["Paul Moden","Kibworth School","-",{"$f":"IF(C95=\"-\",0,C95)","v":0},57,{"$f":"IF(E95=\"-\",0,E95)","v":57},"-",{"$f":"IF(G95=\"-\",0,G95)","v":0},"-",{"$f":"IF(I95=\"-\",0,I95)","v":0},"-",{"$f":"IF(K95=\"-\",0,K95)","v":0},{"$f":"Table1013[[#This Row],[School]]","v":"Kibworth School"},{"$f":"D95+F95+H95+J95+L95","v":57},{"$f":"MAX(C95,E95,G95,I95,K95)","v":57},{"$f":"IF(Q95=1,N95,IF(Q95=0,(N95-O95),\"-\"))","v":"-"},{"$f":"$L$1-Table1013[Competed Count]","v":3},{"$f":"IF(Q95<2,\"Yes\",\"No\")","v":"No"},{"$f":"AND($C$1=\"Y\",D95>0)","v":false},{"$f":"AND($E$1=\"Y\",F95>0)","v":true},{"$f":"AND($G$1=\"Y\",H95>0)","v":false},{"$f":"AND($I$1=\"Y\",J95>0)","v":false},{"$f":"AND($K$1=\"Y\",L95>0)","v":false},{"$f":"COUNTIF(Table1013[[#This Row],[Competed 1]:[Competed 5]],\"=TRUE\")","v":1}]
["Frankie Richardson","Brookvale High School",63,{"$f":"IF(C96=\"-\",0,C96)","v":63},58,{"$f":"IF(E96=\"-\",0,E96)","v":58},"-",{"$f":"IF(G96=\"-\",0,G96)","v":0},"-",{"$f":"IF(I96=\"-\",0,I96)","v":0},"-",{"$f":"IF(K96=\"-\",0,K96)","v":0},{"$f":"Table1013[[#This Row],[School]]","v":"Brookvale High School"},{"$f":"D96+F96+H96+J96+L96","v":121},{"$f":"MAX(C96,E96,G96,I96,K96)","v":63},{"$f":"IF(Q96=1,N96,IF(Q96=0,(N96-O96),\"-\"))","v":"-"},{"$f":"$L$1-Table1013[Competed Count]","v":2},{"$f":"IF(Q96<2,\"Yes\",\"No\")","v":"No"},{"$f":"AND($C$1=\"Y\",D96>0)","v":true},{"$f":"AND($E$1=\"Y\",F96>0)","v":true},{"$f":"AND($G$1=\"Y\",H96>0)","v":false},{"$f":"AND($I$1=\"Y\",J96>0)","v":false},{"$f":"AND($K$1=\"Y\",L96>0)","v":false},{"$f":"COUNTIF(Table1013[[#This Row],[Competed 1]:[Competed 5]],\"=TRUE\")","v":2}]
["Josh Wilkinson","Woodbrook Vale School",65,{"$f":"IF(C97=\"-\",0,C97)","v":65},59,{"$f":"IF(E97=\"-\",0,E97)","v":59},"-",{"$f":"IF(G97=\"-\",0,G97)","v":0},"-",{"$f":"IF(I97=\"-\",0,I97)","v":0},"-",{"$f":"IF(K97=\"-\",0,K97)","v":0},{"$f":"Table1013[[#This Row],[School]]","v":"Woodbrook Vale School"},{"$f":"D97+F97+H97+J97+L97","v":124},{"$f":"MAX(C97,E97,G97,I97,K97)","v":65},{"$f":"IF(Q97=1,N97,IF(Q97=0,(N97-O97),\"-\"))","v":"-"},{"$f":"$L$1-Table1013[Competed Count]","v":2},{"$f":"IF(Q97<2,\"Yes\",\"No\")","v":"No"},{"$f":"AND($C$1=\"Y\",D97>0)","v":true},{"$f":"AND($E$1=\"Y\",F97>0)","v":true},{"$f":"AND($G$1=\"Y\",H97>0)","v":false},{"$f":"AND($I$1=\"Y\",J97>0)","v":false},{"$f":"AND($K$1=\"Y\",L97>0)","v":false},{"$f":"COUNTIF(Table1013[[#This Row],[Competed 1]:[Competed 5]],\"=TRUE\")","v":2}]
["Alex Edgley","Lutterworth High School","-",{"$f":"IF(C98=\"-\",0,C98)","v":0},60,{"$f":"IF(E98=\"-\",0,E98)","v":60},"-",{"$f":"IF(G98=\"-\",0,G98)","v":0},"-",{"$f":"IF(I98=\"-\",0,I98)","v":0},"-",{"$f":"IF(K98=\"-\",0,K98)","v":0},{"$f":"Table1013[[#This Row],[School]]","v":"Lutterworth High School"},{"$f":"D98+F98+H98+J98+L98","v":60},{"$f":"MAX(C98,E98,G98,I98,K98)","v":60},{"$f":"IF(Q98=1,N98,IF(Q98=0,(N98-O98),\"-\"))","v":"-"},{"$f":"$L$1-Table1013[Competed Count]","v":3},{"$f":"IF(Q98<2,\"Yes\",\"No\")","v":"No"},{"$f":"AND($C$1=\"Y\",D98>0)","v":false},{"$f":"AND($E$1=\"Y\",F98>0)","v":true},{"$f":"AND($G$1=\"Y\",H98>0)","v":false},{"$f":"AND($I$1=\"Y\",J98>0)","v":false},{"$f":"AND($K$1=\"Y\",L98>0)","v":false},{"$f":"COUNTIF(Table1013[[#This Row],[Competed 1]:[Competed 5]],\"=TRUE\")","v":1}]
["Josh Wiggins","Thomas Estley CC",60,{"$f":"IF(C99=\"-\",0,C99)","v":60},61,{"$f":"IF(E99=\"-\",0,E99)","v":61},"-",{"$f":"IF(G99=\"-\",0,G99)","v":0},"-",{"$f":"IF(I99=\"-\",0,I99)","v":0},"-",{"$f":"IF(K99=\"-\",0,K99)","v":0},{"$f":"Table1013[[#This Row],[School]]","v":"Thomas Estley CC"},{"$f":"D99+F99+H99+J99+L99","v":121},{"$f":"MAX(C99,E99,G99,I99,K99)","v":61},{"$f":"IF(Q99=1,N99,IF(Q99=0,(N99-O99),\"-\"))","v":"-"},{"$f":"$L$1-Table1013[Competed Count]","v":2},{"$f":"IF(Q99<2,\"Yes\",\"No\")","v":"No"},{"$f":"AND($C$1=\"Y\",D99>0)","v":true},{"$f":"AND($E$1=\"Y\",F99>0)","v":true},{"$f":"AND($G$1=\"Y\",H99>0)","v":false},{"$f":"AND($I$1=\"Y\",J99>0)","v":false},{"$f":"AND($K$1=\"Y\",L99>0)","v":false},{"$f":"COUNTIF(Table1013[[#This Row],[Competed 1]:[Competed 5]],\"=TRUE\")","v":2}]
["Mahamed Amin Farah","Crown Hills CC","-",{"$f":"IF(C100=\"-\",0,C100)","v":0},62,{"$f":"IF(E100=\"-\",0,E100)","v":62},"-",{"$f":"IF(G100=\"-\",0,G100)","v":0},"-",{"$f":"IF(I100=\"-\",0,I100)","v":0},"-",{"$f":"IF(K100=\"-\",0,K100)","v":0},{"$f":"Table1013[[#This Row],[School]]","v":"Crown Hills CC"},{"$f":"D100+F100+H100+J100+L100","v":62},{"$f":"MAX(C100,E100,G100,I100,K100)","v":62},{"$f":"IF(Q100=1,N100,IF(Q100=0,(N100-O100),\"-\"))","v":"-"},{"$f":"$L$1-Table1013[Competed Count]","v":3},{"$f":"IF(Q100<2,\"Yes\",\"No\")","v":"No"},{"$f":"AND($C$1=\"Y\",D100>0)","v":false},{"$f":"AND($E$1=\"Y\",F100>0)","v":true},{"$f":"AND($G$1=\"Y\",H100>0)","v":false},{"$f":"AND($I$1=\"Y\",J100>0)","v":false},{"$f":"AND($K$1=\"Y\",L100>0)","v":false},{"$f":"COUNTIF(Table1013[[#This Row],[Competed 1]:[Competed 5]],\"=TRUE\")","v":1}]
["Nadim Patel","Crown Hills CC","-",{"$f":"IF(C101=\"-\",0,C101)","v":0},63,{"$f":"IF(E101=\"-\",0,E101)","v":63},"-",{"$f":"IF(G101=\"-\",0,G101)","v":0},"-",{"$f":"IF(I101=\"-\",0,I101)","v":0},"-",{"$f":"IF(K101=\"-\",0,K101)","v":0},{"$f":"Table1013[[#This Row],[School]]","v":"Crown Hills CC"},{"$f":"D101+F101+H101+J101+L101","v":63},{"$f":"MAX(C101,E101,G101,I101,K101)","v":63},{"$f":"IF(Q101=1,N101,IF(Q101=0,(N101-O101),\"-\"))","v":"-"},{"$f":"$L$1-Table1013[Competed Count]","v":3},{"$f":"IF(Q101<2,\"Yes\",\"No\")","v":"No"},{"$f":"AND($C$1=\"Y\",D101>0)","v":false},{"$f":"AND($E$1=\"Y\",F101>0)","v":true},{"$f":"AND($G$1=\"Y\",H101>0)","v":false},{"$f":"AND($I$1=\"Y\",J101>0)","v":false},{"$f":"AND($K$1=\"Y\",L101>0)","v":false},{"$f":"COUNTIF(Table1013[[#This Row],[Competed 1]:[Competed 5]],\"=TRUE\")","v":1}]
["Leo Statham","Bosworth Academy","-",{"$f":"IF(C102=\"-\",0,C102)","v":0},65,{"$f":"IF(E102=\"-\",0,E102)","v":65},"-",{"$f":"IF(G102=\"-\",0,G102)","v":0},"-",{"$f":"IF(I102=\"-\",0,I102)","v":0},"-",{"$f":"IF(K102=\"-\",0,K102)","v":0},{"$f":"Table1013[[#This Row],[School]]","v":"Bosworth Academy"},{"$f":"D102+F102+H102+J102+L102","v":65},{"$f":"MAX(C102,E102,G102,I102,K102)","v":65},{"$f":"IF(Q102=1,N102,IF(Q102=0,(N102-O102),\"-\"))","v":"-"},{"$f":"$L$1-Table1013[Competed Count]","v":3},{"$f":"IF(Q102<2,\"Yes\",\"No\")","v":"No"},{"$f":"AND($C$1=\"Y\",D102>0)","v":false},{"$f":"AND($E$1=\"Y\",F102>0)","v":true},{"$f":"AND($G$1=\"Y\",H102>0)","v":false},{"$f":"AND($I$1=\"Y\",J102>0)","v":false},{"$f":"AND($K$1=\"Y\",L102>0)","v":false},{"$f":"COUNTIF(Table1013[[#This Row],[Competed 1]:[Competed 5]],\"=TRUE\")","v":1}]
["Bilal Bahera","Crown Hills CC","-",{"$f":"IF(C103=\"-\",0,C103)","v":0},66,{"$f":"IF(E103=\"-\",0,E103)","v":66},"-",{"$f":"IF(G103=\"-\",0,G103)","v":0},"-",{"$f":"IF(I103=\"-\",0,I103)","v":0},"-",{"$f":"IF(K103=\"-\",0,K103)","v":0},{"$f":"Table1013[[#This Row],[School]]","v":"Crown Hills CC"},{"$f":"D103+F103+H103+J103+L103","v":66},{"$f":"MAX(C103,E103,G103,I103,K103)","v":66},{"$f":"IF(Q103=1,N103,IF(Q103=0,(N103-O103),\"-\"))","v":"-"},{"$f":"$L$1-Table1013[Competed Count]","v":3},{"$f":"IF(Q103<2,\"Yes\",\"No\")","v":"No"},{"$f":"AND($C$1=\"Y\",D103>0)","v":false},{"$f":"AND($E$1=\"Y\",F103>0)","v":true},{"$f":"AND($G$1=\"Y\",H103>0)","v":false},{"$f":"AND($I$1=\"Y\",J103>0)","v":false},{"$f":"AND($K$1=\"Y\",L103>0)","v":false},{"$f":"COUNTIF(Table1013[[#This Row],[Competed 1]:[Competed 5]],\"=TRUE\")","v":1}]
["S Bence","Loughborough Grammar School",68,{"$f":"IF(C104=\"-\",0,C104)","v":68},67,{"$f":"IF(E104=\"-\",0,E104)","v":67},"-",{"$f":"IF(G104=\"-\",0,G104)","v":0},"-",{"$f":"IF(I104=\"-\",0,I104)","v":0},"-",{"$f":"IF(K104=\"-\",0,K104)","v":0},{"$f":"Table1013[[#This Row],[School]]","v":"Loughborough Grammar School"},{"$f":"D104+F104+H104+J104+L104","v":135},{"$f":"MAX(C104,E104,G104,I104,K104)","v":68},{"$f":"IF(Q104=1,N104,IF(Q104=0,(N104-O104),\"-\"))","v":"-"},{"$f":"$L$1-Table1013[Competed Count]","v":2},{"$f":"IF(Q104<2,\"Yes\",\"No\")","v":"No"},{"$f":"AND($C$1=\"Y\",D104>0)","v":true},{"$f":"AND($E$1=\"Y\",F104>0)","v":true},{"$f":"AND($G$1=\"Y\",H104>0)","v":false},{"$f":"AND($I$1=\"Y\",J104>0)","v":false},{"$f":"AND($K$1=\"Y\",L104>0)","v":false},{"$f":"COUNTIF(Table1013[[#This Row],[Competed 1]:[Competed 5]],\"=TRUE\")","v":2}]
["E Kriton-Cole","Loughborough Grammar School",52,{"$f":"IF(C105=\"-\",0,C105)","v":52},68,{"$f":"IF(E105=\"-\",0,E105)","v":68},"-",{"$f":"IF(G105=\"-\",0,G105)","v":0},"-",{"$f":"IF(I105=\"-\",0,I105)","v":0},"-",{"$f":"IF(K105=\"-\",0,K105)","v":0},{"$f":"Table1013[[#This Row],[School]]","v":"Loughborough Grammar School"},{"$f":"D105+F105+H105+J105+L105","v":120},{"$f":"MAX(C105,E105,G105,I105,K105)","v":68},{"$f":"IF(Q105=1,N105,IF(Q105=0,(N105-O105),\"-\"))","v":"-"},{"$f":"$L$1-Table1013[Competed Count]","v":2},{"$f":"IF(Q105<2,\"Yes\",\"No\")","v":"No"},{"$f":"AND($C$1=\"Y\",D105>0)","v":true},{"$f":"AND($E$1=\"Y\",F105>0)","v":true},{"$f":"AND($G$1=\"Y\",H105>0)","v":false},{"$f":"AND($I$1=\"Y\",J105>0)","v":false},{"$f":"AND($K$1=\"Y\",L105>0)","v":false},{"$f":"COUNTIF(Table1013[[#This Row],[Competed 1]:[Competed 5]],\"=TRUE\")","v":2}]
["Zainal Pathan","Crown Hills CC",74,{"$f":"IF(C106=\"-\",0,C106)","v":74},69,{"$f":"IF(E106=\"-\",0,E106)","v":69},"-",{"$f":"IF(G106=\"-\",0,G106)","v":0},"-",{"$f":"IF(I106=\"-\",0,I106)","v":0},"-",{"$f":"IF(K106=\"-\",0,K106)","v":0},{"$f":"Table1013[[#This Row],[School]]","v":"Crown Hills CC"},{"$f":"D106+F106+H106+J106+L106","v":143},{"$f":"MAX(C106,E106,G106,I106,K106)","v":74},{"$f":"IF(Q106=1,N106,IF(Q106=0,(N106-O106),\"-\"))","v":"-"},{"$f":"$L$1-Table1013[Competed Count]","v":2},{"$f":"IF(Q106<2,\"Yes\",\"No\")","v":"No"},{"$f":"AND($C$1=\"Y\",D106>0)","v":true},{"$f":"AND($E$1=\"Y\",F106>0)","v":true},{"$f":"AND($G$1=\"Y\",H106>0)","v":false},{"$f":"AND($I$1=\"Y\",J106>0)","v":false},{"$f":"AND($K$1=\"Y\",L106>0)","v":false},{"$f":"COUNTIF(Table1013[[#This Row],[Competed 1]:[Competed 5]],\"=TRUE\")","v":2}]
["Jamie Carrott","Woodbrook Vale School",8,{"$f":"IF(C107=\"-\",0,C107)","v":8},"-",{"$f":"IF(E107=\"-\",0,E107)","v":0},"-",{"$f":"IF(G107=\"-\",0,G107)","v":0},"-",{"$f":"IF(I107=\"-\",0,I107)","v":0},"-",{"$f":"IF(K107=\"-\",0,K107)","v":0},{"$f":"Table1013[[#This Row],[School]]","v":"Woodbrook Vale School"},{"$f":"D107+F107+H107+J107+L107","v":8},{"$f":"MAX(C107,E107,G107,I107,K107)","v":8},{"$f":"IF(Q107=1,N107,IF(Q107=0,(N107-O107),\"-\"))","v":"-"},{"$f":"$L$1-Table1013[Competed Count]","v":3},{"$f":"IF(Q107<2,\"Yes\",\"No\")","v":"No"},{"$f":"AND($C$1=\"Y\",D107>0)","v":true},{"$f":"AND($E$1=\"Y\",F107>0)","v":false},{"$f":"AND($G$1=\"Y\",H107>0)","v":false},{"$f":"AND($I$1=\"Y\",J107>0)","v":false},{"$f":"AND($K$1=\"Y\",L107>0)","v":false},{"$f":"COUNTIF(Table1013[[#This Row],[Competed 1]:[Competed 5]],\"=TRUE\")","v":1}]
["Brook Isherwood","John Ferneley College",19,{"$f":"IF(C108=\"-\",0,C108)","v":19},"-",{"$f":"IF(E108=\"-\",0,E108)","v":0},"-",{"$f":"IF(G108=\"-\",0,G108)","v":0},"-",{"$f":"IF(I108=\"-\",0,I108)","v":0},"-",{"$f":"IF(K108=\"-\",0,K108)","v":0},{"$f":"Table1013[[#This Row],[School]]","v":"John Ferneley College"},{"$f":"D108+F108+H108+J108+L108","v":19},{"$f":"MAX(C108,E108,G108,I108,K108)","v":19},{"$f":"IF(Q108=1,N108,IF(Q108=0,(N108-O108),\"-\"))","v":"-"},{"$f":"$L$1-Table1013[Competed Count]","v":3},{"$f":"IF(Q108<2,\"Yes\",\"No\")","v":"No"},{"$f":"AND($C$1=\"Y\",D108>0)","v":true},{"$f":"AND($E$1=\"Y\",F108>0)","v":false},{"$f":"AND($G$1=\"Y\",H108>0)","v":false},{"$f":"AND($I$1=\"Y\",J108>0)","v":false},{"$f":"AND($K$1=\"Y\",L108>0)","v":false},{"$f":"COUNTIF(Table1013[[#This Row],[Competed 1]:[Competed 5]],\"=TRUE\")","v":1}]
["Ben Dodson","Catmose College",22,{"$f":"IF(C109=\"-\",0,C109)","v":22},"-",{"$f":"IF(E109=\"-\",0,E109)","v":0},"-",{"$f":"IF(G109=\"-\",0,G109)","v":0},"-",{"$f":"IF(I109=\"-\",0,I109)","v":0},"-",{"$f":"IF(K109=\"-\",0,K109)","v":0},{"$f":"Table1013[[#This Row],[School]]","v":"Catmose College"},{"$f":"D109+F109+H109+J109+L109","v":22},{"$f":"MAX(C109,E109,G109,I109,K109)","v":22},{"$f":"IF(Q109=1,N109,IF(Q109=0,(N109-O109),\"-\"))","v":"-"},{"$f":"$L$1-Table1013[Competed Count]","v":3},{"$f":"IF(Q109<2,\"Yes\",\"No\")","v":"No"},{"$f":"AND($C$1=\"Y\",D109>0)","v":true},{"$f":"AND($E$1=\"Y\",F109>0)","v":false},{"$f":"AND($G$1=\"Y\",H109>0)","v":false},{"$f":"AND($I$1=\"Y\",J109>0)","v":false},{"$f":"AND($K$1=\"Y\",L109>0)","v":false},{"$f":"COUNTIF(Table1013[[#This Row],[Competed 1]:[Competed 5]],\"=TRUE\")","v":1}]
["Finlay Cotterell","Lutterworth High School",23,{"$f":"IF(C110=\"-\",0,C110)","v":23},"-",{"$f":"IF(E110=\"-\",0,E110)","v":0},"-",{"$f":"IF(G110=\"-\",0,G110)","v":0},"-",{"$f":"IF(I110=\"-\",0,I110)","v":0},"-",{"$f":"IF(K110=\"-\",0,K110)","v":0},{"$f":"Table1013[[#This Row],[School]]","v":"Lutterworth High School"},{"$f":"D110+F110+H110+J110+L110","v":23},{"$f":"MAX(C110,E110,G110,I110,K110)","v":23},{"$f":"IF(Q110=1,N110,IF(Q110=0,(N110-O110),\"-\"))","v":"-"},{"$f":"$L$1-Table1013[Competed Count]","v":3},{"$f":"IF(Q110<2,\"Yes\",\"No\")","v":"No"},{"$f":"AND($C$1=\"Y\",D110>0)","v":true},{"$f":"AND($E$1=\"Y\",F110>0)","v":false},{"$f":"AND($G$1=\"Y\",H110>0)","v":false},{"$f":"AND($I$1=\"Y\",J110>0)","v":false},{"$f":"AND($K$1=\"Y\",L110>0)","v":false},{"$f":"COUNTIF(Table1013[[#This Row],[Competed 1]:[Competed 5]],\"=TRUE\")","v":1}]
["Jacob Woolverton","Rawlins Academy",30,{"$f":"IF(C111=\"-\",0,C111)","v":30},"-",{"$f":"IF(E111=\"-\",0,E111)","v":0},"-",{"$f":"IF(G111=\"-\",0,G111)","v":0},"-",{"$f":"IF(I111=\"-\",0,I111)","v":0},"-",{"$f":"IF(K111=\"-\",0,K111)","v":0},{"$f":"Table1013[[#This Row],[School]]","v":"Rawlins Academy"},{"$f":"D111+F111+H111+J111+L111","v":30},{"$f":"MAX(C111,E111,G111,I111,K111)","v":30},{"$f":"IF(Q111=1,N111,IF(Q111=0,(N111-O111),\"-\"))","v":"-"},{"$f":"$L$1-Table1013[Competed Count]","v":3},{"$f":"IF(Q111<2,\"Yes\",\"No\")","v":"No"},{"$f":"AND($C$1=\"Y\",D111>0)","v":true},{"$f":"AND($E$1=\"Y\",F111>0)","v":false},{"$f":"AND($G$1=\"Y\",H111>0)","v":false},{"$f":"AND($I$1=\"Y\",J111>0)","v":false},{"$f":"AND($K$1=\"Y\",L111>0)","v":false},{"$f":"COUNTIF(Table1013[[#This Row],[Competed 1]:[Competed 5]],\"=TRUE\")","v":1}]
["Joseph Carslake","Rawlins Academy",34,{"$f":"IF(C112=\"-\",0,C112)","v":34},"-",{"$f":"IF(E112=\"-\",0,E112)","v":0},"-",{"$f":"IF(G112=\"-\",0,G112)","v":0},"-",{"$f":"IF(I112=\"-\",0,I112)","v":0},"-",{"$f":"IF(K112=\"-\",0,K112)","v":0},{"$f":"Table1013[[#This Row],[School]]","v":"Rawlins Academy"},{"$f":"D112+F112+H112+J112+L112","v":34},{"$f":"MAX(C112,E112,G112,I112,K112)","v":34},{"$f":"IF(Q112=1,N112,IF(Q112=0,(N112-O112),\"-\"))","v":"-"},{"$f":"$L$1-Table1013[Competed Count]","v":3},{"$f":"IF(Q112<2,\"Yes\",\"No\")","v":"No"},{"$f":"AND($C$1=\"Y\",D112>0)","v":true},{"$f":"AND($E$1=\"Y\",F112>0)","v":false},{"$f":"AND($G$1=\"Y\",H112>0)","v":false},{"$f":"AND($I$1=\"Y\",J112>0)","v":false},{"$f":"AND($K$1=\"Y\",L112>0)","v":false},{"$f":"COUNTIF(Table1013[[#This Row],[Competed 1]:[Competed 5]],\"=TRUE\")","v":1}]
["Sam Onions","Charnwood College",35,{"$f":"IF(C113=\"-\",0,C113)","v":35},"-",{"$f":"IF(E113=\"-\",0,E113)","v":0},"-",{"$f":"IF(G113=\"-\",0,G113)","v":0},"-",{"$f":"IF(I113=\"-\",0,I113)","v":0},"-",{"$f":"IF(K113=\"-\",0,K113)","v":0},{"$f":"Table1013[[#This Row],[School]]","v":"Charnwood College"},{"$f":"D113+F113+H113+J113+L113","v":35},{"$f":"MAX(C113,E113,G113,I113,K113)","v":35},{"$f":"IF(Q113=1,N113,IF(Q113=0,(N113-O113),\"-\"))","v":"-"},{"$f":"$L$1-Table1013[Competed Count]","v":3},{"$f":"IF(Q113<2,\"Yes\",\"No\")","v":"No"},{"$f":"AND($C$1=\"Y\",D113>0)","v":true},{"$f":"AND($E$1=\"Y\",F113>0)","v":false},{"$f":"AND($G$1=\"Y\",H113>0)","v":false},{"$f":"AND($I$1=\"Y\",J113>0)","v":false},{"$f":"AND($K$1=\"Y\",L113>0)","v":false},{"$f":"COUNTIF(Table1013[[#This Row],[Competed 1]:[Competed 5]],\"=TRUE\")","v":1}]
["Dominic Magill","Manor High School",38,{"$f":"IF(C114=\"-\",0,C114)","v":38},"-",{"$f":"IF(E114=\"-\",0,E114)","v":0},"-",{"$f":"IF(G114=\"-\",0,G114)","v":0},"-",{"$f":"IF(I114=\"-\",0,I114)","v":0},"-",{"$f":"IF(K114=\"-\",0,K114)","v":0},{"$f":"Table1013[[#This Row],[School]]","v":"Manor High School"},{"$f":"D114+F114+H114+J114+L114","v":38},{"$f":"MAX(C114,E114,G114,I114,K114)","v":38},{"$f":"IF(Q114=1,N114,IF(Q114=0,(N114-O114),\"-\"))","v":"-"},{"$f":"$L$1-Table1013[Competed Count]","v":3},{"$f":"IF(Q114<2,\"Yes\",\"No\")","v":"No"},{"$f":"AND($C$1=\"Y\",D114>0)","v":true},{"$f":"AND($E$1=\"Y\",F114>0)","v":false},{"$f":"AND($G$1=\"Y\",H114>0)","v":false},{"$f":"AND($I$1=\"Y\",J114>0)","v":false},{"$f":"AND($K$1=\"Y\",L114>0)","v":false},{"$f":"COUNTIF(Table1013[[#This Row],[Competed 1]:[Competed 5]],\"=TRUE\")","v":1}]
["Frazer Brotherhood","Charnwood College",43,{"$f":"IF(C115=\"-\",0,C115)","v":43},"-",{"$f":"IF(E115=\"-\",0,E115)","v":0},"-",{"$f":"IF(G115=\"-\",0,G115)","v":0},"-",{"$f":"IF(I115=\"-\",0,I115)","v":0},"-",{"$f":"IF(K115=\"-\",0,K115)","v":0},{"$f":"Table1013[[#This Row],[School]]","v":"Charnwood College"},{"$f":"D115+F115+H115+J115+L115","v":43},{"$f":"MAX(C115,E115,G115,I115,K115)","v":43},{"$f":"IF(Q115=1,N115,IF(Q115=0,(N115-O115),\"-\"))","v":"-"},{"$f":"$L$1-Table1013[Competed Count]","v":3},{"$f":"IF(Q115<2,\"Yes\",\"No\")","v":"No"},{"$f":"AND($C$1=\"Y\",D115>0)","v":true},{"$f":"AND($E$1=\"Y\",F115>0)","v":false},{"$f":"AND($G$1=\"Y\",H115>0)","v":false},{"$f":"AND($I$1=\"Y\",J115>0)","v":false},{"$f":"AND($K$1=\"Y\",L115>0)","v":false},{"$f":"COUNTIF(Table1013[[#This Row],[Competed 1]:[Competed 5]],\"=TRUE\")","v":1}]
["Unclaimed","UNCLAIMED 1",45,{"$f":"IF(C116=\"-\",0,C116)","v":45},"-",{"$f":"IF(E116=\"-\",0,E116)","v":0},"-",{"$f":"IF(G116=\"-\",0,G116)","v":0},"-",{"$f":"IF(I116=\"-\",0,I116)","v":0},"-",{"$f":"IF(K116=\"-\",0,K116)","v":0},{"$f":"Table1013[[#This Row],[School]]","v":"UNCLAIMED 1"},{"$f":"D116+F116+H116+J116+L116","v":45},{"$f":"MAX(C116,E116,G116,I116,K116)","v":45},{"$f":"IF(Q116=1,N116,IF(Q116=0,(N116-O116),\"-\"))","v":"-"},{"$f":"$L$1-Table1013[Competed Count]","v":3},{"$f":"IF(Q116<2,\"Yes\",\"No\")","v":"No"},{"$f":"AND($C$1=\"Y\",D116>0)","v":true},{"$f":"AND($E$1=\"Y\",F116>0)","v":false},{"$f":"AND($G$1=\"Y\",H116>0)","v":false},{"$f":"AND($I$1=\"Y\",J116>0)","v":false},{"$f":"AND($K$1=\"Y\",L116>0)","v":false},{"$f":"COUNTIF(Table1013[[#This Row],[Competed 1]:[Competed 5]],\"=TRUE\")","v":1}]
["Unclaimed","UNCLAIMED 2",46,{"$f":"IF(C117=\"-\",0,C117)","v":46},"-",{"$f":"IF(E117=\"-\",0,E117)","v":0},"-",{"$f":"IF(G117=\"-\",0,G117)","v":0},"-",{"$f":"IF(I117=\"-\",0,I117)","v":0},"-",{"$f":"IF(K117=\"-\",0,K117)","v":0},{"$f":"Table1013[[#This Row],[School]]","v":"UNCLAIMED 2"},{"$f":"D117+F117+H117+J117+L117","v":46},{"$f":"MAX(C117,E117,G117,I117,K117)","v":46},{"$f":"IF(Q117=1,N117,IF(Q117=0,(N117-O117),\"-\"))","v":"-"},{"$f":"$L$1-Table1013[Competed Count]","v":3},{"$f":"IF(Q117<2,\"Yes\",\"No\")","v":"No"},{"$f":"AND($C$1=\"Y\",D117>0)","v":true},{"$f":"AND($E$1=\"Y\",F117>0)","v":false},{"$f":"AND($G$1=\"Y\",H117>0)","v":false},{"$f":"AND($I$1=\"Y\",J117>0)","v":false},{"$f":"AND($K$1=\"Y\",L117>0)","v":false},{"$f":"COUNTIF(Table1013[[#This Row],[Competed 1]:[Competed 5]],\"=TRUE\")","v":1}]
["Alex Nelson","Loughborough Grammar School",47,{"$f":"IF(C118=\"-\",0,C118)","v":47},"-",{"$f":"IF(E118=\"-\",0,E118)","v":0},"-",{"$f":"IF(G118=\"-\",0,G118)","v":0},"-",{"$f":"IF(I118=\"-\",0,I118)","v":0},"-",{"$f":"IF(K118=\"-\",0,K118)","v":0},{"$f":"Table1013[[#This Row],[School]]","v":"Loughborough Grammar School"},{"$f":"D118+F118+H118+J118+L118","v":47},{"$f":"MAX(C118,E118,G118,I118,K118)","v":47},{"$f":"IF(Q118=1,N118,IF(Q118=0,(N118-O118),\"-\"))","v":"-"},{"$f":"$L$1-Table1013[Competed Count]","v":3},{"$f":"IF(Q118<2,\"Yes\",\"No\")","v":"No"},{"$f":"AND($C$1=\"Y\",D118>0)","v":true},{"$f":"AND($E$1=\"Y\",F118>0)","v":false},{"$f":"AND($G$1=\"Y\",H118>0)","v":false},{"$f":"AND($I$1=\"Y\",J118>0)","v":false},{"$f":"AND($K$1=\"Y\",L118>0)","v":false},{"$f":"COUNTIF(Table1013[[#This Row],[Competed 1]:[Competed 5]],\"=TRUE\")","v":1}]
["Owen Cumberlidge","Lutterworth High School",48,{"$f":"IF(C119=\"-\",0,C119)","v":48},"-",{"$f":"IF(E119=\"-\",0,E119)","v":0},"-",{"$f":"IF(G119=\"-\",0,G119)","v":0},"-",{"$f":"IF(I119=\"-\",0,I119)","v":0},"-",{"$f":"IF(K119=\"-\",0,K119)","v":0},{"$f":"Table1013[[#This Row],[School]]","v":"Lutterworth High School"},{"$f":"D119+F119+H119+J119+L119","v":48},{"$f":"MAX(C119,E119,G119,I119,K119)","v":48},{"$f":"IF(Q119=1,N119,IF(Q119=0,(N119-O119),\"-\"))","v":"-"},{"$f":"$L$1-Table1013[Competed Count]","v":3},{"$f":"IF(Q119<2,\"Yes\",\"No\")","v":"No"},{"$f":"AND($C$1=\"Y\",D119>0)","v":true},{"$f":"AND($E$1=\"Y\",F119>0)","v":false},{"$f":"AND($G$1=\"Y\",H119>0)","v":false},{"$f":"AND($I$1=\"Y\",J119>0)","v":false},{"$f":"AND($K$1=\"Y\",L119>0)","v":false},{"$f":"COUNTIF(Table1013[[#This Row],[Competed 1]:[Competed 5]],\"=TRUE\")","v":1}]
["Oli Fowlds","Woodbrook Vale School",50,{"$f":"IF(C120=\"-\",0,C120)","v":50},"-",{"$f":"IF(E120=\"-\",0,E120)","v":0},"-",{"$f":"IF(G120=\"-\",0,G120)","v":0},"-",{"$f":"IF(I120=\"-\",0,I120)","v":0},"-",{"$f":"IF(K120=\"-\",0,K120)","v":0},{"$f":"Table1013[[#This Row],[School]]","v":"Woodbrook Vale School"},{"$f":"D120+F120+H120+J120+L120","v":50},{"$f":"MAX(C120,E120,G120,I120,K120)","v":50},{"$f":"IF(Q120=1,N120,IF(Q120=0,(N120-O120),\"-\"))","v":"-"},{"$f":"$L$1-Table1013[Competed Count]","v":3},{"$f":"IF(Q120<2,\"Yes\",\"No\")","v":"No"},{"$f":"AND($C$1=\"Y\",D120>0)","v":true},{"$f":"AND($E$1=\"Y\",F120>0)","v":false},{"$f":"AND($G$1=\"Y\",H120>0)","v":false},{"$f":"AND($I$1=\"Y\",J120>0)","v":false},{"$f":"AND($K$1=\"Y\",L120>0)","v":false},{"$f":"COUNTIF(Table1013[[#This Row],[Competed 1]:[Competed 5]],\"=TRUE\")","v":1}]
["Vincent Gosling","St Martins Catholic Academy",51,{"$f":"IF(C121=\"-\",0,C121)","v":51},"-",{"$f":"IF(E121=\"-\",0,E121)","v":0},"-",{"$f":"IF(G121=\"-\",0,G121)","v":0},"-",{"$f":"IF(I121=\"-\",0,I121)","v":0},"-",{"$f":"IF(K121=\"-\",0,K121)","v":0},{"$f":"Table1013[[#This Row],[School]]","v":"St Martins Catholic Academy"},{"$f":"D121+F121+H121+J121+L121","v":51},{"$f":"MAX(C121,E121,G121,I121,K121)","v":51},{"$f":"IF(Q121=1,N121,IF(Q121=0,(N121-O121),\"-\"))","v":"-"},{"$f":"$L$1-Table1013[Competed Count]","v":3},{"$f":"IF(Q121<2,\"Yes\",\"No\")","v":"No"},{"$f":"AND($C$1=\"Y\",D121>0)","v":true},{"$f":"AND($E$1=\"Y\",F121>0)","v":false},{"$f":"AND($G$1=\"Y\",H121>0)","v":false},{"$f":"AND($I$1=\"Y\",J121>0)","v":false},{"$f":"AND($K$1=\"Y\",L121>0)","v":false},{"$f":"COUNTIF(Table1013[[#This Row],[Competed 1]:[Competed 5]],\"=TRUE\")","v":1}]
["Joe Birch","Uppingham CC",55,{"$f":"IF(C122=\"-\",0,C122)","v":55},"-",{"$f":"IF(E122=\"-\",0,E122)","v":0},"-",{"$f":"IF(G122=\"-\",0,G122)","v":0},"-",{"$f":"IF(I122=\"-\",0,I122)","v":0},"-",{"$f":"IF(K122=\"-\",0,K122)","v":0},{"$f":"Table1013[[#This Row],[School]]","v":"Uppingham CC"},{"$f":"D122+F122+H122+J122+L122","v":55},{"$f":"MAX(C122,E122,G122,I122,K122)","v":55},{"$f":"IF(Q122=1,N122,IF(Q122=0,(N122-O122),\"-\"))","v":"-"},{"$f":"$L$1-Table1013[Competed Count]","v":3},{"$f":"IF(Q122<2,\"Yes\",\"No\")","v":"No"},{"$f":"AND($C$1=\"Y\",D122>0)","v":true},{"$f":"AND($E$1=\"Y\",F122>0)","v":false},{"$f":"AND($G$1=\"Y\",H122>0)","v":false},{"$f":"AND($I$1=\"Y\",J122>0)","v":false},{"$f":"AND($K$1=\"Y\",L122>0)","v":false},{"$f":"COUNTIF(Table1013[[#This Row],[Competed 1]:[Competed 5]],\"=TRUE\")","v":1}]
["Jack Thornton","Manor High School",57,{"$f":"IF(C123=\"-\",0,C123)","v":57},"-",{"$f":"IF(E123=\"-\",0,E123)","v":0},"-",{"$f":"IF(G123=\"-\",0,G123)","v":0},"-",{"$f":"IF(I123=\"-\",0,I123)","v":0},"-",{"$f":"IF(K123=\"-\",0,K123)","v":0},{"$f":"Table1013[[#This Row],[School]]","v":"Manor High School"},{"$f":"D123+F123+H123+J123+L123","v":57},{"$f":"MAX(C123,E123,G123,I123,K123)","v":57},{"$f":"IF(Q123=1,N123,IF(Q123=0,(N123-O123),\"-\"))","v":"-"},{"$f":"$L$1-Table1013[Competed Count]","v":3},{"$f":"IF(Q123<2,\"Yes\",\"No\")","v":"No"},{"$f":"AND($C$1=\"Y\",D123>0)","v":true},{"$f":"AND($E$1=\"Y\",F123>0)","v":false},{"$f":"AND($G$1=\"Y\",H123>0)","v":false},{"$f":"AND($I$1=\"Y\",J123>0)","v":false},{"$f":"AND($K$1=\"Y\",L123>0)","v":false},{"$f":"COUNTIF(Table1013[[#This Row],[Competed 1]:[Competed 5]],\"=TRUE\")","v":1}]
["George Smith","John Ferneley College",59,{"$f":"IF(C124=\"-\",0,C124)","v":59},"-",{"$f":"IF(E124=\"-\",0,E124)","v":0},"-",{"$f":"IF(G124=\"-\",0,G124)","v":0},"-",{"$f":"IF(I124=\"-\",0,I124)","v":0},"-",{"$f":"IF(K124=\"-\",0,K124)","v":0},{"$f":"Table1013[[#This Row],[School]]","v":"John Ferneley College"},{"$f":"D124+F124+H124+J124+L124","v":59},{"$f":"MAX(C124,E124,G124,I124,K124)","v":59},{"$f":"IF(Q124=1,N124,IF(Q124=0,(N124-O124),\"-\"))","v":"-"},{"$f":"$L$1-Table1013[Competed Count]","v":3},{"$f":"IF(Q124<2,\"Yes\",\"No\")","v":"No"},{"$f":"AND($C$1=\"Y\",D124>0)","v":true},{"$f":"AND($E$1=\"Y\",F124>0)","v":false},{"$f":"AND($G$1=\"Y\",H124>0)","v":false},{"$f":"AND($I$1=\"Y\",J124>0)","v":false},{"$f":"AND($K$1=\"Y\",L124>0)","v":false},{"$f":"COUNTIF(Table1013[[#This Row],[Competed 1]:[Competed 5]],\"=TRUE\")","v":1}]
["Matthew Lewis","John Ferneley College",61,{"$f":"IF(C125=\"-\",0,C125)","v":61},"-",{"$f":"IF(E125=\"-\",0,E125)","v":0},"-",{"$f":"IF(G125=\"-\",0,G125)","v":0},"-",{"$f":"IF(I125=\"-\",0,I125)","v":0},"-",{"$f":"IF(K125=\"-\",0,K125)","v":0},{"$f":"Table1013[[#This Row],[School]]","v":"John Ferneley College"},{"$f":"D125+F125+H125+J125+L125","v":61},{"$f":"MAX(C125,E125,G125,I125,K125)","v":61},{"$f":"IF(Q125=1,N125,IF(Q125=0,(N125-O125),\"-\"))","v":"-"},{"$f":"$L$1-Table1013[Competed Count]","v":3},{"$f":"IF(Q125<2,\"Yes\",\"No\")","v":"No"},{"$f":"AND($C$1=\"Y\",D125>0)","v":true},{"$f":"AND($E$1=\"Y\",F125>0)","v":false},{"$f":"AND($G$1=\"Y\",H125>0)","v":false},{"$f":"AND($I$1=\"Y\",J125>0)","v":false},{"$f":"AND($K$1=\"Y\",L125>0)","v":false},{"$f":"COUNTIF(Table1013[[#This Row],[Competed 1]:[Competed 5]],\"=TRUE\")","v":1}]
["James Wells","The Martin High School",62,{"$f":"IF(C126=\"-\",0,C126)","v":62},"-",{"$f":"IF(E126=\"-\",0,E126)","v":0},"-",{"$f":"IF(G126=\"-\",0,G126)","v":0},"-",{"$f":"IF(I126=\"-\",0,I126)","v":0},"-",{"$f":"IF(K126=\"-\",0,K126)","v":0},{"$f":"Table1013[[#This Row],[School]]","v":"The Martin High School"},{"$f":"D126+F126+H126+J126+L126","v":62},{"$f":"MAX(C126,E126,G126,I126,K126)","v":62},{"$f":"IF(Q126=1,N126,IF(Q126=0,(N126-O126),\"-\"))","v":"-"},{"$f":"$L$1-Table1013[Competed Count]","v":3},{"$f":"IF(Q126<2,\"Yes\",\"No\")","v":"No"},{"$f":"AND($C$1=\"Y\",D126>0)","v":true},{"$f":"AND($E$1=\"Y\",F126>0)","v":false},{"$f":"AND($G$1=\"Y\",H126>0)","v":false},{"$f":"AND($I$1=\"Y\",J126>0)","v":false},{"$f":"AND($K$1=\"Y\",L126>0)","v":false},{"$f":"COUNTIF(Table1013[[#This Row],[Competed 1]:[Competed 5]],\"=TRUE\")","v":1}]
["Tiger Gill","Thomas Estley CC",66,{"$f":"IF(C127=\"-\",0,C127)","v":66},"-",{"$f":"IF(E127=\"-\",0,E127)","v":0},"-",{"$f":"IF(G127=\"-\",0,G127)","v":0},"-",{"$f":"IF(I127=\"-\",0,I127)","v":0},"-",{"$f":"IF(K127=\"-\",0,K127)","v":0},{"$f":"Table1013[[#This Row],[School]]","v":"Thomas Estley CC"},{"$f":"D127+F127+H127+J127+L127","v":66},{"$f":"MAX(C127,E127,G127,I127,K127)","v":66},{"$f":"IF(Q127=1,N127,IF(Q127=0,(N127-O127),\"-\"))","v":"-"},{"$f":"$L$1-Table1013[Competed Count]","v":3},{"$f":"IF(Q127<2,\"Yes\",\"No\")","v":"No"},{"$f":"AND($C$1=\"Y\",D127>0)","v":true},{"$f":"AND($E$1=\"Y\",F127>0)","v":false},{"$f":"AND($G$1=\"Y\",H127>0)","v":false},{"$f":"AND($I$1=\"Y\",J127>0)","v":false},{"$f":"AND($K$1=\"Y\",L127>0)","v":false},{"$f":"COUNTIF(Table1013[[#This Row],[Competed 1]:[Competed 5]],\"=TRUE\")","v":1}]
["Sam Hartopp","Woodbrook Vale School",69,{"$f":"IF(C128=\"-\",0,C128)","v":69},"-",{"$f":"IF(E128=\"-\",0,E128)","v":0},"-",{"$f":"IF(G128=\"-\",0,G128)","v":0},"-",{"$f":"IF(I128=\"-\",0,I128)","v":0},"-",{"$f":"IF(K128=\"-\",0,K128)","v":0},{"$f":"Table1013[[#This Row],[School]]","v":"Woodbrook Vale School"},{"$f":"D128+F128+H128+J128+L128","v":69},{"$f":"MAX(C128,E128,G128,I128,K128)","v":69},{"$f":"IF(Q128=1,N128,IF(Q128=0,(N128-O128),\"-\"))","v":"-"},{"$f":"$L$1-Table1013[Competed Count]","v":3},{"$f":"IF(Q128<2,\"Yes\",\"No\")","v":"No"},{"$f":"AND($C$1=\"Y\",D128>0)","v":true},{"$f":"AND($E$1=\"Y\",F128>0)","v":false},{"$f":"AND($G$1=\"Y\",H128>0)","v":false},{"$f":"AND($I$1=\"Y\",J128>0)","v":false},{"$f":"AND($K$1=\"Y\",L128>0)","v":false},{"$f":"COUNTIF(Table1013[[#This Row],[Competed 1]:[Competed 5]],\"=TRUE\")","v":1}]
["J Day","Loughborough Grammar School",70,{"$f":"IF(C129=\"-\",0,C129)","v":70},"-",{"$f":"IF(E129=\"-\",0,E129)","v":0},"-",{"$f":"IF(G129=\"-\",0,G129)","v":0},"-",{"$f":"IF(I129=\"-\",0,I129)","v":0},"-",{"$f":"IF(K129=\"-\",0,K129)","v":0},{"$f":"Table1013[[#This Row],[School]]","v":"Loughborough Grammar School"},{"$f":"D129+F129+H129+J129+L129","v":70},{"$f":"MAX(C129,E129,G129,I129,K129)","v":70},{"$f":"IF(Q129=1,N129,IF(Q129=0,(N129-O129),\"-\"))","v":"-"},{"$f":"$L$1-Table1013[Competed Count]","v":3},{"$f":"IF(Q129<2,\"Yes\",\"No\")","v":"No"},{"$f":"AND($C$1=\"Y\",D129>0)","v":true},{"$f":"AND($E$1=\"Y\",F129>0)","v":false},{"$f":"AND($G$1=\"Y\",H129>0)","v":false},{"$f":"AND($I$1=\"Y\",J129>0)","v":false},{"$f":"AND($K$1=\"Y\",L129>0)","v":false},{"$f":"COUNTIF(Table1013[[#This Row],[Competed 1]:[Competed 5]],\"=TRUE\")","v":1}]
["A Marsh","Loughborough Grammar School",71,{"$f":"IF(C130=\"-\",0,C130)","v":71},"-",{"$f":"IF(E130=\"-\",0,E130)","v":0},"-",{"$f":"IF(G130=\"-\",0,G130)","v":0},"-",{"$f":"IF(I130=\"-\",0,I130)","v":0},"-",{"$f":"IF(K130=\"-\",0,K130)","v":0},{"$f":"Table1013[[#This Row],[School]]","v":"Loughborough Grammar School"},{"$f":"D130+F130+H130+J130+L130","v":71},{"$f":"MAX(C130,E130,G130,I130,K130)","v":71},{"$f":"IF(Q130=1,N130,IF(Q130=0,(N130-O130),\"-\"))","v":"-"},{"$f":"$L$1-Table1013[Competed Count]","v":3},{"$f":"IF(Q130<2,\"Yes\",\"No\")","v":"No"},{"$f":"AND($C$1=\"Y\",D130>0)","v":true},{"$f":"AND($E$1=\"Y\",F130>0)","v":false},{"$f":"AND($G$1=\"Y\",H130>0)","v":false},{"$f":"AND($I$1=\"Y\",J130>0)","v":false},{"$f":"AND($K$1=\"Y\",L130>0)","v":false},{"$f":"COUNTIF(Table1013[[#This Row],[Competed 1]:[Competed 5]],\"=TRUE\")","v":1}]
["Finlay Holdsworth","John Ferneley College",73,{"$f":"IF(C131=\"-\",0,C131)","v":73},"-",{"$f":"IF(E131=\"-\",0,E131)","v":0},"-",{"$f":"IF(G131=\"-\",0,G131)","v":0},"-",{"$f":"IF(I131=\"-\",0,I131)","v":0},"-",{"$f":"IF(K131=\"-\",0,K131)","v":0},{"$f":"Table1013[[#This Row],[School]]","v":"John Ferneley College"},{"$f":"D131+F131+H131+J131+L131","v":73},{"$f":"MAX(C131,E131,G131,I131,K131)","v":73},{"$f":"IF(Q131=1,N131,IF(Q131=0,(N131-O131),\"-\"))","v":"-"},{"$f":"$L$1-Table1013[Competed Count]","v":3},{"$f":"IF(Q131<2,\"Yes\",\"No\")","v":"No"},{"$f":"AND($C$1=\"Y\",D131>0)","v":true},{"$f":"AND($E$1=\"Y\",F131>0)","v":false},{"$f":"AND($G$1=\"Y\",H131>0)","v":false},{"$f":"AND($I$1=\"Y\",J131>0)","v":false},{"$f":"AND($K$1=\"Y\",L131>0)","v":false},{"$f":"COUNTIF(Table1013[[#This Row],[Competed 1]:[Competed 5]],\"=TRUE\")","v":1}]
[null,"-","-",{"$f":"IF(C132=\"-\",0,C132)","v":0},"-",{"$f":"IF(E132=\"-\",0,E132)","v":0},"-",{"$f":"IF(G132=\"-\",0,G132)","v":0},"-",{"$f":"IF(I132=\"-\",0,I132)","v":0},"-",{"$f":"IF(K132=\"-\",0,K132)","v":0},{"$f":"Table1013[[#This Row],[School]]","v":"-"},{"$f":"D132+F132+H132+J132+L132","v":0},{"$f":"MAX(C132,E132,G132,I132,K132)","v":0},{"$f":"IF(Q132=1,N132,IF(Q132=0,(N132-O132),\"-\"))","v":"-"},{"$f":"$L$1-Table1013[Competed Count]","v":4},{"$f":"IF(Q132<2,\"Yes\",\"No\")","v":"No"},{"$f":"AND($C$1=\"Y\",D132>0)","v":false},{"$f":"AND($E$1=\"Y\",F132>0)","v":false},{"$f":"AND($G$1=\"Y\",H132>0)","v":false},{"$f":"AND($I$1=\"Y\",J132>0)","v":false},{"$f":"AND($K$1=\"Y\",L132>0)","v":false},{"$f":"COUNTIF(Table1013[[#This Row],[Competed 1]:[Competed 5]],\"=TRUE\")","v":0}]
[null,"-","-",{"$f":"IF(C133=\"-\",0,C133)","v":0},"-",{"$f":"IF(E133=\"-\",0,E133)","v":0},"-",{"$f":"IF(G133=\"-\",0,G133)","v":0},"-",{"$f":"IF(I133=\"-\",0,I133)","v":0},"-",{"$f":"IF(K133=\"-\",0,K133)","v":0},{"$f":"Table1013[[#This Row],[School]]","v":"-"},{"$f":"D133+F133+H133+J133+L133","v":0},{"$f":"MAX(C133,E133,G133,I133,K133)","v":0},{"$f":"IF(Q133=1,N133,IF(Q133=0,(N133-O133),\"-\"))","v":"-"},{"$f":"$L$1-Table1013[Competed Count]","v":4},{"$f":"IF(Q133<2,\"Yes\",\"No\")","v":"No"},{"$f":"AND($C$1=\"Y\",D133>0)","v":false},{"$f":"AND($E$1=\"Y\",F133>0)","v":false},{"$f":"AND($G$1=\"Y\",H133>0)","v":false},{"$f":"AND($I$1=\"Y\",J133>0)","v":false},{"$f":"AND($K$1=\"Y\",L133>0)","v":false},{"$f":"COUNTIF(Table1013[[#This Row],[Competed 1]:[Competed 5]],\"=TRUE\")","v":0}]
[null,"-","-",{"$f":"IF(C134=\"-\",0,C134)","v":0},"-",{"$f":"IF(E134=\"-\",0,E134)","v":0},"-",{"$f":"IF(G134=\"-\",0,G134)","v":0},"-",{"$f":"IF(I134=\"-\",0,I134)","v":0},"-",{"$f":"IF(K134=\"-\",0,K134)","v":0},{"$f":"Table1013[[#This Row],[School]]","v":"-"},{"$f":"D134+F134+H134+J134+L134","v":0},{"$f":"MAX(C134,E134,G134,I134,K134)","v":0},{"$f":"IF(Q134=1,N134,IF(Q134=0,(N134-O134),\"-\"))","v":"-"},{"$f":"$L$1-Table1013[Competed Count]","v":4},{"$f":"IF(Q134<2,\"Yes\",\"No\")","v":"No"},{"$f":"AND($C$1=\"Y\",D134>0)","v":false},{"$f":"AND($E$1=\"Y\",F134>0)","v":false},{"$f":"AND($G$1=\"Y\",H134>0)","v":false},{"$f":"AND($I$1=\"Y\",J134>0)","v":false},{"$f":"AND($K$1=\"Y\",L134>0)","v":false},{"$f":"COUNTIF(Table1013[[#This Row],[Competed 1]:[Competed 5]],\"=TRUE\")","v":0}]
[null,"-","-",{"$f":"IF(C135=\"-\",0,C135)","v":0},"-",{"$f":"IF(E135=\"-\",0,E135)","v":0},"-",{"$f":"IF(G135=\"-\",0,G135)","v":0},"-",{"$f":"IF(I135=\"-\",0,I135)","v":0},"-",{"$f":"IF(K135=\"-\",0,K135)","v":0},{"$f":"Table1013[[#This Row],[School]]","v":"-"},{"$f":"D135+F135+H135+J135+L135","v":0},{"$f":"MAX(C135,E135,G135,I135,K135)","v":0},{"$f":"IF(Q135=1,N135,IF(Q135=0,(N135-O135),\"-\"))","v":"-"},{"$f":"$L$1-Table1013[Competed Count]","v":4},{"$f":"IF(Q135<2,\"Yes\",\"No\")","v":"No"},{"$f":"AND($C$1=\"Y\",D135>0)","v":false},{"$f":"AND($E$1=\"Y\",F135>0)","v":false},{"$f":"AND($G$1=\"Y\",H135>0)","v":false},{"$f":"AND($I$1=\"Y\",J135>0)","v":false},{"$f":"AND($K$1=\"Y\",L135>0)","v":false},{"$f":"COUNTIF(Table1013[[#This Row],[Competed 1]:[Competed 5]],\"=TRUE\")","v":0}]
[null,"-","-",{"$f":"IF(C136=\"-\",0,C136)","v":0},"-",{"$f":"IF(E136=\"-\",0,E136)","v":0},"-",{"$f":"IF(G136=\"-\",0,G136)","v":0},"-",{"$f":"IF(I136=\"-\",0,I136)","v":0},"-",{"$f":"IF(K136=\"-\",0,K136)","v":0},{"$f":"Table1013[[#This Row],[School]]","v":"-"},{"$f":"D136+F136+H136+J136+L136","v":0},{"$f":"MAX(C136,E136,G136,I136,K136)","v":0},{"$f":"IF(Q136=1,N136,IF(Q136=0,(N136-O136),\"-\"))","v":"-"},{"$f":"$L$1-Table1013[Competed Count]","v":4},{"$f":"IF(Q136<2,\"Yes\",\"No\")","v":"No"},{"$f":"AND($C$1=\"Y\",D136>0)","v":false},{"$f":"AND($E$1=\"Y\",F136>0)","v":false},{"$f":"AND($G$1=\"Y\",H136>0)","v":false},{"$f":"AND($I$1=\"Y\",J136>0)","v":false},{"$f":"AND($K$1=\"Y\",L136>0)","v":false},{"$f":"COUNTIF(Table1013[[#This Row],[Competed 1]:[Competed 5]],\"=TRUE\")","v":0}]
[null,"-","-",{"$f":"IF(C137=\"-\",0,C137)","v":0},"-",{"$f":"IF(E137=\"-\",0,E137)","v":0},"-",{"$f":"IF(G137=\"-\",0,G137)","v":0},"-",{"$f":"IF(I137=\"-\",0,I137)","v":0},"-",{"$f":"IF(K137=\"-\",0,K137)","v":0},{"$f":"Table1013[[#This Row],[School]]","v":"-"},{"$f":"D137+F137+H137+J137+L137","v":0},{"$f":"MAX(C137,E137,G137,I137,K137)","v":0},{"$f":"IF(Q137=1,N137,IF(Q137=0,(N137-O137),\"-\"))","v":"-"},{"$f":"$L$1-Table1013[Competed Count]","v":4},{"$f":"IF(Q137<2,\"Yes\",\"No\")","v":"No"},{"$f":"AND($C$1=\"Y\",D137>0)","v":false},{"$f":"AND($E$1=\"Y\",F137>0)","v":false},{"$f":"AND($G$1=\"Y\",H137>0)","v":false},{"$f":"AND($I$1=\"Y\",J137>0)","v":false},{"$f":"AND($K$1=\"Y\",L137>0)","v":false},{"$f":"COUNTIF(Table1013[[#This Row],[Competed 1]:[Competed 5]],\"=TRUE\")","v":0}]
[null,"-","-",{"$f":"IF(C138=\"-\",0,C138)","v":0},"-",{"$f":"IF(E138=\"-\",0,E138)","v":0},"-",{"$f":"IF(G138=\"-\",0,G138)","v":0},"-",{"$f":"IF(I138=\"-\",0,I138)","v":0},"-",{"$f":"IF(K138=\"-\",0,K138)","v":0},{"$f":"Table1013[[#This Row],[School]]","v":"-"},{"$f":"D138+F138+H138+J138+L138","v":0},{"$f":"MAX(C138,E138,G138,I138,K138)","v":0},{"$f":"IF(Q138=1,N138,IF(Q138=0,(N138-O138),\"-\"))","v":"-"},{"$f":"$L$1-Table1013[Competed Count]","v":4},{"$f":"IF(Q138<2,\"Yes\",\"No\")","v":"No"},{"$f":"AND($C$1=\"Y\",D138>0)","v":false},{"$f":"AND($E$1=\"Y\",F138>0)","v":false},{"$f":"AND($G$1=\"Y\",H138>0)","v":false},{"$f":"AND($I$1=\"Y\",J138>0)","v":false},{"$f":"AND($K$1=\"Y\",L138>0)","v":false},{"$f":"COUNTIF(Table1013[[#This Row],[Competed 1]:[Competed 5]],\"=TRUE\")","v":0}]
[null,"-","-",{"$f":"IF(C139=\"-\",0,C139)","v":0},"-",{"$f":"IF(E139=\"-\",0,E139)","v":0},"-",{"$f":"IF(G139=\"-\",0,G139)","v":0},"-",{"$f":"IF(I139=\"-\",0,I139)","v":0},"-",{"$f":"IF(K139=\"-\",0,K139)","v":0},{"$f":"Table1013[[#This Row],[School]]","v":"-"},{"$f":"D139+F139+H139+J139+L139","v":0},{"$f":"MAX(C139,E139,G139,I139,K139)","v":0},{"$f":"IF(Q139=1,N139,IF(Q139=0,(N139-O139),\"-\"))","v":"-"},{"$f":"$L$1-Table1013[Competed Count]","v":4},{"$f":"IF(Q139<2,\"Yes\",\"No\")","v":"No"},{"$f":"AND($C$1=\"Y\",D139>0)","v":false},{"$f":"AND($E$1=\"Y\",F139>0)","v":false},{"$f":"AND($G$1=\"Y\",H139>0)","v":false},{"$f":"AND($I$1=\"Y\",J139>0)","v":false},{"$f":"AND($K$1=\"Y\",L139>0)","v":false},{"$f":"COUNTIF(Table1013[[#This Row],[Competed 1]:[Competed 5]],\"=TRUE\")","v":0}]
[null,"-","-",{"$f":"IF(C140=\"-\",0,C140)","v":0},"-",{"$f":"IF(E140=\"-\",0,E140)","v":0},"-",{"$f":"IF(G140=\"-\",0,G140)","v":0},"-",{"$f":"IF(I140=\"-\",0,I140)","v":0},"-",{"$f":"IF(K140=\"-\",0,K140)","v":0},{"$f":"Table1013[[#This Row],[School]]","v":"-"},{"$f":"D140+F140+H140+J140+L140","v":0},{"$f":"MAX(C140,E140,G140,I140,K140)","v":0},{"$f":"IF(Q140=1,N140,IF(Q140=0,(N140-O140),\"-\"))","v":"-"},{"$f":"$L$1-Table1013[Competed Count]","v":4},{"$f":"IF(Q140<2,\"Yes\",\"No\")","v":"No"},{"$f":"AND($C$1=\"Y\",D140>0)","v":false},{"$f":"AND($E$1=\"Y\",F140>0)","v":false},{"$f":"AND($G$1=\"Y\",H140>0)","v":false},{"$f":"AND($I$1=\"Y\",J140>0)","v":false},{"$f":"AND($K$1=\"Y\",L140>0)","v":false},{"$f":"COUNTIF(Table1013[[#This Row],[Competed 1]:[Competed 5]],\"=TRUE\")","v":0}]
[null,"-","-",{"$f":"IF(C141=\"-\",0,C141)","v":0},"-",{"$f":"IF(E141=\"-\",0,E141)","v":0},"-",{"$f":"IF(G141=\"-\",0,G141)","v":0},"-",{"$f":"IF(I141=\"-\",0,I141)","v":0},"-",{"$f":"IF(K141=\"-\",0,K141)","v":0},{"$f":"Table1013[[#This Row],[School]]","v":"-"},{"$f":"D141+F141+H141+J141+L141","v":0},{"$f":"MAX(C141,E141,G141,I141,K141)","v":0},{"$f":"IF(Q141=1,N141,IF(Q141=0,(N141-O141),\"-\"))","v":"-"},{"$f":"$L$1-Table1013[Competed Count]","v":4},{"$f":"IF(Q141<2,\"Yes\",\"No\")","v":"No"},{"$f":"AND($C$1=\"Y\",D141>0)","v":false},{"$f":"AND($E$1=\"Y\",F141>0)","v":false},{"$f":"AND($G$1=\"Y\",H141>0)","v":false},{"$f":"AND($I$1=\"Y\",J141>0)","v":false},{"$f":"AND($K$1=\"Y\",L141>0)","v":false},{"$f":"COUNTIF(Table1013[[#This Row],[Competed 1]:[Competed 5]],\"=TRUE\")","v":0}]
[null,"-","-",{"$f":"IF(C142=\"-\",0,C142)","v":0},"-",{"$f":"IF(E142=\"-\",0,E142)","v":0},"-",{"$f":"IF(G142=\"-\",0,G142)","v":0},"-",{"$f":"IF(I142=\"-\",0,I142)","v":0},"-",{"$f":"IF(K142=\"-\",0,K142)","v":0},{"$f":"Table1013[[#This Row],[School]]","v":"-"},{"$f":"D142+F142+H142+J142+L142","v":0},{"$f":"MAX(C142,E142,G142,I142,K142)","v":0},{"$f":"IF(Q142=1,N142,IF(Q142=0,(N142-O142),\"-\"))","v":"-"},{"$f":"$L$1-Table1013[Competed Count]","v":4},{"$f":"IF(Q142<2,\"Yes\",\"No\")","v":"No"},{"$f":"AND($C$1=\"Y\",D142>0)","v":false},{"$f":"AND($E$1=\"Y\",F142>0)","v":false},{"$f":"AND($G$1=\"Y\",H142>0)","v":false},{"$f":"AND($I$1=\"Y\",J142>0)","v":false},{"$f":"AND($K$1=\"Y\",L142>0)","v":false},{"$f":"COUNTIF(Table1013[[#This Row],[Competed 1]:[Competed 5]],\"=TRUE\")","v":0}]
[null,"-","-",{"$f":"IF(C143=\"-\",0,C143)","v":0},"-",{"$f":"IF(E143=\"-\",0,E143)","v":0},"-",{"$f":"IF(G143=\"-\",0,G143)","v":0},"-",{"$f":"IF(I143=\"-\",0,I143)","v":0},"-",{"$f":"IF(K143=\"-\",0,K143)","v":0},{"$f":"Table1013[[#This Row],[School]]","v":"-"},{"$f":"D143+F143+H143+J143+L143","v":0},{"$f":"MAX(C143,E143,G143,I143,K143)","v":0},{"$f":"IF(Q143=1,N143,IF(Q143=0,(N143-O143),\"-\"))","v":"-"},{"$f":"$L$1-Table1013[Competed Count]","v":4},{"$f":"IF(Q143<2,\"Yes\",\"No\")","v":"No"},{"$f":"AND($C$1=\"Y\",D143>0)","v":false},{"$f":"AND($E$1=\"Y\",F143>0)","v":false},{"$f":"AND($G$1=\"Y\",H143>0)","v":false},{"$f":"AND($I$1=\"Y\",J143>0)","v":false},{"$f":"AND($K$1=\"Y\",L143>0)","v":false},{"$f":"COUNTIF(Table1013[[#This Row],[Competed 1]:[Competed 5]],\"=TRUE\")","v":0}]
[null,"-","-",{"$f":"IF(C144=\"-\",0,C144)","v":0},"-",{"$f":"IF(E144=\"-\",0,E144)","v":0},"-",{"$f":"IF(G144=\"-\",0,G144)","v":0},"-",{"$f":"IF(I144=\"-\",0,I144)","v":0},"-",{"$f":"IF(K144=\"-\",0,K144)","v":0},{"$f":"Table1013[[#This Row],[School]]","v":"-"},{"$f":"D144+F144+H144+J144+L144","v":0},{"$f":"MAX(C144,E144,G144,I144,K144)","v":0},{"$f":"IF(Q144=1,N144,IF(Q144=0,(N144-O144),\"-\"))","v":"-"},{"$f":"$L$1-Table1013[Competed Count]","v":4},{"$f":"IF(Q144<2,\"Yes\",\"No\")","v":"No"},{"$f":"AND($C$1=\"Y\",D144>0)","v":false},{"$f":"AND($E$1=\"Y\",F144>0)","v":false},{"$f":"AND($G$1=\"Y\",H144>0)","v":false},{"$f":"AND($I$1=\"Y\",J144>0)","v":false},{"$f":"AND($K$1=\"Y\",L144>0)","v":false},{"$f":"COUNTIF(Table1013[[#This Row],[Competed 1]:[Competed 5]],\"=TRUE\")","v":0}]
[null,"-","-",{"$f":"IF(C145=\"-\",0,C145)","v":0},"-",{"$f":"IF(E145=\"-\",0,E145)","v":0},"-",{"$f":"IF(G145=\"-\",0,G145)","v":0},"-",{"$f":"IF(I145=\"-\",0,I145)","v":0},"-",{"$f":"IF(K145=\"-\",0,K145)","v":0},{"$f":"Table1013[[#This Row],[School]]","v":"-"},{"$f":"D145+F145+H145+J145+L145","v":0},{"$f":"MAX(C145,E145,G145,I145,K145)","v":0},{"$f":"IF(Q145=1,N145,IF(Q145=0,(N145-O145),\"-\"))","v":"-"},{"$f":"$L$1-Table1013[Competed Count]","v":4},{"$f":"IF(Q145<2,\"Yes\",\"No\")","v":"No"},{"$f":"AND($C$1=\"Y\",D145>0)","v":false},{"$f":"AND($E$1=\"Y\",F145>0)","v":false},{"$f":"AND($G$1=\"Y\",H145>0)","v":false},{"$f":"AND($I$1=\"Y\",J145>0)","v":false},{"$f":"AND($K$1=\"Y\",L145>0)","v":false},{"$f":"COUNTIF(Table1013[[#This Row],[Competed 1]:[Competed 5]],\"=TRUE\")","v":0}]
[null,"-","-",{"$f":"IF(C146=\"-\",0,C146)","v":0},"-",{"$f":"IF(E146=\"-\",0,E146)","v":0},"-",{"$f":"IF(G146=\"-\",0,G146)","v":0},"-",{"$f":"IF(I146=\"-\",0,I146)","v":0},"-",{"$f":"IF(K146=\"-\",0,K146)","v":0},{"$f":"Table1013[[#This Row],[School]]","v":"-"},{"$f":"D146+F146+H146+J146+L146","v":0},{"$f":"MAX(C146,E146,G146,I146,K146)","v":0},{"$f":"IF(Q146=1,N146,IF(Q146=0,(N146-O146),\"-\"))","v":"-"},{"$f":"$L$1-Table1013[Competed Count]","v":4},{"$f":"IF(Q146<2,\"Yes\",\"No\")","v":"No"},{"$f":"AND($C$1=\"Y\",D146>0)","v":false},{"$f":"AND($E$1=\"Y\",F146>0)","v":false},{"$f":"AND($G$1=\"Y\",H146>0)","v":false},{"$f":"AND($I$1=\"Y\",J146>0)","v":false},{"$f":"AND($K$1=\"Y\",L146>0)","v":false},{"$f":"COUNTIF(Table1013[[#This Row],[Competed 1]:[Competed 5]],\"=TRUE\")","v":0}]
[null,"-","-",{"$f":"IF(C147=\"-\",0,C147)","v":0},"-",{"$f":"IF(E147=\"-\",0,E147)","v":0},"-",{"$f":"IF(G147=\"-\",0,G147)","v":0},"-",{"$f":"IF(I147=\"-\",0,I147)","v":0},"-",{"$f":"IF(K147=\"-\",0,K147)","v":0},{"$f":"Table1013[[#This Row],[School]]","v":"-"},{"$f":"D147+F147+H147+J147+L147","v":0},{"$f":"MAX(C147,E147,G147,I147,K147)","v":0},{"$f":"IF(Q147=1,N147,IF(Q147=0,(N147-O147),\"-\"))","v":"-"},{"$f":"$L$1-Table1013[Competed Count]","v":4},{"$f":"IF(Q147<2,\"Yes\",\"No\")","v":"No"},{"$f":"AND($C$1=\"Y\",D147>0)","v":false},{"$f":"AND($E$1=\"Y\",F147>0)","v":false},{"$f":"AND($G$1=\"Y\",H147>0)","v":false},{"$f":"AND($I$1=\"Y\",J147>0)","v":false},{"$f":"AND($K$1=\"Y\",L147>0)","v":false},{"$f":"COUNTIF(Table1013[[#This Row],[Competed 1]:[Competed 5]],\"=TRUE\")","v":0}]
[null,"-","-",{"$f":"IF(C148=\"-\",0,C148)","v":0},"-",{"$f":"IF(E148=\"-\",0,E148)","v":0},"-",{"$f":"IF(G148=\"-\",0,G148)","v":0},"-",{"$f":"IF(I148=\"-\",0,I148)","v":0},"-",{"$f":"IF(K148=\"-\",0,K148)","v":0},{"$f":"Table1013[[#This Row],[School]]","v":"-"},{"$f":"D148+F148+H148+J148+L148","v":0},{"$f":"MAX(C148,E148,G148,I148,K148)","v":0},{"$f":"IF(Q148=1,N148,IF(Q148=0,(N148-O148),\"-\"))","v":"-"},{"$f":"$L$1-Table1013[Competed Count]","v":4},{"$f":"IF(Q148<2,\"Yes\",\"No\")","v":"No"},{"$f":"AND($C$1=\"Y\",D148>0)","v":false},{"$f":"AND($E$1=\"Y\",F148>0)","v":false},{"$f":"AND($G$1=\"Y\",H148>0)","v":false},{"$f":"AND($I$1=\"Y\",J148>0)","v":false},{"$f":"AND($K$1=\"Y\",L148>0)","v":false},{"$f":"COUNTIF(Table1013[[#This Row],[Competed 1]:[Competed 5]],\"=TRUE\")","v":0}]
[null,"-","-",{"$f":"IF(C149=\"-\",0,C149)","v":0},"-",{"$f":"IF(E149=\"-\",0,E149)","v":0},"-",{"$f":"IF(G149=\"-\",0,G149)","v":0},"-",{"$f":"IF(I149=\"-\",0,I149)","v":0},"-",{"$f":"IF(K149=\"-\",0,K149)","v":0},{"$f":"Table1013[[#This Row],[School]]","v":"-"},{"$f":"D149+F149+H149+J149+L149","v":0},{"$f":"MAX(C149,E149,G149,I149,K149)","v":0},{"$f":"IF(Q149=1,N149,IF(Q149=0,(N149-O149),\"-\"))","v":"-"},{"$f":"$L$1-Table1013[Competed Count]","v":4},{"$f":"IF(Q149<2,\"Yes\",\"No\")","v":"No"},{"$f":"AND($C$1=\"Y\",D149>0)","v":false},{"$f":"AND($E$1=\"Y\",F149>0)","v":false},{"$f":"AND($G$1=\"Y\",H149>0)","v":false},{"$f":"AND($I$1=\"Y\",J149>0)","v":false},{"$f":"AND($K$1=\"Y\",L149>0)","v":false},{"$f":"COUNTIF(Table1013[[#This Row],[Competed 1]:[Competed 5]],\"=TRUE\")","v":0}]

{"sheet":"JG","index":2,"n_rows":150,"n_cols":29,"rows_kept":150,"cut":false,"hidden":false,"merged":[]}
["Total Number of Runners","Race Complete (Y/N) ",{"$f":"Y7G!C1","v":"Y"},null,{"$f":"Y7G!E1","v":"Y"},null,{"$f":"Y7G!G1","v":"Y"},null,{"$f":"Y7G!I1","v":"Y"},null,{"$f":"Y7G!K1","v":"N"},{"$f":"COUNTIF(C1:K1,\"=Y\")","v":4},null,null,null,null,null,"Total Eligible for League",null,{"$f":"IF(K1=\"Y\",1,0)","v":0},null,{"$f":"SUM(S1:T1)","v":0}]
[{"$f":"COUNTA(A5:A300)","v":89},"No of Finishers",79,{"$f":"MAX(D5:D150)","v":79},51,{"$f":"MAX(F5:F150)","v":51},50,{"$f":"MAX(G5:G150)","v":50},43,{"$f":"MAX(I5:I150)","v":43},null,{"$f":"MAX(K5:K150)","v":0},null,null,null,null,null,{"$f":"COUNTIF(R5:R200,\"Yes\")","v":44}]
["Junior Girls","Number of results recorded",{"$f":"COUNTIF(C5:C150,\">0\")","v":79},null,{"$f":"COUNTIF(F5:F150,\">0\")","v":51},null,50,null,{"$f":"COUNTIF(J5:J150,\">0\")","v":43},null,0]
["Name","School","Race 1","Normalised result -1","Race 2","Normalised result -2","Race 3","Normalised result -3","Race 4","Normalised result -4","Race 5","Normalised result -5","School Duplicate","Total\n(All Races)","Lowest Place Finish","Final Total","League contender?\n(No. of races - missed)","Eligible For League Title","Competed 1","Competed 2","Competed 3","Competed 4","Competed 5","Competed Count",null,null,null,null," "]
["Katie M Parker","Brookvale High School",3,{"$f":"IF(C5=\"-\",0,C5)","v":3},"-",{"$f":"IF(E5=\"-\",0,E5)","v":0},2,{"$f":"IF(G5=\"-\",0,G5)","v":2},1,{"$f":"IF(I5=\"-\",0,I5)","v":1},"-",{"$f":"IF(K5=\"-\",0,K5)","v":0},{"$f":"Table1015[[#This Row],[School]]","v":"Brookvale High School"},{"$f":"D5+F5+H5+J5+L5","v":6},{"$f":"MAX(C5,E5,G5,I5,K5)","v":3},{"$f":"IF(Q5=1,N5,IF(Q5=0,(N5-O5),\"-\"))","v":6},{"$f":"$L$1-Table1015[Competed Count]","v":1},{"$f":"IF(Q5<2,\"Yes\",\"No\")","v":"Yes"},{"$f":"AND($C$1=\"Y\",D5>0)","v":true},{"$f":"AND($E$1=\"Y\",F5>0)","v":false},{"$f":"AND($G$1=\"Y\",H5>0)","v":true},{"$f":"AND($I$1=\"Y\",J5>0)","v":true},{"$f":"AND($K$1=\"Y\",L5>0)","v":false},{"$f":"COUNTIF(Table1015[[#This Row],[Competed 1]:[Competed 5]],\"=TRUE\")","v":3}]
["Henrietta Magill","Manor High School",6,{"$f":"IF(C6=\"-\",0,C6)","v":6},"-",{"$f":"IF(E6=\"-\",0,E6)","v":0},5,{"$f":"IF(G6=\"-\",0,G6)","v":5},2,{"$f":"IF(I6=\"-\",0,I6)","v":2},"-",{"$f":"IF(K6=\"-\",0,K6)","v":0},{"$f":"Table1015[[#This Row],[School]]","v":"Manor High School"},{"$f":"D6+F6+H6+J6+L6","v":13},{"$f":"MAX(C6,E6,G6,I6,K6)","v":6},{"$f":"IF(Q6=1,N6,IF(Q6=0,(N6-O6),\"-\"))","v":13},{"$f":"$L$1-Table1015[Competed Count]","v":1},{"$f":"IF(Q6<2,\"Yes\",\"No\")","v":"Yes"},{"$f":"AND($C$1=\"Y\",D6>0)","v":true},{"$f":"AND($E$1=\"Y\",F6>0)","v":false},{"$f":"AND($G$1=\"Y\",H6>0)","v":true},{"$f":"AND($I$1=\"Y\",J6>0)","v":true},{"$f":"AND($K$1=\"Y\",L6>0)","v":false},{"$f":"COUNTIF(Table1015[[#This Row],[Competed 1]:[Competed 5]],\"=TRUE\")","v":3}]
["Hollie Gamble","Brookvale High School",4,{"$f":"IF(C7=\"-\",0,C7)","v":4},2,{"$f":"IF(E7=\"-\",0,E7)","v":2},4,{"$f":"IF(G7=\"-\",0,G7)","v":4},3,{"$f":"IF(I7=\"-\",0,I7)","v":3},"-",{"$f":"IF(K7=\"-\",0,K7)","v":0},{"$f":"Table1015[[#This Row],[School]]","v":"Brookvale High School"},{"$f":"D7+F7+H7+J7+L7","v":13},{"$f":"MAX(C7,E7,G7,I7,K7)","v":4},{"$f":"IF(Q7=1,N7,IF(Q7=0,(N7-O7),\"-\"))","v":9},{"$f":"$L$1-Table1015[Competed Count]","v":0},{"$f":"IF(Q7<2,\"Yes\",\"No\")","v":"Yes"},{"$f":"AND($C$1=\"Y\",D7>0)","v":true},{"$f":"AND($E$1=\"Y\",F7>0)","v":true},{"$f":"AND($G$1=\"Y\",H7>0)","v":true},{"$f":"AND($I$1=\"Y\",J7>0)","v":true},{"$f":"AND($K$1=\"Y\",L7>0)","v":false},{"$f":"COUNTIF(Table1015[[#This Row],[Competed 1]:[Competed 5]],\"=TRUE\")","v":4}]
["Rosie Timlock","The Martin High School",7,{"$f":"IF(C8=\"-\",0,C8)","v":7},"-",{"$f":"IF(E8=\"-\",0,E8)","v":0},6,{"$f":"IF(G8=\"-\",0,G8)","v":6},4,{"$f":"IF(I8=\"-\",0,I8)","v":4},"-",{"$f":"IF(K8=\"-\",0,K8)","v":0},{"$f":"Table1015[[#This Row],[School]]","v":"The Martin High School"},{"$f":"D8+F8+H8+J8+L8","v":17},{"$f":"MAX(C8,E8,G8,I8,K8)","v":7},{"$f":"IF(Q8=1,N8,IF(Q8=0,(N8-O8),\"-\"))","v":17},{"$f":"$L$1-Table1015[Competed Count]","v":1},{"$f":"IF(Q8<2,\"Yes\",\"No\")","v":"Yes"},{"$f":"AND($C$1=\"Y\",D8>0)","v":true},{"$f":"AND($E$1=\"Y\",F8>0)","v":false},{"$f":"AND($G$1=\"Y\",H8>0)","v":true},{"$f":"AND($I$1=\"Y\",J8>0)","v":true},{"$f":"AND($K$1=\"Y\",L8>0)","v":false},{"$f":"COUNTIF(Table1015[[#This Row],[Competed 1]:[Competed 5]],\"=TRUE\")","v":3}]
["Lexie McLoughlin","The Cedars Academy",9,{"$f":"IF(C9=\"-\",0,C9)","v":9},"-",{"$f":"IF(E9=\"-\",0,E9)","v":0},11,{"$f":"IF(G9=\"-\",0,G9)","v":11},5,{"$f":"IF(I9=\"-\",0,I9)","v":5},"-",{"$f":"IF(K9=\"-\",0,K9)","v":0},{"$f":"Table1015[[#This Row],[School]]","v":"The Cedars Academy"},{"$f":"D9+F9+H9+J9+L9","v":25},{"$f":"MAX(C9,E9,G9,I9,K9)","v":11},{"$f":"IF(Q9=1,N9,IF(Q9=0,(N9-O9),\"-\"))","v":25},{"$f":"$L$1-Table1015[Competed Count]","v":1},{"$f":"IF(Q9<2,\"Yes\",\"No\")","v":"Yes"},{"$f":"AND($C$1=\"Y\",D9>0)","v":true},{"$f":"AND($E$1=\"Y\",F9>0)","v":false},{"$f":"AND($G$1=\"Y\",H9>0)","v":true},{"$f":"AND($I$1=\"Y\",J9>0)","v":true},{"$f":"AND($K$1=\"Y\",L9>0)","v":false},{"$f":"COUNTIF(Table1015[[#This Row],[Competed 1]:[Competed 5]],\"=TRUE\")","v":3}]
["Rachel Nealon","Brookvale High School",2,{"$f":"IF(C10=\"-\",0,C10)","v":2},1,{"$f":"IF(E10=\"-\",0,E10)","v":1},3,{"$f":"IF(G10=\"-\",0,G10)","v":3},6,{"$f":"IF(I10=\"-\",0,I10)","v":6},"-",{"$f":"IF(K10=\"-\",0,K10)","v":0},{"$f":"Table1015[[#This Row],[School]]","v":"Brookvale High School"},{"$f":"D10+F10+H10+J10+L10","v":12},{"$f":"MAX(C10,E10,G10,I10,K10)","v":6},{"$f":"IF(Q10=1,N10,IF(Q10=0,(N10-O10),\"-\"))","v":6},{"$f":"$L$1-Table1015[Competed Count]","v":0},{"$f":"IF(Q10<2,\"Yes\",\"No\")","v":"Yes"},{"$f":"AND($C$1=\"Y\",D10>0)","v":true},{"$f":"AND($E$1=\"Y\",F10>0)","v":true},{"$f":"AND($G$1=\"Y\",H10>0)","v":true},{"$f":"AND($I$1=\"Y\",J10>0)","v":true},{"$f":"AND($K$1=\"Y\",L10>0)","v":false},{"$f":"COUNTIF(Table1015[[#This Row],[Competed 1]:[Competed 5]],\"=TRUE\")","v":4}]
["Maya Stokes","Castle Rock High School",5,{"$f":"IF(C11=\"-\",0,C11)","v":5},"-",{"$f":"IF(E11=\"-\",0,E11)","v":0},8,{"$f":"IF(G11=\"-\",0,G11)","v":8},7,{"$f":"IF(I11=\"-\",0,I11)","v":7},"-",{"$f":"IF(K11=\"-\",0,K11)","v":0},{"$f":"Table1015[[#This Row],[School]]","v":"Castle Rock High School"},{"$f":"D11+F11+H11+J11+L11","v":20},{"$f":"MAX(C11,E11,G11,I11,K11)","v":8},{"$f":"IF(Q11=1,N11,IF(Q11=0,(N11-O11),\"-\"))","v":20},{"$f":"$L$1-Table1015[Competed Count]","v":1},{"$f":"IF(Q11<2,\"Yes\",\"No\")","v":"Yes"},{"$f":"AND($C$1=\"Y\",D11>0)","v":true},{"$f":"AND($E$1=\"Y\",F11>0)","v":false},{"$f":"AND($G$1=\"Y\",H11>0)","v":true},{"$f":"AND($I$1=\"Y\",J11>0)","v":true},{"$f":"AND($K$1=\"Y\",L11>0)","v":false},{"$f":"COUNTIF(Table1015[[#This Row],[Competed 1]:[Competed 5]],\"=TRUE\")","v":3}]
["Sophie Thorpe","English Martyrs Catholic School",10,{"$f":"IF(C12=\"-\",0,C12)","v":10},"-",{"$f":"IF(E12=\"-\",0,E12)","v":0},7,{"$f":"IF(G12=\"-\",0,G12)","v":7},8,{"$f":"IF(I12=\"-\",0,I12)","v":8},"-",{"$f":"IF(K12=\"-\",0,K12)","v":0},{"$f":"Table1015[[#This Row],[School]]","v":"English Martyrs Catholic School"},{"$f":"D12+F12+H12+J12+L12","v":25},{"$f":"MAX(C12,E12,G12,I12,K12)","v":10},{"$f":"IF(Q12=1,N12,IF(Q12=0,(N12-O12),\"-\"))","v":25},{"$f":"$L$1-Table1015[Competed Count]","v":1},{"$f":"IF(Q12<2,\"Yes\",\"No\")","v":"Yes"},{"$f":"AND($C$1=\"Y\",D12>0)","v":true},{"$f":"AND($E$1=\"Y\",F12>0)","v":false},{"$f":"AND($G$1=\"Y\",H12>0)","v":true},{"$f":"AND($I$1=\"Y\",J12>0)","v":true},{"$f":"AND($K$1=\"Y\",L12>0)","v":false},{"$f":"COUNTIF(Table1015[[#This Row],[Competed 1]:[Competed 5]],\"=TRUE\")","v":3}]
["Olivia Bonshor","The Cedars Academy",8,{"$f":"IF(C13=\"-\",0,C13)","v":8},"-",{"$f":"IF(E13=\"-\",0,E13)","v":0},9,{"$f":"IF(G13=\"-\",0,G13)","v":9},9,{"$f":"IF(I13=\"-\",0,I13)","v":9},"-",{"$f":"IF(K13=\"-\",0,K13)","v":0},{"$f":"Table1015[[#This Row],[School]]","v":"The Cedars Academy"},{"$f":"D13+F13+H13+J13+L13","v":26},{"$f":"MAX(C13,E13,G13,I13,K13)","v":9},{"$f":"IF(Q13=1,N13,IF(Q13=0,(N13-O13),\"-\"))","v":26},{"$f":"$L$1-Table1015[Competed Count]","v":1},{"$f":"IF(Q13<2,\"Yes\",\"No\")","v":"Yes"},{"$f":"AND($C$1=\"Y\",D13>0)","v":true},{"$f":"AND($E$1=\"Y\",F13>0)","v":false},{"$f":"AND($G$1=\"Y\",H13>0)","v":true},{"$f":"AND($I$1=\"Y\",J13>0)","v":true},{"$f":"AND($K$1=\"Y\",L13>0)","v":false},{"$f":"COUNTIF(Table1015[[#This Row],[Competed 1]:[Competed 5]],\"=TRUE\")","v":3}]
["Lizzie Clapp","Welland Park Academy",12,{"$f":"IF(C14=\"-\",0,C14)","v":12},4,{"$f":"IF(E14=\"-\",0,E14)","v":4},15,{"$f":"IF(G14=\"-\",0,G14)","v":15},10,{"$f":"IF(I14=\"-\",0,I14)","v":10},"-",{"$f":"IF(K14=\"-\",0,K14)","v":0},{"$f":"Table1015[[#This Row],[School]]","v":"Welland Park Academy"},{"$f":"D14+F14+H14+J14+L14","v":41},{"$f":"MAX(C14,E14,G14,I14,K14)","v":15},{"$f":"IF(Q14=1,N14,IF(Q14=0,(N14-O14),\"-\"))","v":26},{"$f":"$L$1-Table1015[Competed Count]","v":0},{"$f":"IF(Q14<2,\"Yes\",\"No\")","v":"Yes"},{"$f":"AND($C$1=\"Y\",D14>0)","v":true},{"$f":"AND($E$1=\"Y\",F14>0)","v":true},{"$f":"AND($G$1=\"Y\",H14>0)","v":true},{"$f":"AND($I$1=\"Y\",J14>0)","v":true},{"$f":"AND($K$1=\"Y\",L14>0)","v":false},{"$f":"COUNTIF(Table1015[[#This Row],[Competed 1]:[Competed 5]],\"=TRUE\")","v":4}]
["Izzi Smith","Thomas Estley CC",11,{"$f":"IF(C15=\"-\",0,C15)","v":11},"-",{"$f":"IF(E15=\"-\",0,E15)","v":0},13,{"$f":"IF(G15=\"-\",0,G15)","v":13},11,{"$f":"IF(I15=\"-\",0,I15)","v":11},"-",{"$f":"IF(K15=\"-\",0,K15)","v":0},{"$f":"Table1015[[#This Row],[School]]","v":"Thomas Estley CC"},{"$f":"D15+F15+H15+J15+L15","v":35},{"$f":"MAX(C15,E15,G15,I15,K15)","v":13},{"$f":"IF(Q15=1,N15,IF(Q15=0,(N15-O15),\"-\"))","v":35},{"$f":"$L$1-Table1015[Competed Count]","v":1},{"$f":"IF(Q15<2,\"Yes\",\"No\")","v":"Yes"},{"$f":"AND($C$1=\"Y\",D15>0)","v":true},{"$f":"AND($E$1=\"Y\",F15>0)","v":false},{"$f":"AND($G$1=\"Y\",H15>0)","v":true},{"$f":"AND($I$1=\"Y\",J15>0)","v":true},{"$f":"AND($K$1=\"Y\",L15>0)","v":false},{"$f":"COUNTIF(Table1015[[#This Row],[Competed 1]:[Competed 5]],\"=TRUE\")","v":3}]
["Rohan Finch","Welland Park Academy",21,{"$f":"IF(C16=\"-\",0,C16)","v":21},7,{"$f":"IF(E16=\"-\",0,E16)","v":7},17,{"$f":"IF(G16=\"-\",0,G16)","v":17},12,{"$f":"IF(I16=\"-\",0,I16)","v":12},"-",{"$f":"IF(K16=\"-\",0,K16)","v":0},{"$f":"Table1015[[#This Row],[School]]","v":"Welland Park Academy"},{"$f":"D16+F16+H16+J16+L16","v":57},{"$f":"MAX(C16,E16,G16,I16,K16)","v":21},{"$f":"IF(Q16=1,N16,IF(Q16=0,(N16-O16),\"-\"))","v":36},{"$f":"$L$1-Table1015[Competed Count]","v":0},{"$f":"IF(Q16<2,\"Yes\",\"No\")","v":"Yes"},{"$f":"AND($C$1=\"Y\",D16>0)","v":true},{"$f":"AND($E$1=\"Y\",F16>0)","v":true},{"$f":"AND($G$1=\"Y\",H16>0)","v":true},{"$f":"AND($I$1=\"Y\",J16>0)","v":true},{"$f":"AND($K$1=\"Y\",L16>0)","v":false},{"$f":"COUNTIF(Table1015[[#This Row],[Competed 1]:[Competed 5]],\"=TRUE\")","v":4}]
["Beth Wallis","Welland Park Academy",20,{"$f":"IF(C17=\"-\",0,C17)","v":20},15,{"$f":"IF(E17=\"-\",0,E17)","v":15},22,{"$f":"IF(G17=\"-\",0,G17)","v":22},13,{"$f":"IF(I17=\"-\",0,I17)","v":13},"-",{"$f":"IF(K17=\"-\",0,K17)","v":0},{"$f":"Table1015[[#This Row],[School]]","v":"Welland Park Academy"},{"$f":"D17+F17+H17+J17+L17","v":70},{"$f":"MAX(C17,E17,G17,I17,K17)","v":22},{"$f":"IF(Q17=1,N17,IF(Q17=0,(N17-O17),\"-\"))","v":48},{"$f":"$L$1-Table1015[Competed Count]","v":0},{"$f":"IF(Q17<2,\"Yes\",\"No\")","v":"Yes"},{"$f":"AND($C$1=\"Y\",D17>0)","v":true},{"$f":"AND($E$1=\"Y\",F17>0)","v":true},{"$f":"AND($G$1=\"Y\",H17>0)","v":true},{"$f":"AND($I$1=\"Y\",J17>0)","v":true},{"$f":"AND($K$1=\"Y\",L17>0)","v":false},{"$f":"COUNTIF(Table1015[[#This Row],[Competed 1]:[Competed 5]],\"=TRUE\")","v":4}]
["Charlotte Perry","The Market Bosworth School",30,{"$f":"IF(C18=\"-\",0,C18)","v":30},12,{"$f":"IF(E18=\"-\",0,E18)","v":12},"-",{"$f":"IF(G18=\"-\",0,G18)","v":0},14,{"$f":"IF(I18=\"-\",0,I18)","v":14},"-",{"$f":"IF(K18=\"-\",0,K18)","v":0},{"$f":"Table1015[[#This Row],[School]]","v":"The Market Bosworth School"},{"$f":"D18+F18+H18+J18+L18","v":56},{"$f":"MAX(C18,E18,G18,I18,K18)","v":30},{"$f":"IF(Q18=1,N18,IF(Q18=0,(N18-O18),\"-\"))","v":56},{"$f":"$L$1-Table1015[Competed Count]","v":1},{"$f":"IF(Q18<2,\"Yes\",\"No\")","v":"Yes"},{"$f":"AND($C$1=\"Y\",D18>0)","v":true},{"$f":"AND($E$1=\"Y\",F18>0)","v":true},{"$f":"AND($G$1=\"Y\",H18>0)","v":false},{"$f":"AND($I$1=\"Y\",J18>0)","v":true},{"$f":"AND($K$1=\"Y\",L18>0)","v":false},{"$f":"COUNTIF(Table1015[[#This Row],[Competed 1]:[Competed 5]],\"=TRUE\")","v":3}]
["Katie I Parker","Brookvale High School",29,{"$f":"IF(C19=\"-\",0,C19)","v":29},22,{"$f":"IF(E19=\"-\",0,E19)","v":22},24,{"$f":"IF(G19=\"-\",0,G19)","v":24},15,{"$f":"IF(I19=\"-\",0,I19)","v":15},"-",{"$f":"IF(K19=\"-\",0,K19)","v":0},{"$f":"Table1015[[#This Row],[School]]","v":"Brookvale High School"},{"$f":"D19+F19+H19+J19+L19","v":90},{"$f":"MAX(C19,E19,G19,I19,K19)","v":29},{"$f":"IF(Q19=1,N19,IF(Q19=0,(N19-O19),\"-\"))","v":61},{"$f":"$L$1-Table1015[Competed Count]","v":0},{"$f":"IF(Q19<2,\"Yes\",\"No\")","v":"Yes"},{"$f":"AND($C$1=\"Y\",D19>0)","v":true},{"$f":"AND($E$1=\"Y\",F19>0)","v":true},{"$f":"AND($G$1=\"Y\",H19>0)","v":true},{"$f":"AND($I$1=\"Y\",J19>0)","v":true},{"$f":"AND($K$1=\"Y\",L19>0)","v":false},{"$f":"COUNTIF(Table1015[[#This Row],[Competed 1]:[Competed 5]],\"=TRUE\")","v":4}]
["Sophie Perry ","The Market Bosworth School",31,{"$f":"IF(C20=\"-\",0,C20)","v":31},24,{"$f":"IF(E20=\"-\",0,E20)","v":24},20,{"$f":"IF(G20=\"-\",0,G20)","v":20},16,{"$f":"IF(I20=\"-\",0,I20)","v":16},"-",{"$f":"IF(K20=\"-\",0,K20)","v":0},{"$f":"Table1015[[#This Row],[School]]","v":"The Market Bosworth School"},{"$f":"D20+F20+H20+J20+L20","v":91},{"$f":"MAX(C20,E20,G20,I20,K20)","v":31},{"$f":"IF(Q20=1,N20,IF(Q20=0,(N20-O20),\"-\"))","v":60},{"$f":"$L$1-Table1015[Competed Count]","v":0},{"$f":"IF(Q20<2,\"Yes\",\"No\")","v":"Yes"},{"$f":"AND($C$1=\"Y\",D20>0)","v":true},{"$f":"AND($E$1=\"Y\",F20>0)","v":true},{"$f":"AND($G$1=\"Y\",H20>0)","v":true},{"$f":"AND($I$1=\"Y\",J20>0)","v":true},{"$f":"AND($K$1=\"Y\",L20>0)","v":false},{"$f":"COUNTIF(Table1015[[#This Row],[Competed 1]:[Competed 5]],\"=TRUE\")","v":4}]
["Sophie Ward","Kibworth School",35,{"$f":"IF(C21=\"-\",0,C21)","v":35},11,{"$f":"IF(E21=\"-\",0,E21)","v":11},36,{"$f":"IF(G21=\"-\",0,G21)","v":36},17,{"$f":"IF(I21=\"-\",0,I21)","v":17},"-",{"$f":"IF(K21=\"-\",0,K21)","v":0},{"$f":"Table1015[[#This Row],[School]]","v":"Kibworth School"},{"$f":"D21+F21+H21+J21+L21","v":99},{"$f":"MAX(C21,E21,G21,I21,K21)","v":36},{"$f":"IF(Q21=1,N21,IF(Q21=0,(N21-O21),\"-\"))","v":63},{"$f":"$L$1-Table1015[Competed Count]","v":0},{"$f":"IF(Q21<2,\"Yes\",\"No\")","v":"Yes"},{"$f":"AND($C$1=\"Y\",D21>0)","v":true},{"$f":"AND($E$1=\"Y\",F21>0)","v":true},{"$f":"AND($G$1=\"Y\",H21>0)","v":true},{"$f":"AND($I$1=\"Y\",J21>0)","v":true},{"$f":"AND($K$1=\"Y\",L21>0)","v":false},{"$f":"COUNTIF(Table1015[[#This Row],[Competed 1]:[Competed 5]],\"=TRUE\")","v":4}]
["Hannah Smith","Uppingham CC",34,{"$f":"IF(C22=\"-\",0,C22)","v":34},16,{"$f":"IF(E22=\"-\",0,E22)","v":16},18,{"$f":"IF(G22=\"-\",0,G22)","v":18},18,{"$f":"IF(I22=\"-\",0,I22)","v":18},"-",{"$f":"IF(K22=\"-\",0,K22)","v":0},{"$f":"Table1015[[#This Row],[School]]","v":"Uppingham CC"},{"$f":"D22+F22+H22+J22+L22","v":86},{"$f":"MAX(C22,E22,G22,I22,K22)","v":34},{"$f":"IF(Q22=1,N22,IF(Q22=0,(N22-O22),\"-\"))","v":52},{"$f":"$L$1-Table1015[Competed Count]","v":0},{"$f":"IF(Q22<2,\"Yes\",\"No\")","v":"Yes"},{"$f":"AND($C$1=\"Y\",D22>0)","v":true},{"$f":"AND($E$1=\"Y\",F22>0)","v":true},{"$f":"AND($G$1=\"Y\",H22>0)","v":true},{"$f":"AND($I$1=\"Y\",J22>0)","v":true},{"$f":"AND($K$1=\"Y\",L22>0)","v":false},{"$f":"COUNTIF(Table1015[[#This Row],[Competed 1]:[Competed 5]],\"=TRUE\")","v":4}]
["Aoife Brotherton","St Pauls Catholic School",27,{"$f":"IF(C23=\"-\",0,C23)","v":27},9,{"$f":"IF(E23=\"-\",0,E23)","v":9},26,{"$f":"IF(G23=\"-\",0,G23)","v":26},19,{"$f":"IF(I23=\"-\",0,I23)","v":19},"-",{"$f":"IF(K23=\"-\",0,K23)","v":0},{"$f":"Table1015[[#This Row],[School]]","v":"St Pauls Catholic School"},{"$f":"D23+F23+H23+J23+L23","v":81},{"$f":"MAX(C23,E23,G23,I23,K23)","v":27},{"$f":"IF(Q23=1,N23,IF(Q23=0,(N23-O23),\"-\"))","v":54},{"$f":"$L$1-Table1015[Competed Count]","v":0},{"$f":"IF(Q23<2,\"Yes\",\"No\")","v":"Yes"},{"$f":"AND($C$1=\"Y\",D23>0)","v":true},{"$f":"AND($E$1=\"Y\",F23>0)","v":true},{"$f":"AND($G$1=\"Y\",H23>0)","v":true},{"$f":"AND($I$1=\"Y\",J23>0)","v":true},{"$f":"AND($K$1=\"Y\",L23>0)","v":false},{"$f":"COUNTIF(Table1015[[#This Row],[Competed 1]:[Competed 5]],\"=TRUE\")","v":4}]
["Isla Stewart","De Lisle College",23,{"$f":"IF(C24=\"-\",0,C24)","v":23},"-",{"$f":"IF(E24=\"-\",0,E24)","v":0},31,{"$f":"IF(G24=\"-\",0,G24)","v":31},20,{"$f":"IF(I24=\"-\",0,I24)","v":20},"-",{"$f":"IF(K24=\"-\",0,K24)","v":0},{"$f":"Table1015[[#This Row],[School]]","v":"De Lisle College"},{"$f":"D24+F24+H24+J24+L24","v":74},{"$f":"MAX(C24,E24,G24,I24,K24)","v":31},{"$f":"IF(Q24=1,N24,IF(Q24=0,(N24-O24),\"-\"))","v":74},{"$f":"$L$1-Table1015[Competed Count]","v":1},{"$f":"IF(Q24<2,\"Yes\",\"No\")","v":"Yes"},{"$f":"AND($C$1=\"Y\",D24>0)","v":true},{"$f":"AND($E$1=\"Y\",F24>0)","v":false},{"$f":"AND($G$1=\"Y\",H24>0)","v":true},{"$f":"AND($I$1=\"Y\",J24>0)","v":true},{"$f":"AND($K$1=\"Y\",L24>0)","v":false},{"$f":"COUNTIF(Table1015[[#This Row],[Competed 1]:[Competed 5]],\"=TRUE\")","v":3}]
["Tameika Clarke","Thomas Estley CC",25,{"$f":"IF(C25=\"-\",0,C25)","v":25},14,{"$f":"IF(E25=\"-\",0,E25)","v":14},30,{"$f":"IF(G25=\"-\",0,G25)","v":30},21,{"$f":"IF(I25=\"-\",0,I25)","v":21},"-",{"$f":"IF(K25=\"-\",0,K25)","v":0},{"$f":"Table1015[[#This Row],[School]]","v":"Thomas Estley CC"},{"$f":"D25+F25+H25+J25+L25","v":90},{"$f":"MAX(C25,E25,G25,I25,K25)","v":30},{"$f":"IF(Q25=1,N25,IF(Q25=0,(N25-O25),\"-\"))","v":60},{"$f":"$L$1-Table1015[Competed Count]","v":0},{"$f":"IF(Q25<2,\"Yes\",\"No\")","v":"Yes"},{"$f":"AND($C$1=\"Y\",D25>0)","v":true},{"$f":"AND($E$1=\"Y\",F25>0)","v":true},{"$f":"AND($G$1=\"Y\",H25>0)","v":true},{"$f":"AND($I$1=\"Y\",J25>0)","v":true},{"$f":"AND($K$1=\"Y\",L25>0)","v":false},{"$f":"COUNTIF(Table1015[[#This Row],[Competed 1]:[Competed 5]],\"=TRUE\")","v":4}]
["Elise Cook-Sutton","St Martins Catholic Academy",15,{"$f":"IF(C26=\"-\",0,C26)","v":15},8,{"$f":"IF(E26=\"-\",0,E26)","v":8},16,{"$f":"IF(G26=\"-\",0,G26)","v":16},22,{"$f":"IF(I26=\"-\",0,I26)","v":22},"-",{"$f":"IF(K26=\"-\",0,K26)","v":0},{"$f":"Table1015[[#This Row],[School]]","v":"St Martins Catholic Academy"},{"$f":"D26+F26+H26+J26+L26","v":61},{"$f":"MAX(C26,E26,G26,I26,K26)","v":22},{"$f":"IF(Q26=1,N26,IF(Q26=0,(N26-O26),\"-\"))","v":39},{"$f":"$L$1-Table1015[Competed Count]","v":0},{"$f":"IF(Q26<2,\"Yes\",\"No\")","v":"Yes"},{"$f":"AND($C$1=\"Y\",D26>0)","v":true},{"$f":"AND($E$1=\"Y\",F26>0)","v":true},{"$f":"AND($G$1=\"Y\",H26>0)","v":true},{"$f":"AND($I$1=\"Y\",J26>0)","v":true},{"$f":"AND($K$1=\"Y\",L26>0)","v":false},{"$f":"COUNTIF(Table1015[[#This Row],[Competed 1]:[Competed 5]],\"=TRUE\")","v":4}]
["Mar Ruiz-Monserrat","Woodbrook Vale School",48,{"$f":"IF(C27=\"-\",0,C27)","v":48},23,{"$f":"IF(E27=\"-\",0,E27)","v":23},28,{"$f":"IF(G27=\"-\",0,G27)","v":28},23,{"$f":"IF(I27=\"-\",0,I27)","v":23},"-",{"$f":"IF(K27=\"-\",0,K27)","v":0},{"$f":"Table1015[[#This Row],[School]]","v":"Woodbrook Vale School"},{"$f":"D27+F27+H27+J27+L27","v":122},{"$f":"MAX(C27,E27,G27,I27,K27)","v":48},{"$f":"IF(Q27=1,N27,IF(Q27=0,(N27-O27),\"-\"))","v":74},{"$f":"$L$1-Table1015[Competed Count]","v":0},{"$f":"IF(Q27<2,\"Yes\",\"No\")","v":"Yes"},{"$f":"AND($C$1=\"Y\",D27>0)","v":true},{"$f":"AND($E$1=\"Y\",F27>0)","v":true},{"$f":"AND($G$1=\"Y\",H27>0)","v":true},{"$f":"AND($I$1=\"Y\",J27>0)","v":true},{"$f":"AND($K$1=\"Y\",L27>0)","v":false},{"$f":"COUNTIF(Table1015[[#This Row],[Competed 1]:[Competed 5]],\"=TRUE\")","v":4}]
["Rebecca Fields","John Ferneley College",46,{"$f":"IF(C28=\"-\",0,C28)","v":46},29,{"$f":"IF(E28=\"-\",0,E28)","v":29},35,{"$f":"IF(G28=\"-\",0,G28)","v":35},24,{"$f":"IF(I28=\"-\",0,I28)","v":24},"-",{"$f":"IF(K28=\"-\",0,K28)","v":0},{"$f":"Table1015[[#This Row],[School]]","v":"John Ferneley College"},{"$f":"D28+F28+H28+J28+L28","v":134},{"$f":"MAX(C28,E28,G28,I28,K28)","v":46},{"$f":"IF(Q28=1,N28,IF(Q28=0,(N28-O28),\"-\"))","v":88},{"$f":"$L$1-Table1015[Competed Count]","v":0},{"$f":"IF(Q28<2,\"Yes\",\"No\")","v":"Yes"},{"$f":"AND($C$1=\"Y\",D28>0)","v":true},{"$f":"AND($E$1=\"Y\",F28>0)","v":true},{"$f":"AND($G$1=\"Y\",H28>0)","v":true},{"$f":"AND($I$1=\"Y\",J28>0)","v":true},{"$f":"AND($K$1=\"Y\",L28>0)","v":false},{"$f":"COUNTIF(Table1015[[#This Row],[Competed 1]:[Competed 5]],\"=TRUE\")","v":4}]
["Zara Montgomery","Lutterworth High School",42,{"$f":"IF(C29=\"-\",0,C29)","v":42},28,{"$f":"IF(E29=\"-\",0,E29)","v":28},44,{"$f":"IF(G29=\"-\",0,G29)","v":44},25,{"$f":"IF(I29=\"-\",0,I29)","v":25},"-",{"$f":"IF(K29=\"-\",0,K29)","v":0},{"$f":"Table1015[[#This Row],[School]]","v":"Lutterworth High School"},{"$f":"D29+F29+H29+J29+L29","v":139},{"$f":"MAX(C29,E29,G29,I29,K29)","v":44},{"$f":"IF(Q29=1,N29,IF(Q29=0,(N29-O29),\"-\"))","v":95},{"$f":"$L$1-Table1015[Competed Count]","v":0},{"$f":"IF(Q29<2,\"Yes\",\"No\")","v":"Yes"},{"$f":"AND($C$1=\"Y\",D29>0)","v":true},{"$f":"AND($E$1=\"Y\",F29>0)","v":true},{"$f":"AND($G$1=\"Y\",H29>0)","v":true},{"$f":"AND($I$1=\"Y\",J29>0)","v":true},{"$f":"AND($K$1=\"Y\",L29>0)","v":false},{"$f":"COUNTIF(Table1015[[#This Row],[Competed 1]:[Competed 5]],\"=TRUE\")","v":4}]
["Eleanor Wells","Manor High School",33,{"$f":"IF(C30=\"-\",0,C30)","v":33},"-",{"$f":"IF(E30=\"-\",0,E30)","v":0},27,{"$f":"IF(G30=\"-\",0,G30)","v":27},26,{"$f":"IF(I30=\"-\",0,I30)","v":26},"-",{"$f":"IF(K30=\"-\",0,K30)","v":0},{"$f":"Table1015[[#This Row],[School]]","v":"Manor High School"},{"$f":"D30+F30+H30+J30+L30","v":86},{"$f":"MAX(C30,E30,G30,I30,K30)","v":33},{"$f":"IF(Q30=1,N30,IF(Q30=0,(N30-O30),\"-\"))","v":86},{"$f":"$L$1-Table1015[Competed Count]","v":1},{"$f":"IF(Q30<2,\"Yes\",\"No\")","v":"Yes"},{"$f":"AND($C$1=\"Y\",D30>0)","v":true},{"$f":"AND($E$1=\"Y\",F30>0)","v":false},{"$f":"AND($G$1=\"Y\",H30>0)","v":true},{"$f":"AND($I$1=\"Y\",J30>0)","v":true},{"$f":"AND($K$1=\"Y\",L30>0)","v":false},{"$f":"COUNTIF(Table1015[[#This Row],[Competed 1]:[Competed 5]],\"=TRUE\")","v":3}]
["Ravenn Cook","Woodbrook Vale School","-",{"$f":"IF(C31=\"-\",0,C31)","v":0},"-",{"$f":"IF(E31=\"-\",0,E31)","v":0},25,{"$f":"IF(G31=\"-\",0,G31)","v":25},27,{"$f":"IF(I31=\"-\",0,I31)","v":27},"-",{"$f":"IF(K31=\"-\",0,K31)","v":0},{"$f":"Table1015[[#This Row],[School]]","v":"Woodbrook Vale School"},{"$f":"D31+F31+H31+J31+L31","v":52},{"$f":"MAX(C31,E31,G31,I31,K31)","v":27},{"$f":"IF(Q31=1,N31,IF(Q31=0,(N31-O31),\"-\"))","v":"-"},{"$f":"$L$1-Table1015[Competed Count]","v":2},{"$f":"IF(Q31<2,\"Yes\",\"No\")","v":"No"},{"$f":"AND($C$1=\"Y\",D31>0)","v":false},{"$f":"AND($E$1=\"Y\",F31>0)","v":false},{"$f":"AND($G$1=\"Y\",H31>0)","v":true},{"$f":"AND($I$1=\"Y\",J31>0)","v":true},{"$f":"AND($K$1=\"Y\",L31>0)","v":false},{"$f":"COUNTIF(Table1015[[#This Row],[Competed 1]:[Competed 5]],\"=TRUE\")","v":2}]
["Emma Painter","Thomas Estley CC",39,{"$f":"IF(C32=\"-\",0,C32)","v":39},"-",{"$f":"IF(E32=\"-\",0,E32)","v":0},"-",{"$f":"IF(G32=\"-\",0,G32)","v":0},28,{"$f":"IF(I32=\"-\",0,I32)","v":28},"-",{"$f":"IF(K32=\"-\",0,K32)","v":0},{"$f":"Table1015[[#This Row],[School]]","v":"Thomas Estley CC"},{"$f":"D32+F32+H32+J32+L32","v":67},{"$f":"MAX(C32,E32,G32,I32,K32)","v":39},{"$f":"IF(Q32=1,N32,IF(Q32=0,(N32-O32),\"-\"))","v":"-"},{"$f":"$L$1-Table1015[Competed Count]","v":2},{"$f":"IF(Q32<2,\"Yes\",\"No\")","v":"No"},{"$f":"AND($C$1=\"Y\",D32>0)","v":true},{"$f":"AND($E$1=\"Y\",F32>0)","v":false},{"$f":"AND($G$1=\"Y\",H32>0)","v":false},{"$f":"AND($I$1=\"Y\",J32>0)","v":true},{"$f":"AND($K$1=\"Y\",L32>0)","v":false},{"$f":"COUNTIF(Table1015[[#This Row],[Competed 1]:[Competed 5]],\"=TRUE\")","v":2}]
["Grace Perkins ","Castle Donington CC",54,{"$f":"IF(C33=\"-\",0,C33)","v":54},"-",{"$f":"IF(E33=\"-\",0,E33)","v":0},39,{"$f":"IF(G33=\"-\",0,G33)","v":39},29,{"$f":"IF(I33=\"-\",0,I33)","v":29},"-",{"$f":"IF(K33=\"-\",0,K33)","v":0},{"$f":"Table1015[[#This Row],[School]]","v":"Castle Donington CC"},{"$f":"D33+F33+H33+J33+L33","v":122},{"$f":"MAX(C33,E33,G33,I33,K33)","v":54},{"$f":"IF(Q33=1,N33,IF(Q33=0,(N33-O33),\"-\"))","v":122},{"$f":"$L$1-Table1015[Competed Count]","v":1},{"$f":"IF(Q33<2,\"Yes\",\"No\")","v":"Yes"},{"$f":"AND($C$1=\"Y\",D33>0)","v":true},{"$f":"AND($E$1=\"Y\",F33>0)","v":false},{"$f":"AND($G$1=\"Y\",H33>0)","v":true},{"$f":"AND($I$1=\"Y\",J33>0)","v":true},{"$f":"AND($K$1=\"Y\",L33>0)","v":false},{"$f":"COUNTIF(Table1015[[#This Row],[Competed 1]:[Competed 5]],\"=TRUE\")","v":3}]
["Kerrie Christie","Lutterworth High School",50,{"$f":"IF(C34=\"-\",0,C34)","v":50},37,{"$f":"IF(E34=\"-\",0,E34)","v":37},40,{"$f":"IF(G34=\"-\",0,G34)","v":40},30,{"$f":"IF(I34=\"-\",0,I34)","v":30},"-",{"$f":"IF(K34=\"-\",0,K34)","v":0},{"$f":"Table1015[[#This Row],[School]]","v":"Lutterworth High School"},{"$f":"D34+F34+H34+J34+L34","v":157},{"$f":"MAX(C34,E34,G34,I34,K34)","v":50},{"$f":"IF(Q34=1,N34,IF(Q34=0,(N34-O34),\"-\"))","v":107},{"$f":"$L$1-Table1015[Competed Count]","v":0},{"$f":"IF(Q34<2,\"Yes\",\"No\")","v":"Yes"},{"$f":"AND($C$1=\"Y\",D34>0)","v":true},{"$f":"AND($E$1=\"Y\",F34>0)","v":true},{"$f":"AND($G$1=\"Y\",H34>0)","v":true},{"$f":"AND($I$1=\"Y\",J34>0)","v":true},{"$f":"AND($K$1=\"Y\",L34>0)","v":false},{"$f":"COUNTIF(Table1015[[#This Row],[Competed 1]:[Competed 5]],\"=TRUE\")","v":4}]
["Sian Edwards","Lutterworth High School",47,{"$f":"IF(C35=\"-\",0,C35)","v":47},25,{"$f":"IF(E35=\"-\",0,E35)","v":25},34,{"$f":"IF(G35=\"-\",0,G35)","v":34},31,{"$f":"IF(I35=\"-\",0,I35)","v":31},"-",{"$f":"IF(K35=\"-\",0,K35)","v":0},{"$f":"Table1015[[#This Row],[School]]","v":"Lutterworth High School"},{"$f":"D35+F35+H35+J35+L35","v":137},{"$f":"MAX(C35,E35,G35,I35,K35)","v":47},{"$f":"IF(Q35=1,N35,IF(Q35=0,(N35-O35),\"-\"))","v":90},{"$f":"$L$1-Table1015[Competed Count]","v":0},{"$f":"IF(Q35<2,\"Yes\",\"No\")","v":"Yes"},{"$f":"AND($C$1=\"Y\",D35>0)","v":true},{"$f":"AND($E$1=\"Y\",F35>0)","v":true},{"$f":"AND($G$1=\"Y\",H35>0)","v":true},{"$f":"AND($I$1=\"Y\",J35>0)","v":true},{"$f":"AND($K$1=\"Y\",L35>0)","v":false},{"$f":"COUNTIF(Table1015[[#This Row],[Competed 1]:[Competed 5]],\"=TRUE\")","v":4}]
["Nancy Howe","John Ferneley College",49,{"$f":"IF(C36=\"-\",0,C36)","v":49},34,{"$f":"IF(E36=\"-\",0,E36)","v":34},41,{"$f":"IF(G36=\"-\",0,G36)","v":41},32,{"$f":"IF(I36=\"-\",0,I36)","v":32},"-",{"$f":"IF(K36=\"-\",0,K36)","v":0},{"$f":"Table1015[[#This Row],[School]]","v":"John Ferneley College"},{"$f":"D36+F36+H36+J36+L36","v":156},{"$f":"MAX(C36,E36,G36,I36,K36)","v":49},{"$f":"IF(Q36=1,N36,IF(Q36=0,(N36-O36),\"-\"))","v":107},{"$f":"$L$1-Table1015[Competed Count]","v":0},{"$f":"IF(Q36<2,\"Yes\",\"No\")","v":"Yes"},{"$f":"AND($C$1=\"Y\",D36>0)","v":true},{"$f":"AND($E$1=\"Y\",F36>0)","v":true},{"$f":"AND($G$1=\"Y\",H36>0)","v":true},{"$f":"AND($I$1=\"Y\",J36>0)","v":true},{"$f":"AND($K$1=\"Y\",L36>0)","v":false},{"$f":"COUNTIF(Table1015[[#This Row],[Competed 1]:[Competed 5]],\"=TRUE\")","v":4}]
["Alex Jordan","St Pauls Catholic School",40,{"$f":"IF(C37=\"-\",0,C37)","v":40},33,{"$f":"IF(E37=\"-\",0,E37)","v":33},"-",{"$f":"IF(G37=\"-\",0,G37)","v":0},33,{"$f":"IF(I37=\"-\",0,I37)","v":33},"-",{"$f":"IF(K37=\"-\",0,K37)","v":0},{"$f":"Table1015[[#This Row],[School]]","v":"St Pauls Catholic School"},{"$f":"D37+F37+H37+J37+L37","v":106},{"$f":"MAX(C37,E37,G37,I37,K37)","v":40},{"$f":"IF(Q37=1,N37,IF(Q37=0,(N37-O37),\"-\"))","v":106},{"$f":"$L$1-Table1015[Competed Count]","v":1},{"$f":"IF(Q37<2,\"Yes\",\"No\")","v":"Yes"},{"$f":"AND($C$1=\"Y\",D37>0)","v":true},{"$f":"AND($E$1=\"Y\",F37>0)","v":true},{"$f":"AND($G$1=\"Y\",H37>0)","v":false},{"$f":"AND($I$1=\"Y\",J37>0)","v":true},{"$f":"AND($K$1=\"Y\",L37>0)","v":false},{"$f":"COUNTIF(Table1015[[#This Row],[Competed 1]:[Competed 5]],\"=TRUE\")","v":3}]
["Zuzanna Dubowska","St Pauls Catholic School",64,{"$f":"IF(C38=\"-\",0,C38)","v":64},38,{"$f":"IF(E38=\"-\",0,E38)","v":38},43,{"$f":"IF(G38=\"-\",0,G38)","v":43},34,{"$f":"IF(I38=\"-\",0,I38)","v":34},"-",{"$f":"IF(K38=\"-\",0,K38)","v":0},{"$f":"Table1015[[#This Row],[School]]","v":"St Pauls Catholic School"},{"$f":"D38+F38+H38+J38+L38","v":179},{"$f":"MAX(C38,E38,G38,I38,K38)","v":64},{"$f":"IF(Q38=1,N38,IF(Q38=0,(N38-O38),\"-\"))","v":115},{"$f":"$L$1-Table1015[Competed Count]","v":0},{"$f":"IF(Q38<2,\"Yes\",\"No\")","v":"Yes"},{"$f":"AND($C$1=\"Y\",D38>0)","v":true},{"$f":"AND($E$1=\"Y\",F38>0)","v":true},{"$f":"AND($G$1=\"Y\",H38>0)","v":true},{"$f":"AND($I$1=\"Y\",J38>0)","v":true},{"$f":"AND($K$1=\"Y\",L38>0)","v":false},{"$f":"COUNTIF(Table1015[[#This Row],[Competed 1]:[Competed 5]],\"=TRUE\")","v":4}]
["Isola Earp","Lutterworth College",43,{"$f":"IF(C39=\"-\",0,C39)","v":43},35,{"$f":"IF(E39=\"-\",0,E39)","v":35},"-",{"$f":"IF(G39=\"-\",0,G39)","v":0},35,{"$f":"IF(I39=\"-\",0,I39)","v":35},"-",{"$f":"IF(K39=\"-\",0,K39)","v":0},{"$f":"Table1015[[#This Row],[School]]","v":"Lutterworth College"},{"$f":"D39+F39+H39+J39+L39","v":113},{"$f":"MAX(C39,E39,G39,I39,K39)","v":43},{"$f":"IF(Q39=1,N39,IF(Q39=0,(N39-O39),\"-\"))","v":113},{"$f":"$L$1-Table1015[Competed Count]","v":1},{"$f":"IF(Q39<2,\"Yes\",\"No\")","v":"Yes"},{"$f":"AND($C$1=\"Y\",D39>0)","v":true},{"$f":"AND($E$1=\"Y\",F39>0)","v":true},{"$f":"AND($G$1=\"Y\",H39>0)","v":false},{"$f":"AND($I$1=\"Y\",J39>0)","v":true},{"$f":"AND($K$1=\"Y\",L39>0)","v":false},{"$f":"COUNTIF(Table1015[[#This Row],[Competed 1]:[Competed 5]],\"=TRUE\")","v":3}]
["Ella Worthey","Welland Park Academy",51,{"$f":"IF(C40=\"-\",0,C40)","v":51},45,{"$f":"IF(E40=\"-\",0,E40)","v":45},38,{"$f":"IF(G40=\"-\",0,G40)","v":38},36,{"$f":"IF(I40=\"-\",0,I40)","v":36},"-",{"$f":"IF(K40=\"-\",0,K40)","v":0},{"$f":"Table1015[[#This Row],[School]]","v":"Welland Park Academy"},{"$f":"D40+F40+H40+J40+L40","v":170},{"$f":"MAX(C40,E40,G40,I40,K40)","v":51},{"$f":"IF(Q40=1,N40,IF(Q40=0,(N40-O40),\"-\"))","v":119},{"$f":"$L$1-Table1015[Competed Count]","v":0},{"$f":"IF(Q40<2,\"Yes\",\"No\")","v":"Yes"},{"$f":"AND($C$1=\"Y\",D40>0)","v":true},{"$f":"AND($E$1=\"Y\",F40>0)","v":true},{"$f":"AND($G$1=\"Y\",H40>0)","v":true},{"$f":"AND($I$1=\"Y\",J40>0)","v":true},{"$f":"AND($K$1=\"Y\",L40>0)","v":false},{"$f":"COUNTIF(Table1015[[#This Row],[Competed 1]:[Competed 5]],\"=TRUE\")","v":4}]
["Chloe Burgess","Redmoor Academy",45,{"$f":"IF(C41=\"-\",0,C41)","v":45},36,{"$f":"IF(E41=\"-\",0,E41)","v":36},45,{"$f":"IF(G41=\"-\",0,G41)","v":45},37,{"$f":"IF(I41=\"-\",0,I41)","v":37},"-",{"$f":"IF(K41=\"-\",0,K41)","v":0},{"$f":"Table1015[[#This Row],[School]]","v":"Redmoor Academy"},{"$f":"D41+F41+H41+J41+L41","v":163},{"$f":"MAX(C41,E41,G41,I41,K41)","v":45},{"$f":"IF(Q41=1,N41,IF(Q41=0,(N41-O41),\"-\"))","v":118},{"$f":"$L$1-Table1015[Competed Count]","v":0},{"$f":"IF(Q41<2,\"Yes\",\"No\")","v":"Yes"},{"$f":"AND($C$1=\"Y\",D41>0)","v":true},{"$f":"AND($E$1=\"Y\",F41>0)","v":true},{"$f":"AND($G$1=\"Y\",H41>0)","v":true},{"$f":"AND($I$1=\"Y\",J41>0)","v":true},{"$f":"AND($K$1=\"Y\",L41>0)","v":false},{"$f":"COUNTIF(Table1015[[#This Row],[Competed 1]:[Competed 5]],\"=TRUE\")","v":4}]
["Ella Clarke","Lutterworth High School","-",{"$f":"IF(C42=\"-\",0,C42)","v":0},"-",{"$f":"IF(E42=\"-\",0,E42)","v":0},"-",{"$f":"IF(G42=\"-\",0,G42)","v":0},38,{"$f":"IF(I42=\"-\",0,I42)","v":38},"-",{"$f":"IF(K42=\"-\",0,K42)","v":0},{"$f":"Table1015[[#This Row],[School]]","v":"Lutterworth High School"},{"$f":"D42+F42+H42+J42+L42","v":38},{"$f":"MAX(C42,E42,G42,I42,K42)","v":38},{"$f":"IF(Q42=1,N42,IF(Q42=0,(N42-O42),\"-\"))","v":"-"},{"$f":"$L$1-Table1015[Competed Count]","v":3},{"$f":"IF(Q42<2,\"Yes\",\"No\")","v":"No"},{"$f":"AND($C$1=\"Y\",D42>0)","v":false},{"$f":"AND($E$1=\"Y\",F42>0)","v":false},{"$f":"AND($G$1=\"Y\",H42>0)","v":false},{"$f":"AND($I$1=\"Y\",J42>0)","v":true},{"$f":"AND($K$1=\"Y\",L42>0)","v":false},{"$f":"COUNTIF(Table1015[[#This Row],[Competed 1]:[Competed 5]],\"=TRUE\")","v":1}]
["Isabelle Wilebore","Redmoor Academy",69,{"$f":"IF(C43=\"-\",0,C43)","v":69},47,{"$f":"IF(E43=\"-\",0,E43)","v":47},47,{"$f":"IF(G43=\"-\",0,G43)","v":47},39,{"$f":"IF(I43=\"-\",0,I43)","v":39},"-",{"$f":"IF(K43=\"-\",0,K43)","v":0},{"$f":"Table1015[[#This Row],[School]]","v":"Redmoor Academy"},{"$f":"D43+F43+H43+J43+L43","v":202},{"$f":"MAX(C43,E43,G43,I43,K43)","v":69},{"$f":"IF(Q43=1,N43,IF(Q43=0,(N43-O43),\"-\"))","v":133},{"$f":"$L$1-Table1015[Competed Count]","v":0},{"$f":"IF(Q43<2,\"Yes\",\"No\")","v":"Yes"},{"$f":"AND($C$1=\"Y\",D43>0)","v":true},{"$f":"AND($E$1=\"Y\",F43>0)","v":true},{"$f":"AND($G$1=\"Y\",H43>0)","v":true},{"$f":"AND($I$1=\"Y\",J43>0)","v":true},{"$f":"AND($K$1=\"Y\",L43>0)","v":false},{"$f":"COUNTIF(Table1015[[#This Row],[Competed 1]:[Competed 5]],\"=TRUE\")","v":4}]
["Jess Fraser","De Lisle College",70,{"$f":"IF(C44=\"-\",0,C44)","v":70},49,{"$f":"IF(E44=\"-\",0,E44)","v":49},"-",{"$f":"IF(G44=\"-\",0,G44)","v":0},40,{"$f":"IF(I44=\"-\",0,I44)","v":40},"-",{"$f":"IF(K44=\"-\",0,K44)","v":0},{"$f":"Table1015[[#This Row],[School]]","v":"De Lisle College"},{"$f":"D44+F44+H44+J44+L44","v":159},{"$f":"MAX(C44,E44,G44,I44,K44)","v":70},{"$f":"IF(Q44=1,N44,IF(Q44=0,(N44-O44),\"-\"))","v":159},{"$f":"$L$1-Table1015[Competed Count]","v":1},{"$f":"IF(Q44<2,\"Yes\",\"No\")","v":"Yes"},{"$f":"AND($C$1=\"Y\",D44>0)","v":true},{"$f":"AND($E$1=\"Y\",F44>0)","v":true},{"$f":"AND($G$1=\"Y\",H44>0)","v":false},{"$f":"AND($I$1=\"Y\",J44>0)","v":true},{"$f":"AND($K$1=\"Y\",L44>0)","v":false},{"$f":"COUNTIF(Table1015[[#This Row],[Competed 1]:[Competed 5]],\"=TRUE\")","v":3}]
["Evie Anderson","Welland Park Academy",72,{"$f":"IF(C45=\"-\",0,C45)","v":72},48,{"$f":"IF(E45=\"-\",0,E45)","v":48},48,{"$f":"IF(G45=\"-\",0,G45)","v":48},41,{"$f":"IF(I45=\"-\",0,I45)","v":41},"-",{"$f":"IF(K45=\"-\",0,K45)","v":0},{"$f":"Table1015[[#This Row],[School]]","v":"Welland Park Academy"},{"$f":"D45+F45+H45+J45+L45","v":209},{"$f":"MAX(C45,E45,G45,I45,K45)","v":72},{"$f":"IF(Q45=1,N45,IF(Q45=0,(N45-O45),\"-\"))","v":137},{"$f":"$L$1-Table1015[Competed Count]","v":0},{"$f":"IF(Q45<2,\"Yes\",\"No\")","v":"Yes"},{"$f":"AND($C$1=\"Y\",D45>0)","v":true},{"$f":"AND($E$1=\"Y\",F45>0)","v":true},{"$f":"AND($G$1=\"Y\",H45>0)","v":true},{"$f":"AND($I$1=\"Y\",J45>0)","v":true},{"$f":"AND($K$1=\"Y\",L45>0)","v":false},{"$f":"COUNTIF(Table1015[[#This Row],[Competed 1]:[Competed 5]],\"=TRUE\")","v":4}]
["Emma Christie","Lutterworth College",67,{"$f":"IF(C46=\"-\",0,C46)","v":67},44,{"$f":"IF(E46=\"-\",0,E46)","v":44},49,{"$f":"IF(G46=\"-\",0,G46)","v":49},42,{"$f":"IF(I46=\"-\",0,I46)","v":42},"-",{"$f":"IF(K46=\"-\",0,K46)","v":0},{"$f":"Table1015[[#This Row],[School]]","v":"Lutterworth College"},{"$f":"D46+F46+H46+J46+L46","v":202},{"$f":"MAX(C46,E46,G46,I46,K46)","v":67},{"$f":"IF(Q46=1,N46,IF(Q46=0,(N46-O46),\"-\"))","v":135},{"$f":"$L$1-Table1015[Competed Count]","v":0},{"$f":"IF(Q46<2,\"Yes\",\"No\")","v":"Yes"},{"$f":"AND($C$1=\"Y\",D46>0)","v":true},{"$f":"AND($E$1=\"Y\",F46>0)","v":true},{"$f":"AND($G$1=\"Y\",H46>0)","v":true},{"$f":"AND($I$1=\"Y\",J46>0)","v":true},{"$f":"AND($K$1=\"Y\",L46>0)","v":false},{"$f":"COUNTIF(Table1015[[#This Row],[Competed 1]:[Competed 5]],\"=TRUE\")","v":4}]
["Jasmine Morton","Redmoor Academy","-",{"$f":"IF(C47=\"-\",0,C47)","v":0},"-",{"$f":"IF(E47=\"-\",0,E47)","v":0},50,{"$f":"IF(G47=\"-\",0,G47)","v":50},43,{"$f":"IF(I47=\"-\",0,I47)","v":43},"-",{"$f":"IF(K47=\"-\",0,K47)","v":0},{"$f":"Table1015[[#This Row],[School]]","v":"Redmoor Academy"},{"$f":"D47+F47+H47+J47+L47","v":93},{"$f":"MAX(C47,E47,G47,I47,K47)","v":50},{"$f":"IF(Q47=1,N47,IF(Q47=0,(N47-O47),\"-\"))","v":"-"},{"$f":"$L$1-Table1015[Competed Count]","v":2},{"$f":"IF(Q47<2,\"Yes\",\"No\")","v":"No"},{"$f":"AND($C$1=\"Y\",D47>0)","v":false},{"$f":"AND($E$1=\"Y\",F47>0)","v":false},{"$f":"AND($G$1=\"Y\",H47>0)","v":true},{"$f":"AND($I$1=\"Y\",J47>0)","v":true},{"$f":"AND($K$1=\"Y\",L47>0)","v":false},{"$f":"COUNTIF(Table1015[[#This Row],[Competed 1]:[Competed 5]],\"=TRUE\")","v":2}]
["Indie King","Loughborough High School",1,{"$f":"IF(C48=\"-\",0,C48)","v":1},"-",{"$f":"IF(E48=\"-\",0,E48)","v":0},1,{"$f":"IF(G48=\"-\",0,G48)","v":1},"-",{"$f":"IF(I48=\"-\",0,I48)","v":0},"-",{"$f":"IF(K48=\"-\",0,K48)","v":0},{"$f":"Table1015[[#This Row],[School]]","v":"Loughborough High School"},{"$f":"D48+F48+H48+J48+L48","v":2},{"$f":"MAX(C48,E48,G48,I48,K48)","v":1},{"$f":"IF(Q48=1,N48,IF(Q48=0,(N48-O48),\"-\"))","v":"-"},{"$f":"$L$1-Table1015[Competed Count]","v":2},{"$f":"IF(Q48<2,\"Yes\",\"No\")","v":"No"},{"$f":"AND($C$1=\"Y\",D48>0)","v":true},{"$f":"AND($E$1=\"Y\",F48>0)","v":false},{"$f":"AND($G$1=\"Y\",H48>0)","v":true},{"$f":"AND($I$1=\"Y\",J48>0)","v":false},{"$f":"AND($K$1=\"Y\",L48>0)","v":false},{"$f":"COUNTIF(Table1015[[#This Row],[Competed 1]:[Competed 5]],\"=TRUE\")","v":2}]
["Alice Walton","Loughborough High School",16,{"$f":"IF(C49=\"-\",0,C49)","v":16},5,{"$f":"IF(E49=\"-\",0,E49)","v":5},10,{"$f":"IF(G49=\"-\",0,G49)","v":10},"-",{"$f":"IF(I49=\"-\",0,I49)","v":0},"-",{"$f":"IF(K49=\"-\",0,K49)","v":0},{"$f":"Table1015[[#This Row],[School]]","v":"Loughborough High School"},{"$f":"D49+F49+H49+J49+L49","v":31},{"$f":"MAX(C49,E49,G49,I49,K49)","v":16},{"$f":"IF(Q49=1,N49,IF(Q49=0,(N49-O49),\"-\"))","v":31},{"$f":"$L$1-Table1015[Competed Count]","v":1},{"$f":"IF(Q49<2,\"Yes\",\"No\")","v":"Yes"},{"$f":"AND($C$1=\"Y\",D49>0)","v":true},{"$f":"AND($E$1=\"Y\",F49>0)","v":true},{"$f":"AND($G$1=\"Y\",H49>0)","v":true},{"$f":"AND($I$1=\"Y\",J49>0)","v":false},{"$f":"AND($K$1=\"Y\",L49>0)","v":false},{"$f":"COUNTIF(Table1015[[#This Row],[Competed 1]:[Competed 5]],\"=TRUE\")","v":3}]
["Gemma Newport","Woodbrook Vale School",13,{"$f":"IF(C50=\"-\",0,C50)","v":13},"-",{"$f":"IF(E50=\"-\",0,E50)","v":0},12,{"$f":"IF(G50=\"-\",0,G50)","v":12},"-",{"$f":"IF(I50=\"-\",0,I50)","v":0},"-",{"$f":"IF(K50=\"-\",0,K50)","v":0},{"$f":"Table1015[[#This Row],[School]]","v":"Woodbrook Vale School"},{"$f":"D50+F50+H50+J50+L50","v":25},{"$f":"MAX(C50,E50,G50,I50,K50)","v":13},{"$f":"IF(Q50=1,N50,IF(Q50=0,(N50-O50),\"-\"))","v":"-"},{"$f":"$L$1-Table1015[Competed Count]","v":2},{"$f":"IF(Q50<2,\"Yes\",\"No\")","v":"No"},{"$f":"AND($C$1=\"Y\",D50>0)","v":true},{"$f":"AND($E$1=\"Y\",F50>0)","v":false},{"$f":"AND($G$1=\"Y\",H50>0)","v":true},{"$f":"AND($I$1=\"Y\",J50>0)","v":false},{"$f":"AND($K$1=\"Y\",L50>0)","v":false},{"$f":"COUNTIF(Table1015[[#This Row],[Competed 1]:[Competed 5]],\"=TRUE\")","v":2}]
["Flora Miskin-Young","Wreake Valley Academy",14,{"$f":"IF(C51=\"-\",0,C51)","v":14},"-",{"$f":"IF(E51=\"-\",0,E51)","v":0},14,{"$f":"IF(G51=\"-\",0,G51)","v":14},"-",{"$f":"IF(I51=\"-\",0,I51)","v":0},"-",{"$f":"IF(K51=\"-\",0,K51)","v":0},{"$f":"Table1015[[#This Row],[School]]","v":"Wreake Valley Academy"},{"$f":"D51+F51+H51+J51+L51","v":28},{"$f":"MAX(C51,E51,G51,I51,K51)","v":14},{"$f":"IF(Q51=1,N51,IF(Q51=0,(N51-O51),\"-\"))","v":"-"},{"$f":"$L$1-Table1015[Competed Count]","v":2},{"$f":"IF(Q51<2,\"Yes\",\"No\")","v":"No"},{"$f":"AND($C$1=\"Y\",D51>0)","v":true},{"$f":"AND($E$1=\"Y\",F51>0)","v":false},{"$f":"AND($G$1=\"Y\",H51>0)","v":true},{"$f":"AND($I$1=\"Y\",J51>0)","v":false},{"$f":"AND($K$1=\"Y\",L51>0)","v":false},{"$f":"COUNTIF(Table1015[[#This Row],[Competed 1]:[Competed 5]],\"=TRUE\")","v":2}]
["Hattie Jones","Loughborough High School",36,{"$f":"IF(C52=\"-\",0,C52)","v":36},32,{"$f":"IF(E52=\"-\",0,E52)","v":32},19,{"$f":"IF(G52=\"-\",0,G52)","v":19},"-",{"$f":"IF(I52=\"-\",0,I52)","v":0},"-",{"$f":"IF(K52=\"-\",0,K52)","v":0},{"$f":"Table1015[[#This Row],[School]]","v":"Loughborough High School"},{"$f":"D52+F52+H52+J52+L52","v":87},{"$f":"MAX(C52,E52,G52,I52,K52)","v":36},{"$f":"IF(Q52=1,N52,IF(Q52=0,(N52-O52),\"-\"))","v":87},{"$f":"$L$1-Table1015[Competed Count]","v":1},{"$f":"IF(Q52<2,\"Yes\",\"No\")","v":"Yes"},{"$f":"AND($C$1=\"Y\",D52>0)","v":true},{"$f":"AND($E$1=\"Y\",F52>0)","v":true},{"$f":"AND($G$1=\"Y\",H52>0)","v":true},{"$f":"AND($I$1=\"Y\",J52>0)","v":false},{"$f":"AND($K$1=\"Y\",L52>0)","v":false},{"$f":"COUNTIF(Table1015[[#This Row],[Competed 1]:[Competed 5]],\"=TRUE\")","v":3}]
["Naomi Clarke-Myers","Sir Jonathon North CC",19,{"$f":"IF(C53=\"-\",0,C53)","v":19},"-",{"$f":"IF(E53=\"-\",0,E53)","v":0},21,{"$f":"IF(G53=\"-\",0,G53)","v":21},"-",{"$f":"IF(I53=\"-\",0,I53)","v":0},"-",{"$f":"IF(K53=\"-\",0,K53)","v":0},{"$f":"Table1015[[#This Row],[School]]","v":"Sir Jonathon North CC"},{"$f":"D53+F53+H53+J53+L53","v":40},{"$f":"MAX(C53,E53,G53,I53,K53)","v":21},{"$f":"IF(Q53=1,N53,IF(Q53=0,(N53-O53),\"-\"))","v":"-"},{"$f":"$L$1-Table1015[Competed Count]","v":2},{"$f":"IF(Q53<2,\"Yes\",\"No\")","v":"No"},{"$f":"AND($C$1=\"Y\",D53>0)","v":true},{"$f":"AND($E$1=\"Y\",F53>0)","v":false},{"$f":"AND($G$1=\"Y\",H53>0)","v":true},{"$f":"AND($I$1=\"Y\",J53>0)","v":false},{"$f":"AND($K$1=\"Y\",L53>0)","v":false},{"$f":"COUNTIF(Table1015[[#This Row],[Competed 1]:[Competed 5]],\"=TRUE\")","v":2}]
["Bethany Potter","Loughborough High School","-",{"$f":"IF(C54=\"-\",0,C54)","v":0},21,{"$f":"IF(E54=\"-\",0,E54)","v":21},23,{"$f":"IF(G54=\"-\",0,G54)","v":23},"-",{"$f":"IF(I54=\"-\",0,I54)","v":0},"-",{"$f":"IF(K54=\"-\",0,K54)","v":0},{"$f":"Table1015[[#This Row],[School]]","v":"Loughborough High School"},{"$f":"D54+F54+H54+J54+L54","v":44},{"$f":"MAX(C54,E54,G54,I54,K54)","v":23},{"$f":"IF(Q54=1,N54,IF(Q54=0,(N54-O54),\"-\"))","v":"-"},{"$f":"$L$1-Table1015[Competed Count]","v":2},{"$f":"IF(Q54<2,\"Yes\",\"No\")","v":"No"},{"$f":"AND($C$1=\"Y\",D54>0)","v":false},{"$f":"AND($E$1=\"Y\",F54>0)","v":true},{"$f":"AND($G$1=\"Y\",H54>0)","v":true},{"$f":"AND($I$1=\"Y\",J54>0)","v":false},{"$f":"AND($K$1=\"Y\",L54>0)","v":false},{"$f":"COUNTIF(Table1015[[#This Row],[Competed 1]:[Competed 5]],\"=TRUE\")","v":2}]
["Charlotte Carp","Loughborough High School",26,{"$f":"IF(C55=\"-\",0,C55)","v":26},17,{"$f":"IF(E55=\"-\",0,E55)","v":17},29,{"$f":"IF(G55=\"-\",0,G55)","v":29},"-",{"$f":"IF(I55=\"-\",0,I55)","v":0},"-",{"$f":"IF(K55=\"-\",0,K55)","v":0},{"$f":"Table1015[[#This Row],[School]]","v":"Loughborough High School"},{"$f":"D55+F55+H55+J55+L55","v":72},{"$f":"MAX(C55,E55,G55,I55,K55)","v":29},{"$f":"IF(Q55=1,N55,IF(Q55=0,(N55-O55),\"-\"))","v":72},{"$f":"$L$1-Table1015[Competed Count]","v":1},{"$f":"IF(Q55<2,\"Yes\",\"No\")","v":"Yes"},{"$f":"AND($C$1=\"Y\",D55>0)","v":true},{"$f":"AND($E$1=\"Y\",F55>0)","v":true},{"$f":"AND($G$1=\"Y\",H55>0)","v":true},{"$f":"AND($I$1=\"Y\",J55>0)","v":false},{"$f":"AND($K$1=\"Y\",L55>0)","v":false},{"$f":"COUNTIF(Table1015[[#This Row],[Competed 1]:[Competed 5]],\"=TRUE\")","v":3}]
["Alice Burton","Catmose College",44,{"$f":"IF(C56=\"-\",0,C56)","v":44},31,{"$f":"IF(E56=\"-\",0,E56)","v":31},32,{"$f":"IF(G56=\"-\",0,G56)","v":32},"-",{"$f":"IF(I56=\"-\",0,I56)","v":0},"-",{"$f":"IF(K56=\"-\",0,K56)","v":0},{"$f":"Table1015[[#This Row],[School]]","v":"Catmose College"},{"$f":"D56+F56+H56+J56+L56","v":107},{"$f":"MAX(C56,E56,G56,I56,K56)","v":44},{"$f":"IF(Q56=1,N56,IF(Q56=0,(N56-O56),\"-\"))","v":107},{"$f":"$L$1-Table1015[Competed Count]","v":1},{"$f":"IF(Q56<2,\"Yes\",\"No\")","v":"Yes"},{"$f":"AND($C$1=\"Y\",D56>0)","v":true},{"$f":"AND($E$1=\"Y\",F56>0)","v":true},{"$f":"AND($G$1=\"Y\",H56>0)","v":true},{"$f":"AND($I$1=\"Y\",J56>0)","v":false},{"$f":"AND($K$1=\"Y\",L56>0)","v":false},{"$f":"COUNTIF(Table1015[[#This Row],[Competed 1]:[Competed 5]],\"=TRUE\")","v":3}]
["Mia Channell","Countesthorpe Leysland CC",52,{"$f":"IF(C57=\"-\",0,C57)","v":52},"-",{"$f":"IF(E57=\"-\",0,E57)","v":0},33,{"$f":"IF(G57=\"-\",0,G57)","v":33},"-",{"$f":"IF(I57=\"-\",0,I57)","v":0},"-",{"$f":"IF(K57=\"-\",0,K57)","v":0},{"$f":"Table1015[[#This Row],[School]]","v":"Countesthorpe Leysland CC"},{"$f":"D57+F57+H57+J57+L57","v":85},{"$f":"MAX(C57,E57,G57,I57,K57)","v":52},{"$f":"IF(Q57=1,N57,IF(Q57=0,(N57-O57),\"-\"))","v":"-"},{"$f":"$L$1-Table1015[Competed Count]","v":2},{"$f":"IF(Q57<2,\"Yes\",\"No\")","v":"No"},{"$f":"AND($C$1=\"Y\",D57>0)","v":true},{"$f":"AND($E$1=\"Y\",F57>0)","v":false},{"$f":"AND($G$1=\"Y\",H57>0)","v":true},{"$f":"AND($I$1=\"Y\",J57>0)","v":false},{"$f":"AND($K$1=\"Y\",L57>0)","v":false},{"$f":"COUNTIF(Table1015[[#This Row],[Competed 1]:[Competed 5]],\"=TRUE\")","v":2}]
["Anya Ibbottson","St Martins Catholic Academy","-",{"$f":"IF(C58=\"-\",0,C58)","v":0},20,{"$f":"IF(E58=\"-\",0,E58)","v":20},37,{"$f":"IF(G58=\"-\",0,G58)","v":37},"-",{"$f":"IF(I58=\"-\",0,I58)","v":0},"-",{"$f":"IF(K58=\"-\",0,K58)","v":0},{"$f":"Table1015[[#This Row],[School]]","v":"St Martins Catholic Academy"},{"$f":"D58+F58+H58+J58+L58","v":57},{"$f":"MAX(C58,E58,G58,I58,K58)","v":37},{"$f":"IF(Q58=1,N58,IF(Q58=0,(N58-O58),\"-\"))","v":"-"},{"$f":"$L$1-Table1015[Competed Count]","v":2},{"$f":"IF(Q58<2,\"Yes\",\"No\")","v":"No"},{"$f":"AND($C$1=\"Y\",D58>0)","v":false},{"$f":"AND($E$1=\"Y\",F58>0)","v":true},{"$f":"AND($G$1=\"Y\",H58>0)","v":true},{"$f":"AND($I$1=\"Y\",J58>0)","v":false},{"$f":"AND($K$1=\"Y\",L58>0)","v":false},{"$f":"COUNTIF(Table1015[[#This Row],[Competed 1]:[Competed 5]],\"=TRUE\")","v":2}]
["Jenny Sharpe","John Ferneley College","-",{"$f":"IF(C59=\"-\",0,C59)","v":0},"-",{"$f":"IF(E59=\"-\",0,E59)","v":0},42,{"$f":"IF(G59=\"-\",0,G59)","v":42},"-",{"$f":"IF(I59=\"-\",0,I59)","v":0},"-",{"$f":"IF(K59=\"-\",0,K59)","v":0},{"$f":"Table1015[[#This Row],[School]]","v":"John Ferneley College"},{"$f":"D59+F59+H59+J59+L59","v":42},{"$f":"MAX(C59,E59,G59,I59,K59)","v":42},{"$f":"IF(Q59=1,N59,IF(Q59=0,(N59-O59),\"-\"))","v":"-"},{"$f":"$L$1-Table1015[Competed Count]","v":3},{"$f":"IF(Q59<2,\"Yes\",\"No\")","v":"No"},{"$f":"AND($C$1=\"Y\",D59>0)","v":false},{"$f":"AND($E$1=\"Y\",F59>0)","v":false},{"$f":"AND($G$1=\"Y\",H59>0)","v":true},{"$f":"AND($I$1=\"Y\",J59>0)","v":false},{"$f":"AND($K$1=\"Y\",L59>0)","v":false},{"$f":"COUNTIF(Table1015[[#This Row],[Competed 1]:[Competed 5]],\"=TRUE\")","v":1}]
["Maeve Stretton","Brookvale High School",65,{"$f":"IF(C60=\"-\",0,C60)","v":65},40,{"$f":"IF(E60=\"-\",0,E60)","v":40},46,{"$f":"IF(G60=\"-\",0,G60)","v":46},"-",{"$f":"IF(I60=\"-\",0,I60)","v":0},"-",{"$f":"IF(K60=\"-\",0,K60)","v":0},{"$f":"Table1015[[#This Row],[School]]","v":"Brookvale High School"},{"$f":"D60+F60+H60+J60+L60","v":151},{"$f":"MAX(C60,E60,G60,I60,K60)","v":65},{"$f":"IF(Q60=1,N60,IF(Q60=0,(N60-O60),\"-\"))","v":151},{"$f":"$L$1-Table1015[Competed Count]","v":1},{"$f":"IF(Q60<2,\"Yes\",\"No\")","v":"Yes"},{"$f":"AND($C$1=\"Y\",D60>0)","v":true},{"$f":"AND($E$1=\"Y\",F60>0)","v":true},{"$f":"AND($G$1=\"Y\",H60>0)","v":true},{"$f":"AND($I$1=\"Y\",J60>0)","v":false},{"$f":"AND($K$1=\"Y\",L60>0)","v":false},{"$f":"COUNTIF(Table1015[[#This Row],[Competed 1]:[Competed 5]],\"=TRUE\")","v":3}]
["Carys O'Reilly","St Martins Catholic Academy",18,{"$f":"IF(C61=\"-\",0,C61)","v":18},3,{"$f":"IF(E61=\"-\",0,E61)","v":3},"-",{"$f":"IF(G61=\"-\",0,G61)","v":0},"-",{"$f":"IF(I61=\"-\",0,I61)","v":0},"-",{"$f":"IF(K61=\"-\",0,K61)","v":0},{"$f":"Table1015[[#This Row],[School]]","v":"St Martins Catholic Academy"},{"$f":"D61+F61+H61+J61+L61","v":21},{"$f":"MAX(C61,E61,G61,I61,K61)","v":18},{"$f":"IF(Q61=1,N61,IF(Q61=0,(N61-O61),\"-\"))","v":"-"},{"$f":"$L$1-Table1015[Competed Count]","v":2},{"$f":"IF(Q61<2,\"Yes\",\"No\")","v":"No"},{"$f":"AND($C$1=\"Y\",D61>0)","v":true},{"$f":"AND($E$1=\"Y\",F61>0)","v":true},{"$f":"AND($G$1=\"Y\",H61>0)","v":false},{"$f":"AND($I$1=\"Y\",J61>0)","v":false},{"$f":"AND($K$1=\"Y\",L61>0)","v":false},{"$f":"COUNTIF(Table1015[[#This Row],[Competed 1]:[Competed 5]],\"=TRUE\")","v":2}]
["Eva Walters ","Thomas Estley CC",17,{"$f":"IF(C62=\"-\",0,C62)","v":17},6,{"$f":"IF(E62=\"-\",0,E62)","v":6},"-",{"$f":"IF(G62=\"-\",0,G62)","v":0},"-",{"$f":"IF(I62=\"-\",0,I62)","v":0},"-",{"$f":"IF(K62=\"-\",0,K62)","v":0},{"$f":"Table1015[[#This Row],[School]]","v":"Thomas Estley CC"},{"$f":"D62+F62+H62+J62+L62","v":23},{"$f":"MAX(C62,E62,G62,I62,K62)","v":17},{"$f":"IF(Q62=1,N62,IF(Q62=0,(N62-O62),\"-\"))","v":"-"},{"$f":"$L$1-Table1015[Competed Count]","v":2},{"$f":"IF(Q62<2,\"Yes\",\"No\")","v":"No"},{"$f":"AND($C$1=\"Y\",D62>0)","v":true},{"$f":"AND($E$1=\"Y\",F62>0)","v":true},{"$f":"AND($G$1=\"Y\",H62>0)","v":false},{"$f":"AND($I$1=\"Y\",J62>0)","v":false},{"$f":"AND($K$1=\"Y\",L62>0)","v":false},{"$f":"COUNTIF(Table1015[[#This Row],[Competed 1]:[Competed 5]],\"=TRUE\")","v":2}]
["Isabelle Parker","Wigston Academy","-",{"$f":"IF(C63=\"-\",0,C63)","v":0},10,{"$f":"IF(E63=\"-\",0,E63)","v":10},"-",{"$f":"IF(G63=\"-\",0,G63)","v":0},"-",{"$f":"IF(I63=\"-\",0,I63)","v":0},"-",{"$f":"IF(K63=\"-\",0,K63)","v":0},{"$f":"Table1015[[#This Row],[School]]","v":"Wigston Academy"},{"$f":"D63+F63+H63+J63+L63","v":10},{"$f":"MAX(C63,E63,G63,I63,K63)","v":10},{"$f":"IF(Q63=1,N63,IF(Q63=0,(N63-O63),\"-\"))","v":"-"},{"$f":"$L$1-Table1015[Competed Count]","v":3},{"$f":"IF(Q63<2,\"Yes\",\"No\")","v":"No"},{"$f":"AND($C$1=\"Y\",D63>0)","v":false},{"$f":"AND($E$1=\"Y\",F63>0)","v":true},{"$f":"AND($G$1=\"Y\",H63>0)","v":false},{"$f":"AND($I$1=\"Y\",J63>0)","v":false},{"$f":"AND($K$1=\"Y\",L63>0)","v":false},{"$f":"COUNTIF(Table1015[[#This Row],[Competed 1]:[Competed 5]],\"=TRUE\")","v":1}]
["Georgia Gilbert","Catmose College","-",{"$f":"IF(C64=\"-\",0,C64)","v":0},13,{"$f":"IF(E64=\"-\",0,E64)","v":13},"-",{"$f":"IF(G64=\"-\",0,G64)","v":0},"-",{"$f":"IF(I64=\"-\",0,I64)","v":0},"-",{"$f":"IF(K64=\"-\",0,K64)","v":0},{"$f":"Table1015[[#This Row],[School]]","v":"Catmose College"},{"$f":"D64+F64+H64+J64+L64","v":13},{"$f":"MAX(C64,E64,G64,I64,K64)","v":13},{"$f":"IF(Q64=1,N64,IF(Q64=0,(N64-O64),\"-\"))","v":"-"},{"$f":"$L$1-Table1015[Competed Count]","v":3},{"$f":"IF(Q64<2,\"Yes\",\"No\")","v":"No"},{"$f":"AND($C$1=\"Y\",D64>0)","v":false},{"$f":"AND($E$1=\"Y\",F64>0)","v":true},{"$f":"AND($G$1=\"Y\",H64>0)","v":false},{"$f":"AND($I$1=\"Y\",J64>0)","v":false},{"$f":"AND($K$1=\"Y\",L64>0)","v":false},{"$f":"COUNTIF(Table1015[[#This Row],[Competed 1]:[Competed 5]],\"=TRUE\")","v":1}]
["Rosie Pearman","Manor High School",24,{"$f":"IF(C65=\"-\",0,C65)","v":24},18,{"$f":"IF(E65=\"-\",0,E65)","v":18},"-",{"$f":"IF(G65=\"-\",0,G65)","v":0},"-",{"$f":"IF(I65=\"-\",0,I65)","v":0},"-",{"$f":"IF(K65=\"-\",0,K65)","v":0},{"$f":"Table1015[[#This Row],[School]]","v":"Manor High School"},{"$f":"D65+F65+H65+J65+L65","v":42},{"$f":"MAX(C65,E65,G65,I65,K65)","v":24},{"$f":"IF(Q65=1,N65,IF(Q65=0,(N65-O65),\"-\"))","v":"-"},{"$f":"$L$1-Table1015[Competed Count]","v":2},{"$f":"IF(Q65<2,\"Yes\",\"No\")","v":"No"},{"$f":"AND($C$1=\"Y\",D65>0)","v":true},{"$f":"AND($E$1=\"Y\",F65>0)","v":true},{"$f":"AND($G$1=\"Y\",H65>0)","v":false},{"$f":"AND($I$1=\"Y\",J65>0)","v":false},{"$f":"AND($K$1=\"Y\",L65>0)","v":false},{"$f":"COUNTIF(Table1015[[#This Row],[Competed 1]:[Competed 5]],\"=TRUE\")","v":2}]
["Charlotte Lethbridge","De Lisle College",28,{"$f":"IF(C66=\"-\",0,C66)","v":28},19,{"$f":"IF(E66=\"-\",0,E66)","v":19},"-",{"$f":"IF(G66=\"-\",0,G66)","v":0},"-",{"$f":"IF(I66=\"-\",0,I66)","v":0},"-",{"$f":"IF(K66=\"-\",0,K66)","v":0},{"$f":"Table1015[[#This Row],[School]]","v":"De Lisle College"},{"$f":"D66+F66+H66+J66+L66","v":47},{"$f":"MAX(C66,E66,G66,I66,K66)","v":28},{"$f":"IF(Q66=1,N66,IF(Q66=0,(N66-O66),\"-\"))","v":"-"},{"$f":"$L$1-Table1015[Competed Count]","v":2},{"$f":"IF(Q66<2,\"Yes\",\"No\")","v":"No"},{"$f":"AND($C$1=\"Y\",D66>0)","v":true},{"$f":"AND($E$1=\"Y\",F66>0)","v":true},{"$f":"AND($G$1=\"Y\",H66>0)","v":false},{"$f":"AND($I$1=\"Y\",J66>0)","v":false},{"$f":"AND($K$1=\"Y\",L66>0)","v":false},{"$f":"COUNTIF(Table1015[[#This Row],[Competed 1]:[Competed 5]],\"=TRUE\")","v":2}]
["Annie Dudin","Catmose College","-",{"$f":"IF(C67=\"-\",0,C67)","v":0},26,{"$f":"IF(E67=\"-\",0,E67)","v":26},"-",{"$f":"IF(G67=\"-\",0,G67)","v":0},"-",{"$f":"IF(I67=\"-\",0,I67)","v":0},"-",{"$f":"IF(K67=\"-\",0,K67)","v":0},{"$f":"Table1015[[#This Row],[School]]","v":"Catmose College"},{"$f":"D67+F67+H67+J67+L67","v":26},{"$f":"MAX(C67,E67,G67,I67,K67)","v":26},{"$f":"IF(Q67=1,N67,IF(Q67=0,(N67-O67),\"-\"))","v":"-"},{"$f":"$L$1-Table1015[Competed Count]","v":3},{"$f":"IF(Q67<2,\"Yes\",\"No\")","v":"No"},{"$f":"AND($C$1=\"Y\",D67>0)","v":false},{"$f":"AND($E$1=\"Y\",F67>0)","v":true},{"$f":"AND($G$1=\"Y\",H67>0)","v":false},{"$f":"AND($I$1=\"Y\",J67>0)","v":false},{"$f":"AND($K$1=\"Y\",L67>0)","v":false},{"$f":"COUNTIF(Table1015[[#This Row],[Competed 1]:[Competed 5]],\"=TRUE\")","v":1}]
["Hannah Brown","Hinckley Academy",32,{"$f":"IF(C68=\"-\",0,C68)","v":32},27,{"$f":"IF(E68=\"-\",0,E68)","v":27},"-",{"$f":"IF(G68=\"-\",0,G68)","v":0},"-",{"$f":"IF(I68=\"-\",0,I68)","v":0},"-",{"$f":"IF(K68=\"-\",0,K68)","v":0},{"$f":"Table1015[[#This Row],[School]]","v":"Hinckley Academy"},{"$f":"D68+F68+H68+J68+L68","v":59},{"$f":"MAX(C68,E68,G68,I68,K68)","v":32},{"$f":"IF(Q68=1,N68,IF(Q68=0,(N68-O68),\"-\"))","v":"-"},{"$f":"$L$1-Table1015[Competed Count]","v":2},{"$f":"IF(Q68<2,\"Yes\",\"No\")","v":"No"},{"$f":"AND($C$1=\"Y\",D68>0)","v":true},{"$f":"AND($E$1=\"Y\",F68>0)","v":true},{"$f":"AND($G$1=\"Y\",H68>0)","v":false},{"$f":"AND($I$1=\"Y\",J68>0)","v":false},{"$f":"AND($K$1=\"Y\",L68>0)","v":false},{"$f":"COUNTIF(Table1015[[#This Row],[Competed 1]:[Competed 5]],\"=TRUE\")","v":2}]
["Beth Pugh","St Martins Catholic Academy",56,{"$f":"IF(C69=\"-\",0,C69)","v":56},30,{"$f":"IF(E69=\"-\",0,E69)","v":30},"-",{"$f":"IF(G69=\"-\",0,G69)","v":0},"-",{"$f":"IF(I69=\"-\",0,I69)","v":0},"-",{"$f":"IF(K69=\"-\",0,K69)","v":0},{"$f":"Table1015[[#This Row],[School]]","v":"St Martins Catholic Academy"},{"$f":"D69+F69+H69+J69+L69","v":86},{"$f":"MAX(C69,E69,G69,I69,K69)","v":56},{"$f":"IF(Q69=1,N69,IF(Q69=0,(N69-O69),\"-\"))","v":"-"},{"$f":"$L$1-Table1015[Competed Count]","v":2},{"$f":"IF(Q69<2,\"Yes\",\"No\")","v":"No"},{"$f":"AND($C$1=\"Y\",D69>0)","v":true},{"$f":"AND($E$1=\"Y\",F69>0)","v":true},{"$f":"AND($G$1=\"Y\",H69>0)","v":false},{"$f":"AND($I$1=\"Y\",J69>0)","v":false},{"$f":"AND($K$1=\"Y\",L69>0)","v":false},{"$f":"COUNTIF(Table1015[[#This Row],[Competed 1]:[Competed 5]],\"=TRUE\")","v":2}]
["Isobelle Andrews","Catmose College",60,{"$f":"IF(C70=\"-\",0,C70)","v":60},39,{"$f":"IF(E70=\"-\",0,E70)","v":39},"-",{"$f":"IF(G70=\"-\",0,G70)","v":0},"-",{"$f":"IF(I70=\"-\",0,I70)","v":0},"-",{"$f":"IF(K70=\"-\",0,K70)","v":0},{"$f":"Table1015[[#This Row],[School]]","v":"Catmose College"},{"$f":"D70+F70+H70+J70+L70","v":99},{"$f":"MAX(C70,E70,G70,I70,K70)","v":60},{"$f":"IF(Q70=1,N70,IF(Q70=0,(N70-O70),\"-\"))","v":"-"},{"$f":"$L$1-Table1015[Competed Count]","v":2},{"$f":"IF(Q70<2,\"Yes\",\"No\")","v":"No"},{"$f":"AND($C$1=\"Y\",D70>0)","v":true},{"$f":"AND($E$1=\"Y\",F70>0)","v":true},{"$f":"AND($G$1=\"Y\",H70>0)","v":false},{"$f":"AND($I$1=\"Y\",J70>0)","v":false},{"$f":"AND($K$1=\"Y\",L70>0)","v":false},{"$f":"COUNTIF(Table1015[[#This Row],[Competed 1]:[Competed 5]],\"=TRUE\")","v":2}]
["Grace Pugh","St Martins Catholic Academy",57,{"$f":"IF(C71=\"-\",0,C71)","v":57},41,{"$f":"IF(E71=\"-\",0,E71)","v":41},"-",{"$f":"IF(G71=\"-\",0,G71)","v":0},"-",{"$f":"IF(I71=\"-\",0,I71)","v":0},"-",{"$f":"IF(K71=\"-\",0,K71)","v":0},{"$f":"Table1015[[#This Row],[School]]","v":"St Martins Catholic Academy"},{"$f":"D71+F71+H71+J71+L71","v":98},{"$f":"MAX(C71,E71,G71,I71,K71)","v":57},{"$f":"IF(Q71=1,N71,IF(Q71=0,(N71-O71),\"-\"))","v":"-"},{"$f":"$L$1-Table1015[Competed Count]","v":2},{"$f":"IF(Q71<2,\"Yes\",\"No\")","v":"No"},{"$f":"AND($C$1=\"Y\",D71>0)","v":true},{"$f":"AND($E$1=\"Y\",F71>0)","v":true},{"$f":"AND($G$1=\"Y\",H71>0)","v":false},{"$f":"AND($I$1=\"Y\",J71>0)","v":false},{"$f":"AND($K$1=\"Y\",L71>0)","v":false},{"$f":"COUNTIF(Table1015[[#This Row],[Competed 1]:[Competed 5]],\"=TRUE\")","v":2}]
["Ellie Broadbent","Lutterworth High School",63,{"$f":"IF(C72=\"-\",0,C72)","v":63},42,{"$f":"IF(E72=\"-\",0,E72)","v":42},"-",{"$f":"IF(G72=\"-\",0,G72)","v":0},"-",{"$f":"IF(I72=\"-\",0,I72)","v":0},"-",{"$f":"IF(K72=\"-\",0,K72)","v":0},{"$f":"Table1015[[#This Row],[School]]","v":"Lutterworth High School"},{"$f":"D72+F72+H72+J72+L72","v":105},{"$f":"MAX(C72,E72,G72,I72,K72)","v":63},{"$f":"IF(Q72=1,N72,IF(Q72=0,(N72-O72),\"-\"))","v":"-"},{"$f":"$L$1-Table1015[Competed Count]","v":2},{"$f":"IF(Q72<2,\"Yes\",\"No\")","v":"No"},{"$f":"AND($C$1=\"Y\",D72>0)","v":true},{"$f":"AND($E$1=\"Y\",F72>0)","v":true},{"$f":"AND($G$1=\"Y\",H72>0)","v":false},{"$f":"AND($I$1=\"Y\",J72>0)","v":false},{"$f":"AND($K$1=\"Y\",L72>0)","v":false},{"$f":"COUNTIF(Table1015[[#This Row],[Competed 1]:[Competed 5]],\"=TRUE\")","v":2}]
["Lucy Twittey","John Ferneley College",62,{"$f":"IF(C73=\"-\",0,C73)","v":62},43,{"$f":"IF(E73=\"-\",0,E73)","v":43},"-",{"$f":"IF(G73=\"-\",0,G73)","v":0},"-",{"$f":"IF(I73=\"-\",0,I73)","v":0},"-",{"$f":"IF(K73=\"-\",0,K73)","v":0},{"$f":"Table1015[[#This Row],[School]]","v":"John Ferneley College"},{"$f":"D73+F73+H73+J73+L73","v":105},{"$f":"MAX(C73,E73,G73,I73,K73)","v":62},{"$f":"IF(Q73=1,N73,IF(Q73=0,(N73-O73),\"-\"))","v":"-"},{"$f":"$L$1-Table1015[Competed Count]","v":2},{"$f":"IF(Q73<2,\"Yes\",\"No\")","v":"No"},{"$f":"AND($C$1=\"Y\",D73>0)","v":true},{"$f":"AND($E$1=\"Y\",F73>0)","v":true},{"$f":"AND($G$1=\"Y\",H73>0)","v":false},{"$f":"AND($I$1=\"Y\",J73>0)","v":false},{"$f":"AND($K$1=\"Y\",L73>0)","v":false},{"$f":"COUNTIF(Table1015[[#This Row],[Competed 1]:[Competed 5]],\"=TRUE\")","v":2}]
["Kate Bradshaw","Thomas Estley CC",66,{"$f":"IF(C74=\"-\",0,C74)","v":66},46,{"$f":"IF(E74=\"-\",0,E74)","v":46},"-",{"$f":"IF(G74=\"-\",0,G74)","v":0},"-",{"$f":"IF(I74=\"-\",0,I74)","v":0},"-",{"$f":"IF(K74=\"-\",0,K74)","v":0},{"$f":"Table1015[[#This Row],[School]]","v":"Thomas Estley CC"},{"$f":"D74+F74+H74+J74+L74","v":112},{"$f":"MAX(C74,E74,G74,I74,K74)","v":66},{"$f":"IF(Q74=1,N74,IF(Q74=0,(N74-O74),\"-\"))","v":"-"},{"$f":"$L$1-Table1015[Competed Count]","v":2},{"$f":"IF(Q74<2,\"Yes\",\"No\")","v":"No"},{"$f":"AND($C$1=\"Y\",D74>0)","v":true},{"$f":"AND($E$1=\"Y\",F74>0)","v":true},{"$f":"AND($G$1=\"Y\",H74>0)","v":false},{"$f":"AND($I$1=\"Y\",J74>0)","v":false},{"$f":"AND($K$1=\"Y\",L74>0)","v":false},{"$f":"COUNTIF(Table1015[[#This Row],[Competed 1]:[Competed 5]],\"=TRUE\")","v":2}]
["Aisha Amos Howell","Kibworth School",68,{"$f":"IF(C75=\"-\",0,C75)","v":68},50,{"$f":"IF(E75=\"-\",0,E75)","v":50},"-",{"$f":"IF(G75=\"-\",0,G75)","v":0},"-",{"$f":"IF(I75=\"-\",0,I75)","v":0},"-",{"$f":"IF(K75=\"-\",0,K75)","v":0},{"$f":"Table1015[[#This Row],[School]]","v":"Kibworth School"},{"$f":"D75+F75+H75+J75+L75","v":118},{"$f":"MAX(C75,E75,G75,I75,K75)","v":68},{"$f":"IF(Q75=1,N75,IF(Q75=0,(N75-O75),\"-\"))","v":"-"},{"$f":"$L$1-Table1015[Competed Count]","v":2},{"$f":"IF(Q75<2,\"Yes\",\"No\")","v":"No"},{"$f":"AND($C$1=\"Y\",D75>0)","v":true},{"$f":"AND($E$1=\"Y\",F75>0)","v":true},{"$f":"AND($G$1=\"Y\",H75>0)","v":false},{"$f":"AND($I$1=\"Y\",J75>0)","v":false},{"$f":"AND($K$1=\"Y\",L75>0)","v":false},{"$f":"COUNTIF(Table1015[[#This Row],[Competed 1]:[Competed 5]],\"=TRUE\")","v":2}]
["Danielle Baxter","De Lisle College","-",{"$f":"IF(C76=\"-\",0,C76)","v":0},51,{"$f":"IF(E76=\"-\",0,E76)","v":51},"-",{"$f":"IF(G76=\"-\",0,G76)","v":0},"-",{"$f":"IF(I76=\"-\",0,I76)","v":0},"-",{"$f":"IF(K76=\"-\",0,K76)","v":0},{"$f":"Table1015[[#This Row],[School]]","v":"De Lisle College"},{"$f":"D76+F76+H76+J76+L76","v":51},{"$f":"MAX(C76,E76,G76,I76,K76)","v":51},{"$f":"IF(Q76=1,N76,IF(Q76=0,(N76-O76),\"-\"))","v":"-"},{"$f":"$L$1-Table1015[Competed Count]","v":3},{"$f":"IF(Q76<2,\"Yes\",\"No\")","v":"No"},{"$f":"AND($C$1=\"Y\",D76>0)","v":false},{"$f":"AND($E$1=\"Y\",F76>0)","v":true},{"$f":"AND($G$1=\"Y\",H76>0)","v":false},{"$f":"AND($I$1=\"Y\",J76>0)","v":false},{"$f":"AND($K$1=\"Y\",L76>0)","v":false},{"$f":"COUNTIF(Table1015[[#This Row],[Competed 1]:[Competed 5]],\"=TRUE\")","v":1}]
["Samantha Dyson","The Market Bosworth School",22,{"$f":"IF(C77=\"-\",0,C77)","v":22},"-",{"$f":"IF(E77=\"-\",0,E77)","v":0},"-",{"$f":"IF(G77=\"-\",0,G77)","v":0},"-",{"$f":"IF(I77=\"-\",0,I77)","v":0},"-",{"$f":"IF(K77=\"-\",0,K77)","v":0},{"$f":"Table1015[[#This Row],[School]]","v":"The Market Bosworth School"},{"$f":"D77+F77+H77+J77+L77","v":22},{"$f":"MAX(C77,E77,G77,I77,K77)","v":22},{"$f":"IF(Q77=1,N77,IF(Q77=0,(N77-O77),\"-\"))","v":"-"},{"$f":"$L$1-Table1015[Competed Count]","v":3},{"$f":"IF(Q77<2,\"Yes\",\"No\")","v":"No"},{"$f":"AND($C$1=\"Y\",D77>0)","v":true},{"$f":"AND($E$1=\"Y\",F77>0)","v":false},{"$f":"AND($G$1=\"Y\",H77>0)","v":false},{"$f":"AND($I$1=\"Y\",J77>0)","v":false},{"$f":"AND($K$1=\"Y\",L77>0)","v":false},{"$f":"COUNTIF(Table1015[[#This Row],[Competed 1]:[Competed 5]],\"=TRUE\")","v":1}]
["Imogen Here","Rawlins Academy",37,{"$f":"IF(C78=\"-\",0,C78)","v":37},"-",{"$f":"IF(E78=\"-\",0,E78)","v":0},"-",{"$f":"IF(G78=\"-\",0,G78)","v":0},"-",{"$f":"IF(I78=\"-\",0,I78)","v":0},"-",{"$f":"IF(K78=\"-\",0,K78)","v":0},{"$f":"Table1015[[#This Row],[School]]","v":"Rawlins Academy"},{"$f":"D78+F78+H78+J78+L78","v":37},{"$f":"MAX(C78,E78,G78,I78,K78)","v":37},{"$f":"IF(Q78=1,N78,IF(Q78=0,(N78-O78),\"-\"))","v":"-"},{"$f":"$L$1-Table1015[Competed Count]","v":3},{"$f":"IF(Q78<2,\"Yes\",\"No\")","v":"No"},{"$f":"AND($C$1=\"Y\",D78>0)","v":true},{"$f":"AND($E$1=\"Y\",F78>0)","v":false},{"$f":"AND($G$1=\"Y\",H78>0)","v":false},{"$f":"AND($I$1=\"Y\",J78>0)","v":false},{"$f":"AND($K$1=\"Y\",L78>0)","v":false},{"$f":"COUNTIF(Table1015[[#This Row],[Competed 1]:[Competed 5]],\"=TRUE\")","v":1}]
["Mia Champneys-Davies","Shepshed High School",38,{"$f":"IF(C79=\"-\",0,C79)","v":38},"-",{"$f":"IF(E79=\"-\",0,E79)","v":0},"-",{"$f":"IF(G79=\"-\",0,G79)","v":0},"-",{"$f":"IF(I79=\"-\",0,I79)","v":0},"-",{"$f":"IF(K79=\"-\",0,K79)","v":0},{"$f":"Table1015[[#This Row],[School]]","v":"Shepshed High School"},{"$f":"D79+F79+H79+J79+L79","v":38},{"$f":"MAX(C79,E79,G79,I79,K79)","v":38},{"$f":"IF(Q79=1,N79,IF(Q79=0,(N79-O79),\"-\"))","v":"-"},{"$f":"$L$1-Table1015[Competed Count]","v":3},{"$f":"IF(Q79<2,\"Yes\",\"No\")","v":"No"},{"$f":"AND($C$1=\"Y\",D79>0)","v":true},{"$f":"AND($E$1=\"Y\",F79>0)","v":false},{"$f":"AND($G$1=\"Y\",H79>0)","v":false},{"$f":"AND($I$1=\"Y\",J79>0)","v":false},{"$f":"AND($K$1=\"Y\",L79>0)","v":false},{"$f":"COUNTIF(Table1015[[#This Row],[Competed 1]:[Competed 5]],\"=TRUE\")","v":1}]
["Megan Webster","Woodbrook Vale School",41,{"$f":"IF(C80=\"-\",0,C80)","v":41},"-",{"$f":"IF(E80=\"-\",0,E80)","v":0},"-",{"$f":"IF(G80=\"-\",0,G80)","v":0},"-",{"$f":"IF(I80=\"-\",0,I80)","v":0},"-",{"$f":"IF(K80=\"-\",0,K80)","v":0},{"$f":"Table1015[[#This Row],[School]]","v":"Woodbrook Vale School"},{"$f":"D80+F80+H80+J80+L80","v":41},{"$f":"MAX(C80,E80,G80,I80,K80)","v":41},{"$f":"IF(Q80=1,N80,IF(Q80=0,(N80-O80),\"-\"))","v":"-"},{"$f":"$L$1-Table1015[Competed Count]","v":3},{"$f":"IF(Q80<2,\"Yes\",\"No\")","v":"No"},{"$f":"AND($C$1=\"Y\",D80>0)","v":true},{"$f":"AND($E$1=\"Y\",F80>0)","v":false},{"$f":"AND($G$1=\"Y\",H80>0)","v":false},{"$f":"AND($I$1=\"Y\",J80>0)","v":false},{"$f":"AND($K$1=\"Y\",L80>0)","v":false},{"$f":"COUNTIF(Table1015[[#This Row],[Competed 1]:[Competed 5]],\"=TRUE\")","v":1}]
["Emily Buckler","Lutterworth College",53,{"$f":"IF(C81=\"-\",0,C81)","v":53},"-",{"$f":"IF(E81=\"-\",0,E81)","v":0},"-",{"$f":"IF(G81=\"-\",0,G81)","v":0},"-",{"$f":"IF(I81=\"-\",0,I81)","v":0},"-",{"$f":"IF(K81=\"-\",0,K81)","v":0},{"$f":"Table1015[[#This Row],[School]]","v":"Lutterworth College"},{"$f":"D81+F81+H81+J81+L81","v":53},{"$f":"MAX(C81,E81,G81,I81,K81)","v":53},{"$f":"IF(Q81=1,N81,IF(Q81=0,(N81-O81),\"-\"))","v":"-"},{"$f":"$L$1-Table1015[Competed Count]","v":3},{"$f":"IF(Q81<2,\"Yes\",\"No\")","v":"No"},{"$f":"AND($C$1=\"Y\",D81>0)","v":true},{"$f":"AND($E$1=\"Y\",F81>0)","v":false},{"$f":"AND($G$1=\"Y\",H81>0)","v":false},{"$f":"AND($I$1=\"Y\",J81>0)","v":false},{"$f":"AND($K$1=\"Y\",L81>0)","v":false},{"$f":"COUNTIF(Table1015[[#This Row],[Competed 1]:[Competed 5]],\"=TRUE\")","v":1}]
["Maddie Silver","St Martins Catholic Academy",55,{"$f":"IF(C82=\"-\",0,C82)","v":55},"-",{"$f":"IF(E82=\"-\",0,E82)","v":0},"-",{"$f":"IF(G82=\"-\",0,G82)","v":0},"-",{"$f":"IF(I82=\"-\",0,I82)","v":0},"-",{"$f":"IF(K82=\"-\",0,K82)","v":0},{"$f":"Table1015[[#This Row],[School]]","v":"St Martins Catholic Academy"},{"$f":"D82+F82+H82+J82+L82","v":55},{"$f":"MAX(C82,E82,G82,I82,K82)","v":55},{"$f":"IF(Q82=1,N82,IF(Q82=0,(N82-O82),\"-\"))","v":"-"},{"$f":"$L$1-Table1015[Competed Count]","v":3},{"$f":"IF(Q82<2,\"Yes\",\"No\")","v":"No"},{"$f":"AND($C$1=\"Y\",D82>0)","v":true},{"$f":"AND($E$1=\"Y\",F82>0)","v":false},{"$f":"AND($G$1=\"Y\",H82>0)","v":false},{"$f":"AND($I$1=\"Y\",J82>0)","v":false},{"$f":"AND($K$1=\"Y\",L82>0)","v":false},{"$f":"COUNTIF(Table1015[[#This Row],[Competed 1]:[Competed 5]],\"=TRUE\")","v":1}]
["Honey Muak-Walton","The Martin High School",58,{"$f":"IF(C83=\"-\",0,C83)","v":58},"-",{"$f":"IF(E83=\"-\",0,E83)","v":0},"-",{"$f":"IF(G83=\"-\",0,G83)","v":0},"-",{"$f":"IF(I83=\"-\",0,I83)","v":0},"-",{"$f":"IF(K83=\"-\",0,K83)","v":0},{"$f":"Table1015[[#This Row],[School]]","v":"The Martin High School"},{"$f":"D83+F83+H83+J83+L83","v":58},{"$f":"MAX(C83,E83,G83,I83,K83)","v":58},{"$f":"IF(Q83=1,N83,IF(Q83=0,(N83-O83),\"-\"))","v":"-"},{"$f":"$L$1-Table1015[Competed Count]","v":3},{"$f":"IF(Q83<2,\"Yes\",\"No\")","v":"No"},{"$f":"AND($C$1=\"Y\",D83>0)","v":true},{"$f":"AND($E$1=\"Y\",F83>0)","v":false},{"$f":"AND($G$1=\"Y\",H83>0)","v":false},{"$f":"AND($I$1=\"Y\",J83>0)","v":false},{"$f":"AND($K$1=\"Y\",L83>0)","v":false},{"$f":"COUNTIF(Table1015[[#This Row],[Competed 1]:[Competed 5]],\"=TRUE\")","v":1}]
["Maddie Furr","Manor High School",59,{"$f":"IF(C84=\"-\",0,C84)","v":59},"-",{"$f":"IF(E84=\"-\",0,E84)","v":0},"-",{"$f":"IF(G84=\"-\",0,G84)","v":0},"-",{"$f":"IF(I84=\"-\",0,I84)","v":0},"-",{"$f":"IF(K84=\"-\",0,K84)","v":0},{"$f":"Table1015[[#This Row],[School]]","v":"Manor High School"},{"$f":"D84+F84+H84+J84+L84","v":59},{"$f":"MAX(C84,E84,G84,I84,K84)","v":59},{"$f":"IF(Q84=1,N84,IF(Q84=0,(N84-O84),\"-\"))","v":"-"},{"$f":"$L$1-Table1015[Competed Count]","v":3},{"$f":"IF(Q84<2,\"Yes\",\"No\")","v":"No"},{"$f":"AND($C$1=\"Y\",D84>0)","v":true},{"$f":"AND($E$1=\"Y\",F84>0)","v":false},{"$f":"AND($G$1=\"Y\",H84>0)","v":false},{"$f":"AND($I$1=\"Y\",J84>0)","v":false},{"$f":"AND($K$1=\"Y\",L84>0)","v":false},{"$f":"COUNTIF(Table1015[[#This Row],[Competed 1]:[Competed 5]],\"=TRUE\")","v":1}]
["Cerys Andrew","St Pauls Catholic School",61,{"$f":"IF(C85=\"-\",0,C85)","v":61},"-",{"$f":"IF(E85=\"-\",0,E85)","v":0},"-",{"$f":"IF(G85=\"-\",0,G85)","v":0},"-",{"$f":"IF(I85=\"-\",0,I85)","v":0},"-",{"$f":"IF(K85=\"-\",0,K85)","v":0},{"$f":"Table1015[[#This Row],[School]]","v":"St Pauls Catholic School"},{"$f":"D85+F85+H85+J85+L85","v":61},{"$f":"MAX(C85,E85,G85,I85,K85)","v":61},{"$f":"IF(Q85=1,N85,IF(Q85=0,(N85-O85),\"-\"))","v":"-"},{"$f":"$L$1-Table1015[Competed Count]","v":3},{"$f":"IF(Q85<2,\"Yes\",\"No\")","v":"No"},{"$f":"AND($C$1=\"Y\",D85>0)","v":true},{"$f":"AND($E$1=\"Y\",F85>0)","v":false},{"$f":"AND($G$1=\"Y\",H85>0)","v":false},{"$f":"AND($I$1=\"Y\",J85>0)","v":false},{"$f":"AND($K$1=\"Y\",L85>0)","v":false},{"$f":"COUNTIF(Table1015[[#This Row],[Competed 1]:[Competed 5]],\"=TRUE\")","v":1}]
["Audrey Soubeman-Box","Uppingham CC",71,{"$f":"IF(C86=\"-\",0,C86)","v":71},"-",{"$f":"IF(E86=\"-\",0,E86)","v":0},"-",{"$f":"IF(G86=\"-\",0,G86)","v":0},"-",{"$f":"IF(I86=\"-\",0,I86)","v":0},"-",{"$f":"IF(K86=\"-\",0,K86)","v":0},{"$f":"Table1015[[#This Row],[School]]","v":"Uppingham CC"},{"$f":"D86+F86+H86+J86+L86","v":71},{"$f":"MAX(C86,E86,G86,I86,K86)","v":71},{"$f":"IF(Q86=1,N86,IF(Q86=0,(N86-O86),\"-\"))","v":"-"},{"$f":"$L$1-Table1015[Competed Count]","v":3},{"$f":"IF(Q86<2,\"Yes\",\"No\")","v":"No"},{"$f":"AND($C$1=\"Y\",D86>0)","v":true},{"$f":"AND($E$1=\"Y\",F86>0)","v":false},{"$f":"AND($G$1=\"Y\",H86>0)","v":false},{"$f":"AND($I$1=\"Y\",J86>0)","v":false},{"$f":"AND($K$1=\"Y\",L86>0)","v":false},{"$f":"COUNTIF(Table1015[[#This Row],[Competed 1]:[Competed 5]],\"=TRUE\")","v":1}]
["Shreya Patel","Crown Hills CC",73,{"$f":"IF(C87=\"-\",0,C87)","v":73},"-",{"$f":"IF(E87=\"-\",0,E87)","v":0},"-",{"$f":"IF(G87=\"-\",0,G87)","v":0},"-",{"$f":"IF(I87=\"-\",0,I87)","v":0},"-",{"$f":"IF(K87=\"-\",0,K87)","v":0},{"$f":"Table1015[[#This Row],[School]]","v":"Crown Hills CC"},{"$f":"D87+F87+H87+J87+L87","v":73},{"$f":"MAX(C87,E87,G87,I87,K87)","v":73},{"$f":"IF(Q87=1,N87,IF(Q87=0,(N87-O87),\"-\"))","v":"-"},{"$f":"$L$1-Table1015[Competed Count]","v":3},{"$f":"IF(Q87<2,\"Yes\",\"No\")","v":"No"},{"$f":"AND($C$1=\"Y\",D87>0)","v":true},{"$f":"AND($E$1=\"Y\",F87>0)","v":false},{"$f":"AND($G$1=\"Y\",H87>0)","v":false},{"$f":"AND($I$1=\"Y\",J87>0)","v":false},{"$f":"AND($K$1=\"Y\",L87>0)","v":false},{"$f":"COUNTIF(Table1015[[#This Row],[Competed 1]:[Competed 5]],\"=TRUE\")","v":1}]
["Kaushika Vimu","Crown Hills CC",74,{"$f":"IF(C88=\"-\",0,C88)","v":74},"-",{"$f":"IF(E88=\"-\",0,E88)","v":0},"-",{"$f":"IF(G88=\"-\",0,G88)","v":0},"-",{"$f":"IF(I88=\"-\",0,I88)","v":0},"-",{"$f":"IF(K88=\"-\",0,K88)","v":0},{"$f":"Table1015[[#This Row],[School]]","v":"Crown Hills CC"},{"$f":"D88+F88+H88+J88+L88","v":74},{"$f":"MAX(C88,E88,G88,I88,K88)","v":74},{"$f":"IF(Q88=1,N88,IF(Q88=0,(N88-O88),\"-\"))","v":"-"},{"$f":"$L$1-Table1015[Competed Count]","v":3},{"$f":"IF(Q88<2,\"Yes\",\"No\")","v":"No"},{"$f":"AND($C$1=\"Y\",D88>0)","v":true},{"$f":"AND($E$1=\"Y\",F88>0)","v":false},{"$f":"AND($G$1=\"Y\",H88>0)","v":false},{"$f":"AND($I$1=\"Y\",J88>0)","v":false},{"$f":"AND($K$1=\"Y\",L88>0)","v":false},{"$f":"COUNTIF(Table1015[[#This Row],[Competed 1]:[Competed 5]],\"=TRUE\")","v":1}]
["Mishrta Nanj","Crown Hills CC",75,{"$f":"IF(C89=\"-\",0,C89)","v":75},"-",{"$f":"IF(E89=\"-\",0,E89)","v":0},"-",{"$f":"IF(G89=\"-\",0,G89)","v":0},"-",{"$f":"IF(I89=\"-\",0,I89)","v":0},"-",{"$f":"IF(K89=\"-\",0,K89)","v":0},{"$f":"Table1015[[#This Row],[School]]","v":"Crown Hills CC"},{"$f":"D89+F89+H89+J89+L89","v":75},{"$f":"MAX(C89,E89,G89,I89,K89)","v":75},{"$f":"IF(Q89=1,N89,IF(Q89=0,(N89-O89),\"-\"))","v":"-"},{"$f":"$L$1-Table1015[Competed Count]","v":3},{"$f":"IF(Q89<2,\"Yes\",\"No\")","v":"No"},{"$f":"AND($C$1=\"Y\",D89>0)","v":true},{"$f":"AND($E$1=\"Y\",F89>0)","v":false},{"$f":"AND($G$1=\"Y\",H89>0)","v":false},{"$f":"AND($I$1=\"Y\",J89>0)","v":false},{"$f":"AND($K$1=\"Y\",L89>0)","v":false},{"$f":"COUNTIF(Table1015[[#This Row],[Competed 1]:[Competed 5]],\"=TRUE\")","v":1}]
["Jashvanti Shantilal","Crown Hills CC",76,{"$f":"IF(C90=\"-\",0,C90)","v":76},"-",{"$f":"IF(E90=\"-\",0,E90)","v":0},"-",{"$f":"IF(G90=\"-\",0,G90)","v":0},"-",{"$f":"IF(I90=\"-\",0,I90)","v":0},"-",{"$f":"IF(K90=\"-\",0,K90)","v":0},{"$f":"Table1015[[#This Row],[School]]","v":"Crown Hills CC"},{"$f":"D90+F90+H90+J90+L90","v":76},{"$f":"MAX(C90,E90,G90,I90,K90)","v":76},{"$f":"IF(Q90=1,N90,IF(Q90=0,(N90-O90),\"-\"))","v":"-"},{"$f":"$L$1-Table1015[Competed Count]","v":3},{"$f":"IF(Q90<2,\"Yes\",\"No\")","v":"No"},{"$f":"AND($C$1=\"Y\",D90>0)","v":true},{"$f":"AND($E$1=\"Y\",F90>0)","v":false},{"$f":"AND($G$1=\"Y\",H90>0)","v":false},{"$f":"AND($I$1=\"Y\",J90>0)","v":false},{"$f":"AND($K$1=\"Y\",L90>0)","v":false},{"$f":"COUNTIF(Table1015[[#This Row],[Competed 1]:[Competed 5]],\"=TRUE\")","v":1}]
["Kinjal Vinudkumar","Crown Hills CC",77,{"$f":"IF(C91=\"-\",0,C91)","v":77},"-",{"$f":"IF(E91=\"-\",0,E91)","v":0},"-",{"$f":"IF(G91=\"-\",0,G91)","v":0},"-",{"$f":"IF(I91=\"-\",0,I91)","v":0},"-",{"$f":"IF(K91=\"-\",0,K91)","v":0},{"$f":"Table1015[[#This Row],[School]]","v":"Crown Hills CC"},{"$f":"D91+F91+H91+J91+L91","v":77},{"$f":"MAX(C91,E91,G91,I91,K91)","v":77},{"$f":"IF(Q91=1,N91,IF(Q91=0,(N91-O91),\"-\"))","v":"-"},{"$f":"$L$1-Table1015[Competed Count]","v":3},{"$f":"IF(Q91<2,\"Yes\",\"No\")","v":"No"},{"$f":"AND($C$1=\"Y\",D91>0)","v":true},{"$f":"AND($E$1=\"Y\",F91>0)","v":false},{"$f":"AND($G$1=\"Y\",H91>0)","v":false},{"$f":"AND($I$1=\"Y\",J91>0)","v":false},{"$f":"AND($K$1=\"Y\",L91>0)","v":false},{"$f":"COUNTIF(Table1015[[#This Row],[Competed 1]:[Competed 5]],\"=TRUE\")","v":1}]
["Vaisbali Parshotam","Crown Hills CC",78,{"$f":"IF(C92=\"-\",0,C92)","v":78},"-",{"$f":"IF(E92=\"-\",0,E92)","v":0},"-",{"$f":"IF(G92=\"-\",0,G92)","v":0},"-",{"$f":"IF(I92=\"-\",0,I92)","v":0},"-",{"$f":"IF(K92=\"-\",0,K92)","v":0},{"$f":"Table1015[[#This Row],[School]]","v":"Crown Hills CC"},{"$f":"D92+F92+H92+J92+L92","v":78},{"$f":"MAX(C92,E92,G92,I92,K92)","v":78},{"$f":"IF(Q92=1,N92,IF(Q92=0,(N92-O92),\"-\"))","v":"-"},{"$f":"$L$1-Table1015[Competed Count]","v":3},{"$f":"IF(Q92<2,\"Yes\",\"No\")","v":"No"},{"$f":"AND($C$1=\"Y\",D92>0)","v":true},{"$f":"AND($E$1=\"Y\",F92>0)","v":false},{"$f":"AND($G$1=\"Y\",H92>0)","v":false},{"$f":"AND($I$1=\"Y\",J92>0)","v":false},{"$f":"AND($K$1=\"Y\",L92>0)","v":false},{"$f":"COUNTIF(Table1015[[#This Row],[Competed 1]:[Competed 5]],\"=TRUE\")","v":1}]
["Alice Vikas","Crown Hills CC",79,{"$f":"IF(C93=\"-\",0,C93)","v":79},"-",{"$f":"IF(E93=\"-\",0,E93)","v":0},"-",{"$f":"IF(G93=\"-\",0,G93)","v":0},"-",{"$f":"IF(I93=\"-\",0,I93)","v":0},"-",{"$f":"IF(K93=\"-\",0,K93)","v":0},{"$f":"Table1015[[#This Row],[School]]","v":"Crown Hills CC"},{"$f":"D93+F93+H93+J93+L93","v":79},{"$f":"MAX(C93,E93,G93,I93,K93)","v":79},{"$f":"IF(Q93=1,N93,IF(Q93=0,(N93-O93),\"-\"))","v":"-"},{"$f":"$L$1-Table1015[Competed Count]","v":3},{"$f":"IF(Q93<2,\"Yes\",\"No\")","v":"No"},{"$f":"AND($C$1=\"Y\",D93>0)","v":true},{"$f":"AND($E$1=\"Y\",F93>0)","v":false},{"$f":"AND($G$1=\"Y\",H93>0)","v":false},{"$f":"AND($I$1=\"Y\",J93>0)","v":false},{"$f":"AND($K$1=\"Y\",L93>0)","v":false},{"$f":"COUNTIF(Table1015[[#This Row],[Competed 1]:[Competed 5]],\"=TRUE\")","v":1}]
[null,"-","-",{"$f":"IF(C94=\"-\",0,C94)","v":0},"-",{"$f":"IF(E94=\"-\",0,E94)","v":0},"-",{"$f":"IF(G94=\"-\",0,G94)","v":0},"-",{"$f":"IF(I94=\"-\",0,I94)","v":0},"-",{"$f":"IF(K94=\"-\",0,K94)","v":0},{"$f":"Table1015[[#This Row],[School]]","v":"-"},{"$f":"D94+F94+H94+J94+L94","v":0},{"$f":"MAX(C94,E94,G94,I94,K94)","v":0},{"$f":"IF(Q94=1,N94,IF(Q94=0,(N94-O94),\"-\"))","v":"-"},{"$f":"$L$1-Table1015[Competed Count]","v":4},{"$f":"IF(Q94<2,\"Yes\",\"No\")","v":"No"},{"$f":"AND($C$1=\"Y\",D94>0)","v":false},{"$f":"AND($E$1=\"Y\",F94>0)","v":false},{"$f":"AND($G$1=\"Y\",H94>0)","v":false},{"$f":"AND($I$1=\"Y\",J94>0)","v":false},{"$f":"AND($K$1=\"Y\",L94>0)","v":false},{"$f":"COUNTIF(Table1015[[#This Row],[Competed 1]:[Competed 5]],\"=TRUE\")","v":0}]
[null,"-","-",{"$f":"IF(C95=\"-\",0,C95)","v":0},"-",{"$f":"IF(E95=\"-\",0,E95)","v":0},"-",{"$f":"IF(G95=\"-\",0,G95)","v":0},"-",{"$f":"IF(I95=\"-\",0,I95)","v":0},"-",{"$f":"IF(K95=\"-\",0,K95)","v":0},{"$f":"Table1015[[#This Row],[School]]","v":"-"},{"$f":"D95+F95+H95+J95+L95","v":0},{"$f":"MAX(C95,E95,G95,I95,K95)","v":0},{"$f":"IF(Q95=1,N95,IF(Q95=0,(N95-O95),\"-\"))","v":"-"},{"$f":"$L$1-Table1015[Competed Count]","v":4},{"$f":"IF(Q95<2,\"Yes\",\"No\")","v":"No"},{"$f":"AND($C$1=\"Y\",D95>0)","v":false},{"$f":"AND($E$1=\"Y\",F95>0)","v":false},{"$f":"AND($G$1=\"Y\",H95>0)","v":false},{"$f":"AND($I$1=\"Y\",J95>0)","v":false},{"$f":"AND($K$1=\"Y\",L95>0)","v":false},{"$f":"COUNTIF(Table1015[[#This Row],[Competed 1]:[Competed 5]],\"=TRUE\")","v":0}]
[null,"-","-",{"$f":"IF(C96=\"-\",0,C96)","v":0},"-",{"$f":"IF(E96=\"-\",0,E96)","v":0},"-",{"$f":"IF(G96=\"-\",0,G96)","v":0},"-",{"$f":"IF(I96=\"-\",0,I96)","v":0},"-",{"$f":"IF(K96=\"-\",0,K96)","v":0},{"$f":"Table1015[[#This Row],[School]]","v":"-"},{"$f":"D96+F96+H96+J96+L96","v":0},{"$f":"MAX(C96,E96,G96,I96,K96)","v":0},{"$f":"IF(Q96=1,N96,IF(Q96=0,(N96-O96),\"-\"))","v":"-"},{"$f":"$L$1-Table1015[Competed Count]","v":4},{"$f":"IF(Q96<2,\"Yes\",\"No\")","v":"No"},{"$f":"AND($C$1=\"Y\",D96>0)","v":false},{"$f":"AND($E$1=\"Y\",F96>0)","v":false},{"$f":"AND($G$1=\"Y\",H96>0)","v":false},{"$f":"AND($I$1=\"Y\",J96>0)","v":false},{"$f":"AND($K$1=\"Y\",L96>0)","v":false},{"$f":"COUNTIF(Table1015[[#This Row],[Competed 1]:[Competed 5]],\"=TRUE\")","v":0}]
[null,"-","-",{"$f":"IF(C97=\"-\",0,C97)","v":0},"-",{"$f":"IF(E97=\"-\",0,E97)","v":0},"-",{"$f":"IF(G97=\"-\",0,G97)","v":0},"-",{"$f":"IF(I97=\"-\",0,I97)","v":0},"-",{"$f":"IF(K97=\"-\",0,K97)","v":0},{"$f":"Table1015[[#This Row],[School]]","v":"-"},{"$f":"D97+F97+H97+J97+L97","v":0},{"$f":"MAX(C97,E97,G97,I97,K97)","v":0},{"$f":"IF(Q97=1,N97,IF(Q97=0,(N97-O97),\"-\"))","v":"-"},{"$f":"$L$1-Table1015[Competed Count]","v":4},{"$f":"IF(Q97<2,\"Yes\",\"No\")","v":"No"},{"$f":"AND($C$1=\"Y\",D97>0)","v":false},{"$f":"AND($E$1=\"Y\",F97>0)","v":false},{"$f":"AND($G$1=\"Y\",H97>0)","v":false},{"$f":"AND($I$1=\"Y\",J97>0)","v":false},{"$f":"AND($K$1=\"Y\",L97>0)","v":false},{"$f":"COUNTIF(Table1015[[#This Row],[Competed 1]:[Competed 5]],\"=TRUE\")","v":0}]
[null,"-","-",{"$f":"IF(C98=\"-\",0,C98)","v":0},"-",{"$f":"IF(E98=\"-\",0,E98)","v":0},"-",{"$f":"IF(G98=\"-\",0,G98)","v":0},"-",{"$f":"IF(I98=\"-\",0,I98)","v":0},"-",{"$f":"IF(K98=\"-\",0,K98)","v":0},{"$f":"Table1015[[#This Row],[School]]","v":"-"},{"$f":"D98+F98+H98+J98+L98","v":0},{"$f":"MAX(C98,E98,G98,I98,K98)","v":0},{"$f":"IF(Q98=1,N98,IF(Q98=0,(N98-O98),\"-\"))","v":"-"},{"$f":"$L$1-Table1015[Competed Count]","v":4},{"$f":"IF(Q98<2,\"Yes\",\"No\")","v":"No"},{"$f":"AND($C$1=\"Y\",D98>0)","v":false},{"$f":"AND($E$1=\"Y\",F98>0)","v":false},{"$f":"AND($G$1=\"Y\",H98>0)","v":false},{"$f":"AND($I$1=\"Y\",J98>0)","v":false},{"$f":"AND($K$1=\"Y\",L98>0)","v":false},{"$f":"COUNTIF(Table1015[[#This Row],[Competed 1]:[Competed 5]],\"=TRUE\")","v":0}]
[null,"-","-",{"$f":"IF(C99=\"-\",0,C99)","v":0},"-",{"$f":"IF(E99=\"-\",0,E99)","v":0},"-",{"$f":"IF(G99=\"-\",0,G99)","v":0},"-",{"$f":"IF(I99=\"-\",0,I99)","v":0},"-",{"$f":"IF(K99=\"-\",0,K99)","v":0},{"$f":"Table1015[[#This Row],[School]]","v":"-"},{"$f":"D99+F99+H99+J99+L99","v":0},{"$f":"MAX(C99,E99,G99,I99,K99)","v":0},{"$f":"IF(Q99=1,N99,IF(Q99=0,(N99-O99),\"-\"))","v":"-"},{"$f":"$L$1-Table1015[Competed Count]","v":4},{"$f":"IF(Q99<2,\"Yes\",\"No\")","v":"No"},{"$f":"AND($C$1=\"Y\",D99>0)","v":false},{"$f":"AND($E$1=\"Y\",F99>0)","v":false},{"$f":"AND($G$1=\"Y\",H99>0)","v":false},{"$f":"AND($I$1=\"Y\",J99>0)","v":false},{"$f":"AND($K$1=\"Y\",L99>0)","v":false},{"$f":"COUNTIF(Table1015[[#This Row],[Competed 1]:[Competed 5]],\"=TRUE\")","v":0}]
[null,"-","-",{"$f":"IF(C100=\"-\",0,C100)","v":0},"-",{"$f":"IF(E100=\"-\",0,E100)","v":0},"-",{"$f":"IF(G100=\"-\",0,G100)","v":0},"-",{"$f":"IF(I100=\"-\",0,I100)","v":0},"-",{"$f":"IF(K100=\"-\",0,K100)","v":0},{"$f":"Table1015[[#This Row],[School]]","v":"-"},{"$f":"D100+F100+H100+J100+L100","v":0},{"$f":"MAX(C100,E100,G100,I100,K100)","v":0},{"$f":"IF(Q100=1,N100,IF(Q100=0,(N100-O100),\"-\"))","v":"-"},{"$f":"$L$1-Table1015[Competed Count]","v":4},{"$f":"IF(Q100<2,\"Yes\",\"No\")","v":"No"},{"$f":"AND($C$1=\"Y\",D100>0)","v":false},{"$f":"AND($E$1=\"Y\",F100>0)","v":false},{"$f":"AND($G$1=\"Y\",H100>0)","v":false},{"$f":"AND($I$1=\"Y\",J100>0)","v":false},{"$f":"AND($K$1=\"Y\",L100>0)","v":false},{"$f":"COUNTIF(Table1015[[#This Row],[Competed 1]:[Competed 5]],\"=TRUE\")","v":0}]
[null,"-","-",{"$f":"IF(C101=\"-\",0,C101)","v":0},"-",{"$f":"IF(E101=\"-\",0,E101)","v":0},"-",{"$f":"IF(G101=\"-\",0,G101)","v":0},"-",{"$f":"IF(I101=\"-\",0,I101)","v":0},"-",{"$f":"IF(K101=\"-\",0,K101)","v":0},{"$f":"Table1015[[#This Row],[School]]","v":"-"},{"$f":"D101+F101+H101+J101+L101","v":0},{"$f":"MAX(C101,E101,G101,I101,K101)","v":0},{"$f":"IF(Q101=1,N101,IF(Q101=0,(N101-O101),\"-\"))","v":"-"},{"$f":"$L$1-Table1015[Competed Count]","v":4},{"$f":"IF(Q101<2,\"Yes\",\"No\")","v":"No"},{"$f":"AND($C$1=\"Y\",D101>0)","v":false},{"$f":"AND($E$1=\"Y\",F101>0)","v":false},{"$f":"AND($G$1=\"Y\",H101>0)","v":false},{"$f":"AND($I$1=\"Y\",J101>0)","v":false},{"$f":"AND($K$1=\"Y\",L101>0)","v":false},{"$f":"COUNTIF(Table1015[[#This Row],[Competed 1]:[Competed 5]],\"=TRUE\")","v":0}]
[null,"-","-",{"$f":"IF(C102=\"-\",0,C102)","v":0},"-",{"$f":"IF(E102=\"-\",0,E102)","v":0},"-",{"$f":"IF(G102=\"-\",0,G102)","v":0},"-",{"$f":"IF(I102=\"-\",0,I102)","v":0},"-",{"$f":"IF(K102=\"-\",0,K102)","v":0},{"$f":"Table1015[[#This Row],[School]]","v":"-"},{"$f":"D102+F102+H102+J102+L102","v":0},{"$f":"MAX(C102,E102,G102,I102,K102)","v":0},{"$f":"IF(Q102=1,N102,IF(Q102=0,(N102-O102),\"-\"))","v":"-"},{"$f":"$L$1-Table1015[Competed Count]","v":4},{"$f":"IF(Q102<2,\"Yes\",\"No\")","v":"No"},{"$f":"AND($C$1=\"Y\",D102>0)","v":false},{"$f":"AND($E$1=\"Y\",F102>0)","v":false},{"$f":"AND($G$1=\"Y\",H102>0)","v":false},{"$f":"AND($I$1=\"Y\",J102>0)","v":false},{"$f":"AND($K$1=\"Y\",L102>0)","v":false},{"$f":"COUNTIF(Table1015[[#This Row],[Competed 1]:[Competed 5]],\"=TRUE\")","v":0}]
[null,"-","-",{"$f":"IF(C103=\"-\",0,C103)","v":0},"-",{"$f":"IF(E103=\"-\",0,E103)","v":0},"-",{"$f":"IF(G103=\"-\",0,G103)","v":0},"-",{"$f":"IF(I103=\"-\",0,I103)","v":0},"-",{"$f":"IF(K103=\"-\",0,K103)","v":0},{"$f":"Table1015[[#This Row],[School]]","v":"-"},{"$f":"D103+F103+H103+J103+L103","v":0},{"$f":"MAX(C103,E103,G103,I103,K103)","v":0},{"$f":"IF(Q103=1,N103,IF(Q103=0,(N103-O103),\"-\"))","v":"-"},{"$f":"$L$1-Table1015[Competed Count]","v":4},{"$f":"IF(Q103<2,\"Yes\",\"No\")","v":"No"},{"$f":"AND($C$1=\"Y\",D103>0)","v":false},{"$f":"AND($E$1=\"Y\",F103>0)","v":false},{"$f":"AND($G$1=\"Y\",H103>0)","v":false},{"$f":"AND($I$1=\"Y\",J103>0)","v":false},{"$f":"AND($K$1=\"Y\",L103>0)","v":false},{"$f":"COUNTIF(Table1015[[#This Row],[Competed 1]:[Competed 5]],\"=TRUE\")","v":0}]
[null,"-","-",{"$f":"IF(C104=\"-\",0,C104)","v":0},"-",{"$f":"IF(E104=\"-\",0,E104)","v":0},"-",{"$f":"IF(G104=\"-\",0,G104)","v":0},"-",{"$f":"IF(I104=\"-\",0,I104)","v":0},"-",{"$f":"IF(K104=\"-\",0,K104)","v":0},{"$f":"Table1015[[#This Row],[School]]","v":"-"},{"$f":"D104+F104+H104+J104+L104","v":0},{"$f":"MAX(C104,E104,G104,I104,K104)","v":0},{"$f":"IF(Q104=1,N104,IF(Q104=0,(N104-O104),\"-\"))","v":"-"},{"$f":"$L$1-Table1015[Competed Count]","v":4},{"$f":"IF(Q104<2,\"Yes\",\"No\")","v":"No"},{"$f":"AND($C$1=\"Y\",D104>0)","v":false},{"$f":"AND($E$1=\"Y\",F104>0)","v":false},{"$f":"AND($G$1=\"Y\",H104>0)","v":false},{"$f":"AND($I$1=\"Y\",J104>0)","v":false},{"$f":"AND($K$1=\"Y\",L104>0)","v":false},{"$f":"COUNTIF(Table1015[[#This Row],[Competed 1]:[Competed 5]],\"=TRUE\")","v":0}]
[null,"-","-",{"$f":"IF(C105=\"-\",0,C105)","v":0},"-",{"$f":"IF(E105=\"-\",0,E105)","v":0},"-",{"$f":"IF(G105=\"-\",0,G105)","v":0},"-",{"$f":"IF(I105=\"-\",0,I105)","v":0},"-",{"$f":"IF(K105=\"-\",0,K105)","v":0},{"$f":"Table1015[[#This Row],[School]]","v":"-"},{"$f":"D105+F105+H105+J105+L105","v":0},{"$f":"MAX(C105,E105,G105,I105,K105)","v":0},{"$f":"IF(Q105=1,N105,IF(Q105=0,(N105-O105),\"-\"))","v":"-"},{"$f":"$L$1-Table1015[Competed Count]","v":4},{"$f":"IF(Q105<2,\"Yes\",\"No\")","v":"No"},{"$f":"AND($C$1=\"Y\",D105>0)","v":false},{"$f":"AND($E$1=\"Y\",F105>0)","v":false},{"$f":"AND($G$1=\"Y\",H105>0)","v":false},{"$f":"AND($I$1=\"Y\",J105>0)","v":false},{"$f":"AND($K$1=\"Y\",L105>0)","v":false},{"$f":"COUNTIF(Table1015[[#This Row],[Competed 1]:[Competed 5]],\"=TRUE\")","v":0}]
[null,"-","-",{"$f":"IF(C106=\"-\",0,C106)","v":0},"-",{"$f":"IF(E106=\"-\",0,E106)","v":0},"-",{"$f":"IF(G106=\"-\",0,G106)","v":0},"-",{"$f":"IF(I106=\"-\",0,I106)","v":0},"-",{"$f":"IF(K106=\"-\",0,K106)","v":0},{"$f":"Table1015[[#This Row],[School]]","v":"-"},{"$f":"D106+F106+H106+J106+L106","v":0},{"$f":"MAX(C106,E106,G106,I106,K106)","v":0},{"$f":"IF(Q106=1,N106,IF(Q106=0,(N106-O106),\"-\"))","v":"-"},{"$f":"$L$1-Table1015[Competed Count]","v":4},{"$f":"IF(Q106<2,\"Yes\",\"No\")","v":"No"},{"$f":"AND($C$1=\"Y\",D106>0)","v":false},{"$f":"AND($E$1=\"Y\",F106>0)","v":false},{"$f":"AND($G$1=\"Y\",H106>0)","v":false},{"$f":"AND($I$1=\"Y\",J106>0)","v":false},{"$f":"AND($K$1=\"Y\",L106>0)","v":false},{"$f":"COUNTIF(Table1015[[#This Row],[Competed 1]:[Competed 5]],\"=TRUE\")","v":0}]
[null,"-","-",{"$f":"IF(C107=\"-\",0,C107)","v":0},"-",{"$f":"IF(E107=\"-\",0,E107)","v":0},"-",{"$f":"IF(G107=\"-\",0,G107)","v":0},"-",{"$f":"IF(I107=\"-\",0,I107)","v":0},"-",{"$f":"IF(K107=\"-\",0,K107)","v":0},{"$f":"Table1015[[#This Row],[School]]","v":"-"},{"$f":"D107+F107+H107+J107+L107","v":0},{"$f":"MAX(C107,E107,G107,I107,K107)","v":0},{"$f":"IF(Q107=1,N107,IF(Q107=0,(N107-O107),\"-\"))","v":"-"},{"$f":"$L$1-Table1015[Competed Count]","v":4},{"$f":"IF(Q107<2,\"Yes\",\"No\")","v":"No"},{"$f":"AND($C$1=\"Y\",D107>0)","v":false},{"$f":"AND($E$1=\"Y\",F107>0)","v":false},{"$f":"AND($G$1=\"Y\",H107>0)","v":false},{"$f":"AND($I$1=\"Y\",J107>0)","v":false},{"$f":"AND($K$1=\"Y\",L107>0)","v":false},{"$f":"COUNTIF(Table1015[[#This Row],[Competed 1]:[Competed 5]],\"=TRUE\")","v":0}]
[null,"-","-",{"$f":"IF(C108=\"-\",0,C108)","v":0},"-",{"$f":"IF(E108=\"-\",0,E108)","v":0},"-",{"$f":"IF(G108=\"-\",0,G108)","v":0},"-",{"$f":"IF(I108=\"-\",0,I108)","v":0},"-",{"$f":"IF(K108=\"-\",0,K108)","v":0},{"$f":"Table1015[[#This Row],[School]]","v":"-"},{"$f":"D108+F108+H108+J108+L108","v":0},{"$f":"MAX(C108,E108,G108,I108,K108)","v":0},{"$f":"IF(Q108=1,N108,IF(Q108=0,(N108-O108),\"-\"))","v":"-"},{"$f":"$L$1-Table1015[Competed Count]","v":4},{"$f":"IF(Q108<2,\"Yes\",\"No\")","v":"No"},{"$f":"AND($C$1=\"Y\",D108>0)","v":false},{"$f":"AND($E$1=\"Y\",F108>0)","v":false},{"$f":"AND($G$1=\"Y\",H108>0)","v":false},{"$f":"AND($I$1=\"Y\",J108>0)","v":false},{"$f":"AND($K$1=\"Y\",L108>0)","v":false},{"$f":"COUNTIF(Table1015[[#This Row],[Competed 1]:[Competed 5]],\"=TRUE\")","v":0}]
[null,"-","-",{"$f":"IF(C109=\"-\",0,C109)","v":0},"-",{"$f":"IF(E109=\"-\",0,E109)","v":0},"-",{"$f":"IF(G109=\"-\",0,G109)","v":0},"-",{"$f":"IF(I109=\"-\",0,I109)","v":0},"-",{"$f":"IF(K109=\"-\",0,K109)","v":0},{"$f":"Table1015[[#This Row],[School]]","v":"-"},{"$f":"D109+F109+H109+J109+L109","v":0},{"$f":"MAX(C109,E109,G109,I109,K109)","v":0},{"$f":"IF(Q109=1,N109,IF(Q109=0,(N109-O109),\"-\"))","v":"-"},{"$f":"$L$1-Table1015[Competed Count]","v":4},{"$f":"IF(Q109<2,\"Yes\",\"No\")","v":"No"},{"$f":"AND($C$1=\"Y\",D109>0)","v":false},{"$f":"AND($E$1=\"Y\",F109>0)","v":false},{"$f":"AND($G$1=\"Y\",H109>0)","v":false},{"$f":"AND($I$1=\"Y\",J109>0)","v":false},{"$f":"AND($K$1=\"Y\",L109>0)","v":false},{"$f":"COUNTIF(Table1015[[#This Row],[Competed 1]:[Competed 5]],\"=TRUE\")","v":0}]
[null,"-","-",{"$f":"IF(C110=\"-\",0,C110)","v":0},"-",{"$f":"IF(E110=\"-\",0,E110)","v":0},"-",{"$f":"IF(G110=\"-\",0,G110)","v":0},"-",{"$f":"IF(I110=\"-\",0,I110)","v":0},"-",{"$f":"IF(K110=\"-\",0,K110)","v":0},{"$f":"Table1015[[#This Row],[School]]","v":"-"},{"$f":"D110+F110+H110+J110+L110","v":0},{"$f":"MAX(C110,E110,G110,I110,K110)","v":0},{"$f":"IF(Q110=1,N110,IF(Q110=0,(N110-O110),\"-\"))","v":"-"},{"$f":"$L$1-Table1015[Competed Count]","v":4},{"$f":"IF(Q110<2,\"Yes\",\"No\")","v":"No"},{"$f":"AND($C$1=\"Y\",D110>0)","v":false},{"$f":"AND($E$1=\"Y\",F110>0)","v":false},{"$f":"AND($G$1=\"Y\",H110>0)","v":false},{"$f":"AND($I$1=\"Y\",J110>0)","v":false},{"$f":"AND($K$1=\"Y\",L110>0)","v":false},{"$f":"COUNTIF(Table1015[[#This Row],[Competed 1]:[Competed 5]],\"=TRUE\")","v":0}]
[null,"-","-",{"$f":"IF(C111=\"-\",0,C111)","v":0},"-",{"$f":"IF(E111=\"-\",0,E111)","v":0},"-",{"$f":"IF(G111=\"-\",0,G111)","v":0},"-",{"$f":"IF(I111=\"-\",0,I111)","v":0},"-",{"$f":"IF(K111=\"-\",0,K111)","v":0},{"$f":"Table1015[[#This Row],[School]]","v":"-"},{"$f":"D111+F111+H111+J111+L111","v":0},{"$f":"MAX(C111,E111,G111,I111,K111)","v":0},{"$f":"IF(Q111=1,N111,IF(Q111=0,(N111-O111),\"-\"))","v":"-"},{"$f":"$L$1-Table1015[Competed Count]","v":4},{"$f":"IF(Q111<2,\"Yes\",\"No\")","v":"No"},{"$f":"AND($C$1=\"Y\",D111>0)","v":false},{"$f":"AND($E$1=\"Y\",F111>0)","v":false},{"$f":"AND($G$1=\"Y\",H111>0)","v":false},{"$f":"AND($I$1=\"Y\",J111>0)","v":false},{"$f":"AND($K$1=\"Y\",L111>0)","v":false},{"$f":"COUNTIF(Table1015[[#This Row],[Competed 1]:[Competed 5]],\"=TRUE\")","v":0}]
[null,"-","-",{"$f":"IF(C112=\"-\",0,C112)","v":0},"-",{"$f":"IF(E112=\"-\",0,E112)","v":0},"-",{"$f":"IF(G112=\"-\",0,G112)","v":0},"-",{"$f":"IF(I112=\"-\",0,I112)","v":0},"-",{"$f":"IF(K112=\"-\",0,K112)","v":0},{"$f":"Table1015[[#This Row],[School]]","v":"-"},{"$f":"D112+F112+H112+J112+L112","v":0},{"$f":"MAX(C112,E112,G112,I112,K112)","v":0},{"$f":"IF(Q112=1,N112,IF(Q112=0,(N112-O112),\"-\"))","v":"-"},{"$f":"$L$1-Table1015[Competed Count]","v":4},{"$f":"IF(Q112<2,\"Yes\",\"No\")","v":"No"},{"$f":"AND($C$1=\"Y\",D112>0)","v":false},{"$f":"AND($E$1=\"Y\",F112>0)","v":false},{"$f":"AND($G$1=\"Y\",H112>0)","v":false},{"$f":"AND($I$1=\"Y\",J112>0)","v":false},{"$f":"AND($K$1=\"Y\",L112>0)","v":false},{"$f":"COUNTIF(Table1015[[#This Row],[Competed 1]:[Competed 5]],\"=TRUE\")","v":0}]
[null,"-","-",{"$f":"IF(C113=\"-\",0,C113)","v":0},"-",{"$f":"IF(E113=\"-\",0,E113)","v":0},"-",{"$f":"IF(G113=\"-\",0,G113)","v":0},"-",{"$f":"IF(I113=\"-\",0,I113)","v":0},"-",{"$f":"IF(K113=\"-\",0,K113)","v":0},{"$f":"Table1015[[#This Row],[School]]","v":"-"},{"$f":"D113+F113+H113+J113+L113","v":0},{"$f":"MAX(C113,E113,G113,I113,K113)","v":0},{"$f":"IF(Q113=1,N113,IF(Q113=0,(N113-O113),\"-\"))","v":"-"},{"$f":"$L$1-Table1015[Competed Count]","v":4},{"$f":"IF(Q113<2,\"Yes\",\"No\")","v":"No"},{"$f":"AND($C$1=\"Y\",D113>0)","v":false},{"$f":"AND($E$1=\"Y\",F113>0)","v":false},{"$f":"AND($G$1=\"Y\",H113>0)","v":false},{"$f":"AND($I$1=\"Y\",J113>0)","v":false},{"$f":"AND($K$1=\"Y\",L113>0)","v":false},{"$f":"COUNTIF(Table1015[[#This Row],[Competed 1]:[Competed 5]],\"=TRUE\")","v":0}]
[null,"-","-",{"$f":"IF(C114=\"-\",0,C114)","v":0},"-",{"$f":"IF(E114=\"-\",0,E114)","v":0},"-",{"$f":"IF(G114=\"-\",0,G114)","v":0},"-",{"$f":"IF(I114=\"-\",0,I114)","v":0},"-",{"$f":"IF(K114=\"-\",0,K114)","v":0},{"$f":"Table1015[[#This Row],[School]]","v":"-"},{"$f":"D114+F114+H114+J114+L114","v":0},{"$f":"MAX(C114,E114,G114,I114,K114)","v":0},{"$f":"IF(Q114=1,N114,IF(Q114=0,(N114-O114),\"-\"))","v":"-"},{"$f":"$L$1-Table1015[Competed Count]","v":4},{"$f":"IF(Q114<2,\"Yes\",\"No\")","v":"No"},{"$f":"AND($C$1=\"Y\",D114>0)","v":false},{"$f":"AND($E$1=\"Y\",F114>0)","v":false},{"$f":"AND($G$1=\"Y\",H114>0)","v":false},{"$f":"AND($I$1=\"Y\",J114>0)","v":false},{"$f":"AND($K$1=\"Y\",L114>0)","v":false},{"$f":"COUNTIF(Table1015[[#This Row],[Competed 1]:[Competed 5]],\"=TRUE\")","v":0}]
[null,"-","-",{"$f":"IF(C115=\"-\",0,C115)","v":0},"-",{"$f":"IF(E115=\"-\",0,E115)","v":0},"-",{"$f":"IF(G115=\"-\",0,G115)","v":0},"-",{"$f":"IF(I115=\"-\",0,I115)","v":0},"-",{"$f":"IF(K115=\"-\",0,K115)","v":0},{"$f":"Table1015[[#This Row],[School]]","v":"-"},{"$f":"D115+F115+H115+J115+L115","v":0},{"$f":"MAX(C115,E115,G115,I115,K115)","v":0},{"$f":"IF(Q115=1,N115,IF(Q115=0,(N115-O115),\"-\"))","v":"-"},{"$f":"$L$1-Table1015[Competed Count]","v":4},{"$f":"IF(Q115<2,\"Yes\",\"No\")","v":"No"},{"$f":"AND($C$1=\"Y\",D115>0)","v":false},{"$f":"AND($E$1=\"Y\",F115>0)","v":false},{"$f":"AND($G$1=\"Y\",H115>0)","v":false},{"$f":"AND($I$1=\"Y\",J115>0)","v":false},{"$f":"AND($K$1=\"Y\",L115>0)","v":false},{"$f":"COUNTIF(Table1015[[#This Row],[Competed 1]:[Competed 5]],\"=TRUE\")","v":0}]
[null,"-","-",{"$f":"IF(C116=\"-\",0,C116)","v":0},"-",{"$f":"IF(E116=\"-\",0,E116)","v":0},"-",{"$f":"IF(G116=\"-\",0,G116)","v":0},"-",{"$f":"IF(I116=\"-\",0,I116)","v":0},"-",{"$f":"IF(K116=\"-\",0,K116)","v":0},{"$f":"Table1015[[#This Row],[School]]","v":"-"},{"$f":"D116+F116+H116+J116+L116","v":0},{"$f":"MAX(C116,E116,G116,I116,K116)","v":0},{"$f":"IF(Q116=1,N116,IF(Q116=0,(N116-O116),\"-\"))","v":"-"},{"$f":"$L$1-Table1015[Competed Count]","v":4},{"$f":"IF(Q116<2,\"Yes\",\"No\")","v":"No"},{"$f":"AND($C$1=\"Y\",D116>0)","v":false},{"$f":"AND($E$1=\"Y\",F116>0)","v":false},{"$f":"AND($G$1=\"Y\",H116>0)","v":false},{"$f":"AND($I$1=\"Y\",J116>0)","v":false},{"$f":"AND($K$1=\"Y\",L116>0)","v":false},{"$f":"COUNTIF(Table1015[[#This Row],[Competed 1]:[Competed 5]],\"=TRUE\")","v":0}]
[null,"-","-",{"$f":"IF(C117=\"-\",0,C117)","v":0},"-",{"$f":"IF(E117=\"-\",0,E117)","v":0},"-",{"$f":"IF(G117=\"-\",0,G117)","v":0},"-",{"$f":"IF(I117=\"-\",0,I117)","v":0},"-",{"$f":"IF(K117=\"-\",0,K117)","v":0},{"$f":"Table1015[[#This Row],[School]]","v":"-"},{"$f":"D117+F117+H117+J117+L117","v":0},{"$f":"MAX(C117,E117,G117,I117,K117)","v":0},{"$f":"IF(Q117=1,N117,IF(Q117=0,(N117-O117),\"-\"))","v":"-"},{"$f":"$L$1-Table1015[Competed Count]","v":4},{"$f":"IF(Q117<2,\"Yes\",\"No\")","v":"No"},{"$f":"AND($C$1=\"Y\",D117>0)","v":false},{"$f":"AND($E$1=\"Y\",F117>0)","v":false},{"$f":"AND($G$1=\"Y\",H117>0)","v":false},{"$f":"AND($I$1=\"Y\",J117>0)","v":false},{"$f":"AND($K$1=\"Y\",L117>0)","v":false},{"$f":"COUNTIF(Table1015[[#This Row],[Competed 1]:[Competed 5]],\"=TRUE\")","v":0}]
[null,"-","-",{"$f":"IF(C118=\"-\",0,C118)","v":0},"-",{"$f":"IF(E118=\"-\",0,E118)","v":0},"-",{"$f":"IF(G118=\"-\",0,G118)","v":0},"-",{"$f":"IF(I118=\"-\",0,I118)","v":0},"-",{"$f":"IF(K118=\"-\",0,K118)","v":0},{"$f":"Table1015[[#This Row],[School]]","v":"-"},{"$f":"D118+F118+H118+J118+L118","v":0},{"$f":"MAX(C118,E118,G118,I118,K118)","v":0},{"$f":"IF(Q118=1,N118,IF(Q118=0,(N118-O118),\"-\"))","v":"-"},{"$f":"$L$1-Table1015[Competed Count]","v":4},{"$f":"IF(Q118<2,\"Yes\",\"No\")","v":"No"},{"$f":"AND($C$1=\"Y\",D118>0)","v":false},{"$f":"AND($E$1=\"Y\",F118>0)","v":false},{"$f":"AND($G$1=\"Y\",H118>0)","v":false},{"$f":"AND($I$1=\"Y\",J118>0)","v":false},{"$f":"AND($K$1=\"Y\",L118>0)","v":false},{"$f":"COUNTIF(Table1015[[#This Row],[Competed 1]:[Competed 5]],\"=TRUE\")","v":0}]
[null,"-","-",{"$f":"IF(C119=\"-\",0,C119)","v":0},"-",{"$f":"IF(E119=\"-\",0,E119)","v":0},"-",{"$f":"IF(G119=\"-\",0,G119)","v":0},"-",{"$f":"IF(I119=\"-\",0,I119)","v":0},"-",{"$f":"IF(K119=\"-\",0,K119)","v":0},{"$f":"Table1015[[#This Row],[School]]","v":"-"},{"$f":"D119+F119+H119+J119+L119","v":0},{"$f":"MAX(C119,E119,G119,I119,K119)","v":0},{"$f":"IF(Q119=1,N119,IF(Q119=0,(N119-O119),\"-\"))","v":"-"},{"$f":"$L$1-Table1015[Competed Count]","v":4},{"$f":"IF(Q119<2,\"Yes\",\"No\")","v":"No"},{"$f":"AND($C$1=\"Y\",D119>0)","v":false},{"$f":"AND($E$1=\"Y\",F119>0)","v":false},{"$f":"AND($G$1=\"Y\",H119>0)","v":false},{"$f":"AND($I$1=\"Y\",J119>0)","v":false},{"$f":"AND($K$1=\"Y\",L119>0)","v":false},{"$f":"COUNTIF(Table1015[[#This Row],[Competed 1]:[Competed 5]],\"=TRUE\")","v":0}]
[null,"-","-",{"$f":"IF(C120=\"-\",0,C120)","v":0},"-",{"$f":"IF(E120=\"-\",0,E120)","v":0},"-",{"$f":"IF(G120=\"-\",0,G120)","v":0},"-",{"$f":"IF(I120=\"-\",0,I120)","v":0},"-",{"$f":"IF(K120=\"-\",0,K120)","v":0},{"$f":"Table1015[[#This Row],[School]]","v":"-"},{"$f":"D120+F120+H120+J120+L120","v":0},{"$f":"MAX(C120,E120,G120,I120,K120)","v":0},{"$f":"IF(Q120=1,N120,IF(Q120=0,(N120-O120),\"-\"))","v":"-"},{"$f":"$L$1-Table1015[Competed Count]","v":4},{"$f":"IF(Q120<2,\"Yes\",\"No\")","v":"No"},{"$f":"AND($C$1=\"Y\",D120>0)","v":false},{"$f":"AND($E$1=\"Y\",F120>0)","v":false},{"$f":"AND($G$1=\"Y\",H120>0)","v":false},{"$f":"AND($I$1=\"Y\",J120>0)","v":false},{"$f":"AND($K$1=\"Y\",L120>0)","v":false},{"$f":"COUNTIF(Table1015[[#This Row],[Competed 1]:[Competed 5]],\"=TRUE\")","v":0}]
[null,"-","-",{"$f":"IF(C121=\"-\",0,C121)","v":0},"-",{"$f":"IF(E121=\"-\",0,E121)","v":0},"-",{"$f":"IF(G121=\"-\",0,G121)","v":0},"-",{"$f":"IF(I121=\"-\",0,I121)","v":0},"-",{"$f":"IF(K121=\"-\",0,K121)","v":0},{"$f":"Table1015[[#This Row],[School]]","v":"-"},{"$f":"D121+F121+H121+J121+L121","v":0},{"$f":"MAX(C121,E121,G121,I121,K121)","v":0},{"$f":"IF(Q121=1,N121,IF(Q121=0,(N121-O121),\"-\"))","v":"-"},{"$f":"$L$1-Table1015[Competed Count]","v":4},{"$f":"IF(Q121<2,\"Yes\",\"No\")","v":"No"},{"$f":"AND($C$1=\"Y\",D121>0)","v":false},{"$f":"AND($E$1=\"Y\",F121>0)","v":false},{"$f":"AND($G$1=\"Y\",H121>0)","v":false},{"$f":"AND($I$1=\"Y\",J121>0)","v":false},{"$f":"AND($K$1=\"Y\",L121>0)","v":false},{"$f":"COUNTIF(Table1015[[#This Row],[Competed 1]:[Competed 5]],\"=TRUE\")","v":0}]
[null,"-","-",{"$f":"IF(C122=\"-\",0,C122)","v":0},"-",{"$f":"IF(E122=\"-\",0,E122)","v":0},"-",{"$f":"IF(G122=\"-\",0,G122)","v":0},"-",{"$f":"IF(I122=\"-\",0,I122)","v":0},"-",{"$f":"IF(K122=\"-\",0,K122)","v":0},{"$f":"Table1015[[#This Row],[School]]","v":"-"},{"$f":"D122+F122+H122+J122+L122","v":0},{"$f":"MAX(C122,E122,G122,I122,K122)","v":0},{"$f":"IF(Q122=1,N122,IF(Q122=0,(N122-O122),\"-\"))","v":"-"},{"$f":"$L$1-Table1015[Competed Count]","v":4},{"$f":"IF(Q122<2,\"Yes\",\"No\")","v":"No"},{"$f":"AND($C$1=\"Y\",D122>0)","v":false},{"$f":"AND($E$1=\"Y\",F122>0)","v":false},{"$f":"AND($G$1=\"Y\",H122>0)","v":false},{"$f":"AND($I$1=\"Y\",J122>0)","v":false},{"$f":"AND($K$1=\"Y\",L122>0)","v":false},{"$f":"COUNTIF(Table1015[[#This Row],[Competed 1]:[Competed 5]],\"=TRUE\")","v":0}]
[null,"-","-",{"$f":"IF(C123=\"-\",0,C123)","v":0},"-",{"$f":"IF(E123=\"-\",0,E123)","v":0},"-",{"$f":"IF(G123=\"-\",0,G123)","v":0},"-",{"$f":"IF(I123=\"-\",0,I123)","v":0},"-",{"$f":"IF(K123=\"-\",0,K123)","v":0},{"$f":"Table1015[[#This Row],[School]]","v":"-"},{"$f":"D123+F123+H123+J123+L123","v":0},{"$f":"MAX(C123,E123,G123,I123,K123)","v":0},{"$f":"IF(Q123=1,N123,IF(Q123=0,(N123-O123),\"-\"))","v":"-"},{"$f":"$L$1-Table1015[Competed Count]","v":4},{"$f":"IF(Q123<2,\"Yes\",\"No\")","v":"No"},{"$f":"AND($C$1=\"Y\",D123>0)","v":false},{"$f":"AND($E$1=\"Y\",F123>0)","v":false},{"$f":"AND($G$1=\"Y\",H123>0)","v":false},{"$f":"AND($I$1=\"Y\",J123>0)","v":false},{"$f":"AND($K$1=\"Y\",L123>0)","v":false},{"$f":"COUNTIF(Table1015[[#This Row],[Competed 1]:[Competed 5]],\"=TRUE\")","v":0}]
[null,"-","-",{"$f":"IF(C124=\"-\",0,C124)","v":0},"-",{"$f":"IF(E124=\"-\",0,E124)","v":0},"-",{"$f":"IF(G124=\"-\",0,G124)","v":0},"-",{"$f":"IF(I124=\"-\",0,I124)","v":0},"-",{"$f":"IF(K124=\"-\",0,K124)","v":0},{"$f":"Table1015[[#This Row],[School]]","v":"-"},{"$f":"D124+F124+H124+J124+L124","v":0},{"$f":"MAX(C124,E124,G124,I124,K124)","v":0},{"$f":"IF(Q124=1,N124,IF(Q124=0,(N124-O124),\"-\"))","v":"-"},{"$f":"$L$1-Table1015[Competed Count]","v":4},{"$f":"IF(Q124<2,\"Yes\",\"No\")","v":"No"},{"$f":"AND($C$1=\"Y\",D124>0)","v":false},{"$f":"AND($E$1=\"Y\",F124>0)","v":false},{"$f":"AND($G$1=\"Y\",H124>0)","v":false},{"$f":"AND($I$1=\"Y\",J124>0)","v":false},{"$f":"AND($K$1=\"Y\",L124>0)","v":false},{"$f":"COUNTIF(Table1015[[#This Row],[Competed 1]:[Competed 5]],\"=TRUE\")","v":0}]
[null,"-","-",{"$f":"IF(C125=\"-\",0,C125)","v":0},"-",{"$f":"IF(E125=\"-\",0,E125)","v":0},"-",{"$f":"IF(G125=\"-\",0,G125)","v":0},"-",{"$f":"IF(I125=\"-\",0,I125)","v":0},"-",{"$f":"IF(K125=\"-\",0,K125)","v":0},{"$f":"Table1015[[#This Row],[School]]","v":"-"},{"$f":"D125+F125+H125+J125+L125","v":0},{"$f":"MAX(C125,E125,G125,I125,K125)","v":0},{"$f":"IF(Q125=1,N125,IF(Q125=0,(N125-O125),\"-\"))","v":"-"},{"$f":"$L$1-Table1015[Competed Count]","v":4},{"$f":"IF(Q125<2,\"Yes\",\"No\")","v":"No"},{"$f":"AND($C$1=\"Y\",D125>0)","v":false},{"$f":"AND($E$1=\"Y\",F125>0)","v":false},{"$f":"AND($G$1=\"Y\",H125>0)","v":false},{"$f":"AND($I$1=\"Y\",J125>0)","v":false},{"$f":"AND($K$1=\"Y\",L125>0)","v":false},{"$f":"COUNTIF(Table1015[[#This Row],[Competed 1]:[Competed 5]],\"=TRUE\")","v":0}]
[null,"-","-",{"$f":"IF(C126=\"-\",0,C126)","v":0},"-",{"$f":"IF(E126=\"-\",0,E126)","v":0},"-",{"$f":"IF(G126=\"-\",0,G126)","v":0},"-",{"$f":"IF(I126=\"-\",0,I126)","v":0},"-",{"$f":"IF(K126=\"-\",0,K126)","v":0},{"$f":"Table1015[[#This Row],[School]]","v":"-"},{"$f":"D126+F126+H126+J126+L126","v":0},{"$f":"MAX(C126,E126,G126,I126,K126)","v":0},{"$f":"IF(Q126=1,N126,IF(Q126=0,(N126-O126),\"-\"))","v":"-"},{"$f":"$L$1-Table1015[Competed Count]","v":4},{"$f":"IF(Q126<2,\"Yes\",\"No\")","v":"No"},{"$f":"AND($C$1=\"Y\",D126>0)","v":false},{"$f":"AND($E$1=\"Y\",F126>0)","v":false},{"$f":"AND($G$1=\"Y\",H126>0)","v":false},{"$f":"AND($I$1=\"Y\",J126>0)","v":false},{"$f":"AND($K$1=\"Y\",L126>0)","v":false},{"$f":"COUNTIF(Table1015[[#This Row],[Competed 1]:[Competed 5]],\"=TRUE\")","v":0}]
[null,"-","-",{"$f":"IF(C127=\"-\",0,C127)","v":0},"-",{"$f":"IF(E127=\"-\",0,E127)","v":0},"-",{"$f":"IF(G127=\"-\",0,G127)","v":0},"-",{"$f":"IF(I127=\"-\",0,I127)","v":0},"-",{"$f":"IF(K127=\"-\",0,K127)","v":0},{"$f":"Table1015[[#This Row],[School]]","v":"-"},{"$f":"D127+F127+H127+J127+L127","v":0},{"$f":"MAX(C127,E127,G127,I127,K127)","v":0},{"$f":"IF(Q127=1,N127,IF(Q127=0,(N127-O127),\"-\"))","v":"-"},{"$f":"$L$1-Table1015[Competed Count]","v":4},{"$f":"IF(Q127<2,\"Yes\",\"No\")","v":"No"},{"$f":"AND($C$1=\"Y\",D127>0)","v":false},{"$f":"AND($E$1=\"Y\",F127>0)","v":false},{"$f":"AND($G$1=\"Y\",H127>0)","v":false},{"$f":"AND($I$1=\"Y\",J127>0)","v":false},{"$f":"AND($K$1=\"Y\",L127>0)","v":false},{"$f":"COUNTIF(Table1015[[#This Row],[Competed 1]:[Competed 5]],\"=TRUE\")","v":0}]
[null,"-","-",{"$f":"IF(C128=\"-\",0,C128)","v":0},"-",{"$f":"IF(E128=\"-\",0,E128)","v":0},"-",{"$f":"IF(G128=\"-\",0,G128)","v":0},"-",{"$f":"IF(I128=\"-\",0,I128)","v":0},"-",{"$f":"IF(K128=\"-\",0,K128)","v":0},{"$f":"Table1015[[#This Row],[School]]","v":"-"},{"$f":"D128+F128+H128+J128+L128","v":0},{"$f":"MAX(C128,E128,G128,I128,K128)","v":0},{"$f":"IF(Q128=1,N128,IF(Q128=0,(N128-O128),\"-\"))","v":"-"},{"$f":"$L$1-Table1015[Competed Count]","v":4},{"$f":"IF(Q128<2,\"Yes\",\"No\")","v":"No"},{"$f":"AND($C$1=\"Y\",D128>0)","v":false},{"$f":"AND($E$1=\"Y\",F128>0)","v":false},{"$f":"AND($G$1=\"Y\",H128>0)","v":false},{"$f":"AND($I$1=\"Y\",J128>0)","v":false},{"$f":"AND($K$1=\"Y\",L128>0)","v":false},{"$f":"COUNTIF(Table1015[[#This Row],[Competed 1]:[Competed 5]],\"=TRUE\")","v":0}]
[null,"-","-",{"$f":"IF(C129=\"-\",0,C129)","v":0},"-",{"$f":"IF(E129=\"-\",0,E129)","v":0},"-",{"$f":"IF(G129=\"-\",0,G129)","v":0},"-",{"$f":"IF(I129=\"-\",0,I129)","v":0},"-",{"$f":"IF(K129=\"-\",0,K129)","v":0},{"$f":"Table1015[[#This Row],[School]]","v":"-"},{"$f":"D129+F129+H129+J129+L129","v":0},{"$f":"MAX(C129,E129,G129,I129,K129)","v":0},{"$f":"IF(Q129=1,N129,IF(Q129=0,(N129-O129),\"-\"))","v":"-"},{"$f":"$L$1-Table1015[Competed Count]","v":4},{"$f":"IF(Q129<2,\"Yes\",\"No\")","v":"No"},{"$f":"AND($C$1=\"Y\",D129>0)","v":false},{"$f":"AND($E$1=\"Y\",F129>0)","v":false},{"$f":"AND($G$1=\"Y\",H129>0)","v":false},{"$f":"AND($I$1=\"Y\",J129>0)","v":false},{"$f":"AND($K$1=\"Y\",L129>0)","v":false},{"$f":"COUNTIF(Table1015[[#This Row],[Competed 1]:[Competed 5]],\"=TRUE\")","v":0}]
[null,"-","-",{"$f":"IF(C130=\"-\",0,C130)","v":0},"-",{"$f":"IF(E130=\"-\",0,E130)","v":0},"-",{"$f":"IF(G130=\"-\",0,G130)","v":0},"-",{"$f":"IF(I130=\"-\",0,I130)","v":0},"-",{"$f":"IF(K130=\"-\",0,K130)","v":0},{"$f":"Table1015[[#This Row],[School]]","v":"-"},{"$f":"D130+F130+H130+J130+L130","v":0},{"$f":"MAX(C130,E130,G130,I130,K130)","v":0},{"$f":"IF(Q130=1,N130,IF(Q130=0,(N130-O130),\"-\"))","v":"-"},{"$f":"$L$1-Table1015[Competed Count]","v":4},{"$f":"IF(Q130<2,\"Yes\",\"No\")","v":"No"},{"$f":"AND($C$1=\"Y\",D130>0)","v":false},{"$f":"AND($E$1=\"Y\",F130>0)","v":false},{"$f":"AND($G$1=\"Y\",H130>0)","v":false},{"$f":"AND($I$1=\"Y\",J130>0)","v":false},{"$f":"AND($K$1=\"Y\",L130>0)","v":false},{"$f":"COUNTIF(Table1015[[#This Row],[Competed 1]:[Competed 5]],\"=TRUE\")","v":0}]
[null,"-","-",{"$f":"IF(C131=\"-\",0,C131)","v":0},"-",{"$f":"IF(E131=\"-\",0,E131)","v":0},"-",{"$f":"IF(G131=\"-\",0,G131)","v":0},"-",{"$f":"IF(I131=\"-\",0,I131)","v":0},"-",{"$f":"IF(K131=\"-\",0,K131)","v":0},{"$f":"Table1015[[#This Row],[School]]","v":"-"},{"$f":"D131+F131+H131+J131+L131","v":0},{"$f":"MAX(C131,E131,G131,I131,K131)","v":0},{"$f":"IF(Q131=1,N131,IF(Q131=0,(N131-O131),\"-\"))","v":"-"},{"$f":"$L$1-Table1015[Competed Count]","v":4},{"$f":"IF(Q131<2,\"Yes\",\"No\")","v":"No"},{"$f":"AND($C$1=\"Y\",D131>0)","v":false},{"$f":"AND($E$1=\"Y\",F131>0)","v":false},{"$f":"AND($G$1=\"Y\",H131>0)","v":false},{"$f":"AND($I$1=\"Y\",J131>0)","v":false},{"$f":"AND($K$1=\"Y\",L131>0)","v":false},{"$f":"COUNTIF(Table1015[[#This Row],[Competed 1]:[Competed 5]],\"=TRUE\")","v":0}]
[null,"-","-",{"$f":"IF(C132=\"-\",0,C132)","v":0},"-",{"$f":"IF(E132=\"-\",0,E132)","v":0},"-",{"$f":"IF(G132=\"-\",0,G132)","v":0},"-",{"$f":"IF(I132=\"-\",0,I132)","v":0},"-",{"$f":"IF(K132=\"-\",0,K132)","v":0},{"$f":"Table1015[[#This Row],[School]]","v":"-"},{"$f":"D132+F132+H132+J132+L132","v":0},{"$f":"MAX(C132,E132,G132,I132,K132)","v":0},{"$f":"IF(Q132=1,N132,IF(Q132=0,(N132-O132),\"-\"))","v":"-"},{"$f":"$L$1-Table1015[Competed Count]","v":4},{"$f":"IF(Q132<2,\"Yes\",\"No\")","v":"No"},{"$f":"AND($C$1=\"Y\",D132>0)","v":false},{"$f":"AND($E$1=\"Y\",F132>0)","v":false},{"$f":"AND($G$1=\"Y\",H132>0)","v":false},{"$f":"AND($I$1=\"Y\",J132>0)","v":false},{"$f":"AND($K$1=\"Y\",L132>0)","v":false},{"$f":"COUNTIF(Table1015[[#This Row],[Competed 1]:[Competed 5]],\"=TRUE\")","v":0}]
[null,"-","-",{"$f":"IF(C133=\"-\",0,C133)","v":0},"-",{"$f":"IF(E133=\"-\",0,E133)","v":0},"-",{"$f":"IF(G133=\"-\",0,G133)","v":0},"-",{"$f":"IF(I133=\"-\",0,I133)","v":0},"-",{"$f":"IF(K133=\"-\",0,K133)","v":0},{"$f":"Table1015[[#This Row],[School]]","v":"-"},{"$f":"D133+F133+H133+J133+L133","v":0},{"$f":"MAX(C133,E133,G133,I133,K133)","v":0},{"$f":"IF(Q133=1,N133,IF(Q133=0,(N133-O133),\"-\"))","v":"-"},{"$f":"$L$1-Table1015[Competed Count]","v":4},{"$f":"IF(Q133<2,\"Yes\",\"No\")","v":"No"},{"$f":"AND($C$1=\"Y\",D133>0)","v":false},{"$f":"AND($E$1=\"Y\",F133>0)","v":false},{"$f":"AND($G$1=\"Y\",H133>0)","v":false},{"$f":"AND($I$1=\"Y\",J133>0)","v":false},{"$f":"AND($K$1=\"Y\",L133>0)","v":false},{"$f":"COUNTIF(Table1015[[#This Row],[Competed 1]:[Competed 5]],\"=TRUE\")","v":0}]
[null,"-","-",{"$f":"IF(C134=\"-\",0,C134)","v":0},"-",{"$f":"IF(E134=\"-\",0,E134)","v":0},"-",{"$f":"IF(G134=\"-\",0,G134)","v":0},"-",{"$f":"IF(I134=\"-\",0,I134)","v":0},"-",{"$f":"IF(K134=\"-\",0,K134)","v":0},{"$f":"Table1015[[#This Row],[School]]","v":"-"},{"$f":"D134+F134+H134+J134+L134","v":0},{"$f":"MAX(C134,E134,G134,I134,K134)","v":0},{"$f":"IF(Q134=1,N134,IF(Q134=0,(N134-O134),\"-\"))","v":"-"},{"$f":"$L$1-Table1015[Competed Count]","v":4},{"$f":"IF(Q134<2,\"Yes\",\"No\")","v":"No"},{"$f":"AND($C$1=\"Y\",D134>0)","v":false},{"$f":"AND($E$1=\"Y\",F134>0)","v":false},{"$f":"AND($G$1=\"Y\",H134>0)","v":false},{"$f":"AND($I$1=\"Y\",J134>0)","v":false},{"$f":"AND($K$1=\"Y\",L134>0)","v":false},{"$f":"COUNTIF(Table1015[[#This Row],[Competed 1]:[Competed 5]],\"=TRUE\")","v":0}]
[null,"-","-",{"$f":"IF(C135=\"-\",0,C135)","v":0},"-",{"$f":"IF(E135=\"-\",0,E135)","v":0},"-",{"$f":"IF(G135=\"-\",0,G135)","v":0},"-",{"$f":"IF(I135=\"-\",0,I135)","v":0},"-",{"$f":"IF(K135=\"-\",0,K135)","v":0},{"$f":"Table1015[[#This Row],[School]]","v":"-"},{"$f":"D135+F135+H135+J135+L135","v":0},{"$f":"MAX(C135,E135,G135,I135,K135)","v":0},{"$f":"IF(Q135=1,N135,IF(Q135=0,(N135-O135),\"-\"))","v":"-"},{"$f":"$L$1-Table1015[Competed Count]","v":4},{"$f":"IF(Q135<2,\"Yes\",\"No\")","v":"No"},{"$f":"AND($C$1=\"Y\",D135>0)","v":false},{"$f":"AND($E$1=\"Y\",F135>0)","v":false},{"$f":"AND($G$1=\"Y\",H135>0)","v":false},{"$f":"AND($I$1=\"Y\",J135>0)","v":false},{"$f":"AND($K$1=\"Y\",L135>0)","v":false},{"$f":"COUNTIF(Table1015[[#This Row],[Competed 1]:[Competed 5]],\"=TRUE\")","v":0}]
[null,"-","-",{"$f":"IF(C136=\"-\",0,C136)","v":0},"-",{"$f":"IF(E136=\"-\",0,E136)","v":0},"-",{"$f":"IF(G136=\"-\",0,G136)","v":0},"-",{"$f":"IF(I136=\"-\",0,I136)","v":0},"-",{"$f":"IF(K136=\"-\",0,K136)","v":0},{"$f":"Table1015[[#This Row],[School]]","v":"-"},{"$f":"D136+F136+H136+J136+L136","v":0},{"$f":"MAX(C136,E136,G136,I136,K136)","v":0},{"$f":"IF(Q136=1,N136,IF(Q136=0,(N136-O136),\"-\"))","v":"-"},{"$f":"$L$1-Table1015[Competed Count]","v":4},{"$f":"IF(Q136<2,\"Yes\",\"No\")","v":"No"},{"$f":"AND($C$1=\"Y\",D136>0)","v":false},{"$f":"AND($E$1=\"Y\",F136>0)","v":false},{"$f":"AND($G$1=\"Y\",H136>0)","v":false},{"$f":"AND($I$1=\"Y\",J136>0)","v":false},{"$f":"AND($K$1=\"Y\",L136>0)","v":false},{"$f":"COUNTIF(Table1015[[#This Row],[Competed 1]:[Competed 5]],\"=TRUE\")","v":0}]
[null,"-","-",{"$f":"IF(C137=\"-\",0,C137)","v":0},"-",{"$f":"IF(E137=\"-\",0,E137)","v":0},"-",{"$f":"IF(G137=\"-\",0,G137)","v":0},"-",{"$f":"IF(I137=\"-\",0,I137)","v":0},"-",{"$f":"IF(K137=\"-\",0,K137)","v":0},{"$f":"Table1015[[#This Row],[School]]","v":"-"},{"$f":"D137+F137+H137+J137+L137","v":0},{"$f":"MAX(C137,E137,G137,I137,K137)","v":0},{"$f":"IF(Q137=1,N137,IF(Q137=0,(N137-O137),\"-\"))","v":"-"},{"$f":"$L$1-Table1015[Competed Count]","v":4},{"$f":"IF(Q137<2,\"Yes\",\"No\")","v":"No"},{"$f":"AND($C$1=\"Y\",D137>0)","v":false},{"$f":"AND($E$1=\"Y\",F137>0)","v":false},{"$f":"AND($G$1=\"Y\",H137>0)","v":false},{"$f":"AND($I$1=\"Y\",J137>0)","v":false},{"$f":"AND($K$1=\"Y\",L137>0)","v":false},{"$f":"COUNTIF(Table1015[[#This Row],[Competed 1]:[Competed 5]],\"=TRUE\")","v":0}]
[null,"-","-",{"$f":"IF(C138=\"-\",0,C138)","v":0},"-",{"$f":"IF(E138=\"-\",0,E138)","v":0},"-",{"$f":"IF(G138=\"-\",0,G138)","v":0},"-",{"$f":"IF(I138=\"-\",0,I138)","v":0},"-",{"$f":"IF(K138=\"-\",0,K138)","v":0},{"$f":"Table1015[[#This Row],[School]]","v":"-"},{"$f":"D138+F138+H138+J138+L138","v":0},{"$f":"MAX(C138,E138,G138,I138,K138)","v":0},{"$f":"IF(Q138=1,N138,IF(Q138=0,(N138-O138),\"-\"))","v":"-"},{"$f":"$L$1-Table1015[Competed Count]","v":4},{"$f":"IF(Q138<2,\"Yes\",\"No\")","v":"No"},{"$f":"AND($C$1=\"Y\",D138>0)","v":false},{"$f":"AND($E$1=\"Y\",F138>0)","v":false},{"$f":"AND($G$1=\"Y\",H138>0)","v":false},{"$f":"AND($I$1=\"Y\",J138>0)","v":false},{"$f":"AND($K$1=\"Y\",L138>0)","v":false},{"$f":"COUNTIF(Table1015[[#This Row],[Competed 1]:[Competed 5]],\"=TRUE\")","v":0}]
[null,"-","-",{"$f":"IF(C139=\"-\",0,C139)","v":0},"-",{"$f":"IF(E139=\"-\",0,E139)","v":0},"-",{"$f":"IF(G139=\"-\",0,G139)","v":0},"-",{"$f":"IF(I139=\"-\",0,I139)","v":0},"-",{"$f":"IF(K139=\"-\",0,K139)","v":0},{"$f":"Table1015[[#This Row],[School]]","v":"-"},{"$f":"D139+F139+H139+J139+L139","v":0},{"$f":"MAX(C139,E139,G139,I139,K139)","v":0},{"$f":"IF(Q139=1,N139,IF(Q139=0,(N139-O139),\"-\"))","v":"-"},{"$f":"$L$1-Table1015[Competed Count]","v":4},{"$f":"IF(Q139<2,\"Yes\",\"No\")","v":"No"},{"$f":"AND($C$1=\"Y\",D139>0)","v":false},{"$f":"AND($E$1=\"Y\",F139>0)","v":false},{"$f":"AND($G$1=\"Y\",H139>0)","v":false},{"$f":"AND($I$1=\"Y\",J139>0)","v":false},{"$f":"AND($K$1=\"Y\",L139>0)","v":false},{"$f":"COUNTIF(Table1015[[#This Row],[Competed 1]:[Competed 5]],\"=TRUE\")","v":0}]
[null,"-","-",{"$f":"IF(C140=\"-\",0,C140)","v":0},"-",{"$f":"IF(E140=\"-\",0,E140)","v":0},"-",{"$f":"IF(G140=\"-\",0,G140)","v":0},"-",{"$f":"IF(I140=\"-\",0,I140)","v":0},"-",{"$f":"IF(K140=\"-\",0,K140)","v":0},{"$f":"Table1015[[#This Row],[School]]","v":"-"},{"$f":"D140+F140+H140+J140+L140","v":0},{"$f":"MAX(C140,E140,G140,I140,K140)","v":0},{"$f":"IF(Q140=1,N140,IF(Q140=0,(N140-O140),\"-\"))","v":"-"},{"$f":"$L$1-Table1015[Competed Count]","v":4},{"$f":"IF(Q140<2,\"Yes\",\"No\")","v":"No"},{"$f":"AND($C$1=\"Y\",D140>0)","v":false},{"$f":"AND($E$1=\"Y\",F140>0)","v":false},{"$f":"AND($G$1=\"Y\",H140>0)","v":false},{"$f":"AND($I$1=\"Y\",J140>0)","v":false},{"$f":"AND($K$1=\"Y\",L140>0)","v":false},{"$f":"COUNTIF(Table1015[[#This Row],[Competed 1]:[Competed 5]],\"=TRUE\")","v":0}]
[null,"-","-",{"$f":"IF(C141=\"-\",0,C141)","v":0},"-",{"$f":"IF(E141=\"-\",0,E141)","v":0},"-",{"$f":"IF(G141=\"-\",0,G141)","v":0},"-",{"$f":"IF(I141=\"-\",0,I141)","v":0},"-",{"$f":"IF(K141=\"-\",0,K141)","v":0},{"$f":"Table1015[[#This Row],[School]]","v":"-"},{"$f":"D141+F141+H141+J141+L141","v":0},{"$f":"MAX(C141,E141,G141,I141,K141)","v":0},{"$f":"IF(Q141=1,N141,IF(Q141=0,(N141-O141),\"-\"))","v":"-"},{"$f":"$L$1-Table1015[Competed Count]","v":4},{"$f":"IF(Q141<2,\"Yes\",\"No\")","v":"No"},{"$f":"AND($C$1=\"Y\",D141>0)","v":false},{"$f":"AND($E$1=\"Y\",F141>0)","v":false},{"$f":"AND($G$1=\"Y\",H141>0)","v":false},{"$f":"AND($I$1=\"Y\",J141>0)","v":false},{"$f":"AND($K$1=\"Y\",L141>0)","v":false},{"$f":"COUNTIF(Table1015[[#This Row],[Competed 1]:[Competed 5]],\"=TRUE\")","v":0}]
[null,"-","-",{"$f":"IF(C142=\"-\",0,C142)","v":0},"-",{"$f":"IF(E142=\"-\",0,E142)","v":0},"-",{"$f":"IF(G142=\"-\",0,G142)","v":0},"-",{"$f":"IF(I142=\"-\",0,I142)","v":0},"-",{"$f":"IF(K142=\"-\",0,K142)","v":0},{"$f":"Table1015[[#This Row],[School]]","v":"-"},{"$f":"D142+F142+H142+J142+L142","v":0},{"$f":"MAX(C142,E142,G142,I142,K142)","v":0},{"$f":"IF(Q142=1,N142,IF(Q142=0,(N142-O142),\"-\"))","v":"-"},{"$f":"$L$1-Table1015[Competed Count]","v":4},{"$f":"IF(Q142<2,\"Yes\",\"No\")","v":"No"},{"$f":"AND($C$1=\"Y\",D142>0)","v":false},{"$f":"AND($E$1=\"Y\",F142>0)","v":false},{"$f":"AND($G$1=\"Y\",H142>0)","v":false},{"$f":"AND($I$1=\"Y\",J142>0)","v":false},{"$f":"AND($K$1=\"Y\",L142>0)","v":false},{"$f":"COUNTIF(Table1015[[#This Row],[Competed 1]:[Competed 5]],\"=TRUE\")","v":0}]
[null,"-","-",{"$f":"IF(C143=\"-\",0,C143)","v":0},"-",{"$f":"IF(E143=\"-\",0,E143)","v":0},"-",{"$f":"IF(G143=\"-\",0,G143)","v":0},"-",{"$f":"IF(I143=\"-\",0,I143)","v":0},"-",{"$f":"IF(K143=\"-\",0,K143)","v":0},{"$f":"Table1015[[#This Row],[School]]","v":"-"},{"$f":"D143+F143+H143+J143+L143","v":0},{"$f":"MAX(C143,E143,G143,I143,K143)","v":0},{"$f":"IF(Q143=1,N143,IF(Q143=0,(N143-O143),\"-\"))","v":"-"},{"$f":"$L$1-Table1015[Competed Count]","v":4},{"$f":"IF(Q143<2,\"Yes\",\"No\")","v":"No"},{"$f":"AND($C$1=\"Y\",D143>0)","v":false},{"$f":"AND($E$1=\"Y\",F143>0)","v":false},{"$f":"AND($G$1=\"Y\",H143>0)","v":false},{"$f":"AND($I$1=\"Y\",J143>0)","v":false},{"$f":"AND($K$1=\"Y\",L143>0)","v":false},{"$f":"COUNTIF(Table1015[[#This Row],[Competed 1]:[Competed 5]],\"=TRUE\")","v":0}]
[null,"-","-",{"$f":"IF(C144=\"-\",0,C144)","v":0},"-",{"$f":"IF(E144=\"-\",0,E144)","v":0},"-",{"$f":"IF(G144=\"-\",0,G144)","v":0},"-",{"$f":"IF(I144=\"-\",0,I144)","v":0},"-",{"$f":"IF(K144=\"-\",0,K144)","v":0},{"$f":"Table1015[[#This Row],[School]]","v":"-"},{"$f":"D144+F144+H144+J144+L144","v":0},{"$f":"MAX(C144,E144,G144,I144,K144)","v":0},{"$f":"IF(Q144=1,N144,IF(Q144=0,(N144-O144),\"-\"))","v":"-"},{"$f":"$L$1-Table1015[Competed Count]","v":4},{"$f":"IF(Q144<2,\"Yes\",\"No\")","v":"No"},{"$f":"AND($C$1=\"Y\",D144>0)","v":false},{"$f":"AND($E$1=\"Y\",F144>0)","v":false},{"$f":"AND($G$1=\"Y\",H144>0)","v":false},{"$f":"AND($I$1=\"Y\",J144>0)","v":false},{"$f":"AND($K$1=\"Y\",L144>0)","v":false},{"$f":"COUNTIF(Table1015[[#This Row],[Competed 1]:[Competed 5]],\"=TRUE\")","v":0}]
[null,"-","-",{"$f":"IF(C145=\"-\",0,C145)","v":0},"-",{"$f":"IF(E145=\"-\",0,E145)","v":0},"-",{"$f":"IF(G145=\"-\",0,G145)","v":0},"-",{"$f":"IF(I145=\"-\",0,I145)","v":0},"-",{"$f":"IF(K145=\"-\",0,K145)","v":0},{"$f":"Table1015[[#This Row],[School]]","v":"-"},{"$f":"D145+F145+H145+J145+L145","v":0},{"$f":"MAX(C145,E145,G145,I145,K145)","v":0},{"$f":"IF(Q145=1,N145,IF(Q145=0,(N145-O145),\"-\"))","v":"-"},{"$f":"$L$1-Table1015[Competed Count]","v":4},{"$f":"IF(Q145<2,\"Yes\",\"No\")","v":"No"},{"$f":"AND($C$1=\"Y\",D145>0)","v":false},{"$f":"AND($E$1=\"Y\",F145>0)","v":false},{"$f":"AND($G$1=\"Y\",H145>0)","v":false},{"$f":"AND($I$1=\"Y\",J145>0)","v":false},{"$f":"AND($K$1=\"Y\",L145>0)","v":false},{"$f":"COUNTIF(Table1015[[#This Row],[Competed 1]:[Competed 5]],\"=TRUE\")","v":0}]
[null,"-","-",{"$f":"IF(C146=\"-\",0,C146)","v":0},"-",{"$f":"IF(E146=\"-\",0,E146)","v":0},"-",{"$f":"IF(G146=\"-\",0,G146)","v":0},"-",{"$f":"IF(I146=\"-\",0,I146)","v":0},"-",{"$f":"IF(K146=\"-\",0,K146)","v":0},{"$f":"Table1015[[#This Row],[School]]","v":"-"},{"$f":"D146+F146+H146+J146+L146","v":0},{"$f":"MAX(C146,E146,G146,I146,K146)","v":0},{"$f":"IF(Q146=1,N146,IF(Q146=0,(N146-O146),\"-\"))","v":"-"},{"$f":"$L$1-Table1015[Competed Count]","v":4},{"$f":"IF(Q146<2,\"Yes\",\"No\")","v":"No"},{"$f":"AND($C$1=\"Y\",D146>0)","v":false},{"$f":"AND($E$1=\"Y\",F146>0)","v":false},{"$f":"AND($G$1=\"Y\",H146>0)","v":false},{"$f":"AND($I$1=\"Y\",J146>0)","v":false},{"$f":"AND($K$1=\"Y\",L146>0)","v":false},{"$f":"COUNTIF(Table1015[[#This Row],[Competed 1]:[Competed 5]],\"=TRUE\")","v":0}]
[null,"-","-",{"$f":"IF(C147=\"-\",0,C147)","v":0},"-",{"$f":"IF(E147=\"-\",0,E147)","v":0},"-",{"$f":"IF(G147=\"-\",0,G147)","v":0},"-",{"$f":"IF(I147=\"-\",0,I147)","v":0},"-",{"$f":"IF(K147=\"-\",0,K147)","v":0},{"$f":"Table1015[[#This Row],[School]]","v":"-"},{"$f":"D147+F147+H147+J147+L147","v":0},{"$f":"MAX(C147,E147,G147,I147,K147)","v":0},{"$f":"IF(Q147=1,N147,IF(Q147=0,(N147-O147),\"-\"))","v":"-"},{"$f":"$L$1-Table1015[Competed Count]","v":4},{"$f":"IF(Q147<2,\"Yes\",\"No\")","v":"No"},{"$f":"AND($C$1=\"Y\",D147>0)","v":false},{"$f":"AND($E$1=\"Y\",F147>0)","v":false},{"$f":"AND($G$1=\"Y\",H147>0)","v":false},{"$f":"AND($I$1=\"Y\",J147>0)","v":false},{"$f":"AND($K$1=\"Y\",L147>0)","v":false},{"$f":"COUNTIF(Table1015[[#This Row],[Competed 1]:[Competed 5]],\"=TRUE\")","v":0}]
[null,"-","-",{"$f":"IF(C148=\"-\",0,C148)","v":0},"-",{"$f":"IF(E148=\"-\",0,E148)","v":0},"-",{"$f":"IF(G148=\"-\",0,G148)","v":0},"-",{"$f":"IF(I148=\"-\",0,I148)","v":0},"-",{"$f":"IF(K148=\"-\",0,K148)","v":0},{"$f":"Table1015[[#This Row],[School]]","v":"-"},{"$f":"D148+F148+H148+J148+L148","v":0},{"$f":"MAX(C148,E148,G148,I148,K148)","v":0},{"$f":"IF(Q148=1,N148,IF(Q148=0,(N148-O148),\"-\"))","v":"-"},{"$f":"$L$1-Table1015[Competed Count]","v":4},{"$f":"IF(Q148<2,\"Yes\",\"No\")","v":"No"},{"$f":"AND($C$1=\"Y\",D148>0)","v":false},{"$f":"AND($E$1=\"Y\",F148>0)","v":false},{"$f":"AND($G$1=\"Y\",H148>0)","v":false},{"$f":"AND($I$1=\"Y\",J148>0)","v":false},{"$f":"AND($K$1=\"Y\",L148>0)","v":false},{"$f":"COUNTIF(Table1015[[#This Row],[Competed 1]:[Competed 5]],\"=TRUE\")","v":0}]
[null,"-","-",{"$f":"IF(C149=\"-\",0,C149)","v":0},"-",{"$f":"IF(E149=\"-\",0,E149)","v":0},"-",{"$f":"IF(G149=\"-\",0,G149)","v":0},"-",{"$f":"IF(I149=\"-\",0,I149)","v":0},"-",{"$f":"IF(K149=\"-\",0,K149)","v":0},{"$f":"Table1015[[#This Row],[School]]","v":"-"},{"$f":"D149+F149+H149+J149+L149","v":0},{"$f":"MAX(C149,E149,G149,I149,K149)","v":0},{"$f":"IF(Q149=1,N149,IF(Q149=0,(N149-O149),\"-\"))","v":"-"},{"$f":"$L$1-Table1015[Competed Count]","v":4},{"$f":"IF(Q149<2,\"Yes\",\"No\")","v":"No"},{"$f":"AND($C$1=\"Y\",D149>0)","v":false},{"$f":"AND($E$1=\"Y\",F149>0)","v":false},{"$f":"AND($G$1=\"Y\",H149>0)","v":false},{"$f":"AND($I$1=\"Y\",J149>0)","v":false},{"$f":"AND($K$1=\"Y\",L149>0)","v":false},{"$f":"COUNTIF(Table1015[[#This Row],[Competed 1]:[Competed 5]],\"=TRUE\")","v":0}]
[null,"-","-",{"$f":"IF(C150=\"-\",0,C150)","v":0},"-",{"$f":"IF(E150=\"-\",0,E150)","v":0},"-",{"$f":"IF(G150=\"-\",0,G150)","v":0},"-",{"$f":"IF(I150=\"-\",0,I150)","v":0},"-",{"$f":"IF(K150=\"-\",0,K150)","v":0},{"$f":"Table1015[[#This Row],[School]]","v":"-"},{"$f":"D150+F150+H150+J150+L150","v":0},{"$f":"MAX(C150,E150,G150,I150,K150)","v":0},{"$f":"IF(Q150=1,N150,IF(Q150=0,(N150-O150),\"-\"))","v":"-"},{"$f":"$L$1-Table1015[Competed Count]","v":4},{"$f":"IF(Q150<2,\"Yes\",\"No\")","v":"No"},{"$f":"AND($C$1=\"Y\",D150>0)","v":false},{"$f":"AND($E$1=\"Y\",F150>0)","v":false},{"$f":"AND($G$1=\"Y\",H150>0)","v":false},{"$f":"AND($I$1=\"Y\",J150>0)","v":false},{"$f":"AND($K$1=\"Y\",L150>0)","v":false},{"$f":"COUNTIF(Table1015[[#This Row],[Competed 1]:[Competed 5]],\"=TRUE\")","v":0}]

{"sheet":"JB","index":3,"n_rows":149,"n_cols":29,"rows_kept":149,"cut":false,"hidden":false,"merged":[]}
["Total Number of Runners","Race Complete (Y/N) ",{"$f":"Y7G!C1","v":"Y"},null,{"$f":"Y7G!E1","v":"Y"},null,{"$f":"Y7G!G1","v":"Y"},null,{"$f":"Y7G!I1","v":"Y"},null,{"$f":"Y7G!K1","v":"N"},{"$f":"COUNTIF(C1:K1,\"=Y\")","v":4},null,null,null,null,null,"Total Eligible for League",null,{"$f":"IF(K1=\"Y\",1,0)","v":0},null,{"$f":"SUM(S1:T1)","v":0}]
[{"$f":"COUNTA(A5:A299)","v":95},"No of Finishers",68,{"$f":"MAX(D5:D150)","v":68},50,{"$f":"MAX(F5:F150)","v":50},47,{"$f":"MAX(H5:H150)","v":47},43,{"$f":"MAX(J5:J150)","v":43},null,null,null,null,null,null,null,{"$f":"COUNTIF(R5:R199,\"Yes\")","v":34}]
["Junior Boys","Number of results recorded",{"$f":"COUNTIF(C5:C149,\">0\")","v":68},null,{"$f":"COUNTIF(F5:F149,\">0\")","v":50},null,47,null,{"$f":"COUNTIF(J5:J150,\">0\")","v":43},null,0]
["Name","School","Race 1","Normalised result -1","Race 2","Normalised result -2","Race 3","Normalised result -3","Race 4","Normalised result -4","Race 5","Normalised result -5","School Duplicate","Total\n(All Races)","Lowest Place Finish","Final Total","League contender?\n(No. of races - missed)","Eligible For League Title","Competed 1","Competed 2","Competed 3","Competed 4","Competed 5","Competed Count",null,null,null,null," "]
["Lucca Watson-Quilter","Brookvale High School","-",{"$f":"IF(C5=\"-\",0,C5)","v":0},"-",{"$f":"IF(E5=\"-\",0,E5)","v":0},1,{"$f":"IF(G5=\"-\",0,G5)","v":1},1,{"$f":"IF(I5=\"-\",0,I5)","v":1},"-",{"$f":"IF(K5=\"-\",0,K5)","v":0},{"$f":"Table1016[[#This Row],[School]]","v":"Brookvale High School"},{"$f":"D5+F5+H5+J5+L5","v":2},{"$f":"MAX(C5,E5,G5,I5,K5)","v":1},{"$f":"IF(Q5=1,N5,IF(Q5=0,(N5-O5),\"-\"))","v":"-"},{"$f":"$L$1-Table1016[Competed Count]","v":2},{"$f":"IF(Q5<2,\"Yes\",\"No\")","v":"No"},{"$f":"AND($C$1=\"Y\",D5>0)","v":false},{"$f":"AND($E$1=\"Y\",F5>0)","v":false},{"$f":"AND($G$1=\"Y\",H5>0)","v":true},{"$f":"AND($I$1=\"Y\",J5>0)","v":true},{"$f":"AND($K$1=\"Y\",L5>0)","v":false},{"$f":"COUNTIF(Table1016[[#This Row],[Competed 1]:[Competed 5]],\"=TRUE\")","v":2}]
["Roman Watson-Quilter","Brookvale High School","-",{"$f":"IF(C6=\"-\",0,C6)","v":0},"-",{"$f":"IF(E6=\"-\",0,E6)","v":0},3,{"$f":"IF(G6=\"-\",0,G6)","v":3},2,{"$f":"IF(I6=\"-\",0,I6)","v":2},"-",{"$f":"IF(K6=\"-\",0,K6)","v":0},{"$f":"Table1016[[#This Row],[School]]","v":"Brookvale High School"},{"$f":"D6+F6+H6+J6+L6","v":5},{"$f":"MAX(C6,E6,G6,I6,K6)","v":3},{"$f":"IF(Q6=1,N6,IF(Q6=0,(N6-O6),\"-\"))","v":"-"},{"$f":"$L$1-Table1016[Competed Count]","v":2},{"$f":"IF(Q6<2,\"Yes\",\"No\")","v":"No"},{"$f":"AND($C$1=\"Y\",D6>0)","v":false},{"$f":"AND($E$1=\"Y\",F6>0)","v":false},{"$f":"AND($G$1=\"Y\",H6>0)","v":true},{"$f":"AND($I$1=\"Y\",J6>0)","v":true},{"$f":"AND($K$1=\"Y\",L6>0)","v":false},{"$f":"COUNTIF(Table1016[[#This Row],[Competed 1]:[Competed 5]],\"=TRUE\")","v":2}]
["Marcus Francis","Catmose College","-",{"$f":"IF(C7=\"-\",0,C7)","v":0},"-",{"$f":"IF(E7=\"-\",0,E7)","v":0},7,{"$f":"IF(G7=\"-\",0,G7)","v":7},3,{"$f":"IF(I7=\"-\",0,I7)","v":3},"-",{"$f":"IF(K7=\"-\",0,K7)","v":0},{"$f":"Table1016[[#This Row],[School]]","v":"Catmose College"},{"$f":"D7+F7+H7+J7+L7","v":10},{"$f":"MAX(C7,E7,G7,I7,K7)","v":7},{"$f":"IF(Q7=1,N7,IF(Q7=0,(N7-O7),\"-\"))","v":"-"},{"$f":"$L$1-Table1016[Competed Count]","v":2},{"$f":"IF(Q7<2,\"Yes\",\"No\")","v":"No"},{"$f":"AND($C$1=\"Y\",D7>0)","v":false},{"$f":"AND($E$1=\"Y\",F7>0)","v":false},{"$f":"AND($G$1=\"Y\",H7>0)","v":true},{"$f":"AND($I$1=\"Y\",J7>0)","v":true},{"$f":"AND($K$1=\"Y\",L7>0)","v":false},{"$f":"COUNTIF(Table1016[[#This Row],[Competed 1]:[Competed 5]],\"=TRUE\")","v":2}]
["Ryan Elston ","Rawlins Academy",2,{"$f":"IF(C8=\"-\",0,C8)","v":2},"-",{"$f":"IF(E8=\"-\",0,E8)","v":0},5,{"$f":"IF(G8=\"-\",0,G8)","v":5},4,{"$f":"IF(I8=\"-\",0,I8)","v":4},"-",{"$f":"IF(K8=\"-\",0,K8)","v":0},{"$f":"Table1016[[#This Row],[School]]","v":"Rawlins Academy"},{"$f":"D8+F8+H8+J8+L8","v":11},{"$f":"MAX(C8,E8,G8,I8,K8)","v":5},{"$f":"IF(Q8=1,N8,IF(Q8=0,(N8-O8),\"-\"))","v":11},{"$f":"$L$1-Table1016[Competed Count]","v":1},{"$f":"IF(Q8<2,\"Yes\",\"No\")","v":"Yes"},{"$f":"AND($C$1=\"Y\",D8>0)","v":true},{"$f":"AND($E$1=\"Y\",F8>0)","v":false},{"$f":"AND($G$1=\"Y\",H8>0)","v":true},{"$f":"AND($I$1=\"Y\",J8>0)","v":true},{"$f":"AND($K$1=\"Y\",L8>0)","v":false},{"$f":"COUNTIF(Table1016[[#This Row],[Competed 1]:[Competed 5]],\"=TRUE\")","v":3}]
["Jamie Day","South Charnwood High School",1,{"$f":"IF(C9=\"-\",0,C9)","v":1},"-",{"$f":"IF(E9=\"-\",0,E9)","v":0},2,{"$f":"IF(G9=\"-\",0,G9)","v":2},5,{"$f":"IF(I9=\"-\",0,I9)","v":5},"-",{"$f":"IF(K9=\"-\",0,K9)","v":0},{"$f":"Table1016[[#This Row],[School]]","v":"South Charnwood High School"},{"$f":"D9+F9+H9+J9+L9","v":8},{"$f":"MAX(C9,E9,G9,I9,K9)","v":5},{"$f":"IF(Q9=1,N9,IF(Q9=0,(N9-O9),\"-\"))","v":8},{"$f":"$L$1-Table1016[Competed Count]","v":1},{"$f":"IF(Q9<2,\"Yes\",\"No\")","v":"Yes"},{"$f":"AND($C$1=\"Y\",D9>0)","v":true},{"$f":"AND($E$1=\"Y\",F9>0)","v":false},{"$f":"AND($G$1=\"Y\",H9>0)","v":true},{"$f":"AND($I$1=\"Y\",J9>0)","v":true},{"$f":"AND($K$1=\"Y\",L9>0)","v":false},{"$f":"COUNTIF(Table1016[[#This Row],[Competed 1]:[Competed 5]],\"=TRUE\")","v":3}]
["Owen Blair","John Ferneley College",4,{"$f":"IF(C10=\"-\",0,C10)","v":4},1,{"$f":"IF(E10=\"-\",0,E10)","v":1},6,{"$f":"IF(G10=\"-\",0,G10)","v":6},6,{"$f":"IF(I10=\"-\",0,I10)","v":6},"-",{"$f":"IF(K10=\"-\",0,K10)","v":0},{"$f":"Table1016[[#This Row],[School]]","v":"John Ferneley College"},{"$f":"D10+F10+H10+J10+L10","v":17},{"$f":"MAX(C10,E10,G10,I10,K10)","v":6},{"$f":"IF(Q10=1,N10,IF(Q10=0,(N10-O10),\"-\"))","v":11},{"$f":"$L$1-Table1016[Competed Count]","v":0},{"$f":"IF(Q10<2,\"Yes\",\"No\")","v":"Yes"},{"$f":"AND($C$1=\"Y\",D10>0)","v":true},{"$f":"AND($E$1=\"Y\",F10>0)","v":true},{"$f":"AND($G$1=\"Y\",H10>0)","v":true},{"$f":"AND($I$1=\"Y\",J10>0)","v":true},{"$f":"AND($K$1=\"Y\",L10>0)","v":false},{"$f":"COUNTIF(Table1016[[#This Row],[Competed 1]:[Competed 5]],\"=TRUE\")","v":4}]
["Seamus Hurst","De Lisle College",8,{"$f":"IF(C11=\"-\",0,C11)","v":8},6,{"$f":"IF(E11=\"-\",0,E11)","v":6},8,{"$f":"IF(G11=\"-\",0,G11)","v":8},7,{"$f":"IF(I11=\"-\",0,I11)","v":7},"-",{"$f":"IF(K11=\"-\",0,K11)","v":0},{"$f":"Table1016[[#This Row],[School]]","v":"De Lisle College"},{"$f":"D11+F11+H11+J11+L11","v":29},{"$f":"MAX(C11,E11,G11,I11,K11)","v":8},{"$f":"IF(Q11=1,N11,IF(Q11=0,(N11-O11),\"-\"))","v":21},{"$f":"$L$1-Table1016[Competed Count]","v":0},{"$f":"IF(Q11<2,\"Yes\",\"No\")","v":"Yes"},{"$f":"AND($C$1=\"Y\",D11>0)","v":true},{"$f":"AND($E$1=\"Y\",F11>0)","v":true},{"$f":"AND($G$1=\"Y\",H11>0)","v":true},{"$f":"AND($I$1=\"Y\",J11>0)","v":true},{"$f":"AND($K$1=\"Y\",L11>0)","v":false},{"$f":"COUNTIF(Table1016[[#This Row],[Competed 1]:[Competed 5]],\"=TRUE\")","v":4}]
["Charlie Combey","Brockington College",13,{"$f":"IF(C12=\"-\",0,C12)","v":13},4,{"$f":"IF(E12=\"-\",0,E12)","v":4},9,{"$f":"IF(G12=\"-\",0,G12)","v":9},8,{"$f":"IF(I12=\"-\",0,I12)","v":8},"-",{"$f":"IF(K12=\"-\",0,K12)","v":0},{"$f":"Table1016[[#This Row],[School]]","v":"Brockington College"},{"$f":"D12+F12+H12+J12+L12","v":34},{"$f":"MAX(C12,E12,G12,I12,K12)","v":13},{"$f":"IF(Q12=1,N12,IF(Q12=0,(N12-O12),\"-\"))","v":21},{"$f":"$L$1-Table1016[Competed Count]","v":0},{"$f":"IF(Q12<2,\"Yes\",\"No\")","v":"Yes"},{"$f":"AND($C$1=\"Y\",D12>0)","v":true},{"$f":"AND($E$1=\"Y\",F12>0)","v":true},{"$f":"AND($G$1=\"Y\",H12>0)","v":true},{"$f":"AND($I$1=\"Y\",J12>0)","v":true},{"$f":"AND($K$1=\"Y\",L12>0)","v":false},{"$f":"COUNTIF(Table1016[[#This Row],[Competed 1]:[Competed 5]],\"=TRUE\")","v":4}]
["Elliot Sneath","Welland Park Academy",17,{"$f":"IF(C13=\"-\",0,C13)","v":17},"-",{"$f":"IF(E13=\"-\",0,E13)","v":0},13,{"$f":"IF(G13=\"-\",0,G13)","v":13},9,{"$f":"IF(I13=\"-\",0,I13)","v":9},"-",{"$f":"IF(K13=\"-\",0,K13)","v":0},{"$f":"Table1016[[#This Row],[School]]","v":"Welland Park Academy"},{"$f":"D13+F13+H13+J13+L13","v":39},{"$f":"MAX(C13,E13,G13,I13,K13)","v":17},{"$f":"IF(Q13=1,N13,IF(Q13=0,(N13-O13),\"-\"))","v":39},{"$f":"$L$1-Table1016[Competed Count]","v":1},{"$f":"IF(Q13<2,\"Yes\",\"No\")","v":"Yes"},{"$f":"AND($C$1=\"Y\",D13>0)","v":true},{"$f":"AND($E$1=\"Y\",F13>0)","v":false},{"$f":"AND($G$1=\"Y\",H13>0)","v":true},{"$f":"AND($I$1=\"Y\",J13>0)","v":true},{"$f":"AND($K$1=\"Y\",L13>0)","v":false},{"$f":"COUNTIF(Table1016[[#This Row],[Competed 1]:[Competed 5]],\"=TRUE\")","v":3}]
["Oliver Lewin","Uppingham CC",11,{"$f":"IF(C14=\"-\",0,C14)","v":11},"-",{"$f":"IF(E14=\"-\",0,E14)","v":0},20,{"$f":"IF(G14=\"-\",0,G14)","v":20},10,{"$f":"IF(I14=\"-\",0,I14)","v":10},"-",{"$f":"IF(K14=\"-\",0,K14)","v":0},{"$f":"Table1016[[#This Row],[School]]","v":"Uppingham CC"},{"$f":"D14+F14+H14+J14+L14","v":41},{"$f":"MAX(C14,E14,G14,I14,K14)","v":20},{"$f":"IF(Q14=1,N14,IF(Q14=0,(N14-O14),\"-\"))","v":41},{"$f":"$L$1-Table1016[Competed Count]","v":1},{"$f":"IF(Q14<2,\"Yes\",\"No\")","v":"Yes"},{"$f":"AND($C$1=\"Y\",D14>0)","v":true},{"$f":"AND($E$1=\"Y\",F14>0)","v":false},{"$f":"AND($G$1=\"Y\",H14>0)","v":true},{"$f":"AND($I$1=\"Y\",J14>0)","v":true},{"$f":"AND($K$1=\"Y\",L14>0)","v":false},{"$f":"COUNTIF(Table1016[[#This Row],[Competed 1]:[Competed 5]],\"=TRUE\")","v":3}]
["Harvey Finch","Welland Park Academy",21,{"$f":"IF(C15=\"-\",0,C15)","v":21},17,{"$f":"IF(E15=\"-\",0,E15)","v":17},14,{"$f":"IF(G15=\"-\",0,G15)","v":14},11,{"$f":"IF(I15=\"-\",0,I15)","v":11},"-",{"$f":"IF(K15=\"-\",0,K15)","v":0},{"$f":"Table1016[[#This Row],[School]]","v":"Welland Park Academy"},{"$f":"D15+F15+H15+J15+L15","v":63},{"$f":"MAX(C15,E15,G15,I15,K15)","v":21},{"$f":"IF(Q15=1,N15,IF(Q15=0,(N15-O15),\"-\"))","v":42},{"$f":"$L$1-Table1016[Competed Count]","v":0},{"$f":"IF(Q15<2,\"Yes\",\"No\")","v":"Yes"},{"$f":"AND($C$1=\"Y\",D15>0)","v":true},{"$f":"AND($E$1=\"Y\",F15>0)","v":true},{"$f":"AND($G$1=\"Y\",H15>0)","v":true},{"$f":"AND($I$1=\"Y\",J15>0)","v":true},{"$f":"AND($K$1=\"Y\",L15>0)","v":false},{"$f":"COUNTIF(Table1016[[#This Row],[Competed 1]:[Competed 5]],\"=TRUE\")","v":4}]
["Alex Villamartin","Welland Park Academy",16,{"$f":"IF(C16=\"-\",0,C16)","v":16},9,{"$f":"IF(E16=\"-\",0,E16)","v":9},12,{"$f":"IF(G16=\"-\",0,G16)","v":12},12,{"$f":"IF(I16=\"-\",0,I16)","v":12},"-",{"$f":"IF(K16=\"-\",0,K16)","v":0},{"$f":"Table1016[[#This Row],[School]]","v":"Welland Park Academy"},{"$f":"D16+F16+H16+J16+L16","v":49},{"$f":"MAX(C16,E16,G16,I16,K16)","v":16},{"$f":"IF(Q16=1,N16,IF(Q16=0,(N16-O16),\"-\"))","v":33},{"$f":"$L$1-Table1016[Competed Count]","v":0},{"$f":"IF(Q16<2,\"Yes\",\"No\")","v":"Yes"},{"$f":"AND($C$1=\"Y\",D16>0)","v":true},{"$f":"AND($E$1=\"Y\",F16>0)","v":true},{"$f":"AND($G$1=\"Y\",H16>0)","v":true},{"$f":"AND($I$1=\"Y\",J16>0)","v":true},{"$f":"AND($K$1=\"Y\",L16>0)","v":false},{"$f":"COUNTIF(Table1016[[#This Row],[Competed 1]:[Competed 5]],\"=TRUE\")","v":4}]
["Charlie Rennie","Leicester Grammar School",14,{"$f":"IF(C17=\"-\",0,C17)","v":14},"-",{"$f":"IF(E17=\"-\",0,E17)","v":0},"-",{"$f":"IF(G17=\"-\",0,G17)","v":0},13,{"$f":"IF(I17=\"-\",0,I17)","v":13},"-",{"$f":"IF(K17=\"-\",0,K17)","v":0},{"$f":"Table1016[[#This Row],[School]]","v":"Leicester Grammar School"},{"$f":"D17+F17+H17+J17+L17","v":27},{"$f":"MAX(C17,E17,G17,I17,K17)","v":14},{"$f":"IF(Q17=1,N17,IF(Q17=0,(N17-O17),\"-\"))","v":"-"},{"$f":"$L$1-Table1016[Competed Count]","v":2},{"$f":"IF(Q17<2,\"Yes\",\"No\")","v":"No"},{"$f":"AND($C$1=\"Y\",D17>0)","v":true},{"$f":"AND($E$1=\"Y\",F17>0)","v":false},{"$f":"AND($G$1=\"Y\",H17>0)","v":false},{"$f":"AND($I$1=\"Y\",J17>0)","v":true},{"$f":"AND($K$1=\"Y\",L17>0)","v":false},{"$f":"COUNTIF(Table1016[[#This Row],[Competed 1]:[Competed 5]],\"=TRUE\")","v":2}]
["Aaron Mason","Wigston Academy",15,{"$f":"IF(C18=\"-\",0,C18)","v":15},11,{"$f":"IF(E18=\"-\",0,E18)","v":11},16,{"$f":"IF(G18=\"-\",0,G18)","v":16},14,{"$f":"IF(I18=\"-\",0,I18)","v":14},"-",{"$f":"IF(K18=\"-\",0,K18)","v":0},{"$f":"Table1016[[#This Row],[School]]","v":"Wigston Academy"},{"$f":"D18+F18+H18+J18+L18","v":56},{"$f":"MAX(C18,E18,G18,I18,K18)","v":16},{"$f":"IF(Q18=1,N18,IF(Q18=0,(N18-O18),\"-\"))","v":40},{"$f":"$L$1-Table1016[Competed Count]","v":0},{"$f":"IF(Q18<2,\"Yes\",\"No\")","v":"Yes"},{"$f":"AND($C$1=\"Y\",D18>0)","v":true},{"$f":"AND($E$1=\"Y\",F18>0)","v":true},{"$f":"AND($G$1=\"Y\",H18>0)","v":true},{"$f":"AND($I$1=\"Y\",J18>0)","v":true},{"$f":"AND($K$1=\"Y\",L18>0)","v":false},{"$f":"COUNTIF(Table1016[[#This Row],[Competed 1]:[Competed 5]],\"=TRUE\")","v":4}]
["Sandy Jarvis","Loughborough Grammar School",12,{"$f":"IF(C19=\"-\",0,C19)","v":12},10,{"$f":"IF(E19=\"-\",0,E19)","v":10},17,{"$f":"IF(G19=\"-\",0,G19)","v":17},15,{"$f":"IF(I19=\"-\",0,I19)","v":15},"-",{"$f":"IF(K19=\"-\",0,K19)","v":0},{"$f":"Table1016[[#This Row],[School]]","v":"Loughborough Grammar School"},{"$f":"D19+F19+H19+J19+L19","v":54},{"$f":"MAX(C19,E19,G19,I19,K19)","v":17},{"$f":"IF(Q19=1,N19,IF(Q19=0,(N19-O19),\"-\"))","v":37},{"$f":"$L$1-Table1016[Competed Count]","v":0},{"$f":"IF(Q19<2,\"Yes\",\"No\")","v":"Yes"},{"$f":"AND($C$1=\"Y\",D19>0)","v":true},{"$f":"AND($E$1=\"Y\",F19>0)","v":true},{"$f":"AND($G$1=\"Y\",H19>0)","v":true},{"$f":"AND($I$1=\"Y\",J19>0)","v":true},{"$f":"AND($K$1=\"Y\",L19>0)","v":false},{"$f":"COUNTIF(Table1016[[#This Row],[Competed 1]:[Competed 5]],\"=TRUE\")","v":4}]
["Colin Foord","Charnwood College",20,{"$f":"IF(C20=\"-\",0,C20)","v":20},"-",{"$f":"IF(E20=\"-\",0,E20)","v":0},26,{"$f":"IF(G20=\"-\",0,G20)","v":26},16,{"$f":"IF(I20=\"-\",0,I20)","v":16},"-",{"$f":"IF(K20=\"-\",0,K20)","v":0},{"$f":"Table1016[[#This Row],[School]]","v":"Charnwood College"},{"$f":"D20+F20+H20+J20+L20","v":62},{"$f":"MAX(C20,E20,G20,I20,K20)","v":26},{"$f":"IF(Q20=1,N20,IF(Q20=0,(N20-O20),\"-\"))","v":62},{"$f":"$L$1-Table1016[Competed Count]","v":1},{"$f":"IF(Q20<2,\"Yes\",\"No\")","v":"Yes"},{"$f":"AND($C$1=\"Y\",D20>0)","v":true},{"$f":"AND($E$1=\"Y\",F20>0)","v":false},{"$f":"AND($G$1=\"Y\",H20>0)","v":true},{"$f":"AND($I$1=\"Y\",J20>0)","v":true},{"$f":"AND($K$1=\"Y\",L20>0)","v":false},{"$f":"COUNTIF(Table1016[[#This Row],[Competed 1]:[Competed 5]],\"=TRUE\")","v":3}]
["Sam Lowings","Catmose College",19,{"$f":"IF(C21=\"-\",0,C21)","v":19},13,{"$f":"IF(E21=\"-\",0,E21)","v":13},15,{"$f":"IF(G21=\"-\",0,G21)","v":15},17,{"$f":"IF(I21=\"-\",0,I21)","v":17},"-",{"$f":"IF(K21=\"-\",0,K21)","v":0},{"$f":"Table1016[[#This Row],[School]]","v":"Catmose College"},{"$f":"D21+F21+H21+J21+L21","v":64},{"$f":"MAX(C21,E21,G21,I21,K21)","v":19},{"$f":"IF(Q21=1,N21,IF(Q21=0,(N21-O21),\"-\"))","v":45},{"$f":"$L$1-Table1016[Competed Count]","v":0},{"$f":"IF(Q21<2,\"Yes\",\"No\")","v":"Yes"},{"$f":"AND($C$1=\"Y\",D21>0)","v":true},{"$f":"AND($E$1=\"Y\",F21>0)","v":true},{"$f":"AND($G$1=\"Y\",H21>0)","v":true},{"$f":"AND($I$1=\"Y\",J21>0)","v":true},{"$f":"AND($K$1=\"Y\",L21>0)","v":false},{"$f":"COUNTIF(Table1016[[#This Row],[Competed 1]:[Competed 5]],\"=TRUE\")","v":4}]
["Tycho Parkes","St Pauls Catholic School",34,{"$f":"IF(C22=\"-\",0,C22)","v":34},14,{"$f":"IF(E22=\"-\",0,E22)","v":14},34,{"$f":"IF(G22=\"-\",0,G22)","v":34},18,{"$f":"IF(I22=\"-\",0,I22)","v":18},"-",{"$f":"IF(K22=\"-\",0,K22)","v":0},{"$f":"Table1016[[#This Row],[School]]","v":"St Pauls Catholic School"},{"$f":"D22+F22+H22+J22+L22","v":100},{"$f":"MAX(C22,E22,G22,I22,K22)","v":34},{"$f":"IF(Q22=1,N22,IF(Q22=0,(N22-O22),\"-\"))","v":66},{"$f":"$L$1-Table1016[Competed Count]","v":0},{"$f":"IF(Q22<2,\"Yes\",\"No\")","v":"Yes"},{"$f":"AND($C$1=\"Y\",D22>0)","v":true},{"$f":"AND($E$1=\"Y\",F22>0)","v":true},{"$f":"AND($G$1=\"Y\",H22>0)","v":true},{"$f":"AND($I$1=\"Y\",J22>0)","v":true},{"$f":"AND($K$1=\"Y\",L22>0)","v":false},{"$f":"COUNTIF(Table1016[[#This Row],[Competed 1]:[Competed 5]],\"=TRUE\")","v":4}]
["Adam Stewart","Welland Park Academy","-",{"$f":"IF(C23=\"-\",0,C23)","v":0},"-",{"$f":"IF(E23=\"-\",0,E23)","v":0},"-",{"$f":"IF(G23=\"-\",0,G23)","v":0},19,{"$f":"IF(I23=\"-\",0,I23)","v":19},"-",{"$f":"IF(K23=\"-\",0,K23)","v":0},{"$f":"Table1016[[#This Row],[School]]","v":"Welland Park Academy"},{"$f":"D23+F23+H23+J23+L23","v":19},{"$f":"MAX(C23,E23,G23,I23,K23)","v":19},{"$f":"IF(Q23=1,N23,IF(Q23=0,(N23-O23),\"-\"))","v":"-"},{"$f":"$L$1-Table1016[Competed Count]","v":3},{"$f":"IF(Q23<2,\"Yes\",\"No\")","v":"No"},{"$f":"AND($C$1=\"Y\",D23>0)","v":false},{"$f":"AND($E$1=\"Y\",F23>0)","v":false},{"$f":"AND($G$1=\"Y\",H23>0)","v":false},{"$f":"AND($I$1=\"Y\",J23>0)","v":true},{"$f":"AND($K$1=\"Y\",L23>0)","v":false},{"$f":"COUNTIF(Table1016[[#This Row],[Competed 1]:[Competed 5]],\"=TRUE\")","v":1}]
["Kian Traynor","Lutterworth College",22,{"$f":"IF(C24=\"-\",0,C24)","v":22},"-",{"$f":"IF(E24=\"-\",0,E24)","v":0},18,{"$f":"IF(G24=\"-\",0,G24)","v":18},20,{"$f":"IF(I24=\"-\",0,I24)","v":20},"-",{"$f":"IF(K24=\"-\",0,K24)","v":0},{"$f":"Table1016[[#This Row],[School]]","v":"Lutterworth College"},{"$f":"D24+F24+H24+J24+L24","v":60},{"$f":"MAX(C24,E24,G24,I24,K24)","v":22},{"$f":"IF(Q24=1,N24,IF(Q24=0,(N24-O24),\"-\"))","v":60},{"$f":"$L$1-Table1016[Competed Count]","v":1},{"$f":"IF(Q24<2,\"Yes\",\"No\")","v":"Yes"},{"$f":"AND($C$1=\"Y\",D24>0)","v":true},{"$f":"AND($E$1=\"Y\",F24>0)","v":false},{"$f":"AND($G$1=\"Y\",H24>0)","v":true},{"$f":"AND($I$1=\"Y\",J24>0)","v":true},{"$f":"AND($K$1=\"Y\",L24>0)","v":false},{"$f":"COUNTIF(Table1016[[#This Row],[Competed 1]:[Competed 5]],\"=TRUE\")","v":3}]
["Lucas Spence","Brookvale High School",10,{"$f":"IF(C25=\"-\",0,C25)","v":10},5,{"$f":"IF(E25=\"-\",0,E25)","v":5},28,{"$f":"IF(G25=\"-\",0,G25)","v":28},21,{"$f":"IF(I25=\"-\",0,I25)","v":21},"-",{"$f":"IF(K25=\"-\",0,K25)","v":0},{"$f":"Table1016[[#This Row],[School]]","v":"Brookvale High School"},{"$f":"D25+F25+H25+J25+L25","v":64},{"$f":"MAX(C25,E25,G25,I25,K25)","v":28},{"$f":"IF(Q25=1,N25,IF(Q25=0,(N25-O25),\"-\"))","v":36},{"$f":"$L$1-Table1016[Competed Count]","v":0},{"$f":"IF(Q25<2,\"Yes\",\"No\")","v":"Yes"},{"$f":"AND($C$1=\"Y\",D25>0)","v":true},{"$f":"AND($E$1=\"Y\",F25>0)","v":true},{"$f":"AND($G$1=\"Y\",H25>0)","v":true},{"$f":"AND($I$1=\"Y\",J25>0)","v":true},{"$f":"AND($K$1=\"Y\",L25>0)","v":false},{"$f":"COUNTIF(Table1016[[#This Row],[Competed 1]:[Competed 5]],\"=TRUE\")","v":4}]
["Archie Adams","Catmose College",31,{"$f":"IF(C26=\"-\",0,C26)","v":31},12,{"$f":"IF(E26=\"-\",0,E26)","v":12},33,{"$f":"IF(G26=\"-\",0,G26)","v":33},22,{"$f":"IF(I26=\"-\",0,I26)","v":22},"-",{"$f":"IF(K26=\"-\",0,K26)","v":0},{"$f":"Table1016[[#This Row],[School]]","v":"Catmose College"},{"$f":"D26+F26+H26+J26+L26","v":98},{"$f":"MAX(C26,E26,G26,I26,K26)","v":33},{"$f":"IF(Q26=1,N26,IF(Q26=0,(N26-O26),\"-\"))","v":65},{"$f":"$L$1-Table1016[Competed Count]","v":0},{"$f":"IF(Q26<2,\"Yes\",\"No\")","v":"Yes"},{"$f":"AND($C$1=\"Y\",D26>0)","v":true},{"$f":"AND($E$1=\"Y\",F26>0)","v":true},{"$f":"AND($G$1=\"Y\",H26>0)","v":true},{"$f":"AND($I$1=\"Y\",J26>0)","v":true},{"$f":"AND($K$1=\"Y\",L26>0)","v":false},{"$f":"COUNTIF(Table1016[[#This Row],[Competed 1]:[Competed 5]],\"=TRUE\")","v":4}]
["Harry Window","Catmose College","-",{"$f":"IF(C27=\"-\",0,C27)","v":0},15,{"$f":"IF(E27=\"-\",0,E27)","v":15},23,{"$f":"IF(G27=\"-\",0,G27)","v":23},23,{"$f":"IF(I27=\"-\",0,I27)","v":23},"-",{"$f":"IF(K27=\"-\",0,K27)","v":0},{"$f":"Table1016[[#This Row],[School]]","v":"Catmose College"},{"$f":"D27+F27+H27+J27+L27","v":61},{"$f":"MAX(C27,E27,G27,I27,K27)","v":23},{"$f":"IF(Q27=1,N27,IF(Q27=0,(N27-O27),\"-\"))","v":61},{"$f":"$L$1-Table1016[Competed Count]","v":1},{"$f":"IF(Q27<2,\"Yes\",\"No\")","v":"Yes"},{"$f":"AND($C$1=\"Y\",D27>0)","v":false},{"$f":"AND($E$1=\"Y\",F27>0)","v":true},{"$f":"AND($G$1=\"Y\",H27>0)","v":true},{"$f":"AND($I$1=\"Y\",J27>0)","v":true},{"$f":"AND($K$1=\"Y\",L27>0)","v":false},{"$f":"COUNTIF(Table1016[[#This Row],[Competed 1]:[Competed 5]],\"=TRUE\")","v":3}]
["William Way","Catmose College",39,{"$f":"IF(C28=\"-\",0,C28)","v":39},24,{"$f":"IF(E28=\"-\",0,E28)","v":24},32,{"$f":"IF(G28=\"-\",0,G28)","v":32},24,{"$f":"IF(I28=\"-\",0,I28)","v":24},"-",{"$f":"IF(K28=\"-\",0,K28)","v":0},{"$f":"Table1016[[#This Row],[School]]","v":"Catmose College"},{"$f":"D28+F28+H28+J28+L28","v":119},{"$f":"MAX(C28,E28,G28,I28,K28)","v":39},{"$f":"IF(Q28=1,N28,IF(Q28=0,(N28-O28),\"-\"))","v":80},{"$f":"$L$1-Table1016[Competed Count]","v":0},{"$f":"IF(Q28<2,\"Yes\",\"No\")","v":"Yes"},{"$f":"AND($C$1=\"Y\",D28>0)","v":true},{"$f":"AND($E$1=\"Y\",F28>0)","v":true},{"$f":"AND($G$1=\"Y\",H28>0)","v":true},{"$f":"AND($I$1=\"Y\",J28>0)","v":true},{"$f":"AND($K$1=\"Y\",L28>0)","v":false},{"$f":"COUNTIF(Table1016[[#This Row],[Competed 1]:[Competed 5]],\"=TRUE\")","v":4}]
["W Moat","Loughborough Grammar School","-",{"$f":"IF(C29=\"-\",0,C29)","v":0},"-",{"$f":"IF(E29=\"-\",0,E29)","v":0},"-",{"$f":"IF(G29=\"-\",0,G29)","v":0},25,{"$f":"IF(I29=\"-\",0,I29)","v":25},"-",{"$f":"IF(K29=\"-\",0,K29)","v":0},{"$f":"Table1016[[#This Row],[School]]","v":"Loughborough Grammar School"},{"$f":"D29+F29+H29+J29+L29","v":25},{"$f":"MAX(C29,E29,G29,I29,K29)","v":25},{"$f":"IF(Q29=1,N29,IF(Q29=0,(N29-O29),\"-\"))","v":"-"},{"$f":"$L$1-Table1016[Competed Count]","v":3},{"$f":"IF(Q29<2,\"Yes\",\"No\")","v":"No"},{"$f":"AND($C$1=\"Y\",D29>0)","v":false},{"$f":"AND($E$1=\"Y\",F29>0)","v":false},{"$f":"AND($G$1=\"Y\",H29>0)","v":false},{"$f":"AND($I$1=\"Y\",J29>0)","v":true},{"$f":"AND($K$1=\"Y\",L29>0)","v":false},{"$f":"COUNTIF(Table1016[[#This Row],[Competed 1]:[Competed 5]],\"=TRUE\")","v":1}]
["Sam Proctor","Thomas Estley CC",24,{"$f":"IF(C30=\"-\",0,C30)","v":24},16,{"$f":"IF(E30=\"-\",0,E30)","v":16},"-",{"$f":"IF(G30=\"-\",0,G30)","v":0},26,{"$f":"IF(I30=\"-\",0,I30)","v":26},"-",{"$f":"IF(K30=\"-\",0,K30)","v":0},{"$f":"Table1016[[#This Row],[School]]","v":"Thomas Estley CC"},{"$f":"D30+F30+H30+J30+L30","v":66},{"$f":"MAX(C30,E30,G30,I30,K30)","v":26},{"$f":"IF(Q30=1,N30,IF(Q30=0,(N30-O30),\"-\"))","v":66},{"$f":"$L$1-Table1016[Competed Count]","v":1},{"$f":"IF(Q30<2,\"Yes\",\"No\")","v":"Yes"},{"$f":"AND($C$1=\"Y\",D30>0)","v":true},{"$f":"AND($E$1=\"Y\",F30>0)","v":true},{"$f":"AND($G$1=\"Y\",H30>0)","v":false},{"$f":"AND($I$1=\"Y\",J30>0)","v":true},{"$f":"AND($K$1=\"Y\",L30>0)","v":false},{"$f":"COUNTIF(Table1016[[#This Row],[Competed 1]:[Competed 5]],\"=TRUE\")","v":3}]
["Jack Welsh","Catmose College",54,{"$f":"IF(C31=\"-\",0,C31)","v":54},21,{"$f":"IF(E31=\"-\",0,E31)","v":21},29,{"$f":"IF(G31=\"-\",0,G31)","v":29},27,{"$f":"IF(I31=\"-\",0,I31)","v":27},"-",{"$f":"IF(K31=\"-\",0,K31)","v":0},{"$f":"Table1016[[#This Row],[School]]","v":"Catmose College"},{"$f":"D31+F31+H31+J31+L31","v":131},{"$f":"MAX(C31,E31,G31,I31,K31)","v":54},{"$f":"IF(Q31=1,N31,IF(Q31=0,(N31-O31),\"-\"))","v":77},{"$f":"$L$1-Table1016[Competed Count]","v":0},{"$f":"IF(Q31<2,\"Yes\",\"No\")","v":"Yes"},{"$f":"AND($C$1=\"Y\",D31>0)","v":true},{"$f":"AND($E$1=\"Y\",F31>0)","v":true},{"$f":"AND($G$1=\"Y\",H31>0)","v":true},{"$f":"AND($I$1=\"Y\",J31>0)","v":true},{"$f":"AND($K$1=\"Y\",L31>0)","v":false},{"$f":"COUNTIF(Table1016[[#This Row],[Competed 1]:[Competed 5]],\"=TRUE\")","v":4}]
["Will Deely","Uppingham CC",28,{"$f":"IF(C32=\"-\",0,C32)","v":28},23,{"$f":"IF(E32=\"-\",0,E32)","v":23},31,{"$f":"IF(G32=\"-\",0,G32)","v":31},28,{"$f":"IF(I32=\"-\",0,I32)","v":28},"-",{"$f":"IF(K32=\"-\",0,K32)","v":0},{"$f":"Table1016[[#This Row],[School]]","v":"Uppingham CC"},{"$f":"D32+F32+H32+J32+L32","v":110},{"$f":"MAX(C32,E32,G32,I32,K32)","v":31},{"$f":"IF(Q32=1,N32,IF(Q32=0,(N32-O32),\"-\"))","v":79},{"$f":"$L$1-Table1016[Competed Count]","v":0},{"$f":"IF(Q32<2,\"Yes\",\"No\")","v":"Yes"},{"$f":"AND($C$1=\"Y\",D32>0)","v":true},{"$f":"AND($E$1=\"Y\",F32>0)","v":true},{"$f":"AND($G$1=\"Y\",H32>0)","v":true},{"$f":"AND($I$1=\"Y\",J32>0)","v":true},{"$f":"AND($K$1=\"Y\",L32>0)","v":false},{"$f":"COUNTIF(Table1016[[#This Row],[Competed 1]:[Competed 5]],\"=TRUE\")","v":4}]
["Keelan Bourne","Ivanhoe College","-",{"$f":"IF(C33=\"-\",0,C33)","v":0},"-",{"$f":"IF(E33=\"-\",0,E33)","v":0},"-",{"$f":"IF(G33=\"-\",0,G33)","v":0},29,{"$f":"IF(I33=\"-\",0,I33)","v":29},"-",{"$f":"IF(K33=\"-\",0,K33)","v":0},{"$f":"Table1016[[#This Row],[School]]","v":"Ivanhoe College"},{"$f":"D33+F33+H33+J33+L33","v":29},{"$f":"MAX(C33,E33,G33,I33,K33)","v":29},{"$f":"IF(Q33=1,N33,IF(Q33=0,(N33-O33),\"-\"))","v":"-"},{"$f":"$L$1-Table1016[Competed Count]","v":3},{"$f":"IF(Q33<2,\"Yes\",\"No\")","v":"No"},{"$f":"AND($C$1=\"Y\",D33>0)","v":false},{"$f":"AND($E$1=\"Y\",F33>0)","v":false},{"$f":"AND($G$1=\"Y\",H33>0)","v":false},{"$f":"AND($I$1=\"Y\",J33>0)","v":true},{"$f":"AND($K$1=\"Y\",L33>0)","v":false},{"$f":"COUNTIF(Table1016[[#This Row],[Competed 1]:[Competed 5]],\"=TRUE\")","v":1}]
["Toby Smith","Castle Rock High School",38,{"$f":"IF(C34=\"-\",0,C34)","v":38},32,{"$f":"IF(E34=\"-\",0,E34)","v":32},"-",{"$f":"IF(G34=\"-\",0,G34)","v":0},30,{"$f":"IF(I34=\"-\",0,I34)","v":30},"-",{"$f":"IF(K34=\"-\",0,K34)","v":0},{"$f":"Table1016[[#This Row],[School]]","v":"Castle Rock High School"},{"$f":"D34+F34+H34+J34+L34","v":100},{"$f":"MAX(C34,E34,G34,I34,K34)","v":38},{"$f":"IF(Q34=1,N34,IF(Q34=0,(N34-O34),\"-\"))","v":100},{"$f":"$L$1-Table1016[Competed Count]","v":1},{"$f":"IF(Q34<2,\"Yes\",\"No\")","v":"Yes"},{"$f":"AND($C$1=\"Y\",D34>0)","v":true},{"$f":"AND($E$1=\"Y\",F34>0)","v":true},{"$f":"AND($G$1=\"Y\",H34>0)","v":false},{"$f":"AND($I$1=\"Y\",J34>0)","v":true},{"$f":"AND($K$1=\"Y\",L34>0)","v":false},{"$f":"COUNTIF(Table1016[[#This Row],[Competed 1]:[Competed 5]],\"=TRUE\")","v":3}]
["Daniel Armstrong","South Charnwood High School","-",{"$f":"IF(C35=\"-\",0,C35)","v":0},"-",{"$f":"IF(E35=\"-\",0,E35)","v":0},"-",{"$f":"IF(G35=\"-\",0,G35)","v":0},31,{"$f":"IF(I35=\"-\",0,I35)","v":31},"-",{"$f":"IF(K35=\"-\",0,K35)","v":0},{"$f":"Table1016[[#This Row],[School]]","v":"South Charnwood High School"},{"$f":"D35+F35+H35+J35+L35","v":31},{"$f":"MAX(C35,E35,G35,I35,K35)","v":31},{"$f":"IF(Q35=1,N35,IF(Q35=0,(N35-O35),\"-\"))","v":"-"},{"$f":"$L$1-Table1016[Competed Count]","v":3},{"$f":"IF(Q35<2,\"Yes\",\"No\")","v":"No"},{"$f":"AND($C$1=\"Y\",D35>0)","v":false},{"$f":"AND($E$1=\"Y\",F35>0)","v":false},{"$f":"AND($G$1=\"Y\",H35>0)","v":false},{"$f":"AND($I$1=\"Y\",J35>0)","v":true},{"$f":"AND($K$1=\"Y\",L35>0)","v":false},{"$f":"COUNTIF(Table1016[[#This Row],[Competed 1]:[Competed 5]],\"=TRUE\")","v":1}]
["James Noble","The Martin High School","-",{"$f":"IF(C36=\"-\",0,C36)","v":0},"-",{"$f":"IF(E36=\"-\",0,E36)","v":0},"-",{"$f":"IF(G36=\"-\",0,G36)","v":0},32,{"$f":"IF(I36=\"-\",0,I36)","v":32},"-",{"$f":"IF(K36=\"-\",0,K36)","v":0},{"$f":"Table1016[[#This Row],[School]]","v":"The Martin High School"},{"$f":"D36+F36+H36+J36+L36","v":32},{"$f":"MAX(C36,E36,G36,I36,K36)","v":32},{"$f":"IF(Q36=1,N36,IF(Q36=0,(N36-O36),\"-\"))","v":"-"},{"$f":"$L$1-Table1016[Competed Count]","v":3},{"$f":"IF(Q36<2,\"Yes\",\"No\")","v":"No"},{"$f":"AND($C$1=\"Y\",D36>0)","v":false},{"$f":"AND($E$1=\"Y\",F36>0)","v":false},{"$f":"AND($G$1=\"Y\",H36>0)","v":false},{"$f":"AND($I$1=\"Y\",J36>0)","v":true},{"$f":"AND($K$1=\"Y\",L36>0)","v":false},{"$f":"COUNTIF(Table1016[[#This Row],[Competed 1]:[Competed 5]],\"=TRUE\")","v":1}]
["Antoine Preston","Brockington College","-",{"$f":"IF(C37=\"-\",0,C37)","v":0},30,{"$f":"IF(E37=\"-\",0,E37)","v":30},41,{"$f":"IF(G37=\"-\",0,G37)","v":41},33,{"$f":"IF(I37=\"-\",0,I37)","v":33},"-",{"$f":"IF(K37=\"-\",0,K37)","v":0},{"$f":"Table1016[[#This Row],[School]]","v":"Brockington College"},{"$f":"D37+F37+H37+J37+L37","v":104},{"$f":"MAX(C37,E37,G37,I37,K37)","v":41},{"$f":"IF(Q37=1,N37,IF(Q37=0,(N37-O37),\"-\"))","v":104},{"$f":"$L$1-Table1016[Competed Count]","v":1},{"$f":"IF(Q37<2,\"Yes\",\"No\")","v":"Yes"},{"$f":"AND($C$1=\"Y\",D37>0)","v":false},{"$f":"AND($E$1=\"Y\",F37>0)","v":true},{"$f":"AND($G$1=\"Y\",H37>0)","v":true},{"$f":"AND($I$1=\"Y\",J37>0)","v":true},{"$f":"AND($K$1=\"Y\",L37>0)","v":false},{"$f":"COUNTIF(Table1016[[#This Row],[Competed 1]:[Competed 5]],\"=TRUE\")","v":3}]
["Barnaby Smith","Uppingham CC",59,{"$f":"IF(C38=\"-\",0,C38)","v":59},41,{"$f":"IF(E38=\"-\",0,E38)","v":41},42,{"$f":"IF(G38=\"-\",0,G38)","v":42},34,{"$f":"IF(I38=\"-\",0,I38)","v":34},"-",{"$f":"IF(K38=\"-\",0,K38)","v":0},{"$f":"Table1016[[#This Row],[School]]","v":"Uppingham CC"},{"$f":"D38+F38+H38+J38+L38","v":176},{"$f":"MAX(C38,E38,G38,I38,K38)","v":59},{"$f":"IF(Q38=1,N38,IF(Q38=0,(N38-O38),\"-\"))","v":117},{"$f":"$L$1-Table1016[Competed Count]","v":0},{"$f":"IF(Q38<2,\"Yes\",\"No\")","v":"Yes"},{"$f":"AND($C$1=\"Y\",D38>0)","v":true},{"$f":"AND($E$1=\"Y\",F38>0)","v":true},{"$f":"AND($G$1=\"Y\",H38>0)","v":true},{"$f":"AND($I$1=\"Y\",J38>0)","v":true},{"$f":"AND($K$1=\"Y\",L38>0)","v":false},{"$f":"COUNTIF(Table1016[[#This Row],[Competed 1]:[Competed 5]],\"=TRUE\")","v":4}]
["Ben Copley","John Ferneley College",48,{"$f":"IF(C39=\"-\",0,C39)","v":48},27,{"$f":"IF(E39=\"-\",0,E39)","v":27},"-",{"$f":"IF(G39=\"-\",0,G39)","v":0},35,{"$f":"IF(I39=\"-\",0,I39)","v":35},"-",{"$f":"IF(K39=\"-\",0,K39)","v":0},{"$f":"Table1016[[#This Row],[School]]","v":"John Ferneley College"},{"$f":"D39+F39+H39+J39+L39","v":110},{"$f":"MAX(C39,E39,G39,I39,K39)","v":48},{"$f":"IF(Q39=1,N39,IF(Q39=0,(N39-O39),\"-\"))","v":110},{"$f":"$L$1-Table1016[Competed Count]","v":1},{"$f":"IF(Q39<2,\"Yes\",\"No\")","v":"Yes"},{"$f":"AND($C$1=\"Y\",D39>0)","v":true},{"$f":"AND($E$1=\"Y\",F39>0)","v":true},{"$f":"AND($G$1=\"Y\",H39>0)","v":false},{"$f":"AND($I$1=\"Y\",J39>0)","v":true},{"$f":"AND($K$1=\"Y\",L39>0)","v":false},{"$f":"COUNTIF(Table1016[[#This Row],[Competed 1]:[Competed 5]],\"=TRUE\")","v":3}]
["Peter Atkins","De Lisle College",57,{"$f":"IF(C40=\"-\",0,C40)","v":57},"-",{"$f":"IF(E40=\"-\",0,E40)","v":0},"-",{"$f":"IF(G40=\"-\",0,G40)","v":0},36,{"$f":"IF(I40=\"-\",0,I40)","v":36},"-",{"$f":"IF(K40=\"-\",0,K40)","v":0},{"$f":"Table1016[[#This Row],[School]]","v":"De Lisle College"},{"$f":"D40+F40+H40+J40+L40","v":93},{"$f":"MAX(C40,E40,G40,I40,K40)","v":57},{"$f":"IF(Q40=1,N40,IF(Q40=0,(N40-O40),\"-\"))","v":"-"},{"$f":"$L$1-Table1016[Competed Count]","v":2},{"$f":"IF(Q40<2,\"Yes\",\"No\")","v":"No"},{"$f":"AND($C$1=\"Y\",D40>0)","v":true},{"$f":"AND($E$1=\"Y\",F40>0)","v":false},{"$f":"AND($G$1=\"Y\",H40>0)","v":false},{"$f":"AND($I$1=\"Y\",J40>0)","v":true},{"$f":"AND($K$1=\"Y\",L40>0)","v":false},{"$f":"COUNTIF(Table1016[[#This Row],[Competed 1]:[Competed 5]],\"=TRUE\")","v":2}]
["Jospeh Bloomer","Manor High School",61,{"$f":"IF(C41=\"-\",0,C41)","v":61},"-",{"$f":"IF(E41=\"-\",0,E41)","v":0},"-",{"$f":"IF(G41=\"-\",0,G41)","v":0},37,{"$f":"IF(I41=\"-\",0,I41)","v":37},"-",{"$f":"IF(K41=\"-\",0,K41)","v":0},{"$f":"Table1016[[#This Row],[School]]","v":"Manor High School"},{"$f":"D41+F41+H41+J41+L41","v":98},{"$f":"MAX(C41,E41,G41,I41,K41)","v":61},{"$f":"IF(Q41=1,N41,IF(Q41=0,(N41-O41),\"-\"))","v":"-"},{"$f":"$L$1-Table1016[Competed Count]","v":2},{"$f":"IF(Q41<2,\"Yes\",\"No\")","v":"No"},{"$f":"AND($C$1=\"Y\",D41>0)","v":true},{"$f":"AND($E$1=\"Y\",F41>0)","v":false},{"$f":"AND($G$1=\"Y\",H41>0)","v":false},{"$f":"AND($I$1=\"Y\",J41>0)","v":true},{"$f":"AND($K$1=\"Y\",L41>0)","v":false},{"$f":"COUNTIF(Table1016[[#This Row],[Competed 1]:[Competed 5]],\"=TRUE\")","v":2}]
["Junior Munemo","The Martin High School",50,{"$f":"IF(C42=\"-\",0,C42)","v":50},"-",{"$f":"IF(E42=\"-\",0,E42)","v":0},"-",{"$f":"IF(G42=\"-\",0,G42)","v":0},38,{"$f":"IF(I42=\"-\",0,I42)","v":38},"-",{"$f":"IF(K42=\"-\",0,K42)","v":0},{"$f":"Table1016[[#This Row],[School]]","v":"The Martin High School"},{"$f":"D42+F42+H42+J42+L42","v":88},{"$f":"MAX(C42,E42,G42,I42,K42)","v":50},{"$f":"IF(Q42=1,N42,IF(Q42=0,(N42-O42),\"-\"))","v":"-"},{"$f":"$L$1-Table1016[Competed Count]","v":2},{"$f":"IF(Q42<2,\"Yes\",\"No\")","v":"No"},{"$f":"AND($C$1=\"Y\",D42>0)","v":true},{"$f":"AND($E$1=\"Y\",F42>0)","v":false},{"$f":"AND($G$1=\"Y\",H42>0)","v":false},{"$f":"AND($I$1=\"Y\",J42>0)","v":true},{"$f":"AND($K$1=\"Y\",L42>0)","v":false},{"$f":"COUNTIF(Table1016[[#This Row],[Competed 1]:[Competed 5]],\"=TRUE\")","v":2}]
["James Walkling","John Ferneley College",64,{"$f":"IF(C43=\"-\",0,C43)","v":64},"-",{"$f":"IF(E43=\"-\",0,E43)","v":0},"-",{"$f":"IF(G43=\"-\",0,G43)","v":0},39,{"$f":"IF(I43=\"-\",0,I43)","v":39},"-",{"$f":"IF(K43=\"-\",0,K43)","v":0},{"$f":"Table1016[[#This Row],[School]]","v":"John Ferneley College"},{"$f":"D43+F43+H43+J43+L43","v":103},{"$f":"MAX(C43,E43,G43,I43,K43)","v":64},{"$f":"IF(Q43=1,N43,IF(Q43=0,(N43-O43),\"-\"))","v":"-"},{"$f":"$L$1-Table1016[Competed Count]","v":2},{"$f":"IF(Q43<2,\"Yes\",\"No\")","v":"No"},{"$f":"AND($C$1=\"Y\",D43>0)","v":true},{"$f":"AND($E$1=\"Y\",F43>0)","v":false},{"$f":"AND($G$1=\"Y\",H43>0)","v":false},{"$f":"AND($I$1=\"Y\",J43>0)","v":true},{"$f":"AND($K$1=\"Y\",L43>0)","v":false},{"$f":"COUNTIF(Table1016[[#This Row],[Competed 1]:[Competed 5]],\"=TRUE\")","v":2}]
["Johan Bence","Loughborough Grammar School",65,{"$f":"IF(C44=\"-\",0,C44)","v":65},43,{"$f":"IF(E44=\"-\",0,E44)","v":43},"-",{"$f":"IF(G44=\"-\",0,G44)","v":0},40,{"$f":"IF(I44=\"-\",0,I44)","v":40},"-",{"$f":"IF(K44=\"-\",0,K44)","v":0},{"$f":"Table1016[[#This Row],[School]]","v":"Loughborough Grammar School"},{"$f":"D44+F44+H44+J44+L44","v":148},{"$f":"MAX(C44,E44,G44,I44,K44)","v":65},{"$f":"IF(Q44=1,N44,IF(Q44=0,(N44-O44),\"-\"))","v":148},{"$f":"$L$1-Table1016[Competed Count]","v":1},{"$f":"IF(Q44<2,\"Yes\",\"No\")","v":"Yes"},{"$f":"AND($C$1=\"Y\",D44>0)","v":true},{"$f":"AND($E$1=\"Y\",F44>0)","v":true},{"$f":"AND($G$1=\"Y\",H44>0)","v":false},{"$f":"AND($I$1=\"Y\",J44>0)","v":true},{"$f":"AND($K$1=\"Y\",L44>0)","v":false},{"$f":"COUNTIF(Table1016[[#This Row],[Competed 1]:[Competed 5]],\"=TRUE\")","v":3}]
["James Palmer-Calver","John Ferneley College",68,{"$f":"IF(C45=\"-\",0,C45)","v":68},"-",{"$f":"IF(E45=\"-\",0,E45)","v":0},"-",{"$f":"IF(G45=\"-\",0,G45)","v":0},41,{"$f":"IF(I45=\"-\",0,I45)","v":41},"-",{"$f":"IF(K45=\"-\",0,K45)","v":0},{"$f":"Table1016[[#This Row],[School]]","v":"John Ferneley College"},{"$f":"D45+F45+H45+J45+L45","v":109},{"$f":"MAX(C45,E45,G45,I45,K45)","v":68},{"$f":"IF(Q45=1,N45,IF(Q45=0,(N45-O45),\"-\"))","v":"-"},{"$f":"$L$1-Table1016[Competed Count]","v":2},{"$f":"IF(Q45<2,\"Yes\",\"No\")","v":"No"},{"$f":"AND($C$1=\"Y\",D45>0)","v":true},{"$f":"AND($E$1=\"Y\",F45>0)","v":false},{"$f":"AND($G$1=\"Y\",H45>0)","v":false},{"$f":"AND($I$1=\"Y\",J45>0)","v":true},{"$f":"AND($K$1=\"Y\",L45>0)","v":false},{"$f":"COUNTIF(Table1016[[#This Row],[Competed 1]:[Competed 5]],\"=TRUE\")","v":2}]
["Alfie Scoffield","John Ferneley College",66,{"$f":"IF(C46=\"-\",0,C46)","v":66},47,{"$f":"IF(E46=\"-\",0,E46)","v":47},43,{"$f":"IF(G46=\"-\",0,G46)","v":43},42,{"$f":"IF(I46=\"-\",0,I46)","v":42},"-",{"$f":"IF(K46=\"-\",0,K46)","v":0},{"$f":"Table1016[[#This Row],[School]]","v":"John Ferneley College"},{"$f":"D46+F46+H46+J46+L46","v":198},{"$f":"MAX(C46,E46,G46,I46,K46)","v":66},{"$f":"IF(Q46=1,N46,IF(Q46=0,(N46-O46),\"-\"))","v":132},{"$f":"$L$1-Table1016[Competed Count]","v":0},{"$f":"IF(Q46<2,\"Yes\",\"No\")","v":"Yes"},{"$f":"AND($C$1=\"Y\",D46>0)","v":true},{"$f":"AND($E$1=\"Y\",F46>0)","v":true},{"$f":"AND($G$1=\"Y\",H46>0)","v":true},{"$f":"AND($I$1=\"Y\",J46>0)","v":true},{"$f":"AND($K$1=\"Y\",L46>0)","v":false},{"$f":"COUNTIF(Table1016[[#This Row],[Competed 1]:[Competed 5]],\"=TRUE\")","v":4}]
["R Nutkins","Loughborough Grammar School","-",{"$f":"IF(C47=\"-\",0,C47)","v":0},"-",{"$f":"IF(E47=\"-\",0,E47)","v":0},"-",{"$f":"IF(G47=\"-\",0,G47)","v":0},43,{"$f":"IF(I47=\"-\",0,I47)","v":43},"-",{"$f":"IF(K47=\"-\",0,K47)","v":0},{"$f":"Table1016[[#This Row],[School]]","v":"Loughborough Grammar School"},{"$f":"D47+F47+H47+J47+L47","v":43},{"$f":"MAX(C47,E47,G47,I47,K47)","v":43},{"$f":"IF(Q47=1,N47,IF(Q47=0,(N47-O47),\"-\"))","v":"-"},{"$f":"$L$1-Table1016[Competed Count]","v":3},{"$f":"IF(Q47<2,\"Yes\",\"No\")","v":"No"},{"$f":"AND($C$1=\"Y\",D47>0)","v":false},{"$f":"AND($E$1=\"Y\",F47>0)","v":false},{"$f":"AND($G$1=\"Y\",H47>0)","v":false},{"$f":"AND($I$1=\"Y\",J47>0)","v":true},{"$f":"AND($K$1=\"Y\",L47>0)","v":false},{"$f":"COUNTIF(Table1016[[#This Row],[Competed 1]:[Competed 5]],\"=TRUE\")","v":1}]
["James Wardle","Humphrey Perkins School",6,{"$f":"IF(C48=\"-\",0,C48)","v":6},2,{"$f":"IF(E48=\"-\",0,E48)","v":2},4,{"$f":"IF(G48=\"-\",0,G48)","v":4},"-",{"$f":"IF(I48=\"-\",0,I48)","v":0},"-",{"$f":"IF(K48=\"-\",0,K48)","v":0},{"$f":"Table1016[[#This Row],[School]]","v":"Humphrey Perkins School"},{"$f":"D48+F48+H48+J48+L48","v":12},{"$f":"MAX(C48,E48,G48,I48,K48)","v":6},{"$f":"IF(Q48=1,N48,IF(Q48=0,(N48-O48),\"-\"))","v":12},{"$f":"$L$1-Table1016[Competed Count]","v":1},{"$f":"IF(Q48<2,\"Yes\",\"No\")","v":"Yes"},{"$f":"AND($C$1=\"Y\",D48>0)","v":true},{"$f":"AND($E$1=\"Y\",F48>0)","v":true},{"$f":"AND($G$1=\"Y\",H48>0)","v":true},{"$f":"AND($I$1=\"Y\",J48>0)","v":false},{"$f":"AND($K$1=\"Y\",L48>0)","v":false},{"$f":"COUNTIF(Table1016[[#This Row],[Competed 1]:[Competed 5]],\"=TRUE\")","v":3}]
["Ollie Read","Uppingham CC",7,{"$f":"IF(C49=\"-\",0,C49)","v":7},3,{"$f":"IF(E49=\"-\",0,E49)","v":3},10,{"$f":"IF(G49=\"-\",0,G49)","v":10},"-",{"$f":"IF(I49=\"-\",0,I49)","v":0},"-",{"$f":"IF(K49=\"-\",0,K49)","v":0},{"$f":"Table1016[[#This Row],[School]]","v":"Uppingham CC"},{"$f":"D49+F49+H49+J49+L49","v":20},{"$f":"MAX(C49,E49,G49,I49,K49)","v":10},{"$f":"IF(Q49=1,N49,IF(Q49=0,(N49-O49),\"-\"))","v":20},{"$f":"$L$1-Table1016[Competed Count]","v":1},{"$f":"IF(Q49<2,\"Yes\",\"No\")","v":"Yes"},{"$f":"AND($C$1=\"Y\",D49>0)","v":true},{"$f":"AND($E$1=\"Y\",F49>0)","v":true},{"$f":"AND($G$1=\"Y\",H49>0)","v":true},{"$f":"AND($I$1=\"Y\",J49>0)","v":false},{"$f":"AND($K$1=\"Y\",L49>0)","v":false},{"$f":"COUNTIF(Table1016[[#This Row],[Competed 1]:[Competed 5]],\"=TRUE\")","v":3}]
["Eddie Bryan","Brockington College","-",{"$f":"IF(C50=\"-\",0,C50)","v":0},7,{"$f":"IF(E50=\"-\",0,E50)","v":7},11,{"$f":"IF(G50=\"-\",0,G50)","v":11},"-",{"$f":"IF(I50=\"-\",0,I50)","v":0},"-",{"$f":"IF(K50=\"-\",0,K50)","v":0},{"$f":"Table1016[[#This Row],[School]]","v":"Brockington College"},{"$f":"D50+F50+H50+J50+L50","v":18},{"$f":"MAX(C50,E50,G50,I50,K50)","v":11},{"$f":"IF(Q50=1,N50,IF(Q50=0,(N50-O50),\"-\"))","v":"-"},{"$f":"$L$1-Table1016[Competed Count]","v":2},{"$f":"IF(Q50<2,\"Yes\",\"No\")","v":"No"},{"$f":"AND($C$1=\"Y\",D50>0)","v":false},{"$f":"AND($E$1=\"Y\",F50>0)","v":true},{"$f":"AND($G$1=\"Y\",H50>0)","v":true},{"$f":"AND($I$1=\"Y\",J50>0)","v":false},{"$f":"AND($K$1=\"Y\",L50>0)","v":false},{"$f":"COUNTIF(Table1016[[#This Row],[Competed 1]:[Competed 5]],\"=TRUE\")","v":2}]
["Spencer Hex","Catmose College",27,{"$f":"IF(C51=\"-\",0,C51)","v":27},19,{"$f":"IF(E51=\"-\",0,E51)","v":19},19,{"$f":"IF(G51=\"-\",0,G51)","v":19},"-",{"$f":"IF(I51=\"-\",0,I51)","v":0},"-",{"$f":"IF(K51=\"-\",0,K51)","v":0},{"$f":"Table1016[[#This Row],[School]]","v":"Catmose College"},{"$f":"D51+F51+H51+J51+L51","v":65},{"$f":"MAX(C51,E51,G51,I51,K51)","v":27},{"$f":"IF(Q51=1,N51,IF(Q51=0,(N51-O51),\"-\"))","v":65},{"$f":"$L$1-Table1016[Competed Count]","v":1},{"$f":"IF(Q51<2,\"Yes\",\"No\")","v":"Yes"},{"$f":"AND($C$1=\"Y\",D51>0)","v":true},{"$f":"AND($E$1=\"Y\",F51>0)","v":true},{"$f":"AND($G$1=\"Y\",H51>0)","v":true},{"$f":"AND($I$1=\"Y\",J51>0)","v":false},{"$f":"AND($K$1=\"Y\",L51>0)","v":false},{"$f":"COUNTIF(Table1016[[#This Row],[Competed 1]:[Competed 5]],\"=TRUE\")","v":3}]
["Olly Heathcote","Loughborough Grammar School","-",{"$f":"IF(C52=\"-\",0,C52)","v":0},20,{"$f":"IF(E52=\"-\",0,E52)","v":20},21,{"$f":"IF(G52=\"-\",0,G52)","v":21},"-",{"$f":"IF(I52=\"-\",0,I52)","v":0},"-",{"$f":"IF(K52=\"-\",0,K52)","v":0},{"$f":"Table1016[[#This Row],[School]]","v":"Loughborough Grammar School"},{"$f":"D52+F52+H52+J52+L52","v":41},{"$f":"MAX(C52,E52,G52,I52,K52)","v":21},{"$f":"IF(Q52=1,N52,IF(Q52=0,(N52-O52),\"-\"))","v":"-"},{"$f":"$L$1-Table1016[Competed Count]","v":2},{"$f":"IF(Q52<2,\"Yes\",\"No\")","v":"No"},{"$f":"AND($C$1=\"Y\",D52>0)","v":false},{"$f":"AND($E$1=\"Y\",F52>0)","v":true},{"$f":"AND($G$1=\"Y\",H52>0)","v":true},{"$f":"AND($I$1=\"Y\",J52>0)","v":false},{"$f":"AND($K$1=\"Y\",L52>0)","v":false},{"$f":"COUNTIF(Table1016[[#This Row],[Competed 1]:[Competed 5]],\"=TRUE\")","v":2}]
["Euan Gibbs","John Ferneley College",49,{"$f":"IF(C53=\"-\",0,C53)","v":49},"-",{"$f":"IF(E53=\"-\",0,E53)","v":0},22,{"$f":"IF(G53=\"-\",0,G53)","v":22},"-",{"$f":"IF(I53=\"-\",0,I53)","v":0},"-",{"$f":"IF(K53=\"-\",0,K53)","v":0},{"$f":"Table1016[[#This Row],[School]]","v":"John Ferneley College"},{"$f":"D53+F53+H53+J53+L53","v":71},{"$f":"MAX(C53,E53,G53,I53,K53)","v":49},{"$f":"IF(Q53=1,N53,IF(Q53=0,(N53-O53),\"-\"))","v":"-"},{"$f":"$L$1-Table1016[Competed Count]","v":2},{"$f":"IF(Q53<2,\"Yes\",\"No\")","v":"No"},{"$f":"AND($C$1=\"Y\",D53>0)","v":true},{"$f":"AND($E$1=\"Y\",F53>0)","v":false},{"$f":"AND($G$1=\"Y\",H53>0)","v":true},{"$f":"AND($I$1=\"Y\",J53>0)","v":false},{"$f":"AND($K$1=\"Y\",L53>0)","v":false},{"$f":"COUNTIF(Table1016[[#This Row],[Competed 1]:[Competed 5]],\"=TRUE\")","v":2}]
["Joe Waters","Loughborough Grammar School","-",{"$f":"IF(C54=\"-\",0,C54)","v":0},33,{"$f":"IF(E54=\"-\",0,E54)","v":33},24,{"$f":"IF(G54=\"-\",0,G54)","v":24},"-",{"$f":"IF(I54=\"-\",0,I54)","v":0},"-",{"$f":"IF(K54=\"-\",0,K54)","v":0},{"$f":"Table1016[[#This Row],[School]]","v":"Loughborough Grammar School"},{"$f":"D54+F54+H54+J54+L54","v":57},{"$f":"MAX(C54,E54,G54,I54,K54)","v":33},{"$f":"IF(Q54=1,N54,IF(Q54=0,(N54-O54),\"-\"))","v":"-"},{"$f":"$L$1-Table1016[Competed Count]","v":2},{"$f":"IF(Q54<2,\"Yes\",\"No\")","v":"No"},{"$f":"AND($C$1=\"Y\",D54>0)","v":false},{"$f":"AND($E$1=\"Y\",F54>0)","v":true},{"$f":"AND($G$1=\"Y\",H54>0)","v":true},{"$f":"AND($I$1=\"Y\",J54>0)","v":false},{"$f":"AND($K$1=\"Y\",L54>0)","v":false},{"$f":"COUNTIF(Table1016[[#This Row],[Competed 1]:[Competed 5]],\"=TRUE\")","v":2}]
["Duncan Arscott","Lutterworth High School","-",{"$f":"IF(C55=\"-\",0,C55)","v":0},26,{"$f":"IF(E55=\"-\",0,E55)","v":26},25,{"$f":"IF(G55=\"-\",0,G55)","v":25},"-",{"$f":"IF(I55=\"-\",0,I55)","v":0},"-",{"$f":"IF(K55=\"-\",0,K55)","v":0},{"$f":"Table1016[[#This Row],[School]]","v":"Lutterworth High School"},{"$f":"D55+F55+H55+J55+L55","v":51},{"$f":"MAX(C55,E55,G55,I55,K55)","v":26},{"$f":"IF(Q55=1,N55,IF(Q55=0,(N55-O55),\"-\"))","v":"-"},{"$f":"$L$1-Table1016[Competed Count]","v":2},{"$f":"IF(Q55<2,\"Yes\",\"No\")","v":"No"},{"$f":"AND($C$1=\"Y\",D55>0)","v":false},{"$f":"AND($E$1=\"Y\",F55>0)","v":true},{"$f":"AND($G$1=\"Y\",H55>0)","v":true},{"$f":"AND($I$1=\"Y\",J55>0)","v":false},{"$f":"AND($K$1=\"Y\",L55>0)","v":false},{"$f":"COUNTIF(Table1016[[#This Row],[Competed 1]:[Competed 5]],\"=TRUE\")","v":2}]
["Daniel Sepede","De Lisle College",36,{"$f":"IF(C56=\"-\",0,C56)","v":36},29,{"$f":"IF(E56=\"-\",0,E56)","v":29},27,{"$f":"IF(G56=\"-\",0,G56)","v":27},"-",{"$f":"IF(I56=\"-\",0,I56)","v":0},"-",{"$f":"IF(K56=\"-\",0,K56)","v":0},{"$f":"Table1016[[#This Row],[School]]","v":"De Lisle College"},{"$f":"D56+F56+H56+J56+L56","v":92},{"$f":"MAX(C56,E56,G56,I56,K56)","v":36},{"$f":"IF(Q56=1,N56,IF(Q56=0,(N56-O56),\"-\"))","v":92},{"$f":"$L$1-Table1016[Competed Count]","v":1},{"$f":"IF(Q56<2,\"Yes\",\"No\")","v":"Yes"},{"$f":"AND($C$1=\"Y\",D56>0)","v":true},{"$f":"AND($E$1=\"Y\",F56>0)","v":true},{"$f":"AND($G$1=\"Y\",H56>0)","v":true},{"$f":"AND($I$1=\"Y\",J56>0)","v":false},{"$f":"AND($K$1=\"Y\",L56>0)","v":false},{"$f":"COUNTIF(Table1016[[#This Row],[Competed 1]:[Competed 5]],\"=TRUE\")","v":3}]
["Luca Michalowski","The Market Bosworth School","-",{"$f":"IF(C57=\"-\",0,C57)","v":0},"-",{"$f":"IF(E57=\"-\",0,E57)","v":0},30,{"$f":"IF(G57=\"-\",0,G57)","v":30},"-",{"$f":"IF(I57=\"-\",0,I57)","v":0},"-",{"$f":"IF(K57=\"-\",0,K57)","v":0},{"$f":"Table1016[[#This Row],[School]]","v":"The Market Bosworth School"},{"$f":"D57+F57+H57+J57+L57","v":30},{"$f":"MAX(C57,E57,G57,I57,K57)","v":30},{"$f":"IF(Q57=1,N57,IF(Q57=0,(N57-O57),\"-\"))","v":"-"},{"$f":"$L$1-Table1016[Competed Count]","v":3},{"$f":"IF(Q57<2,\"Yes\",\"No\")","v":"No"},{"$f":"AND($C$1=\"Y\",D57>0)","v":false},{"$f":"AND($E$1=\"Y\",F57>0)","v":false},{"$f":"AND($G$1=\"Y\",H57>0)","v":true},{"$f":"AND($I$1=\"Y\",J57>0)","v":false},{"$f":"AND($K$1=\"Y\",L57>0)","v":false},{"$f":"COUNTIF(Table1016[[#This Row],[Competed 1]:[Competed 5]],\"=TRUE\")","v":1}]
["Alex Moat","Loughborough Grammar School",55,{"$f":"IF(C58=\"-\",0,C58)","v":55},"-",{"$f":"IF(E58=\"-\",0,E58)","v":0},35,{"$f":"IF(G58=\"-\",0,G58)","v":35},"-",{"$f":"IF(I58=\"-\",0,I58)","v":0},"-",{"$f":"IF(K58=\"-\",0,K58)","v":0},{"$f":"Table1016[[#This Row],[School]]","v":"Loughborough Grammar School"},{"$f":"D58+F58+H58+J58+L58","v":90},{"$f":"MAX(C58,E58,G58,I58,K58)","v":55},{"$f":"IF(Q58=1,N58,IF(Q58=0,(N58-O58),\"-\"))","v":"-"},{"$f":"$L$1-Table1016[Competed Count]","v":2},{"$f":"IF(Q58<2,\"Yes\",\"No\")","v":"No"},{"$f":"AND($C$1=\"Y\",D58>0)","v":true},{"$f":"AND($E$1=\"Y\",F58>0)","v":false},{"$f":"AND($G$1=\"Y\",H58>0)","v":true},{"$f":"AND($I$1=\"Y\",J58>0)","v":false},{"$f":"AND($K$1=\"Y\",L58>0)","v":false},{"$f":"COUNTIF(Table1016[[#This Row],[Competed 1]:[Competed 5]],\"=TRUE\")","v":2}]
["Nathan Booker","Kibworth School",44,{"$f":"IF(C59=\"-\",0,C59)","v":44},31,{"$f":"IF(E59=\"-\",0,E59)","v":31},36,{"$f":"IF(G59=\"-\",0,G59)","v":36},"-",{"$f":"IF(I59=\"-\",0,I59)","v":0},"-",{"$f":"IF(K59=\"-\",0,K59)","v":0},{"$f":"Table1016[[#This Row],[School]]","v":"Kibworth School"},{"$f":"D59+F59+H59+J59+L59","v":111},{"$f":"MAX(C59,E59,G59,I59,K59)","v":44},{"$f":"IF(Q59=1,N59,IF(Q59=0,(N59-O59),\"-\"))","v":111},{"$f":"$L$1-Table1016[Competed Count]","v":1},{"$f":"IF(Q59<2,\"Yes\",\"No\")","v":"Yes"},{"$f":"AND($C$1=\"Y\",D59>0)","v":true},{"$f":"AND($E$1=\"Y\",F59>0)","v":true},{"$f":"AND($G$1=\"Y\",H59>0)","v":true},{"$f":"AND($I$1=\"Y\",J59>0)","v":false},{"$f":"AND($K$1=\"Y\",L59>0)","v":false},{"$f":"COUNTIF(Table1016[[#This Row],[Competed 1]:[Competed 5]],\"=TRUE\")","v":3}]
["Will Bestwick","John Ferneley College","-",{"$f":"IF(C60=\"-\",0,C60)","v":0},28,{"$f":"IF(E60=\"-\",0,E60)","v":28},37,{"$f":"IF(G60=\"-\",0,G60)","v":37},"-",{"$f":"IF(I60=\"-\",0,I60)","v":0},"-",{"$f":"IF(K60=\"-\",0,K60)","v":0},{"$f":"Table1016[[#This Row],[School]]","v":"John Ferneley College"},{"$f":"D60+F60+H60+J60+L60","v":65},{"$f":"MAX(C60,E60,G60,I60,K60)","v":37},{"$f":"IF(Q60=1,N60,IF(Q60=0,(N60-O60),\"-\"))","v":"-"},{"$f":"$L$1-Table1016[Competed Count]","v":2},{"$f":"IF(Q60<2,\"Yes\",\"No\")","v":"No"},{"$f":"AND($C$1=\"Y\",D60>0)","v":false},{"$f":"AND($E$1=\"Y\",F60>0)","v":true},{"$f":"AND($G$1=\"Y\",H60>0)","v":true},{"$f":"AND($I$1=\"Y\",J60>0)","v":false},{"$f":"AND($K$1=\"Y\",L60>0)","v":false},{"$f":"COUNTIF(Table1016[[#This Row],[Competed 1]:[Competed 5]],\"=TRUE\")","v":2}]
["Jack Roe","Ivanhoe College","-",{"$f":"IF(C61=\"-\",0,C61)","v":0},25,{"$f":"IF(E61=\"-\",0,E61)","v":25},38,{"$f":"IF(G61=\"-\",0,G61)","v":38},"-",{"$f":"IF(I61=\"-\",0,I61)","v":0},"-",{"$f":"IF(K61=\"-\",0,K61)","v":0},{"$f":"Table1016[[#This Row],[School]]","v":"Ivanhoe College"},{"$f":"D61+F61+H61+J61+L61","v":63},{"$f":"MAX(C61,E61,G61,I61,K61)","v":38},{"$f":"IF(Q61=1,N61,IF(Q61=0,(N61-O61),\"-\"))","v":"-"},{"$f":"$L$1-Table1016[Competed Count]","v":2},{"$f":"IF(Q61<2,\"Yes\",\"No\")","v":"No"},{"$f":"AND($C$1=\"Y\",D61>0)","v":false},{"$f":"AND($E$1=\"Y\",F61>0)","v":true},{"$f":"AND($G$1=\"Y\",H61>0)","v":true},{"$f":"AND($I$1=\"Y\",J61>0)","v":false},{"$f":"AND($K$1=\"Y\",L61>0)","v":false},{"$f":"COUNTIF(Table1016[[#This Row],[Competed 1]:[Competed 5]],\"=TRUE\")","v":2}]
["Travis Mitchell","Catmose College","-",{"$f":"IF(C62=\"-\",0,C62)","v":0},"-",{"$f":"IF(E62=\"-\",0,E62)","v":0},39,{"$f":"IF(G62=\"-\",0,G62)","v":39},"-",{"$f":"IF(I62=\"-\",0,I62)","v":0},"-",{"$f":"IF(K62=\"-\",0,K62)","v":0},{"$f":"Table1016[[#This Row],[School]]","v":"Catmose College"},{"$f":"D62+F62+H62+J62+L62","v":39},{"$f":"MAX(C62,E62,G62,I62,K62)","v":39},{"$f":"IF(Q62=1,N62,IF(Q62=0,(N62-O62),\"-\"))","v":"-"},{"$f":"$L$1-Table1016[Competed Count]","v":3},{"$f":"IF(Q62<2,\"Yes\",\"No\")","v":"No"},{"$f":"AND($C$1=\"Y\",D62>0)","v":false},{"$f":"AND($E$1=\"Y\",F62>0)","v":false},{"$f":"AND($G$1=\"Y\",H62>0)","v":true},{"$f":"AND($I$1=\"Y\",J62>0)","v":false},{"$f":"AND($K$1=\"Y\",L62>0)","v":false},{"$f":"COUNTIF(Table1016[[#This Row],[Competed 1]:[Competed 5]],\"=TRUE\")","v":1}]
["Shaun Grandidge","De Lisle College",29,{"$f":"IF(C63=\"-\",0,C63)","v":29},"-",{"$f":"IF(E63=\"-\",0,E63)","v":0},40,{"$f":"IF(G63=\"-\",0,G63)","v":40},"-",{"$f":"IF(I63=\"-\",0,I63)","v":0},"-",{"$f":"IF(K63=\"-\",0,K63)","v":0},{"$f":"Table1016[[#This Row],[School]]","v":"De Lisle College"},{"$f":"D63+F63+H63+J63+L63","v":69},{"$f":"MAX(C63,E63,G63,I63,K63)","v":40},{"$f":"IF(Q63=1,N63,IF(Q63=0,(N63-O63),\"-\"))","v":"-"},{"$f":"$L$1-Table1016[Competed Count]","v":2},{"$f":"IF(Q63<2,\"Yes\",\"No\")","v":"No"},{"$f":"AND($C$1=\"Y\",D63>0)","v":true},{"$f":"AND($E$1=\"Y\",F63>0)","v":false},{"$f":"AND($G$1=\"Y\",H63>0)","v":true},{"$f":"AND($I$1=\"Y\",J63>0)","v":false},{"$f":"AND($K$1=\"Y\",L63>0)","v":false},{"$f":"COUNTIF(Table1016[[#This Row],[Competed 1]:[Competed 5]],\"=TRUE\")","v":2}]
["Ryan Smith","Loughborough Grammar School",37,{"$f":"IF(C64=\"-\",0,C64)","v":37},"-",{"$f":"IF(E64=\"-\",0,E64)","v":0},44,{"$f":"IF(G64=\"-\",0,G64)","v":44},"-",{"$f":"IF(I64=\"-\",0,I64)","v":0},"-",{"$f":"IF(K64=\"-\",0,K64)","v":0},{"$f":"Table1016[[#This Row],[School]]","v":"Loughborough Grammar School"},{"$f":"D64+F64+H64+J64+L64","v":81},{"$f":"MAX(C64,E64,G64,I64,K64)","v":44},{"$f":"IF(Q64=1,N64,IF(Q64=0,(N64-O64),\"-\"))","v":"-"},{"$f":"$L$1-Table1016[Competed Count]","v":2},{"$f":"IF(Q64<2,\"Yes\",\"No\")","v":"No"},{"$f":"AND($C$1=\"Y\",D64>0)","v":true},{"$f":"AND($E$1=\"Y\",F64>0)","v":false},{"$f":"AND($G$1=\"Y\",H64>0)","v":true},{"$f":"AND($I$1=\"Y\",J64>0)","v":false},{"$f":"AND($K$1=\"Y\",L64>0)","v":false},{"$f":"COUNTIF(Table1016[[#This Row],[Competed 1]:[Competed 5]],\"=TRUE\")","v":2}]
["Adam Niewaglowski","St Pauls Catholic School","-",{"$f":"IF(C65=\"-\",0,C65)","v":0},"-",{"$f":"IF(E65=\"-\",0,E65)","v":0},45,{"$f":"IF(G65=\"-\",0,G65)","v":45},"-",{"$f":"IF(I65=\"-\",0,I65)","v":0},"-",{"$f":"IF(K65=\"-\",0,K65)","v":0},{"$f":"Table1016[[#This Row],[School]]","v":"St Pauls Catholic School"},{"$f":"D65+F65+H65+J65+L65","v":45},{"$f":"MAX(C65,E65,G65,I65,K65)","v":45},{"$f":"IF(Q65=1,N65,IF(Q65=0,(N65-O65),\"-\"))","v":"-"},{"$f":"$L$1-Table1016[Competed Count]","v":3},{"$f":"IF(Q65<2,\"Yes\",\"No\")","v":"No"},{"$f":"AND($C$1=\"Y\",D65>0)","v":false},{"$f":"AND($E$1=\"Y\",F65>0)","v":false},{"$f":"AND($G$1=\"Y\",H65>0)","v":true},{"$f":"AND($I$1=\"Y\",J65>0)","v":false},{"$f":"AND($K$1=\"Y\",L65>0)","v":false},{"$f":"COUNTIF(Table1016[[#This Row],[Competed 1]:[Competed 5]],\"=TRUE\")","v":1}]
["Harvey Stokes","John Ferneley College","-",{"$f":"IF(C66=\"-\",0,C66)","v":0},"-",{"$f":"IF(E66=\"-\",0,E66)","v":0},46,{"$f":"IF(G66=\"-\",0,G66)","v":46},"-",{"$f":"IF(I66=\"-\",0,I66)","v":0},"-",{"$f":"IF(K66=\"-\",0,K66)","v":0},{"$f":"Table1016[[#This Row],[School]]","v":"John Ferneley College"},{"$f":"D66+F66+H66+J66+L66","v":46},{"$f":"MAX(C66,E66,G66,I66,K66)","v":46},{"$f":"IF(Q66=1,N66,IF(Q66=0,(N66-O66),\"-\"))","v":"-"},{"$f":"$L$1-Table1016[Competed Count]","v":3},{"$f":"IF(Q66<2,\"Yes\",\"No\")","v":"No"},{"$f":"AND($C$1=\"Y\",D66>0)","v":false},{"$f":"AND($E$1=\"Y\",F66>0)","v":false},{"$f":"AND($G$1=\"Y\",H66>0)","v":true},{"$f":"AND($I$1=\"Y\",J66>0)","v":false},{"$f":"AND($K$1=\"Y\",L66>0)","v":false},{"$f":"COUNTIF(Table1016[[#This Row],[Competed 1]:[Competed 5]],\"=TRUE\")","v":1}]
["Louis Combey","Brockington College",35,{"$f":"IF(C67=\"-\",0,C67)","v":35},49,{"$f":"IF(E67=\"-\",0,E67)","v":49},47,{"$f":"IF(G67=\"-\",0,G67)","v":47},"-",{"$f":"IF(I67=\"-\",0,I67)","v":0},"-",{"$f":"IF(K67=\"-\",0,K67)","v":0},{"$f":"Table1016[[#This Row],[School]]","v":"Brockington College"},{"$f":"D67+F67+H67+J67+L67","v":131},{"$f":"MAX(C67,E67,G67,I67,K67)","v":49},{"$f":"IF(Q67=1,N67,IF(Q67=0,(N67-O67),\"-\"))","v":131},{"$f":"$L$1-Table1016[Competed Count]","v":1},{"$f":"IF(Q67<2,\"Yes\",\"No\")","v":"Yes"},{"$f":"AND($C$1=\"Y\",D67>0)","v":true},{"$f":"AND($E$1=\"Y\",F67>0)","v":true},{"$f":"AND($G$1=\"Y\",H67>0)","v":true},{"$f":"AND($I$1=\"Y\",J67>0)","v":false},{"$f":"AND($K$1=\"Y\",L67>0)","v":false},{"$f":"COUNTIF(Table1016[[#This Row],[Competed 1]:[Competed 5]],\"=TRUE\")","v":3}]
["Elliot Lawrence","Thomas Estley CC",18,{"$f":"IF(C68=\"-\",0,C68)","v":18},8,{"$f":"IF(E68=\"-\",0,E68)","v":8},"-",{"$f":"IF(G68=\"-\",0,G68)","v":0},"-",{"$f":"IF(I68=\"-\",0,I68)","v":0},"-",{"$f":"IF(K68=\"-\",0,K68)","v":0},{"$f":"Table1016[[#This Row],[School]]","v":"Thomas Estley CC"},{"$f":"D68+F68+H68+J68+L68","v":26},{"$f":"MAX(C68,E68,G68,I68,K68)","v":18},{"$f":"IF(Q68=1,N68,IF(Q68=0,(N68-O68),\"-\"))","v":"-"},{"$f":"$L$1-Table1016[Competed Count]","v":2},{"$f":"IF(Q68<2,\"Yes\",\"No\")","v":"No"},{"$f":"AND($C$1=\"Y\",D68>0)","v":true},{"$f":"AND($E$1=\"Y\",F68>0)","v":true},{"$f":"AND($G$1=\"Y\",H68>0)","v":false},{"$f":"AND($I$1=\"Y\",J68>0)","v":false},{"$f":"AND($K$1=\"Y\",L68>0)","v":false},{"$f":"COUNTIF(Table1016[[#This Row],[Competed 1]:[Competed 5]],\"=TRUE\")","v":2}]
["Ollie Skinner","John Ferneley College",30,{"$f":"IF(C69=\"-\",0,C69)","v":30},18,{"$f":"IF(E69=\"-\",0,E69)","v":18},"-",{"$f":"IF(G69=\"-\",0,G69)","v":0},"-",{"$f":"IF(I69=\"-\",0,I69)","v":0},"-",{"$f":"IF(K69=\"-\",0,K69)","v":0},{"$f":"Table1016[[#This Row],[School]]","v":"John Ferneley College"},{"$f":"D69+F69+H69+J69+L69","v":48},{"$f":"MAX(C69,E69,G69,I69,K69)","v":30},{"$f":"IF(Q69=1,N69,IF(Q69=0,(N69-O69),\"-\"))","v":"-"},{"$f":"$L$1-Table1016[Competed Count]","v":2},{"$f":"IF(Q69<2,\"Yes\",\"No\")","v":"No"},{"$f":"AND($C$1=\"Y\",D69>0)","v":true},{"$f":"AND($E$1=\"Y\",F69>0)","v":true},{"$f":"AND($G$1=\"Y\",H69>0)","v":false},{"$f":"AND($I$1=\"Y\",J69>0)","v":false},{"$f":"AND($K$1=\"Y\",L69>0)","v":false},{"$f":"COUNTIF(Table1016[[#This Row],[Competed 1]:[Competed 5]],\"=TRUE\")","v":2}]
["Sam McKenley","Thomas Estley CC",33,{"$f":"IF(C70=\"-\",0,C70)","v":33},22,{"$f":"IF(E70=\"-\",0,E70)","v":22},"-",{"$f":"IF(G70=\"-\",0,G70)","v":0},"-",{"$f":"IF(I70=\"-\",0,I70)","v":0},"-",{"$f":"IF(K70=\"-\",0,K70)","v":0},{"$f":"Table1016[[#This Row],[School]]","v":"Thomas Estley CC"},{"$f":"D70+F70+H70+J70+L70","v":55},{"$f":"MAX(C70,E70,G70,I70,K70)","v":33},{"$f":"IF(Q70=1,N70,IF(Q70=0,(N70-O70),\"-\"))","v":"-"},{"$f":"$L$1-Table1016[Competed Count]","v":2},{"$f":"IF(Q70<2,\"Yes\",\"No\")","v":"No"},{"$f":"AND($C$1=\"Y\",D70>0)","v":true},{"$f":"AND($E$1=\"Y\",F70>0)","v":true},{"$f":"AND($G$1=\"Y\",H70>0)","v":false},{"$f":"AND($I$1=\"Y\",J70>0)","v":false},{"$f":"AND($K$1=\"Y\",L70>0)","v":false},{"$f":"COUNTIF(Table1016[[#This Row],[Competed 1]:[Competed 5]],\"=TRUE\")","v":2}]
["Elliott Harvey","Woodbrook Vale School",42,{"$f":"IF(C71=\"-\",0,C71)","v":42},34,{"$f":"IF(E71=\"-\",0,E71)","v":34},"-",{"$f":"IF(G71=\"-\",0,G71)","v":0},"-",{"$f":"IF(I71=\"-\",0,I71)","v":0},"-",{"$f":"IF(K71=\"-\",0,K71)","v":0},{"$f":"Table1016[[#This Row],[School]]","v":"Woodbrook Vale School"},{"$f":"D71+F71+H71+J71+L71","v":76},{"$f":"MAX(C71,E71,G71,I71,K71)","v":42},{"$f":"IF(Q71=1,N71,IF(Q71=0,(N71-O71),\"-\"))","v":"-"},{"$f":"$L$1-Table1016[Competed Count]","v":2},{"$f":"IF(Q71<2,\"Yes\",\"No\")","v":"No"},{"$f":"AND($C$1=\"Y\",D71>0)","v":true},{"$f":"AND($E$1=\"Y\",F71>0)","v":true},{"$f":"AND($G$1=\"Y\",H71>0)","v":false},{"$f":"AND($I$1=\"Y\",J71>0)","v":false},{"$f":"AND($K$1=\"Y\",L71>0)","v":false},{"$f":"COUNTIF(Table1016[[#This Row],[Competed 1]:[Competed 5]],\"=TRUE\")","v":2}]
["James Bradshaw","Lutterworth College","-",{"$f":"IF(C72=\"-\",0,C72)","v":0},35,{"$f":"IF(E72=\"-\",0,E72)","v":35},"-",{"$f":"IF(G72=\"-\",0,G72)","v":0},"-",{"$f":"IF(I72=\"-\",0,I72)","v":0},"-",{"$f":"IF(K72=\"-\",0,K72)","v":0},{"$f":"Table1016[[#This Row],[School]]","v":"Lutterworth College"},{"$f":"D72+F72+H72+J72+L72","v":35},{"$f":"MAX(C72,E72,G72,I72,K72)","v":35},{"$f":"IF(Q72=1,N72,IF(Q72=0,(N72-O72),\"-\"))","v":"-"},{"$f":"$L$1-Table1016[Competed Count]","v":3},{"$f":"IF(Q72<2,\"Yes\",\"No\")","v":"No"},{"$f":"AND($C$1=\"Y\",D72>0)","v":false},{"$f":"AND($E$1=\"Y\",F72>0)","v":true},{"$f":"AND($G$1=\"Y\",H72>0)","v":false},{"$f":"AND($I$1=\"Y\",J72>0)","v":false},{"$f":"AND($K$1=\"Y\",L72>0)","v":false},{"$f":"COUNTIF(Table1016[[#This Row],[Competed 1]:[Competed 5]],\"=TRUE\")","v":1}]
["Eden Harrison","Castle Rock High School",53,{"$f":"IF(C73=\"-\",0,C73)","v":53},36,{"$f":"IF(E73=\"-\",0,E73)","v":36},"-",{"$f":"IF(G73=\"-\",0,G73)","v":0},"-",{"$f":"IF(I73=\"-\",0,I73)","v":0},"-",{"$f":"IF(K73=\"-\",0,K73)","v":0},{"$f":"Table1016[[#This Row],[School]]","v":"Castle Rock High School"},{"$f":"D73+F73+H73+J73+L73","v":89},{"$f":"MAX(C73,E73,G73,I73,K73)","v":53},{"$f":"IF(Q73=1,N73,IF(Q73=0,(N73-O73),\"-\"))","v":"-"},{"$f":"$L$1-Table1016[Competed Count]","v":2},{"$f":"IF(Q73<2,\"Yes\",\"No\")","v":"No"},{"$f":"AND($C$1=\"Y\",D73>0)","v":true},{"$f":"AND($E$1=\"Y\",F73>0)","v":true},{"$f":"AND($G$1=\"Y\",H73>0)","v":false},{"$f":"AND($I$1=\"Y\",J73>0)","v":false},{"$f":"AND($K$1=\"Y\",L73>0)","v":false},{"$f":"COUNTIF(Table1016[[#This Row],[Competed 1]:[Competed 5]],\"=TRUE\")","v":2}]
["Jack Powell","Castle Rock High School",46,{"$f":"IF(C74=\"-\",0,C74)","v":46},37,{"$f":"IF(E74=\"-\",0,E74)","v":37},"-",{"$f":"IF(G74=\"-\",0,G74)","v":0},"-",{"$f":"IF(I74=\"-\",0,I74)","v":0},"-",{"$f":"IF(K74=\"-\",0,K74)","v":0},{"$f":"Table1016[[#This Row],[School]]","v":"Castle Rock High School"},{"$f":"D74+F74+H74+J74+L74","v":83},{"$f":"MAX(C74,E74,G74,I74,K74)","v":46},{"$f":"IF(Q74=1,N74,IF(Q74=0,(N74-O74),\"-\"))","v":"-"},{"$f":"$L$1-Table1016[Competed Count]","v":2},{"$f":"IF(Q74<2,\"Yes\",\"No\")","v":"No"},{"$f":"AND($C$1=\"Y\",D74>0)","v":true},{"$f":"AND($E$1=\"Y\",F74>0)","v":true},{"$f":"AND($G$1=\"Y\",H74>0)","v":false},{"$f":"AND($I$1=\"Y\",J74>0)","v":false},{"$f":"AND($K$1=\"Y\",L74>0)","v":false},{"$f":"COUNTIF(Table1016[[#This Row],[Competed 1]:[Competed 5]],\"=TRUE\")","v":2}]
["Niji Ogungbola","St Pauls Catholic School","-",{"$f":"IF(C75=\"-\",0,C75)","v":0},38,{"$f":"IF(E75=\"-\",0,E75)","v":38},"-",{"$f":"IF(G75=\"-\",0,G75)","v":0},"-",{"$f":"IF(I75=\"-\",0,I75)","v":0},"-",{"$f":"IF(K75=\"-\",0,K75)","v":0},{"$f":"Table1016[[#This Row],[School]]","v":"St Pauls Catholic School"},{"$f":"D75+F75+H75+J75+L75","v":38},{"$f":"MAX(C75,E75,G75,I75,K75)","v":38},{"$f":"IF(Q75=1,N75,IF(Q75=0,(N75-O75),\"-\"))","v":"-"},{"$f":"$L$1-Table1016[Competed Count]","v":3},{"$f":"IF(Q75<2,\"Yes\",\"No\")","v":"No"},{"$f":"AND($C$1=\"Y\",D75>0)","v":false},{"$f":"AND($E$1=\"Y\",F75>0)","v":true},{"$f":"AND($G$1=\"Y\",H75>0)","v":false},{"$f":"AND($I$1=\"Y\",J75>0)","v":false},{"$f":"AND($K$1=\"Y\",L75>0)","v":false},{"$f":"COUNTIF(Table1016[[#This Row],[Competed 1]:[Competed 5]],\"=TRUE\")","v":1}]
["Jamie Wilcocks","Kibworth School","-",{"$f":"IF(C76=\"-\",0,C76)","v":0},39,{"$f":"IF(E76=\"-\",0,E76)","v":39},"-",{"$f":"IF(G76=\"-\",0,G76)","v":0},"-",{"$f":"IF(I76=\"-\",0,I76)","v":0},"-",{"$f":"IF(K76=\"-\",0,K76)","v":0},{"$f":"Table1016[[#This Row],[School]]","v":"Kibworth School"},{"$f":"D76+F76+H76+J76+L76","v":39},{"$f":"MAX(C76,E76,G76,I76,K76)","v":39},{"$f":"IF(Q76=1,N76,IF(Q76=0,(N76-O76),\"-\"))","v":"-"},{"$f":"$L$1-Table1016[Competed Count]","v":3},{"$f":"IF(Q76<2,\"Yes\",\"No\")","v":"No"},{"$f":"AND($C$1=\"Y\",D76>0)","v":false},{"$f":"AND($E$1=\"Y\",F76>0)","v":true},{"$f":"AND($G$1=\"Y\",H76>0)","v":false},{"$f":"AND($I$1=\"Y\",J76>0)","v":false},{"$f":"AND($K$1=\"Y\",L76>0)","v":false},{"$f":"COUNTIF(Table1016[[#This Row],[Competed 1]:[Competed 5]],\"=TRUE\")","v":1}]
["Will Perkins","Lutterworth College",51,{"$f":"IF(C77=\"-\",0,C77)","v":51},40,{"$f":"IF(E77=\"-\",0,E77)","v":40},"-",{"$f":"IF(G77=\"-\",0,G77)","v":0},"-",{"$f":"IF(I77=\"-\",0,I77)","v":0},"-",{"$f":"IF(K77=\"-\",0,K77)","v":0},{"$f":"Table1016[[#This Row],[School]]","v":"Lutterworth College"},{"$f":"D77+F77+H77+J77+L77","v":91},{"$f":"MAX(C77,E77,G77,I77,K77)","v":51},{"$f":"IF(Q77=1,N77,IF(Q77=0,(N77-O77),\"-\"))","v":"-"},{"$f":"$L$1-Table1016[Competed Count]","v":2},{"$f":"IF(Q77<2,\"Yes\",\"No\")","v":"No"},{"$f":"AND($C$1=\"Y\",D77>0)","v":true},{"$f":"AND($E$1=\"Y\",F77>0)","v":true},{"$f":"AND($G$1=\"Y\",H77>0)","v":false},{"$f":"AND($I$1=\"Y\",J77>0)","v":false},{"$f":"AND($K$1=\"Y\",L77>0)","v":false},{"$f":"COUNTIF(Table1016[[#This Row],[Competed 1]:[Competed 5]],\"=TRUE\")","v":2}]
["George Till","Lutterworth College","-",{"$f":"IF(C78=\"-\",0,C78)","v":0},42,{"$f":"IF(E78=\"-\",0,E78)","v":42},"-",{"$f":"IF(G78=\"-\",0,G78)","v":0},"-",{"$f":"IF(I78=\"-\",0,I78)","v":0},"-",{"$f":"IF(K78=\"-\",0,K78)","v":0},{"$f":"Table1016[[#This Row],[School]]","v":"Lutterworth College"},{"$f":"D78+F78+H78+J78+L78","v":42},{"$f":"MAX(C78,E78,G78,I78,K78)","v":42},{"$f":"IF(Q78=1,N78,IF(Q78=0,(N78-O78),\"-\"))","v":"-"},{"$f":"$L$1-Table1016[Competed Count]","v":3},{"$f":"IF(Q78<2,\"Yes\",\"No\")","v":"No"},{"$f":"AND($C$1=\"Y\",D78>0)","v":false},{"$f":"AND($E$1=\"Y\",F78>0)","v":true},{"$f":"AND($G$1=\"Y\",H78>0)","v":false},{"$f":"AND($I$1=\"Y\",J78>0)","v":false},{"$f":"AND($K$1=\"Y\",L78>0)","v":false},{"$f":"COUNTIF(Table1016[[#This Row],[Competed 1]:[Competed 5]],\"=TRUE\")","v":1}]
["Josh Ley","De Lisle College","-",{"$f":"IF(C79=\"-\",0,C79)","v":0},44,{"$f":"IF(E79=\"-\",0,E79)","v":44},"-",{"$f":"IF(G79=\"-\",0,G79)","v":0},"-",{"$f":"IF(I79=\"-\",0,I79)","v":0},"-",{"$f":"IF(K79=\"-\",0,K79)","v":0},{"$f":"Table1016[[#This Row],[School]]","v":"De Lisle College"},{"$f":"D79+F79+H79+J79+L79","v":44},{"$f":"MAX(C79,E79,G79,I79,K79)","v":44},{"$f":"IF(Q79=1,N79,IF(Q79=0,(N79-O79),\"-\"))","v":"-"},{"$f":"$L$1-Table1016[Competed Count]","v":3},{"$f":"IF(Q79<2,\"Yes\",\"No\")","v":"No"},{"$f":"AND($C$1=\"Y\",D79>0)","v":false},{"$f":"AND($E$1=\"Y\",F79>0)","v":true},{"$f":"AND($G$1=\"Y\",H79>0)","v":false},{"$f":"AND($I$1=\"Y\",J79>0)","v":false},{"$f":"AND($K$1=\"Y\",L79>0)","v":false},{"$f":"COUNTIF(Table1016[[#This Row],[Competed 1]:[Competed 5]],\"=TRUE\")","v":1}]
["Charlie Botte","St Pauls Catholic School",62,{"$f":"IF(C80=\"-\",0,C80)","v":62},45,{"$f":"IF(E80=\"-\",0,E80)","v":45},"-",{"$f":"IF(G80=\"-\",0,G80)","v":0},"-",{"$f":"IF(I80=\"-\",0,I80)","v":0},"-",{"$f":"IF(K80=\"-\",0,K80)","v":0},{"$f":"Table1016[[#This Row],[School]]","v":"St Pauls Catholic School"},{"$f":"D80+F80+H80+J80+L80","v":107},{"$f":"MAX(C80,E80,G80,I80,K80)","v":62},{"$f":"IF(Q80=1,N80,IF(Q80=0,(N80-O80),\"-\"))","v":"-"},{"$f":"$L$1-Table1016[Competed Count]","v":2},{"$f":"IF(Q80<2,\"Yes\",\"No\")","v":"No"},{"$f":"AND($C$1=\"Y\",D80>0)","v":true},{"$f":"AND($E$1=\"Y\",F80>0)","v":true},{"$f":"AND($G$1=\"Y\",H80>0)","v":false},{"$f":"AND($I$1=\"Y\",J80>0)","v":false},{"$f":"AND($K$1=\"Y\",L80>0)","v":false},{"$f":"COUNTIF(Table1016[[#This Row],[Competed 1]:[Competed 5]],\"=TRUE\")","v":2}]
["Simon Ram","Loughborough Grammar School","-",{"$f":"IF(C81=\"-\",0,C81)","v":0},46,{"$f":"IF(E81=\"-\",0,E81)","v":46},"-",{"$f":"IF(G81=\"-\",0,G81)","v":0},"-",{"$f":"IF(I81=\"-\",0,I81)","v":0},"-",{"$f":"IF(K81=\"-\",0,K81)","v":0},{"$f":"Table1016[[#This Row],[School]]","v":"Loughborough Grammar School"},{"$f":"D81+F81+H81+J81+L81","v":46},{"$f":"MAX(C81,E81,G81,I81,K81)","v":46},{"$f":"IF(Q81=1,N81,IF(Q81=0,(N81-O81),\"-\"))","v":"-"},{"$f":"$L$1-Table1016[Competed Count]","v":3},{"$f":"IF(Q81<2,\"Yes\",\"No\")","v":"No"},{"$f":"AND($C$1=\"Y\",D81>0)","v":false},{"$f":"AND($E$1=\"Y\",F81>0)","v":true},{"$f":"AND($G$1=\"Y\",H81>0)","v":false},{"$f":"AND($I$1=\"Y\",J81>0)","v":false},{"$f":"AND($K$1=\"Y\",L81>0)","v":false},{"$f":"COUNTIF(Table1016[[#This Row],[Competed 1]:[Competed 5]],\"=TRUE\")","v":1}]
["Josh McAlister","Woodbrook Vale School",43,{"$f":"IF(C82=\"-\",0,C82)","v":43},48,{"$f":"IF(E82=\"-\",0,E82)","v":48},"-",{"$f":"IF(G82=\"-\",0,G82)","v":0},"-",{"$f":"IF(I82=\"-\",0,I82)","v":0},"-",{"$f":"IF(K82=\"-\",0,K82)","v":0},{"$f":"Table1016[[#This Row],[School]]","v":"Woodbrook Vale School"},{"$f":"D82+F82+H82+J82+L82","v":91},{"$f":"MAX(C82,E82,G82,I82,K82)","v":48},{"$f":"IF(Q82=1,N82,IF(Q82=0,(N82-O82),\"-\"))","v":"-"},{"$f":"$L$1-Table1016[Competed Count]","v":2},{"$f":"IF(Q82<2,\"Yes\",\"No\")","v":"No"},{"$f":"AND($C$1=\"Y\",D82>0)","v":true},{"$f":"AND($E$1=\"Y\",F82>0)","v":true},{"$f":"AND($G$1=\"Y\",H82>0)","v":false},{"$f":"AND($I$1=\"Y\",J82>0)","v":false},{"$f":"AND($K$1=\"Y\",L82>0)","v":false},{"$f":"COUNTIF(Table1016[[#This Row],[Competed 1]:[Competed 5]],\"=TRUE\")","v":2}]
["Mitesh Solanki","Crown Hills CC",63,{"$f":"IF(C83=\"-\",0,C83)","v":63},50,{"$f":"IF(E83=\"-\",0,E83)","v":50},"-",{"$f":"IF(G83=\"-\",0,G83)","v":0},"-",{"$f":"IF(I83=\"-\",0,I83)","v":0},"-",{"$f":"IF(K83=\"-\",0,K83)","v":0},{"$f":"Table1016[[#This Row],[School]]","v":"Crown Hills CC"},{"$f":"D83+F83+H83+J83+L83","v":113},{"$f":"MAX(C83,E83,G83,I83,K83)","v":63},{"$f":"IF(Q83=1,N83,IF(Q83=0,(N83-O83),\"-\"))","v":"-"},{"$f":"$L$1-Table1016[Competed Count]","v":2},{"$f":"IF(Q83<2,\"Yes\",\"No\")","v":"No"},{"$f":"AND($C$1=\"Y\",D83>0)","v":true},{"$f":"AND($E$1=\"Y\",F83>0)","v":true},{"$f":"AND($G$1=\"Y\",H83>0)","v":false},{"$f":"AND($I$1=\"Y\",J83>0)","v":false},{"$f":"AND($K$1=\"Y\",L83>0)","v":false},{"$f":"COUNTIF(Table1016[[#This Row],[Competed 1]:[Competed 5]],\"=TRUE\")","v":2}]
["Tyler Chapman","Welland Park Academy",3,{"$f":"IF(C84=\"-\",0,C84)","v":3},"-",{"$f":"IF(E84=\"-\",0,E84)","v":0},"-",{"$f":"IF(G84=\"-\",0,G84)","v":0},"-",{"$f":"IF(I84=\"-\",0,I84)","v":0},"-",{"$f":"IF(K84=\"-\",0,K84)","v":0},{"$f":"Table1016[[#This Row],[School]]","v":"Welland Park Academy"},{"$f":"D84+F84+H84+J84+L84","v":3},{"$f":"MAX(C84,E84,G84,I84,K84)","v":3},{"$f":"IF(Q84=1,N84,IF(Q84=0,(N84-O84),\"-\"))","v":"-"},{"$f":"$L$1-Table1016[Competed Count]","v":3},{"$f":"IF(Q84<2,\"Yes\",\"No\")","v":"No"},{"$f":"AND($C$1=\"Y\",D84>0)","v":true},{"$f":"AND($E$1=\"Y\",F84>0)","v":false},{"$f":"AND($G$1=\"Y\",H84>0)","v":false},{"$f":"AND($I$1=\"Y\",J84>0)","v":false},{"$f":"AND($K$1=\"Y\",L84>0)","v":false},{"$f":"COUNTIF(Table1016[[#This Row],[Competed 1]:[Competed 5]],\"=TRUE\")","v":1}]
["Ethan Hill","Thomas Estley CC",5,{"$f":"IF(C85=\"-\",0,C85)","v":5},"-",{"$f":"IF(E85=\"-\",0,E85)","v":0},"-",{"$f":"IF(G85=\"-\",0,G85)","v":0},"-",{"$f":"IF(I85=\"-\",0,I85)","v":0},"-",{"$f":"IF(K85=\"-\",0,K85)","v":0},{"$f":"Table1016[[#This Row],[School]]","v":"Thomas Estley CC"},{"$f":"D85+F85+H85+J85+L85","v":5},{"$f":"MAX(C85,E85,G85,I85,K85)","v":5},{"$f":"IF(Q85=1,N85,IF(Q85=0,(N85-O85),\"-\"))","v":"-"},{"$f":"$L$1-Table1016[Competed Count]","v":3},{"$f":"IF(Q85<2,\"Yes\",\"No\")","v":"No"},{"$f":"AND($C$1=\"Y\",D85>0)","v":true},{"$f":"AND($E$1=\"Y\",F85>0)","v":false},{"$f":"AND($G$1=\"Y\",H85>0)","v":false},{"$f":"AND($I$1=\"Y\",J85>0)","v":false},{"$f":"AND($K$1=\"Y\",L85>0)","v":false},{"$f":"COUNTIF(Table1016[[#This Row],[Competed 1]:[Competed 5]],\"=TRUE\")","v":1}]
["Odhran Palmer-Holmes","Bosworth Academy",9,{"$f":"IF(C86=\"-\",0,C86)","v":9},"-",{"$f":"IF(E86=\"-\",0,E86)","v":0},"-",{"$f":"IF(G86=\"-\",0,G86)","v":0},"-",{"$f":"IF(I86=\"-\",0,I86)","v":0},"-",{"$f":"IF(K86=\"-\",0,K86)","v":0},{"$f":"Table1016[[#This Row],[School]]","v":"Bosworth Academy"},{"$f":"D86+F86+H86+J86+L86","v":9},{"$f":"MAX(C86,E86,G86,I86,K86)","v":9},{"$f":"IF(Q86=1,N86,IF(Q86=0,(N86-O86),\"-\"))","v":"-"},{"$f":"$L$1-Table1016[Competed Count]","v":3},{"$f":"IF(Q86<2,\"Yes\",\"No\")","v":"No"},{"$f":"AND($C$1=\"Y\",D86>0)","v":true},{"$f":"AND($E$1=\"Y\",F86>0)","v":false},{"$f":"AND($G$1=\"Y\",H86>0)","v":false},{"$f":"AND($I$1=\"Y\",J86>0)","v":false},{"$f":"AND($K$1=\"Y\",L86>0)","v":false},{"$f":"COUNTIF(Table1016[[#This Row],[Competed 1]:[Competed 5]],\"=TRUE\")","v":1}]
["Unclaimed","UNCLAIMED 1",23,{"$f":"IF(C87=\"-\",0,C87)","v":23},"-",{"$f":"IF(E87=\"-\",0,E87)","v":0},"-",{"$f":"IF(G87=\"-\",0,G87)","v":0},"-",{"$f":"IF(I87=\"-\",0,I87)","v":0},"-",{"$f":"IF(K87=\"-\",0,K87)","v":0},{"$f":"Table1016[[#This Row],[School]]","v":"UNCLAIMED 1"},{"$f":"D87+F87+H87+J87+L87","v":23},{"$f":"MAX(C87,E87,G87,I87,K87)","v":23},{"$f":"IF(Q87=1,N87,IF(Q87=0,(N87-O87),\"-\"))","v":"-"},{"$f":"$L$1-Table1016[Competed Count]","v":3},{"$f":"IF(Q87<2,\"Yes\",\"No\")","v":"No"},{"$f":"AND($C$1=\"Y\",D87>0)","v":true},{"$f":"AND($E$1=\"Y\",F87>0)","v":false},{"$f":"AND($G$1=\"Y\",H87>0)","v":false},{"$f":"AND($I$1=\"Y\",J87>0)","v":false},{"$f":"AND($K$1=\"Y\",L87>0)","v":false},{"$f":"COUNTIF(Table1016[[#This Row],[Competed 1]:[Competed 5]],\"=TRUE\")","v":1}]
["Niall Sayers","Thomas Estley CC",25,{"$f":"IF(C88=\"-\",0,C88)","v":25},"-",{"$f":"IF(E88=\"-\",0,E88)","v":0},"-",{"$f":"IF(G88=\"-\",0,G88)","v":0},"-",{"$f":"IF(I88=\"-\",0,I88)","v":0},"-",{"$f":"IF(K88=\"-\",0,K88)","v":0},{"$f":"Table1016[[#This Row],[School]]","v":"Thomas Estley CC"},{"$f":"D88+F88+H88+J88+L88","v":25},{"$f":"MAX(C88,E88,G88,I88,K88)","v":25},{"$f":"IF(Q88=1,N88,IF(Q88=0,(N88-O88),\"-\"))","v":"-"},{"$f":"$L$1-Table1016[Competed Count]","v":3},{"$f":"IF(Q88<2,\"Yes\",\"No\")","v":"No"},{"$f":"AND($C$1=\"Y\",D88>0)","v":true},{"$f":"AND($E$1=\"Y\",F88>0)","v":false},{"$f":"AND($G$1=\"Y\",H88>0)","v":false},{"$f":"AND($I$1=\"Y\",J88>0)","v":false},{"$f":"AND($K$1=\"Y\",L88>0)","v":false},{"$f":"COUNTIF(Table1016[[#This Row],[Competed 1]:[Competed 5]],\"=TRUE\")","v":1}]
["Mason Mallan","The Martin High School",26,{"$f":"IF(C89=\"-\",0,C89)","v":26},"-",{"$f":"IF(E89=\"-\",0,E89)","v":0},"-",{"$f":"IF(G89=\"-\",0,G89)","v":0},"-",{"$f":"IF(I89=\"-\",0,I89)","v":0},"-",{"$f":"IF(K89=\"-\",0,K89)","v":0},{"$f":"Table1016[[#This Row],[School]]","v":"The Martin High School"},{"$f":"D89+F89+H89+J89+L89","v":26},{"$f":"MAX(C89,E89,G89,I89,K89)","v":26},{"$f":"IF(Q89=1,N89,IF(Q89=0,(N89-O89),\"-\"))","v":"-"},{"$f":"$L$1-Table1016[Competed Count]","v":3},{"$f":"IF(Q89<2,\"Yes\",\"No\")","v":"No"},{"$f":"AND($C$1=\"Y\",D89>0)","v":true},{"$f":"AND($E$1=\"Y\",F89>0)","v":false},{"$f":"AND($G$1=\"Y\",H89>0)","v":false},{"$f":"AND($I$1=\"Y\",J89>0)","v":false},{"$f":"AND($K$1=\"Y\",L89>0)","v":false},{"$f":"COUNTIF(Table1016[[#This Row],[Competed 1]:[Competed 5]],\"=TRUE\")","v":1}]
["Regan Henshaw","Thomas Estley CC",28,{"$f":"IF(C90=\"-\",0,C90)","v":28},"-",{"$f":"IF(E90=\"-\",0,E90)","v":0},"-",{"$f":"IF(G90=\"-\",0,G90)","v":0},"-",{"$f":"IF(I90=\"-\",0,I90)","v":0},"-",{"$f":"IF(K90=\"-\",0,K90)","v":0},{"$f":"Table1016[[#This Row],[School]]","v":"Thomas Estley CC"},{"$f":"D90+F90+H90+J90+L90","v":28},{"$f":"MAX(C90,E90,G90,I90,K90)","v":28},{"$f":"IF(Q90=1,N90,IF(Q90=0,(N90-O90),\"-\"))","v":"-"},{"$f":"$L$1-Table1016[Competed Count]","v":3},{"$f":"IF(Q90<2,\"Yes\",\"No\")","v":"No"},{"$f":"AND($C$1=\"Y\",D90>0)","v":true},{"$f":"AND($E$1=\"Y\",F90>0)","v":false},{"$f":"AND($G$1=\"Y\",H90>0)","v":false},{"$f":"AND($I$1=\"Y\",J90>0)","v":false},{"$f":"AND($K$1=\"Y\",L90>0)","v":false},{"$f":"COUNTIF(Table1016[[#This Row],[Competed 1]:[Competed 5]],\"=TRUE\")","v":1}]
["Nat Williams","The Martin High School",32,{"$f":"IF(C91=\"-\",0,C91)","v":32},"-",{"$f":"IF(E91=\"-\",0,E91)","v":0},"-",{"$f":"IF(G91=\"-\",0,G91)","v":0},"-",{"$f":"IF(I91=\"-\",0,I91)","v":0},"-",{"$f":"IF(K91=\"-\",0,K91)","v":0},{"$f":"Table1016[[#This Row],[School]]","v":"The Martin High School"},{"$f":"D91+F91+H91+J91+L91","v":32},{"$f":"MAX(C91,E91,G91,I91,K91)","v":32},{"$f":"IF(Q91=1,N91,IF(Q91=0,(N91-O91),\"-\"))","v":"-"},{"$f":"$L$1-Table1016[Competed Count]","v":3},{"$f":"IF(Q91<2,\"Yes\",\"No\")","v":"No"},{"$f":"AND($C$1=\"Y\",D91>0)","v":true},{"$f":"AND($E$1=\"Y\",F91>0)","v":false},{"$f":"AND($G$1=\"Y\",H91>0)","v":false},{"$f":"AND($I$1=\"Y\",J91>0)","v":false},{"$f":"AND($K$1=\"Y\",L91>0)","v":false},{"$f":"COUNTIF(Table1016[[#This Row],[Competed 1]:[Competed 5]],\"=TRUE\")","v":1}]
["Ben Hardy","Lutterworth High School",40,{"$f":"IF(C92=\"-\",0,C92)","v":40},"-",{"$f":"IF(E92=\"-\",0,E92)","v":0},"-",{"$f":"IF(G92=\"-\",0,G92)","v":0},"-",{"$f":"IF(I92=\"-\",0,I92)","v":0},"-",{"$f":"IF(K92=\"-\",0,K92)","v":0},{"$f":"Table1016[[#This Row],[School]]","v":"Lutterworth High School"},{"$f":"D92+F92+H92+J92+L92","v":40},{"$f":"MAX(C92,E92,G92,I92,K92)","v":40},{"$f":"IF(Q92=1,N92,IF(Q92=0,(N92-O92),\"-\"))","v":"-"},{"$f":"$L$1-Table1016[Competed Count]","v":3},{"$f":"IF(Q92<2,\"Yes\",\"No\")","v":"No"},{"$f":"AND($C$1=\"Y\",D92>0)","v":true},{"$f":"AND($E$1=\"Y\",F92>0)","v":false},{"$f":"AND($G$1=\"Y\",H92>0)","v":false},{"$f":"AND($I$1=\"Y\",J92>0)","v":false},{"$f":"AND($K$1=\"Y\",L92>0)","v":false},{"$f":"COUNTIF(Table1016[[#This Row],[Competed 1]:[Competed 5]],\"=TRUE\")","v":1}]
["Regan Fitches","The Martin High School",41,{"$f":"IF(C93=\"-\",0,C93)","v":41},"-",{"$f":"IF(E93=\"-\",0,E93)","v":0},"-",{"$f":"IF(G93=\"-\",0,G93)","v":0},"-",{"$f":"IF(I93=\"-\",0,I93)","v":0},"-",{"$f":"IF(K93=\"-\",0,K93)","v":0},{"$f":"Table1016[[#This Row],[School]]","v":"The Martin High School"},{"$f":"D93+F93+H93+J93+L93","v":41},{"$f":"MAX(C93,E93,G93,I93,K93)","v":41},{"$f":"IF(Q93=1,N93,IF(Q93=0,(N93-O93),\"-\"))","v":"-"},{"$f":"$L$1-Table1016[Competed Count]","v":3},{"$f":"IF(Q93<2,\"Yes\",\"No\")","v":"No"},{"$f":"AND($C$1=\"Y\",D93>0)","v":true},{"$f":"AND($E$1=\"Y\",F93>0)","v":false},{"$f":"AND($G$1=\"Y\",H93>0)","v":false},{"$f":"AND($I$1=\"Y\",J93>0)","v":false},{"$f":"AND($K$1=\"Y\",L93>0)","v":false},{"$f":"COUNTIF(Table1016[[#This Row],[Competed 1]:[Competed 5]],\"=TRUE\")","v":1}]
["Harry Reail","Thomas Estley CC",45,{"$f":"IF(C94=\"-\",0,C94)","v":45},"-",{"$f":"IF(E94=\"-\",0,E94)","v":0},"-",{"$f":"IF(G94=\"-\",0,G94)","v":0},"-",{"$f":"IF(I94=\"-\",0,I94)","v":0},"-",{"$f":"IF(K94=\"-\",0,K94)","v":0},{"$f":"Table1016[[#This Row],[School]]","v":"Thomas Estley CC"},{"$f":"D94+F94+H94+J94+L94","v":45},{"$f":"MAX(C94,E94,G94,I94,K94)","v":45},{"$f":"IF(Q94=1,N94,IF(Q94=0,(N94-O94),\"-\"))","v":"-"},{"$f":"$L$1-Table1016[Competed Count]","v":3},{"$f":"IF(Q94<2,\"Yes\",\"No\")","v":"No"},{"$f":"AND($C$1=\"Y\",D94>0)","v":true},{"$f":"AND($E$1=\"Y\",F94>0)","v":false},{"$f":"AND($G$1=\"Y\",H94>0)","v":false},{"$f":"AND($I$1=\"Y\",J94>0)","v":false},{"$f":"AND($K$1=\"Y\",L94>0)","v":false},{"$f":"COUNTIF(Table1016[[#This Row],[Competed 1]:[Competed 5]],\"=TRUE\")","v":1}]
["Adam Painter","Thomas Estley CC",47,{"$f":"IF(C95=\"-\",0,C95)","v":47},"-",{"$f":"IF(E95=\"-\",0,E95)","v":0},"-",{"$f":"IF(G95=\"-\",0,G95)","v":0},"-",{"$f":"IF(I95=\"-\",0,I95)","v":0},"-",{"$f":"IF(K95=\"-\",0,K95)","v":0},{"$f":"Table1016[[#This Row],[School]]","v":"Thomas Estley CC"},{"$f":"D95+F95+H95+J95+L95","v":47},{"$f":"MAX(C95,E95,G95,I95,K95)","v":47},{"$f":"IF(Q95=1,N95,IF(Q95=0,(N95-O95),\"-\"))","v":"-"},{"$f":"$L$1-Table1016[Competed Count]","v":3},{"$f":"IF(Q95<2,\"Yes\",\"No\")","v":"No"},{"$f":"AND($C$1=\"Y\",D95>0)","v":true},{"$f":"AND($E$1=\"Y\",F95>0)","v":false},{"$f":"AND($G$1=\"Y\",H95>0)","v":false},{"$f":"AND($I$1=\"Y\",J95>0)","v":false},{"$f":"AND($K$1=\"Y\",L95>0)","v":false},{"$f":"COUNTIF(Table1016[[#This Row],[Competed 1]:[Competed 5]],\"=TRUE\")","v":1}]
["Sam McDermott","Ivanhoe College",52,{"$f":"IF(C96=\"-\",0,C96)","v":52},"-",{"$f":"IF(E96=\"-\",0,E96)","v":0},"-",{"$f":"IF(G96=\"-\",0,G96)","v":0},"-",{"$f":"IF(I96=\"-\",0,I96)","v":0},"-",{"$f":"IF(K96=\"-\",0,K96)","v":0},{"$f":"Table1016[[#This Row],[School]]","v":"Ivanhoe College"},{"$f":"D96+F96+H96+J96+L96","v":52},{"$f":"MAX(C96,E96,G96,I96,K96)","v":52},{"$f":"IF(Q96=1,N96,IF(Q96=0,(N96-O96),\"-\"))","v":"-"},{"$f":"$L$1-Table1016[Competed Count]","v":3},{"$f":"IF(Q96<2,\"Yes\",\"No\")","v":"No"},{"$f":"AND($C$1=\"Y\",D96>0)","v":true},{"$f":"AND($E$1=\"Y\",F96>0)","v":false},{"$f":"AND($G$1=\"Y\",H96>0)","v":false},{"$f":"AND($I$1=\"Y\",J96>0)","v":false},{"$f":"AND($K$1=\"Y\",L96>0)","v":false},{"$f":"COUNTIF(Table1016[[#This Row],[Competed 1]:[Competed 5]],\"=TRUE\")","v":1}]
["Sean Yumul","St Pauls Catholic School",56,{"$f":"IF(C97=\"-\",0,C97)","v":56},"-",{"$f":"IF(E97=\"-\",0,E97)","v":0},"-",{"$f":"IF(G97=\"-\",0,G97)","v":0},"-",{"$f":"IF(I97=\"-\",0,I97)","v":0},"-",{"$f":"IF(K97=\"-\",0,K97)","v":0},{"$f":"Table1016[[#This Row],[School]]","v":"St Pauls Catholic School"},{"$f":"D97+F97+H97+J97+L97","v":56},{"$f":"MAX(C97,E97,G97,I97,K97)","v":56},{"$f":"IF(Q97=1,N97,IF(Q97=0,(N97-O97),\"-\"))","v":"-"},{"$f":"$L$1-Table1016[Competed Count]","v":3},{"$f":"IF(Q97<2,\"Yes\",\"No\")","v":"No"},{"$f":"AND($C$1=\"Y\",D97>0)","v":true},{"$f":"AND($E$1=\"Y\",F97>0)","v":false},{"$f":"AND($G$1=\"Y\",H97>0)","v":false},{"$f":"AND($I$1=\"Y\",J97>0)","v":false},{"$f":"AND($K$1=\"Y\",L97>0)","v":false},{"$f":"COUNTIF(Table1016[[#This Row],[Competed 1]:[Competed 5]],\"=TRUE\")","v":1}]
["Destiny Kanu","Manor High School",58,{"$f":"IF(C98=\"-\",0,C98)","v":58},"-",{"$f":"IF(E98=\"-\",0,E98)","v":0},"-",{"$f":"IF(G98=\"-\",0,G98)","v":0},"-",{"$f":"IF(I98=\"-\",0,I98)","v":0},"-",{"$f":"IF(K98=\"-\",0,K98)","v":0},{"$f":"Table1016[[#This Row],[School]]","v":"Manor High School"},{"$f":"D98+F98+H98+J98+L98","v":58},{"$f":"MAX(C98,E98,G98,I98,K98)","v":58},{"$f":"IF(Q98=1,N98,IF(Q98=0,(N98-O98),\"-\"))","v":"-"},{"$f":"$L$1-Table1016[Competed Count]","v":3},{"$f":"IF(Q98<2,\"Yes\",\"No\")","v":"No"},{"$f":"AND($C$1=\"Y\",D98>0)","v":true},{"$f":"AND($E$1=\"Y\",F98>0)","v":false},{"$f":"AND($G$1=\"Y\",H98>0)","v":false},{"$f":"AND($I$1=\"Y\",J98>0)","v":false},{"$f":"AND($K$1=\"Y\",L98>0)","v":false},{"$f":"COUNTIF(Table1016[[#This Row],[Competed 1]:[Competed 5]],\"=TRUE\")","v":1}]
["Unclaimed","UNCLAIMED 2",60,{"$f":"IF(C99=\"-\",0,C99)","v":60},"-",{"$f":"IF(E99=\"-\",0,E99)","v":0},"-",{"$f":"IF(G99=\"-\",0,G99)","v":0},"-",{"$f":"IF(I99=\"-\",0,I99)","v":0},"-",{"$f":"IF(K99=\"-\",0,K99)","v":0},{"$f":"Table1016[[#This Row],[School]]","v":"UNCLAIMED 2"},{"$f":"D99+F99+H99+J99+L99","v":60},{"$f":"MAX(C99,E99,G99,I99,K99)","v":60},{"$f":"IF(Q99=1,N99,IF(Q99=0,(N99-O99),\"-\"))","v":"-"},{"$f":"$L$1-Table1016[Competed Count]","v":3},{"$f":"IF(Q99<2,\"Yes\",\"No\")","v":"No"},{"$f":"AND($C$1=\"Y\",D99>0)","v":true},{"$f":"AND($E$1=\"Y\",F99>0)","v":false},{"$f":"AND($G$1=\"Y\",H99>0)","v":false},{"$f":"AND($I$1=\"Y\",J99>0)","v":false},{"$f":"AND($K$1=\"Y\",L99>0)","v":false},{"$f":"COUNTIF(Table1016[[#This Row],[Competed 1]:[Competed 5]],\"=TRUE\")","v":1}]
[null,"-","-",{"$f":"IF(C100=\"-\",0,C100)","v":0},"-",{"$f":"IF(E100=\"-\",0,E100)","v":0},"-",{"$f":"IF(G100=\"-\",0,G100)","v":0},"-",{"$f":"IF(I100=\"-\",0,I100)","v":0},"-",{"$f":"IF(K100=\"-\",0,K100)","v":0},{"$f":"Table1016[[#This Row],[School]]","v":"-"},{"$f":"D100+F100+H100+J100+L100","v":0},{"$f":"MAX(C100,E100,G100,I100,K100)","v":0},{"$f":"IF(Q100=1,N100,IF(Q100=0,(N100-O100),\"-\"))","v":"-"},{"$f":"$L$1-Table1016[Competed Count]","v":4},{"$f":"IF(Q100<2,\"Yes\",\"No\")","v":"No"},{"$f":"AND($C$1=\"Y\",D100>0)","v":false},{"$f":"AND($E$1=\"Y\",F100>0)","v":false},{"$f":"AND($G$1=\"Y\",H100>0)","v":false},{"$f":"AND($I$1=\"Y\",J100>0)","v":false},{"$f":"AND($K$1=\"Y\",L100>0)","v":false},{"$f":"COUNTIF(Table1016[[#This Row],[Competed 1]:[Competed 5]],\"=TRUE\")","v":0}]
[null,"-","-",{"$f":"IF(C101=\"-\",0,C101)","v":0},"-",{"$f":"IF(E101=\"-\",0,E101)","v":0},"-",{"$f":"IF(G101=\"-\",0,G101)","v":0},"-",{"$f":"IF(I101=\"-\",0,I101)","v":0},"-",{"$f":"IF(K101=\"-\",0,K101)","v":0},{"$f":"Table1016[[#This Row],[School]]","v":"-"},{"$f":"D101+F101+H101+J101+L101","v":0},{"$f":"MAX(C101,E101,G101,I101,K101)","v":0},{"$f":"IF(Q101=1,N101,IF(Q101=0,(N101-O101),\"-\"))","v":"-"},{"$f":"$L$1-Table1016[Competed Count]","v":4},{"$f":"IF(Q101<2,\"Yes\",\"No\")","v":"No"},{"$f":"AND($C$1=\"Y\",D101>0)","v":false},{"$f":"AND($E$1=\"Y\",F101>0)","v":false},{"$f":"AND($G$1=\"Y\",H101>0)","v":false},{"$f":"AND($I$1=\"Y\",J101>0)","v":false},{"$f":"AND($K$1=\"Y\",L101>0)","v":false},{"$f":"COUNTIF(Table1016[[#This Row],[Competed 1]:[Competed 5]],\"=TRUE\")","v":0}]
[null,"-","-",{"$f":"IF(C102=\"-\",0,C102)","v":0},"-",{"$f":"IF(E102=\"-\",0,E102)","v":0},"-",{"$f":"IF(G102=\"-\",0,G102)","v":0},"-",{"$f":"IF(I102=\"-\",0,I102)","v":0},"-",{"$f":"IF(K102=\"-\",0,K102)","v":0},{"$f":"Table1016[[#This Row],[School]]","v":"-"},{"$f":"D102+F102+H102+J102+L102","v":0},{"$f":"MAX(C102,E102,G102,I102,K102)","v":0},{"$f":"IF(Q102=1,N102,IF(Q102=0,(N102-O102),\"-\"))","v":"-"},{"$f":"$L$1-Table1016[Competed Count]","v":4},{"$f":"IF(Q102<2,\"Yes\",\"No\")","v":"No"},{"$f":"AND($C$1=\"Y\",D102>0)","v":false},{"$f":"AND($E$1=\"Y\",F102>0)","v":false},{"$f":"AND($G$1=\"Y\",H102>0)","v":false},{"$f":"AND($I$1=\"Y\",J102>0)","v":false},{"$f":"AND($K$1=\"Y\",L102>0)","v":false},{"$f":"COUNTIF(Table1016[[#This Row],[Competed 1]:[Competed 5]],\"=TRUE\")","v":0}]
[null,"-","-",{"$f":"IF(C103=\"-\",0,C103)","v":0},"-",{"$f":"IF(E103=\"-\",0,E103)","v":0},"-",{"$f":"IF(G103=\"-\",0,G103)","v":0},"-",{"$f":"IF(I103=\"-\",0,I103)","v":0},"-",{"$f":"IF(K103=\"-\",0,K103)","v":0},{"$f":"Table1016[[#This Row],[School]]","v":"-"},{"$f":"D103+F103+H103+J103+L103","v":0},{"$f":"MAX(C103,E103,G103,I103,K103)","v":0},{"$f":"IF(Q103=1,N103,IF(Q103=0,(N103-O103),\"-\"))","v":"-"},{"$f":"$L$1-Table1016[Competed Count]","v":4},{"$f":"IF(Q103<2,\"Yes\",\"No\")","v":"No"},{"$f":"AND($C$1=\"Y\",D103>0)","v":false},{"$f":"AND($E$1=\"Y\",F103>0)","v":false},{"$f":"AND($G$1=\"Y\",H103>0)","v":false},{"$f":"AND($I$1=\"Y\",J103>0)","v":false},{"$f":"AND($K$1=\"Y\",L103>0)","v":false},{"$f":"COUNTIF(Table1016[[#This Row],[Competed 1]:[Competed 5]],\"=TRUE\")","v":0}]
[null,"-","-",{"$f":"IF(C104=\"-\",0,C104)","v":0},"-",{"$f":"IF(E104=\"-\",0,E104)","v":0},"-",{"$f":"IF(G104=\"-\",0,G104)","v":0},"-",{"$f":"IF(I104=\"-\",0,I104)","v":0},"-",{"$f":"IF(K104=\"-\",0,K104)","v":0},{"$f":"Table1016[[#This Row],[School]]","v":"-"},{"$f":"D104+F104+H104+J104+L104","v":0},{"$f":"MAX(C104,E104,G104,I104,K104)","v":0},{"$f":"IF(Q104=1,N104,IF(Q104=0,(N104-O104),\"-\"))","v":"-"},{"$f":"$L$1-Table1016[Competed Count]","v":4},{"$f":"IF(Q104<2,\"Yes\",\"No\")","v":"No"},{"$f":"AND($C$1=\"Y\",D104>0)","v":false},{"$f":"AND($E$1=\"Y\",F104>0)","v":false},{"$f":"AND($G$1=\"Y\",H104>0)","v":false},{"$f":"AND($I$1=\"Y\",J104>0)","v":false},{"$f":"AND($K$1=\"Y\",L104>0)","v":false},{"$f":"COUNTIF(Table1016[[#This Row],[Competed 1]:[Competed 5]],\"=TRUE\")","v":0}]
[null,"-","-",{"$f":"IF(C105=\"-\",0,C105)","v":0},"-",{"$f":"IF(E105=\"-\",0,E105)","v":0},"-",{"$f":"IF(G105=\"-\",0,G105)","v":0},"-",{"$f":"IF(I105=\"-\",0,I105)","v":0},"-",{"$f":"IF(K105=\"-\",0,K105)","v":0},{"$f":"Table1016[[#This Row],[School]]","v":"-"},{"$f":"D105+F105+H105+J105+L105","v":0},{"$f":"MAX(C105,E105,G105,I105,K105)","v":0},{"$f":"IF(Q105=1,N105,IF(Q105=0,(N105-O105),\"-\"))","v":"-"},{"$f":"$L$1-Table1016[Competed Count]","v":4},{"$f":"IF(Q105<2,\"Yes\",\"No\")","v":"No"},{"$f":"AND($C$1=\"Y\",D105>0)","v":false},{"$f":"AND($E$1=\"Y\",F105>0)","v":false},{"$f":"AND($G$1=\"Y\",H105>0)","v":false},{"$f":"AND($I$1=\"Y\",J105>0)","v":false},{"$f":"AND($K$1=\"Y\",L105>0)","v":false},{"$f":"COUNTIF(Table1016[[#This Row],[Competed 1]:[Competed 5]],\"=TRUE\")","v":0}]
[null,"-","-",{"$f":"IF(C106=\"-\",0,C106)","v":0},"-",{"$f":"IF(E106=\"-\",0,E106)","v":0},"-",{"$f":"IF(G106=\"-\",0,G106)","v":0},"-",{"$f":"IF(I106=\"-\",0,I106)","v":0},"-",{"$f":"IF(K106=\"-\",0,K106)","v":0},{"$f":"Table1016[[#This Row],[School]]","v":"-"},{"$f":"D106+F106+H106+J106+L106","v":0},{"$f":"MAX(C106,E106,G106,I106,K106)","v":0},{"$f":"IF(Q106=1,N106,IF(Q106=0,(N106-O106),\"-\"))","v":"-"},{"$f":"$L$1-Table1016[Competed Count]","v":4},{"$f":"IF(Q106<2,\"Yes\",\"No\")","v":"No"},{"$f":"AND($C$1=\"Y\",D106>0)","v":false},{"$f":"AND($E$1=\"Y\",F106>0)","v":false},{"$f":"AND($G$1=\"Y\",H106>0)","v":false},{"$f":"AND($I$1=\"Y\",J106>0)","v":false},{"$f":"AND($K$1=\"Y\",L106>0)","v":false},{"$f":"COUNTIF(Table1016[[#This Row],[Competed 1]:[Competed 5]],\"=TRUE\")","v":0}]
[null,"-","-",{"$f":"IF(C107=\"-\",0,C107)","v":0},"-",{"$f":"IF(E107=\"-\",0,E107)","v":0},"-",{"$f":"IF(G107=\"-\",0,G107)","v":0},"-",{"$f":"IF(I107=\"-\",0,I107)","v":0},"-",{"$f":"IF(K107=\"-\",0,K107)","v":0},{"$f":"Table1016[[#This Row],[School]]","v":"-"},{"$f":"D107+F107+H107+J107+L107","v":0},{"$f":"MAX(C107,E107,G107,I107,K107)","v":0},{"$f":"IF(Q107=1,N107,IF(Q107=0,(N107-O107),\"-\"))","v":"-"},{"$f":"$L$1-Table1016[Competed Count]","v":4},{"$f":"IF(Q107<2,\"Yes\",\"No\")","v":"No"},{"$f":"AND($C$1=\"Y\",D107>0)","v":false},{"$f":"AND($E$1=\"Y\",F107>0)","v":false},{"$f":"AND($G$1=\"Y\",H107>0)","v":false},{"$f":"AND($I$1=\"Y\",J107>0)","v":false},{"$f":"AND($K$1=\"Y\",L107>0)","v":false},{"$f":"COUNTIF(Table1016[[#This Row],[Competed 1]:[Competed 5]],\"=TRUE\")","v":0}]
[null,"-","-",{"$f":"IF(C108=\"-\",0,C108)","v":0},"-",{"$f":"IF(E108=\"-\",0,E108)","v":0},"-",{"$f":"IF(G108=\"-\",0,G108)","v":0},"-",{"$f":"IF(I108=\"-\",0,I108)","v":0},"-",{"$f":"IF(K108=\"-\",0,K108)","v":0},{"$f":"Table1016[[#This Row],[School]]","v":"-"},{"$f":"D108+F108+H108+J108+L108","v":0},{"$f":"MAX(C108,E108,G108,I108,K108)","v":0},{"$f":"IF(Q108=1,N108,IF(Q108=0,(N108-O108),\"-\"))","v":"-"},{"$f":"$L$1-Table1016[Competed Count]","v":4},{"$f":"IF(Q108<2,\"Yes\",\"No\")","v":"No"},{"$f":"AND($C$1=\"Y\",D108>0)","v":false},{"$f":"AND($E$1=\"Y\",F108>0)","v":false},{"$f":"AND($G$1=\"Y\",H108>0)","v":false},{"$f":"AND($I$1=\"Y\",J108>0)","v":false},{"$f":"AND($K$1=\"Y\",L108>0)","v":false},{"$f":"COUNTIF(Table1016[[#This Row],[Competed 1]:[Competed 5]],\"=TRUE\")","v":0}]
[null,"-","-",{"$f":"IF(C109=\"-\",0,C109)","v":0},"-",{"$f":"IF(E109=\"-\",0,E109)","v":0},"-",{"$f":"IF(G109=\"-\",0,G109)","v":0},"-",{"$f":"IF(I109=\"-\",0,I109)","v":0},"-",{"$f":"IF(K109=\"-\",0,K109)","v":0},{"$f":"Table1016[[#This Row],[School]]","v":"-"},{"$f":"D109+F109+H109+J109+L109","v":0},{"$f":"MAX(C109,E109,G109,I109,K109)","v":0},{"$f":"IF(Q109=1,N109,IF(Q109=0,(N109-O109),\"-\"))","v":"-"},{"$f":"$L$1-Table1016[Competed Count]","v":4},{"$f":"IF(Q109<2,\"Yes\",\"No\")","v":"No"},{"$f":"AND($C$1=\"Y\",D109>0)","v":false},{"$f":"AND($E$1=\"Y\",F109>0)","v":false},{"$f":"AND($G$1=\"Y\",H109>0)","v":false},{"$f":"AND($I$1=\"Y\",J109>0)","v":false},{"$f":"AND($K$1=\"Y\",L109>0)","v":false},{"$f":"COUNTIF(Table1016[[#This Row],[Competed 1]:[Competed 5]],\"=TRUE\")","v":0}]
[null,"-","-",{"$f":"IF(C110=\"-\",0,C110)","v":0},"-",{"$f":"IF(E110=\"-\",0,E110)","v":0},"-",{"$f":"IF(G110=\"-\",0,G110)","v":0},"-",{"$f":"IF(I110=\"-\",0,I110)","v":0},"-",{"$f":"IF(K110=\"-\",0,K110)","v":0},{"$f":"Table1016[[#This Row],[School]]","v":"-"},{"$f":"D110+F110+H110+J110+L110","v":0},{"$f":"MAX(C110,E110,G110,I110,K110)","v":0},{"$f":"IF(Q110=1,N110,IF(Q110=0,(N110-O110),\"-\"))","v":"-"},{"$f":"$L$1-Table1016[Competed Count]","v":4},{"$f":"IF(Q110<2,\"Yes\",\"No\")","v":"No"},{"$f":"AND($C$1=\"Y\",D110>0)","v":false},{"$f":"AND($E$1=\"Y\",F110>0)","v":false},{"$f":"AND($G$1=\"Y\",H110>0)","v":false},{"$f":"AND($I$1=\"Y\",J110>0)","v":false},{"$f":"AND($K$1=\"Y\",L110>0)","v":false},{"$f":"COUNTIF(Table1016[[#This Row],[Competed 1]:[Competed 5]],\"=TRUE\")","v":0}]
[null,"-","-",{"$f":"IF(C111=\"-\",0,C111)","v":0},"-",{"$f":"IF(E111=\"-\",0,E111)","v":0},"-",{"$f":"IF(G111=\"-\",0,G111)","v":0},"-",{"$f":"IF(I111=\"-\",0,I111)","v":0},"-",{"$f":"IF(K111=\"-\",0,K111)","v":0},{"$f":"Table1016[[#This Row],[School]]","v":"-"},{"$f":"D111+F111+H111+J111+L111","v":0},{"$f":"MAX(C111,E111,G111,I111,K111)","v":0},{"$f":"IF(Q111=1,N111,IF(Q111=0,(N111-O111),\"-\"))","v":"-"},{"$f":"$L$1-Table1016[Competed Count]","v":4},{"$f":"IF(Q111<2,\"Yes\",\"No\")","v":"No"},{"$f":"AND($C$1=\"Y\",D111>0)","v":false},{"$f":"AND($E$1=\"Y\",F111>0)","v":false},{"$f":"AND($G$1=\"Y\",H111>0)","v":false},{"$f":"AND($I$1=\"Y\",J111>0)","v":false},{"$f":"AND($K$1=\"Y\",L111>0)","v":false},{"$f":"COUNTIF(Table1016[[#This Row],[Competed 1]:[Competed 5]],\"=TRUE\")","v":0}]
[null,"-","-",{"$f":"IF(C112=\"-\",0,C112)","v":0},"-",{"$f":"IF(E112=\"-\",0,E112)","v":0},"-",{"$f":"IF(G112=\"-\",0,G112)","v":0},"-",{"$f":"IF(I112=\"-\",0,I112)","v":0},"-",{"$f":"IF(K112=\"-\",0,K112)","v":0},{"$f":"Table1016[[#This Row],[School]]","v":"-"},{"$f":"D112+F112+H112+J112+L112","v":0},{"$f":"MAX(C112,E112,G112,I112,K112)","v":0},{"$f":"IF(Q112=1,N112,IF(Q112=0,(N112-O112),\"-\"))","v":"-"},{"$f":"$L$1-Table1016[Competed Count]","v":4},{"$f":"IF(Q112<2,\"Yes\",\"No\")","v":"No"},{"$f":"AND($C$1=\"Y\",D112>0)","v":false},{"$f":"AND($E$1=\"Y\",F112>0)","v":false},{"$f":"AND($G$1=\"Y\",H112>0)","v":false},{"$f":"AND($I$1=\"Y\",J112>0)","v":false},{"$f":"AND($K$1=\"Y\",L112>0)","v":false},{"$f":"COUNTIF(Table1016[[#This Row],[Competed 1]:[Competed 5]],\"=TRUE\")","v":0}]
[null,"-","-",{"$f":"IF(C113=\"-\",0,C113)","v":0},"-",{"$f":"IF(E113=\"-\",0,E113)","v":0},"-",{"$f":"IF(G113=\"-\",0,G113)","v":0},"-",{"$f":"IF(I113=\"-\",0,I113)","v":0},"-",{"$f":"IF(K113=\"-\",0,K113)","v":0},{"$f":"Table1016[[#This Row],[School]]","v":"-"},{"$f":"D113+F113+H113+J113+L113","v":0},{"$f":"MAX(C113,E113,G113,I113,K113)","v":0},{"$f":"IF(Q113=1,N113,IF(Q113=0,(N113-O113),\"-\"))","v":"-"},{"$f":"$L$1-Table1016[Competed Count]","v":4},{"$f":"IF(Q113<2,\"Yes\",\"No\")","v":"No"},{"$f":"AND($C$1=\"Y\",D113>0)","v":false},{"$f":"AND($E$1=\"Y\",F113>0)","v":false},{"$f":"AND($G$1=\"Y\",H113>0)","v":false},{"$f":"AND($I$1=\"Y\",J113>0)","v":false},{"$f":"AND($K$1=\"Y\",L113>0)","v":false},{"$f":"COUNTIF(Table1016[[#This Row],[Competed 1]:[Competed 5]],\"=TRUE\")","v":0}]
[null,"-","-",{"$f":"IF(C114=\"-\",0,C114)","v":0},"-",{"$f":"IF(E114=\"-\",0,E114)","v":0},"-",{"$f":"IF(G114=\"-\",0,G114)","v":0},"-",{"$f":"IF(I114=\"-\",0,I114)","v":0},"-",{"$f":"IF(K114=\"-\",0,K114)","v":0},{"$f":"Table1016[[#This Row],[School]]","v":"-"},{"$f":"D114+F114+H114+J114+L114","v":0},{"$f":"MAX(C114,E114,G114,I114,K114)","v":0},{"$f":"IF(Q114=1,N114,IF(Q114=0,(N114-O114),\"-\"))","v":"-"},{"$f":"$L$1-Table1016[Competed Count]","v":4},{"$f":"IF(Q114<2,\"Yes\",\"No\")","v":"No"},{"$f":"AND($C$1=\"Y\",D114>0)","v":false},{"$f":"AND($E$1=\"Y\",F114>0)","v":false},{"$f":"AND($G$1=\"Y\",H114>0)","v":false},{"$f":"AND($I$1=\"Y\",J114>0)","v":false},{"$f":"AND($K$1=\"Y\",L114>0)","v":false},{"$f":"COUNTIF(Table1016[[#This Row],[Competed 1]:[Competed 5]],\"=TRUE\")","v":0}]
[null,"-","-",{"$f":"IF(C115=\"-\",0,C115)","v":0},"-",{"$f":"IF(E115=\"-\",0,E115)","v":0},"-",{"$f":"IF(G115=\"-\",0,G115)","v":0},"-",{"$f":"IF(I115=\"-\",0,I115)","v":0},"-",{"$f":"IF(K115=\"-\",0,K115)","v":0},{"$f":"Table1016[[#This Row],[School]]","v":"-"},{"$f":"D115+F115+H115+J115+L115","v":0},{"$f":"MAX(C115,E115,G115,I115,K115)","v":0},{"$f":"IF(Q115=1,N115,IF(Q115=0,(N115-O115),\"-\"))","v":"-"},{"$f":"$L$1-Table1016[Competed Count]","v":4},{"$f":"IF(Q115<2,\"Yes\",\"No\")","v":"No"},{"$f":"AND($C$1=\"Y\",D115>0)","v":false},{"$f":"AND($E$1=\"Y\",F115>0)","v":false},{"$f":"AND($G$1=\"Y\",H115>0)","v":false},{"$f":"AND($I$1=\"Y\",J115>0)","v":false},{"$f":"AND($K$1=\"Y\",L115>0)","v":false},{"$f":"COUNTIF(Table1016[[#This Row],[Competed 1]:[Competed 5]],\"=TRUE\")","v":0}]
[null,"-","-",{"$f":"IF(C116=\"-\",0,C116)","v":0},"-",{"$f":"IF(E116=\"-\",0,E116)","v":0},"-",{"$f":"IF(G116=\"-\",0,G116)","v":0},"-",{"$f":"IF(I116=\"-\",0,I116)","v":0},"-",{"$f":"IF(K116=\"-\",0,K116)","v":0},{"$f":"Table1016[[#This Row],[School]]","v":"-"},{"$f":"D116+F116+H116+J116+L116","v":0},{"$f":"MAX(C116,E116,G116,I116,K116)","v":0},{"$f":"IF(Q116=1,N116,IF(Q116=0,(N116-O116),\"-\"))","v":"-"},{"$f":"$L$1-Table1016[Competed Count]","v":4},{"$f":"IF(Q116<2,\"Yes\",\"No\")","v":"No"},{"$f":"AND($C$1=\"Y\",D116>0)","v":false},{"$f":"AND($E$1=\"Y\",F116>0)","v":false},{"$f":"AND($G$1=\"Y\",H116>0)","v":false},{"$f":"AND($I$1=\"Y\",J116>0)","v":false},{"$f":"AND($K$1=\"Y\",L116>0)","v":false},{"$f":"COUNTIF(Table1016[[#This Row],[Competed 1]:[Competed 5]],\"=TRUE\")","v":0}]
[null,"-","-",{"$f":"IF(C117=\"-\",0,C117)","v":0},"-",{"$f":"IF(E117=\"-\",0,E117)","v":0},"-",{"$f":"IF(G117=\"-\",0,G117)","v":0},"-",{"$f":"IF(I117=\"-\",0,I117)","v":0},"-",{"$f":"IF(K117=\"-\",0,K117)","v":0},{"$f":"Table1016[[#This Row],[School]]","v":"-"},{"$f":"D117+F117+H117+J117+L117","v":0},{"$f":"MAX(C117,E117,G117,I117,K117)","v":0},{"$f":"IF(Q117=1,N117,IF(Q117=0,(N117-O117),\"-\"))","v":"-"},{"$f":"$L$1-Table1016[Competed Count]","v":4},{"$f":"IF(Q117<2,\"Yes\",\"No\")","v":"No"},{"$f":"AND($C$1=\"Y\",D117>0)","v":false},{"$f":"AND($E$1=\"Y\",F117>0)","v":false},{"$f":"AND($G$1=\"Y\",H117>0)","v":false},{"$f":"AND($I$1=\"Y\",J117>0)","v":false},{"$f":"AND($K$1=\"Y\",L117>0)","v":false},{"$f":"COUNTIF(Table1016[[#This Row],[Competed 1]:[Competed 5]],\"=TRUE\")","v":0}]
[null,"-","-",{"$f":"IF(C118=\"-\",0,C118)","v":0},"-",{"$f":"IF(E118=\"-\",0,E118)","v":0},"-",{"$f":"IF(G118=\"-\",0,G118)","v":0},"-",{"$f":"IF(I118=\"-\",0,I118)","v":0},"-",{"$f":"IF(K118=\"-\",0,K118)","v":0},{"$f":"Table1016[[#This Row],[School]]","v":"-"},{"$f":"D118+F118+H118+J118+L118","v":0},{"$f":"MAX(C118,E118,G118,I118,K118)","v":0},{"$f":"IF(Q118=1,N118,IF(Q118=0,(N118-O118),\"-\"))","v":"-"},{"$f":"$L$1-Table1016[Competed Count]","v":4},{"$f":"IF(Q118<2,\"Yes\",\"No\")","v":"No"},{"$f":"AND($C$1=\"Y\",D118>0)","v":false},{"$f":"AND($E$1=\"Y\",F118>0)","v":false},{"$f":"AND($G$1=\"Y\",H118>0)","v":false},{"$f":"AND($I$1=\"Y\",J118>0)","v":false},{"$f":"AND($K$1=\"Y\",L118>0)","v":false},{"$f":"COUNTIF(Table1016[[#This Row],[Competed 1]:[Competed 5]],\"=TRUE\")","v":0}]
[null,"-","-",{"$f":"IF(C119=\"-\",0,C119)","v":0},"-",{"$f":"IF(E119=\"-\",0,E119)","v":0},"-",{"$f":"IF(G119=\"-\",0,G119)","v":0},"-",{"$f":"IF(I119=\"-\",0,I119)","v":0},"-",{"$f":"IF(K119=\"-\",0,K119)","v":0},{"$f":"Table1016[[#This Row],[School]]","v":"-"},{"$f":"D119+F119+H119+J119+L119","v":0},{"$f":"MAX(C119,E119,G119,I119,K119)","v":0},{"$f":"IF(Q119=1,N119,IF(Q119=0,(N119-O119),\"-\"))","v":"-"},{"$f":"$L$1-Table1016[Competed Count]","v":4},{"$f":"IF(Q119<2,\"Yes\",\"No\")","v":"No"},{"$f":"AND($C$1=\"Y\",D119>0)","v":false},{"$f":"AND($E$1=\"Y\",F119>0)","v":false},{"$f":"AND($G$1=\"Y\",H119>0)","v":false},{"$f":"AND($I$1=\"Y\",J119>0)","v":false},{"$f":"AND($K$1=\"Y\",L119>0)","v":false},{"$f":"COUNTIF(Table1016[[#This Row],[Competed 1]:[Competed 5]],\"=TRUE\")","v":0}]
[null,"-","-",{"$f":"IF(C120=\"-\",0,C120)","v":0},"-",{"$f":"IF(E120=\"-\",0,E120)","v":0},"-",{"$f":"IF(G120=\"-\",0,G120)","v":0},"-",{"$f":"IF(I120=\"-\",0,I120)","v":0},"-",{"$f":"IF(K120=\"-\",0,K120)","v":0},{"$f":"Table1016[[#This Row],[School]]","v":"-"},{"$f":"D120+F120+H120+J120+L120","v":0},{"$f":"MAX(C120,E120,G120,I120,K120)","v":0},{"$f":"IF(Q120=1,N120,IF(Q120=0,(N120-O120),\"-\"))","v":"-"},{"$f":"$L$1-Table1016[Competed Count]","v":4},{"$f":"IF(Q120<2,\"Yes\",\"No\")","v":"No"},{"$f":"AND($C$1=\"Y\",D120>0)","v":false},{"$f":"AND($E$1=\"Y\",F120>0)","v":false},{"$f":"AND($G$1=\"Y\",H120>0)","v":false},{"$f":"AND($I$1=\"Y\",J120>0)","v":false},{"$f":"AND($K$1=\"Y\",L120>0)","v":false},{"$f":"COUNTIF(Table1016[[#This Row],[Competed 1]:[Competed 5]],\"=TRUE\")","v":0}]
[null,"-","-",{"$f":"IF(C121=\"-\",0,C121)","v":0},"-",{"$f":"IF(E121=\"-\",0,E121)","v":0},"-",{"$f":"IF(G121=\"-\",0,G121)","v":0},"-",{"$f":"IF(I121=\"-\",0,I121)","v":0},"-",{"$f":"IF(K121=\"-\",0,K121)","v":0},{"$f":"Table1016[[#This Row],[School]]","v":"-"},{"$f":"D121+F121+H121+J121+L121","v":0},{"$f":"MAX(C121,E121,G121,I121,K121)","v":0},{"$f":"IF(Q121=1,N121,IF(Q121=0,(N121-O121),\"-\"))","v":"-"},{"$f":"$L$1-Table1016[Competed Count]","v":4},{"$f":"IF(Q121<2,\"Yes\",\"No\")","v":"No"},{"$f":"AND($C$1=\"Y\",D121>0)","v":false},{"$f":"AND($E$1=\"Y\",F121>0)","v":false},{"$f":"AND($G$1=\"Y\",H121>0)","v":false},{"$f":"AND($I$1=\"Y\",J121>0)","v":false},{"$f":"AND($K$1=\"Y\",L121>0)","v":false},{"$f":"COUNTIF(Table1016[[#This Row],[Competed 1]:[Competed 5]],\"=TRUE\")","v":0}]
[null,"-","-",{"$f":"IF(C122=\"-\",0,C122)","v":0},"-",{"$f":"IF(E122=\"-\",0,E122)","v":0},"-",{"$f":"IF(G122=\"-\",0,G122)","v":0},"-",{"$f":"IF(I122=\"-\",0,I122)","v":0},"-",{"$f":"IF(K122=\"-\",0,K122)","v":0},{"$f":"Table1016[[#This Row],[School]]","v":"-"},{"$f":"D122+F122+H122+J122+L122","v":0},{"$f":"MAX(C122,E122,G122,I122,K122)","v":0},{"$f":"IF(Q122=1,N122,IF(Q122=0,(N122-O122),\"-\"))","v":"-"},{"$f":"$L$1-Table1016[Competed Count]","v":4},{"$f":"IF(Q122<2,\"Yes\",\"No\")","v":"No"},{"$f":"AND($C$1=\"Y\",D122>0)","v":false},{"$f":"AND($E$1=\"Y\",F122>0)","v":false},{"$f":"AND($G$1=\"Y\",H122>0)","v":false},{"$f":"AND($I$1=\"Y\",J122>0)","v":false},{"$f":"AND($K$1=\"Y\",L122>0)","v":false},{"$f":"COUNTIF(Table1016[[#This Row],[Competed 1]:[Competed 5]],\"=TRUE\")","v":0}]
[null,"-","-",{"$f":"IF(C123=\"-\",0,C123)","v":0},"-",{"$f":"IF(E123=\"-\",0,E123)","v":0},"-",{"$f":"IF(G123=\"-\",0,G123)","v":0},"-",{"$f":"IF(I123=\"-\",0,I123)","v":0},"-",{"$f":"IF(K123=\"-\",0,K123)","v":0},{"$f":"Table1016[[#This Row],[School]]","v":"-"},{"$f":"D123+F123+H123+J123+L123","v":0},{"$f":"MAX(C123,E123,G123,I123,K123)","v":0},{"$f":"IF(Q123=1,N123,IF(Q123=0,(N123-O123),\"-\"))","v":"-"},{"$f":"$L$1-Table1016[Competed Count]","v":4},{"$f":"IF(Q123<2,\"Yes\",\"No\")","v":"No"},{"$f":"AND($C$1=\"Y\",D123>0)","v":false},{"$f":"AND($E$1=\"Y\",F123>0)","v":false},{"$f":"AND($G$1=\"Y\",H123>0)","v":false},{"$f":"AND($I$1=\"Y\",J123>0)","v":false},{"$f":"AND($K$1=\"Y\",L123>0)","v":false},{"$f":"COUNTIF(Table1016[[#This Row],[Competed 1]:[Competed 5]],\"=TRUE\")","v":0}]
[null,"-","-",{"$f":"IF(C124=\"-\",0,C124)","v":0},"-",{"$f":"IF(E124=\"-\",0,E124)","v":0},"-",{"$f":"IF(G124=\"-\",0,G124)","v":0},"-",{"$f":"IF(I124=\"-\",0,I124)","v":0},"-",{"$f":"IF(K124=\"-\",0,K124)","v":0},{"$f":"Table1016[[#This Row],[School]]","v":"-"},{"$f":"D124+F124+H124+J124+L124","v":0},{"$f":"MAX(C124,E124,G124,I124,K124)","v":0},{"$f":"IF(Q124=1,N124,IF(Q124=0,(N124-O124),\"-\"))","v":"-"},{"$f":"$L$1-Table1016[Competed Count]","v":4},{"$f":"IF(Q124<2,\"Yes\",\"No\")","v":"No"},{"$f":"AND($C$1=\"Y\",D124>0)","v":false},{"$f":"AND($E$1=\"Y\",F124>0)","v":false},{"$f":"AND($G$1=\"Y\",H124>0)","v":false},{"$f":"AND($I$1=\"Y\",J124>0)","v":false},{"$f":"AND($K$1=\"Y\",L124>0)","v":false},{"$f":"COUNTIF(Table1016[[#This Row],[Competed 1]:[Competed 5]],\"=TRUE\")","v":0}]
[null,"-","-",{"$f":"IF(C125=\"-\",0,C125)","v":0},"-",{"$f":"IF(E125=\"-\",0,E125)","v":0},"-",{"$f":"IF(G125=\"-\",0,G125)","v":0},"-",{"$f":"IF(I125=\"-\",0,I125)","v":0},"-",{"$f":"IF(K125=\"-\",0,K125)","v":0},{"$f":"Table1016[[#This Row],[School]]","v":"-"},{"$f":"D125+F125+H125+J125+L125","v":0},{"$f":"MAX(C125,E125,G125,I125,K125)","v":0},{"$f":"IF(Q125=1,N125,IF(Q125=0,(N125-O125),\"-\"))","v":"-"},{"$f":"$L$1-Table1016[Competed Count]","v":4},{"$f":"IF(Q125<2,\"Yes\",\"No\")","v":"No"},{"$f":"AND($C$1=\"Y\",D125>0)","v":false},{"$f":"AND($E$1=\"Y\",F125>0)","v":false},{"$f":"AND($G$1=\"Y\",H125>0)","v":false},{"$f":"AND($I$1=\"Y\",J125>0)","v":false},{"$f":"AND($K$1=\"Y\",L125>0)","v":false},{"$f":"COUNTIF(Table1016[[#This Row],[Competed 1]:[Competed 5]],\"=TRUE\")","v":0}]
[null,"-","-",{"$f":"IF(C126=\"-\",0,C126)","v":0},"-",{"$f":"IF(E126=\"-\",0,E126)","v":0},"-",{"$f":"IF(G126=\"-\",0,G126)","v":0},"-",{"$f":"IF(I126=\"-\",0,I126)","v":0},"-",{"$f":"IF(K126=\"-\",0,K126)","v":0},{"$f":"Table1016[[#This Row],[School]]","v":"-"},{"$f":"D126+F126+H126+J126+L126","v":0},{"$f":"MAX(C126,E126,G126,I126,K126)","v":0},{"$f":"IF(Q126=1,N126,IF(Q126=0,(N126-O126),\"-\"))","v":"-"},{"$f":"$L$1-Table1016[Competed Count]","v":4},{"$f":"IF(Q126<2,\"Yes\",\"No\")","v":"No"},{"$f":"AND($C$1=\"Y\",D126>0)","v":false},{"$f":"AND($E$1=\"Y\",F126>0)","v":false},{"$f":"AND($G$1=\"Y\",H126>0)","v":false},{"$f":"AND($I$1=\"Y\",J126>0)","v":false},{"$f":"AND($K$1=\"Y\",L126>0)","v":false},{"$f":"COUNTIF(Table1016[[#This Row],[Competed 1]:[Competed 5]],\"=TRUE\")","v":0}]
[null,"-","-",{"$f":"IF(C127=\"-\",0,C127)","v":0},"-",{"$f":"IF(E127=\"-\",0,E127)","v":0},"-",{"$f":"IF(G127=\"-\",0,G127)","v":0},"-",{"$f":"IF(I127=\"-\",0,I127)","v":0},"-",{"$f":"IF(K127=\"-\",0,K127)","v":0},{"$f":"Table1016[[#This Row],[School]]","v":"-"},{"$f":"D127+F127+H127+J127+L127","v":0},{"$f":"MAX(C127,E127,G127,I127,K127)","v":0},{"$f":"IF(Q127=1,N127,IF(Q127=0,(N127-O127),\"-\"))","v":"-"},{"$f":"$L$1-Table1016[Competed Count]","v":4},{"$f":"IF(Q127<2,\"Yes\",\"No\")","v":"No"},{"$f":"AND($C$1=\"Y\",D127>0)","v":false},{"$f":"AND($E$1=\"Y\",F127>0)","v":false},{"$f":"AND($G$1=\"Y\",H127>0)","v":false},{"$f":"AND($I$1=\"Y\",J127>0)","v":false},{"$f":"AND($K$1=\"Y\",L127>0)","v":false},{"$f":"COUNTIF(Table1016[[#This Row],[Competed 1]:[Competed 5]],\"=TRUE\")","v":0}]
[null,"-","-",{"$f":"IF(C128=\"-\",0,C128)","v":0},"-",{"$f":"IF(E128=\"-\",0,E128)","v":0},"-",{"$f":"IF(G128=\"-\",0,G128)","v":0},"-",{"$f":"IF(I128=\"-\",0,I128)","v":0},"-",{"$f":"IF(K128=\"-\",0,K128)","v":0},{"$f":"Table1016[[#This Row],[School]]","v":"-"},{"$f":"D128+F128+H128+J128+L128","v":0},{"$f":"MAX(C128,E128,G128,I128,K128)","v":0},{"$f":"IF(Q128=1,N128,IF(Q128=0,(N128-O128),\"-\"))","v":"-"},{"$f":"$L$1-Table1016[Competed Count]","v":4},{"$f":"IF(Q128<2,\"Yes\",\"No\")","v":"No"},{"$f":"AND($C$1=\"Y\",D128>0)","v":false},{"$f":"AND($E$1=\"Y\",F128>0)","v":false},{"$f":"AND($G$1=\"Y\",H128>0)","v":false},{"$f":"AND($I$1=\"Y\",J128>0)","v":false},{"$f":"AND($K$1=\"Y\",L128>0)","v":false},{"$f":"COUNTIF(Table1016[[#This Row],[Competed 1]:[Competed 5]],\"=TRUE\")","v":0}]
[null,"-","-",{"$f":"IF(C129=\"-\",0,C129)","v":0},"-",{"$f":"IF(E129=\"-\",0,E129)","v":0},"-",{"$f":"IF(G129=\"-\",0,G129)","v":0},"-",{"$f":"IF(I129=\"-\",0,I129)","v":0},"-",{"$f":"IF(K129=\"-\",0,K129)","v":0},{"$f":"Table1016[[#This Row],[School]]","v":"-"},{"$f":"D129+F129+H129+J129+L129","v":0},{"$f":"MAX(C129,E129,G129,I129,K129)","v":0},{"$f":"IF(Q129=1,N129,IF(Q129=0,(N129-O129),\"-\"))","v":"-"},{"$f":"$L$1-Table1016[Competed Count]","v":4},{"$f":"IF(Q129<2,\"Yes\",\"No\")","v":"No"},{"$f":"AND($C$1=\"Y\",D129>0)","v":false},{"$f":"AND($E$1=\"Y\",F129>0)","v":false},{"$f":"AND($G$1=\"Y\",H129>0)","v":false},{"$f":"AND($I$1=\"Y\",J129>0)","v":false},{"$f":"AND($K$1=\"Y\",L129>0)","v":false},{"$f":"COUNTIF(Table1016[[#This Row],[Competed 1]:[Competed 5]],\"=TRUE\")","v":0}]
[null,"-","-",{"$f":"IF(C130=\"-\",0,C130)","v":0},"-",{"$f":"IF(E130=\"-\",0,E130)","v":0},"-",{"$f":"IF(G130=\"-\",0,G130)","v":0},"-",{"$f":"IF(I130=\"-\",0,I130)","v":0},"-",{"$f":"IF(K130=\"-\",0,K130)","v":0},{"$f":"Table1016[[#This Row],[School]]","v":"-"},{"$f":"D130+F130+H130+J130+L130","v":0},{"$f":"MAX(C130,E130,G130,I130,K130)","v":0},{"$f":"IF(Q130=1,N130,IF(Q130=0,(N130-O130),\"-\"))","v":"-"},{"$f":"$L$1-Table1016[Competed Count]","v":4},{"$f":"IF(Q130<2,\"Yes\",\"No\")","v":"No"},{"$f":"AND($C$1=\"Y\",D130>0)","v":false},{"$f":"AND($E$1=\"Y\",F130>0)","v":false},{"$f":"AND($G$1=\"Y\",H130>0)","v":false},{"$f":"AND($I$1=\"Y\",J130>0)","v":false},{"$f":"AND($K$1=\"Y\",L130>0)","v":false},{"$f":"COUNTIF(Table1016[[#This Row],[Competed 1]:[Competed 5]],\"=TRUE\")","v":0}]
[null,"-","-",{"$f":"IF(C131=\"-\",0,C131)","v":0},"-",{"$f":"IF(E131=\"-\",0,E131)","v":0},"-",{"$f":"IF(G131=\"-\",0,G131)","v":0},"-",{"$f":"IF(I131=\"-\",0,I131)","v":0},"-",{"$f":"IF(K131=\"-\",0,K131)","v":0},{"$f":"Table1016[[#This Row],[School]]","v":"-"},{"$f":"D131+F131+H131+J131+L131","v":0},{"$f":"MAX(C131,E131,G131,I131,K131)","v":0},{"$f":"IF(Q131=1,N131,IF(Q131=0,(N131-O131),\"-\"))","v":"-"},{"$f":"$L$1-Table1016[Competed Count]","v":4},{"$f":"IF(Q131<2,\"Yes\",\"No\")","v":"No"},{"$f":"AND($C$1=\"Y\",D131>0)","v":false},{"$f":"AND($E$1=\"Y\",F131>0)","v":false},{"$f":"AND($G$1=\"Y\",H131>0)","v":false},{"$f":"AND($I$1=\"Y\",J131>0)","v":false},{"$f":"AND($K$1=\"Y\",L131>0)","v":false},{"$f":"COUNTIF(Table1016[[#This Row],[Competed 1]:[Competed 5]],\"=TRUE\")","v":0}]
[null,"-","-",{"$f":"IF(C132=\"-\",0,C132)","v":0},"-",{"$f":"IF(E132=\"-\",0,E132)","v":0},"-",{"$f":"IF(G132=\"-\",0,G132)","v":0},"-",{"$f":"IF(I132=\"-\",0,I132)","v":0},"-",{"$f":"IF(K132=\"-\",0,K132)","v":0},{"$f":"Table1016[[#This Row],[School]]","v":"-"},{"$f":"D132+F132+H132+J132+L132","v":0},{"$f":"MAX(C132,E132,G132,I132,K132)","v":0},{"$f":"IF(Q132=1,N132,IF(Q132=0,(N132-O132),\"-\"))","v":"-"},{"$f":"$L$1-Table1016[Competed Count]","v":4},{"$f":"IF(Q132<2,\"Yes\",\"No\")","v":"No"},{"$f":"AND($C$1=\"Y\",D132>0)","v":false},{"$f":"AND($E$1=\"Y\",F132>0)","v":false},{"$f":"AND($G$1=\"Y\",H132>0)","v":false},{"$f":"AND($I$1=\"Y\",J132>0)","v":false},{"$f":"AND($K$1=\"Y\",L132>0)","v":false},{"$f":"COUNTIF(Table1016[[#This Row],[Competed 1]:[Competed 5]],\"=TRUE\")","v":0}]
[null,"-","-",{"$f":"IF(C133=\"-\",0,C133)","v":0},"-",{"$f":"IF(E133=\"-\",0,E133)","v":0},"-",{"$f":"IF(G133=\"-\",0,G133)","v":0},"-",{"$f":"IF(I133=\"-\",0,I133)","v":0},"-",{"$f":"IF(K133=\"-\",0,K133)","v":0},{"$f":"Table1016[[#This Row],[School]]","v":"-"},{"$f":"D133+F133+H133+J133+L133","v":0},{"$f":"MAX(C133,E133,G133,I133,K133)","v":0},{"$f":"IF(Q133=1,N133,IF(Q133=0,(N133-O133),\"-\"))","v":"-"},{"$f":"$L$1-Table1016[Competed Count]","v":4},{"$f":"IF(Q133<2,\"Yes\",\"No\")","v":"No"},{"$f":"AND($C$1=\"Y\",D133>0)","v":false},{"$f":"AND($E$1=\"Y\",F133>0)","v":false},{"$f":"AND($G$1=\"Y\",H133>0)","v":false},{"$f":"AND($I$1=\"Y\",J133>0)","v":false},{"$f":"AND($K$1=\"Y\",L133>0)","v":false},{"$f":"COUNTIF(Table1016[[#This Row],[Competed 1]:[Competed 5]],\"=TRUE\")","v":0}]
[null,"-","-",{"$f":"IF(C134=\"-\",0,C134)","v":0},"-",{"$f":"IF(E134=\"-\",0,E134)","v":0},"-",{"$f":"IF(G134=\"-\",0,G134)","v":0},"-",{"$f":"IF(I134=\"-\",0,I134)","v":0},"-",{"$f":"IF(K134=\"-\",0,K134)","v":0},{"$f":"Table1016[[#This Row],[School]]","v":"-"},{"$f":"D134+F134+H134+J134+L134","v":0},{"$f":"MAX(C134,E134,G134,I134,K134)","v":0},{"$f":"IF(Q134=1,N134,IF(Q134=0,(N134-O134),\"-\"))","v":"-"},{"$f":"$L$1-Table1016[Competed Count]","v":4},{"$f":"IF(Q134<2,\"Yes\",\"No\")","v":"No"},{"$f":"AND($C$1=\"Y\",D134>0)","v":false},{"$f":"AND($E$1=\"Y\",F134>0)","v":false},{"$f":"AND($G$1=\"Y\",H134>0)","v":false},{"$f":"AND($I$1=\"Y\",J134>0)","v":false},{"$f":"AND($K$1=\"Y\",L134>0)","v":false},{"$f":"COUNTIF(Table1016[[#This Row],[Competed 1]:[Competed 5]],\"=TRUE\")","v":0}]
[null,"-","-",{"$f":"IF(C135=\"-\",0,C135)","v":0},"-",{"$f":"IF(E135=\"-\",0,E135)","v":0},"-",{"$f":"IF(G135=\"-\",0,G135)","v":0},"-",{"$f":"IF(I135=\"-\",0,I135)","v":0},"-",{"$f":"IF(K135=\"-\",0,K135)","v":0},{"$f":"Table1016[[#This Row],[School]]","v":"-"},{"$f":"D135+F135+H135+J135+L135","v":0},{"$f":"MAX(C135,E135,G135,I135,K135)","v":0},{"$f":"IF(Q135=1,N135,IF(Q135=0,(N135-O135),\"-\"))","v":"-"},{"$f":"$L$1-Table1016[Competed Count]","v":4},{"$f":"IF(Q135<2,\"Yes\",\"No\")","v":"No"},{"$f":"AND($C$1=\"Y\",D135>0)","v":false},{"$f":"AND($E$1=\"Y\",F135>0)","v":false},{"$f":"AND($G$1=\"Y\",H135>0)","v":false},{"$f":"AND($I$1=\"Y\",J135>0)","v":false},{"$f":"AND($K$1=\"Y\",L135>0)","v":false},{"$f":"COUNTIF(Table1016[[#This Row],[Competed 1]:[Competed 5]],\"=TRUE\")","v":0}]
[null,"-","-",{"$f":"IF(C136=\"-\",0,C136)","v":0},"-",{"$f":"IF(E136=\"-\",0,E136)","v":0},"-",{"$f":"IF(G136=\"-\",0,G136)","v":0},"-",{"$f":"IF(I136=\"-\",0,I136)","v":0},"-",{"$f":"IF(K136=\"-\",0,K136)","v":0},{"$f":"Table1016[[#This Row],[School]]","v":"-"},{"$f":"D136+F136+H136+J136+L136","v":0},{"$f":"MAX(C136,E136,G136,I136,K136)","v":0},{"$f":"IF(Q136=1,N136,IF(Q136=0,(N136-O136),\"-\"))","v":"-"},{"$f":"$L$1-Table1016[Competed Count]","v":4},{"$f":"IF(Q136<2,\"Yes\",\"No\")","v":"No"},{"$f":"AND($C$1=\"Y\",D136>0)","v":false},{"$f":"AND($E$1=\"Y\",F136>0)","v":false},{"$f":"AND($G$1=\"Y\",H136>0)","v":false},{"$f":"AND($I$1=\"Y\",J136>0)","v":false},{"$f":"AND($K$1=\"Y\",L136>0)","v":false},{"$f":"COUNTIF(Table1016[[#This Row],[Competed 1]:[Competed 5]],\"=TRUE\")","v":0}]
[null,"-","-",{"$f":"IF(C137=\"-\",0,C137)","v":0},"-",{"$f":"IF(E137=\"-\",0,E137)","v":0},"-",{"$f":"IF(G137=\"-\",0,G137)","v":0},"-",{"$f":"IF(I137=\"-\",0,I137)","v":0},"-",{"$f":"IF(K137=\"-\",0,K137)","v":0},{"$f":"Table1016[[#This Row],[School]]","v":"-"},{"$f":"D137+F137+H137+J137+L137","v":0},{"$f":"MAX(C137,E137,G137,I137,K137)","v":0},{"$f":"IF(Q137=1,N137,IF(Q137=0,(N137-O137),\"-\"))","v":"-"},{"$f":"$L$1-Table1016[Competed Count]","v":4},{"$f":"IF(Q137<2,\"Yes\",\"No\")","v":"No"},{"$f":"AND($C$1=\"Y\",D137>0)","v":false},{"$f":"AND($E$1=\"Y\",F137>0)","v":false},{"$f":"AND($G$1=\"Y\",H137>0)","v":false},{"$f":"AND($I$1=\"Y\",J137>0)","v":false},{"$f":"AND($K$1=\"Y\",L137>0)","v":false},{"$f":"COUNTIF(Table1016[[#This Row],[Competed 1]:[Competed 5]],\"=TRUE\")","v":0}]
[null,"-","-",{"$f":"IF(C138=\"-\",0,C138)","v":0},"-",{"$f":"IF(E138=\"-\",0,E138)","v":0},"-",{"$f":"IF(G138=\"-\",0,G138)","v":0},"-",{"$f":"IF(I138=\"-\",0,I138)","v":0},"-",{"$f":"IF(K138=\"-\",0,K138)","v":0},{"$f":"Table1016[[#This Row],[School]]","v":"-"},{"$f":"D138+F138+H138+J138+L138","v":0},{"$f":"MAX(C138,E138,G138,I138,K138)","v":0},{"$f":"IF(Q138=1,N138,IF(Q138=0,(N138-O138),\"-\"))","v":"-"},{"$f":"$L$1-Table1016[Competed Count]","v":4},{"$f":"IF(Q138<2,\"Yes\",\"No\")","v":"No"},{"$f":"AND($C$1=\"Y\",D138>0)","v":false},{"$f":"AND($E$1=\"Y\",F138>0)","v":false},{"$f":"AND($G$1=\"Y\",H138>0)","v":false},{"$f":"AND($I$1=\"Y\",J138>0)","v":false},{"$f":"AND($K$1=\"Y\",L138>0)","v":false},{"$f":"COUNTIF(Table1016[[#This Row],[Competed 1]:[Competed 5]],\"=TRUE\")","v":0}]
[null,"-","-",{"$f":"IF(C139=\"-\",0,C139)","v":0},"-",{"$f":"IF(E139=\"-\",0,E139)","v":0},"-",{"$f":"IF(G139=\"-\",0,G139)","v":0},"-",{"$f":"IF(I139=\"-\",0,I139)","v":0},"-",{"$f":"IF(K139=\"-\",0,K139)","v":0},{"$f":"Table1016[[#This Row],[School]]","v":"-"},{"$f":"D139+F139+H139+J139+L139","v":0},{"$f":"MAX(C139,E139,G139,I139,K139)","v":0},{"$f":"IF(Q139=1,N139,IF(Q139=0,(N139-O139),\"-\"))","v":"-"},{"$f":"$L$1-Table1016[Competed Count]","v":4},{"$f":"IF(Q139<2,\"Yes\",\"No\")","v":"No"},{"$f":"AND($C$1=\"Y\",D139>0)","v":false},{"$f":"AND($E$1=\"Y\",F139>0)","v":false},{"$f":"AND($G$1=\"Y\",H139>0)","v":false},{"$f":"AND($I$1=\"Y\",J139>0)","v":false},{"$f":"AND($K$1=\"Y\",L139>0)","v":false},{"$f":"COUNTIF(Table1016[[#This Row],[Competed 1]:[Competed 5]],\"=TRUE\")","v":0}]
[null,"-","-",{"$f":"IF(C140=\"-\",0,C140)","v":0},"-",{"$f":"IF(E140=\"-\",0,E140)","v":0},"-",{"$f":"IF(G140=\"-\",0,G140)","v":0},"-",{"$f":"IF(I140=\"-\",0,I140)","v":0},"-",{"$f":"IF(K140=\"-\",0,K140)","v":0},{"$f":"Table1016[[#This Row],[School]]","v":"-"},{"$f":"D140+F140+H140+J140+L140","v":0},{"$f":"MAX(C140,E140,G140,I140,K140)","v":0},{"$f":"IF(Q140=1,N140,IF(Q140=0,(N140-O140),\"-\"))","v":"-"},{"$f":"$L$1-Table1016[Competed Count]","v":4},{"$f":"IF(Q140<2,\"Yes\",\"No\")","v":"No"},{"$f":"AND($C$1=\"Y\",D140>0)","v":false},{"$f":"AND($E$1=\"Y\",F140>0)","v":false},{"$f":"AND($G$1=\"Y\",H140>0)","v":false},{"$f":"AND($I$1=\"Y\",J140>0)","v":false},{"$f":"AND($K$1=\"Y\",L140>0)","v":false},{"$f":"COUNTIF(Table1016[[#This Row],[Competed 1]:[Competed 5]],\"=TRUE\")","v":0}]
[null,"-","-",{"$f":"IF(C141=\"-\",0,C141)","v":0},"-",{"$f":"IF(E141=\"-\",0,E141)","v":0},"-",{"$f":"IF(G141=\"-\",0,G141)","v":0},"-",{"$f":"IF(I141=\"-\",0,I141)","v":0},"-",{"$f":"IF(K141=\"-\",0,K141)","v":0},{"$f":"Table1016[[#This Row],[School]]","v":"-"},{"$f":"D141+F141+H141+J141+L141","v":0},{"$f":"MAX(C141,E141,G141,I141,K141)","v":0},{"$f":"IF(Q141=1,N141,IF(Q141=0,(N141-O141),\"-\"))","v":"-"},{"$f":"$L$1-Table1016[Competed Count]","v":4},{"$f":"IF(Q141<2,\"Yes\",\"No\")","v":"No"},{"$f":"AND($C$1=\"Y\",D141>0)","v":false},{"$f":"AND($E$1=\"Y\",F141>0)","v":false},{"$f":"AND($G$1=\"Y\",H141>0)","v":false},{"$f":"AND($I$1=\"Y\",J141>0)","v":false},{"$f":"AND($K$1=\"Y\",L141>0)","v":false},{"$f":"COUNTIF(Table1016[[#This Row],[Competed 1]:[Competed 5]],\"=TRUE\")","v":0}]
[null,"-","-",{"$f":"IF(C142=\"-\",0,C142)","v":0},"-",{"$f":"IF(E142=\"-\",0,E142)","v":0},"-",{"$f":"IF(G142=\"-\",0,G142)","v":0},"-",{"$f":"IF(I142=\"-\",0,I142)","v":0},"-",{"$f":"IF(K142=\"-\",0,K142)","v":0},{"$f":"Table1016[[#This Row],[School]]","v":"-"},{"$f":"D142+F142+H142+J142+L142","v":0},{"$f":"MAX(C142,E142,G142,I142,K142)","v":0},{"$f":"IF(Q142=1,N142,IF(Q142=0,(N142-O142),\"-\"))","v":"-"},{"$f":"$L$1-Table1016[Competed Count]","v":4},{"$f":"IF(Q142<2,\"Yes\",\"No\")","v":"No"},{"$f":"AND($C$1=\"Y\",D142>0)","v":false},{"$f":"AND($E$1=\"Y\",F142>0)","v":false},{"$f":"AND($G$1=\"Y\",H142>0)","v":false},{"$f":"AND($I$1=\"Y\",J142>0)","v":false},{"$f":"AND($K$1=\"Y\",L142>0)","v":false},{"$f":"COUNTIF(Table1016[[#This Row],[Competed 1]:[Competed 5]],\"=TRUE\")","v":0}]
[null,"-","-",{"$f":"IF(C143=\"-\",0,C143)","v":0},"-",{"$f":"IF(E143=\"-\",0,E143)","v":0},"-",{"$f":"IF(G143=\"-\",0,G143)","v":0},"-",{"$f":"IF(I143=\"-\",0,I143)","v":0},"-",{"$f":"IF(K143=\"-\",0,K143)","v":0},{"$f":"Table1016[[#This Row],[School]]","v":"-"},{"$f":"D143+F143+H143+J143+L143","v":0},{"$f":"MAX(C143,E143,G143,I143,K143)","v":0},{"$f":"IF(Q143=1,N143,IF(Q143=0,(N143-O143),\"-\"))","v":"-"},{"$f":"$L$1-Table1016[Competed Count]","v":4},{"$f":"IF(Q143<2,\"Yes\",\"No\")","v":"No"},{"$f":"AND($C$1=\"Y\",D143>0)","v":false},{"$f":"AND($E$1=\"Y\",F143>0)","v":false},{"$f":"AND($G$1=\"Y\",H143>0)","v":false},{"$f":"AND($I$1=\"Y\",J143>0)","v":false},{"$f":"AND($K$1=\"Y\",L143>0)","v":false},{"$f":"COUNTIF(Table1016[[#This Row],[Competed 1]:[Competed 5]],\"=TRUE\")","v":0}]
[null,"-","-",{"$f":"IF(C144=\"-\",0,C144)","v":0},"-",{"$f":"IF(E144=\"-\",0,E144)","v":0},"-",{"$f":"IF(G144=\"-\",0,G144)","v":0},"-",{"$f":"IF(I144=\"-\",0,I144)","v":0},"-",{"$f":"IF(K144=\"-\",0,K144)","v":0},{"$f":"Table1016[[#This Row],[School]]","v":"-"},{"$f":"D144+F144+H144+J144+L144","v":0},{"$f":"MAX(C144,E144,G144,I144,K144)","v":0},{"$f":"IF(Q144=1,N144,IF(Q144=0,(N144-O144),\"-\"))","v":"-"},{"$f":"$L$1-Table1016[Competed Count]","v":4},{"$f":"IF(Q144<2,\"Yes\",\"No\")","v":"No"},{"$f":"AND($C$1=\"Y\",D144>0)","v":false},{"$f":"AND($E$1=\"Y\",F144>0)","v":false},{"$f":"AND($G$1=\"Y\",H144>0)","v":false},{"$f":"AND($I$1=\"Y\",J144>0)","v":false},{"$f":"AND($K$1=\"Y\",L144>0)","v":false},{"$f":"COUNTIF(Table1016[[#This Row],[Competed 1]:[Competed 5]],\"=TRUE\")","v":0}]
[null,"-","-",{"$f":"IF(C145=\"-\",0,C145)","v":0},"-",{"$f":"IF(E145=\"-\",0,E145)","v":0},"-",{"$f":"IF(G145=\"-\",0,G145)","v":0},"-",{"$f":"IF(I145=\"-\",0,I145)","v":0},"-",{"$f":"IF(K145=\"-\",0,K145)","v":0},{"$f":"Table1016[[#This Row],[School]]","v":"-"},{"$f":"D145+F145+H145+J145+L145","v":0},{"$f":"MAX(C145,E145,G145,I145,K145)","v":0},{"$f":"IF(Q145=1,N145,IF(Q145=0,(N145-O145),\"-\"))","v":"-"},{"$f":"$L$1-Table1016[Competed Count]","v":4},{"$f":"IF(Q145<2,\"Yes\",\"No\")","v":"No"},{"$f":"AND($C$1=\"Y\",D145>0)","v":false},{"$f":"AND($E$1=\"Y\",F145>0)","v":false},{"$f":"AND($G$1=\"Y\",H145>0)","v":false},{"$f":"AND($I$1=\"Y\",J145>0)","v":false},{"$f":"AND($K$1=\"Y\",L145>0)","v":false},{"$f":"COUNTIF(Table1016[[#This Row],[Competed 1]:[Competed 5]],\"=TRUE\")","v":0}]
[null,"-","-",{"$f":"IF(C146=\"-\",0,C146)","v":0},"-",{"$f":"IF(E146=\"-\",0,E146)","v":0},"-",{"$f":"IF(G146=\"-\",0,G146)","v":0},"-",{"$f":"IF(I146=\"-\",0,I146)","v":0},"-",{"$f":"IF(K146=\"-\",0,K146)","v":0},{"$f":"Table1016[[#This Row],[School]]","v":"-"},{"$f":"D146+F146+H146+J146+L146","v":0},{"$f":"MAX(C146,E146,G146,I146,K146)","v":0},{"$f":"IF(Q146=1,N146,IF(Q146=0,(N146-O146),\"-\"))","v":"-"},{"$f":"$L$1-Table1016[Competed Count]","v":4},{"$f":"IF(Q146<2,\"Yes\",\"No\")","v":"No"},{"$f":"AND($C$1=\"Y\",D146>0)","v":false},{"$f":"AND($E$1=\"Y\",F146>0)","v":false},{"$f":"AND($G$1=\"Y\",H146>0)","v":false},{"$f":"AND($I$1=\"Y\",J146>0)","v":false},{"$f":"AND($K$1=\"Y\",L146>0)","v":false},{"$f":"COUNTIF(Table1016[[#This Row],[Competed 1]:[Competed 5]],\"=TRUE\")","v":0}]
[null,"-","-",{"$f":"IF(C147=\"-\",0,C147)","v":0},"-",{"$f":"IF(E147=\"-\",0,E147)","v":0},"-",{"$f":"IF(G147=\"-\",0,G147)","v":0},"-",{"$f":"IF(I147=\"-\",0,I147)","v":0},"-",{"$f":"IF(K147=\"-\",0,K147)","v":0},{"$f":"Table1016[[#This Row],[School]]","v":"-"},{"$f":"D147+F147+H147+J147+L147","v":0},{"$f":"MAX(C147,E147,G147,I147,K147)","v":0},{"$f":"IF(Q147=1,N147,IF(Q147=0,(N147-O147),\"-\"))","v":"-"},{"$f":"$L$1-Table1016[Competed Count]","v":4},{"$f":"IF(Q147<2,\"Yes\",\"No\")","v":"No"},{"$f":"AND($C$1=\"Y\",D147>0)","v":false},{"$f":"AND($E$1=\"Y\",F147>0)","v":false},{"$f":"AND($G$1=\"Y\",H147>0)","v":false},{"$f":"AND($I$1=\"Y\",J147>0)","v":false},{"$f":"AND($K$1=\"Y\",L147>0)","v":false},{"$f":"COUNTIF(Table1016[[#This Row],[Competed 1]:[Competed 5]],\"=TRUE\")","v":0}]
[null,"-","-",{"$f":"IF(C148=\"-\",0,C148)","v":0},"-",{"$f":"IF(E148=\"-\",0,E148)","v":0},"-",{"$f":"IF(G148=\"-\",0,G148)","v":0},"-",{"$f":"IF(I148=\"-\",0,I148)","v":0},"-",{"$f":"IF(K148=\"-\",0,K148)","v":0},{"$f":"Table1016[[#This Row],[School]]","v":"-"},{"$f":"D148+F148+H148+J148+L148","v":0},{"$f":"MAX(C148,E148,G148,I148,K148)","v":0},{"$f":"IF(Q148=1,N148,IF(Q148=0,(N148-O148),\"-\"))","v":"-"},{"$f":"$L$1-Table1016[Competed Count]","v":4},{"$f":"IF(Q148<2,\"Yes\",\"No\")","v":"No"},{"$f":"AND($C$1=\"Y\",D148>0)","v":false},{"$f":"AND($E$1=\"Y\",F148>0)","v":false},{"$f":"AND($G$1=\"Y\",H148>0)","v":false},{"$f":"AND($I$1=\"Y\",J148>0)","v":false},{"$f":"AND($K$1=\"Y\",L148>0)","v":false},{"$f":"COUNTIF(Table1016[[#This Row],[Competed 1]:[Competed 5]],\"=TRUE\")","v":0}]
[null,"-","-",{"$f":"IF(C149=\"-\",0,C149)","v":0},"-",{"$f":"IF(E149=\"-\",0,E149)","v":0},"-",{"$f":"IF(G149=\"-\",0,G149)","v":0},"-",{"$f":"IF(I149=\"-\",0,I149)","v":0},"-",{"$f":"IF(K149=\"-\",0,K149)","v":0},{"$f":"Table1016[[#This Row],[School]]","v":"-"},{"$f":"D149+F149+H149+J149+L149","v":0},{"$f":"MAX(C149,E149,G149,I149,K149)","v":0},{"$f":"IF(Q149=1,N149,IF(Q149=0,(N149-O149),\"-\"))","v":"-"},{"$f":"$L$1-Table1016[Competed Count]","v":4},{"$f":"IF(Q149<2,\"Yes\",\"No\")","v":"No"},{"$f":"AND($C$1=\"Y\",D149>0)","v":false},{"$f":"AND($E$1=\"Y\",F149>0)","v":false},{"$f":"AND($G$1=\"Y\",H149>0)","v":false},{"$f":"AND($I$1=\"Y\",J149>0)","v":false},{"$f":"AND($K$1=\"Y\",L149>0)","v":false},{"$f":"COUNTIF(Table1016[[#This Row],[Competed 1]:[Competed 5]],\"=TRUE\")","v":0}]

{"sheet":"IG","index":4,"n_rows":150,"n_cols":29,"rows_kept":150,"cut":false,"hidden":false,"merged":[]}
["Total Number of Runners","Race Complete (Y/N) ",{"$f":"Y7G!C1","v":"Y"},null,{"$f":"Y7G!E1","v":"Y"},null,{"$f":"Y7G!G1","v":"Y"},null,{"$f":"Y7G!I1","v":"Y"},null,{"$f":"Y7G!K1","v":"N"},{"$f":"COUNTIF(C1:K1,\"=Y\")","v":4},null,null,null,null,null,"Total Eligible for League",null,{"$f":"IF(K1=\"Y\",1,0)","v":0},null,{"$f":"SUM(S1:T1)","v":0}]
[{"$f":"COUNTA(A5:A300)","v":25},"No of Finishers",21,{"$f":"MAX(D5:D151)","v":21},11,11,11,11,12,12,null,null,null,null,null,null,null,{"$f":"COUNTIF(R5:R200,\"Yes\")","v":10}]
["Inter Girls","Number of results recorded",{"$f":"COUNTIF(C5:C150,\">0\")","v":21},null,{"$f":"COUNTIF(F5:F150,\">0\")","v":11},null,10,null,{"$f":"COUNTIF(J5:J150,\">0\")","v":12},null,0]
["Name","School","Race 1","Normalised result -1","Race 2","Normalised result -2","Race 3","Normalised result -3","Race 4","Normalised result -4","Race 5","Normalised result -5","School Duplicate","Total\n(All Races)","Lowest Place Finish","Final Total","League contender?\n(No. of races - missed)","Eligible For League Title","Competed 1","Competed 2","Competed 3","Competed 4","Competed 5","Competed Count",null,null,null,null," "]
["Mia Atkinson","Ratcliffe College","-",{"$f":"IF(C5=\"-\",0,C5)","v":0},"-",{"$f":"IF(E5=\"-\",0,E5)","v":0},2,{"$f":"IF(G5=\"-\",0,G5)","v":2},1,{"$f":"IF(I5=\"-\",0,I5)","v":1},"-",{"$f":"IF(K5=\"-\",0,K5)","v":0},{"$f":"Table101617[[#This Row],[School]]","v":"Ratcliffe College"},{"$f":"D5+F5+H5+J5+L5","v":3},{"$f":"MAX(C5,E5,G5,I5,K5)","v":2},{"$f":"IF(Q5=1,N5,IF(Q5=0,(N5-O5),\"-\"))","v":"-"},{"$f":"$L$1-Table101617[Competed Count]","v":2},{"$f":"IF(Q5<2,\"Yes\",\"No\")","v":"No"},{"$f":"AND($C$1=\"Y\",D5>0)","v":false},{"$f":"AND($E$1=\"Y\",F5>0)","v":false},{"$f":"AND($G$1=\"Y\",H5>0)","v":true},{"$f":"AND($I$1=\"Y\",J5>0)","v":true},{"$f":"AND($K$1=\"Y\",L5>0)","v":false},{"$f":"COUNTIF(Table101617[[#This Row],[Competed 1]:[Competed 5]],\"=TRUE\")","v":2}]
["Laura Aryeetey","Woodbrook Vale School",1,{"$f":"IF(C6=\"-\",0,C6)","v":1},"-",{"$f":"IF(E6=\"-\",0,E6)","v":0},1,{"$f":"IF(G6=\"-\",0,G6)","v":1},2,{"$f":"IF(I6=\"-\",0,I6)","v":2},"-",{"$f":"IF(K6=\"-\",0,K6)","v":0},{"$f":"Table101617[[#This Row],[School]]","v":"Woodbrook Vale School"},{"$f":"D6+F6+H6+J6+L6","v":4},{"$f":"MAX(C6,E6,G6,I6,K6)","v":2},{"$f":"IF(Q6=1,N6,IF(Q6=0,(N6-O6),\"-\"))","v":4},{"$f":"$L$1-Table101617[Competed Count]","v":1},{"$f":"IF(Q6<2,\"Yes\",\"No\")","v":"Yes"},{"$f":"AND($C$1=\"Y\",D6>0)","v":true},{"$f":"AND($E$1=\"Y\",F6>0)","v":false},{"$f":"AND($G$1=\"Y\",H6>0)","v":true},{"$f":"AND($I$1=\"Y\",J6>0)","v":true},{"$f":"AND($K$1=\"Y\",L6>0)","v":false},{"$f":"COUNTIF(Table101617[[#This Row],[Competed 1]:[Competed 5]],\"=TRUE\")","v":3}]
["Hannah Seager","De Lisle College",2,{"$f":"IF(C7=\"-\",0,C7)","v":2},"-",{"$f":"IF(E7=\"-\",0,E7)","v":0},"-",{"$f":"IF(G7=\"-\",0,G7)","v":0},3,{"$f":"IF(I7=\"-\",0,I7)","v":3},"-",{"$f":"IF(K7=\"-\",0,K7)","v":0},{"$f":"Table101617[[#This Row],[School]]","v":"De Lisle College"},{"$f":"D7+F7+H7+J7+L7","v":5},{"$f":"MAX(C7,E7,G7,I7,K7)","v":3},{"$f":"IF(Q7=1,N7,IF(Q7=0,(N7-O7),\"-\"))","v":"-"},{"$f":"$L$1-Table101617[Competed Count]","v":2},{"$f":"IF(Q7<2,\"Yes\",\"No\")","v":"No"},{"$f":"AND($C$1=\"Y\",D7>0)","v":true},{"$f":"AND($E$1=\"Y\",F7>0)","v":false},{"$f":"AND($G$1=\"Y\",H7>0)","v":false},{"$f":"AND($I$1=\"Y\",J7>0)","v":true},{"$f":"AND($K$1=\"Y\",L7>0)","v":false},{"$f":"COUNTIF(Table101617[[#This Row],[Competed 1]:[Competed 5]],\"=TRUE\")","v":2}]
["Lottie Davidson","Limehurst Academy","-",{"$f":"IF(C8=\"-\",0,C8)","v":0},"-",{"$f":"IF(E8=\"-\",0,E8)","v":0},"-",{"$f":"IF(G8=\"-\",0,G8)","v":0},4,{"$f":"IF(I8=\"-\",0,I8)","v":4},"-",{"$f":"IF(K8=\"-\",0,K8)","v":0},{"$f":"Table101617[[#This Row],[School]]","v":"Limehurst Academy"},{"$f":"D8+F8+H8+J8+L8","v":4},{"$f":"MAX(C8,E8,G8,I8,K8)","v":4},{"$f":"IF(Q8=1,N8,IF(Q8=0,(N8-O8),\"-\"))","v":"-"},{"$f":"$L$1-Table101617[Competed Count]","v":3},{"$f":"IF(Q8<2,\"Yes\",\"No\")","v":"No"},{"$f":"AND($C$1=\"Y\",D8>0)","v":false},{"$f":"AND($E$1=\"Y\",F8>0)","v":false},{"$f":"AND($G$1=\"Y\",H8>0)","v":false},{"$f":"AND($I$1=\"Y\",J8>0)","v":true},{"$f":"AND($K$1=\"Y\",L8>0)","v":false},{"$f":"COUNTIF(Table101617[[#This Row],[Competed 1]:[Competed 5]],\"=TRUE\")","v":1}]
["Grace Smith","Beauchamp College",8,{"$f":"IF(C9=\"-\",0,C9)","v":8},4,{"$f":"IF(E9=\"-\",0,E9)","v":4},3,{"$f":"IF(G9=\"-\",0,G9)","v":3},5,{"$f":"IF(I9=\"-\",0,I9)","v":5},"-",{"$f":"IF(K9=\"-\",0,K9)","v":0},{"$f":"Table101617[[#This Row],[School]]","v":"Beauchamp College"},{"$f":"D9+F9+H9+J9+L9","v":20},{"$f":"MAX(C9,E9,G9,I9,K9)","v":8},{"$f":"IF(Q9=1,N9,IF(Q9=0,(N9-O9),\"-\"))","v":12},{"$f":"$L$1-Table101617[Competed Count]","v":0},{"$f":"IF(Q9<2,\"Yes\",\"No\")","v":"Yes"},{"$f":"AND($C$1=\"Y\",D9>0)","v":true},{"$f":"AND($E$1=\"Y\",F9>0)","v":true},{"$f":"AND($G$1=\"Y\",H9>0)","v":true},{"$f":"AND($I$1=\"Y\",J9>0)","v":true},{"$f":"AND($K$1=\"Y\",L9>0)","v":false},{"$f":"COUNTIF(Table101617[[#This Row],[Competed 1]:[Competed 5]],\"=TRUE\")","v":4}]
["Hannah Ord","Beauchamp College",4,{"$f":"IF(C10=\"-\",0,C10)","v":4},1,{"$f":"IF(E10=\"-\",0,E10)","v":1},5,{"$f":"IF(G10=\"-\",0,G10)","v":5},6,{"$f":"IF(I10=\"-\",0,I10)","v":6},"-",{"$f":"IF(K10=\"-\",0,K10)","v":0},{"$f":"Table101617[[#This Row],[School]]","v":"Beauchamp College"},{"$f":"D10+F10+H10+J10+L10","v":16},{"$f":"MAX(C10,E10,G10,I10,K10)","v":6},{"$f":"IF(Q10=1,N10,IF(Q10=0,(N10-O10),\"-\"))","v":10},{"$f":"$L$1-Table101617[Competed Count]","v":0},{"$f":"IF(Q10<2,\"Yes\",\"No\")","v":"Yes"},{"$f":"AND($C$1=\"Y\",D10>0)","v":true},{"$f":"AND($E$1=\"Y\",F10>0)","v":true},{"$f":"AND($G$1=\"Y\",H10>0)","v":true},{"$f":"AND($I$1=\"Y\",J10>0)","v":true},{"$f":"AND($K$1=\"Y\",L10>0)","v":false},{"$f":"COUNTIF(Table101617[[#This Row],[Competed 1]:[Competed 5]],\"=TRUE\")","v":4}]
["Rhea Cooper","Lutterworth High School",6,{"$f":"IF(C11=\"-\",0,C11)","v":6},2,{"$f":"IF(E11=\"-\",0,E11)","v":2},4,{"$f":"IF(G11=\"-\",0,G11)","v":4},7,{"$f":"IF(I11=\"-\",0,I11)","v":7},"-",{"$f":"IF(K11=\"-\",0,K11)","v":0},{"$f":"Table101617[[#This Row],[School]]","v":"Lutterworth High School"},{"$f":"D11+F11+H11+J11+L11","v":19},{"$f":"MAX(C11,E11,G11,I11,K11)","v":7},{"$f":"IF(Q11=1,N11,IF(Q11=0,(N11-O11),\"-\"))","v":12},{"$f":"$L$1-Table101617[Competed Count]","v":0},{"$f":"IF(Q11<2,\"Yes\",\"No\")","v":"Yes"},{"$f":"AND($C$1=\"Y\",D11>0)","v":true},{"$f":"AND($E$1=\"Y\",F11>0)","v":true},{"$f":"AND($G$1=\"Y\",H11>0)","v":true},{"$f":"AND($I$1=\"Y\",J11>0)","v":true},{"$f":"AND($K$1=\"Y\",L11>0)","v":false},{"$f":"COUNTIF(Table101617[[#This Row],[Competed 1]:[Competed 5]],\"=TRUE\")","v":4}]
["Beane Moore","Countesthorpe Leysland CC",10,{"$f":"IF(C12=\"-\",0,C12)","v":10},6,{"$f":"IF(E12=\"-\",0,E12)","v":6},"-",{"$f":"IF(G12=\"-\",0,G12)","v":0},8,{"$f":"IF(I12=\"-\",0,I12)","v":8},"-",{"$f":"IF(K12=\"-\",0,K12)","v":0},{"$f":"Table101617[[#This Row],[School]]","v":"Countesthorpe Leysland CC"},{"$f":"D12+F12+H12+J12+L12","v":24},{"$f":"MAX(C12,E12,G12,I12,K12)","v":10},{"$f":"IF(Q12=1,N12,IF(Q12=0,(N12-O12),\"-\"))","v":24},{"$f":"$L$1-Table101617[Competed Count]","v":1},{"$f":"IF(Q12<2,\"Yes\",\"No\")","v":"Yes"},{"$f":"AND($C$1=\"Y\",D12>0)","v":true},{"$f":"AND($E$1=\"Y\",F12>0)","v":true},{"$f":"AND($G$1=\"Y\",H12>0)","v":false},{"$f":"AND($I$1=\"Y\",J12>0)","v":true},{"$f":"AND($K$1=\"Y\",L12>0)","v":false},{"$f":"COUNTIF(Table101617[[#This Row],[Competed 1]:[Competed 5]],\"=TRUE\")","v":3}]
["Rosie Weselby","Beauchamp College",5,{"$f":"IF(C13=\"-\",0,C13)","v":5},3,{"$f":"IF(E13=\"-\",0,E13)","v":3},6,{"$f":"IF(G13=\"-\",0,G13)","v":6},9,{"$f":"IF(I13=\"-\",0,I13)","v":9},"-",{"$f":"IF(K13=\"-\",0,K13)","v":0},{"$f":"Table101617[[#This Row],[School]]","v":"Beauchamp College"},{"$f":"D13+F13+H13+J13+L13","v":23},{"$f":"MAX(C13,E13,G13,I13,K13)","v":9},{"$f":"IF(Q13=1,N13,IF(Q13=0,(N13-O13),\"-\"))","v":14},{"$f":"$L$1-Table101617[Competed Count]","v":0},{"$f":"IF(Q13<2,\"Yes\",\"No\")","v":"Yes"},{"$f":"AND($C$1=\"Y\",D13>0)","v":true},{"$f":"AND($E$1=\"Y\",F13>0)","v":true},{"$f":"AND($G$1=\"Y\",H13>0)","v":true},{"$f":"AND($I$1=\"Y\",J13>0)","v":true},{"$f":"AND($K$1=\"Y\",L13>0)","v":false},{"$f":"COUNTIF(Table101617[[#This Row],[Competed 1]:[Competed 5]],\"=TRUE\")","v":4}]
["Peta Jarvis","Loughborough High School",17,{"$f":"IF(C14=\"-\",0,C14)","v":17},"-",{"$f":"IF(E14=\"-\",0,E14)","v":0},"-",{"$f":"IF(G14=\"-\",0,G14)","v":0},10,{"$f":"IF(I14=\"-\",0,I14)","v":10},"-",{"$f":"IF(K14=\"-\",0,K14)","v":0},{"$f":"Table101617[[#This Row],[School]]","v":"Loughborough High School"},{"$f":"D14+F14+H14+J14+L14","v":27},{"$f":"MAX(C14,E14,G14,I14,K14)","v":17},{"$f":"IF(Q14=1,N14,IF(Q14=0,(N14-O14),\"-\"))","v":"-"},{"$f":"$L$1-Table101617[Competed Count]","v":2},{"$f":"IF(Q14<2,\"Yes\",\"No\")","v":"No"},{"$f":"AND($C$1=\"Y\",D14>0)","v":true},{"$f":"AND($E$1=\"Y\",F14>0)","v":false},{"$f":"AND($G$1=\"Y\",H14>0)","v":false},{"$f":"AND($I$1=\"Y\",J14>0)","v":true},{"$f":"AND($K$1=\"Y\",L14>0)","v":false},{"$f":"COUNTIF(Table101617[[#This Row],[Competed 1]:[Competed 5]],\"=TRUE\")","v":2}]
["Ella Thomas","Long Field Academy",20,{"$f":"IF(C15=\"-\",0,C15)","v":20},9,{"$f":"IF(E15=\"-\",0,E15)","v":9},11,{"$f":"IF(G15=\"-\",0,G15)","v":11},11,{"$f":"IF(I15=\"-\",0,I15)","v":11},"-",{"$f":"IF(K15=\"-\",0,K15)","v":0},{"$f":"Table101617[[#This Row],[School]]","v":"Long Field Academy"},{"$f":"D15+F15+H15+J15+L15","v":51},{"$f":"MAX(C15,E15,G15,I15,K15)","v":20},{"$f":"IF(Q15=1,N15,IF(Q15=0,(N15-O15),\"-\"))","v":31},{"$f":"$L$1-Table101617[Competed Count]","v":0},{"$f":"IF(Q15<2,\"Yes\",\"No\")","v":"Yes"},{"$f":"AND($C$1=\"Y\",D15>0)","v":true},{"$f":"AND($E$1=\"Y\",F15>0)","v":true},{"$f":"AND($G$1=\"Y\",H15>0)","v":true},{"$f":"AND($I$1=\"Y\",J15>0)","v":true},{"$f":"AND($K$1=\"Y\",L15>0)","v":false},{"$f":"COUNTIF(Table101617[[#This Row],[Competed 1]:[Competed 5]],\"=TRUE\")","v":4}]
["Imogen James","Welland Park Academy",19,{"$f":"IF(C16=\"-\",0,C16)","v":19},10,{"$f":"IF(E16=\"-\",0,E16)","v":10},10,{"$f":"IF(G16=\"-\",0,G16)","v":10},12,{"$f":"IF(I16=\"-\",0,I16)","v":12},"-",{"$f":"IF(K16=\"-\",0,K16)","v":0},{"$f":"Table101617[[#This Row],[School]]","v":"Welland Park Academy"},{"$f":"D16+F16+H16+J16+L16","v":51},{"$f":"MAX(C16,E16,G16,I16,K16)","v":19},{"$f":"IF(Q16=1,N16,IF(Q16=0,(N16-O16),\"-\"))","v":32},{"$f":"$L$1-Table101617[Competed Count]","v":0},{"$f":"IF(Q16<2,\"Yes\",\"No\")","v":"Yes"},{"$f":"AND($C$1=\"Y\",D16>0)","v":true},{"$f":"AND($E$1=\"Y\",F16>0)","v":true},{"$f":"AND($G$1=\"Y\",H16>0)","v":true},{"$f":"AND($I$1=\"Y\",J16>0)","v":true},{"$f":"AND($K$1=\"Y\",L16>0)","v":false},{"$f":"COUNTIF(Table101617[[#This Row],[Competed 1]:[Competed 5]],\"=TRUE\")","v":4}]
["Rosie Low","Lutterworth College",14,{"$f":"IF(C17=\"-\",0,C17)","v":14},8,{"$f":"IF(E17=\"-\",0,E17)","v":8},8,{"$f":"IF(G17=\"-\",0,G17)","v":8},"-",{"$f":"IF(I17=\"-\",0,I17)","v":0},"-",{"$f":"IF(K17=\"-\",0,K17)","v":0},{"$f":"Table101617[[#This Row],[School]]","v":"Lutterworth College"},{"$f":"D17+F17+H17+J17+L17","v":30},{"$f":"MAX(C17,E17,G17,I17,K17)","v":14},{"$f":"IF(Q17=1,N17,IF(Q17=0,(N17-O17),\"-\"))","v":30},{"$f":"$L$1-Table101617[Competed Count]","v":1},{"$f":"IF(Q17<2,\"Yes\",\"No\")","v":"Yes"},{"$f":"AND($C$1=\"Y\",D17>0)","v":true},{"$f":"AND($E$1=\"Y\",F17>0)","v":true},{"$f":"AND($G$1=\"Y\",H17>0)","v":true},{"$f":"AND($I$1=\"Y\",J17>0)","v":false},{"$f":"AND($K$1=\"Y\",L17>0)","v":false},{"$f":"COUNTIF(Table101617[[#This Row],[Competed 1]:[Competed 5]],\"=TRUE\")","v":3}]
["Lottie Edwards","Robert Smyth Academy",11,{"$f":"IF(C18=\"-\",0,C18)","v":11},5,{"$f":"IF(E18=\"-\",0,E18)","v":5},9,{"$f":"IF(G18=\"-\",0,G18)","v":9},"-",{"$f":"IF(I18=\"-\",0,I18)","v":0},"-",{"$f":"IF(K18=\"-\",0,K18)","v":0},{"$f":"Table101617[[#This Row],[School]]","v":"Robert Smyth Academy"},{"$f":"D18+F18+H18+J18+L18","v":25},{"$f":"MAX(C18,E18,G18,I18,K18)","v":11},{"$f":"IF(Q18=1,N18,IF(Q18=0,(N18-O18),\"-\"))","v":25},{"$f":"$L$1-Table101617[Competed Count]","v":1},{"$f":"IF(Q18<2,\"Yes\",\"No\")","v":"Yes"},{"$f":"AND($C$1=\"Y\",D18>0)","v":true},{"$f":"AND($E$1=\"Y\",F18>0)","v":true},{"$f":"AND($G$1=\"Y\",H18>0)","v":true},{"$f":"AND($I$1=\"Y\",J18>0)","v":false},{"$f":"AND($K$1=\"Y\",L18>0)","v":false},{"$f":"COUNTIF(Table101617[[#This Row],[Competed 1]:[Competed 5]],\"=TRUE\")","v":3}]
["Lily Gregory","Beauchamp College","-",{"$f":"IF(C19=\"-\",0,C19)","v":0},7,{"$f":"IF(E19=\"-\",0,E19)","v":7},"-",{"$f":"IF(G19=\"-\",0,G19)","v":0},"-",{"$f":"IF(I19=\"-\",0,I19)","v":0},"-",{"$f":"IF(K19=\"-\",0,K19)","v":0},{"$f":"Table101617[[#This Row],[School]]","v":"Beauchamp College"},{"$f":"D19+F19+H19+J19+L19","v":7},{"$f":"MAX(C19,E19,G19,I19,K19)","v":7},{"$f":"IF(Q19=1,N19,IF(Q19=0,(N19-O19),\"-\"))","v":"-"},{"$f":"$L$1-Table101617[Competed Count]","v":3},{"$f":"IF(Q19<2,\"Yes\",\"No\")","v":"No"},{"$f":"AND($C$1=\"Y\",D19>0)","v":false},{"$f":"AND($E$1=\"Y\",F19>0)","v":true},{"$f":"AND($G$1=\"Y\",H19>0)","v":false},{"$f":"AND($I$1=\"Y\",J19>0)","v":false},{"$f":"AND($K$1=\"Y\",L19>0)","v":false},{"$f":"COUNTIF(Table101617[[#This Row],[Competed 1]:[Competed 5]],\"=TRUE\")","v":1}]
["Andree Nguyen","Beauchamp College","-",{"$f":"IF(C20=\"-\",0,C20)","v":0},11,{"$f":"IF(E20=\"-\",0,E20)","v":11},"-",{"$f":"IF(G20=\"-\",0,G20)","v":0},"-",{"$f":"IF(I20=\"-\",0,I20)","v":0},"-",{"$f":"IF(K20=\"-\",0,K20)","v":0},{"$f":"Table101617[[#This Row],[School]]","v":"Beauchamp College"},{"$f":"D20+F20+H20+J20+L20","v":11},{"$f":"MAX(C20,E20,G20,I20,K20)","v":11},{"$f":"IF(Q20=1,N20,IF(Q20=0,(N20-O20),\"-\"))","v":"-"},{"$f":"$L$1-Table101617[Competed Count]","v":3},{"$f":"IF(Q20<2,\"Yes\",\"No\")","v":"No"},{"$f":"AND($C$1=\"Y\",D20>0)","v":false},{"$f":"AND($E$1=\"Y\",F20>0)","v":true},{"$f":"AND($G$1=\"Y\",H20>0)","v":false},{"$f":"AND($I$1=\"Y\",J20>0)","v":false},{"$f":"AND($K$1=\"Y\",L20>0)","v":false},{"$f":"COUNTIF(Table101617[[#This Row],[Competed 1]:[Competed 5]],\"=TRUE\")","v":1}]
["Neve Grimes","Lutterworth High School",3,{"$f":"IF(C21=\"-\",0,C21)","v":3},"-",{"$f":"IF(E21=\"-\",0,E21)","v":0},"-",{"$f":"IF(G21=\"-\",0,G21)","v":0},"-",{"$f":"IF(I21=\"-\",0,I21)","v":0},"-",{"$f":"IF(K21=\"-\",0,K21)","v":0},{"$f":"Table101617[[#This Row],[School]]","v":"Lutterworth High School"},{"$f":"D21+F21+H21+J21+L21","v":3},{"$f":"MAX(C21,E21,G21,I21,K21)","v":3},{"$f":"IF(Q21=1,N21,IF(Q21=0,(N21-O21),\"-\"))","v":"-"},{"$f":"$L$1-Table101617[Competed Count]","v":3},{"$f":"IF(Q21<2,\"Yes\",\"No\")","v":"No"},{"$f":"AND($C$1=\"Y\",D21>0)","v":true},{"$f":"AND($E$1=\"Y\",F21>0)","v":false},{"$f":"AND($G$1=\"Y\",H21>0)","v":false},{"$f":"AND($I$1=\"Y\",J21>0)","v":false},{"$f":"AND($K$1=\"Y\",L21>0)","v":false},{"$f":"COUNTIF(Table101617[[#This Row],[Competed 1]:[Competed 5]],\"=TRUE\")","v":1}]
["Zena Challenger","Thomas Estley CC",7,{"$f":"IF(C22=\"-\",0,C22)","v":7},"-",{"$f":"IF(E22=\"-\",0,E22)","v":0},"-",{"$f":"IF(G22=\"-\",0,G22)","v":0},"-",{"$f":"IF(I22=\"-\",0,I22)","v":0},"-",{"$f":"IF(K22=\"-\",0,K22)","v":0},{"$f":"Table101617[[#This Row],[School]]","v":"Thomas Estley CC"},{"$f":"D22+F22+H22+J22+L22","v":7},{"$f":"MAX(C22,E22,G22,I22,K22)","v":7},{"$f":"IF(Q22=1,N22,IF(Q22=0,(N22-O22),\"-\"))","v":"-"},{"$f":"$L$1-Table101617[Competed Count]","v":3},{"$f":"IF(Q22<2,\"Yes\",\"No\")","v":"No"},{"$f":"AND($C$1=\"Y\",D22>0)","v":true},{"$f":"AND($E$1=\"Y\",F22>0)","v":false},{"$f":"AND($G$1=\"Y\",H22>0)","v":false},{"$f":"AND($I$1=\"Y\",J22>0)","v":false},{"$f":"AND($K$1=\"Y\",L22>0)","v":false},{"$f":"COUNTIF(Table101617[[#This Row],[Competed 1]:[Competed 5]],\"=TRUE\")","v":1}]
["Izzy McDaid","Lutterworth College",9,{"$f":"IF(C23=\"-\",0,C23)","v":9},"-",{"$f":"IF(E23=\"-\",0,E23)","v":0},"-",{"$f":"IF(G23=\"-\",0,G23)","v":0},"-",{"$f":"IF(I23=\"-\",0,I23)","v":0},"-",{"$f":"IF(K23=\"-\",0,K23)","v":0},{"$f":"Table101617[[#This Row],[School]]","v":"Lutterworth College"},{"$f":"D23+F23+H23+J23+L23","v":9},{"$f":"MAX(C23,E23,G23,I23,K23)","v":9},{"$f":"IF(Q23=1,N23,IF(Q23=0,(N23-O23),\"-\"))","v":"-"},{"$f":"$L$1-Table101617[Competed Count]","v":3},{"$f":"IF(Q23<2,\"Yes\",\"No\")","v":"No"},{"$f":"AND($C$1=\"Y\",D23>0)","v":true},{"$f":"AND($E$1=\"Y\",F23>0)","v":false},{"$f":"AND($G$1=\"Y\",H23>0)","v":false},{"$f":"AND($I$1=\"Y\",J23>0)","v":false},{"$f":"AND($K$1=\"Y\",L23>0)","v":false},{"$f":"COUNTIF(Table101617[[#This Row],[Competed 1]:[Competed 5]],\"=TRUE\")","v":1}]
["Emma Richards","Leicester Grammar School",12,{"$f":"IF(C24=\"-\",0,C24)","v":12},"-",{"$f":"IF(E24=\"-\",0,E24)","v":0},"-",{"$f":"IF(G24=\"-\",0,G24)","v":0},"-",{"$f":"IF(I24=\"-\",0,I24)","v":0},"-",{"$f":"IF(K24=\"-\",0,K24)","v":0},{"$f":"Table101617[[#This Row],[School]]","v":"Leicester Grammar School"},{"$f":"D24+F24+H24+J24+L24","v":12},{"$f":"MAX(C24,E24,G24,I24,K24)","v":12},{"$f":"IF(Q24=1,N24,IF(Q24=0,(N24-O24),\"-\"))","v":"-"},{"$f":"$L$1-Table101617[Competed Count]","v":3},{"$f":"IF(Q24<2,\"Yes\",\"No\")","v":"No"},{"$f":"AND($C$1=\"Y\",D24>0)","v":true},{"$f":"AND($E$1=\"Y\",F24>0)","v":false},{"$f":"AND($G$1=\"Y\",H24>0)","v":false},{"$f":"AND($I$1=\"Y\",J24>0)","v":false},{"$f":"AND($K$1=\"Y\",L24>0)","v":false},{"$f":"COUNTIF(Table101617[[#This Row],[Competed 1]:[Competed 5]],\"=TRUE\")","v":1}]
["Eleaneor Kaur Here","Rawlins Academy",13,{"$f":"IF(C25=\"-\",0,C25)","v":13},"-",{"$f":"IF(E25=\"-\",0,E25)","v":0},"-",{"$f":"IF(G25=\"-\",0,G25)","v":0},"-",{"$f":"IF(I25=\"-\",0,I25)","v":0},"-",{"$f":"IF(K25=\"-\",0,K25)","v":0},{"$f":"Table101617[[#This Row],[School]]","v":"Rawlins Academy"},{"$f":"D25+F25+H25+J25+L25","v":13},{"$f":"MAX(C25,E25,G25,I25,K25)","v":13},{"$f":"IF(Q25=1,N25,IF(Q25=0,(N25-O25),\"-\"))","v":"-"},{"$f":"$L$1-Table101617[Competed Count]","v":3},{"$f":"IF(Q25<2,\"Yes\",\"No\")","v":"No"},{"$f":"AND($C$1=\"Y\",D25>0)","v":true},{"$f":"AND($E$1=\"Y\",F25>0)","v":false},{"$f":"AND($G$1=\"Y\",H25>0)","v":false},{"$f":"AND($I$1=\"Y\",J25>0)","v":false},{"$f":"AND($K$1=\"Y\",L25>0)","v":false},{"$f":"COUNTIF(Table101617[[#This Row],[Competed 1]:[Competed 5]],\"=TRUE\")","v":1}]
["Scarlette Paget-Wright","Loughborough High School",15,{"$f":"IF(C26=\"-\",0,C26)","v":15},"-",{"$f":"IF(E26=\"-\",0,E26)","v":0},"-",{"$f":"IF(G26=\"-\",0,G26)","v":0},"-",{"$f":"IF(I26=\"-\",0,I26)","v":0},"-",{"$f":"IF(K26=\"-\",0,K26)","v":0},{"$f":"Table101617[[#This Row],[School]]","v":"Loughborough High School"},{"$f":"D26+F26+H26+J26+L26","v":15},{"$f":"MAX(C26,E26,G26,I26,K26)","v":15},{"$f":"IF(Q26=1,N26,IF(Q26=0,(N26-O26),\"-\"))","v":"-"},{"$f":"$L$1-Table101617[Competed Count]","v":3},{"$f":"IF(Q26<2,\"Yes\",\"No\")","v":"No"},{"$f":"AND($C$1=\"Y\",D26>0)","v":true},{"$f":"AND($E$1=\"Y\",F26>0)","v":false},{"$f":"AND($G$1=\"Y\",H26>0)","v":false},{"$f":"AND($I$1=\"Y\",J26>0)","v":false},{"$f":"AND($K$1=\"Y\",L26>0)","v":false},{"$f":"COUNTIF(Table101617[[#This Row],[Competed 1]:[Competed 5]],\"=TRUE\")","v":1}]
["Charlotte Ellis","Robert Smyth Academy",16,{"$f":"IF(C27=\"-\",0,C27)","v":16},"-",{"$f":"IF(E27=\"-\",0,E27)","v":0},"-",{"$f":"IF(G27=\"-\",0,G27)","v":0},"-",{"$f":"IF(I27=\"-\",0,I27)","v":0},"-",{"$f":"IF(K27=\"-\",0,K27)","v":0},{"$f":"Table101617[[#This Row],[School]]","v":"Robert Smyth Academy"},{"$f":"D27+F27+H27+J27+L27","v":16},{"$f":"MAX(C27,E27,G27,I27,K27)","v":16},{"$f":"IF(Q27=1,N27,IF(Q27=0,(N27-O27),\"-\"))","v":"-"},{"$f":"$L$1-Table101617[Competed Count]","v":3},{"$f":"IF(Q27<2,\"Yes\",\"No\")","v":"No"},{"$f":"AND($C$1=\"Y\",D27>0)","v":true},{"$f":"AND($E$1=\"Y\",F27>0)","v":false},{"$f":"AND($G$1=\"Y\",H27>0)","v":false},{"$f":"AND($I$1=\"Y\",J27>0)","v":false},{"$f":"AND($K$1=\"Y\",L27>0)","v":false},{"$f":"COUNTIF(Table101617[[#This Row],[Competed 1]:[Competed 5]],\"=TRUE\")","v":1}]
["Anna Barber","De Lisle College",18,{"$f":"IF(C28=\"-\",0,C28)","v":18},"-",{"$f":"IF(E28=\"-\",0,E28)","v":0},"-",{"$f":"IF(G28=\"-\",0,G28)","v":0},"-",{"$f":"IF(I28=\"-\",0,I28)","v":0},"-",{"$f":"IF(K28=\"-\",0,K28)","v":0},{"$f":"Table101617[[#This Row],[School]]","v":"De Lisle College"},{"$f":"D28+F28+H28+J28+L28","v":18},{"$f":"MAX(C28,E28,G28,I28,K28)","v":18},{"$f":"IF(Q28=1,N28,IF(Q28=0,(N28-O28),\"-\"))","v":"-"},{"$f":"$L$1-Table101617[Competed Count]","v":3},{"$f":"IF(Q28<2,\"Yes\",\"No\")","v":"No"},{"$f":"AND($C$1=\"Y\",D28>0)","v":true},{"$f":"AND($E$1=\"Y\",F28>0)","v":false},{"$f":"AND($G$1=\"Y\",H28>0)","v":false},{"$f":"AND($I$1=\"Y\",J28>0)","v":false},{"$f":"AND($K$1=\"Y\",L28>0)","v":false},{"$f":"COUNTIF(Table101617[[#This Row],[Competed 1]:[Competed 5]],\"=TRUE\")","v":1}]
["Sarah Fowles","The Market Bosworth School",21,{"$f":"IF(C29=\"-\",0,C29)","v":21},"-",{"$f":"IF(E29=\"-\",0,E29)","v":0},"-",{"$f":"IF(G29=\"-\",0,G29)","v":0},"-",{"$f":"IF(I29=\"-\",0,I29)","v":0},"-",{"$f":"IF(K29=\"-\",0,K29)","v":0},{"$f":"Table101617[[#This Row],[School]]","v":"The Market Bosworth School"},{"$f":"D29+F29+H29+J29+L29","v":21},{"$f":"MAX(C29,E29,G29,I29,K29)","v":21},{"$f":"IF(Q29=1,N29,IF(Q29=0,(N29-O29),\"-\"))","v":"-"},{"$f":"$L$1-Table101617[Competed Count]","v":3},{"$f":"IF(Q29<2,\"Yes\",\"No\")","v":"No"},{"$f":"AND($C$1=\"Y\",D29>0)","v":true},{"$f":"AND($E$1=\"Y\",F29>0)","v":false},{"$f":"AND($G$1=\"Y\",H29>0)","v":false},{"$f":"AND($I$1=\"Y\",J29>0)","v":false},{"$f":"AND($K$1=\"Y\",L29>0)","v":false},{"$f":"COUNTIF(Table101617[[#This Row],[Competed 1]:[Competed 5]],\"=TRUE\")","v":1}]
[null,"-","-",{"$f":"IF(C30=\"-\",0,C30)","v":0},"-",{"$f":"IF(E30=\"-\",0,E30)","v":0},"-",{"$f":"IF(G30=\"-\",0,G30)","v":0},"-",{"$f":"IF(I30=\"-\",0,I30)","v":0},"-",{"$f":"IF(K30=\"-\",0,K30)","v":0},{"$f":"Table101617[[#This Row],[School]]","v":"-"},{"$f":"D30+F30+H30+J30+L30","v":0},{"$f":"MAX(C30,E30,G30,I30,K30)","v":0},{"$f":"IF(Q30=1,N30,IF(Q30=0,(N30-O30),\"-\"))","v":"-"},{"$f":"$L$1-Table101617[Competed Count]","v":4},{"$f":"IF(Q30<2,\"Yes\",\"No\")","v":"No"},{"$f":"AND($C$1=\"Y\",D30>0)","v":false},{"$f":"AND($E$1=\"Y\",F30>0)","v":false},{"$f":"AND($G$1=\"Y\",H30>0)","v":false},{"$f":"AND($I$1=\"Y\",J30>0)","v":false},{"$f":"AND($K$1=\"Y\",L30>0)","v":false},{"$f":"COUNTIF(Table101617[[#This Row],[Competed 1]:[Competed 5]],\"=TRUE\")","v":0}]
[null,"-","-",{"$f":"IF(C31=\"-\",0,C31)","v":0},"-",{"$f":"IF(E31=\"-\",0,E31)","v":0},"-",{"$f":"IF(G31=\"-\",0,G31)","v":0},"-",{"$f":"IF(I31=\"-\",0,I31)","v":0},"-",{"$f":"IF(K31=\"-\",0,K31)","v":0},{"$f":"Table101617[[#This Row],[School]]","v":"-"},{"$f":"D31+F31+H31+J31+L31","v":0},{"$f":"MAX(C31,E31,G31,I31,K31)","v":0},{"$f":"IF(Q31=1,N31,IF(Q31=0,(N31-O31),\"-\"))","v":"-"},{"$f":"$L$1-Table101617[Competed Count]","v":4},{"$f":"IF(Q31<2,\"Yes\",\"No\")","v":"No"},{"$f":"AND($C$1=\"Y\",D31>0)","v":false},{"$f":"AND($E$1=\"Y\",F31>0)","v":false},{"$f":"AND($G$1=\"Y\",H31>0)","v":false},{"$f":"AND($I$1=\"Y\",J31>0)","v":false},{"$f":"AND($K$1=\"Y\",L31>0)","v":false},{"$f":"COUNTIF(Table101617[[#This Row],[Competed 1]:[Competed 5]],\"=TRUE\")","v":0}]
[null,"-","-",{"$f":"IF(C32=\"-\",0,C32)","v":0},"-",{"$f":"IF(E32=\"-\",0,E32)","v":0},"-",{"$f":"IF(G32=\"-\",0,G32)","v":0},"-",{"$f":"IF(I32=\"-\",0,I32)","v":0},"-",{"$f":"IF(K32=\"-\",0,K32)","v":0},{"$f":"Table101617[[#This Row],[School]]","v":"-"},{"$f":"D32+F32+H32+J32+L32","v":0},{"$f":"MAX(C32,E32,G32,I32,K32)","v":0},{"$f":"IF(Q32=1,N32,IF(Q32=0,(N32-O32),\"-\"))","v":"-"},{"$f":"$L$1-Table101617[Competed Count]","v":4},{"$f":"IF(Q32<2,\"Yes\",\"No\")","v":"No"},{"$f":"AND($C$1=\"Y\",D32>0)","v":false},{"$f":"AND($E$1=\"Y\",F32>0)","v":false},{"$f":"AND($G$1=\"Y\",H32>0)","v":false},{"$f":"AND($I$1=\"Y\",J32>0)","v":false},{"$f":"AND($K$1=\"Y\",L32>0)","v":false},{"$f":"COUNTIF(Table101617[[#This Row],[Competed 1]:[Competed 5]],\"=TRUE\")","v":0}]
[null,"-","-",{"$f":"IF(C33=\"-\",0,C33)","v":0},"-",{"$f":"IF(E33=\"-\",0,E33)","v":0},"-",{"$f":"IF(G33=\"-\",0,G33)","v":0},"-",{"$f":"IF(I33=\"-\",0,I33)","v":0},"-",{"$f":"IF(K33=\"-\",0,K33)","v":0},{"$f":"Table101617[[#This Row],[School]]","v":"-"},{"$f":"D33+F33+H33+J33+L33","v":0},{"$f":"MAX(C33,E33,G33,I33,K33)","v":0},{"$f":"IF(Q33=1,N33,IF(Q33=0,(N33-O33),\"-\"))","v":"-"},{"$f":"$L$1-Table101617[Competed Count]","v":4},{"$f":"IF(Q33<2,\"Yes\",\"No\")","v":"No"},{"$f":"AND($C$1=\"Y\",D33>0)","v":false},{"$f":"AND($E$1=\"Y\",F33>0)","v":false},{"$f":"AND($G$1=\"Y\",H33>0)","v":false},{"$f":"AND($I$1=\"Y\",J33>0)","v":false},{"$f":"AND($K$1=\"Y\",L33>0)","v":false},{"$f":"COUNTIF(Table101617[[#This Row],[Competed 1]:[Competed 5]],\"=TRUE\")","v":0}]
[null,"-","-",{"$f":"IF(C34=\"-\",0,C34)","v":0},"-",{"$f":"IF(E34=\"-\",0,E34)","v":0},"-",{"$f":"IF(G34=\"-\",0,G34)","v":0},"-",{"$f":"IF(I34=\"-\",0,I34)","v":0},"-",{"$f":"IF(K34=\"-\",0,K34)","v":0},{"$f":"Table101617[[#This Row],[School]]","v":"-"},{"$f":"D34+F34+H34+J34+L34","v":0},{"$f":"MAX(C34,E34,G34,I34,K34)","v":0},{"$f":"IF(Q34=1,N34,IF(Q34=0,(N34-O34),\"-\"))","v":"-"},{"$f":"$L$1-Table101617[Competed Count]","v":4},{"$f":"IF(Q34<2,\"Yes\",\"No\")","v":"No"},{"$f":"AND($C$1=\"Y\",D34>0)","v":false},{"$f":"AND($E$1=\"Y\",F34>0)","v":false},{"$f":"AND($G$1=\"Y\",H34>0)","v":false},{"$f":"AND($I$1=\"Y\",J34>0)","v":false},{"$f":"AND($K$1=\"Y\",L34>0)","v":false},{"$f":"COUNTIF(Table101617[[#This Row],[Competed 1]:[Competed 5]],\"=TRUE\")","v":0}]
[null,"-","-",{"$f":"IF(C35=\"-\",0,C35)","v":0},"-",{"$f":"IF(E35=\"-\",0,E35)","v":0},"-",{"$f":"IF(G35=\"-\",0,G35)","v":0},"-",{"$f":"IF(I35=\"-\",0,I35)","v":0},"-",{"$f":"IF(K35=\"-\",0,K35)","v":0},{"$f":"Table101617[[#This Row],[School]]","v":"-"},{"$f":"D35+F35+H35+J35+L35","v":0},{"$f":"MAX(C35,E35,G35,I35,K35)","v":0},{"$f":"IF(Q35=1,N35,IF(Q35=0,(N35-O35),\"-\"))","v":"-"},{"$f":"$L$1-Table101617[Competed Count]","v":4},{"$f":"IF(Q35<2,\"Yes\",\"No\")","v":"No"},{"$f":"AND($C$1=\"Y\",D35>0)","v":false},{"$f":"AND($E$1=\"Y\",F35>0)","v":false},{"$f":"AND($G$1=\"Y\",H35>0)","v":false},{"$f":"AND($I$1=\"Y\",J35>0)","v":false},{"$f":"AND($K$1=\"Y\",L35>0)","v":false},{"$f":"COUNTIF(Table101617[[#This Row],[Competed 1]:[Competed 5]],\"=TRUE\")","v":0}]
[null,"-","-",{"$f":"IF(C36=\"-\",0,C36)","v":0},"-",{"$f":"IF(E36=\"-\",0,E36)","v":0},"-",{"$f":"IF(G36=\"-\",0,G36)","v":0},"-",{"$f":"IF(I36=\"-\",0,I36)","v":0},"-",{"$f":"IF(K36=\"-\",0,K36)","v":0},{"$f":"Table101617[[#This Row],[School]]","v":"-"},{"$f":"D36+F36+H36+J36+L36","v":0},{"$f":"MAX(C36,E36,G36,I36,K36)","v":0},{"$f":"IF(Q36=1,N36,IF(Q36=0,(N36-O36),\"-\"))","v":"-"},{"$f":"$L$1-Table101617[Competed Count]","v":4},{"$f":"IF(Q36<2,\"Yes\",\"No\")","v":"No"},{"$f":"AND($C$1=\"Y\",D36>0)","v":false},{"$f":"AND($E$1=\"Y\",F36>0)","v":false},{"$f":"AND($G$1=\"Y\",H36>0)","v":false},{"$f":"AND($I$1=\"Y\",J36>0)","v":false},{"$f":"AND($K$1=\"Y\",L36>0)","v":false},{"$f":"COUNTIF(Table101617[[#This Row],[Competed 1]:[Competed 5]],\"=TRUE\")","v":0}]
[null,"-","-",{"$f":"IF(C37=\"-\",0,C37)","v":0},"-",{"$f":"IF(E37=\"-\",0,E37)","v":0},"-",{"$f":"IF(G37=\"-\",0,G37)","v":0},"-",{"$f":"IF(I37=\"-\",0,I37)","v":0},"-",{"$f":"IF(K37=\"-\",0,K37)","v":0},{"$f":"Table101617[[#This Row],[School]]","v":"-"},{"$f":"D37+F37+H37+J37+L37","v":0},{"$f":"MAX(C37,E37,G37,I37,K37)","v":0},{"$f":"IF(Q37=1,N37,IF(Q37=0,(N37-O37),\"-\"))","v":"-"},{"$f":"$L$1-Table101617[Competed Count]","v":4},{"$f":"IF(Q37<2,\"Yes\",\"No\")","v":"No"},{"$f":"AND($C$1=\"Y\",D37>0)","v":false},{"$f":"AND($E$1=\"Y\",F37>0)","v":false},{"$f":"AND($G$1=\"Y\",H37>0)","v":false},{"$f":"AND($I$1=\"Y\",J37>0)","v":false},{"$f":"AND($K$1=\"Y\",L37>0)","v":false},{"$f":"COUNTIF(Table101617[[#This Row],[Competed 1]:[Competed 5]],\"=TRUE\")","v":0}]
[null,"-","-",{"$f":"IF(C38=\"-\",0,C38)","v":0},"-",{"$f":"IF(E38=\"-\",0,E38)","v":0},"-",{"$f":"IF(G38=\"-\",0,G38)","v":0},"-",{"$f":"IF(I38=\"-\",0,I38)","v":0},"-",{"$f":"IF(K38=\"-\",0,K38)","v":0},{"$f":"Table101617[[#This Row],[School]]","v":"-"},{"$f":"D38+F38+H38+J38+L38","v":0},{"$f":"MAX(C38,E38,G38,I38,K38)","v":0},{"$f":"IF(Q38=1,N38,IF(Q38=0,(N38-O38),\"-\"))","v":"-"},{"$f":"$L$1-Table101617[Competed Count]","v":4},{"$f":"IF(Q38<2,\"Yes\",\"No\")","v":"No"},{"$f":"AND($C$1=\"Y\",D38>0)","v":false},{"$f":"AND($E$1=\"Y\",F38>0)","v":false},{"$f":"AND($G$1=\"Y\",H38>0)","v":false},{"$f":"AND($I$1=\"Y\",J38>0)","v":false},{"$f":"AND($K$1=\"Y\",L38>0)","v":false},{"$f":"COUNTIF(Table101617[[#This Row],[Competed 1]:[Competed 5]],\"=TRUE\")","v":0}]
[null,"-","-",{"$f":"IF(C39=\"-\",0,C39)","v":0},"-",{"$f":"IF(E39=\"-\",0,E39)","v":0},"-",{"$f":"IF(G39=\"-\",0,G39)","v":0},"-",{"$f":"IF(I39=\"-\",0,I39)","v":0},"-",{"$f":"IF(K39=\"-\",0,K39)","v":0},{"$f":"Table101617[[#This Row],[School]]","v":"-"},{"$f":"D39+F39+H39+J39+L39","v":0},{"$f":"MAX(C39,E39,G39,I39,K39)","v":0},{"$f":"IF(Q39=1,N39,IF(Q39=0,(N39-O39),\"-\"))","v":"-"},{"$f":"$L$1-Table101617[Competed Count]","v":4},{"$f":"IF(Q39<2,\"Yes\",\"No\")","v":"No"},{"$f":"AND($C$1=\"Y\",D39>0)","v":false},{"$f":"AND($E$1=\"Y\",F39>0)","v":false},{"$f":"AND($G$1=\"Y\",H39>0)","v":false},{"$f":"AND($I$1=\"Y\",J39>0)","v":false},{"$f":"AND($K$1=\"Y\",L39>0)","v":false},{"$f":"COUNTIF(Table101617[[#This Row],[Competed 1]:[Competed 5]],\"=TRUE\")","v":0}]
[null,"-","-",{"$f":"IF(C40=\"-\",0,C40)","v":0},"-",{"$f":"IF(E40=\"-\",0,E40)","v":0},"-",{"$f":"IF(G40=\"-\",0,G40)","v":0},"-",{"$f":"IF(I40=\"-\",0,I40)","v":0},"-",{"$f":"IF(K40=\"-\",0,K40)","v":0},{"$f":"Table101617[[#This Row],[School]]","v":"-"},{"$f":"D40+F40+H40+J40+L40","v":0},{"$f":"MAX(C40,E40,G40,I40,K40)","v":0},{"$f":"IF(Q40=1,N40,IF(Q40=0,(N40-O40),\"-\"))","v":"-"},{"$f":"$L$1-Table101617[Competed Count]","v":4},{"$f":"IF(Q40<2,\"Yes\",\"No\")","v":"No"},{"$f":"AND($C$1=\"Y\",D40>0)","v":false},{"$f":"AND($E$1=\"Y\",F40>0)","v":false},{"$f":"AND($G$1=\"Y\",H40>0)","v":false},{"$f":"AND($I$1=\"Y\",J40>0)","v":false},{"$f":"AND($K$1=\"Y\",L40>0)","v":false},{"$f":"COUNTIF(Table101617[[#This Row],[Competed 1]:[Competed 5]],\"=TRUE\")","v":0}]
[null,"-","-",{"$f":"IF(C41=\"-\",0,C41)","v":0},"-",{"$f":"IF(E41=\"-\",0,E41)","v":0},"-",{"$f":"IF(G41=\"-\",0,G41)","v":0},"-",{"$f":"IF(I41=\"-\",0,I41)","v":0},"-",{"$f":"IF(K41=\"-\",0,K41)","v":0},{"$f":"Table101617[[#This Row],[School]]","v":"-"},{"$f":"D41+F41+H41+J41+L41","v":0},{"$f":"MAX(C41,E41,G41,I41,K41)","v":0},{"$f":"IF(Q41=1,N41,IF(Q41=0,(N41-O41),\"-\"))","v":"-"},{"$f":"$L$1-Table101617[Competed Count]","v":4},{"$f":"IF(Q41<2,\"Yes\",\"No\")","v":"No"},{"$f":"AND($C$1=\"Y\",D41>0)","v":false},{"$f":"AND($E$1=\"Y\",F41>0)","v":false},{"$f":"AND($G$1=\"Y\",H41>0)","v":false},{"$f":"AND($I$1=\"Y\",J41>0)","v":false},{"$f":"AND($K$1=\"Y\",L41>0)","v":false},{"$f":"COUNTIF(Table101617[[#This Row],[Competed 1]:[Competed 5]],\"=TRUE\")","v":0}]
[null,"-","-",{"$f":"IF(C42=\"-\",0,C42)","v":0},"-",{"$f":"IF(E42=\"-\",0,E42)","v":0},"-",{"$f":"IF(G42=\"-\",0,G42)","v":0},"-",{"$f":"IF(I42=\"-\",0,I42)","v":0},"-",{"$f":"IF(K42=\"-\",0,K42)","v":0},{"$f":"Table101617[[#This Row],[School]]","v":"-"},{"$f":"D42+F42+H42+J42+L42","v":0},{"$f":"MAX(C42,E42,G42,I42,K42)","v":0},{"$f":"IF(Q42=1,N42,IF(Q42=0,(N42-O42),\"-\"))","v":"-"},{"$f":"$L$1-Table101617[Competed Count]","v":4},{"$f":"IF(Q42<2,\"Yes\",\"No\")","v":"No"},{"$f":"AND($C$1=\"Y\",D42>0)","v":false},{"$f":"AND($E$1=\"Y\",F42>0)","v":false},{"$f":"AND($G$1=\"Y\",H42>0)","v":false},{"$f":"AND($I$1=\"Y\",J42>0)","v":false},{"$f":"AND($K$1=\"Y\",L42>0)","v":false},{"$f":"COUNTIF(Table101617[[#This Row],[Competed 1]:[Competed 5]],\"=TRUE\")","v":0}]
[null,"-","-",{"$f":"IF(C43=\"-\",0,C43)","v":0},"-",{"$f":"IF(E43=\"-\",0,E43)","v":0},"-",{"$f":"IF(G43=\"-\",0,G43)","v":0},"-",{"$f":"IF(I43=\"-\",0,I43)","v":0},"-",{"$f":"IF(K43=\"-\",0,K43)","v":0},{"$f":"Table101617[[#This Row],[School]]","v":"-"},{"$f":"D43+F43+H43+J43+L43","v":0},{"$f":"MAX(C43,E43,G43,I43,K43)","v":0},{"$f":"IF(Q43=1,N43,IF(Q43=0,(N43-O43),\"-\"))","v":"-"},{"$f":"$L$1-Table101617[Competed Count]","v":4},{"$f":"IF(Q43<2,\"Yes\",\"No\")","v":"No"},{"$f":"AND($C$1=\"Y\",D43>0)","v":false},{"$f":"AND($E$1=\"Y\",F43>0)","v":false},{"$f":"AND($G$1=\"Y\",H43>0)","v":false},{"$f":"AND($I$1=\"Y\",J43>0)","v":false},{"$f":"AND($K$1=\"Y\",L43>0)","v":false},{"$f":"COUNTIF(Table101617[[#This Row],[Competed 1]:[Competed 5]],\"=TRUE\")","v":0}]
[null,"-","-",{"$f":"IF(C44=\"-\",0,C44)","v":0},"-",{"$f":"IF(E44=\"-\",0,E44)","v":0},"-",{"$f":"IF(G44=\"-\",0,G44)","v":0},"-",{"$f":"IF(I44=\"-\",0,I44)","v":0},"-",{"$f":"IF(K44=\"-\",0,K44)","v":0},{"$f":"Table101617[[#This Row],[School]]","v":"-"},{"$f":"D44+F44+H44+J44+L44","v":0},{"$f":"MAX(C44,E44,G44,I44,K44)","v":0},{"$f":"IF(Q44=1,N44,IF(Q44=0,(N44-O44),\"-\"))","v":"-"},{"$f":"$L$1-Table101617[Competed Count]","v":4},{"$f":"IF(Q44<2,\"Yes\",\"No\")","v":"No"},{"$f":"AND($C$1=\"Y\",D44>0)","v":false},{"$f":"AND($E$1=\"Y\",F44>0)","v":false},{"$f":"AND($G$1=\"Y\",H44>0)","v":false},{"$f":"AND($I$1=\"Y\",J44>0)","v":false},{"$f":"AND($K$1=\"Y\",L44>0)","v":false},{"$f":"COUNTIF(Table101617[[#This Row],[Competed 1]:[Competed 5]],\"=TRUE\")","v":0}]
[null,"-","-",{"$f":"IF(C45=\"-\",0,C45)","v":0},"-",{"$f":"IF(E45=\"-\",0,E45)","v":0},"-",{"$f":"IF(G45=\"-\",0,G45)","v":0},"-",{"$f":"IF(I45=\"-\",0,I45)","v":0},"-",{"$f":"IF(K45=\"-\",0,K45)","v":0},{"$f":"Table101617[[#This Row],[School]]","v":"-"},{"$f":"D45+F45+H45+J45+L45","v":0},{"$f":"MAX(C45,E45,G45,I45,K45)","v":0},{"$f":"IF(Q45=1,N45,IF(Q45=0,(N45-O45),\"-\"))","v":"-"},{"$f":"$L$1-Table101617[Competed Count]","v":4},{"$f":"IF(Q45<2,\"Yes\",\"No\")","v":"No"},{"$f":"AND($C$1=\"Y\",D45>0)","v":false},{"$f":"AND($E$1=\"Y\",F45>0)","v":false},{"$f":"AND($G$1=\"Y\",H45>0)","v":false},{"$f":"AND($I$1=\"Y\",J45>0)","v":false},{"$f":"AND($K$1=\"Y\",L45>0)","v":false},{"$f":"COUNTIF(Table101617[[#This Row],[Competed 1]:[Competed 5]],\"=TRUE\")","v":0}]
[null,"-","-",{"$f":"IF(C46=\"-\",0,C46)","v":0},"-",{"$f":"IF(E46=\"-\",0,E46)","v":0},"-",{"$f":"IF(G46=\"-\",0,G46)","v":0},"-",{"$f":"IF(I46=\"-\",0,I46)","v":0},"-",{"$f":"IF(K46=\"-\",0,K46)","v":0},{"$f":"Table101617[[#This Row],[School]]","v":"-"},{"$f":"D46+F46+H46+J46+L46","v":0},{"$f":"MAX(C46,E46,G46,I46,K46)","v":0},{"$f":"IF(Q46=1,N46,IF(Q46=0,(N46-O46),\"-\"))","v":"-"},{"$f":"$L$1-Table101617[Competed Count]","v":4},{"$f":"IF(Q46<2,\"Yes\",\"No\")","v":"No"},{"$f":"AND($C$1=\"Y\",D46>0)","v":false},{"$f":"AND($E$1=\"Y\",F46>0)","v":false},{"$f":"AND($G$1=\"Y\",H46>0)","v":false},{"$f":"AND($I$1=\"Y\",J46>0)","v":false},{"$f":"AND($K$1=\"Y\",L46>0)","v":false},{"$f":"COUNTIF(Table101617[[#This Row],[Competed 1]:[Competed 5]],\"=TRUE\")","v":0}]
[null,"-","-",{"$f":"IF(C47=\"-\",0,C47)","v":0},"-",{"$f":"IF(E47=\"-\",0,E47)","v":0},"-",{"$f":"IF(G47=\"-\",0,G47)","v":0},"-",{"$f":"IF(I47=\"-\",0,I47)","v":0},"-",{"$f":"IF(K47=\"-\",0,K47)","v":0},{"$f":"Table101617[[#This Row],[School]]","v":"-"},{"$f":"D47+F47+H47+J47+L47","v":0},{"$f":"MAX(C47,E47,G47,I47,K47)","v":0},{"$f":"IF(Q47=1,N47,IF(Q47=0,(N47-O47),\"-\"))","v":"-"},{"$f":"$L$1-Table101617[Competed Count]","v":4},{"$f":"IF(Q47<2,\"Yes\",\"No\")","v":"No"},{"$f":"AND($C$1=\"Y\",D47>0)","v":false},{"$f":"AND($E$1=\"Y\",F47>0)","v":false},{"$f":"AND($G$1=\"Y\",H47>0)","v":false},{"$f":"AND($I$1=\"Y\",J47>0)","v":false},{"$f":"AND($K$1=\"Y\",L47>0)","v":false},{"$f":"COUNTIF(Table101617[[#This Row],[Competed 1]:[Competed 5]],\"=TRUE\")","v":0}]
[null,"-","-",{"$f":"IF(C48=\"-\",0,C48)","v":0},"-",{"$f":"IF(E48=\"-\",0,E48)","v":0},"-",{"$f":"IF(G48=\"-\",0,G48)","v":0},"-",{"$f":"IF(I48=\"-\",0,I48)","v":0},"-",{"$f":"IF(K48=\"-\",0,K48)","v":0},{"$f":"Table101617[[#This Row],[School]]","v":"-"},{"$f":"D48+F48+H48+J48+L48","v":0},{"$f":"MAX(C48,E48,G48,I48,K48)","v":0},{"$f":"IF(Q48=1,N48,IF(Q48=0,(N48-O48),\"-\"))","v":"-"},{"$f":"$L$1-Table101617[Competed Count]","v":4},{"$f":"IF(Q48<2,\"Yes\",\"No\")","v":"No"},{"$f":"AND($C$1=\"Y\",D48>0)","v":false},{"$f":"AND($E$1=\"Y\",F48>0)","v":false},{"$f":"AND($G$1=\"Y\",H48>0)","v":false},{"$f":"AND($I$1=\"Y\",J48>0)","v":false},{"$f":"AND($K$1=\"Y\",L48>0)","v":false},{"$f":"COUNTIF(Table101617[[#This Row],[Competed 1]:[Competed 5]],\"=TRUE\")","v":0}]
[null,"-","-",{"$f":"IF(C49=\"-\",0,C49)","v":0},"-",{"$f":"IF(E49=\"-\",0,E49)","v":0},"-",{"$f":"IF(G49=\"-\",0,G49)","v":0},"-",{"$f":"IF(I49=\"-\",0,I49)","v":0},"-",{"$f":"IF(K49=\"-\",0,K49)","v":0},{"$f":"Table101617[[#This Row],[School]]","v":"-"},{"$f":"D49+F49+H49+J49+L49","v":0},{"$f":"MAX(C49,E49,G49,I49,K49)","v":0},{"$f":"IF(Q49=1,N49,IF(Q49=0,(N49-O49),\"-\"))","v":"-"},{"$f":"$L$1-Table101617[Competed Count]","v":4},{"$f":"IF(Q49<2,\"Yes\",\"No\")","v":"No"},{"$f":"AND($C$1=\"Y\",D49>0)","v":false},{"$f":"AND($E$1=\"Y\",F49>0)","v":false},{"$f":"AND($G$1=\"Y\",H49>0)","v":false},{"$f":"AND($I$1=\"Y\",J49>0)","v":false},{"$f":"AND($K$1=\"Y\",L49>0)","v":false},{"$f":"COUNTIF(Table101617[[#This Row],[Competed 1]:[Competed 5]],\"=TRUE\")","v":0}]
[null,"-","-",{"$f":"IF(C50=\"-\",0,C50)","v":0},"-",{"$f":"IF(E50=\"-\",0,E50)","v":0},"-",{"$f":"IF(G50=\"-\",0,G50)","v":0},"-",{"$f":"IF(I50=\"-\",0,I50)","v":0},"-",{"$f":"IF(K50=\"-\",0,K50)","v":0},{"$f":"Table101617[[#This Row],[School]]","v":"-"},{"$f":"D50+F50+H50+J50+L50","v":0},{"$f":"MAX(C50,E50,G50,I50,K50)","v":0},{"$f":"IF(Q50=1,N50,IF(Q50=0,(N50-O50),\"-\"))","v":"-"},{"$f":"$L$1-Table101617[Competed Count]","v":4},{"$f":"IF(Q50<2,\"Yes\",\"No\")","v":"No"},{"$f":"AND($C$1=\"Y\",D50>0)","v":false},{"$f":"AND($E$1=\"Y\",F50>0)","v":false},{"$f":"AND($G$1=\"Y\",H50>0)","v":false},{"$f":"AND($I$1=\"Y\",J50>0)","v":false},{"$f":"AND($K$1=\"Y\",L50>0)","v":false},{"$f":"COUNTIF(Table101617[[#This Row],[Competed 1]:[Competed 5]],\"=TRUE\")","v":0}]
[null,"-","-",{"$f":"IF(C51=\"-\",0,C51)","v":0},"-",{"$f":"IF(E51=\"-\",0,E51)","v":0},"-",{"$f":"IF(G51=\"-\",0,G51)","v":0},"-",{"$f":"IF(I51=\"-\",0,I51)","v":0},"-",{"$f":"IF(K51=\"-\",0,K51)","v":0},{"$f":"Table101617[[#This Row],[School]]","v":"-"},{"$f":"D51+F51+H51+J51+L51","v":0},{"$f":"MAX(C51,E51,G51,I51,K51)","v":0},{"$f":"IF(Q51=1,N51,IF(Q51=0,(N51-O51),\"-\"))","v":"-"},{"$f":"$L$1-Table101617[Competed Count]","v":4},{"$f":"IF(Q51<2,\"Yes\",\"No\")","v":"No"},{"$f":"AND($C$1=\"Y\",D51>0)","v":false},{"$f":"AND($E$1=\"Y\",F51>0)","v":false},{"$f":"AND($G$1=\"Y\",H51>0)","v":false},{"$f":"AND($I$1=\"Y\",J51>0)","v":false},{"$f":"AND($K$1=\"Y\",L51>0)","v":false},{"$f":"COUNTIF(Table101617[[#This Row],[Competed 1]:[Competed 5]],\"=TRUE\")","v":0}]
[null,"-","-",{"$f":"IF(C52=\"-\",0,C52)","v":0},"-",{"$f":"IF(E52=\"-\",0,E52)","v":0},"-",{"$f":"IF(G52=\"-\",0,G52)","v":0},"-",{"$f":"IF(I52=\"-\",0,I52)","v":0},"-",{"$f":"IF(K52=\"-\",0,K52)","v":0},{"$f":"Table101617[[#This Row],[School]]","v":"-"},{"$f":"D52+F52+H52+J52+L52","v":0},{"$f":"MAX(C52,E52,G52,I52,K52)","v":0},{"$f":"IF(Q52=1,N52,IF(Q52=0,(N52-O52),\"-\"))","v":"-"},{"$f":"$L$1-Table101617[Competed Count]","v":4},{"$f":"IF(Q52<2,\"Yes\",\"No\")","v":"No"},{"$f":"AND($C$1=\"Y\",D52>0)","v":false},{"$f":"AND($E$1=\"Y\",F52>0)","v":false},{"$f":"AND($G$1=\"Y\",H52>0)","v":false},{"$f":"AND($I$1=\"Y\",J52>0)","v":false},{"$f":"AND($K$1=\"Y\",L52>0)","v":false},{"$f":"COUNTIF(Table101617[[#This Row],[Competed 1]:[Competed 5]],\"=TRUE\")","v":0}]
[null,"-","-",{"$f":"IF(C53=\"-\",0,C53)","v":0},"-",{"$f":"IF(E53=\"-\",0,E53)","v":0},"-",{"$f":"IF(G53=\"-\",0,G53)","v":0},"-",{"$f":"IF(I53=\"-\",0,I53)","v":0},"-",{"$f":"IF(K53=\"-\",0,K53)","v":0},{"$f":"Table101617[[#This Row],[School]]","v":"-"},{"$f":"D53+F53+H53+J53+L53","v":0},{"$f":"MAX(C53,E53,G53,I53,K53)","v":0},{"$f":"IF(Q53=1,N53,IF(Q53=0,(N53-O53),\"-\"))","v":"-"},{"$f":"$L$1-Table101617[Competed Count]","v":4},{"$f":"IF(Q53<2,\"Yes\",\"No\")","v":"No"},{"$f":"AND($C$1=\"Y\",D53>0)","v":false},{"$f":"AND($E$1=\"Y\",F53>0)","v":false},{"$f":"AND($G$1=\"Y\",H53>0)","v":false},{"$f":"AND($I$1=\"Y\",J53>0)","v":false},{"$f":"AND($K$1=\"Y\",L53>0)","v":false},{"$f":"COUNTIF(Table101617[[#This Row],[Competed 1]:[Competed 5]],\"=TRUE\")","v":0}]
[null,"-","-",{"$f":"IF(C54=\"-\",0,C54)","v":0},"-",{"$f":"IF(E54=\"-\",0,E54)","v":0},"-",{"$f":"IF(G54=\"-\",0,G54)","v":0},"-",{"$f":"IF(I54=\"-\",0,I54)","v":0},"-",{"$f":"IF(K54=\"-\",0,K54)","v":0},{"$f":"Table101617[[#This Row],[School]]","v":"-"},{"$f":"D54+F54+H54+J54+L54","v":0},{"$f":"MAX(C54,E54,G54,I54,K54)","v":0},{"$f":"IF(Q54=1,N54,IF(Q54=0,(N54-O54),\"-\"))","v":"-"},{"$f":"$L$1-Table101617[Competed Count]","v":4},{"$f":"IF(Q54<2,\"Yes\",\"No\")","v":"No"},{"$f":"AND($C$1=\"Y\",D54>0)","v":false},{"$f":"AND($E$1=\"Y\",F54>0)","v":false},{"$f":"AND($G$1=\"Y\",H54>0)","v":false},{"$f":"AND($I$1=\"Y\",J54>0)","v":false},{"$f":"AND($K$1=\"Y\",L54>0)","v":false},{"$f":"COUNTIF(Table101617[[#This Row],[Competed 1]:[Competed 5]],\"=TRUE\")","v":0}]
[null,"-","-",{"$f":"IF(C55=\"-\",0,C55)","v":0},"-",{"$f":"IF(E55=\"-\",0,E55)","v":0},"-",{"$f":"IF(G55=\"-\",0,G55)","v":0},"-",{"$f":"IF(I55=\"-\",0,I55)","v":0},"-",{"$f":"IF(K55=\"-\",0,K55)","v":0},{"$f":"Table101617[[#This Row],[School]]","v":"-"},{"$f":"D55+F55+H55+J55+L55","v":0},{"$f":"MAX(C55,E55,G55,I55,K55)","v":0},{"$f":"IF(Q55=1,N55,IF(Q55=0,(N55-O55),\"-\"))","v":"-"},{"$f":"$L$1-Table101617[Competed Count]","v":4},{"$f":"IF(Q55<2,\"Yes\",\"No\")","v":"No"},{"$f":"AND($C$1=\"Y\",D55>0)","v":false},{"$f":"AND($E$1=\"Y\",F55>0)","v":false},{"$f":"AND($G$1=\"Y\",H55>0)","v":false},{"$f":"AND($I$1=\"Y\",J55>0)","v":false},{"$f":"AND($K$1=\"Y\",L55>0)","v":false},{"$f":"COUNTIF(Table101617[[#This Row],[Competed 1]:[Competed 5]],\"=TRUE\")","v":0}]
[null,"-","-",{"$f":"IF(C56=\"-\",0,C56)","v":0},"-",{"$f":"IF(E56=\"-\",0,E56)","v":0},"-",{"$f":"IF(G56=\"-\",0,G56)","v":0},"-",{"$f":"IF(I56=\"-\",0,I56)","v":0},"-",{"$f":"IF(K56=\"-\",0,K56)","v":0},{"$f":"Table101617[[#This Row],[School]]","v":"-"},{"$f":"D56+F56+H56+J56+L56","v":0},{"$f":"MAX(C56,E56,G56,I56,K56)","v":0},{"$f":"IF(Q56=1,N56,IF(Q56=0,(N56-O56),\"-\"))","v":"-"},{"$f":"$L$1-Table101617[Competed Count]","v":4},{"$f":"IF(Q56<2,\"Yes\",\"No\")","v":"No"},{"$f":"AND($C$1=\"Y\",D56>0)","v":false},{"$f":"AND($E$1=\"Y\",F56>0)","v":false},{"$f":"AND($G$1=\"Y\",H56>0)","v":false},{"$f":"AND($I$1=\"Y\",J56>0)","v":false},{"$f":"AND($K$1=\"Y\",L56>0)","v":false},{"$f":"COUNTIF(Table101617[[#This Row],[Competed 1]:[Competed 5]],\"=TRUE\")","v":0}]
[null,"-","-",{"$f":"IF(C57=\"-\",0,C57)","v":0},"-",{"$f":"IF(E57=\"-\",0,E57)","v":0},"-",{"$f":"IF(G57=\"-\",0,G57)","v":0},"-",{"$f":"IF(I57=\"-\",0,I57)","v":0},"-",{"$f":"IF(K57=\"-\",0,K57)","v":0},{"$f":"Table101617[[#This Row],[School]]","v":"-"},{"$f":"D57+F57+H57+J57+L57","v":0},{"$f":"MAX(C57,E57,G57,I57,K57)","v":0},{"$f":"IF(Q57=1,N57,IF(Q57=0,(N57-O57),\"-\"))","v":"-"},{"$f":"$L$1-Table101617[Competed Count]","v":4},{"$f":"IF(Q57<2,\"Yes\",\"No\")","v":"No"},{"$f":"AND($C$1=\"Y\",D57>0)","v":false},{"$f":"AND($E$1=\"Y\",F57>0)","v":false},{"$f":"AND($G$1=\"Y\",H57>0)","v":false},{"$f":"AND($I$1=\"Y\",J57>0)","v":false},{"$f":"AND($K$1=\"Y\",L57>0)","v":false},{"$f":"COUNTIF(Table101617[[#This Row],[Competed 1]:[Competed 5]],\"=TRUE\")","v":0}]
[null,"-","-",{"$f":"IF(C58=\"-\",0,C58)","v":0},"-",{"$f":"IF(E58=\"-\",0,E58)","v":0},"-",{"$f":"IF(G58=\"-\",0,G58)","v":0},"-",{"$f":"IF(I58=\"-\",0,I58)","v":0},"-",{"$f":"IF(K58=\"-\",0,K58)","v":0},{"$f":"Table101617[[#This Row],[School]]","v":"-"},{"$f":"D58+F58+H58+J58+L58","v":0},{"$f":"MAX(C58,E58,G58,I58,K58)","v":0},{"$f":"IF(Q58=1,N58,IF(Q58=0,(N58-O58),\"-\"))","v":"-"},{"$f":"$L$1-Table101617[Competed Count]","v":4},{"$f":"IF(Q58<2,\"Yes\",\"No\")","v":"No"},{"$f":"AND($C$1=\"Y\",D58>0)","v":false},{"$f":"AND($E$1=\"Y\",F58>0)","v":false},{"$f":"AND($G$1=\"Y\",H58>0)","v":false},{"$f":"AND($I$1=\"Y\",J58>0)","v":false},{"$f":"AND($K$1=\"Y\",L58>0)","v":false},{"$f":"COUNTIF(Table101617[[#This Row],[Competed 1]:[Competed 5]],\"=TRUE\")","v":0}]
[null,"-","-",{"$f":"IF(C59=\"-\",0,C59)","v":0},"-",{"$f":"IF(E59=\"-\",0,E59)","v":0},"-",{"$f":"IF(G59=\"-\",0,G59)","v":0},"-",{"$f":"IF(I59=\"-\",0,I59)","v":0},"-",{"$f":"IF(K59=\"-\",0,K59)","v":0},{"$f":"Table101617[[#This Row],[School]]","v":"-"},{"$f":"D59+F59+H59+J59+L59","v":0},{"$f":"MAX(C59,E59,G59,I59,K59)","v":0},{"$f":"IF(Q59=1,N59,IF(Q59=0,(N59-O59),\"-\"))","v":"-"},{"$f":"$L$1-Table101617[Competed Count]","v":4},{"$f":"IF(Q59<2,\"Yes\",\"No\")","v":"No"},{"$f":"AND($C$1=\"Y\",D59>0)","v":false},{"$f":"AND($E$1=\"Y\",F59>0)","v":false},{"$f":"AND($G$1=\"Y\",H59>0)","v":false},{"$f":"AND($I$1=\"Y\",J59>0)","v":false},{"$f":"AND($K$1=\"Y\",L59>0)","v":false},{"$f":"COUNTIF(Table101617[[#This Row],[Competed 1]:[Competed 5]],\"=TRUE\")","v":0}]
[null,"-","-",{"$f":"IF(C60=\"-\",0,C60)","v":0},"-",{"$f":"IF(E60=\"-\",0,E60)","v":0},"-",{"$f":"IF(G60=\"-\",0,G60)","v":0},"-",{"$f":"IF(I60=\"-\",0,I60)","v":0},"-",{"$f":"IF(K60=\"-\",0,K60)","v":0},{"$f":"Table101617[[#This Row],[School]]","v":"-"},{"$f":"D60+F60+H60+J60+L60","v":0},{"$f":"MAX(C60,E60,G60,I60,K60)","v":0},{"$f":"IF(Q60=1,N60,IF(Q60=0,(N60-O60),\"-\"))","v":"-"},{"$f":"$L$1-Table101617[Competed Count]","v":4},{"$f":"IF(Q60<2,\"Yes\",\"No\")","v":"No"},{"$f":"AND($C$1=\"Y\",D60>0)","v":false},{"$f":"AND($E$1=\"Y\",F60>0)","v":false},{"$f":"AND($G$1=\"Y\",H60>0)","v":false},{"$f":"AND($I$1=\"Y\",J60>0)","v":false},{"$f":"AND($K$1=\"Y\",L60>0)","v":false},{"$f":"COUNTIF(Table101617[[#This Row],[Competed 1]:[Competed 5]],\"=TRUE\")","v":0}]
[null,"-","-",{"$f":"IF(C61=\"-\",0,C61)","v":0},"-",{"$f":"IF(E61=\"-\",0,E61)","v":0},"-",{"$f":"IF(G61=\"-\",0,G61)","v":0},"-",{"$f":"IF(I61=\"-\",0,I61)","v":0},"-",{"$f":"IF(K61=\"-\",0,K61)","v":0},{"$f":"Table101617[[#This Row],[School]]","v":"-"},{"$f":"D61+F61+H61+J61+L61","v":0},{"$f":"MAX(C61,E61,G61,I61,K61)","v":0},{"$f":"IF(Q61=1,N61,IF(Q61=0,(N61-O61),\"-\"))","v":"-"},{"$f":"$L$1-Table101617[Competed Count]","v":4},{"$f":"IF(Q61<2,\"Yes\",\"No\")","v":"No"},{"$f":"AND($C$1=\"Y\",D61>0)","v":false},{"$f":"AND($E$1=\"Y\",F61>0)","v":false},{"$f":"AND($G$1=\"Y\",H61>0)","v":false},{"$f":"AND($I$1=\"Y\",J61>0)","v":false},{"$f":"AND($K$1=\"Y\",L61>0)","v":false},{"$f":"COUNTIF(Table101617[[#This Row],[Competed 1]:[Competed 5]],\"=TRUE\")","v":0}]
[null,"-","-",{"$f":"IF(C62=\"-\",0,C62)","v":0},"-",{"$f":"IF(E62=\"-\",0,E62)","v":0},"-",{"$f":"IF(G62=\"-\",0,G62)","v":0},"-",{"$f":"IF(I62=\"-\",0,I62)","v":0},"-",{"$f":"IF(K62=\"-\",0,K62)","v":0},{"$f":"Table101617[[#This Row],[School]]","v":"-"},{"$f":"D62+F62+H62+J62+L62","v":0},{"$f":"MAX(C62,E62,G62,I62,K62)","v":0},{"$f":"IF(Q62=1,N62,IF(Q62=0,(N62-O62),\"-\"))","v":"-"},{"$f":"$L$1-Table101617[Competed Count]","v":4},{"$f":"IF(Q62<2,\"Yes\",\"No\")","v":"No"},{"$f":"AND($C$1=\"Y\",D62>0)","v":false},{"$f":"AND($E$1=\"Y\",F62>0)","v":false},{"$f":"AND($G$1=\"Y\",H62>0)","v":false},{"$f":"AND($I$1=\"Y\",J62>0)","v":false},{"$f":"AND($K$1=\"Y\",L62>0)","v":false},{"$f":"COUNTIF(Table101617[[#This Row],[Competed 1]:[Competed 5]],\"=TRUE\")","v":0}]
[null,"-","-",{"$f":"IF(C63=\"-\",0,C63)","v":0},"-",{"$f":"IF(E63=\"-\",0,E63)","v":0},"-",{"$f":"IF(G63=\"-\",0,G63)","v":0},"-",{"$f":"IF(I63=\"-\",0,I63)","v":0},"-",{"$f":"IF(K63=\"-\",0,K63)","v":0},{"$f":"Table101617[[#This Row],[School]]","v":"-"},{"$f":"D63+F63+H63+J63+L63","v":0},{"$f":"MAX(C63,E63,G63,I63,K63)","v":0},{"$f":"IF(Q63=1,N63,IF(Q63=0,(N63-O63),\"-\"))","v":"-"},{"$f":"$L$1-Table101617[Competed Count]","v":4},{"$f":"IF(Q63<2,\"Yes\",\"No\")","v":"No"},{"$f":"AND($C$1=\"Y\",D63>0)","v":false},{"$f":"AND($E$1=\"Y\",F63>0)","v":false},{"$f":"AND($G$1=\"Y\",H63>0)","v":false},{"$f":"AND($I$1=\"Y\",J63>0)","v":false},{"$f":"AND($K$1=\"Y\",L63>0)","v":false},{"$f":"COUNTIF(Table101617[[#This Row],[Competed 1]:[Competed 5]],\"=TRUE\")","v":0}]
[null,"-","-",{"$f":"IF(C64=\"-\",0,C64)","v":0},"-",{"$f":"IF(E64=\"-\",0,E64)","v":0},"-",{"$f":"IF(G64=\"-\",0,G64)","v":0},"-",{"$f":"IF(I64=\"-\",0,I64)","v":0},"-",{"$f":"IF(K64=\"-\",0,K64)","v":0},{"$f":"Table101617[[#This Row],[School]]","v":"-"},{"$f":"D64+F64+H64+J64+L64","v":0},{"$f":"MAX(C64,E64,G64,I64,K64)","v":0},{"$f":"IF(Q64=1,N64,IF(Q64=0,(N64-O64),\"-\"))","v":"-"},{"$f":"$L$1-Table101617[Competed Count]","v":4},{"$f":"IF(Q64<2,\"Yes\",\"No\")","v":"No"},{"$f":"AND($C$1=\"Y\",D64>0)","v":false},{"$f":"AND($E$1=\"Y\",F64>0)","v":false},{"$f":"AND($G$1=\"Y\",H64>0)","v":false},{"$f":"AND($I$1=\"Y\",J64>0)","v":false},{"$f":"AND($K$1=\"Y\",L64>0)","v":false},{"$f":"COUNTIF(Table101617[[#This Row],[Competed 1]:[Competed 5]],\"=TRUE\")","v":0}]
[null,"-","-",{"$f":"IF(C65=\"-\",0,C65)","v":0},"-",{"$f":"IF(E65=\"-\",0,E65)","v":0},"-",{"$f":"IF(G65=\"-\",0,G65)","v":0},"-",{"$f":"IF(I65=\"-\",0,I65)","v":0},"-",{"$f":"IF(K65=\"-\",0,K65)","v":0},{"$f":"Table101617[[#This Row],[School]]","v":"-"},{"$f":"D65+F65+H65+J65+L65","v":0},{"$f":"MAX(C65,E65,G65,I65,K65)","v":0},{"$f":"IF(Q65=1,N65,IF(Q65=0,(N65-O65),\"-\"))","v":"-"},{"$f":"$L$1-Table101617[Competed Count]","v":4},{"$f":"IF(Q65<2,\"Yes\",\"No\")","v":"No"},{"$f":"AND($C$1=\"Y\",D65>0)","v":false},{"$f":"AND($E$1=\"Y\",F65>0)","v":false},{"$f":"AND($G$1=\"Y\",H65>0)","v":false},{"$f":"AND($I$1=\"Y\",J65>0)","v":false},{"$f":"AND($K$1=\"Y\",L65>0)","v":false},{"$f":"COUNTIF(Table101617[[#This Row],[Competed 1]:[Competed 5]],\"=TRUE\")","v":0}]
[null,"-","-",{"$f":"IF(C66=\"-\",0,C66)","v":0},"-",{"$f":"IF(E66=\"-\",0,E66)","v":0},"-",{"$f":"IF(G66=\"-\",0,G66)","v":0},"-",{"$f":"IF(I66=\"-\",0,I66)","v":0},"-",{"$f":"IF(K66=\"-\",0,K66)","v":0},{"$f":"Table101617[[#This Row],[School]]","v":"-"},{"$f":"D66+F66+H66+J66+L66","v":0},{"$f":"MAX(C66,E66,G66,I66,K66)","v":0},{"$f":"IF(Q66=1,N66,IF(Q66=0,(N66-O66),\"-\"))","v":"-"},{"$f":"$L$1-Table101617[Competed Count]","v":4},{"$f":"IF(Q66<2,\"Yes\",\"No\")","v":"No"},{"$f":"AND($C$1=\"Y\",D66>0)","v":false},{"$f":"AND($E$1=\"Y\",F66>0)","v":false},{"$f":"AND($G$1=\"Y\",H66>0)","v":false},{"$f":"AND($I$1=\"Y\",J66>0)","v":false},{"$f":"AND($K$1=\"Y\",L66>0)","v":false},{"$f":"COUNTIF(Table101617[[#This Row],[Competed 1]:[Competed 5]],\"=TRUE\")","v":0}]
[null,"-","-",{"$f":"IF(C67=\"-\",0,C67)","v":0},"-",{"$f":"IF(E67=\"-\",0,E67)","v":0},"-",{"$f":"IF(G67=\"-\",0,G67)","v":0},"-",{"$f":"IF(I67=\"-\",0,I67)","v":0},"-",{"$f":"IF(K67=\"-\",0,K67)","v":0},{"$f":"Table101617[[#This Row],[School]]","v":"-"},{"$f":"D67+F67+H67+J67+L67","v":0},{"$f":"MAX(C67,E67,G67,I67,K67)","v":0},{"$f":"IF(Q67=1,N67,IF(Q67=0,(N67-O67),\"-\"))","v":"-"},{"$f":"$L$1-Table101617[Competed Count]","v":4},{"$f":"IF(Q67<2,\"Yes\",\"No\")","v":"No"},{"$f":"AND($C$1=\"Y\",D67>0)","v":false},{"$f":"AND($E$1=\"Y\",F67>0)","v":false},{"$f":"AND($G$1=\"Y\",H67>0)","v":false},{"$f":"AND($I$1=\"Y\",J67>0)","v":false},{"$f":"AND($K$1=\"Y\",L67>0)","v":false},{"$f":"COUNTIF(Table101617[[#This Row],[Competed 1]:[Competed 5]],\"=TRUE\")","v":0}]
[null,"-","-",{"$f":"IF(C68=\"-\",0,C68)","v":0},"-",{"$f":"IF(E68=\"-\",0,E68)","v":0},"-",{"$f":"IF(G68=\"-\",0,G68)","v":0},"-",{"$f":"IF(I68=\"-\",0,I68)","v":0},"-",{"$f":"IF(K68=\"-\",0,K68)","v":0},{"$f":"Table101617[[#This Row],[School]]","v":"-"},{"$f":"D68+F68+H68+J68+L68","v":0},{"$f":"MAX(C68,E68,G68,I68,K68)","v":0},{"$f":"IF(Q68=1,N68,IF(Q68=0,(N68-O68),\"-\"))","v":"-"},{"$f":"$L$1-Table101617[Competed Count]","v":4},{"$f":"IF(Q68<2,\"Yes\",\"No\")","v":"No"},{"$f":"AND($C$1=\"Y\",D68>0)","v":false},{"$f":"AND($E$1=\"Y\",F68>0)","v":false},{"$f":"AND($G$1=\"Y\",H68>0)","v":false},{"$f":"AND($I$1=\"Y\",J68>0)","v":false},{"$f":"AND($K$1=\"Y\",L68>0)","v":false},{"$f":"COUNTIF(Table101617[[#This Row],[Competed 1]:[Competed 5]],\"=TRUE\")","v":0}]
[null,"-","-",{"$f":"IF(C69=\"-\",0,C69)","v":0},"-",{"$f":"IF(E69=\"-\",0,E69)","v":0},"-",{"$f":"IF(G69=\"-\",0,G69)","v":0},"-",{"$f":"IF(I69=\"-\",0,I69)","v":0},"-",{"$f":"IF(K69=\"-\",0,K69)","v":0},{"$f":"Table101617[[#This Row],[School]]","v":"-"},{"$f":"D69+F69+H69+J69+L69","v":0},{"$f":"MAX(C69,E69,G69,I69,K69)","v":0},{"$f":"IF(Q69=1,N69,IF(Q69=0,(N69-O69),\"-\"))","v":"-"},{"$f":"$L$1-Table101617[Competed Count]","v":4},{"$f":"IF(Q69<2,\"Yes\",\"No\")","v":"No"},{"$f":"AND($C$1=\"Y\",D69>0)","v":false},{"$f":"AND($E$1=\"Y\",F69>0)","v":false},{"$f":"AND($G$1=\"Y\",H69>0)","v":false},{"$f":"AND($I$1=\"Y\",J69>0)","v":false},{"$f":"AND($K$1=\"Y\",L69>0)","v":false},{"$f":"COUNTIF(Table101617[[#This Row],[Competed 1]:[Competed 5]],\"=TRUE\")","v":0}]
[null,"-","-",{"$f":"IF(C70=\"-\",0,C70)","v":0},"-",{"$f":"IF(E70=\"-\",0,E70)","v":0},"-",{"$f":"IF(G70=\"-\",0,G70)","v":0},"-",{"$f":"IF(I70=\"-\",0,I70)","v":0},"-",{"$f":"IF(K70=\"-\",0,K70)","v":0},{"$f":"Table101617[[#This Row],[School]]","v":"-"},{"$f":"D70+F70+H70+J70+L70","v":0},{"$f":"MAX(C70,E70,G70,I70,K70)","v":0},{"$f":"IF(Q70=1,N70,IF(Q70=0,(N70-O70),\"-\"))","v":"-"},{"$f":"$L$1-Table101617[Competed Count]","v":4},{"$f":"IF(Q70<2,\"Yes\",\"No\")","v":"No"},{"$f":"AND($C$1=\"Y\",D70>0)","v":false},{"$f":"AND($E$1=\"Y\",F70>0)","v":false},{"$f":"AND($G$1=\"Y\",H70>0)","v":false},{"$f":"AND($I$1=\"Y\",J70>0)","v":false},{"$f":"AND($K$1=\"Y\",L70>0)","v":false},{"$f":"COUNTIF(Table101617[[#This Row],[Competed 1]:[Competed 5]],\"=TRUE\")","v":0}]
[null,"-","-",{"$f":"IF(C71=\"-\",0,C71)","v":0},"-",{"$f":"IF(E71=\"-\",0,E71)","v":0},"-",{"$f":"IF(G71=\"-\",0,G71)","v":0},"-",{"$f":"IF(I71=\"-\",0,I71)","v":0},"-",{"$f":"IF(K71=\"-\",0,K71)","v":0},{"$f":"Table101617[[#This Row],[School]]","v":"-"},{"$f":"D71+F71+H71+J71+L71","v":0},{"$f":"MAX(C71,E71,G71,I71,K71)","v":0},{"$f":"IF(Q71=1,N71,IF(Q71=0,(N71-O71),\"-\"))","v":"-"},{"$f":"$L$1-Table101617[Competed Count]","v":4},{"$f":"IF(Q71<2,\"Yes\",\"No\")","v":"No"},{"$f":"AND($C$1=\"Y\",D71>0)","v":false},{"$f":"AND($E$1=\"Y\",F71>0)","v":false},{"$f":"AND($G$1=\"Y\",H71>0)","v":false},{"$f":"AND($I$1=\"Y\",J71>0)","v":false},{"$f":"AND($K$1=\"Y\",L71>0)","v":false},{"$f":"COUNTIF(Table101617[[#This Row],[Competed 1]:[Competed 5]],\"=TRUE\")","v":0}]
[null,"-","-",{"$f":"IF(C72=\"-\",0,C72)","v":0},"-",{"$f":"IF(E72=\"-\",0,E72)","v":0},"-",{"$f":"IF(G72=\"-\",0,G72)","v":0},"-",{"$f":"IF(I72=\"-\",0,I72)","v":0},"-",{"$f":"IF(K72=\"-\",0,K72)","v":0},{"$f":"Table101617[[#This Row],[School]]","v":"-"},{"$f":"D72+F72+H72+J72+L72","v":0},{"$f":"MAX(C72,E72,G72,I72,K72)","v":0},{"$f":"IF(Q72=1,N72,IF(Q72=0,(N72-O72),\"-\"))","v":"-"},{"$f":"$L$1-Table101617[Competed Count]","v":4},{"$f":"IF(Q72<2,\"Yes\",\"No\")","v":"No"},{"$f":"AND($C$1=\"Y\",D72>0)","v":false},{"$f":"AND($E$1=\"Y\",F72>0)","v":false},{"$f":"AND($G$1=\"Y\",H72>0)","v":false},{"$f":"AND($I$1=\"Y\",J72>0)","v":false},{"$f":"AND($K$1=\"Y\",L72>0)","v":false},{"$f":"COUNTIF(Table101617[[#This Row],[Competed 1]:[Competed 5]],\"=TRUE\")","v":0}]
[null,"-","-",{"$f":"IF(C73=\"-\",0,C73)","v":0},"-",{"$f":"IF(E73=\"-\",0,E73)","v":0},"-",{"$f":"IF(G73=\"-\",0,G73)","v":0},"-",{"$f":"IF(I73=\"-\",0,I73)","v":0},"-",{"$f":"IF(K73=\"-\",0,K73)","v":0},{"$f":"Table101617[[#This Row],[School]]","v":"-"},{"$f":"D73+F73+H73+J73+L73","v":0},{"$f":"MAX(C73,E73,G73,I73,K73)","v":0},{"$f":"IF(Q73=1,N73,IF(Q73=0,(N73-O73),\"-\"))","v":"-"},{"$f":"$L$1-Table101617[Competed Count]","v":4},{"$f":"IF(Q73<2,\"Yes\",\"No\")","v":"No"},{"$f":"AND($C$1=\"Y\",D73>0)","v":false},{"$f":"AND($E$1=\"Y\",F73>0)","v":false},{"$f":"AND($G$1=\"Y\",H73>0)","v":false},{"$f":"AND($I$1=\"Y\",J73>0)","v":false},{"$f":"AND($K$1=\"Y\",L73>0)","v":false},{"$f":"COUNTIF(Table101617[[#This Row],[Competed 1]:[Competed 5]],\"=TRUE\")","v":0}]
[null,"-","-",{"$f":"IF(C74=\"-\",0,C74)","v":0},"-",{"$f":"IF(E74=\"-\",0,E74)","v":0},"-",{"$f":"IF(G74=\"-\",0,G74)","v":0},"-",{"$f":"IF(I74=\"-\",0,I74)","v":0},"-",{"$f":"IF(K74=\"-\",0,K74)","v":0},{"$f":"Table101617[[#This Row],[School]]","v":"-"},{"$f":"D74+F74+H74+J74+L74","v":0},{"$f":"MAX(C74,E74,G74,I74,K74)","v":0},{"$f":"IF(Q74=1,N74,IF(Q74=0,(N74-O74),\"-\"))","v":"-"},{"$f":"$L$1-Table101617[Competed Count]","v":4},{"$f":"IF(Q74<2,\"Yes\",\"No\")","v":"No"},{"$f":"AND($C$1=\"Y\",D74>0)","v":false},{"$f":"AND($E$1=\"Y\",F74>0)","v":false},{"$f":"AND($G$1=\"Y\",H74>0)","v":false},{"$f":"AND($I$1=\"Y\",J74>0)","v":false},{"$f":"AND($K$1=\"Y\",L74>0)","v":false},{"$f":"COUNTIF(Table101617[[#This Row],[Competed 1]:[Competed 5]],\"=TRUE\")","v":0}]
[null,"-","-",{"$f":"IF(C75=\"-\",0,C75)","v":0},"-",{"$f":"IF(E75=\"-\",0,E75)","v":0},"-",{"$f":"IF(G75=\"-\",0,G75)","v":0},"-",{"$f":"IF(I75=\"-\",0,I75)","v":0},"-",{"$f":"IF(K75=\"-\",0,K75)","v":0},{"$f":"Table101617[[#This Row],[School]]","v":"-"},{"$f":"D75+F75+H75+J75+L75","v":0},{"$f":"MAX(C75,E75,G75,I75,K75)","v":0},{"$f":"IF(Q75=1,N75,IF(Q75=0,(N75-O75),\"-\"))","v":"-"},{"$f":"$L$1-Table101617[Competed Count]","v":4},{"$f":"IF(Q75<2,\"Yes\",\"No\")","v":"No"},{"$f":"AND($C$1=\"Y\",D75>0)","v":false},{"$f":"AND($E$1=\"Y\",F75>0)","v":false},{"$f":"AND($G$1=\"Y\",H75>0)","v":false},{"$f":"AND($I$1=\"Y\",J75>0)","v":false},{"$f":"AND($K$1=\"Y\",L75>0)","v":false},{"$f":"COUNTIF(Table101617[[#This Row],[Competed 1]:[Competed 5]],\"=TRUE\")","v":0}]
[null,"-","-",{"$f":"IF(C76=\"-\",0,C76)","v":0},"-",{"$f":"IF(E76=\"-\",0,E76)","v":0},"-",{"$f":"IF(G76=\"-\",0,G76)","v":0},"-",{"$f":"IF(I76=\"-\",0,I76)","v":0},"-",{"$f":"IF(K76=\"-\",0,K76)","v":0},{"$f":"Table101617[[#This Row],[School]]","v":"-"},{"$f":"D76+F76+H76+J76+L76","v":0},{"$f":"MAX(C76,E76,G76,I76,K76)","v":0},{"$f":"IF(Q76=1,N76,IF(Q76=0,(N76-O76),\"-\"))","v":"-"},{"$f":"$L$1-Table101617[Competed Count]","v":4},{"$f":"IF(Q76<2,\"Yes\",\"No\")","v":"No"},{"$f":"AND($C$1=\"Y\",D76>0)","v":false},{"$f":"AND($E$1=\"Y\",F76>0)","v":false},{"$f":"AND($G$1=\"Y\",H76>0)","v":false},{"$f":"AND($I$1=\"Y\",J76>0)","v":false},{"$f":"AND($K$1=\"Y\",L76>0)","v":false},{"$f":"COUNTIF(Table101617[[#This Row],[Competed 1]:[Competed 5]],\"=TRUE\")","v":0}]
[null,"-","-",{"$f":"IF(C77=\"-\",0,C77)","v":0},"-",{"$f":"IF(E77=\"-\",0,E77)","v":0},"-",{"$f":"IF(G77=\"-\",0,G77)","v":0},"-",{"$f":"IF(I77=\"-\",0,I77)","v":0},"-",{"$f":"IF(K77=\"-\",0,K77)","v":0},{"$f":"Table101617[[#This Row],[School]]","v":"-"},{"$f":"D77+F77+H77+J77+L77","v":0},{"$f":"MAX(C77,E77,G77,I77,K77)","v":0},{"$f":"IF(Q77=1,N77,IF(Q77=0,(N77-O77),\"-\"))","v":"-"},{"$f":"$L$1-Table101617[Competed Count]","v":4},{"$f":"IF(Q77<2,\"Yes\",\"No\")","v":"No"},{"$f":"AND($C$1=\"Y\",D77>0)","v":false},{"$f":"AND($E$1=\"Y\",F77>0)","v":false},{"$f":"AND($G$1=\"Y\",H77>0)","v":false},{"$f":"AND($I$1=\"Y\",J77>0)","v":false},{"$f":"AND($K$1=\"Y\",L77>0)","v":false},{"$f":"COUNTIF(Table101617[[#This Row],[Competed 1]:[Competed 5]],\"=TRUE\")","v":0}]
[null,"-","-",{"$f":"IF(C78=\"-\",0,C78)","v":0},"-",{"$f":"IF(E78=\"-\",0,E78)","v":0},"-",{"$f":"IF(G78=\"-\",0,G78)","v":0},"-",{"$f":"IF(I78=\"-\",0,I78)","v":0},"-",{"$f":"IF(K78=\"-\",0,K78)","v":0},{"$f":"Table101617[[#This Row],[School]]","v":"-"},{"$f":"D78+F78+H78+J78+L78","v":0},{"$f":"MAX(C78,E78,G78,I78,K78)","v":0},{"$f":"IF(Q78=1,N78,IF(Q78=0,(N78-O78),\"-\"))","v":"-"},{"$f":"$L$1-Table101617[Competed Count]","v":4},{"$f":"IF(Q78<2,\"Yes\",\"No\")","v":"No"},{"$f":"AND($C$1=\"Y\",D78>0)","v":false},{"$f":"AND($E$1=\"Y\",F78>0)","v":false},{"$f":"AND($G$1=\"Y\",H78>0)","v":false},{"$f":"AND($I$1=\"Y\",J78>0)","v":false},{"$f":"AND($K$1=\"Y\",L78>0)","v":false},{"$f":"COUNTIF(Table101617[[#This Row],[Competed 1]:[Competed 5]],\"=TRUE\")","v":0}]
[null,"-","-",{"$f":"IF(C79=\"-\",0,C79)","v":0},"-",{"$f":"IF(E79=\"-\",0,E79)","v":0},"-",{"$f":"IF(G79=\"-\",0,G79)","v":0},"-",{"$f":"IF(I79=\"-\",0,I79)","v":0},"-",{"$f":"IF(K79=\"-\",0,K79)","v":0},{"$f":"Table101617[[#This Row],[School]]","v":"-"},{"$f":"D79+F79+H79+J79+L79","v":0},{"$f":"MAX(C79,E79,G79,I79,K79)","v":0},{"$f":"IF(Q79=1,N79,IF(Q79=0,(N79-O79),\"-\"))","v":"-"},{"$f":"$L$1-Table101617[Competed Count]","v":4},{"$f":"IF(Q79<2,\"Yes\",\"No\")","v":"No"},{"$f":"AND($C$1=\"Y\",D79>0)","v":false},{"$f":"AND($E$1=\"Y\",F79>0)","v":false},{"$f":"AND($G$1=\"Y\",H79>0)","v":false},{"$f":"AND($I$1=\"Y\",J79>0)","v":false},{"$f":"AND($K$1=\"Y\",L79>0)","v":false},{"$f":"COUNTIF(Table101617[[#This Row],[Competed 1]:[Competed 5]],\"=TRUE\")","v":0}]
[null,"-","-",{"$f":"IF(C80=\"-\",0,C80)","v":0},"-",{"$f":"IF(E80=\"-\",0,E80)","v":0},"-",{"$f":"IF(G80=\"-\",0,G80)","v":0},"-",{"$f":"IF(I80=\"-\",0,I80)","v":0},"-",{"$f":"IF(K80=\"-\",0,K80)","v":0},{"$f":"Table101617[[#This Row],[School]]","v":"-"},{"$f":"D80+F80+H80+J80+L80","v":0},{"$f":"MAX(C80,E80,G80,I80,K80)","v":0},{"$f":"IF(Q80=1,N80,IF(Q80=0,(N80-O80),\"-\"))","v":"-"},{"$f":"$L$1-Table101617[Competed Count]","v":4},{"$f":"IF(Q80<2,\"Yes\",\"No\")","v":"No"},{"$f":"AND($C$1=\"Y\",D80>0)","v":false},{"$f":"AND($E$1=\"Y\",F80>0)","v":false},{"$f":"AND($G$1=\"Y\",H80>0)","v":false},{"$f":"AND($I$1=\"Y\",J80>0)","v":false},{"$f":"AND($K$1=\"Y\",L80>0)","v":false},{"$f":"COUNTIF(Table101617[[#This Row],[Competed 1]:[Competed 5]],\"=TRUE\")","v":0}]
[null,"-","-",{"$f":"IF(C81=\"-\",0,C81)","v":0},"-",{"$f":"IF(E81=\"-\",0,E81)","v":0},"-",{"$f":"IF(G81=\"-\",0,G81)","v":0},"-",{"$f":"IF(I81=\"-\",0,I81)","v":0},"-",{"$f":"IF(K81=\"-\",0,K81)","v":0},{"$f":"Table101617[[#This Row],[School]]","v":"-"},{"$f":"D81+F81+H81+J81+L81","v":0},{"$f":"MAX(C81,E81,G81,I81,K81)","v":0},{"$f":"IF(Q81=1,N81,IF(Q81=0,(N81-O81),\"-\"))","v":"-"},{"$f":"$L$1-Table101617[Competed Count]","v":4},{"$f":"IF(Q81<2,\"Yes\",\"No\")","v":"No"},{"$f":"AND($C$1=\"Y\",D81>0)","v":false},{"$f":"AND($E$1=\"Y\",F81>0)","v":false},{"$f":"AND($G$1=\"Y\",H81>0)","v":false},{"$f":"AND($I$1=\"Y\",J81>0)","v":false},{"$f":"AND($K$1=\"Y\",L81>0)","v":false},{"$f":"COUNTIF(Table101617[[#This Row],[Competed 1]:[Competed 5]],\"=TRUE\")","v":0}]
[null,"-","-",{"$f":"IF(C82=\"-\",0,C82)","v":0},"-",{"$f":"IF(E82=\"-\",0,E82)","v":0},"-",{"$f":"IF(G82=\"-\",0,G82)","v":0},"-",{"$f":"IF(I82=\"-\",0,I82)","v":0},"-",{"$f":"IF(K82=\"-\",0,K82)","v":0},{"$f":"Table101617[[#This Row],[School]]","v":"-"},{"$f":"D82+F82+H82+J82+L82","v":0},{"$f":"MAX(C82,E82,G82,I82,K82)","v":0},{"$f":"IF(Q82=1,N82,IF(Q82=0,(N82-O82),\"-\"))","v":"-"},{"$f":"$L$1-Table101617[Competed Count]","v":4},{"$f":"IF(Q82<2,\"Yes\",\"No\")","v":"No"},{"$f":"AND($C$1=\"Y\",D82>0)","v":false},{"$f":"AND($E$1=\"Y\",F82>0)","v":false},{"$f":"AND($G$1=\"Y\",H82>0)","v":false},{"$f":"AND($I$1=\"Y\",J82>0)","v":false},{"$f":"AND($K$1=\"Y\",L82>0)","v":false},{"$f":"COUNTIF(Table101617[[#This Row],[Competed 1]:[Competed 5]],\"=TRUE\")","v":0}]
[null,"-","-",{"$f":"IF(C83=\"-\",0,C83)","v":0},"-",{"$f":"IF(E83=\"-\",0,E83)","v":0},"-",{"$f":"IF(G83=\"-\",0,G83)","v":0},"-",{"$f":"IF(I83=\"-\",0,I83)","v":0},"-",{"$f":"IF(K83=\"-\",0,K83)","v":0},{"$f":"Table101617[[#This Row],[School]]","v":"-"},{"$f":"D83+F83+H83+J83+L83","v":0},{"$f":"MAX(C83,E83,G83,I83,K83)","v":0},{"$f":"IF(Q83=1,N83,IF(Q83=0,(N83-O83),\"-\"))","v":"-"},{"$f":"$L$1-Table101617[Competed Count]","v":4},{"$f":"IF(Q83<2,\"Yes\",\"No\")","v":"No"},{"$f":"AND($C$1=\"Y\",D83>0)","v":false},{"$f":"AND($E$1=\"Y\",F83>0)","v":false},{"$f":"AND($G$1=\"Y\",H83>0)","v":false},{"$f":"AND($I$1=\"Y\",J83>0)","v":false},{"$f":"AND($K$1=\"Y\",L83>0)","v":false},{"$f":"COUNTIF(Table101617[[#This Row],[Competed 1]:[Competed 5]],\"=TRUE\")","v":0}]
[null,"-","-",{"$f":"IF(C84=\"-\",0,C84)","v":0},"-",{"$f":"IF(E84=\"-\",0,E84)","v":0},"-",{"$f":"IF(G84=\"-\",0,G84)","v":0},"-",{"$f":"IF(I84=\"-\",0,I84)","v":0},"-",{"$f":"IF(K84=\"-\",0,K84)","v":0},{"$f":"Table101617[[#This Row],[School]]","v":"-"},{"$f":"D84+F84+H84+J84+L84","v":0},{"$f":"MAX(C84,E84,G84,I84,K84)","v":0},{"$f":"IF(Q84=1,N84,IF(Q84=0,(N84-O84),\"-\"))","v":"-"},{"$f":"$L$1-Table101617[Competed Count]","v":4},{"$f":"IF(Q84<2,\"Yes\",\"No\")","v":"No"},{"$f":"AND($C$1=\"Y\",D84>0)","v":false},{"$f":"AND($E$1=\"Y\",F84>0)","v":false},{"$f":"AND($G$1=\"Y\",H84>0)","v":false},{"$f":"AND($I$1=\"Y\",J84>0)","v":false},{"$f":"AND($K$1=\"Y\",L84>0)","v":false},{"$f":"COUNTIF(Table101617[[#This Row],[Competed 1]:[Competed 5]],\"=TRUE\")","v":0}]
[null,"-","-",{"$f":"IF(C85=\"-\",0,C85)","v":0},"-",{"$f":"IF(E85=\"-\",0,E85)","v":0},"-",{"$f":"IF(G85=\"-\",0,G85)","v":0},"-",{"$f":"IF(I85=\"-\",0,I85)","v":0},"-",{"$f":"IF(K85=\"-\",0,K85)","v":0},{"$f":"Table101617[[#This Row],[School]]","v":"-"},{"$f":"D85+F85+H85+J85+L85","v":0},{"$f":"MAX(C85,E85,G85,I85,K85)","v":0},{"$f":"IF(Q85=1,N85,IF(Q85=0,(N85-O85),\"-\"))","v":"-"},{"$f":"$L$1-Table101617[Competed Count]","v":4},{"$f":"IF(Q85<2,\"Yes\",\"No\")","v":"No"},{"$f":"AND($C$1=\"Y\",D85>0)","v":false},{"$f":"AND($E$1=\"Y\",F85>0)","v":false},{"$f":"AND($G$1=\"Y\",H85>0)","v":false},{"$f":"AND($I$1=\"Y\",J85>0)","v":false},{"$f":"AND($K$1=\"Y\",L85>0)","v":false},{"$f":"COUNTIF(Table101617[[#This Row],[Competed 1]:[Competed 5]],\"=TRUE\")","v":0}]
[null,"-","-",{"$f":"IF(C86=\"-\",0,C86)","v":0},"-",{"$f":"IF(E86=\"-\",0,E86)","v":0},"-",{"$f":"IF(G86=\"-\",0,G86)","v":0},"-",{"$f":"IF(I86=\"-\",0,I86)","v":0},"-",{"$f":"IF(K86=\"-\",0,K86)","v":0},{"$f":"Table101617[[#This Row],[School]]","v":"-"},{"$f":"D86+F86+H86+J86+L86","v":0},{"$f":"MAX(C86,E86,G86,I86,K86)","v":0},{"$f":"IF(Q86=1,N86,IF(Q86=0,(N86-O86),\"-\"))","v":"-"},{"$f":"$L$1-Table101617[Competed Count]","v":4},{"$f":"IF(Q86<2,\"Yes\",\"No\")","v":"No"},{"$f":"AND($C$1=\"Y\",D86>0)","v":false},{"$f":"AND($E$1=\"Y\",F86>0)","v":false},{"$f":"AND($G$1=\"Y\",H86>0)","v":false},{"$f":"AND($I$1=\"Y\",J86>0)","v":false},{"$f":"AND($K$1=\"Y\",L86>0)","v":false},{"$f":"COUNTIF(Table101617[[#This Row],[Competed 1]:[Competed 5]],\"=TRUE\")","v":0}]
[null,"-","-",{"$f":"IF(C87=\"-\",0,C87)","v":0},"-",{"$f":"IF(E87=\"-\",0,E87)","v":0},"-",{"$f":"IF(G87=\"-\",0,G87)","v":0},"-",{"$f":"IF(I87=\"-\",0,I87)","v":0},"-",{"$f":"IF(K87=\"-\",0,K87)","v":0},{"$f":"Table101617[[#This Row],[School]]","v":"-"},{"$f":"D87+F87+H87+J87+L87","v":0},{"$f":"MAX(C87,E87,G87,I87,K87)","v":0},{"$f":"IF(Q87=1,N87,IF(Q87=0,(N87-O87),\"-\"))","v":"-"},{"$f":"$L$1-Table101617[Competed Count]","v":4},{"$f":"IF(Q87<2,\"Yes\",\"No\")","v":"No"},{"$f":"AND($C$1=\"Y\",D87>0)","v":false},{"$f":"AND($E$1=\"Y\",F87>0)","v":false},{"$f":"AND($G$1=\"Y\",H87>0)","v":false},{"$f":"AND($I$1=\"Y\",J87>0)","v":false},{"$f":"AND($K$1=\"Y\",L87>0)","v":false},{"$f":"COUNTIF(Table101617[[#This Row],[Competed 1]:[Competed 5]],\"=TRUE\")","v":0}]
[null,"-","-",{"$f":"IF(C88=\"-\",0,C88)","v":0},"-",{"$f":"IF(E88=\"-\",0,E88)","v":0},"-",{"$f":"IF(G88=\"-\",0,G88)","v":0},"-",{"$f":"IF(I88=\"-\",0,I88)","v":0},"-",{"$f":"IF(K88=\"-\",0,K88)","v":0},{"$f":"Table101617[[#This Row],[School]]","v":"-"},{"$f":"D88+F88+H88+J88+L88","v":0},{"$f":"MAX(C88,E88,G88,I88,K88)","v":0},{"$f":"IF(Q88=1,N88,IF(Q88=0,(N88-O88),\"-\"))","v":"-"},{"$f":"$L$1-Table101617[Competed Count]","v":4},{"$f":"IF(Q88<2,\"Yes\",\"No\")","v":"No"},{"$f":"AND($C$1=\"Y\",D88>0)","v":false},{"$f":"AND($E$1=\"Y\",F88>0)","v":false},{"$f":"AND($G$1=\"Y\",H88>0)","v":false},{"$f":"AND($I$1=\"Y\",J88>0)","v":false},{"$f":"AND($K$1=\"Y\",L88>0)","v":false},{"$f":"COUNTIF(Table101617[[#This Row],[Competed 1]:[Competed 5]],\"=TRUE\")","v":0}]
[null,"-","-",{"$f":"IF(C89=\"-\",0,C89)","v":0},"-",{"$f":"IF(E89=\"-\",0,E89)","v":0},"-",{"$f":"IF(G89=\"-\",0,G89)","v":0},"-",{"$f":"IF(I89=\"-\",0,I89)","v":0},"-",{"$f":"IF(K89=\"-\",0,K89)","v":0},{"$f":"Table101617[[#This Row],[School]]","v":"-"},{"$f":"D89+F89+H89+J89+L89","v":0},{"$f":"MAX(C89,E89,G89,I89,K89)","v":0},{"$f":"IF(Q89=1,N89,IF(Q89=0,(N89-O89),\"-\"))","v":"-"},{"$f":"$L$1-Table101617[Competed Count]","v":4},{"$f":"IF(Q89<2,\"Yes\",\"No\")","v":"No"},{"$f":"AND($C$1=\"Y\",D89>0)","v":false},{"$f":"AND($E$1=\"Y\",F89>0)","v":false},{"$f":"AND($G$1=\"Y\",H89>0)","v":false},{"$f":"AND($I$1=\"Y\",J89>0)","v":false},{"$f":"AND($K$1=\"Y\",L89>0)","v":false},{"$f":"COUNTIF(Table101617[[#This Row],[Competed 1]:[Competed 5]],\"=TRUE\")","v":0}]
[null,"-","-",{"$f":"IF(C90=\"-\",0,C90)","v":0},"-",{"$f":"IF(E90=\"-\",0,E90)","v":0},"-",{"$f":"IF(G90=\"-\",0,G90)","v":0},"-",{"$f":"IF(I90=\"-\",0,I90)","v":0},"-",{"$f":"IF(K90=\"-\",0,K90)","v":0},{"$f":"Table101617[[#This Row],[School]]","v":"-"},{"$f":"D90+F90+H90+J90+L90","v":0},{"$f":"MAX(C90,E90,G90,I90,K90)","v":0},{"$f":"IF(Q90=1,N90,IF(Q90=0,(N90-O90),\"-\"))","v":"-"},{"$f":"$L$1-Table101617[Competed Count]","v":4},{"$f":"IF(Q90<2,\"Yes\",\"No\")","v":"No"},{"$f":"AND($C$1=\"Y\",D90>0)","v":false},{"$f":"AND($E$1=\"Y\",F90>0)","v":false},{"$f":"AND($G$1=\"Y\",H90>0)","v":false},{"$f":"AND($I$1=\"Y\",J90>0)","v":false},{"$f":"AND($K$1=\"Y\",L90>0)","v":false},{"$f":"COUNTIF(Table101617[[#This Row],[Competed 1]:[Competed 5]],\"=TRUE\")","v":0}]
[null,"-","-",{"$f":"IF(C91=\"-\",0,C91)","v":0},"-",{"$f":"IF(E91=\"-\",0,E91)","v":0},"-",{"$f":"IF(G91=\"-\",0,G91)","v":0},"-",{"$f":"IF(I91=\"-\",0,I91)","v":0},"-",{"$f":"IF(K91=\"-\",0,K91)","v":0},{"$f":"Table101617[[#This Row],[School]]","v":"-"},{"$f":"D91+F91+H91+J91+L91","v":0},{"$f":"MAX(C91,E91,G91,I91,K91)","v":0},{"$f":"IF(Q91=1,N91,IF(Q91=0,(N91-O91),\"-\"))","v":"-"},{"$f":"$L$1-Table101617[Competed Count]","v":4},{"$f":"IF(Q91<2,\"Yes\",\"No\")","v":"No"},{"$f":"AND($C$1=\"Y\",D91>0)","v":false},{"$f":"AND($E$1=\"Y\",F91>0)","v":false},{"$f":"AND($G$1=\"Y\",H91>0)","v":false},{"$f":"AND($I$1=\"Y\",J91>0)","v":false},{"$f":"AND($K$1=\"Y\",L91>0)","v":false},{"$f":"COUNTIF(Table101617[[#This Row],[Competed 1]:[Competed 5]],\"=TRUE\")","v":0}]
[null,"-","-",{"$f":"IF(C92=\"-\",0,C92)","v":0},"-",{"$f":"IF(E92=\"-\",0,E92)","v":0},"-",{"$f":"IF(G92=\"-\",0,G92)","v":0},"-",{"$f":"IF(I92=\"-\",0,I92)","v":0},"-",{"$f":"IF(K92=\"-\",0,K92)","v":0},{"$f":"Table101617[[#This Row],[School]]","v":"-"},{"$f":"D92+F92+H92+J92+L92","v":0},{"$f":"MAX(C92,E92,G92,I92,K92)","v":0},{"$f":"IF(Q92=1,N92,IF(Q92=0,(N92-O92),\"-\"))","v":"-"},{"$f":"$L$1-Table101617[Competed Count]","v":4},{"$f":"IF(Q92<2,\"Yes\",\"No\")","v":"No"},{"$f":"AND($C$1=\"Y\",D92>0)","v":false},{"$f":"AND($E$1=\"Y\",F92>0)","v":false},{"$f":"AND($G$1=\"Y\",H92>0)","v":false},{"$f":"AND($I$1=\"Y\",J92>0)","v":false},{"$f":"AND($K$1=\"Y\",L92>0)","v":false},{"$f":"COUNTIF(Table101617[[#This Row],[Competed 1]:[Competed 5]],\"=TRUE\")","v":0}]
[null,"-","-",{"$f":"IF(C93=\"-\",0,C93)","v":0},"-",{"$f":"IF(E93=\"-\",0,E93)","v":0},"-",{"$f":"IF(G93=\"-\",0,G93)","v":0},"-",{"$f":"IF(I93=\"-\",0,I93)","v":0},"-",{"$f":"IF(K93=\"-\",0,K93)","v":0},{"$f":"Table101617[[#This Row],[School]]","v":"-"},{"$f":"D93+F93+H93+J93+L93","v":0},{"$f":"MAX(C93,E93,G93,I93,K93)","v":0},{"$f":"IF(Q93=1,N93,IF(Q93=0,(N93-O93),\"-\"))","v":"-"},{"$f":"$L$1-Table101617[Competed Count]","v":4},{"$f":"IF(Q93<2,\"Yes\",\"No\")","v":"No"},{"$f":"AND($C$1=\"Y\",D93>0)","v":false},{"$f":"AND($E$1=\"Y\",F93>0)","v":false},{"$f":"AND($G$1=\"Y\",H93>0)","v":false},{"$f":"AND($I$1=\"Y\",J93>0)","v":false},{"$f":"AND($K$1=\"Y\",L93>0)","v":false},{"$f":"COUNTIF(Table101617[[#This Row],[Competed 1]:[Competed 5]],\"=TRUE\")","v":0}]
[null,"-","-",{"$f":"IF(C94=\"-\",0,C94)","v":0},"-",{"$f":"IF(E94=\"-\",0,E94)","v":0},"-",{"$f":"IF(G94=\"-\",0,G94)","v":0},"-",{"$f":"IF(I94=\"-\",0,I94)","v":0},"-",{"$f":"IF(K94=\"-\",0,K94)","v":0},{"$f":"Table101617[[#This Row],[School]]","v":"-"},{"$f":"D94+F94+H94+J94+L94","v":0},{"$f":"MAX(C94,E94,G94,I94,K94)","v":0},{"$f":"IF(Q94=1,N94,IF(Q94=0,(N94-O94),\"-\"))","v":"-"},{"$f":"$L$1-Table101617[Competed Count]","v":4},{"$f":"IF(Q94<2,\"Yes\",\"No\")","v":"No"},{"$f":"AND($C$1=\"Y\",D94>0)","v":false},{"$f":"AND($E$1=\"Y\",F94>0)","v":false},{"$f":"AND($G$1=\"Y\",H94>0)","v":false},{"$f":"AND($I$1=\"Y\",J94>0)","v":false},{"$f":"AND($K$1=\"Y\",L94>0)","v":false},{"$f":"COUNTIF(Table101617[[#This Row],[Competed 1]:[Competed 5]],\"=TRUE\")","v":0}]
[null,"-","-",{"$f":"IF(C95=\"-\",0,C95)","v":0},"-",{"$f":"IF(E95=\"-\",0,E95)","v":0},"-",{"$f":"IF(G95=\"-\",0,G95)","v":0},"-",{"$f":"IF(I95=\"-\",0,I95)","v":0},"-",{"$f":"IF(K95=\"-\",0,K95)","v":0},{"$f":"Table101617[[#This Row],[School]]","v":"-"},{"$f":"D95+F95+H95+J95+L95","v":0},{"$f":"MAX(C95,E95,G95,I95,K95)","v":0},{"$f":"IF(Q95=1,N95,IF(Q95=0,(N95-O95),\"-\"))","v":"-"},{"$f":"$L$1-Table101617[Competed Count]","v":4},{"$f":"IF(Q95<2,\"Yes\",\"No\")","v":"No"},{"$f":"AND($C$1=\"Y\",D95>0)","v":false},{"$f":"AND($E$1=\"Y\",F95>0)","v":false},{"$f":"AND($G$1=\"Y\",H95>0)","v":false},{"$f":"AND($I$1=\"Y\",J95>0)","v":false},{"$f":"AND($K$1=\"Y\",L95>0)","v":false},{"$f":"COUNTIF(Table101617[[#This Row],[Competed 1]:[Competed 5]],\"=TRUE\")","v":0}]
[null,"-","-",{"$f":"IF(C96=\"-\",0,C96)","v":0},"-",{"$f":"IF(E96=\"-\",0,E96)","v":0},"-",{"$f":"IF(G96=\"-\",0,G96)","v":0},"-",{"$f":"IF(I96=\"-\",0,I96)","v":0},"-",{"$f":"IF(K96=\"-\",0,K96)","v":0},{"$f":"Table101617[[#This Row],[School]]","v":"-"},{"$f":"D96+F96+H96+J96+L96","v":0},{"$f":"MAX(C96,E96,G96,I96,K96)","v":0},{"$f":"IF(Q96=1,N96,IF(Q96=0,(N96-O96),\"-\"))","v":"-"},{"$f":"$L$1-Table101617[Competed Count]","v":4},{"$f":"IF(Q96<2,\"Yes\",\"No\")","v":"No"},{"$f":"AND($C$1=\"Y\",D96>0)","v":false},{"$f":"AND($E$1=\"Y\",F96>0)","v":false},{"$f":"AND($G$1=\"Y\",H96>0)","v":false},{"$f":"AND($I$1=\"Y\",J96>0)","v":false},{"$f":"AND($K$1=\"Y\",L96>0)","v":false},{"$f":"COUNTIF(Table101617[[#This Row],[Competed 1]:[Competed 5]],\"=TRUE\")","v":0}]
[null,"-","-",{"$f":"IF(C97=\"-\",0,C97)","v":0},"-",{"$f":"IF(E97=\"-\",0,E97)","v":0},"-",{"$f":"IF(G97=\"-\",0,G97)","v":0},"-",{"$f":"IF(I97=\"-\",0,I97)","v":0},"-",{"$f":"IF(K97=\"-\",0,K97)","v":0},{"$f":"Table101617[[#This Row],[School]]","v":"-"},{"$f":"D97+F97+H97+J97+L97","v":0},{"$f":"MAX(C97,E97,G97,I97,K97)","v":0},{"$f":"IF(Q97=1,N97,IF(Q97=0,(N97-O97),\"-\"))","v":"-"},{"$f":"$L$1-Table101617[Competed Count]","v":4},{"$f":"IF(Q97<2,\"Yes\",\"No\")","v":"No"},{"$f":"AND($C$1=\"Y\",D97>0)","v":false},{"$f":"AND($E$1=\"Y\",F97>0)","v":false},{"$f":"AND($G$1=\"Y\",H97>0)","v":false},{"$f":"AND($I$1=\"Y\",J97>0)","v":false},{"$f":"AND($K$1=\"Y\",L97>0)","v":false},{"$f":"COUNTIF(Table101617[[#This Row],[Competed 1]:[Competed 5]],\"=TRUE\")","v":0}]
[null,"-","-",{"$f":"IF(C98=\"-\",0,C98)","v":0},"-",{"$f":"IF(E98=\"-\",0,E98)","v":0},"-",{"$f":"IF(G98=\"-\",0,G98)","v":0},"-",{"$f":"IF(I98=\"-\",0,I98)","v":0},"-",{"$f":"IF(K98=\"-\",0,K98)","v":0},{"$f":"Table101617[[#This Row],[School]]","v":"-"},{"$f":"D98+F98+H98+J98+L98","v":0},{"$f":"MAX(C98,E98,G98,I98,K98)","v":0},{"$f":"IF(Q98=1,N98,IF(Q98=0,(N98-O98),\"-\"))","v":"-"},{"$f":"$L$1-Table101617[Competed Count]","v":4},{"$f":"IF(Q98<2,\"Yes\",\"No\")","v":"No"},{"$f":"AND($C$1=\"Y\",D98>0)","v":false},{"$f":"AND($E$1=\"Y\",F98>0)","v":false},{"$f":"AND($G$1=\"Y\",H98>0)","v":false},{"$f":"AND($I$1=\"Y\",J98>0)","v":false},{"$f":"AND($K$1=\"Y\",L98>0)","v":false},{"$f":"COUNTIF(Table101617[[#This Row],[Competed 1]:[Competed 5]],\"=TRUE\")","v":0}]
[null,"-","-",{"$f":"IF(C99=\"-\",0,C99)","v":0},"-",{"$f":"IF(E99=\"-\",0,E99)","v":0},"-",{"$f":"IF(G99=\"-\",0,G99)","v":0},"-",{"$f":"IF(I99=\"-\",0,I99)","v":0},"-",{"$f":"IF(K99=\"-\",0,K99)","v":0},{"$f":"Table101617[[#This Row],[School]]","v":"-"},{"$f":"D99+F99+H99+J99+L99","v":0},{"$f":"MAX(C99,E99,G99,I99,K99)","v":0},{"$f":"IF(Q99=1,N99,IF(Q99=0,(N99-O99),\"-\"))","v":"-"},{"$f":"$L$1-Table101617[Competed Count]","v":4},{"$f":"IF(Q99<2,\"Yes\",\"No\")","v":"No"},{"$f":"AND($C$1=\"Y\",D99>0)","v":false},{"$f":"AND($E$1=\"Y\",F99>0)","v":false},{"$f":"AND($G$1=\"Y\",H99>0)","v":false},{"$f":"AND($I$1=\"Y\",J99>0)","v":false},{"$f":"AND($K$1=\"Y\",L99>0)","v":false},{"$f":"COUNTIF(Table101617[[#This Row],[Competed 1]:[Competed 5]],\"=TRUE\")","v":0}]
[null,"-","-",{"$f":"IF(C100=\"-\",0,C100)","v":0},"-",{"$f":"IF(E100=\"-\",0,E100)","v":0},"-",{"$f":"IF(G100=\"-\",0,G100)","v":0},"-",{"$f":"IF(I100=\"-\",0,I100)","v":0},"-",{"$f":"IF(K100=\"-\",0,K100)","v":0},{"$f":"Table101617[[#This Row],[School]]","v":"-"},{"$f":"D100+F100+H100+J100+L100","v":0},{"$f":"MAX(C100,E100,G100,I100,K100)","v":0},{"$f":"IF(Q100=1,N100,IF(Q100=0,(N100-O100),\"-\"))","v":"-"},{"$f":"$L$1-Table101617[Competed Count]","v":4},{"$f":"IF(Q100<2,\"Yes\",\"No\")","v":"No"},{"$f":"AND($C$1=\"Y\",D100>0)","v":false},{"$f":"AND($E$1=\"Y\",F100>0)","v":false},{"$f":"AND($G$1=\"Y\",H100>0)","v":false},{"$f":"AND($I$1=\"Y\",J100>0)","v":false},{"$f":"AND($K$1=\"Y\",L100>0)","v":false},{"$f":"COUNTIF(Table101617[[#This Row],[Competed 1]:[Competed 5]],\"=TRUE\")","v":0}]
[null,"-","-",{"$f":"IF(C101=\"-\",0,C101)","v":0},"-",{"$f":"IF(E101=\"-\",0,E101)","v":0},"-",{"$f":"IF(G101=\"-\",0,G101)","v":0},"-",{"$f":"IF(I101=\"-\",0,I101)","v":0},"-",{"$f":"IF(K101=\"-\",0,K101)","v":0},{"$f":"Table101617[[#This Row],[School]]","v":"-"},{"$f":"D101+F101+H101+J101+L101","v":0},{"$f":"MAX(C101,E101,G101,I101,K101)","v":0},{"$f":"IF(Q101=1,N101,IF(Q101=0,(N101-O101),\"-\"))","v":"-"},{"$f":"$L$1-Table101617[Competed Count]","v":4},{"$f":"IF(Q101<2,\"Yes\",\"No\")","v":"No"},{"$f":"AND($C$1=\"Y\",D101>0)","v":false},{"$f":"AND($E$1=\"Y\",F101>0)","v":false},{"$f":"AND($G$1=\"Y\",H101>0)","v":false},{"$f":"AND($I$1=\"Y\",J101>0)","v":false},{"$f":"AND($K$1=\"Y\",L101>0)","v":false},{"$f":"COUNTIF(Table101617[[#This Row],[Competed 1]:[Competed 5]],\"=TRUE\")","v":0}]
[null,"-","-",{"$f":"IF(C102=\"-\",0,C102)","v":0},"-",{"$f":"IF(E102=\"-\",0,E102)","v":0},"-",{"$f":"IF(G102=\"-\",0,G102)","v":0},"-",{"$f":"IF(I102=\"-\",0,I102)","v":0},"-",{"$f":"IF(K102=\"-\",0,K102)","v":0},{"$f":"Table101617[[#This Row],[School]]","v":"-"},{"$f":"D102+F102+H102+J102+L102","v":0},{"$f":"MAX(C102,E102,G102,I102,K102)","v":0},{"$f":"IF(Q102=1,N102,IF(Q102=0,(N102-O102),\"-\"))","v":"-"},{"$f":"$L$1-Table101617[Competed Count]","v":4},{"$f":"IF(Q102<2,\"Yes\",\"No\")","v":"No"},{"$f":"AND($C$1=\"Y\",D102>0)","v":false},{"$f":"AND($E$1=\"Y\",F102>0)","v":false},{"$f":"AND($G$1=\"Y\",H102>0)","v":false},{"$f":"AND($I$1=\"Y\",J102>0)","v":false},{"$f":"AND($K$1=\"Y\",L102>0)","v":false},{"$f":"COUNTIF(Table101617[[#This Row],[Competed 1]:[Competed 5]],\"=TRUE\")","v":0}]
[null,"-","-",{"$f":"IF(C103=\"-\",0,C103)","v":0},"-",{"$f":"IF(E103=\"-\",0,E103)","v":0},"-",{"$f":"IF(G103=\"-\",0,G103)","v":0},"-",{"$f":"IF(I103=\"-\",0,I103)","v":0},"-",{"$f":"IF(K103=\"-\",0,K103)","v":0},{"$f":"Table101617[[#This Row],[School]]","v":"-"},{"$f":"D103+F103+H103+J103+L103","v":0},{"$f":"MAX(C103,E103,G103,I103,K103)","v":0},{"$f":"IF(Q103=1,N103,IF(Q103=0,(N103-O103),\"-\"))","v":"-"},{"$f":"$L$1-Table101617[Competed Count]","v":4},{"$f":"IF(Q103<2,\"Yes\",\"No\")","v":"No"},{"$f":"AND($C$1=\"Y\",D103>0)","v":false},{"$f":"AND($E$1=\"Y\",F103>0)","v":false},{"$f":"AND($G$1=\"Y\",H103>0)","v":false},{"$f":"AND($I$1=\"Y\",J103>0)","v":false},{"$f":"AND($K$1=\"Y\",L103>0)","v":false},{"$f":"COUNTIF(Table101617[[#This Row],[Competed 1]:[Competed 5]],\"=TRUE\")","v":0}]
[null,"-","-",{"$f":"IF(C104=\"-\",0,C104)","v":0},"-",{"$f":"IF(E104=\"-\",0,E104)","v":0},"-",{"$f":"IF(G104=\"-\",0,G104)","v":0},"-",{"$f":"IF(I104=\"-\",0,I104)","v":0},"-",{"$f":"IF(K104=\"-\",0,K104)","v":0},{"$f":"Table101617[[#This Row],[School]]","v":"-"},{"$f":"D104+F104+H104+J104+L104","v":0},{"$f":"MAX(C104,E104,G104,I104,K104)","v":0},{"$f":"IF(Q104=1,N104,IF(Q104=0,(N104-O104),\"-\"))","v":"-"},{"$f":"$L$1-Table101617[Competed Count]","v":4},{"$f":"IF(Q104<2,\"Yes\",\"No\")","v":"No"},{"$f":"AND($C$1=\"Y\",D104>0)","v":false},{"$f":"AND($E$1=\"Y\",F104>0)","v":false},{"$f":"AND($G$1=\"Y\",H104>0)","v":false},{"$f":"AND($I$1=\"Y\",J104>0)","v":false},{"$f":"AND($K$1=\"Y\",L104>0)","v":false},{"$f":"COUNTIF(Table101617[[#This Row],[Competed 1]:[Competed 5]],\"=TRUE\")","v":0}]
[null,"-","-",{"$f":"IF(C105=\"-\",0,C105)","v":0},"-",{"$f":"IF(E105=\"-\",0,E105)","v":0},"-",{"$f":"IF(G105=\"-\",0,G105)","v":0},"-",{"$f":"IF(I105=\"-\",0,I105)","v":0},"-",{"$f":"IF(K105=\"-\",0,K105)","v":0},{"$f":"Table101617[[#This Row],[School]]","v":"-"},{"$f":"D105+F105+H105+J105+L105","v":0},{"$f":"MAX(C105,E105,G105,I105,K105)","v":0},{"$f":"IF(Q105=1,N105,IF(Q105=0,(N105-O105),\"-\"))","v":"-"},{"$f":"$L$1-Table101617[Competed Count]","v":4},{"$f":"IF(Q105<2,\"Yes\",\"No\")","v":"No"},{"$f":"AND($C$1=\"Y\",D105>0)","v":false},{"$f":"AND($E$1=\"Y\",F105>0)","v":false},{"$f":"AND($G$1=\"Y\",H105>0)","v":false},{"$f":"AND($I$1=\"Y\",J105>0)","v":false},{"$f":"AND($K$1=\"Y\",L105>0)","v":false},{"$f":"COUNTIF(Table101617[[#This Row],[Competed 1]:[Competed 5]],\"=TRUE\")","v":0}]
[null,"-","-",{"$f":"IF(C106=\"-\",0,C106)","v":0},"-",{"$f":"IF(E106=\"-\",0,E106)","v":0},"-",{"$f":"IF(G106=\"-\",0,G106)","v":0},"-",{"$f":"IF(I106=\"-\",0,I106)","v":0},"-",{"$f":"IF(K106=\"-\",0,K106)","v":0},{"$f":"Table101617[[#This Row],[School]]","v":"-"},{"$f":"D106+F106+H106+J106+L106","v":0},{"$f":"MAX(C106,E106,G106,I106,K106)","v":0},{"$f":"IF(Q106=1,N106,IF(Q106=0,(N106-O106),\"-\"))","v":"-"},{"$f":"$L$1-Table101617[Competed Count]","v":4},{"$f":"IF(Q106<2,\"Yes\",\"No\")","v":"No"},{"$f":"AND($C$1=\"Y\",D106>0)","v":false},{"$f":"AND($E$1=\"Y\",F106>0)","v":false},{"$f":"AND($G$1=\"Y\",H106>0)","v":false},{"$f":"AND($I$1=\"Y\",J106>0)","v":false},{"$f":"AND($K$1=\"Y\",L106>0)","v":false},{"$f":"COUNTIF(Table101617[[#This Row],[Competed 1]:[Competed 5]],\"=TRUE\")","v":0}]
[null,"-","-",{"$f":"IF(C107=\"-\",0,C107)","v":0},"-",{"$f":"IF(E107=\"-\",0,E107)","v":0},"-",{"$f":"IF(G107=\"-\",0,G107)","v":0},"-",{"$f":"IF(I107=\"-\",0,I107)","v":0},"-",{"$f":"IF(K107=\"-\",0,K107)","v":0},{"$f":"Table101617[[#This Row],[School]]","v":"-"},{"$f":"D107+F107+H107+J107+L107","v":0},{"$f":"MAX(C107,E107,G107,I107,K107)","v":0},{"$f":"IF(Q107=1,N107,IF(Q107=0,(N107-O107),\"-\"))","v":"-"},{"$f":"$L$1-Table101617[Competed Count]","v":4},{"$f":"IF(Q107<2,\"Yes\",\"No\")","v":"No"},{"$f":"AND($C$1=\"Y\",D107>0)","v":false},{"$f":"AND($E$1=\"Y\",F107>0)","v":false},{"$f":"AND($G$1=\"Y\",H107>0)","v":false},{"$f":"AND($I$1=\"Y\",J107>0)","v":false},{"$f":"AND($K$1=\"Y\",L107>0)","v":false},{"$f":"COUNTIF(Table101617[[#This Row],[Competed 1]:[Competed 5]],\"=TRUE\")","v":0}]
[null,"-","-",{"$f":"IF(C108=\"-\",0,C108)","v":0},"-",{"$f":"IF(E108=\"-\",0,E108)","v":0},"-",{"$f":"IF(G108=\"-\",0,G108)","v":0},"-",{"$f":"IF(I108=\"-\",0,I108)","v":0},"-",{"$f":"IF(K108=\"-\",0,K108)","v":0},{"$f":"Table101617[[#This Row],[School]]","v":"-"},{"$f":"D108+F108+H108+J108+L108","v":0},{"$f":"MAX(C108,E108,G108,I108,K108)","v":0},{"$f":"IF(Q108=1,N108,IF(Q108=0,(N108-O108),\"-\"))","v":"-"},{"$f":"$L$1-Table101617[Competed Count]","v":4},{"$f":"IF(Q108<2,\"Yes\",\"No\")","v":"No"},{"$f":"AND($C$1=\"Y\",D108>0)","v":false},{"$f":"AND($E$1=\"Y\",F108>0)","v":false},{"$f":"AND($G$1=\"Y\",H108>0)","v":false},{"$f":"AND($I$1=\"Y\",J108>0)","v":false},{"$f":"AND($K$1=\"Y\",L108>0)","v":false},{"$f":"COUNTIF(Table101617[[#This Row],[Competed 1]:[Competed 5]],\"=TRUE\")","v":0}]
[null,"-","-",{"$f":"IF(C109=\"-\",0,C109)","v":0},"-",{"$f":"IF(E109=\"-\",0,E109)","v":0},"-",{"$f":"IF(G109=\"-\",0,G109)","v":0},"-",{"$f":"IF(I109=\"-\",0,I109)","v":0},"-",{"$f":"IF(K109=\"-\",0,K109)","v":0},{"$f":"Table101617[[#This Row],[School]]","v":"-"},{"$f":"D109+F109+H109+J109+L109","v":0},{"$f":"MAX(C109,E109,G109,I109,K109)","v":0},{"$f":"IF(Q109=1,N109,IF(Q109=0,(N109-O109),\"-\"))","v":"-"},{"$f":"$L$1-Table101617[Competed Count]","v":4},{"$f":"IF(Q109<2,\"Yes\",\"No\")","v":"No"},{"$f":"AND($C$1=\"Y\",D109>0)","v":false},{"$f":"AND($E$1=\"Y\",F109>0)","v":false},{"$f":"AND($G$1=\"Y\",H109>0)","v":false},{"$f":"AND($I$1=\"Y\",J109>0)","v":false},{"$f":"AND($K$1=\"Y\",L109>0)","v":false},{"$f":"COUNTIF(Table101617[[#This Row],[Competed 1]:[Competed 5]],\"=TRUE\")","v":0}]
[null,"-","-",{"$f":"IF(C110=\"-\",0,C110)","v":0},"-",{"$f":"IF(E110=\"-\",0,E110)","v":0},"-",{"$f":"IF(G110=\"-\",0,G110)","v":0},"-",{"$f":"IF(I110=\"-\",0,I110)","v":0},"-",{"$f":"IF(K110=\"-\",0,K110)","v":0},{"$f":"Table101617[[#This Row],[School]]","v":"-"},{"$f":"D110+F110+H110+J110+L110","v":0},{"$f":"MAX(C110,E110,G110,I110,K110)","v":0},{"$f":"IF(Q110=1,N110,IF(Q110=0,(N110-O110),\"-\"))","v":"-"},{"$f":"$L$1-Table101617[Competed Count]","v":4},{"$f":"IF(Q110<2,\"Yes\",\"No\")","v":"No"},{"$f":"AND($C$1=\"Y\",D110>0)","v":false},{"$f":"AND($E$1=\"Y\",F110>0)","v":false},{"$f":"AND($G$1=\"Y\",H110>0)","v":false},{"$f":"AND($I$1=\"Y\",J110>0)","v":false},{"$f":"AND($K$1=\"Y\",L110>0)","v":false},{"$f":"COUNTIF(Table101617[[#This Row],[Competed 1]:[Competed 5]],\"=TRUE\")","v":0}]
[null,"-","-",{"$f":"IF(C111=\"-\",0,C111)","v":0},"-",{"$f":"IF(E111=\"-\",0,E111)","v":0},"-",{"$f":"IF(G111=\"-\",0,G111)","v":0},"-",{"$f":"IF(I111=\"-\",0,I111)","v":0},"-",{"$f":"IF(K111=\"-\",0,K111)","v":0},{"$f":"Table101617[[#This Row],[School]]","v":"-"},{"$f":"D111+F111+H111+J111+L111","v":0},{"$f":"MAX(C111,E111,G111,I111,K111)","v":0},{"$f":"IF(Q111=1,N111,IF(Q111=0,(N111-O111),\"-\"))","v":"-"},{"$f":"$L$1-Table101617[Competed Count]","v":4},{"$f":"IF(Q111<2,\"Yes\",\"No\")","v":"No"},{"$f":"AND($C$1=\"Y\",D111>0)","v":false},{"$f":"AND($E$1=\"Y\",F111>0)","v":false},{"$f":"AND($G$1=\"Y\",H111>0)","v":false},{"$f":"AND($I$1=\"Y\",J111>0)","v":false},{"$f":"AND($K$1=\"Y\",L111>0)","v":false},{"$f":"COUNTIF(Table101617[[#This Row],[Competed 1]:[Competed 5]],\"=TRUE\")","v":0}]
[null,"-","-",{"$f":"IF(C112=\"-\",0,C112)","v":0},"-",{"$f":"IF(E112=\"-\",0,E112)","v":0},"-",{"$f":"IF(G112=\"-\",0,G112)","v":0},"-",{"$f":"IF(I112=\"-\",0,I112)","v":0},"-",{"$f":"IF(K112=\"-\",0,K112)","v":0},{"$f":"Table101617[[#This Row],[School]]","v":"-"},{"$f":"D112+F112+H112+J112+L112","v":0},{"$f":"MAX(C112,E112,G112,I112,K112)","v":0},{"$f":"IF(Q112=1,N112,IF(Q112=0,(N112-O112),\"-\"))","v":"-"},{"$f":"$L$1-Table101617[Competed Count]","v":4},{"$f":"IF(Q112<2,\"Yes\",\"No\")","v":"No"},{"$f":"AND($C$1=\"Y\",D112>0)","v":false},{"$f":"AND($E$1=\"Y\",F112>0)","v":false},{"$f":"AND($G$1=\"Y\",H112>0)","v":false},{"$f":"AND($I$1=\"Y\",J112>0)","v":false},{"$f":"AND($K$1=\"Y\",L112>0)","v":false},{"$f":"COUNTIF(Table101617[[#This Row],[Competed 1]:[Competed 5]],\"=TRUE\")","v":0}]
[null,"-","-",{"$f":"IF(C113=\"-\",0,C113)","v":0},"-",{"$f":"IF(E113=\"-\",0,E113)","v":0},"-",{"$f":"IF(G113=\"-\",0,G113)","v":0},"-",{"$f":"IF(I113=\"-\",0,I113)","v":0},"-",{"$f":"IF(K113=\"-\",0,K113)","v":0},{"$f":"Table101617[[#This Row],[School]]","v":"-"},{"$f":"D113+F113+H113+J113+L113","v":0},{"$f":"MAX(C113,E113,G113,I113,K113)","v":0},{"$f":"IF(Q113=1,N113,IF(Q113=0,(N113-O113),\"-\"))","v":"-"},{"$f":"$L$1-Table101617[Competed Count]","v":4},{"$f":"IF(Q113<2,\"Yes\",\"No\")","v":"No"},{"$f":"AND($C$1=\"Y\",D113>0)","v":false},{"$f":"AND($E$1=\"Y\",F113>0)","v":false},{"$f":"AND($G$1=\"Y\",H113>0)","v":false},{"$f":"AND($I$1=\"Y\",J113>0)","v":false},{"$f":"AND($K$1=\"Y\",L113>0)","v":false},{"$f":"COUNTIF(Table101617[[#This Row],[Competed 1]:[Competed 5]],\"=TRUE\")","v":0}]
[null,"-","-",{"$f":"IF(C114=\"-\",0,C114)","v":0},"-",{"$f":"IF(E114=\"-\",0,E114)","v":0},"-",{"$f":"IF(G114=\"-\",0,G114)","v":0},"-",{"$f":"IF(I114=\"-\",0,I114)","v":0},"-",{"$f":"IF(K114=\"-\",0,K114)","v":0},{"$f":"Table101617[[#This Row],[School]]","v":"-"},{"$f":"D114+F114+H114+J114+L114","v":0},{"$f":"MAX(C114,E114,G114,I114,K114)","v":0},{"$f":"IF(Q114=1,N114,IF(Q114=0,(N114-O114),\"-\"))","v":"-"},{"$f":"$L$1-Table101617[Competed Count]","v":4},{"$f":"IF(Q114<2,\"Yes\",\"No\")","v":"No"},{"$f":"AND($C$1=\"Y\",D114>0)","v":false},{"$f":"AND($E$1=\"Y\",F114>0)","v":false},{"$f":"AND($G$1=\"Y\",H114>0)","v":false},{"$f":"AND($I$1=\"Y\",J114>0)","v":false},{"$f":"AND($K$1=\"Y\",L114>0)","v":false},{"$f":"COUNTIF(Table101617[[#This Row],[Competed 1]:[Competed 5]],\"=TRUE\")","v":0}]
[null,"-","-",{"$f":"IF(C115=\"-\",0,C115)","v":0},"-",{"$f":"IF(E115=\"-\",0,E115)","v":0},"-",{"$f":"IF(G115=\"-\",0,G115)","v":0},"-",{"$f":"IF(I115=\"-\",0,I115)","v":0},"-",{"$f":"IF(K115=\"-\",0,K115)","v":0},{"$f":"Table101617[[#This Row],[School]]","v":"-"},{"$f":"D115+F115+H115+J115+L115","v":0},{"$f":"MAX(C115,E115,G115,I115,K115)","v":0},{"$f":"IF(Q115=1,N115,IF(Q115=0,(N115-O115),\"-\"))","v":"-"},{"$f":"$L$1-Table101617[Competed Count]","v":4},{"$f":"IF(Q115<2,\"Yes\",\"No\")","v":"No"},{"$f":"AND($C$1=\"Y\",D115>0)","v":false},{"$f":"AND($E$1=\"Y\",F115>0)","v":false},{"$f":"AND($G$1=\"Y\",H115>0)","v":false},{"$f":"AND($I$1=\"Y\",J115>0)","v":false},{"$f":"AND($K$1=\"Y\",L115>0)","v":false},{"$f":"COUNTIF(Table101617[[#This Row],[Competed 1]:[Competed 5]],\"=TRUE\")","v":0}]
[null,"-","-",{"$f":"IF(C116=\"-\",0,C116)","v":0},"-",{"$f":"IF(E116=\"-\",0,E116)","v":0},"-",{"$f":"IF(G116=\"-\",0,G116)","v":0},"-",{"$f":"IF(I116=\"-\",0,I116)","v":0},"-",{"$f":"IF(K116=\"-\",0,K116)","v":0},{"$f":"Table101617[[#This Row],[School]]","v":"-"},{"$f":"D116+F116+H116+J116+L116","v":0},{"$f":"MAX(C116,E116,G116,I116,K116)","v":0},{"$f":"IF(Q116=1,N116,IF(Q116=0,(N116-O116),\"-\"))","v":"-"},{"$f":"$L$1-Table101617[Competed Count]","v":4},{"$f":"IF(Q116<2,\"Yes\",\"No\")","v":"No"},{"$f":"AND($C$1=\"Y\",D116>0)","v":false},{"$f":"AND($E$1=\"Y\",F116>0)","v":false},{"$f":"AND($G$1=\"Y\",H116>0)","v":false},{"$f":"AND($I$1=\"Y\",J116>0)","v":false},{"$f":"AND($K$1=\"Y\",L116>0)","v":false},{"$f":"COUNTIF(Table101617[[#This Row],[Competed 1]:[Competed 5]],\"=TRUE\")","v":0}]
[null,"-","-",{"$f":"IF(C117=\"-\",0,C117)","v":0},"-",{"$f":"IF(E117=\"-\",0,E117)","v":0},"-",{"$f":"IF(G117=\"-\",0,G117)","v":0},"-",{"$f":"IF(I117=\"-\",0,I117)","v":0},"-",{"$f":"IF(K117=\"-\",0,K117)","v":0},{"$f":"Table101617[[#This Row],[School]]","v":"-"},{"$f":"D117+F117+H117+J117+L117","v":0},{"$f":"MAX(C117,E117,G117,I117,K117)","v":0},{"$f":"IF(Q117=1,N117,IF(Q117=0,(N117-O117),\"-\"))","v":"-"},{"$f":"$L$1-Table101617[Competed Count]","v":4},{"$f":"IF(Q117<2,\"Yes\",\"No\")","v":"No"},{"$f":"AND($C$1=\"Y\",D117>0)","v":false},{"$f":"AND($E$1=\"Y\",F117>0)","v":false},{"$f":"AND($G$1=\"Y\",H117>0)","v":false},{"$f":"AND($I$1=\"Y\",J117>0)","v":false},{"$f":"AND($K$1=\"Y\",L117>0)","v":false},{"$f":"COUNTIF(Table101617[[#This Row],[Competed 1]:[Competed 5]],\"=TRUE\")","v":0}]
[null,"-","-",{"$f":"IF(C118=\"-\",0,C118)","v":0},"-",{"$f":"IF(E118=\"-\",0,E118)","v":0},"-",{"$f":"IF(G118=\"-\",0,G118)","v":0},"-",{"$f":"IF(I118=\"-\",0,I118)","v":0},"-",{"$f":"IF(K118=\"-\",0,K118)","v":0},{"$f":"Table101617[[#This Row],[School]]","v":"-"},{"$f":"D118+F118+H118+J118+L118","v":0},{"$f":"MAX(C118,E118,G118,I118,K118)","v":0},{"$f":"IF(Q118=1,N118,IF(Q118=0,(N118-O118),\"-\"))","v":"-"},{"$f":"$L$1-Table101617[Competed Count]","v":4},{"$f":"IF(Q118<2,\"Yes\",\"No\")","v":"No"},{"$f":"AND($C$1=\"Y\",D118>0)","v":false},{"$f":"AND($E$1=\"Y\",F118>0)","v":false},{"$f":"AND($G$1=\"Y\",H118>0)","v":false},{"$f":"AND($I$1=\"Y\",J118>0)","v":false},{"$f":"AND($K$1=\"Y\",L118>0)","v":false},{"$f":"COUNTIF(Table101617[[#This Row],[Competed 1]:[Competed 5]],\"=TRUE\")","v":0}]
[null,"-","-",{"$f":"IF(C119=\"-\",0,C119)","v":0},"-",{"$f":"IF(E119=\"-\",0,E119)","v":0},"-",{"$f":"IF(G119=\"-\",0,G119)","v":0},"-",{"$f":"IF(I119=\"-\",0,I119)","v":0},"-",{"$f":"IF(K119=\"-\",0,K119)","v":0},{"$f":"Table101617[[#This Row],[School]]","v":"-"},{"$f":"D119+F119+H119+J119+L119","v":0},{"$f":"MAX(C119,E119,G119,I119,K119)","v":0},{"$f":"IF(Q119=1,N119,IF(Q119=0,(N119-O119),\"-\"))","v":"-"},{"$f":"$L$1-Table101617[Competed Count]","v":4},{"$f":"IF(Q119<2,\"Yes\",\"No\")","v":"No"},{"$f":"AND($C$1=\"Y\",D119>0)","v":false},{"$f":"AND($E$1=\"Y\",F119>0)","v":false},{"$f":"AND($G$1=\"Y\",H119>0)","v":false},{"$f":"AND($I$1=\"Y\",J119>0)","v":false},{"$f":"AND($K$1=\"Y\",L119>0)","v":false},{"$f":"COUNTIF(Table101617[[#This Row],[Competed 1]:[Competed 5]],\"=TRUE\")","v":0}]
[null,"-","-",{"$f":"IF(C120=\"-\",0,C120)","v":0},"-",{"$f":"IF(E120=\"-\",0,E120)","v":0},"-",{"$f":"IF(G120=\"-\",0,G120)","v":0},"-",{"$f":"IF(I120=\"-\",0,I120)","v":0},"-",{"$f":"IF(K120=\"-\",0,K120)","v":0},{"$f":"Table101617[[#This Row],[School]]","v":"-"},{"$f":"D120+F120+H120+J120+L120","v":0},{"$f":"MAX(C120,E120,G120,I120,K120)","v":0},{"$f":"IF(Q120=1,N120,IF(Q120=0,(N120-O120),\"-\"))","v":"-"},{"$f":"$L$1-Table101617[Competed Count]","v":4},{"$f":"IF(Q120<2,\"Yes\",\"No\")","v":"No"},{"$f":"AND($C$1=\"Y\",D120>0)","v":false},{"$f":"AND($E$1=\"Y\",F120>0)","v":false},{"$f":"AND($G$1=\"Y\",H120>0)","v":false},{"$f":"AND($I$1=\"Y\",J120>0)","v":false},{"$f":"AND($K$1=\"Y\",L120>0)","v":false},{"$f":"COUNTIF(Table101617[[#This Row],[Competed 1]:[Competed 5]],\"=TRUE\")","v":0}]
[null,"-","-",{"$f":"IF(C121=\"-\",0,C121)","v":0},"-",{"$f":"IF(E121=\"-\",0,E121)","v":0},"-",{"$f":"IF(G121=\"-\",0,G121)","v":0},"-",{"$f":"IF(I121=\"-\",0,I121)","v":0},"-",{"$f":"IF(K121=\"-\",0,K121)","v":0},{"$f":"Table101617[[#This Row],[School]]","v":"-"},{"$f":"D121+F121+H121+J121+L121","v":0},{"$f":"MAX(C121,E121,G121,I121,K121)","v":0},{"$f":"IF(Q121=1,N121,IF(Q121=0,(N121-O121),\"-\"))","v":"-"},{"$f":"$L$1-Table101617[Competed Count]","v":4},{"$f":"IF(Q121<2,\"Yes\",\"No\")","v":"No"},{"$f":"AND($C$1=\"Y\",D121>0)","v":false},{"$f":"AND($E$1=\"Y\",F121>0)","v":false},{"$f":"AND($G$1=\"Y\",H121>0)","v":false},{"$f":"AND($I$1=\"Y\",J121>0)","v":false},{"$f":"AND($K$1=\"Y\",L121>0)","v":false},{"$f":"COUNTIF(Table101617[[#This Row],[Competed 1]:[Competed 5]],\"=TRUE\")","v":0}]
[null,"-","-",{"$f":"IF(C122=\"-\",0,C122)","v":0},"-",{"$f":"IF(E122=\"-\",0,E122)","v":0},"-",{"$f":"IF(G122=\"-\",0,G122)","v":0},"-",{"$f":"IF(I122=\"-\",0,I122)","v":0},"-",{"$f":"IF(K122=\"-\",0,K122)","v":0},{"$f":"Table101617[[#This Row],[School]]","v":"-"},{"$f":"D122+F122+H122+J122+L122","v":0},{"$f":"MAX(C122,E122,G122,I122,K122)","v":0},{"$f":"IF(Q122=1,N122,IF(Q122=0,(N122-O122),\"-\"))","v":"-"},{"$f":"$L$1-Table101617[Competed Count]","v":4},{"$f":"IF(Q122<2,\"Yes\",\"No\")","v":"No"},{"$f":"AND($C$1=\"Y\",D122>0)","v":false},{"$f":"AND($E$1=\"Y\",F122>0)","v":false},{"$f":"AND($G$1=\"Y\",H122>0)","v":false},{"$f":"AND($I$1=\"Y\",J122>0)","v":false},{"$f":"AND($K$1=\"Y\",L122>0)","v":false},{"$f":"COUNTIF(Table101617[[#This Row],[Competed 1]:[Competed 5]],\"=TRUE\")","v":0}]
[null,"-","-",{"$f":"IF(C123=\"-\",0,C123)","v":0},"-",{"$f":"IF(E123=\"-\",0,E123)","v":0},"-",{"$f":"IF(G123=\"-\",0,G123)","v":0},"-",{"$f":"IF(I123=\"-\",0,I123)","v":0},"-",{"$f":"IF(K123=\"-\",0,K123)","v":0},{"$f":"Table101617[[#This Row],[School]]","v":"-"},{"$f":"D123+F123+H123+J123+L123","v":0},{"$f":"MAX(C123,E123,G123,I123,K123)","v":0},{"$f":"IF(Q123=1,N123,IF(Q123=0,(N123-O123),\"-\"))","v":"-"},{"$f":"$L$1-Table101617[Competed Count]","v":4},{"$f":"IF(Q123<2,\"Yes\",\"No\")","v":"No"},{"$f":"AND($C$1=\"Y\",D123>0)","v":false},{"$f":"AND($E$1=\"Y\",F123>0)","v":false},{"$f":"AND($G$1=\"Y\",H123>0)","v":false},{"$f":"AND($I$1=\"Y\",J123>0)","v":false},{"$f":"AND($K$1=\"Y\",L123>0)","v":false},{"$f":"COUNTIF(Table101617[[#This Row],[Competed 1]:[Competed 5]],\"=TRUE\")","v":0}]
[null,"-","-",{"$f":"IF(C124=\"-\",0,C124)","v":0},"-",{"$f":"IF(E124=\"-\",0,E124)","v":0},"-",{"$f":"IF(G124=\"-\",0,G124)","v":0},"-",{"$f":"IF(I124=\"-\",0,I124)","v":0},"-",{"$f":"IF(K124=\"-\",0,K124)","v":0},{"$f":"Table101617[[#This Row],[School]]","v":"-"},{"$f":"D124+F124+H124+J124+L124","v":0},{"$f":"MAX(C124,E124,G124,I124,K124)","v":0},{"$f":"IF(Q124=1,N124,IF(Q124=0,(N124-O124),\"-\"))","v":"-"},{"$f":"$L$1-Table101617[Competed Count]","v":4},{"$f":"IF(Q124<2,\"Yes\",\"No\")","v":"No"},{"$f":"AND($C$1=\"Y\",D124>0)","v":false},{"$f":"AND($E$1=\"Y\",F124>0)","v":false},{"$f":"AND($G$1=\"Y\",H124>0)","v":false},{"$f":"AND($I$1=\"Y\",J124>0)","v":false},{"$f":"AND($K$1=\"Y\",L124>0)","v":false},{"$f":"COUNTIF(Table101617[[#This Row],[Competed 1]:[Competed 5]],\"=TRUE\")","v":0}]
[null,"-","-",{"$f":"IF(C125=\"-\",0,C125)","v":0},"-",{"$f":"IF(E125=\"-\",0,E125)","v":0},"-",{"$f":"IF(G125=\"-\",0,G125)","v":0},"-",{"$f":"IF(I125=\"-\",0,I125)","v":0},"-",{"$f":"IF(K125=\"-\",0,K125)","v":0},{"$f":"Table101617[[#This Row],[School]]","v":"-"},{"$f":"D125+F125+H125+J125+L125","v":0},{"$f":"MAX(C125,E125,G125,I125,K125)","v":0},{"$f":"IF(Q125=1,N125,IF(Q125=0,(N125-O125),\"-\"))","v":"-"},{"$f":"$L$1-Table101617[Competed Count]","v":4},{"$f":"IF(Q125<2,\"Yes\",\"No\")","v":"No"},{"$f":"AND($C$1=\"Y\",D125>0)","v":false},{"$f":"AND($E$1=\"Y\",F125>0)","v":false},{"$f":"AND($G$1=\"Y\",H125>0)","v":false},{"$f":"AND($I$1=\"Y\",J125>0)","v":false},{"$f":"AND($K$1=\"Y\",L125>0)","v":false},{"$f":"COUNTIF(Table101617[[#This Row],[Competed 1]:[Competed 5]],\"=TRUE\")","v":0}]
[null,"-","-",{"$f":"IF(C126=\"-\",0,C126)","v":0},"-",{"$f":"IF(E126=\"-\",0,E126)","v":0},"-",{"$f":"IF(G126=\"-\",0,G126)","v":0},"-",{"$f":"IF(I126=\"-\",0,I126)","v":0},"-",{"$f":"IF(K126=\"-\",0,K126)","v":0},{"$f":"Table101617[[#This Row],[School]]","v":"-"},{"$f":"D126+F126+H126+J126+L126","v":0},{"$f":"MAX(C126,E126,G126,I126,K126)","v":0},{"$f":"IF(Q126=1,N126,IF(Q126=0,(N126-O126),\"-\"))","v":"-"},{"$f":"$L$1-Table101617[Competed Count]","v":4},{"$f":"IF(Q126<2,\"Yes\",\"No\")","v":"No"},{"$f":"AND($C$1=\"Y\",D126>0)","v":false},{"$f":"AND($E$1=\"Y\",F126>0)","v":false},{"$f":"AND($G$1=\"Y\",H126>0)","v":false},{"$f":"AND($I$1=\"Y\",J126>0)","v":false},{"$f":"AND($K$1=\"Y\",L126>0)","v":false},{"$f":"COUNTIF(Table101617[[#This Row],[Competed 1]:[Competed 5]],\"=TRUE\")","v":0}]
[null,"-","-",{"$f":"IF(C127=\"-\",0,C127)","v":0},"-",{"$f":"IF(E127=\"-\",0,E127)","v":0},"-",{"$f":"IF(G127=\"-\",0,G127)","v":0},"-",{"$f":"IF(I127=\"-\",0,I127)","v":0},"-",{"$f":"IF(K127=\"-\",0,K127)","v":0},{"$f":"Table101617[[#This Row],[School]]","v":"-"},{"$f":"D127+F127+H127+J127+L127","v":0},{"$f":"MAX(C127,E127,G127,I127,K127)","v":0},{"$f":"IF(Q127=1,N127,IF(Q127=0,(N127-O127),\"-\"))","v":"-"},{"$f":"$L$1-Table101617[Competed Count]","v":4},{"$f":"IF(Q127<2,\"Yes\",\"No\")","v":"No"},{"$f":"AND($C$1=\"Y\",D127>0)","v":false},{"$f":"AND($E$1=\"Y\",F127>0)","v":false},{"$f":"AND($G$1=\"Y\",H127>0)","v":false},{"$f":"AND($I$1=\"Y\",J127>0)","v":false},{"$f":"AND($K$1=\"Y\",L127>0)","v":false},{"$f":"COUNTIF(Table101617[[#This Row],[Competed 1]:[Competed 5]],\"=TRUE\")","v":0}]
[null,"-","-",{"$f":"IF(C128=\"-\",0,C128)","v":0},"-",{"$f":"IF(E128=\"-\",0,E128)","v":0},"-",{"$f":"IF(G128=\"-\",0,G128)","v":0},"-",{"$f":"IF(I128=\"-\",0,I128)","v":0},"-",{"$f":"IF(K128=\"-\",0,K128)","v":0},{"$f":"Table101617[[#This Row],[School]]","v":"-"},{"$f":"D128+F128+H128+J128+L128","v":0},{"$f":"MAX(C128,E128,G128,I128,K128)","v":0},{"$f":"IF(Q128=1,N128,IF(Q128=0,(N128-O128),\"-\"))","v":"-"},{"$f":"$L$1-Table101617[Competed Count]","v":4},{"$f":"IF(Q128<2,\"Yes\",\"No\")","v":"No"},{"$f":"AND($C$1=\"Y\",D128>0)","v":false},{"$f":"AND($E$1=\"Y\",F128>0)","v":false},{"$f":"AND($G$1=\"Y\",H128>0)","v":false},{"$f":"AND($I$1=\"Y\",J128>0)","v":false},{"$f":"AND($K$1=\"Y\",L128>0)","v":false},{"$f":"COUNTIF(Table101617[[#This Row],[Competed 1]:[Competed 5]],\"=TRUE\")","v":0}]
[null,"-","-",{"$f":"IF(C129=\"-\",0,C129)","v":0},"-",{"$f":"IF(E129=\"-\",0,E129)","v":0},"-",{"$f":"IF(G129=\"-\",0,G129)","v":0},"-",{"$f":"IF(I129=\"-\",0,I129)","v":0},"-",{"$f":"IF(K129=\"-\",0,K129)","v":0},{"$f":"Table101617[[#This Row],[School]]","v":"-"},{"$f":"D129+F129+H129+J129+L129","v":0},{"$f":"MAX(C129,E129,G129,I129,K129)","v":0},{"$f":"IF(Q129=1,N129,IF(Q129=0,(N129-O129),\"-\"))","v":"-"},{"$f":"$L$1-Table101617[Competed Count]","v":4},{"$f":"IF(Q129<2,\"Yes\",\"No\")","v":"No"},{"$f":"AND($C$1=\"Y\",D129>0)","v":false},{"$f":"AND($E$1=\"Y\",F129>0)","v":false},{"$f":"AND($G$1=\"Y\",H129>0)","v":false},{"$f":"AND($I$1=\"Y\",J129>0)","v":false},{"$f":"AND($K$1=\"Y\",L129>0)","v":false},{"$f":"COUNTIF(Table101617[[#This Row],[Competed 1]:[Competed 5]],\"=TRUE\")","v":0}]
[null,"-","-",{"$f":"IF(C130=\"-\",0,C130)","v":0},"-",{"$f":"IF(E130=\"-\",0,E130)","v":0},"-",{"$f":"IF(G130=\"-\",0,G130)","v":0},"-",{"$f":"IF(I130=\"-\",0,I130)","v":0},"-",{"$f":"IF(K130=\"-\",0,K130)","v":0},{"$f":"Table101617[[#This Row],[School]]","v":"-"},{"$f":"D130+F130+H130+J130+L130","v":0},{"$f":"MAX(C130,E130,G130,I130,K130)","v":0},{"$f":"IF(Q130=1,N130,IF(Q130=0,(N130-O130),\"-\"))","v":"-"},{"$f":"$L$1-Table101617[Competed Count]","v":4},{"$f":"IF(Q130<2,\"Yes\",\"No\")","v":"No"},{"$f":"AND($C$1=\"Y\",D130>0)","v":false},{"$f":"AND($E$1=\"Y\",F130>0)","v":false},{"$f":"AND($G$1=\"Y\",H130>0)","v":false},{"$f":"AND($I$1=\"Y\",J130>0)","v":false},{"$f":"AND($K$1=\"Y\",L130>0)","v":false},{"$f":"COUNTIF(Table101617[[#This Row],[Competed 1]:[Competed 5]],\"=TRUE\")","v":0}]
[null,"-","-",{"$f":"IF(C131=\"-\",0,C131)","v":0},"-",{"$f":"IF(E131=\"-\",0,E131)","v":0},"-",{"$f":"IF(G131=\"-\",0,G131)","v":0},"-",{"$f":"IF(I131=\"-\",0,I131)","v":0},"-",{"$f":"IF(K131=\"-\",0,K131)","v":0},{"$f":"Table101617[[#This Row],[School]]","v":"-"},{"$f":"D131+F131+H131+J131+L131","v":0},{"$f":"MAX(C131,E131,G131,I131,K131)","v":0},{"$f":"IF(Q131=1,N131,IF(Q131=0,(N131-O131),\"-\"))","v":"-"},{"$f":"$L$1-Table101617[Competed Count]","v":4},{"$f":"IF(Q131<2,\"Yes\",\"No\")","v":"No"},{"$f":"AND($C$1=\"Y\",D131>0)","v":false},{"$f":"AND($E$1=\"Y\",F131>0)","v":false},{"$f":"AND($G$1=\"Y\",H131>0)","v":false},{"$f":"AND($I$1=\"Y\",J131>0)","v":false},{"$f":"AND($K$1=\"Y\",L131>0)","v":false},{"$f":"COUNTIF(Table101617[[#This Row],[Competed 1]:[Competed 5]],\"=TRUE\")","v":0}]
[null,"-","-",{"$f":"IF(C132=\"-\",0,C132)","v":0},"-",{"$f":"IF(E132=\"-\",0,E132)","v":0},"-",{"$f":"IF(G132=\"-\",0,G132)","v":0},"-",{"$f":"IF(I132=\"-\",0,I132)","v":0},"-",{"$f":"IF(K132=\"-\",0,K132)","v":0},{"$f":"Table101617[[#This Row],[School]]","v":"-"},{"$f":"D132+F132+H132+J132+L132","v":0},{"$f":"MAX(C132,E132,G132,I132,K132)","v":0},{"$f":"IF(Q132=1,N132,IF(Q132=0,(N132-O132),\"-\"))","v":"-"},{"$f":"$L$1-Table101617[Competed Count]","v":4},{"$f":"IF(Q132<2,\"Yes\",\"No\")","v":"No"},{"$f":"AND($C$1=\"Y\",D132>0)","v":false},{"$f":"AND($E$1=\"Y\",F132>0)","v":false},{"$f":"AND($G$1=\"Y\",H132>0)","v":false},{"$f":"AND($I$1=\"Y\",J132>0)","v":false},{"$f":"AND($K$1=\"Y\",L132>0)","v":false},{"$f":"COUNTIF(Table101617[[#This Row],[Competed 1]:[Competed 5]],\"=TRUE\")","v":0}]
[null,"-","-",{"$f":"IF(C133=\"-\",0,C133)","v":0},"-",{"$f":"IF(E133=\"-\",0,E133)","v":0},"-",{"$f":"IF(G133=\"-\",0,G133)","v":0},"-",{"$f":"IF(I133=\"-\",0,I133)","v":0},"-",{"$f":"IF(K133=\"-\",0,K133)","v":0},{"$f":"Table101617[[#This Row],[School]]","v":"-"},{"$f":"D133+F133+H133+J133+L133","v":0},{"$f":"MAX(C133,E133,G133,I133,K133)","v":0},{"$f":"IF(Q133=1,N133,IF(Q133=0,(N133-O133),\"-\"))","v":"-"},{"$f":"$L$1-Table101617[Competed Count]","v":4},{"$f":"IF(Q133<2,\"Yes\",\"No\")","v":"No"},{"$f":"AND($C$1=\"Y\",D133>0)","v":false},{"$f":"AND($E$1=\"Y\",F133>0)","v":false},{"$f":"AND($G$1=\"Y\",H133>0)","v":false},{"$f":"AND($I$1=\"Y\",J133>0)","v":false},{"$f":"AND($K$1=\"Y\",L133>0)","v":false},{"$f":"COUNTIF(Table101617[[#This Row],[Competed 1]:[Competed 5]],\"=TRUE\")","v":0}]
[null,"-","-",{"$f":"IF(C134=\"-\",0,C134)","v":0},"-",{"$f":"IF(E134=\"-\",0,E134)","v":0},"-",{"$f":"IF(G134=\"-\",0,G134)","v":0},"-",{"$f":"IF(I134=\"-\",0,I134)","v":0},"-",{"$f":"IF(K134=\"-\",0,K134)","v":0},{"$f":"Table101617[[#This Row],[School]]","v":"-"},{"$f":"D134+F134+H134+J134+L134","v":0},{"$f":"MAX(C134,E134,G134,I134,K134)","v":0},{"$f":"IF(Q134=1,N134,IF(Q134=0,(N134-O134),\"-\"))","v":"-"},{"$f":"$L$1-Table101617[Competed Count]","v":4},{"$f":"IF(Q134<2,\"Yes\",\"No\")","v":"No"},{"$f":"AND($C$1=\"Y\",D134>0)","v":false},{"$f":"AND($E$1=\"Y\",F134>0)","v":false},{"$f":"AND($G$1=\"Y\",H134>0)","v":false},{"$f":"AND($I$1=\"Y\",J134>0)","v":false},{"$f":"AND($K$1=\"Y\",L134>0)","v":false},{"$f":"COUNTIF(Table101617[[#This Row],[Competed 1]:[Competed 5]],\"=TRUE\")","v":0}]
[null,"-","-",{"$f":"IF(C135=\"-\",0,C135)","v":0},"-",{"$f":"IF(E135=\"-\",0,E135)","v":0},"-",{"$f":"IF(G135=\"-\",0,G135)","v":0},"-",{"$f":"IF(I135=\"-\",0,I135)","v":0},"-",{"$f":"IF(K135=\"-\",0,K135)","v":0},{"$f":"Table101617[[#This Row],[School]]","v":"-"},{"$f":"D135+F135+H135+J135+L135","v":0},{"$f":"MAX(C135,E135,G135,I135,K135)","v":0},{"$f":"IF(Q135=1,N135,IF(Q135=0,(N135-O135),\"-\"))","v":"-"},{"$f":"$L$1-Table101617[Competed Count]","v":4},{"$f":"IF(Q135<2,\"Yes\",\"No\")","v":"No"},{"$f":"AND($C$1=\"Y\",D135>0)","v":false},{"$f":"AND($E$1=\"Y\",F135>0)","v":false},{"$f":"AND($G$1=\"Y\",H135>0)","v":false},{"$f":"AND($I$1=\"Y\",J135>0)","v":false},{"$f":"AND($K$1=\"Y\",L135>0)","v":false},{"$f":"COUNTIF(Table101617[[#This Row],[Competed 1]:[Competed 5]],\"=TRUE\")","v":0}]
[null,"-","-",{"$f":"IF(C136=\"-\",0,C136)","v":0},"-",{"$f":"IF(E136=\"-\",0,E136)","v":0},"-",{"$f":"IF(G136=\"-\",0,G136)","v":0},"-",{"$f":"IF(I136=\"-\",0,I136)","v":0},"-",{"$f":"IF(K136=\"-\",0,K136)","v":0},{"$f":"Table101617[[#This Row],[School]]","v":"-"},{"$f":"D136+F136+H136+J136+L136","v":0},{"$f":"MAX(C136,E136,G136,I136,K136)","v":0},{"$f":"IF(Q136=1,N136,IF(Q136=0,(N136-O136),\"-\"))","v":"-"},{"$f":"$L$1-Table101617[Competed Count]","v":4},{"$f":"IF(Q136<2,\"Yes\",\"No\")","v":"No"},{"$f":"AND($C$1=\"Y\",D136>0)","v":false},{"$f":"AND($E$1=\"Y\",F136>0)","v":false},{"$f":"AND($G$1=\"Y\",H136>0)","v":false},{"$f":"AND($I$1=\"Y\",J136>0)","v":false},{"$f":"AND($K$1=\"Y\",L136>0)","v":false},{"$f":"COUNTIF(Table101617[[#This Row],[Competed 1]:[Competed 5]],\"=TRUE\")","v":0}]
[null,"-","-",{"$f":"IF(C137=\"-\",0,C137)","v":0},"-",{"$f":"IF(E137=\"-\",0,E137)","v":0},"-",{"$f":"IF(G137=\"-\",0,G137)","v":0},"-",{"$f":"IF(I137=\"-\",0,I137)","v":0},"-",{"$f":"IF(K137=\"-\",0,K137)","v":0},{"$f":"Table101617[[#This Row],[School]]","v":"-"},{"$f":"D137+F137+H137+J137+L137","v":0},{"$f":"MAX(C137,E137,G137,I137,K137)","v":0},{"$f":"IF(Q137=1,N137,IF(Q137=0,(N137-O137),\"-\"))","v":"-"},{"$f":"$L$1-Table101617[Competed Count]","v":4},{"$f":"IF(Q137<2,\"Yes\",\"No\")","v":"No"},{"$f":"AND($C$1=\"Y\",D137>0)","v":false},{"$f":"AND($E$1=\"Y\",F137>0)","v":false},{"$f":"AND($G$1=\"Y\",H137>0)","v":false},{"$f":"AND($I$1=\"Y\",J137>0)","v":false},{"$f":"AND($K$1=\"Y\",L137>0)","v":false},{"$f":"COUNTIF(Table101617[[#This Row],[Competed 1]:[Competed 5]],\"=TRUE\")","v":0}]
[null,"-","-",{"$f":"IF(C138=\"-\",0,C138)","v":0},"-",{"$f":"IF(E138=\"-\",0,E138)","v":0},"-",{"$f":"IF(G138=\"-\",0,G138)","v":0},"-",{"$f":"IF(I138=\"-\",0,I138)","v":0},"-",{"$f":"IF(K138=\"-\",0,K138)","v":0},{"$f":"Table101617[[#This Row],[School]]","v":"-"},{"$f":"D138+F138+H138+J138+L138","v":0},{"$f":"MAX(C138,E138,G138,I138,K138)","v":0},{"$f":"IF(Q138=1,N138,IF(Q138=0,(N138-O138),\"-\"))","v":"-"},{"$f":"$L$1-Table101617[Competed Count]","v":4},{"$f":"IF(Q138<2,\"Yes\",\"No\")","v":"No"},{"$f":"AND($C$1=\"Y\",D138>0)","v":false},{"$f":"AND($E$1=\"Y\",F138>0)","v":false},{"$f":"AND($G$1=\"Y\",H138>0)","v":false},{"$f":"AND($I$1=\"Y\",J138>0)","v":false},{"$f":"AND($K$1=\"Y\",L138>0)","v":false},{"$f":"COUNTIF(Table101617[[#This Row],[Competed 1]:[Competed 5]],\"=TRUE\")","v":0}]
[null,"-","-",{"$f":"IF(C139=\"-\",0,C139)","v":0},"-",{"$f":"IF(E139=\"-\",0,E139)","v":0},"-",{"$f":"IF(G139=\"-\",0,G139)","v":0},"-",{"$f":"IF(I139=\"-\",0,I139)","v":0},"-",{"$f":"IF(K139=\"-\",0,K139)","v":0},{"$f":"Table101617[[#This Row],[School]]","v":"-"},{"$f":"D139+F139+H139+J139+L139","v":0},{"$f":"MAX(C139,E139,G139,I139,K139)","v":0},{"$f":"IF(Q139=1,N139,IF(Q139=0,(N139-O139),\"-\"))","v":"-"},{"$f":"$L$1-Table101617[Competed Count]","v":4},{"$f":"IF(Q139<2,\"Yes\",\"No\")","v":"No"},{"$f":"AND($C$1=\"Y\",D139>0)","v":false},{"$f":"AND($E$1=\"Y\",F139>0)","v":false},{"$f":"AND($G$1=\"Y\",H139>0)","v":false},{"$f":"AND($I$1=\"Y\",J139>0)","v":false},{"$f":"AND($K$1=\"Y\",L139>0)","v":false},{"$f":"COUNTIF(Table101617[[#This Row],[Competed 1]:[Competed 5]],\"=TRUE\")","v":0}]
[null,"-","-",{"$f":"IF(C140=\"-\",0,C140)","v":0},"-",{"$f":"IF(E140=\"-\",0,E140)","v":0},"-",{"$f":"IF(G140=\"-\",0,G140)","v":0},"-",{"$f":"IF(I140=\"-\",0,I140)","v":0},"-",{"$f":"IF(K140=\"-\",0,K140)","v":0},{"$f":"Table101617[[#This Row],[School]]","v":"-"},{"$f":"D140+F140+H140+J140+L140","v":0},{"$f":"MAX(C140,E140,G140,I140,K140)","v":0},{"$f":"IF(Q140=1,N140,IF(Q140=0,(N140-O140),\"-\"))","v":"-"},{"$f":"$L$1-Table101617[Competed Count]","v":4},{"$f":"IF(Q140<2,\"Yes\",\"No\")","v":"No"},{"$f":"AND($C$1=\"Y\",D140>0)","v":false},{"$f":"AND($E$1=\"Y\",F140>0)","v":false},{"$f":"AND($G$1=\"Y\",H140>0)","v":false},{"$f":"AND($I$1=\"Y\",J140>0)","v":false},{"$f":"AND($K$1=\"Y\",L140>0)","v":false},{"$f":"COUNTIF(Table101617[[#This Row],[Competed 1]:[Competed 5]],\"=TRUE\")","v":0}]
[null,"-","-",{"$f":"IF(C141=\"-\",0,C141)","v":0},"-",{"$f":"IF(E141=\"-\",0,E141)","v":0},"-",{"$f":"IF(G141=\"-\",0,G141)","v":0},"-",{"$f":"IF(I141=\"-\",0,I141)","v":0},"-",{"$f":"IF(K141=\"-\",0,K141)","v":0},{"$f":"Table101617[[#This Row],[School]]","v":"-"},{"$f":"D141+F141+H141+J141+L141","v":0},{"$f":"MAX(C141,E141,G141,I141,K141)","v":0},{"$f":"IF(Q141=1,N141,IF(Q141=0,(N141-O141),\"-\"))","v":"-"},{"$f":"$L$1-Table101617[Competed Count]","v":4},{"$f":"IF(Q141<2,\"Yes\",\"No\")","v":"No"},{"$f":"AND($C$1=\"Y\",D141>0)","v":false},{"$f":"AND($E$1=\"Y\",F141>0)","v":false},{"$f":"AND($G$1=\"Y\",H141>0)","v":false},{"$f":"AND($I$1=\"Y\",J141>0)","v":false},{"$f":"AND($K$1=\"Y\",L141>0)","v":false},{"$f":"COUNTIF(Table101617[[#This Row],[Competed 1]:[Competed 5]],\"=TRUE\")","v":0}]
[null,"-","-",{"$f":"IF(C142=\"-\",0,C142)","v":0},"-",{"$f":"IF(E142=\"-\",0,E142)","v":0},"-",{"$f":"IF(G142=\"-\",0,G142)","v":0},"-",{"$f":"IF(I142=\"-\",0,I142)","v":0},"-",{"$f":"IF(K142=\"-\",0,K142)","v":0},{"$f":"Table101617[[#This Row],[School]]","v":"-"},{"$f":"D142+F142+H142+J142+L142","v":0},{"$f":"MAX(C142,E142,G142,I142,K142)","v":0},{"$f":"IF(Q142=1,N142,IF(Q142=0,(N142-O142),\"-\"))","v":"-"},{"$f":"$L$1-Table101617[Competed Count]","v":4},{"$f":"IF(Q142<2,\"Yes\",\"No\")","v":"No"},{"$f":"AND($C$1=\"Y\",D142>0)","v":false},{"$f":"AND($E$1=\"Y\",F142>0)","v":false},{"$f":"AND($G$1=\"Y\",H142>0)","v":false},{"$f":"AND($I$1=\"Y\",J142>0)","v":false},{"$f":"AND($K$1=\"Y\",L142>0)","v":false},{"$f":"COUNTIF(Table101617[[#This Row],[Competed 1]:[Competed 5]],\"=TRUE\")","v":0}]
[null,"-","-",{"$f":"IF(C143=\"-\",0,C143)","v":0},"-",{"$f":"IF(E143=\"-\",0,E143)","v":0},"-",{"$f":"IF(G143=\"-\",0,G143)","v":0},"-",{"$f":"IF(I143=\"-\",0,I143)","v":0},"-",{"$f":"IF(K143=\"-\",0,K143)","v":0},{"$f":"Table101617[[#This Row],[School]]","v":"-"},{"$f":"D143+F143+H143+J143+L143","v":0},{"$f":"MAX(C143,E143,G143,I143,K143)","v":0},{"$f":"IF(Q143=1,N143,IF(Q143=0,(N143-O143),\"-\"))","v":"-"},{"$f":"$L$1-Table101617[Competed Count]","v":4},{"$f":"IF(Q143<2,\"Yes\",\"No\")","v":"No"},{"$f":"AND($C$1=\"Y\",D143>0)","v":false},{"$f":"AND($E$1=\"Y\",F143>0)","v":false},{"$f":"AND($G$1=\"Y\",H143>0)","v":false},{"$f":"AND($I$1=\"Y\",J143>0)","v":false},{"$f":"AND($K$1=\"Y\",L143>0)","v":false},{"$f":"COUNTIF(Table101617[[#This Row],[Competed 1]:[Competed 5]],\"=TRUE\")","v":0}]
[null,"-","-",{"$f":"IF(C144=\"-\",0,C144)","v":0},"-",{"$f":"IF(E144=\"-\",0,E144)","v":0},"-",{"$f":"IF(G144=\"-\",0,G144)","v":0},"-",{"$f":"IF(I144=\"-\",0,I144)","v":0},"-",{"$f":"IF(K144=\"-\",0,K144)","v":0},{"$f":"Table101617[[#This Row],[School]]","v":"-"},{"$f":"D144+F144+H144+J144+L144","v":0},{"$f":"MAX(C144,E144,G144,I144,K144)","v":0},{"$f":"IF(Q144=1,N144,IF(Q144=0,(N144-O144),\"-\"))","v":"-"},{"$f":"$L$1-Table101617[Competed Count]","v":4},{"$f":"IF(Q144<2,\"Yes\",\"No\")","v":"No"},{"$f":"AND($C$1=\"Y\",D144>0)","v":false},{"$f":"AND($E$1=\"Y\",F144>0)","v":false},{"$f":"AND($G$1=\"Y\",H144>0)","v":false},{"$f":"AND($I$1=\"Y\",J144>0)","v":false},{"$f":"AND($K$1=\"Y\",L144>0)","v":false},{"$f":"COUNTIF(Table101617[[#This Row],[Competed 1]:[Competed 5]],\"=TRUE\")","v":0}]
[null,"-","-",{"$f":"IF(C145=\"-\",0,C145)","v":0},"-",{"$f":"IF(E145=\"-\",0,E145)","v":0},"-",{"$f":"IF(G145=\"-\",0,G145)","v":0},"-",{"$f":"IF(I145=\"-\",0,I145)","v":0},"-",{"$f":"IF(K145=\"-\",0,K145)","v":0},{"$f":"Table101617[[#This Row],[School]]","v":"-"},{"$f":"D145+F145+H145+J145+L145","v":0},{"$f":"MAX(C145,E145,G145,I145,K145)","v":0},{"$f":"IF(Q145=1,N145,IF(Q145=0,(N145-O145),\"-\"))","v":"-"},{"$f":"$L$1-Table101617[Competed Count]","v":4},{"$f":"IF(Q145<2,\"Yes\",\"No\")","v":"No"},{"$f":"AND($C$1=\"Y\",D145>0)","v":false},{"$f":"AND($E$1=\"Y\",F145>0)","v":false},{"$f":"AND($G$1=\"Y\",H145>0)","v":false},{"$f":"AND($I$1=\"Y\",J145>0)","v":false},{"$f":"AND($K$1=\"Y\",L145>0)","v":false},{"$f":"COUNTIF(Table101617[[#This Row],[Competed 1]:[Competed 5]],\"=TRUE\")","v":0}]
[null,"-","-",{"$f":"IF(C146=\"-\",0,C146)","v":0},"-",{"$f":"IF(E146=\"-\",0,E146)","v":0},"-",{"$f":"IF(G146=\"-\",0,G146)","v":0},"-",{"$f":"IF(I146=\"-\",0,I146)","v":0},"-",{"$f":"IF(K146=\"-\",0,K146)","v":0},{"$f":"Table101617[[#This Row],[School]]","v":"-"},{"$f":"D146+F146+H146+J146+L146","v":0},{"$f":"MAX(C146,E146,G146,I146,K146)","v":0},{"$f":"IF(Q146=1,N146,IF(Q146=0,(N146-O146),\"-\"))","v":"-"},{"$f":"$L$1-Table101617[Competed Count]","v":4},{"$f":"IF(Q146<2,\"Yes\",\"No\")","v":"No"},{"$f":"AND($C$1=\"Y\",D146>0)","v":false},{"$f":"AND($E$1=\"Y\",F146>0)","v":false},{"$f":"AND($G$1=\"Y\",H146>0)","v":false},{"$f":"AND($I$1=\"Y\",J146>0)","v":false},{"$f":"AND($K$1=\"Y\",L146>0)","v":false},{"$f":"COUNTIF(Table101617[[#This Row],[Competed 1]:[Competed 5]],\"=TRUE\")","v":0}]
[null,"-","-",{"$f":"IF(C147=\"-\",0,C147)","v":0},"-",{"$f":"IF(E147=\"-\",0,E147)","v":0},"-",{"$f":"IF(G147=\"-\",0,G147)","v":0},"-",{"$f":"IF(I147=\"-\",0,I147)","v":0},"-",{"$f":"IF(K147=\"-\",0,K147)","v":0},{"$f":"Table101617[[#This Row],[School]]","v":"-"},{"$f":"D147+F147+H147+J147+L147","v":0},{"$f":"MAX(C147,E147,G147,I147,K147)","v":0},{"$f":"IF(Q147=1,N147,IF(Q147=0,(N147-O147),\"-\"))","v":"-"},{"$f":"$L$1-Table101617[Competed Count]","v":4},{"$f":"IF(Q147<2,\"Yes\",\"No\")","v":"No"},{"$f":"AND($C$1=\"Y\",D147>0)","v":false},{"$f":"AND($E$1=\"Y\",F147>0)","v":false},{"$f":"AND($G$1=\"Y\",H147>0)","v":false},{"$f":"AND($I$1=\"Y\",J147>0)","v":false},{"$f":"AND($K$1=\"Y\",L147>0)","v":false},{"$f":"COUNTIF(Table101617[[#This Row],[Competed 1]:[Competed 5]],\"=TRUE\")","v":0}]
[null,"-","-",{"$f":"IF(C148=\"-\",0,C148)","v":0},"-",{"$f":"IF(E148=\"-\",0,E148)","v":0},"-",{"$f":"IF(G148=\"-\",0,G148)","v":0},"-",{"$f":"IF(I148=\"-\",0,I148)","v":0},"-",{"$f":"IF(K148=\"-\",0,K148)","v":0},{"$f":"Table101617[[#This Row],[School]]","v":"-"},{"$f":"D148+F148+H148+J148+L148","v":0},{"$f":"MAX(C148,E148,G148,I148,K148)","v":0},{"$f":"IF(Q148=1,N148,IF(Q148=0,(N148-O148),\"-\"))","v":"-"},{"$f":"$L$1-Table101617[Competed Count]","v":4},{"$f":"IF(Q148<2,\"Yes\",\"No\")","v":"No"},{"$f":"AND($C$1=\"Y\",D148>0)","v":false},{"$f":"AND($E$1=\"Y\",F148>0)","v":false},{"$f":"AND($G$1=\"Y\",H148>0)","v":false},{"$f":"AND($I$1=\"Y\",J148>0)","v":false},{"$f":"AND($K$1=\"Y\",L148>0)","v":false},{"$f":"COUNTIF(Table101617[[#This Row],[Competed 1]:[Competed 5]],\"=TRUE\")","v":0}]
[null,"-","-",{"$f":"IF(C149=\"-\",0,C149)","v":0},"-",{"$f":"IF(E149=\"-\",0,E149)","v":0},"-",{"$f":"IF(G149=\"-\",0,G149)","v":0},"-",{"$f":"IF(I149=\"-\",0,I149)","v":0},"-",{"$f":"IF(K149=\"-\",0,K149)","v":0},{"$f":"Table101617[[#This Row],[School]]","v":"-"},{"$f":"D149+F149+H149+J149+L149","v":0},{"$f":"MAX(C149,E149,G149,I149,K149)","v":0},{"$f":"IF(Q149=1,N149,IF(Q149=0,(N149-O149),\"-\"))","v":"-"},{"$f":"$L$1-Table101617[Competed Count]","v":4},{"$f":"IF(Q149<2,\"Yes\",\"No\")","v":"No"},{"$f":"AND($C$1=\"Y\",D149>0)","v":false},{"$f":"AND($E$1=\"Y\",F149>0)","v":false},{"$f":"AND($G$1=\"Y\",H149>0)","v":false},{"$f":"AND($I$1=\"Y\",J149>0)","v":false},{"$f":"AND($K$1=\"Y\",L149>0)","v":false},{"$f":"COUNTIF(Table101617[[#This Row],[Competed 1]:[Competed 5]],\"=TRUE\")","v":0}]
[null,"-","-",{"$f":"IF(C150=\"-\",0,C150)","v":0},"-",{"$f":"IF(E150=\"-\",0,E150)","v":0},"-",{"$f":"IF(G150=\"-\",0,G150)","v":0},"-",{"$f":"IF(I150=\"-\",0,I150)","v":0},"-",{"$f":"IF(K150=\"-\",0,K150)","v":0},{"$f":"Table101617[[#This Row],[School]]","v":"-"},{"$f":"D150+F150+H150+J150+L150","v":0},{"$f":"MAX(C150,E150,G150,I150,K150)","v":0},{"$f":"IF(Q150=1,N150,IF(Q150=0,(N150-O150),\"-\"))","v":"-"},{"$f":"$L$1-Table101617[Competed Count]","v":4},{"$f":"IF(Q150<2,\"Yes\",\"No\")","v":"No"},{"$f":"AND($C$1=\"Y\",D150>0)","v":false},{"$f":"AND($E$1=\"Y\",F150>0)","v":false},{"$f":"AND($G$1=\"Y\",H150>0)","v":false},{"$f":"AND($I$1=\"Y\",J150>0)","v":false},{"$f":"AND($K$1=\"Y\",L150>0)","v":false},{"$f":"COUNTIF(Table101617[[#This Row],[Competed 1]:[Competed 5]],\"=TRUE\")","v":0}]

{"sheet":"IB","index":5,"n_rows":150,"n_cols":29,"rows_kept":150,"cut":false,"hidden":false,"merged":[]}
["Total Number of Runners","Race Complete (Y/N) ",{"$f":"Y7G!C1","v":"Y"},null,{"$f":"Y7G!E1","v":"Y"},null,{"$f":"Y7G!G1","v":"Y"},null,{"$f":"Y7G!I1","v":"Y"},null,{"$f":"Y7G!K1","v":"N"},{"$f":"COUNTIF(C1:K1,\"=Y\")","v":4},null,null,null,null,null,"Total Eligible for League",null,{"$f":"IF(K1=\"Y\",1,0)","v":0},null,{"$f":"SUM(S1:T1)","v":0}]
[{"$f":"COUNTA(A5:A300)","v":49},"No of Finishers",38,{"$f":"MAX(D5:D151)","v":38},31,31,27,27,24,23,null,null,null,null,null,null,null,{"$f":"COUNTIF(R5:R200,\"Yes\")","v":25}]
["Inter Boys","Number of results recorded",{"$f":"COUNTIF(C5:C150,\">0\")","v":38},null,{"$f":"COUNTIF(F5:F150,\">0\")","v":31},null,{"$f":"COUNTIF(H5:H150,\">0\")","v":27},null,{"$f":"COUNTIF(J5:J150,\">0\")","v":23},null,0]
["Name","School","Race 1","Normalised result -1","Race 2","Normalised result -2","Race 3","Normalised result -3","Race 4","Normalised result -4","Race 5","Normalised result -5","Duplicate School","Total\n(All Races)","Lowest Place Finish","Final Total","League contender?\n(No. of races - missed)","Eligible For League Title","Competed 1","Competed 2","Competed 3","Competed 4","Competed 5","Competed Count",null,null,null,null," "]
["Olly Rouse","Loughborough Grammar School","-",{"$f":"IF(C5=\"-\",0,C5)","v":0},"-",{"$f":"IF(E5=\"-\",0,E5)","v":0},1,{"$f":"IF(G5=\"-\",0,G5)","v":1},1,{"$f":"IF(I5=\"-\",0,I5)","v":1},"-",{"$f":"IF(K5=\"-\",0,K5)","v":0},{"$f":"Table10161718[[#This Row],[School]]","v":"Loughborough Grammar School"},{"$f":"D5+F5+H5+J5+L5","v":2},{"$f":"MAX(C5,E5,G5,I5,K5)","v":1},{"$f":"IF(Q5=1,N5,IF(Q5=0,(N5-O5),\"-\"))","v":"-"},{"$f":"$L$1-Table10161718[Competed Count]","v":2},{"$f":"IF(Q5<2,\"Yes\",\"No\")","v":"No"},{"$f":"AND($C$1=\"Y\",D5>0)","v":false},{"$f":"AND($E$1=\"Y\",F5>0)","v":false},{"$f":"AND($G$1=\"Y\",H5>0)","v":true},{"$f":"AND($I$1=\"Y\",J5>0)","v":true},{"$f":"AND($K$1=\"Y\",L5>0)","v":false},{"$f":"COUNTIF(Table10161718[[#This Row],[Competed 1]:[Competed 5]],\"=TRUE\")","v":2}]
["Ben Rouse","Loughborough Grammar School",1,{"$f":"IF(C6=\"-\",0,C6)","v":1},1,{"$f":"IF(E6=\"-\",0,E6)","v":1},2,{"$f":"IF(G6=\"-\",0,G6)","v":2},2,{"$f":"IF(I6=\"-\",0,I6)","v":2},"-",{"$f":"IF(K6=\"-\",0,K6)","v":0},{"$f":"Table10161718[[#This Row],[School]]","v":"Loughborough Grammar School"},{"$f":"D6+F6+H6+J6+L6","v":6},{"$f":"MAX(C6,E6,G6,I6,K6)","v":2},{"$f":"IF(Q6=1,N6,IF(Q6=0,(N6-O6),\"-\"))","v":4},{"$f":"$L$1-Table10161718[Competed Count]","v":0},{"$f":"IF(Q6<2,\"Yes\",\"No\")","v":"Yes"},{"$f":"AND($C$1=\"Y\",D6>0)","v":true},{"$f":"AND($E$1=\"Y\",F6>0)","v":true},{"$f":"AND($G$1=\"Y\",H6>0)","v":true},{"$f":"AND($I$1=\"Y\",J6>0)","v":true},{"$f":"AND($K$1=\"Y\",L6>0)","v":false},{"$f":"COUNTIF(Table10161718[[#This Row],[Competed 1]:[Competed 5]],\"=TRUE\")","v":4}]
["George Shephard","King Edward VII College",2,{"$f":"IF(C7=\"-\",0,C7)","v":2},"-",{"$f":"IF(E7=\"-\",0,E7)","v":0},5,{"$f":"IF(G7=\"-\",0,G7)","v":5},3,{"$f":"IF(I7=\"-\",0,I7)","v":3},"-",{"$f":"IF(K7=\"-\",0,K7)","v":0},{"$f":"Table10161718[[#This Row],[School]]","v":"King Edward VII College"},{"$f":"D7+F7+H7+J7+L7","v":10},{"$f":"MAX(C7,E7,G7,I7,K7)","v":5},{"$f":"IF(Q7=1,N7,IF(Q7=0,(N7-O7),\"-\"))","v":10},{"$f":"$L$1-Table10161718[Competed Count]","v":1},{"$f":"IF(Q7<2,\"Yes\",\"No\")","v":"Yes"},{"$f":"AND($C$1=\"Y\",D7>0)","v":true},{"$f":"AND($E$1=\"Y\",F7>0)","v":false},{"$f":"AND($G$1=\"Y\",H7>0)","v":true},{"$f":"AND($I$1=\"Y\",J7>0)","v":true},{"$f":"AND($K$1=\"Y\",L7>0)","v":false},{"$f":"COUNTIF(Table10161718[[#This Row],[Competed 1]:[Competed 5]],\"=TRUE\")","v":3}]
["Charlie McGlinchey","The Martin High School",4,{"$f":"IF(C8=\"-\",0,C8)","v":4},"-",{"$f":"IF(E8=\"-\",0,E8)","v":0},3,{"$f":"IF(G8=\"-\",0,G8)","v":3},4,{"$f":"IF(I8=\"-\",0,I8)","v":4},"-",{"$f":"IF(K8=\"-\",0,K8)","v":0},{"$f":"Table10161718[[#This Row],[School]]","v":"The Martin High School"},{"$f":"D8+F8+H8+J8+L8","v":11},{"$f":"MAX(C8,E8,G8,I8,K8)","v":4},{"$f":"IF(Q8=1,N8,IF(Q8=0,(N8-O8),\"-\"))","v":11},{"$f":"$L$1-Table10161718[Competed Count]","v":1},{"$f":"IF(Q8<2,\"Yes\",\"No\")","v":"Yes"},{"$f":"AND($C$1=\"Y\",D8>0)","v":true},{"$f":"AND($E$1=\"Y\",F8>0)","v":false},{"$f":"AND($G$1=\"Y\",H8>0)","v":true},{"$f":"AND($I$1=\"Y\",J8>0)","v":true},{"$f":"AND($K$1=\"Y\",L8>0)","v":false},{"$f":"COUNTIF(Table10161718[[#This Row],[Competed 1]:[Competed 5]],\"=TRUE\")","v":3}]
["Joel Dungworth","Charnwood College",9,{"$f":"IF(C9=\"-\",0,C9)","v":9},5,{"$f":"IF(E9=\"-\",0,E9)","v":5},7,{"$f":"IF(G9=\"-\",0,G9)","v":7},5,{"$f":"IF(I9=\"-\",0,I9)","v":5},"-",{"$f":"IF(K9=\"-\",0,K9)","v":0},{"$f":"Table10161718[[#This Row],[School]]","v":"Charnwood College"},{"$f":"D9+F9+H9+J9+L9","v":26},{"$f":"MAX(C9,E9,G9,I9,K9)","v":9},{"$f":"IF(Q9=1,N9,IF(Q9=0,(N9-O9),\"-\"))","v":17},{"$f":"$L$1-Table10161718[Competed Count]","v":0},{"$f":"IF(Q9<2,\"Yes\",\"No\")","v":"Yes"},{"$f":"AND($C$1=\"Y\",D9>0)","v":true},{"$f":"AND($E$1=\"Y\",F9>0)","v":true},{"$f":"AND($G$1=\"Y\",H9>0)","v":true},{"$f":"AND($I$1=\"Y\",J9>0)","v":true},{"$f":"AND($K$1=\"Y\",L9>0)","v":false},{"$f":"COUNTIF(Table10161718[[#This Row],[Competed 1]:[Competed 5]],\"=TRUE\")","v":4}]
["Hayden Greaves","Oakham School",6,{"$f":"IF(C10=\"-\",0,C10)","v":6},"-",{"$f":"IF(E10=\"-\",0,E10)","v":0},8,{"$f":"IF(G10=\"-\",0,G10)","v":8},6,{"$f":"IF(I10=\"-\",0,I10)","v":6},"-",{"$f":"IF(K10=\"-\",0,K10)","v":0},{"$f":"Table10161718[[#This Row],[School]]","v":"Oakham School"},{"$f":"D10+F10+H10+J10+L10","v":20},{"$f":"MAX(C10,E10,G10,I10,K10)","v":8},{"$f":"IF(Q10=1,N10,IF(Q10=0,(N10-O10),\"-\"))","v":20},{"$f":"$L$1-Table10161718[Competed Count]","v":1},{"$f":"IF(Q10<2,\"Yes\",\"No\")","v":"Yes"},{"$f":"AND($C$1=\"Y\",D10>0)","v":true},{"$f":"AND($E$1=\"Y\",F10>0)","v":false},{"$f":"AND($G$1=\"Y\",H10>0)","v":true},{"$f":"AND($I$1=\"Y\",J10>0)","v":true},{"$f":"AND($K$1=\"Y\",L10>0)","v":false},{"$f":"COUNTIF(Table10161718[[#This Row],[Competed 1]:[Competed 5]],\"=TRUE\")","v":3}]
["Adam Bowley","Hind Leys College",10,{"$f":"IF(C11=\"-\",0,C11)","v":10},"-",{"$f":"IF(E11=\"-\",0,E11)","v":0},10,{"$f":"IF(G11=\"-\",0,G11)","v":10},7,{"$f":"IF(I11=\"-\",0,I11)","v":7},"-",{"$f":"IF(K11=\"-\",0,K11)","v":0},{"$f":"Table10161718[[#This Row],[School]]","v":"Hind Leys College"},{"$f":"D11+F11+H11+J11+L11","v":27},{"$f":"MAX(C11,E11,G11,I11,K11)","v":10},{"$f":"IF(Q11=1,N11,IF(Q11=0,(N11-O11),\"-\"))","v":27},{"$f":"$L$1-Table10161718[Competed Count]","v":1},{"$f":"IF(Q11<2,\"Yes\",\"No\")","v":"Yes"},{"$f":"AND($C$1=\"Y\",D11>0)","v":true},{"$f":"AND($E$1=\"Y\",F11>0)","v":false},{"$f":"AND($G$1=\"Y\",H11>0)","v":true},{"$f":"AND($I$1=\"Y\",J11>0)","v":true},{"$f":"AND($K$1=\"Y\",L11>0)","v":false},{"$f":"COUNTIF(Table10161718[[#This Row],[Competed 1]:[Competed 5]],\"=TRUE\")","v":3}]
["Jared Cutler","Dixie Grammar School",11,{"$f":"IF(C12=\"-\",0,C12)","v":11},"-",{"$f":"IF(E12=\"-\",0,E12)","v":0},"-",{"$f":"IF(G12=\"-\",0,G12)","v":0},8,{"$f":"IF(I12=\"-\",0,I12)","v":8},"-",{"$f":"IF(K12=\"-\",0,K12)","v":0},{"$f":"Table10161718[[#This Row],[School]]","v":"Dixie Grammar School"},{"$f":"D12+F12+H12+J12+L12","v":19},{"$f":"MAX(C12,E12,G12,I12,K12)","v":11},{"$f":"IF(Q12=1,N12,IF(Q12=0,(N12-O12),\"-\"))","v":"-"},{"$f":"$L$1-Table10161718[Competed Count]","v":2},{"$f":"IF(Q12<2,\"Yes\",\"No\")","v":"No"},{"$f":"AND($C$1=\"Y\",D12>0)","v":true},{"$f":"AND($E$1=\"Y\",F12>0)","v":false},{"$f":"AND($G$1=\"Y\",H12>0)","v":false},{"$f":"AND($I$1=\"Y\",J12>0)","v":true},{"$f":"AND($K$1=\"Y\",L12>0)","v":false},{"$f":"COUNTIF(Table10161718[[#This Row],[Competed 1]:[Competed 5]],\"=TRUE\")","v":2}]
["Charlie Hirst","John Ferneley College",12,{"$f":"IF(C13=\"-\",0,C13)","v":12},7,{"$f":"IF(E13=\"-\",0,E13)","v":7},9,{"$f":"IF(G13=\"-\",0,G13)","v":9},9,{"$f":"IF(I13=\"-\",0,I13)","v":9},"-",{"$f":"IF(K13=\"-\",0,K13)","v":0},{"$f":"Table10161718[[#This Row],[School]]","v":"John Ferneley College"},{"$f":"D13+F13+H13+J13+L13","v":37},{"$f":"MAX(C13,E13,G13,I13,K13)","v":12},{"$f":"IF(Q13=1,N13,IF(Q13=0,(N13-O13),\"-\"))","v":25},{"$f":"$L$1-Table10161718[Competed Count]","v":0},{"$f":"IF(Q13<2,\"Yes\",\"No\")","v":"Yes"},{"$f":"AND($C$1=\"Y\",D13>0)","v":true},{"$f":"AND($E$1=\"Y\",F13>0)","v":true},{"$f":"AND($G$1=\"Y\",H13>0)","v":true},{"$f":"AND($I$1=\"Y\",J13>0)","v":true},{"$f":"AND($K$1=\"Y\",L13>0)","v":false},{"$f":"COUNTIF(Table10161718[[#This Row],[Competed 1]:[Competed 5]],\"=TRUE\")","v":4}]
["Jack Denton","John Ferneley College",8,{"$f":"IF(C14=\"-\",0,C14)","v":8},"-",{"$f":"IF(E14=\"-\",0,E14)","v":0},11,{"$f":"IF(G14=\"-\",0,G14)","v":11},10,{"$f":"IF(I14=\"-\",0,I14)","v":10},"-",{"$f":"IF(K14=\"-\",0,K14)","v":0},{"$f":"Table10161718[[#This Row],[School]]","v":"John Ferneley College"},{"$f":"D14+F14+H14+J14+L14","v":29},{"$f":"MAX(C14,E14,G14,I14,K14)","v":11},{"$f":"IF(Q14=1,N14,IF(Q14=0,(N14-O14),\"-\"))","v":29},{"$f":"$L$1-Table10161718[Competed Count]","v":1},{"$f":"IF(Q14<2,\"Yes\",\"No\")","v":"Yes"},{"$f":"AND($C$1=\"Y\",D14>0)","v":true},{"$f":"AND($E$1=\"Y\",F14>0)","v":false},{"$f":"AND($G$1=\"Y\",H14>0)","v":true},{"$f":"AND($I$1=\"Y\",J14>0)","v":true},{"$f":"AND($K$1=\"Y\",L14>0)","v":false},{"$f":"COUNTIF(Table10161718[[#This Row],[Competed 1]:[Competed 5]],\"=TRUE\")","v":3}]
["Daniel Brown","Rawlins Academy","-",{"$f":"IF(C15=\"-\",0,C15)","v":0},"-",{"$f":"IF(E15=\"-\",0,E15)","v":0},"-",{"$f":"IF(G15=\"-\",0,G15)","v":0},11,{"$f":"IF(I15=\"-\",0,I15)","v":11},"-",{"$f":"IF(K15=\"-\",0,K15)","v":0},{"$f":"Table10161718[[#This Row],[School]]","v":"Rawlins Academy"},{"$f":"D15+F15+H15+J15+L15","v":11},{"$f":"MAX(C15,E15,G15,I15,K15)","v":11},{"$f":"IF(Q15=1,N15,IF(Q15=0,(N15-O15),\"-\"))","v":"-"},{"$f":"$L$1-Table10161718[Competed Count]","v":3},{"$f":"IF(Q15<2,\"Yes\",\"No\")","v":"No"},{"$f":"AND($C$1=\"Y\",D15>0)","v":false},{"$f":"AND($E$1=\"Y\",F15>0)","v":false},{"$f":"AND($G$1=\"Y\",H15>0)","v":false},{"$f":"AND($I$1=\"Y\",J15>0)","v":true},{"$f":"AND($K$1=\"Y\",L15>0)","v":false},{"$f":"COUNTIF(Table10161718[[#This Row],[Competed 1]:[Competed 5]],\"=TRUE\")","v":1}]
["Zach Spence","The Cedars Academy",17,{"$f":"IF(C16=\"-\",0,C16)","v":17},13,{"$f":"IF(E16=\"-\",0,E16)","v":13},15,{"$f":"IF(G16=\"-\",0,G16)","v":15},12,{"$f":"IF(I16=\"-\",0,I16)","v":12},"-",{"$f":"IF(K16=\"-\",0,K16)","v":0},{"$f":"Table10161718[[#This Row],[School]]","v":"The Cedars Academy"},{"$f":"D16+F16+H16+J16+L16","v":57},{"$f":"MAX(C16,E16,G16,I16,K16)","v":17},{"$f":"IF(Q16=1,N16,IF(Q16=0,(N16-O16),\"-\"))","v":40},{"$f":"$L$1-Table10161718[Competed Count]","v":0},{"$f":"IF(Q16<2,\"Yes\",\"No\")","v":"Yes"},{"$f":"AND($C$1=\"Y\",D16>0)","v":true},{"$f":"AND($E$1=\"Y\",F16>0)","v":true},{"$f":"AND($G$1=\"Y\",H16>0)","v":true},{"$f":"AND($I$1=\"Y\",J16>0)","v":true},{"$f":"AND($K$1=\"Y\",L16>0)","v":false},{"$f":"COUNTIF(Table10161718[[#This Row],[Competed 1]:[Competed 5]],\"=TRUE\")","v":4}]
["Adam Oliver","Hastings High School",16,{"$f":"IF(C17=\"-\",0,C17)","v":16},"-",{"$f":"IF(E17=\"-\",0,E17)","v":0},14,{"$f":"IF(G17=\"-\",0,G17)","v":14},13,{"$f":"IF(I17=\"-\",0,I17)","v":13},"-",{"$f":"IF(K17=\"-\",0,K17)","v":0},{"$f":"Table10161718[[#This Row],[School]]","v":"Hastings High School"},{"$f":"D17+F17+H17+J17+L17","v":43},{"$f":"MAX(C17,E17,G17,I17,K17)","v":16},{"$f":"IF(Q17=1,N17,IF(Q17=0,(N17-O17),\"-\"))","v":43},{"$f":"$L$1-Table10161718[Competed Count]","v":1},{"$f":"IF(Q17<2,\"Yes\",\"No\")","v":"Yes"},{"$f":"AND($C$1=\"Y\",D17>0)","v":true},{"$f":"AND($E$1=\"Y\",F17>0)","v":false},{"$f":"AND($G$1=\"Y\",H17>0)","v":true},{"$f":"AND($I$1=\"Y\",J17>0)","v":true},{"$f":"AND($K$1=\"Y\",L17>0)","v":false},{"$f":"COUNTIF(Table10161718[[#This Row],[Competed 1]:[Competed 5]],\"=TRUE\")","v":3}]
["Joel Howes","Dixie Grammar School",20,{"$f":"IF(C18=\"-\",0,C18)","v":20},14,{"$f":"IF(E18=\"-\",0,E18)","v":14},17,{"$f":"IF(G18=\"-\",0,G18)","v":17},14,{"$f":"IF(I18=\"-\",0,I18)","v":14},"-",{"$f":"IF(K18=\"-\",0,K18)","v":0},{"$f":"Table10161718[[#This Row],[School]]","v":"Dixie Grammar School"},{"$f":"D18+F18+H18+J18+L18","v":65},{"$f":"MAX(C18,E18,G18,I18,K18)","v":20},{"$f":"IF(Q18=1,N18,IF(Q18=0,(N18-O18),\"-\"))","v":45},{"$f":"$L$1-Table10161718[Competed Count]","v":0},{"$f":"IF(Q18<2,\"Yes\",\"No\")","v":"Yes"},{"$f":"AND($C$1=\"Y\",D18>0)","v":true},{"$f":"AND($E$1=\"Y\",F18>0)","v":true},{"$f":"AND($G$1=\"Y\",H18>0)","v":true},{"$f":"AND($I$1=\"Y\",J18>0)","v":true},{"$f":"AND($K$1=\"Y\",L18>0)","v":false},{"$f":"COUNTIF(Table10161718[[#This Row],[Competed 1]:[Competed 5]],\"=TRUE\")","v":4}]
["Michael Ziemelis","John Ferneley College",13,{"$f":"IF(C19=\"-\",0,C19)","v":13},9,{"$f":"IF(E19=\"-\",0,E19)","v":9},12,{"$f":"IF(G19=\"-\",0,G19)","v":12},15,{"$f":"IF(I19=\"-\",0,I19)","v":15},"-",{"$f":"IF(K19=\"-\",0,K19)","v":0},{"$f":"Table10161718[[#This Row],[School]]","v":"John Ferneley College"},{"$f":"D19+F19+H19+J19+L19","v":49},{"$f":"MAX(C19,E19,G19,I19,K19)","v":15},{"$f":"IF(Q19=1,N19,IF(Q19=0,(N19-O19),\"-\"))","v":34},{"$f":"$L$1-Table10161718[Competed Count]","v":0},{"$f":"IF(Q19<2,\"Yes\",\"No\")","v":"Yes"},{"$f":"AND($C$1=\"Y\",D19>0)","v":true},{"$f":"AND($E$1=\"Y\",F19>0)","v":true},{"$f":"AND($G$1=\"Y\",H19>0)","v":true},{"$f":"AND($I$1=\"Y\",J19>0)","v":true},{"$f":"AND($K$1=\"Y\",L19>0)","v":false},{"$f":"COUNTIF(Table10161718[[#This Row],[Competed 1]:[Competed 5]],\"=TRUE\")","v":4}]
["Jack Hurst","Thomas Estley CC",22,{"$f":"IF(C20=\"-\",0,C20)","v":22},"-",{"$f":"IF(E20=\"-\",0,E20)","v":0},18,{"$f":"IF(G20=\"-\",0,G20)","v":18},16,{"$f":"IF(I20=\"-\",0,I20)","v":16},"-",{"$f":"IF(K20=\"-\",0,K20)","v":0},{"$f":"Table10161718[[#This Row],[School]]","v":"Thomas Estley CC"},{"$f":"D20+F20+H20+J20+L20","v":56},{"$f":"MAX(C20,E20,G20,I20,K20)","v":22},{"$f":"IF(Q20=1,N20,IF(Q20=0,(N20-O20),\"-\"))","v":56},{"$f":"$L$1-Table10161718[Competed Count]","v":1},{"$f":"IF(Q20<2,\"Yes\",\"No\")","v":"Yes"},{"$f":"AND($C$1=\"Y\",D20>0)","v":true},{"$f":"AND($E$1=\"Y\",F20>0)","v":false},{"$f":"AND($G$1=\"Y\",H20>0)","v":true},{"$f":"AND($I$1=\"Y\",J20>0)","v":true},{"$f":"AND($K$1=\"Y\",L20>0)","v":false},{"$f":"COUNTIF(Table10161718[[#This Row],[Competed 1]:[Competed 5]],\"=TRUE\")","v":3}]
["George Robinson","Groby CC",24,{"$f":"IF(C21=\"-\",0,C21)","v":24},17,{"$f":"IF(E21=\"-\",0,E21)","v":17},16,{"$f":"IF(G21=\"-\",0,G21)","v":16},17,{"$f":"IF(I21=\"-\",0,I21)","v":17},"-",{"$f":"IF(K21=\"-\",0,K21)","v":0},{"$f":"Table10161718[[#This Row],[School]]","v":"Groby CC"},{"$f":"D21+F21+H21+J21+L21","v":74},{"$f":"MAX(C21,E21,G21,I21,K21)","v":24},{"$f":"IF(Q21=1,N21,IF(Q21=0,(N21-O21),\"-\"))","v":50},{"$f":"$L$1-Table10161718[Competed Count]","v":0},{"$f":"IF(Q21<2,\"Yes\",\"No\")","v":"Yes"},{"$f":"AND($C$1=\"Y\",D21>0)","v":true},{"$f":"AND($E$1=\"Y\",F21>0)","v":true},{"$f":"AND($G$1=\"Y\",H21>0)","v":true},{"$f":"AND($I$1=\"Y\",J21>0)","v":true},{"$f":"AND($K$1=\"Y\",L21>0)","v":false},{"$f":"COUNTIF(Table10161718[[#This Row],[Competed 1]:[Competed 5]],\"=TRUE\")","v":4}]
["Michael Orridge","John Ferneley College",27,{"$f":"IF(C22=\"-\",0,C22)","v":27},21,{"$f":"IF(E22=\"-\",0,E22)","v":21},20,{"$f":"IF(G22=\"-\",0,G22)","v":20},18,{"$f":"IF(I22=\"-\",0,I22)","v":18},"-",{"$f":"IF(K22=\"-\",0,K22)","v":0},{"$f":"Table10161718[[#This Row],[School]]","v":"John Ferneley College"},{"$f":"D22+F22+H22+J22+L22","v":86},{"$f":"MAX(C22,E22,G22,I22,K22)","v":27},{"$f":"IF(Q22=1,N22,IF(Q22=0,(N22-O22),\"-\"))","v":59},{"$f":"$L$1-Table10161718[Competed Count]","v":0},{"$f":"IF(Q22<2,\"Yes\",\"No\")","v":"Yes"},{"$f":"AND($C$1=\"Y\",D22>0)","v":true},{"$f":"AND($E$1=\"Y\",F22>0)","v":true},{"$f":"AND($G$1=\"Y\",H22>0)","v":true},{"$f":"AND($I$1=\"Y\",J22>0)","v":true},{"$f":"AND($K$1=\"Y\",L22>0)","v":false},{"$f":"COUNTIF(Table10161718[[#This Row],[Competed 1]:[Competed 5]],\"=TRUE\")","v":4}]
["Thibaut Preston","Brockington College",26,{"$f":"IF(C23=\"-\",0,C23)","v":26},20,{"$f":"IF(E23=\"-\",0,E23)","v":20},22,{"$f":"IF(G23=\"-\",0,G23)","v":22},19,{"$f":"IF(I23=\"-\",0,I23)","v":19},"-",{"$f":"IF(K23=\"-\",0,K23)","v":0},{"$f":"Table10161718[[#This Row],[School]]","v":"Brockington College"},{"$f":"D23+F23+H23+J23+L23","v":87},{"$f":"MAX(C23,E23,G23,I23,K23)","v":26},{"$f":"IF(Q23=1,N23,IF(Q23=0,(N23-O23),\"-\"))","v":61},{"$f":"$L$1-Table10161718[Competed Count]","v":0},{"$f":"IF(Q23<2,\"Yes\",\"No\")","v":"Yes"},{"$f":"AND($C$1=\"Y\",D23>0)","v":true},{"$f":"AND($E$1=\"Y\",F23>0)","v":true},{"$f":"AND($G$1=\"Y\",H23>0)","v":true},{"$f":"AND($I$1=\"Y\",J23>0)","v":true},{"$f":"AND($K$1=\"Y\",L23>0)","v":false},{"$f":"COUNTIF(Table10161718[[#This Row],[Competed 1]:[Competed 5]],\"=TRUE\")","v":4}]
["Jonathan Harrison","De Lisle College",23,{"$f":"IF(C24=\"-\",0,C24)","v":23},15,{"$f":"IF(E24=\"-\",0,E24)","v":15},"-",{"$f":"IF(G24=\"-\",0,G24)","v":0},20,{"$f":"IF(I24=\"-\",0,I24)","v":20},"-",{"$f":"IF(K24=\"-\",0,K24)","v":0},{"$f":"Table10161718[[#This Row],[School]]","v":"De Lisle College"},{"$f":"D24+F24+H24+J24+L24","v":58},{"$f":"MAX(C24,E24,G24,I24,K24)","v":23},{"$f":"IF(Q24=1,N24,IF(Q24=0,(N24-O24),\"-\"))","v":58},{"$f":"$L$1-Table10161718[Competed Count]","v":1},{"$f":"IF(Q24<2,\"Yes\",\"No\")","v":"Yes"},{"$f":"AND($C$1=\"Y\",D24>0)","v":true},{"$f":"AND($E$1=\"Y\",F24>0)","v":true},{"$f":"AND($G$1=\"Y\",H24>0)","v":false},{"$f":"AND($I$1=\"Y\",J24>0)","v":true},{"$f":"AND($K$1=\"Y\",L24>0)","v":false},{"$f":"COUNTIF(Table10161718[[#This Row],[Competed 1]:[Competed 5]],\"=TRUE\")","v":3}]
["Dec Robles","John Ferneley College",33,{"$f":"IF(C25=\"-\",0,C25)","v":33},27,{"$f":"IF(E25=\"-\",0,E25)","v":27},25,{"$f":"IF(G25=\"-\",0,G25)","v":25},21,{"$f":"IF(I25=\"-\",0,I25)","v":21},"-",{"$f":"IF(K25=\"-\",0,K25)","v":0},{"$f":"Table10161718[[#This Row],[School]]","v":"John Ferneley College"},{"$f":"D25+F25+H25+J25+L25","v":106},{"$f":"MAX(C25,E25,G25,I25,K25)","v":33},{"$f":"IF(Q25=1,N25,IF(Q25=0,(N25-O25),\"-\"))","v":73},{"$f":"$L$1-Table10161718[Competed Count]","v":0},{"$f":"IF(Q25<2,\"Yes\",\"No\")","v":"Yes"},{"$f":"AND($C$1=\"Y\",D25>0)","v":true},{"$f":"AND($E$1=\"Y\",F25>0)","v":true},{"$f":"AND($G$1=\"Y\",H25>0)","v":true},{"$f":"AND($I$1=\"Y\",J25>0)","v":true},{"$f":"AND($K$1=\"Y\",L25>0)","v":false},{"$f":"COUNTIF(Table10161718[[#This Row],[Competed 1]:[Competed 5]],\"=TRUE\")","v":4}]
["Dom Forrester","John Ferneley College",34,{"$f":"IF(C26=\"-\",0,C26)","v":34},26,{"$f":"IF(E26=\"-\",0,E26)","v":26},"-",{"$f":"IF(G26=\"-\",0,G26)","v":0},22,{"$f":"IF(I26=\"-\",0,I26)","v":22},"-",{"$f":"IF(K26=\"-\",0,K26)","v":0},{"$f":"Table10161718[[#This Row],[School]]","v":"John Ferneley College"},{"$f":"D26+F26+H26+J26+L26","v":82},{"$f":"MAX(C26,E26,G26,I26,K26)","v":34},{"$f":"IF(Q26=1,N26,IF(Q26=0,(N26-O26),\"-\"))","v":82},{"$f":"$L$1-Table10161718[Competed Count]","v":1},{"$f":"IF(Q26<2,\"Yes\",\"No\")","v":"Yes"},{"$f":"AND($C$1=\"Y\",D26>0)","v":true},{"$f":"AND($E$1=\"Y\",F26>0)","v":true},{"$f":"AND($G$1=\"Y\",H26>0)","v":false},{"$f":"AND($I$1=\"Y\",J26>0)","v":true},{"$f":"AND($K$1=\"Y\",L26>0)","v":false},{"$f":"COUNTIF(Table10161718[[#This Row],[Competed 1]:[Competed 5]],\"=TRUE\")","v":3}]
["Luke Burgess","Redmoor Academy",38,{"$f":"IF(C27=\"-\",0,C27)","v":38},29,{"$f":"IF(E27=\"-\",0,E27)","v":29},27,{"$f":"IF(G27=\"-\",0,G27)","v":27},23,{"$f":"IF(I27=\"-\",0,I27)","v":23},"-",{"$f":"IF(K27=\"-\",0,K27)","v":0},{"$f":"Table10161718[[#This Row],[School]]","v":"Redmoor Academy"},{"$f":"D27+F27+H27+J27+L27","v":117},{"$f":"MAX(C27,E27,G27,I27,K27)","v":38},{"$f":"IF(Q27=1,N27,IF(Q27=0,(N27-O27),\"-\"))","v":79},{"$f":"$L$1-Table10161718[Competed Count]","v":0},{"$f":"IF(Q27<2,\"Yes\",\"No\")","v":"Yes"},{"$f":"AND($C$1=\"Y\",D27>0)","v":true},{"$f":"AND($E$1=\"Y\",F27>0)","v":true},{"$f":"AND($G$1=\"Y\",H27>0)","v":true},{"$f":"AND($I$1=\"Y\",J27>0)","v":true},{"$f":"AND($K$1=\"Y\",L27>0)","v":false},{"$f":"COUNTIF(Table10161718[[#This Row],[Competed 1]:[Competed 5]],\"=TRUE\")","v":4}]
["Dan Maud","Loughborough Grammar School","-",{"$f":"IF(C28=\"-\",0,C28)","v":0},"-",{"$f":"IF(E28=\"-\",0,E28)","v":0},4,{"$f":"IF(G28=\"-\",0,G28)","v":4},"-",{"$f":"IF(I28=\"-\",0,I28)","v":0},"-",{"$f":"IF(K28=\"-\",0,K28)","v":0},{"$f":"Table10161718[[#This Row],[School]]","v":"Loughborough Grammar School"},{"$f":"D28+F28+H28+J28+L28","v":4},{"$f":"MAX(C28,E28,G28,I28,K28)","v":4},{"$f":"IF(Q28=1,N28,IF(Q28=0,(N28-O28),\"-\"))","v":"-"},{"$f":"$L$1-Table10161718[Competed Count]","v":3},{"$f":"IF(Q28<2,\"Yes\",\"No\")","v":"No"},{"$f":"AND($C$1=\"Y\",D28>0)","v":false},{"$f":"AND($E$1=\"Y\",F28>0)","v":false},{"$f":"AND($G$1=\"Y\",H28>0)","v":true},{"$f":"AND($I$1=\"Y\",J28>0)","v":false},{"$f":"AND($K$1=\"Y\",L28>0)","v":false},{"$f":"COUNTIF(Table10161718[[#This Row],[Competed 1]:[Competed 5]],\"=TRUE\")","v":1}]
["Jack Douglas","Loughborough Grammar School",3,{"$f":"IF(C29=\"-\",0,C29)","v":3},4,{"$f":"IF(E29=\"-\",0,E29)","v":4},6,{"$f":"IF(G29=\"-\",0,G29)","v":6},"-",{"$f":"IF(I29=\"-\",0,I29)","v":0},"-",{"$f":"IF(K29=\"-\",0,K29)","v":0},{"$f":"Table10161718[[#This Row],[School]]","v":"Loughborough Grammar School"},{"$f":"D29+F29+H29+J29+L29","v":13},{"$f":"MAX(C29,E29,G29,I29,K29)","v":6},{"$f":"IF(Q29=1,N29,IF(Q29=0,(N29-O29),\"-\"))","v":13},{"$f":"$L$1-Table10161718[Competed Count]","v":1},{"$f":"IF(Q29<2,\"Yes\",\"No\")","v":"Yes"},{"$f":"AND($C$1=\"Y\",D29>0)","v":true},{"$f":"AND($E$1=\"Y\",F29>0)","v":true},{"$f":"AND($G$1=\"Y\",H29>0)","v":true},{"$f":"AND($I$1=\"Y\",J29>0)","v":false},{"$f":"AND($K$1=\"Y\",L29>0)","v":false},{"$f":"COUNTIF(Table10161718[[#This Row],[Competed 1]:[Competed 5]],\"=TRUE\")","v":3}]
["Bailey Peat","Loughborough Grammar School","-",{"$f":"IF(C30=\"-\",0,C30)","v":0},"-",{"$f":"IF(E30=\"-\",0,E30)","v":0},13,{"$f":"IF(G30=\"-\",0,G30)","v":13},"-",{"$f":"IF(I30=\"-\",0,I30)","v":0},"-",{"$f":"IF(K30=\"-\",0,K30)","v":0},{"$f":"Table10161718[[#This Row],[School]]","v":"Loughborough Grammar School"},{"$f":"D30+F30+H30+J30+L30","v":13},{"$f":"MAX(C30,E30,G30,I30,K30)","v":13},{"$f":"IF(Q30=1,N30,IF(Q30=0,(N30-O30),\"-\"))","v":"-"},{"$f":"$L$1-Table10161718[Competed Count]","v":3},{"$f":"IF(Q30<2,\"Yes\",\"No\")","v":"No"},{"$f":"AND($C$1=\"Y\",D30>0)","v":false},{"$f":"AND($E$1=\"Y\",F30>0)","v":false},{"$f":"AND($G$1=\"Y\",H30>0)","v":true},{"$f":"AND($I$1=\"Y\",J30>0)","v":false},{"$f":"AND($K$1=\"Y\",L30>0)","v":false},{"$f":"COUNTIF(Table10161718[[#This Row],[Competed 1]:[Competed 5]],\"=TRUE\")","v":1}]
["Oliver Barlow","Groby CC",35,{"$f":"IF(C31=\"-\",0,C31)","v":35},19,{"$f":"IF(E31=\"-\",0,E31)","v":19},19,{"$f":"IF(G31=\"-\",0,G31)","v":19},"-",{"$f":"IF(I31=\"-\",0,I31)","v":0},"-",{"$f":"IF(K31=\"-\",0,K31)","v":0},{"$f":"Table10161718[[#This Row],[School]]","v":"Groby CC"},{"$f":"D31+F31+H31+J31+L31","v":73},{"$f":"MAX(C31,E31,G31,I31,K31)","v":35},{"$f":"IF(Q31=1,N31,IF(Q31=0,(N31-O31),\"-\"))","v":73},{"$f":"$L$1-Table10161718[Competed Count]","v":1},{"$f":"IF(Q31<2,\"Yes\",\"No\")","v":"Yes"},{"$f":"AND($C$1=\"Y\",D31>0)","v":true},{"$f":"AND($E$1=\"Y\",F31>0)","v":true},{"$f":"AND($G$1=\"Y\",H31>0)","v":true},{"$f":"AND($I$1=\"Y\",J31>0)","v":false},{"$f":"AND($K$1=\"Y\",L31>0)","v":false},{"$f":"COUNTIF(Table10161718[[#This Row],[Competed 1]:[Competed 5]],\"=TRUE\")","v":3}]
["Sam Conboy","Catmose College",29,{"$f":"IF(C32=\"-\",0,C32)","v":29},23,{"$f":"IF(E32=\"-\",0,E32)","v":23},21,{"$f":"IF(G32=\"-\",0,G32)","v":21},"-",{"$f":"IF(I32=\"-\",0,I32)","v":0},"-",{"$f":"IF(K32=\"-\",0,K32)","v":0},{"$f":"Table10161718[[#This Row],[School]]","v":"Catmose College"},{"$f":"D32+F32+H32+J32+L32","v":73},{"$f":"MAX(C32,E32,G32,I32,K32)","v":29},{"$f":"IF(Q32=1,N32,IF(Q32=0,(N32-O32),\"-\"))","v":73},{"$f":"$L$1-Table10161718[Competed Count]","v":1},{"$f":"IF(Q32<2,\"Yes\",\"No\")","v":"Yes"},{"$f":"AND($C$1=\"Y\",D32>0)","v":true},{"$f":"AND($E$1=\"Y\",F32>0)","v":true},{"$f":"AND($G$1=\"Y\",H32>0)","v":true},{"$f":"AND($I$1=\"Y\",J32>0)","v":false},{"$f":"AND($K$1=\"Y\",L32>0)","v":false},{"$f":"COUNTIF(Table10161718[[#This Row],[Competed 1]:[Competed 5]],\"=TRUE\")","v":3}]
["Ben Buckby","Catmose College",31,{"$f":"IF(C33=\"-\",0,C33)","v":31},16,{"$f":"IF(E33=\"-\",0,E33)","v":16},23,{"$f":"IF(G33=\"-\",0,G33)","v":23},"-",{"$f":"IF(I33=\"-\",0,I33)","v":0},"-",{"$f":"IF(K33=\"-\",0,K33)","v":0},{"$f":"Table10161718[[#This Row],[School]]","v":"Catmose College"},{"$f":"D33+F33+H33+J33+L33","v":70},{"$f":"MAX(C33,E33,G33,I33,K33)","v":31},{"$f":"IF(Q33=1,N33,IF(Q33=0,(N33-O33),\"-\"))","v":70},{"$f":"$L$1-Table10161718[Competed Count]","v":1},{"$f":"IF(Q33<2,\"Yes\",\"No\")","v":"Yes"},{"$f":"AND($C$1=\"Y\",D33>0)","v":true},{"$f":"AND($E$1=\"Y\",F33>0)","v":true},{"$f":"AND($G$1=\"Y\",H33>0)","v":true},{"$f":"AND($I$1=\"Y\",J33>0)","v":false},{"$f":"AND($K$1=\"Y\",L33>0)","v":false},{"$f":"COUNTIF(Table10161718[[#This Row],[Competed 1]:[Competed 5]],\"=TRUE\")","v":3}]
["Billy Starr","Charnwood College","-",{"$f":"IF(C34=\"-\",0,C34)","v":0},22,{"$f":"IF(E34=\"-\",0,E34)","v":22},24,{"$f":"IF(G34=\"-\",0,G34)","v":24},"-",{"$f":"IF(I34=\"-\",0,I34)","v":0},"-",{"$f":"IF(K34=\"-\",0,K34)","v":0},{"$f":"Table10161718[[#This Row],[School]]","v":"Charnwood College"},{"$f":"D34+F34+H34+J34+L34","v":46},{"$f":"MAX(C34,E34,G34,I34,K34)","v":24},{"$f":"IF(Q34=1,N34,IF(Q34=0,(N34-O34),\"-\"))","v":"-"},{"$f":"$L$1-Table10161718[Competed Count]","v":2},{"$f":"IF(Q34<2,\"Yes\",\"No\")","v":"No"},{"$f":"AND($C$1=\"Y\",D34>0)","v":false},{"$f":"AND($E$1=\"Y\",F34>0)","v":true},{"$f":"AND($G$1=\"Y\",H34>0)","v":true},{"$f":"AND($I$1=\"Y\",J34>0)","v":false},{"$f":"AND($K$1=\"Y\",L34>0)","v":false},{"$f":"COUNTIF(Table10161718[[#This Row],[Competed 1]:[Competed 5]],\"=TRUE\")","v":2}]
["Alfie White","Charnwood College",37,{"$f":"IF(C35=\"-\",0,C35)","v":37},28,{"$f":"IF(E35=\"-\",0,E35)","v":28},26,{"$f":"IF(G35=\"-\",0,G35)","v":26},"-",{"$f":"IF(I35=\"-\",0,I35)","v":0},"-",{"$f":"IF(K35=\"-\",0,K35)","v":0},{"$f":"Table10161718[[#This Row],[School]]","v":"Charnwood College"},{"$f":"D35+F35+H35+J35+L35","v":91},{"$f":"MAX(C35,E35,G35,I35,K35)","v":37},{"$f":"IF(Q35=1,N35,IF(Q35=0,(N35-O35),\"-\"))","v":91},{"$f":"$L$1-Table10161718[Competed Count]","v":1},{"$f":"IF(Q35<2,\"Yes\",\"No\")","v":"Yes"},{"$f":"AND($C$1=\"Y\",D35>0)","v":true},{"$f":"AND($E$1=\"Y\",F35>0)","v":true},{"$f":"AND($G$1=\"Y\",H35>0)","v":true},{"$f":"AND($I$1=\"Y\",J35>0)","v":false},{"$f":"AND($K$1=\"Y\",L35>0)","v":false},{"$f":"COUNTIF(Table10161718[[#This Row],[Competed 1]:[Competed 5]],\"=TRUE\")","v":3}]
["Ethan O'Shea","Wreake Valley Academy","-",{"$f":"IF(C36=\"-\",0,C36)","v":0},2,{"$f":"IF(E36=\"-\",0,E36)","v":2},"-",{"$f":"IF(G36=\"-\",0,G36)","v":0},"-",{"$f":"IF(I36=\"-\",0,I36)","v":0},"-",{"$f":"IF(K36=\"-\",0,K36)","v":0},{"$f":"Table10161718[[#This Row],[School]]","v":"Wreake Valley Academy"},{"$f":"D36+F36+H36+J36+L36","v":2},{"$f":"MAX(C36,E36,G36,I36,K36)","v":2},{"$f":"IF(Q36=1,N36,IF(Q36=0,(N36-O36),\"-\"))","v":"-"},{"$f":"$L$1-Table10161718[Competed Count]","v":3},{"$f":"IF(Q36<2,\"Yes\",\"No\")","v":"No"},{"$f":"AND($C$1=\"Y\",D36>0)","v":false},{"$f":"AND($E$1=\"Y\",F36>0)","v":true},{"$f":"AND($G$1=\"Y\",H36>0)","v":false},{"$f":"AND($I$1=\"Y\",J36>0)","v":false},{"$f":"AND($K$1=\"Y\",L36>0)","v":false},{"$f":"COUNTIF(Table10161718[[#This Row],[Competed 1]:[Competed 5]],\"=TRUE\")","v":1}]
["Luke Nuttall","Loughborough Grammar School","-",{"$f":"IF(C37=\"-\",0,C37)","v":0},3,{"$f":"IF(E37=\"-\",0,E37)","v":3},"-",{"$f":"IF(G37=\"-\",0,G37)","v":0},"-",{"$f":"IF(I37=\"-\",0,I37)","v":0},"-",{"$f":"IF(K37=\"-\",0,K37)","v":0},{"$f":"Table10161718[[#This Row],[School]]","v":"Loughborough Grammar School"},{"$f":"D37+F37+H37+J37+L37","v":3},{"$f":"MAX(C37,E37,G37,I37,K37)","v":3},{"$f":"IF(Q37=1,N37,IF(Q37=0,(N37-O37),\"-\"))","v":"-"},{"$f":"$L$1-Table10161718[Competed Count]","v":3},{"$f":"IF(Q37<2,\"Yes\",\"No\")","v":"No"},{"$f":"AND($C$1=\"Y\",D37>0)","v":false},{"$f":"AND($E$1=\"Y\",F37>0)","v":true},{"$f":"AND($G$1=\"Y\",H37>0)","v":false},{"$f":"AND($I$1=\"Y\",J37>0)","v":false},{"$f":"AND($K$1=\"Y\",L37>0)","v":false},{"$f":"COUNTIF(Table10161718[[#This Row],[Competed 1]:[Competed 5]],\"=TRUE\")","v":1}]
["Ben Holland","Loughborough Grammar School",7,{"$f":"IF(C38=\"-\",0,C38)","v":7},6,{"$f":"IF(E38=\"-\",0,E38)","v":6},"-",{"$f":"IF(G38=\"-\",0,G38)","v":0},"-",{"$f":"IF(I38=\"-\",0,I38)","v":0},"-",{"$f":"IF(K38=\"-\",0,K38)","v":0},{"$f":"Table10161718[[#This Row],[School]]","v":"Loughborough Grammar School"},{"$f":"D38+F38+H38+J38+L38","v":13},{"$f":"MAX(C38,E38,G38,I38,K38)","v":7},{"$f":"IF(Q38=1,N38,IF(Q38=0,(N38-O38),\"-\"))","v":"-"},{"$f":"$L$1-Table10161718[Competed Count]","v":2},{"$f":"IF(Q38<2,\"Yes\",\"No\")","v":"No"},{"$f":"AND($C$1=\"Y\",D38>0)","v":true},{"$f":"AND($E$1=\"Y\",F38>0)","v":true},{"$f":"AND($G$1=\"Y\",H38>0)","v":false},{"$f":"AND($I$1=\"Y\",J38>0)","v":false},{"$f":"AND($K$1=\"Y\",L38>0)","v":false},{"$f":"COUNTIF(Table10161718[[#This Row],[Competed 1]:[Competed 5]],\"=TRUE\")","v":2}]
["Chris Nealon","Groby CC",18,{"$f":"IF(C39=\"-\",0,C39)","v":18},8,{"$f":"IF(E39=\"-\",0,E39)","v":8},"-",{"$f":"IF(G39=\"-\",0,G39)","v":0},"-",{"$f":"IF(I39=\"-\",0,I39)","v":0},"-",{"$f":"IF(K39=\"-\",0,K39)","v":0},{"$f":"Table10161718[[#This Row],[School]]","v":"Groby CC"},{"$f":"D39+F39+H39+J39+L39","v":26},{"$f":"MAX(C39,E39,G39,I39,K39)","v":18},{"$f":"IF(Q39=1,N39,IF(Q39=0,(N39-O39),\"-\"))","v":"-"},{"$f":"$L$1-Table10161718[Competed Count]","v":2},{"$f":"IF(Q39<2,\"Yes\",\"No\")","v":"No"},{"$f":"AND($C$1=\"Y\",D39>0)","v":true},{"$f":"AND($E$1=\"Y\",F39>0)","v":true},{"$f":"AND($G$1=\"Y\",H39>0)","v":false},{"$f":"AND($I$1=\"Y\",J39>0)","v":false},{"$f":"AND($K$1=\"Y\",L39>0)","v":false},{"$f":"COUNTIF(Table10161718[[#This Row],[Competed 1]:[Competed 5]],\"=TRUE\")","v":2}]
["Tom Wainwright","Welland Park Academy",14,{"$f":"IF(C40=\"-\",0,C40)","v":14},10,{"$f":"IF(E40=\"-\",0,E40)","v":10},"-",{"$f":"IF(G40=\"-\",0,G40)","v":0},"-",{"$f":"IF(I40=\"-\",0,I40)","v":0},"-",{"$f":"IF(K40=\"-\",0,K40)","v":0},{"$f":"Table10161718[[#This Row],[School]]","v":"Welland Park Academy"},{"$f":"D40+F40+H40+J40+L40","v":24},{"$f":"MAX(C40,E40,G40,I40,K40)","v":14},{"$f":"IF(Q40=1,N40,IF(Q40=0,(N40-O40),\"-\"))","v":"-"},{"$f":"$L$1-Table10161718[Competed Count]","v":2},{"$f":"IF(Q40<2,\"Yes\",\"No\")","v":"No"},{"$f":"AND($C$1=\"Y\",D40>0)","v":true},{"$f":"AND($E$1=\"Y\",F40>0)","v":true},{"$f":"AND($G$1=\"Y\",H40>0)","v":false},{"$f":"AND($I$1=\"Y\",J40>0)","v":false},{"$f":"AND($K$1=\"Y\",L40>0)","v":false},{"$f":"COUNTIF(Table10161718[[#This Row],[Competed 1]:[Competed 5]],\"=TRUE\")","v":2}]
["Will Parry","Welland Park Academy",15,{"$f":"IF(C41=\"-\",0,C41)","v":15},11,{"$f":"IF(E41=\"-\",0,E41)","v":11},"-",{"$f":"IF(G41=\"-\",0,G41)","v":0},"-",{"$f":"IF(I41=\"-\",0,I41)","v":0},"-",{"$f":"IF(K41=\"-\",0,K41)","v":0},{"$f":"Table10161718[[#This Row],[School]]","v":"Welland Park Academy"},{"$f":"D41+F41+H41+J41+L41","v":26},{"$f":"MAX(C41,E41,G41,I41,K41)","v":15},{"$f":"IF(Q41=1,N41,IF(Q41=0,(N41-O41),\"-\"))","v":"-"},{"$f":"$L$1-Table10161718[Competed Count]","v":2},{"$f":"IF(Q41<2,\"Yes\",\"No\")","v":"No"},{"$f":"AND($C$1=\"Y\",D41>0)","v":true},{"$f":"AND($E$1=\"Y\",F41>0)","v":true},{"$f":"AND($G$1=\"Y\",H41>0)","v":false},{"$f":"AND($I$1=\"Y\",J41>0)","v":false},{"$f":"AND($K$1=\"Y\",L41>0)","v":false},{"$f":"COUNTIF(Table10161718[[#This Row],[Competed 1]:[Competed 5]],\"=TRUE\")","v":2}]
["Tom Pedler","Robert Smyth Academy","-",{"$f":"IF(C42=\"-\",0,C42)","v":0},12,{"$f":"IF(E42=\"-\",0,E42)","v":12},"-",{"$f":"IF(G42=\"-\",0,G42)","v":0},"-",{"$f":"IF(I42=\"-\",0,I42)","v":0},"-",{"$f":"IF(K42=\"-\",0,K42)","v":0},{"$f":"Table10161718[[#This Row],[School]]","v":"Robert Smyth Academy"},{"$f":"D42+F42+H42+J42+L42","v":12},{"$f":"MAX(C42,E42,G42,I42,K42)","v":12},{"$f":"IF(Q42=1,N42,IF(Q42=0,(N42-O42),\"-\"))","v":"-"},{"$f":"$L$1-Table10161718[Competed Count]","v":3},{"$f":"IF(Q42<2,\"Yes\",\"No\")","v":"No"},{"$f":"AND($C$1=\"Y\",D42>0)","v":false},{"$f":"AND($E$1=\"Y\",F42>0)","v":true},{"$f":"AND($G$1=\"Y\",H42>0)","v":false},{"$f":"AND($I$1=\"Y\",J42>0)","v":false},{"$f":"AND($K$1=\"Y\",L42>0)","v":false},{"$f":"COUNTIF(Table10161718[[#This Row],[Competed 1]:[Competed 5]],\"=TRUE\")","v":1}]
["Billy Champneys-Davies","Hind Leys College",21,{"$f":"IF(C43=\"-\",0,C43)","v":21},18,{"$f":"IF(E43=\"-\",0,E43)","v":18},"-",{"$f":"IF(G43=\"-\",0,G43)","v":0},"-",{"$f":"IF(I43=\"-\",0,I43)","v":0},"-",{"$f":"IF(K43=\"-\",0,K43)","v":0},{"$f":"Table10161718[[#This Row],[School]]","v":"Hind Leys College"},{"$f":"D43+F43+H43+J43+L43","v":39},{"$f":"MAX(C43,E43,G43,I43,K43)","v":21},{"$f":"IF(Q43=1,N43,IF(Q43=0,(N43-O43),\"-\"))","v":"-"},{"$f":"$L$1-Table10161718[Competed Count]","v":2},{"$f":"IF(Q43<2,\"Yes\",\"No\")","v":"No"},{"$f":"AND($C$1=\"Y\",D43>0)","v":true},{"$f":"AND($E$1=\"Y\",F43>0)","v":true},{"$f":"AND($G$1=\"Y\",H43>0)","v":false},{"$f":"AND($I$1=\"Y\",J43>0)","v":false},{"$f":"AND($K$1=\"Y\",L43>0)","v":false},{"$f":"COUNTIF(Table10161718[[#This Row],[Competed 1]:[Competed 5]],\"=TRUE\")","v":2}]
["Jake Sutherland","Robert Smyth Academy",30,{"$f":"IF(C44=\"-\",0,C44)","v":30},24,{"$f":"IF(E44=\"-\",0,E44)","v":24},"-",{"$f":"IF(G44=\"-\",0,G44)","v":0},"-",{"$f":"IF(I44=\"-\",0,I44)","v":0},"-",{"$f":"IF(K44=\"-\",0,K44)","v":0},{"$f":"Table10161718[[#This Row],[School]]","v":"Robert Smyth Academy"},{"$f":"D44+F44+H44+J44+L44","v":54},{"$f":"MAX(C44,E44,G44,I44,K44)","v":30},{"$f":"IF(Q44=1,N44,IF(Q44=0,(N44-O44),\"-\"))","v":"-"},{"$f":"$L$1-Table10161718[Competed Count]","v":2},{"$f":"IF(Q44<2,\"Yes\",\"No\")","v":"No"},{"$f":"AND($C$1=\"Y\",D44>0)","v":true},{"$f":"AND($E$1=\"Y\",F44>0)","v":true},{"$f":"AND($G$1=\"Y\",H44>0)","v":false},{"$f":"AND($I$1=\"Y\",J44>0)","v":false},{"$f":"AND($K$1=\"Y\",L44>0)","v":false},{"$f":"COUNTIF(Table10161718[[#This Row],[Competed 1]:[Competed 5]],\"=TRUE\")","v":2}]
["Rithik Gandhrokia","Beauchamp College","-",{"$f":"IF(C45=\"-\",0,C45)","v":0},25,{"$f":"IF(E45=\"-\",0,E45)","v":25},"-",{"$f":"IF(G45=\"-\",0,G45)","v":0},"-",{"$f":"IF(I45=\"-\",0,I45)","v":0},"-",{"$f":"IF(K45=\"-\",0,K45)","v":0},{"$f":"Table10161718[[#This Row],[School]]","v":"Beauchamp College"},{"$f":"D45+F45+H45+J45+L45","v":25},{"$f":"MAX(C45,E45,G45,I45,K45)","v":25},{"$f":"IF(Q45=1,N45,IF(Q45=0,(N45-O45),\"-\"))","v":"-"},{"$f":"$L$1-Table10161718[Competed Count]","v":3},{"$f":"IF(Q45<2,\"Yes\",\"No\")","v":"No"},{"$f":"AND($C$1=\"Y\",D45>0)","v":false},{"$f":"AND($E$1=\"Y\",F45>0)","v":true},{"$f":"AND($G$1=\"Y\",H45>0)","v":false},{"$f":"AND($I$1=\"Y\",J45>0)","v":false},{"$f":"AND($K$1=\"Y\",L45>0)","v":false},{"$f":"COUNTIF(Table10161718[[#This Row],[Competed 1]:[Competed 5]],\"=TRUE\")","v":1}]
["Aaron Cadwallder","Charnwood College","-",{"$f":"IF(C46=\"-\",0,C46)","v":0},30,{"$f":"IF(E46=\"-\",0,E46)","v":30},"-",{"$f":"IF(G46=\"-\",0,G46)","v":0},"-",{"$f":"IF(I46=\"-\",0,I46)","v":0},"-",{"$f":"IF(K46=\"-\",0,K46)","v":0},{"$f":"Table10161718[[#This Row],[School]]","v":"Charnwood College"},{"$f":"D46+F46+H46+J46+L46","v":30},{"$f":"MAX(C46,E46,G46,I46,K46)","v":30},{"$f":"IF(Q46=1,N46,IF(Q46=0,(N46-O46),\"-\"))","v":"-"},{"$f":"$L$1-Table10161718[Competed Count]","v":3},{"$f":"IF(Q46<2,\"Yes\",\"No\")","v":"No"},{"$f":"AND($C$1=\"Y\",D46>0)","v":false},{"$f":"AND($E$1=\"Y\",F46>0)","v":true},{"$f":"AND($G$1=\"Y\",H46>0)","v":false},{"$f":"AND($I$1=\"Y\",J46>0)","v":false},{"$f":"AND($K$1=\"Y\",L46>0)","v":false},{"$f":"COUNTIF(Table10161718[[#This Row],[Competed 1]:[Competed 5]],\"=TRUE\")","v":1}]
["Joshua Bloxham","Wigston Academy","-",{"$f":"IF(C47=\"-\",0,C47)","v":0},31,{"$f":"IF(E47=\"-\",0,E47)","v":31},"-",{"$f":"IF(G47=\"-\",0,G47)","v":0},"-",{"$f":"IF(I47=\"-\",0,I47)","v":0},"-",{"$f":"IF(K47=\"-\",0,K47)","v":0},{"$f":"Table10161718[[#This Row],[School]]","v":"Wigston Academy"},{"$f":"D47+F47+H47+J47+L47","v":31},{"$f":"MAX(C47,E47,G47,I47,K47)","v":31},{"$f":"IF(Q47=1,N47,IF(Q47=0,(N47-O47),\"-\"))","v":"-"},{"$f":"$L$1-Table10161718[Competed Count]","v":3},{"$f":"IF(Q47<2,\"Yes\",\"No\")","v":"No"},{"$f":"AND($C$1=\"Y\",D47>0)","v":false},{"$f":"AND($E$1=\"Y\",F47>0)","v":true},{"$f":"AND($G$1=\"Y\",H47>0)","v":false},{"$f":"AND($I$1=\"Y\",J47>0)","v":false},{"$f":"AND($K$1=\"Y\",L47>0)","v":false},{"$f":"COUNTIF(Table10161718[[#This Row],[Competed 1]:[Competed 5]],\"=TRUE\")","v":1}]
["Andy Maudy","Loughborough Grammar School",5,{"$f":"IF(C48=\"-\",0,C48)","v":5},"-",{"$f":"IF(E48=\"-\",0,E48)","v":0},"-",{"$f":"IF(G48=\"-\",0,G48)","v":0},"-",{"$f":"IF(I48=\"-\",0,I48)","v":0},"-",{"$f":"IF(K48=\"-\",0,K48)","v":0},{"$f":"Table10161718[[#This Row],[School]]","v":"Loughborough Grammar School"},{"$f":"D48+F48+H48+J48+L48","v":5},{"$f":"MAX(C48,E48,G48,I48,K48)","v":5},{"$f":"IF(Q48=1,N48,IF(Q48=0,(N48-O48),\"-\"))","v":"-"},{"$f":"$L$1-Table10161718[Competed Count]","v":3},{"$f":"IF(Q48<2,\"Yes\",\"No\")","v":"No"},{"$f":"AND($C$1=\"Y\",D48>0)","v":true},{"$f":"AND($E$1=\"Y\",F48>0)","v":false},{"$f":"AND($G$1=\"Y\",H48>0)","v":false},{"$f":"AND($I$1=\"Y\",J48>0)","v":false},{"$f":"AND($K$1=\"Y\",L48>0)","v":false},{"$f":"COUNTIF(Table10161718[[#This Row],[Competed 1]:[Competed 5]],\"=TRUE\")","v":1}]
["Toby Pitchers","The Martin High School",19,{"$f":"IF(C49=\"-\",0,C49)","v":19},"-",{"$f":"IF(E49=\"-\",0,E49)","v":0},"-",{"$f":"IF(G49=\"-\",0,G49)","v":0},"-",{"$f":"IF(I49=\"-\",0,I49)","v":0},"-",{"$f":"IF(K49=\"-\",0,K49)","v":0},{"$f":"Table10161718[[#This Row],[School]]","v":"The Martin High School"},{"$f":"D49+F49+H49+J49+L49","v":19},{"$f":"MAX(C49,E49,G49,I49,K49)","v":19},{"$f":"IF(Q49=1,N49,IF(Q49=0,(N49-O49),\"-\"))","v":"-"},{"$f":"$L$1-Table10161718[Competed Count]","v":3},{"$f":"IF(Q49<2,\"Yes\",\"No\")","v":"No"},{"$f":"AND($C$1=\"Y\",D49>0)","v":true},{"$f":"AND($E$1=\"Y\",F49>0)","v":false},{"$f":"AND($G$1=\"Y\",H49>0)","v":false},{"$f":"AND($I$1=\"Y\",J49>0)","v":false},{"$f":"AND($K$1=\"Y\",L49>0)","v":false},{"$f":"COUNTIF(Table10161718[[#This Row],[Competed 1]:[Competed 5]],\"=TRUE\")","v":1}]
["Jack Tarbuck","Groby CC",25,{"$f":"IF(C50=\"-\",0,C50)","v":25},"-",{"$f":"IF(E50=\"-\",0,E50)","v":0},"-",{"$f":"IF(G50=\"-\",0,G50)","v":0},"-",{"$f":"IF(I50=\"-\",0,I50)","v":0},"-",{"$f":"IF(K50=\"-\",0,K50)","v":0},{"$f":"Table10161718[[#This Row],[School]]","v":"Groby CC"},{"$f":"D50+F50+H50+J50+L50","v":25},{"$f":"MAX(C50,E50,G50,I50,K50)","v":25},{"$f":"IF(Q50=1,N50,IF(Q50=0,(N50-O50),\"-\"))","v":"-"},{"$f":"$L$1-Table10161718[Competed Count]","v":3},{"$f":"IF(Q50<2,\"Yes\",\"No\")","v":"No"},{"$f":"AND($C$1=\"Y\",D50>0)","v":true},{"$f":"AND($E$1=\"Y\",F50>0)","v":false},{"$f":"AND($G$1=\"Y\",H50>0)","v":false},{"$f":"AND($I$1=\"Y\",J50>0)","v":false},{"$f":"AND($K$1=\"Y\",L50>0)","v":false},{"$f":"COUNTIF(Table10161718[[#This Row],[Competed 1]:[Competed 5]],\"=TRUE\")","v":1}]
["Matt Moir","Robert Smyth Academy",28,{"$f":"IF(C51=\"-\",0,C51)","v":28},"-",{"$f":"IF(E51=\"-\",0,E51)","v":0},"-",{"$f":"IF(G51=\"-\",0,G51)","v":0},"-",{"$f":"IF(I51=\"-\",0,I51)","v":0},"-",{"$f":"IF(K51=\"-\",0,K51)","v":0},{"$f":"Table10161718[[#This Row],[School]]","v":"Robert Smyth Academy"},{"$f":"D51+F51+H51+J51+L51","v":28},{"$f":"MAX(C51,E51,G51,I51,K51)","v":28},{"$f":"IF(Q51=1,N51,IF(Q51=0,(N51-O51),\"-\"))","v":"-"},{"$f":"$L$1-Table10161718[Competed Count]","v":3},{"$f":"IF(Q51<2,\"Yes\",\"No\")","v":"No"},{"$f":"AND($C$1=\"Y\",D51>0)","v":true},{"$f":"AND($E$1=\"Y\",F51>0)","v":false},{"$f":"AND($G$1=\"Y\",H51>0)","v":false},{"$f":"AND($I$1=\"Y\",J51>0)","v":false},{"$f":"AND($K$1=\"Y\",L51>0)","v":false},{"$f":"COUNTIF(Table10161718[[#This Row],[Competed 1]:[Competed 5]],\"=TRUE\")","v":1}]
["F Khan","Brockington College",32,{"$f":"IF(C52=\"-\",0,C52)","v":32},"-",{"$f":"IF(E52=\"-\",0,E52)","v":0},"-",{"$f":"IF(G52=\"-\",0,G52)","v":0},"-",{"$f":"IF(I52=\"-\",0,I52)","v":0},"-",{"$f":"IF(K52=\"-\",0,K52)","v":0},{"$f":"Table10161718[[#This Row],[School]]","v":"Brockington College"},{"$f":"D52+F52+H52+J52+L52","v":32},{"$f":"MAX(C52,E52,G52,I52,K52)","v":32},{"$f":"IF(Q52=1,N52,IF(Q52=0,(N52-O52),\"-\"))","v":"-"},{"$f":"$L$1-Table10161718[Competed Count]","v":3},{"$f":"IF(Q52<2,\"Yes\",\"No\")","v":"No"},{"$f":"AND($C$1=\"Y\",D52>0)","v":true},{"$f":"AND($E$1=\"Y\",F52>0)","v":false},{"$f":"AND($G$1=\"Y\",H52>0)","v":false},{"$f":"AND($I$1=\"Y\",J52>0)","v":false},{"$f":"AND($K$1=\"Y\",L52>0)","v":false},{"$f":"COUNTIF(Table10161718[[#This Row],[Competed 1]:[Competed 5]],\"=TRUE\")","v":1}]
["Cameron Winterton","The Martin High School",36,{"$f":"IF(C53=\"-\",0,C53)","v":36},"-",{"$f":"IF(E53=\"-\",0,E53)","v":0},"-",{"$f":"IF(G53=\"-\",0,G53)","v":0},"-",{"$f":"IF(I53=\"-\",0,I53)","v":0},"-",{"$f":"IF(K53=\"-\",0,K53)","v":0},{"$f":"Table10161718[[#This Row],[School]]","v":"The Martin High School"},{"$f":"D53+F53+H53+J53+L53","v":36},{"$f":"MAX(C53,E53,G53,I53,K53)","v":36},{"$f":"IF(Q53=1,N53,IF(Q53=0,(N53-O53),\"-\"))","v":"-"},{"$f":"$L$1-Table10161718[Competed Count]","v":3},{"$f":"IF(Q53<2,\"Yes\",\"No\")","v":"No"},{"$f":"AND($C$1=\"Y\",D53>0)","v":true},{"$f":"AND($E$1=\"Y\",F53>0)","v":false},{"$f":"AND($G$1=\"Y\",H53>0)","v":false},{"$f":"AND($I$1=\"Y\",J53>0)","v":false},{"$f":"AND($K$1=\"Y\",L53>0)","v":false},{"$f":"COUNTIF(Table10161718[[#This Row],[Competed 1]:[Competed 5]],\"=TRUE\")","v":1}]
[null,"-","-",{"$f":"IF(C54=\"-\",0,C54)","v":0},"-",{"$f":"IF(E54=\"-\",0,E54)","v":0},"-",{"$f":"IF(G54=\"-\",0,G54)","v":0},"-",{"$f":"IF(I54=\"-\",0,I54)","v":0},"-",{"$f":"IF(K54=\"-\",0,K54)","v":0},{"$f":"Table10161718[[#This Row],[School]]","v":"-"},{"$f":"D54+F54+H54+J54+L54","v":0},{"$f":"MAX(C54,E54,G54,I54,K54)","v":0},{"$f":"IF(Q54=1,N54,IF(Q54=0,(N54-O54),\"-\"))","v":"-"},{"$f":"$L$1-Table10161718[Competed Count]","v":4},{"$f":"IF(Q54<2,\"Yes\",\"No\")","v":"No"},{"$f":"AND($C$1=\"Y\",D54>0)","v":false},{"$f":"AND($E$1=\"Y\",F54>0)","v":false},{"$f":"AND($G$1=\"Y\",H54>0)","v":false},{"$f":"AND($I$1=\"Y\",J54>0)","v":false},{"$f":"AND($K$1=\"Y\",L54>0)","v":false},{"$f":"COUNTIF(Table10161718[[#This Row],[Competed 1]:[Competed 5]],\"=TRUE\")","v":0}]
[null,"-","-",{"$f":"IF(C55=\"-\",0,C55)","v":0},"-",{"$f":"IF(E55=\"-\",0,E55)","v":0},"-",{"$f":"IF(G55=\"-\",0,G55)","v":0},"-",{"$f":"IF(I55=\"-\",0,I55)","v":0},"-",{"$f":"IF(K55=\"-\",0,K55)","v":0},{"$f":"Table10161718[[#This Row],[School]]","v":"-"},{"$f":"D55+F55+H55+J55+L55","v":0},{"$f":"MAX(C55,E55,G55,I55,K55)","v":0},{"$f":"IF(Q55=1,N55,IF(Q55=0,(N55-O55),\"-\"))","v":"-"},{"$f":"$L$1-Table10161718[Competed Count]","v":4},{"$f":"IF(Q55<2,\"Yes\",\"No\")","v":"No"},{"$f":"AND($C$1=\"Y\",D55>0)","v":false},{"$f":"AND($E$1=\"Y\",F55>0)","v":false},{"$f":"AND($G$1=\"Y\",H55>0)","v":false},{"$f":"AND($I$1=\"Y\",J55>0)","v":false},{"$f":"AND($K$1=\"Y\",L55>0)","v":false},{"$f":"COUNTIF(Table10161718[[#This Row],[Competed 1]:[Competed 5]],\"=TRUE\")","v":0}]
[null,"-","-",{"$f":"IF(C56=\"-\",0,C56)","v":0},"-",{"$f":"IF(E56=\"-\",0,E56)","v":0},"-",{"$f":"IF(G56=\"-\",0,G56)","v":0},"-",{"$f":"IF(I56=\"-\",0,I56)","v":0},"-",{"$f":"IF(K56=\"-\",0,K56)","v":0},{"$f":"Table10161718[[#This Row],[School]]","v":"-"},{"$f":"D56+F56+H56+J56+L56","v":0},{"$f":"MAX(C56,E56,G56,I56,K56)","v":0},{"$f":"IF(Q56=1,N56,IF(Q56=0,(N56-O56),\"-\"))","v":"-"},{"$f":"$L$1-Table10161718[Competed Count]","v":4},{"$f":"IF(Q56<2,\"Yes\",\"No\")","v":"No"},{"$f":"AND($C$1=\"Y\",D56>0)","v":false},{"$f":"AND($E$1=\"Y\",F56>0)","v":false},{"$f":"AND($G$1=\"Y\",H56>0)","v":false},{"$f":"AND($I$1=\"Y\",J56>0)","v":false},{"$f":"AND($K$1=\"Y\",L56>0)","v":false},{"$f":"COUNTIF(Table10161718[[#This Row],[Competed 1]:[Competed 5]],\"=TRUE\")","v":0}]
[null,"-","-",{"$f":"IF(C57=\"-\",0,C57)","v":0},"-",{"$f":"IF(E57=\"-\",0,E57)","v":0},"-",{"$f":"IF(G57=\"-\",0,G57)","v":0},"-",{"$f":"IF(I57=\"-\",0,I57)","v":0},"-",{"$f":"IF(K57=\"-\",0,K57)","v":0},{"$f":"Table10161718[[#This Row],[School]]","v":"-"},{"$f":"D57+F57+H57+J57+L57","v":0},{"$f":"MAX(C57,E57,G57,I57,K57)","v":0},{"$f":"IF(Q57=1,N57,IF(Q57=0,(N57-O57),\"-\"))","v":"-"},{"$f":"$L$1-Table10161718[Competed Count]","v":4},{"$f":"IF(Q57<2,\"Yes\",\"No\")","v":"No"},{"$f":"AND($C$1=\"Y\",D57>0)","v":false},{"$f":"AND($E$1=\"Y\",F57>0)","v":false},{"$f":"AND($G$1=\"Y\",H57>0)","v":false},{"$f":"AND($I$1=\"Y\",J57>0)","v":false},{"$f":"AND($K$1=\"Y\",L57>0)","v":false},{"$f":"COUNTIF(Table10161718[[#This Row],[Competed 1]:[Competed 5]],\"=TRUE\")","v":0}]
[null,"-","-",{"$f":"IF(C58=\"-\",0,C58)","v":0},"-",{"$f":"IF(E58=\"-\",0,E58)","v":0},"-",{"$f":"IF(G58=\"-\",0,G58)","v":0},"-",{"$f":"IF(I58=\"-\",0,I58)","v":0},"-",{"$f":"IF(K58=\"-\",0,K58)","v":0},{"$f":"Table10161718[[#This Row],[School]]","v":"-"},{"$f":"D58+F58+H58+J58+L58","v":0},{"$f":"MAX(C58,E58,G58,I58,K58)","v":0},{"$f":"IF(Q58=1,N58,IF(Q58=0,(N58-O58),\"-\"))","v":"-"},{"$f":"$L$1-Table10161718[Competed Count]","v":4},{"$f":"IF(Q58<2,\"Yes\",\"No\")","v":"No"},{"$f":"AND($C$1=\"Y\",D58>0)","v":false},{"$f":"AND($E$1=\"Y\",F58>0)","v":false},{"$f":"AND($G$1=\"Y\",H58>0)","v":false},{"$f":"AND($I$1=\"Y\",J58>0)","v":false},{"$f":"AND($K$1=\"Y\",L58>0)","v":false},{"$f":"COUNTIF(Table10161718[[#This Row],[Competed 1]:[Competed 5]],\"=TRUE\")","v":0}]
[null,"-","-",{"$f":"IF(C59=\"-\",0,C59)","v":0},"-",{"$f":"IF(E59=\"-\",0,E59)","v":0},"-",{"$f":"IF(G59=\"-\",0,G59)","v":0},"-",{"$f":"IF(I59=\"-\",0,I59)","v":0},"-",{"$f":"IF(K59=\"-\",0,K59)","v":0},{"$f":"Table10161718[[#This Row],[School]]","v":"-"},{"$f":"D59+F59+H59+J59+L59","v":0},{"$f":"MAX(C59,E59,G59,I59,K59)","v":0},{"$f":"IF(Q59=1,N59,IF(Q59=0,(N59-O59),\"-\"))","v":"-"},{"$f":"$L$1-Table10161718[Competed Count]","v":4},{"$f":"IF(Q59<2,\"Yes\",\"No\")","v":"No"},{"$f":"AND($C$1=\"Y\",D59>0)","v":false},{"$f":"AND($E$1=\"Y\",F59>0)","v":false},{"$f":"AND($G$1=\"Y\",H59>0)","v":false},{"$f":"AND($I$1=\"Y\",J59>0)","v":false},{"$f":"AND($K$1=\"Y\",L59>0)","v":false},{"$f":"COUNTIF(Table10161718[[#This Row],[Competed 1]:[Competed 5]],\"=TRUE\")","v":0}]
[null,"-","-",{"$f":"IF(C60=\"-\",0,C60)","v":0},"-",{"$f":"IF(E60=\"-\",0,E60)","v":0},"-",{"$f":"IF(G60=\"-\",0,G60)","v":0},"-",{"$f":"IF(I60=\"-\",0,I60)","v":0},"-",{"$f":"IF(K60=\"-\",0,K60)","v":0},{"$f":"Table10161718[[#This Row],[School]]","v":"-"},{"$f":"D60+F60+H60+J60+L60","v":0},{"$f":"MAX(C60,E60,G60,I60,K60)","v":0},{"$f":"IF(Q60=1,N60,IF(Q60=0,(N60-O60),\"-\"))","v":"-"},{"$f":"$L$1-Table10161718[Competed Count]","v":4},{"$f":"IF(Q60<2,\"Yes\",\"No\")","v":"No"},{"$f":"AND($C$1=\"Y\",D60>0)","v":false},{"$f":"AND($E$1=\"Y\",F60>0)","v":false},{"$f":"AND($G$1=\"Y\",H60>0)","v":false},{"$f":"AND($I$1=\"Y\",J60>0)","v":false},{"$f":"AND($K$1=\"Y\",L60>0)","v":false},{"$f":"COUNTIF(Table10161718[[#This Row],[Competed 1]:[Competed 5]],\"=TRUE\")","v":0}]
[null,"-","-",{"$f":"IF(C61=\"-\",0,C61)","v":0},"-",{"$f":"IF(E61=\"-\",0,E61)","v":0},"-",{"$f":"IF(G61=\"-\",0,G61)","v":0},"-",{"$f":"IF(I61=\"-\",0,I61)","v":0},"-",{"$f":"IF(K61=\"-\",0,K61)","v":0},{"$f":"Table10161718[[#This Row],[School]]","v":"-"},{"$f":"D61+F61+H61+J61+L61","v":0},{"$f":"MAX(C61,E61,G61,I61,K61)","v":0},{"$f":"IF(Q61=1,N61,IF(Q61=0,(N61-O61),\"-\"))","v":"-"},{"$f":"$L$1-Table10161718[Competed Count]","v":4},{"$f":"IF(Q61<2,\"Yes\",\"No\")","v":"No"},{"$f":"AND($C$1=\"Y\",D61>0)","v":false},{"$f":"AND($E$1=\"Y\",F61>0)","v":false},{"$f":"AND($G$1=\"Y\",H61>0)","v":false},{"$f":"AND($I$1=\"Y\",J61>0)","v":false},{"$f":"AND($K$1=\"Y\",L61>0)","v":false},{"$f":"COUNTIF(Table10161718[[#This Row],[Competed 1]:[Competed 5]],\"=TRUE\")","v":0}]
[null,"-","-",{"$f":"IF(C62=\"-\",0,C62)","v":0},"-",{"$f":"IF(E62=\"-\",0,E62)","v":0},"-",{"$f":"IF(G62=\"-\",0,G62)","v":0},"-",{"$f":"IF(I62=\"-\",0,I62)","v":0},"-",{"$f":"IF(K62=\"-\",0,K62)","v":0},{"$f":"Table10161718[[#This Row],[School]]","v":"-"},{"$f":"D62+F62+H62+J62+L62","v":0},{"$f":"MAX(C62,E62,G62,I62,K62)","v":0},{"$f":"IF(Q62=1,N62,IF(Q62=0,(N62-O62),\"-\"))","v":"-"},{"$f":"$L$1-Table10161718[Competed Count]","v":4},{"$f":"IF(Q62<2,\"Yes\",\"No\")","v":"No"},{"$f":"AND($C$1=\"Y\",D62>0)","v":false},{"$f":"AND($E$1=\"Y\",F62>0)","v":false},{"$f":"AND($G$1=\"Y\",H62>0)","v":false},{"$f":"AND($I$1=\"Y\",J62>0)","v":false},{"$f":"AND($K$1=\"Y\",L62>0)","v":false},{"$f":"COUNTIF(Table10161718[[#This Row],[Competed 1]:[Competed 5]],\"=TRUE\")","v":0}]
[null,"-","-",{"$f":"IF(C63=\"-\",0,C63)","v":0},"-",{"$f":"IF(E63=\"-\",0,E63)","v":0},"-",{"$f":"IF(G63=\"-\",0,G63)","v":0},"-",{"$f":"IF(I63=\"-\",0,I63)","v":0},"-",{"$f":"IF(K63=\"-\",0,K63)","v":0},{"$f":"Table10161718[[#This Row],[School]]","v":"-"},{"$f":"D63+F63+H63+J63+L63","v":0},{"$f":"MAX(C63,E63,G63,I63,K63)","v":0},{"$f":"IF(Q63=1,N63,IF(Q63=0,(N63-O63),\"-\"))","v":"-"},{"$f":"$L$1-Table10161718[Competed Count]","v":4},{"$f":"IF(Q63<2,\"Yes\",\"No\")","v":"No"},{"$f":"AND($C$1=\"Y\",D63>0)","v":false},{"$f":"AND($E$1=\"Y\",F63>0)","v":false},{"$f":"AND($G$1=\"Y\",H63>0)","v":false},{"$f":"AND($I$1=\"Y\",J63>0)","v":false},{"$f":"AND($K$1=\"Y\",L63>0)","v":false},{"$f":"COUNTIF(Table10161718[[#This Row],[Competed 1]:[Competed 5]],\"=TRUE\")","v":0}]
[null,"-","-",{"$f":"IF(C64=\"-\",0,C64)","v":0},"-",{"$f":"IF(E64=\"-\",0,E64)","v":0},"-",{"$f":"IF(G64=\"-\",0,G64)","v":0},"-",{"$f":"IF(I64=\"-\",0,I64)","v":0},"-",{"$f":"IF(K64=\"-\",0,K64)","v":0},{"$f":"Table10161718[[#This Row],[School]]","v":"-"},{"$f":"D64+F64+H64+J64+L64","v":0},{"$f":"MAX(C64,E64,G64,I64,K64)","v":0},{"$f":"IF(Q64=1,N64,IF(Q64=0,(N64-O64),\"-\"))","v":"-"},{"$f":"$L$1-Table10161718[Competed Count]","v":4},{"$f":"IF(Q64<2,\"Yes\",\"No\")","v":"No"},{"$f":"AND($C$1=\"Y\",D64>0)","v":false},{"$f":"AND($E$1=\"Y\",F64>0)","v":false},{"$f":"AND($G$1=\"Y\",H64>0)","v":false},{"$f":"AND($I$1=\"Y\",J64>0)","v":false},{"$f":"AND($K$1=\"Y\",L64>0)","v":false},{"$f":"COUNTIF(Table10161718[[#This Row],[Competed 1]:[Competed 5]],\"=TRUE\")","v":0}]
[null,"-","-",{"$f":"IF(C65=\"-\",0,C65)","v":0},"-",{"$f":"IF(E65=\"-\",0,E65)","v":0},"-",{"$f":"IF(G65=\"-\",0,G65)","v":0},"-",{"$f":"IF(I65=\"-\",0,I65)","v":0},"-",{"$f":"IF(K65=\"-\",0,K65)","v":0},{"$f":"Table10161718[[#This Row],[School]]","v":"-"},{"$f":"D65+F65+H65+J65+L65","v":0},{"$f":"MAX(C65,E65,G65,I65,K65)","v":0},{"$f":"IF(Q65=1,N65,IF(Q65=0,(N65-O65),\"-\"))","v":"-"},{"$f":"$L$1-Table10161718[Competed Count]","v":4},{"$f":"IF(Q65<2,\"Yes\",\"No\")","v":"No"},{"$f":"AND($C$1=\"Y\",D65>0)","v":false},{"$f":"AND($E$1=\"Y\",F65>0)","v":false},{"$f":"AND($G$1=\"Y\",H65>0)","v":false},{"$f":"AND($I$1=\"Y\",J65>0)","v":false},{"$f":"AND($K$1=\"Y\",L65>0)","v":false},{"$f":"COUNTIF(Table10161718[[#This Row],[Competed 1]:[Competed 5]],\"=TRUE\")","v":0}]
[null,"-","-",{"$f":"IF(C66=\"-\",0,C66)","v":0},"-",{"$f":"IF(E66=\"-\",0,E66)","v":0},"-",{"$f":"IF(G66=\"-\",0,G66)","v":0},"-",{"$f":"IF(I66=\"-\",0,I66)","v":0},"-",{"$f":"IF(K66=\"-\",0,K66)","v":0},{"$f":"Table10161718[[#This Row],[School]]","v":"-"},{"$f":"D66+F66+H66+J66+L66","v":0},{"$f":"MAX(C66,E66,G66,I66,K66)","v":0},{"$f":"IF(Q66=1,N66,IF(Q66=0,(N66-O66),\"-\"))","v":"-"},{"$f":"$L$1-Table10161718[Competed Count]","v":4},{"$f":"IF(Q66<2,\"Yes\",\"No\")","v":"No"},{"$f":"AND($C$1=\"Y\",D66>0)","v":false},{"$f":"AND($E$1=\"Y\",F66>0)","v":false},{"$f":"AND($G$1=\"Y\",H66>0)","v":false},{"$f":"AND($I$1=\"Y\",J66>0)","v":false},{"$f":"AND($K$1=\"Y\",L66>0)","v":false},{"$f":"COUNTIF(Table10161718[[#This Row],[Competed 1]:[Competed 5]],\"=TRUE\")","v":0}]
[null,"-","-",{"$f":"IF(C67=\"-\",0,C67)","v":0},"-",{"$f":"IF(E67=\"-\",0,E67)","v":0},"-",{"$f":"IF(G67=\"-\",0,G67)","v":0},"-",{"$f":"IF(I67=\"-\",0,I67)","v":0},"-",{"$f":"IF(K67=\"-\",0,K67)","v":0},{"$f":"Table10161718[[#This Row],[School]]","v":"-"},{"$f":"D67+F67+H67+J67+L67","v":0},{"$f":"MAX(C67,E67,G67,I67,K67)","v":0},{"$f":"IF(Q67=1,N67,IF(Q67=0,(N67-O67),\"-\"))","v":"-"},{"$f":"$L$1-Table10161718[Competed Count]","v":4},{"$f":"IF(Q67<2,\"Yes\",\"No\")","v":"No"},{"$f":"AND($C$1=\"Y\",D67>0)","v":false},{"$f":"AND($E$1=\"Y\",F67>0)","v":false},{"$f":"AND($G$1=\"Y\",H67>0)","v":false},{"$f":"AND($I$1=\"Y\",J67>0)","v":false},{"$f":"AND($K$1=\"Y\",L67>0)","v":false},{"$f":"COUNTIF(Table10161718[[#This Row],[Competed 1]:[Competed 5]],\"=TRUE\")","v":0}]
[null,"-","-",{"$f":"IF(C68=\"-\",0,C68)","v":0},"-",{"$f":"IF(E68=\"-\",0,E68)","v":0},"-",{"$f":"IF(G68=\"-\",0,G68)","v":0},"-",{"$f":"IF(I68=\"-\",0,I68)","v":0},"-",{"$f":"IF(K68=\"-\",0,K68)","v":0},{"$f":"Table10161718[[#This Row],[School]]","v":"-"},{"$f":"D68+F68+H68+J68+L68","v":0},{"$f":"MAX(C68,E68,G68,I68,K68)","v":0},{"$f":"IF(Q68=1,N68,IF(Q68=0,(N68-O68),\"-\"))","v":"-"},{"$f":"$L$1-Table10161718[Competed Count]","v":4},{"$f":"IF(Q68<2,\"Yes\",\"No\")","v":"No"},{"$f":"AND($C$1=\"Y\",D68>0)","v":false},{"$f":"AND($E$1=\"Y\",F68>0)","v":false},{"$f":"AND($G$1=\"Y\",H68>0)","v":false},{"$f":"AND($I$1=\"Y\",J68>0)","v":false},{"$f":"AND($K$1=\"Y\",L68>0)","v":false},{"$f":"COUNTIF(Table10161718[[#This Row],[Competed 1]:[Competed 5]],\"=TRUE\")","v":0}]
[null,"-","-",{"$f":"IF(C69=\"-\",0,C69)","v":0},"-",{"$f":"IF(E69=\"-\",0,E69)","v":0},"-",{"$f":"IF(G69=\"-\",0,G69)","v":0},"-",{"$f":"IF(I69=\"-\",0,I69)","v":0},"-",{"$f":"IF(K69=\"-\",0,K69)","v":0},{"$f":"Table10161718[[#This Row],[School]]","v":"-"},{"$f":"D69+F69+H69+J69+L69","v":0},{"$f":"MAX(C69,E69,G69,I69,K69)","v":0},{"$f":"IF(Q69=1,N69,IF(Q69=0,(N69-O69),\"-\"))","v":"-"},{"$f":"$L$1-Table10161718[Competed Count]","v":4},{"$f":"IF(Q69<2,\"Yes\",\"No\")","v":"No"},{"$f":"AND($C$1=\"Y\",D69>0)","v":false},{"$f":"AND($E$1=\"Y\",F69>0)","v":false},{"$f":"AND($G$1=\"Y\",H69>0)","v":false},{"$f":"AND($I$1=\"Y\",J69>0)","v":false},{"$f":"AND($K$1=\"Y\",L69>0)","v":false},{"$f":"COUNTIF(Table10161718[[#This Row],[Competed 1]:[Competed 5]],\"=TRUE\")","v":0}]
[null,"-","-",{"$f":"IF(C70=\"-\",0,C70)","v":0},"-",{"$f":"IF(E70=\"-\",0,E70)","v":0},"-",{"$f":"IF(G70=\"-\",0,G70)","v":0},"-",{"$f":"IF(I70=\"-\",0,I70)","v":0},"-",{"$f":"IF(K70=\"-\",0,K70)","v":0},{"$f":"Table10161718[[#This Row],[School]]","v":"-"},{"$f":"D70+F70+H70+J70+L70","v":0},{"$f":"MAX(C70,E70,G70,I70,K70)","v":0},{"$f":"IF(Q70=1,N70,IF(Q70=0,(N70-O70),\"-\"))","v":"-"},{"$f":"$L$1-Table10161718[Competed Count]","v":4},{"$f":"IF(Q70<2,\"Yes\",\"No\")","v":"No"},{"$f":"AND($C$1=\"Y\",D70>0)","v":false},{"$f":"AND($E$1=\"Y\",F70>0)","v":false},{"$f":"AND($G$1=\"Y\",H70>0)","v":false},{"$f":"AND($I$1=\"Y\",J70>0)","v":false},{"$f":"AND($K$1=\"Y\",L70>0)","v":false},{"$f":"COUNTIF(Table10161718[[#This Row],[Competed 1]:[Competed 5]],\"=TRUE\")","v":0}]
[null,"-","-",{"$f":"IF(C71=\"-\",0,C71)","v":0},"-",{"$f":"IF(E71=\"-\",0,E71)","v":0},"-",{"$f":"IF(G71=\"-\",0,G71)","v":0},"-",{"$f":"IF(I71=\"-\",0,I71)","v":0},"-",{"$f":"IF(K71=\"-\",0,K71)","v":0},{"$f":"Table10161718[[#This Row],[School]]","v":"-"},{"$f":"D71+F71+H71+J71+L71","v":0},{"$f":"MAX(C71,E71,G71,I71,K71)","v":0},{"$f":"IF(Q71=1,N71,IF(Q71=0,(N71-O71),\"-\"))","v":"-"},{"$f":"$L$1-Table10161718[Competed Count]","v":4},{"$f":"IF(Q71<2,\"Yes\",\"No\")","v":"No"},{"$f":"AND($C$1=\"Y\",D71>0)","v":false},{"$f":"AND($E$1=\"Y\",F71>0)","v":false},{"$f":"AND($G$1=\"Y\",H71>0)","v":false},{"$f":"AND($I$1=\"Y\",J71>0)","v":false},{"$f":"AND($K$1=\"Y\",L71>0)","v":false},{"$f":"COUNTIF(Table10161718[[#This Row],[Competed 1]:[Competed 5]],\"=TRUE\")","v":0}]
[null,"-","-",{"$f":"IF(C72=\"-\",0,C72)","v":0},"-",{"$f":"IF(E72=\"-\",0,E72)","v":0},"-",{"$f":"IF(G72=\"-\",0,G72)","v":0},"-",{"$f":"IF(I72=\"-\",0,I72)","v":0},"-",{"$f":"IF(K72=\"-\",0,K72)","v":0},{"$f":"Table10161718[[#This Row],[School]]","v":"-"},{"$f":"D72+F72+H72+J72+L72","v":0},{"$f":"MAX(C72,E72,G72,I72,K72)","v":0},{"$f":"IF(Q72=1,N72,IF(Q72=0,(N72-O72),\"-\"))","v":"-"},{"$f":"$L$1-Table10161718[Competed Count]","v":4},{"$f":"IF(Q72<2,\"Yes\",\"No\")","v":"No"},{"$f":"AND($C$1=\"Y\",D72>0)","v":false},{"$f":"AND($E$1=\"Y\",F72>0)","v":false},{"$f":"AND($G$1=\"Y\",H72>0)","v":false},{"$f":"AND($I$1=\"Y\",J72>0)","v":false},{"$f":"AND($K$1=\"Y\",L72>0)","v":false},{"$f":"COUNTIF(Table10161718[[#This Row],[Competed 1]:[Competed 5]],\"=TRUE\")","v":0}]
[null,"-","-",{"$f":"IF(C73=\"-\",0,C73)","v":0},"-",{"$f":"IF(E73=\"-\",0,E73)","v":0},"-",{"$f":"IF(G73=\"-\",0,G73)","v":0},"-",{"$f":"IF(I73=\"-\",0,I73)","v":0},"-",{"$f":"IF(K73=\"-\",0,K73)","v":0},{"$f":"Table10161718[[#This Row],[School]]","v":"-"},{"$f":"D73+F73+H73+J73+L73","v":0},{"$f":"MAX(C73,E73,G73,I73,K73)","v":0},{"$f":"IF(Q73=1,N73,IF(Q73=0,(N73-O73),\"-\"))","v":"-"},{"$f":"$L$1-Table10161718[Competed Count]","v":4},{"$f":"IF(Q73<2,\"Yes\",\"No\")","v":"No"},{"$f":"AND($C$1=\"Y\",D73>0)","v":false},{"$f":"AND($E$1=\"Y\",F73>0)","v":false},{"$f":"AND($G$1=\"Y\",H73>0)","v":false},{"$f":"AND($I$1=\"Y\",J73>0)","v":false},{"$f":"AND($K$1=\"Y\",L73>0)","v":false},{"$f":"COUNTIF(Table10161718[[#This Row],[Competed 1]:[Competed 5]],\"=TRUE\")","v":0}]
[null,"-","-",{"$f":"IF(C74=\"-\",0,C74)","v":0},"-",{"$f":"IF(E74=\"-\",0,E74)","v":0},"-",{"$f":"IF(G74=\"-\",0,G74)","v":0},"-",{"$f":"IF(I74=\"-\",0,I74)","v":0},"-",{"$f":"IF(K74=\"-\",0,K74)","v":0},{"$f":"Table10161718[[#This Row],[School]]","v":"-"},{"$f":"D74+F74+H74+J74+L74","v":0},{"$f":"MAX(C74,E74,G74,I74,K74)","v":0},{"$f":"IF(Q74=1,N74,IF(Q74=0,(N74-O74),\"-\"))","v":"-"},{"$f":"$L$1-Table10161718[Competed Count]","v":4},{"$f":"IF(Q74<2,\"Yes\",\"No\")","v":"No"},{"$f":"AND($C$1=\"Y\",D74>0)","v":false},{"$f":"AND($E$1=\"Y\",F74>0)","v":false},{"$f":"AND($G$1=\"Y\",H74>0)","v":false},{"$f":"AND($I$1=\"Y\",J74>0)","v":false},{"$f":"AND($K$1=\"Y\",L74>0)","v":false},{"$f":"COUNTIF(Table10161718[[#This Row],[Competed 1]:[Competed 5]],\"=TRUE\")","v":0}]
[null,"-","-",{"$f":"IF(C75=\"-\",0,C75)","v":0},"-",{"$f":"IF(E75=\"-\",0,E75)","v":0},"-",{"$f":"IF(G75=\"-\",0,G75)","v":0},"-",{"$f":"IF(I75=\"-\",0,I75)","v":0},"-",{"$f":"IF(K75=\"-\",0,K75)","v":0},{"$f":"Table10161718[[#This Row],[School]]","v":"-"},{"$f":"D75+F75+H75+J75+L75","v":0},{"$f":"MAX(C75,E75,G75,I75,K75)","v":0},{"$f":"IF(Q75=1,N75,IF(Q75=0,(N75-O75),\"-\"))","v":"-"},{"$f":"$L$1-Table10161718[Competed Count]","v":4},{"$f":"IF(Q75<2,\"Yes\",\"No\")","v":"No"},{"$f":"AND($C$1=\"Y\",D75>0)","v":false},{"$f":"AND($E$1=\"Y\",F75>0)","v":false},{"$f":"AND($G$1=\"Y\",H75>0)","v":false},{"$f":"AND($I$1=\"Y\",J75>0)","v":false},{"$f":"AND($K$1=\"Y\",L75>0)","v":false},{"$f":"COUNTIF(Table10161718[[#This Row],[Competed 1]:[Competed 5]],\"=TRUE\")","v":0}]
[null,"-","-",{"$f":"IF(C76=\"-\",0,C76)","v":0},"-",{"$f":"IF(E76=\"-\",0,E76)","v":0},"-",{"$f":"IF(G76=\"-\",0,G76)","v":0},"-",{"$f":"IF(I76=\"-\",0,I76)","v":0},"-",{"$f":"IF(K76=\"-\",0,K76)","v":0},{"$f":"Table10161718[[#This Row],[School]]","v":"-"},{"$f":"D76+F76+H76+J76+L76","v":0},{"$f":"MAX(C76,E76,G76,I76,K76)","v":0},{"$f":"IF(Q76=1,N76,IF(Q76=0,(N76-O76),\"-\"))","v":"-"},{"$f":"$L$1-Table10161718[Competed Count]","v":4},{"$f":"IF(Q76<2,\"Yes\",\"No\")","v":"No"},{"$f":"AND($C$1=\"Y\",D76>0)","v":false},{"$f":"AND($E$1=\"Y\",F76>0)","v":false},{"$f":"AND($G$1=\"Y\",H76>0)","v":false},{"$f":"AND($I$1=\"Y\",J76>0)","v":false},{"$f":"AND($K$1=\"Y\",L76>0)","v":false},{"$f":"COUNTIF(Table10161718[[#This Row],[Competed 1]:[Competed 5]],\"=TRUE\")","v":0}]
[null,"-","-",{"$f":"IF(C77=\"-\",0,C77)","v":0},"-",{"$f":"IF(E77=\"-\",0,E77)","v":0},"-",{"$f":"IF(G77=\"-\",0,G77)","v":0},"-",{"$f":"IF(I77=\"-\",0,I77)","v":0},"-",{"$f":"IF(K77=\"-\",0,K77)","v":0},{"$f":"Table10161718[[#This Row],[School]]","v":"-"},{"$f":"D77+F77+H77+J77+L77","v":0},{"$f":"MAX(C77,E77,G77,I77,K77)","v":0},{"$f":"IF(Q77=1,N77,IF(Q77=0,(N77-O77),\"-\"))","v":"-"},{"$f":"$L$1-Table10161718[Competed Count]","v":4},{"$f":"IF(Q77<2,\"Yes\",\"No\")","v":"No"},{"$f":"AND($C$1=\"Y\",D77>0)","v":false},{"$f":"AND($E$1=\"Y\",F77>0)","v":false},{"$f":"AND($G$1=\"Y\",H77>0)","v":false},{"$f":"AND($I$1=\"Y\",J77>0)","v":false},{"$f":"AND($K$1=\"Y\",L77>0)","v":false},{"$f":"COUNTIF(Table10161718[[#This Row],[Competed 1]:[Competed 5]],\"=TRUE\")","v":0}]
[null,"-","-",{"$f":"IF(C78=\"-\",0,C78)","v":0},"-",{"$f":"IF(E78=\"-\",0,E78)","v":0},"-",{"$f":"IF(G78=\"-\",0,G78)","v":0},"-",{"$f":"IF(I78=\"-\",0,I78)","v":0},"-",{"$f":"IF(K78=\"-\",0,K78)","v":0},{"$f":"Table10161718[[#This Row],[School]]","v":"-"},{"$f":"D78+F78+H78+J78+L78","v":0},{"$f":"MAX(C78,E78,G78,I78,K78)","v":0},{"$f":"IF(Q78=1,N78,IF(Q78=0,(N78-O78),\"-\"))","v":"-"},{"$f":"$L$1-Table10161718[Competed Count]","v":4},{"$f":"IF(Q78<2,\"Yes\",\"No\")","v":"No"},{"$f":"AND($C$1=\"Y\",D78>0)","v":false},{"$f":"AND($E$1=\"Y\",F78>0)","v":false},{"$f":"AND($G$1=\"Y\",H78>0)","v":false},{"$f":"AND($I$1=\"Y\",J78>0)","v":false},{"$f":"AND($K$1=\"Y\",L78>0)","v":false},{"$f":"COUNTIF(Table10161718[[#This Row],[Competed 1]:[Competed 5]],\"=TRUE\")","v":0}]
[null,"-","-",{"$f":"IF(C79=\"-\",0,C79)","v":0},"-",{"$f":"IF(E79=\"-\",0,E79)","v":0},"-",{"$f":"IF(G79=\"-\",0,G79)","v":0},"-",{"$f":"IF(I79=\"-\",0,I79)","v":0},"-",{"$f":"IF(K79=\"-\",0,K79)","v":0},{"$f":"Table10161718[[#This Row],[School]]","v":"-"},{"$f":"D79+F79+H79+J79+L79","v":0},{"$f":"MAX(C79,E79,G79,I79,K79)","v":0},{"$f":"IF(Q79=1,N79,IF(Q79=0,(N79-O79),\"-\"))","v":"-"},{"$f":"$L$1-Table10161718[Competed Count]","v":4},{"$f":"IF(Q79<2,\"Yes\",\"No\")","v":"No"},{"$f":"AND($C$1=\"Y\",D79>0)","v":false},{"$f":"AND($E$1=\"Y\",F79>0)","v":false},{"$f":"AND($G$1=\"Y\",H79>0)","v":false},{"$f":"AND($I$1=\"Y\",J79>0)","v":false},{"$f":"AND($K$1=\"Y\",L79>0)","v":false},{"$f":"COUNTIF(Table10161718[[#This Row],[Competed 1]:[Competed 5]],\"=TRUE\")","v":0}]
[null,"-","-",{"$f":"IF(C80=\"-\",0,C80)","v":0},"-",{"$f":"IF(E80=\"-\",0,E80)","v":0},"-",{"$f":"IF(G80=\"-\",0,G80)","v":0},"-",{"$f":"IF(I80=\"-\",0,I80)","v":0},"-",{"$f":"IF(K80=\"-\",0,K80)","v":0},{"$f":"Table10161718[[#This Row],[School]]","v":"-"},{"$f":"D80+F80+H80+J80+L80","v":0},{"$f":"MAX(C80,E80,G80,I80,K80)","v":0},{"$f":"IF(Q80=1,N80,IF(Q80=0,(N80-O80),\"-\"))","v":"-"},{"$f":"$L$1-Table10161718[Competed Count]","v":4},{"$f":"IF(Q80<2,\"Yes\",\"No\")","v":"No"},{"$f":"AND($C$1=\"Y\",D80>0)","v":false},{"$f":"AND($E$1=\"Y\",F80>0)","v":false},{"$f":"AND($G$1=\"Y\",H80>0)","v":false},{"$f":"AND($I$1=\"Y\",J80>0)","v":false},{"$f":"AND($K$1=\"Y\",L80>0)","v":false},{"$f":"COUNTIF(Table10161718[[#This Row],[Competed 1]:[Competed 5]],\"=TRUE\")","v":0}]
[null,"-","-",{"$f":"IF(C81=\"-\",0,C81)","v":0},"-",{"$f":"IF(E81=\"-\",0,E81)","v":0},"-",{"$f":"IF(G81=\"-\",0,G81)","v":0},"-",{"$f":"IF(I81=\"-\",0,I81)","v":0},"-",{"$f":"IF(K81=\"-\",0,K81)","v":0},{"$f":"Table10161718[[#This Row],[School]]","v":"-"},{"$f":"D81+F81+H81+J81+L81","v":0},{"$f":"MAX(C81,E81,G81,I81,K81)","v":0},{"$f":"IF(Q81=1,N81,IF(Q81=0,(N81-O81),\"-\"))","v":"-"},{"$f":"$L$1-Table10161718[Competed Count]","v":4},{"$f":"IF(Q81<2,\"Yes\",\"No\")","v":"No"},{"$f":"AND($C$1=\"Y\",D81>0)","v":false},{"$f":"AND($E$1=\"Y\",F81>0)","v":false},{"$f":"AND($G$1=\"Y\",H81>0)","v":false},{"$f":"AND($I$1=\"Y\",J81>0)","v":false},{"$f":"AND($K$1=\"Y\",L81>0)","v":false},{"$f":"COUNTIF(Table10161718[[#This Row],[Competed 1]:[Competed 5]],\"=TRUE\")","v":0}]
[null,"-","-",{"$f":"IF(C82=\"-\",0,C82)","v":0},"-",{"$f":"IF(E82=\"-\",0,E82)","v":0},"-",{"$f":"IF(G82=\"-\",0,G82)","v":0},"-",{"$f":"IF(I82=\"-\",0,I82)","v":0},"-",{"$f":"IF(K82=\"-\",0,K82)","v":0},{"$f":"Table10161718[[#This Row],[School]]","v":"-"},{"$f":"D82+F82+H82+J82+L82","v":0},{"$f":"MAX(C82,E82,G82,I82,K82)","v":0},{"$f":"IF(Q82=1,N82,IF(Q82=0,(N82-O82),\"-\"))","v":"-"},{"$f":"$L$1-Table10161718[Competed Count]","v":4},{"$f":"IF(Q82<2,\"Yes\",\"No\")","v":"No"},{"$f":"AND($C$1=\"Y\",D82>0)","v":false},{"$f":"AND($E$1=\"Y\",F82>0)","v":false},{"$f":"AND($G$1=\"Y\",H82>0)","v":false},{"$f":"AND($I$1=\"Y\",J82>0)","v":false},{"$f":"AND($K$1=\"Y\",L82>0)","v":false},{"$f":"COUNTIF(Table10161718[[#This Row],[Competed 1]:[Competed 5]],\"=TRUE\")","v":0}]
[null,"-","-",{"$f":"IF(C83=\"-\",0,C83)","v":0},"-",{"$f":"IF(E83=\"-\",0,E83)","v":0},"-",{"$f":"IF(G83=\"-\",0,G83)","v":0},"-",{"$f":"IF(I83=\"-\",0,I83)","v":0},"-",{"$f":"IF(K83=\"-\",0,K83)","v":0},{"$f":"Table10161718[[#This Row],[School]]","v":"-"},{"$f":"D83+F83+H83+J83+L83","v":0},{"$f":"MAX(C83,E83,G83,I83,K83)","v":0},{"$f":"IF(Q83=1,N83,IF(Q83=0,(N83-O83),\"-\"))","v":"-"},{"$f":"$L$1-Table10161718[Competed Count]","v":4},{"$f":"IF(Q83<2,\"Yes\",\"No\")","v":"No"},{"$f":"AND($C$1=\"Y\",D83>0)","v":false},{"$f":"AND($E$1=\"Y\",F83>0)","v":false},{"$f":"AND($G$1=\"Y\",H83>0)","v":false},{"$f":"AND($I$1=\"Y\",J83>0)","v":false},{"$f":"AND($K$1=\"Y\",L83>0)","v":false},{"$f":"COUNTIF(Table10161718[[#This Row],[Competed 1]:[Competed 5]],\"=TRUE\")","v":0}]
[null,"-","-",{"$f":"IF(C84=\"-\",0,C84)","v":0},"-",{"$f":"IF(E84=\"-\",0,E84)","v":0},"-",{"$f":"IF(G84=\"-\",0,G84)","v":0},"-",{"$f":"IF(I84=\"-\",0,I84)","v":0},"-",{"$f":"IF(K84=\"-\",0,K84)","v":0},{"$f":"Table10161718[[#This Row],[School]]","v":"-"},{"$f":"D84+F84+H84+J84+L84","v":0},{"$f":"MAX(C84,E84,G84,I84,K84)","v":0},{"$f":"IF(Q84=1,N84,IF(Q84=0,(N84-O84),\"-\"))","v":"-"},{"$f":"$L$1-Table10161718[Competed Count]","v":4},{"$f":"IF(Q84<2,\"Yes\",\"No\")","v":"No"},{"$f":"AND($C$1=\"Y\",D84>0)","v":false},{"$f":"AND($E$1=\"Y\",F84>0)","v":false},{"$f":"AND($G$1=\"Y\",H84>0)","v":false},{"$f":"AND($I$1=\"Y\",J84>0)","v":false},{"$f":"AND($K$1=\"Y\",L84>0)","v":false},{"$f":"COUNTIF(Table10161718[[#This Row],[Competed 1]:[Competed 5]],\"=TRUE\")","v":0}]
[null,"-","-",{"$f":"IF(C85=\"-\",0,C85)","v":0},"-",{"$f":"IF(E85=\"-\",0,E85)","v":0},"-",{"$f":"IF(G85=\"-\",0,G85)","v":0},"-",{"$f":"IF(I85=\"-\",0,I85)","v":0},"-",{"$f":"IF(K85=\"-\",0,K85)","v":0},{"$f":"Table10161718[[#This Row],[School]]","v":"-"},{"$f":"D85+F85+H85+J85+L85","v":0},{"$f":"MAX(C85,E85,G85,I85,K85)","v":0},{"$f":"IF(Q85=1,N85,IF(Q85=0,(N85-O85),\"-\"))","v":"-"},{"$f":"$L$1-Table10161718[Competed Count]","v":4},{"$f":"IF(Q85<2,\"Yes\",\"No\")","v":"No"},{"$f":"AND($C$1=\"Y\",D85>0)","v":false},{"$f":"AND($E$1=\"Y\",F85>0)","v":false},{"$f":"AND($G$1=\"Y\",H85>0)","v":false},{"$f":"AND($I$1=\"Y\",J85>0)","v":false},{"$f":"AND($K$1=\"Y\",L85>0)","v":false},{"$f":"COUNTIF(Table10161718[[#This Row],[Competed 1]:[Competed 5]],\"=TRUE\")","v":0}]
[null,"-","-",{"$f":"IF(C86=\"-\",0,C86)","v":0},"-",{"$f":"IF(E86=\"-\",0,E86)","v":0},"-",{"$f":"IF(G86=\"-\",0,G86)","v":0},"-",{"$f":"IF(I86=\"-\",0,I86)","v":0},"-",{"$f":"IF(K86=\"-\",0,K86)","v":0},{"$f":"Table10161718[[#This Row],[School]]","v":"-"},{"$f":"D86+F86+H86+J86+L86","v":0},{"$f":"MAX(C86,E86,G86,I86,K86)","v":0},{"$f":"IF(Q86=1,N86,IF(Q86=0,(N86-O86),\"-\"))","v":"-"},{"$f":"$L$1-Table10161718[Competed Count]","v":4},{"$f":"IF(Q86<2,\"Yes\",\"No\")","v":"No"},{"$f":"AND($C$1=\"Y\",D86>0)","v":false},{"$f":"AND($E$1=\"Y\",F86>0)","v":false},{"$f":"AND($G$1=\"Y\",H86>0)","v":false},{"$f":"AND($I$1=\"Y\",J86>0)","v":false},{"$f":"AND($K$1=\"Y\",L86>0)","v":false},{"$f":"COUNTIF(Table10161718[[#This Row],[Competed 1]:[Competed 5]],\"=TRUE\")","v":0}]
[null,"-","-",{"$f":"IF(C87=\"-\",0,C87)","v":0},"-",{"$f":"IF(E87=\"-\",0,E87)","v":0},"-",{"$f":"IF(G87=\"-\",0,G87)","v":0},"-",{"$f":"IF(I87=\"-\",0,I87)","v":0},"-",{"$f":"IF(K87=\"-\",0,K87)","v":0},{"$f":"Table10161718[[#This Row],[School]]","v":"-"},{"$f":"D87+F87+H87+J87+L87","v":0},{"$f":"MAX(C87,E87,G87,I87,K87)","v":0},{"$f":"IF(Q87=1,N87,IF(Q87=0,(N87-O87),\"-\"))","v":"-"},{"$f":"$L$1-Table10161718[Competed Count]","v":4},{"$f":"IF(Q87<2,\"Yes\",\"No\")","v":"No"},{"$f":"AND($C$1=\"Y\",D87>0)","v":false},{"$f":"AND($E$1=\"Y\",F87>0)","v":false},{"$f":"AND($G$1=\"Y\",H87>0)","v":false},{"$f":"AND($I$1=\"Y\",J87>0)","v":false},{"$f":"AND($K$1=\"Y\",L87>0)","v":false},{"$f":"COUNTIF(Table10161718[[#This Row],[Competed 1]:[Competed 5]],\"=TRUE\")","v":0}]
[null,"-","-",{"$f":"IF(C88=\"-\",0,C88)","v":0},"-",{"$f":"IF(E88=\"-\",0,E88)","v":0},"-",{"$f":"IF(G88=\"-\",0,G88)","v":0},"-",{"$f":"IF(I88=\"-\",0,I88)","v":0},"-",{"$f":"IF(K88=\"-\",0,K88)","v":0},{"$f":"Table10161718[[#This Row],[School]]","v":"-"},{"$f":"D88+F88+H88+J88+L88","v":0},{"$f":"MAX(C88,E88,G88,I88,K88)","v":0},{"$f":"IF(Q88=1,N88,IF(Q88=0,(N88-O88),\"-\"))","v":"-"},{"$f":"$L$1-Table10161718[Competed Count]","v":4},{"$f":"IF(Q88<2,\"Yes\",\"No\")","v":"No"},{"$f":"AND($C$1=\"Y\",D88>0)","v":false},{"$f":"AND($E$1=\"Y\",F88>0)","v":false},{"$f":"AND($G$1=\"Y\",H88>0)","v":false},{"$f":"AND($I$1=\"Y\",J88>0)","v":false},{"$f":"AND($K$1=\"Y\",L88>0)","v":false},{"$f":"COUNTIF(Table10161718[[#This Row],[Competed 1]:[Competed 5]],\"=TRUE\")","v":0}]
[null,"-","-",{"$f":"IF(C89=\"-\",0,C89)","v":0},"-",{"$f":"IF(E89=\"-\",0,E89)","v":0},"-",{"$f":"IF(G89=\"-\",0,G89)","v":0},"-",{"$f":"IF(I89=\"-\",0,I89)","v":0},"-",{"$f":"IF(K89=\"-\",0,K89)","v":0},{"$f":"Table10161718[[#This Row],[School]]","v":"-"},{"$f":"D89+F89+H89+J89+L89","v":0},{"$f":"MAX(C89,E89,G89,I89,K89)","v":0},{"$f":"IF(Q89=1,N89,IF(Q89=0,(N89-O89),\"-\"))","v":"-"},{"$f":"$L$1-Table10161718[Competed Count]","v":4},{"$f":"IF(Q89<2,\"Yes\",\"No\")","v":"No"},{"$f":"AND($C$1=\"Y\",D89>0)","v":false},{"$f":"AND($E$1=\"Y\",F89>0)","v":false},{"$f":"AND($G$1=\"Y\",H89>0)","v":false},{"$f":"AND($I$1=\"Y\",J89>0)","v":false},{"$f":"AND($K$1=\"Y\",L89>0)","v":false},{"$f":"COUNTIF(Table10161718[[#This Row],[Competed 1]:[Competed 5]],\"=TRUE\")","v":0}]
[null,"-","-",{"$f":"IF(C90=\"-\",0,C90)","v":0},"-",{"$f":"IF(E90=\"-\",0,E90)","v":0},"-",{"$f":"IF(G90=\"-\",0,G90)","v":0},"-",{"$f":"IF(I90=\"-\",0,I90)","v":0},"-",{"$f":"IF(K90=\"-\",0,K90)","v":0},{"$f":"Table10161718[[#This Row],[School]]","v":"-"},{"$f":"D90+F90+H90+J90+L90","v":0},{"$f":"MAX(C90,E90,G90,I90,K90)","v":0},{"$f":"IF(Q90=1,N90,IF(Q90=0,(N90-O90),\"-\"))","v":"-"},{"$f":"$L$1-Table10161718[Competed Count]","v":4},{"$f":"IF(Q90<2,\"Yes\",\"No\")","v":"No"},{"$f":"AND($C$1=\"Y\",D90>0)","v":false},{"$f":"AND($E$1=\"Y\",F90>0)","v":false},{"$f":"AND($G$1=\"Y\",H90>0)","v":false},{"$f":"AND($I$1=\"Y\",J90>0)","v":false},{"$f":"AND($K$1=\"Y\",L90>0)","v":false},{"$f":"COUNTIF(Table10161718[[#This Row],[Competed 1]:[Competed 5]],\"=TRUE\")","v":0}]
[null,"-","-",{"$f":"IF(C91=\"-\",0,C91)","v":0},"-",{"$f":"IF(E91=\"-\",0,E91)","v":0},"-",{"$f":"IF(G91=\"-\",0,G91)","v":0},"-",{"$f":"IF(I91=\"-\",0,I91)","v":0},"-",{"$f":"IF(K91=\"-\",0,K91)","v":0},{"$f":"Table10161718[[#This Row],[School]]","v":"-"},{"$f":"D91+F91+H91+J91+L91","v":0},{"$f":"MAX(C91,E91,G91,I91,K91)","v":0},{"$f":"IF(Q91=1,N91,IF(Q91=0,(N91-O91),\"-\"))","v":"-"},{"$f":"$L$1-Table10161718[Competed Count]","v":4},{"$f":"IF(Q91<2,\"Yes\",\"No\")","v":"No"},{"$f":"AND($C$1=\"Y\",D91>0)","v":false},{"$f":"AND($E$1=\"Y\",F91>0)","v":false},{"$f":"AND($G$1=\"Y\",H91>0)","v":false},{"$f":"AND($I$1=\"Y\",J91>0)","v":false},{"$f":"AND($K$1=\"Y\",L91>0)","v":false},{"$f":"COUNTIF(Table10161718[[#This Row],[Competed 1]:[Competed 5]],\"=TRUE\")","v":0}]
[null,"-","-",{"$f":"IF(C92=\"-\",0,C92)","v":0},"-",{"$f":"IF(E92=\"-\",0,E92)","v":0},"-",{"$f":"IF(G92=\"-\",0,G92)","v":0},"-",{"$f":"IF(I92=\"-\",0,I92)","v":0},"-",{"$f":"IF(K92=\"-\",0,K92)","v":0},{"$f":"Table10161718[[#This Row],[School]]","v":"-"},{"$f":"D92+F92+H92+J92+L92","v":0},{"$f":"MAX(C92,E92,G92,I92,K92)","v":0},{"$f":"IF(Q92=1,N92,IF(Q92=0,(N92-O92),\"-\"))","v":"-"},{"$f":"$L$1-Table10161718[Competed Count]","v":4},{"$f":"IF(Q92<2,\"Yes\",\"No\")","v":"No"},{"$f":"AND($C$1=\"Y\",D92>0)","v":false},{"$f":"AND($E$1=\"Y\",F92>0)","v":false},{"$f":"AND($G$1=\"Y\",H92>0)","v":false},{"$f":"AND($I$1=\"Y\",J92>0)","v":false},{"$f":"AND($K$1=\"Y\",L92>0)","v":false},{"$f":"COUNTIF(Table10161718[[#This Row],[Competed 1]:[Competed 5]],\"=TRUE\")","v":0}]
[null,"-","-",{"$f":"IF(C93=\"-\",0,C93)","v":0},"-",{"$f":"IF(E93=\"-\",0,E93)","v":0},"-",{"$f":"IF(G93=\"-\",0,G93)","v":0},"-",{"$f":"IF(I93=\"-\",0,I93)","v":0},"-",{"$f":"IF(K93=\"-\",0,K93)","v":0},{"$f":"Table10161718[[#This Row],[School]]","v":"-"},{"$f":"D93+F93+H93+J93+L93","v":0},{"$f":"MAX(C93,E93,G93,I93,K93)","v":0},{"$f":"IF(Q93=1,N93,IF(Q93=0,(N93-O93),\"-\"))","v":"-"},{"$f":"$L$1-Table10161718[Competed Count]","v":4},{"$f":"IF(Q93<2,\"Yes\",\"No\")","v":"No"},{"$f":"AND($C$1=\"Y\",D93>0)","v":false},{"$f":"AND($E$1=\"Y\",F93>0)","v":false},{"$f":"AND($G$1=\"Y\",H93>0)","v":false},{"$f":"AND($I$1=\"Y\",J93>0)","v":false},{"$f":"AND($K$1=\"Y\",L93>0)","v":false},{"$f":"COUNTIF(Table10161718[[#This Row],[Competed 1]:[Competed 5]],\"=TRUE\")","v":0}]
[null,"-","-",{"$f":"IF(C94=\"-\",0,C94)","v":0},"-",{"$f":"IF(E94=\"-\",0,E94)","v":0},"-",{"$f":"IF(G94=\"-\",0,G94)","v":0},"-",{"$f":"IF(I94=\"-\",0,I94)","v":0},"-",{"$f":"IF(K94=\"-\",0,K94)","v":0},{"$f":"Table10161718[[#This Row],[School]]","v":"-"},{"$f":"D94+F94+H94+J94+L94","v":0},{"$f":"MAX(C94,E94,G94,I94,K94)","v":0},{"$f":"IF(Q94=1,N94,IF(Q94=0,(N94-O94),\"-\"))","v":"-"},{"$f":"$L$1-Table10161718[Competed Count]","v":4},{"$f":"IF(Q94<2,\"Yes\",\"No\")","v":"No"},{"$f":"AND($C$1=\"Y\",D94>0)","v":false},{"$f":"AND($E$1=\"Y\",F94>0)","v":false},{"$f":"AND($G$1=\"Y\",H94>0)","v":false},{"$f":"AND($I$1=\"Y\",J94>0)","v":false},{"$f":"AND($K$1=\"Y\",L94>0)","v":false},{"$f":"COUNTIF(Table10161718[[#This Row],[Competed 1]:[Competed 5]],\"=TRUE\")","v":0}]
[null,"-","-",{"$f":"IF(C95=\"-\",0,C95)","v":0},"-",{"$f":"IF(E95=\"-\",0,E95)","v":0},"-",{"$f":"IF(G95=\"-\",0,G95)","v":0},"-",{"$f":"IF(I95=\"-\",0,I95)","v":0},"-",{"$f":"IF(K95=\"-\",0,K95)","v":0},{"$f":"Table10161718[[#This Row],[School]]","v":"-"},{"$f":"D95+F95+H95+J95+L95","v":0},{"$f":"MAX(C95,E95,G95,I95,K95)","v":0},{"$f":"IF(Q95=1,N95,IF(Q95=0,(N95-O95),\"-\"))","v":"-"},{"$f":"$L$1-Table10161718[Competed Count]","v":4},{"$f":"IF(Q95<2,\"Yes\",\"No\")","v":"No"},{"$f":"AND($C$1=\"Y\",D95>0)","v":false},{"$f":"AND($E$1=\"Y\",F95>0)","v":false},{"$f":"AND($G$1=\"Y\",H95>0)","v":false},{"$f":"AND($I$1=\"Y\",J95>0)","v":false},{"$f":"AND($K$1=\"Y\",L95>0)","v":false},{"$f":"COUNTIF(Table10161718[[#This Row],[Competed 1]:[Competed 5]],\"=TRUE\")","v":0}]
[null,"-","-",{"$f":"IF(C96=\"-\",0,C96)","v":0},"-",{"$f":"IF(E96=\"-\",0,E96)","v":0},"-",{"$f":"IF(G96=\"-\",0,G96)","v":0},"-",{"$f":"IF(I96=\"-\",0,I96)","v":0},"-",{"$f":"IF(K96=\"-\",0,K96)","v":0},{"$f":"Table10161718[[#This Row],[School]]","v":"-"},{"$f":"D96+F96+H96+J96+L96","v":0},{"$f":"MAX(C96,E96,G96,I96,K96)","v":0},{"$f":"IF(Q96=1,N96,IF(Q96=0,(N96-O96),\"-\"))","v":"-"},{"$f":"$L$1-Table10161718[Competed Count]","v":4},{"$f":"IF(Q96<2,\"Yes\",\"No\")","v":"No"},{"$f":"AND($C$1=\"Y\",D96>0)","v":false},{"$f":"AND($E$1=\"Y\",F96>0)","v":false},{"$f":"AND($G$1=\"Y\",H96>0)","v":false},{"$f":"AND($I$1=\"Y\",J96>0)","v":false},{"$f":"AND($K$1=\"Y\",L96>0)","v":false},{"$f":"COUNTIF(Table10161718[[#This Row],[Competed 1]:[Competed 5]],\"=TRUE\")","v":0}]
[null,"-","-",{"$f":"IF(C97=\"-\",0,C97)","v":0},"-",{"$f":"IF(E97=\"-\",0,E97)","v":0},"-",{"$f":"IF(G97=\"-\",0,G97)","v":0},"-",{"$f":"IF(I97=\"-\",0,I97)","v":0},"-",{"$f":"IF(K97=\"-\",0,K97)","v":0},{"$f":"Table10161718[[#This Row],[School]]","v":"-"},{"$f":"D97+F97+H97+J97+L97","v":0},{"$f":"MAX(C97,E97,G97,I97,K97)","v":0},{"$f":"IF(Q97=1,N97,IF(Q97=0,(N97-O97),\"-\"))","v":"-"},{"$f":"$L$1-Table10161718[Competed Count]","v":4},{"$f":"IF(Q97<2,\"Yes\",\"No\")","v":"No"},{"$f":"AND($C$1=\"Y\",D97>0)","v":false},{"$f":"AND($E$1=\"Y\",F97>0)","v":false},{"$f":"AND($G$1=\"Y\",H97>0)","v":false},{"$f":"AND($I$1=\"Y\",J97>0)","v":false},{"$f":"AND($K$1=\"Y\",L97>0)","v":false},{"$f":"COUNTIF(Table10161718[[#This Row],[Competed 1]:[Competed 5]],\"=TRUE\")","v":0}]
[null,"-","-",{"$f":"IF(C98=\"-\",0,C98)","v":0},"-",{"$f":"IF(E98=\"-\",0,E98)","v":0},"-",{"$f":"IF(G98=\"-\",0,G98)","v":0},"-",{"$f":"IF(I98=\"-\",0,I98)","v":0},"-",{"$f":"IF(K98=\"-\",0,K98)","v":0},{"$f":"Table10161718[[#This Row],[School]]","v":"-"},{"$f":"D98+F98+H98+J98+L98","v":0},{"$f":"MAX(C98,E98,G98,I98,K98)","v":0},{"$f":"IF(Q98=1,N98,IF(Q98=0,(N98-O98),\"-\"))","v":"-"},{"$f":"$L$1-Table10161718[Competed Count]","v":4},{"$f":"IF(Q98<2,\"Yes\",\"No\")","v":"No"},{"$f":"AND($C$1=\"Y\",D98>0)","v":false},{"$f":"AND($E$1=\"Y\",F98>0)","v":false},{"$f":"AND($G$1=\"Y\",H98>0)","v":false},{"$f":"AND($I$1=\"Y\",J98>0)","v":false},{"$f":"AND($K$1=\"Y\",L98>0)","v":false},{"$f":"COUNTIF(Table10161718[[#This Row],[Competed 1]:[Competed 5]],\"=TRUE\")","v":0}]
[null,"-","-",{"$f":"IF(C99=\"-\",0,C99)","v":0},"-",{"$f":"IF(E99=\"-\",0,E99)","v":0},"-",{"$f":"IF(G99=\"-\",0,G99)","v":0},"-",{"$f":"IF(I99=\"-\",0,I99)","v":0},"-",{"$f":"IF(K99=\"-\",0,K99)","v":0},{"$f":"Table10161718[[#This Row],[School]]","v":"-"},{"$f":"D99+F99+H99+J99+L99","v":0},{"$f":"MAX(C99,E99,G99,I99,K99)","v":0},{"$f":"IF(Q99=1,N99,IF(Q99=0,(N99-O99),\"-\"))","v":"-"},{"$f":"$L$1-Table10161718[Competed Count]","v":4},{"$f":"IF(Q99<2,\"Yes\",\"No\")","v":"No"},{"$f":"AND($C$1=\"Y\",D99>0)","v":false},{"$f":"AND($E$1=\"Y\",F99>0)","v":false},{"$f":"AND($G$1=\"Y\",H99>0)","v":false},{"$f":"AND($I$1=\"Y\",J99>0)","v":false},{"$f":"AND($K$1=\"Y\",L99>0)","v":false},{"$f":"COUNTIF(Table10161718[[#This Row],[Competed 1]:[Competed 5]],\"=TRUE\")","v":0}]
[null,"-","-",{"$f":"IF(C100=\"-\",0,C100)","v":0},"-",{"$f":"IF(E100=\"-\",0,E100)","v":0},"-",{"$f":"IF(G100=\"-\",0,G100)","v":0},"-",{"$f":"IF(I100=\"-\",0,I100)","v":0},"-",{"$f":"IF(K100=\"-\",0,K100)","v":0},{"$f":"Table10161718[[#This Row],[School]]","v":"-"},{"$f":"D100+F100+H100+J100+L100","v":0},{"$f":"MAX(C100,E100,G100,I100,K100)","v":0},{"$f":"IF(Q100=1,N100,IF(Q100=0,(N100-O100),\"-\"))","v":"-"},{"$f":"$L$1-Table10161718[Competed Count]","v":4},{"$f":"IF(Q100<2,\"Yes\",\"No\")","v":"No"},{"$f":"AND($C$1=\"Y\",D100>0)","v":false},{"$f":"AND($E$1=\"Y\",F100>0)","v":false},{"$f":"AND($G$1=\"Y\",H100>0)","v":false},{"$f":"AND($I$1=\"Y\",J100>0)","v":false},{"$f":"AND($K$1=\"Y\",L100>0)","v":false},{"$f":"COUNTIF(Table10161718[[#This Row],[Competed 1]:[Competed 5]],\"=TRUE\")","v":0}]
[null,"-","-",{"$f":"IF(C101=\"-\",0,C101)","v":0},"-",{"$f":"IF(E101=\"-\",0,E101)","v":0},"-",{"$f":"IF(G101=\"-\",0,G101)","v":0},"-",{"$f":"IF(I101=\"-\",0,I101)","v":0},"-",{"$f":"IF(K101=\"-\",0,K101)","v":0},{"$f":"Table10161718[[#This Row],[School]]","v":"-"},{"$f":"D101+F101+H101+J101+L101","v":0},{"$f":"MAX(C101,E101,G101,I101,K101)","v":0},{"$f":"IF(Q101=1,N101,IF(Q101=0,(N101-O101),\"-\"))","v":"-"},{"$f":"$L$1-Table10161718[Competed Count]","v":4},{"$f":"IF(Q101<2,\"Yes\",\"No\")","v":"No"},{"$f":"AND($C$1=\"Y\",D101>0)","v":false},{"$f":"AND($E$1=\"Y\",F101>0)","v":false},{"$f":"AND($G$1=\"Y\",H101>0)","v":false},{"$f":"AND($I$1=\"Y\",J101>0)","v":false},{"$f":"AND($K$1=\"Y\",L101>0)","v":false},{"$f":"COUNTIF(Table10161718[[#This Row],[Competed 1]:[Competed 5]],\"=TRUE\")","v":0}]
[null,"-","-",{"$f":"IF(C102=\"-\",0,C102)","v":0},"-",{"$f":"IF(E102=\"-\",0,E102)","v":0},"-",{"$f":"IF(G102=\"-\",0,G102)","v":0},"-",{"$f":"IF(I102=\"-\",0,I102)","v":0},"-",{"$f":"IF(K102=\"-\",0,K102)","v":0},{"$f":"Table10161718[[#This Row],[School]]","v":"-"},{"$f":"D102+F102+H102+J102+L102","v":0},{"$f":"MAX(C102,E102,G102,I102,K102)","v":0},{"$f":"IF(Q102=1,N102,IF(Q102=0,(N102-O102),\"-\"))","v":"-"},{"$f":"$L$1-Table10161718[Competed Count]","v":4},{"$f":"IF(Q102<2,\"Yes\",\"No\")","v":"No"},{"$f":"AND($C$1=\"Y\",D102>0)","v":false},{"$f":"AND($E$1=\"Y\",F102>0)","v":false},{"$f":"AND($G$1=\"Y\",H102>0)","v":false},{"$f":"AND($I$1=\"Y\",J102>0)","v":false},{"$f":"AND($K$1=\"Y\",L102>0)","v":false},{"$f":"COUNTIF(Table10161718[[#This Row],[Competed 1]:[Competed 5]],\"=TRUE\")","v":0}]
[null,"-","-",{"$f":"IF(C103=\"-\",0,C103)","v":0},"-",{"$f":"IF(E103=\"-\",0,E103)","v":0},"-",{"$f":"IF(G103=\"-\",0,G103)","v":0},"-",{"$f":"IF(I103=\"-\",0,I103)","v":0},"-",{"$f":"IF(K103=\"-\",0,K103)","v":0},{"$f":"Table10161718[[#This Row],[School]]","v":"-"},{"$f":"D103+F103+H103+J103+L103","v":0},{"$f":"MAX(C103,E103,G103,I103,K103)","v":0},{"$f":"IF(Q103=1,N103,IF(Q103=0,(N103-O103),\"-\"))","v":"-"},{"$f":"$L$1-Table10161718[Competed Count]","v":4},{"$f":"IF(Q103<2,\"Yes\",\"No\")","v":"No"},{"$f":"AND($C$1=\"Y\",D103>0)","v":false},{"$f":"AND($E$1=\"Y\",F103>0)","v":false},{"$f":"AND($G$1=\"Y\",H103>0)","v":false},{"$f":"AND($I$1=\"Y\",J103>0)","v":false},{"$f":"AND($K$1=\"Y\",L103>0)","v":false},{"$f":"COUNTIF(Table10161718[[#This Row],[Competed 1]:[Competed 5]],\"=TRUE\")","v":0}]
[null,"-","-",{"$f":"IF(C104=\"-\",0,C104)","v":0},"-",{"$f":"IF(E104=\"-\",0,E104)","v":0},"-",{"$f":"IF(G104=\"-\",0,G104)","v":0},"-",{"$f":"IF(I104=\"-\",0,I104)","v":0},"-",{"$f":"IF(K104=\"-\",0,K104)","v":0},{"$f":"Table10161718[[#This Row],[School]]","v":"-"},{"$f":"D104+F104+H104+J104+L104","v":0},{"$f":"MAX(C104,E104,G104,I104,K104)","v":0},{"$f":"IF(Q104=1,N104,IF(Q104=0,(N104-O104),\"-\"))","v":"-"},{"$f":"$L$1-Table10161718[Competed Count]","v":4},{"$f":"IF(Q104<2,\"Yes\",\"No\")","v":"No"},{"$f":"AND($C$1=\"Y\",D104>0)","v":false},{"$f":"AND($E$1=\"Y\",F104>0)","v":false},{"$f":"AND($G$1=\"Y\",H104>0)","v":false},{"$f":"AND($I$1=\"Y\",J104>0)","v":false},{"$f":"AND($K$1=\"Y\",L104>0)","v":false},{"$f":"COUNTIF(Table10161718[[#This Row],[Competed 1]:[Competed 5]],\"=TRUE\")","v":0}]
[null,"-","-",{"$f":"IF(C105=\"-\",0,C105)","v":0},"-",{"$f":"IF(E105=\"-\",0,E105)","v":0},"-",{"$f":"IF(G105=\"-\",0,G105)","v":0},"-",{"$f":"IF(I105=\"-\",0,I105)","v":0},"-",{"$f":"IF(K105=\"-\",0,K105)","v":0},{"$f":"Table10161718[[#This Row],[School]]","v":"-"},{"$f":"D105+F105+H105+J105+L105","v":0},{"$f":"MAX(C105,E105,G105,I105,K105)","v":0},{"$f":"IF(Q105=1,N105,IF(Q105=0,(N105-O105),\"-\"))","v":"-"},{"$f":"$L$1-Table10161718[Competed Count]","v":4},{"$f":"IF(Q105<2,\"Yes\",\"No\")","v":"No"},{"$f":"AND($C$1=\"Y\",D105>0)","v":false},{"$f":"AND($E$1=\"Y\",F105>0)","v":false},{"$f":"AND($G$1=\"Y\",H105>0)","v":false},{"$f":"AND($I$1=\"Y\",J105>0)","v":false},{"$f":"AND($K$1=\"Y\",L105>0)","v":false},{"$f":"COUNTIF(Table10161718[[#This Row],[Competed 1]:[Competed 5]],\"=TRUE\")","v":0}]
[null,"-","-",{"$f":"IF(C106=\"-\",0,C106)","v":0},"-",{"$f":"IF(E106=\"-\",0,E106)","v":0},"-",{"$f":"IF(G106=\"-\",0,G106)","v":0},"-",{"$f":"IF(I106=\"-\",0,I106)","v":0},"-",{"$f":"IF(K106=\"-\",0,K106)","v":0},{"$f":"Table10161718[[#This Row],[School]]","v":"-"},{"$f":"D106+F106+H106+J106+L106","v":0},{"$f":"MAX(C106,E106,G106,I106,K106)","v":0},{"$f":"IF(Q106=1,N106,IF(Q106=0,(N106-O106),\"-\"))","v":"-"},{"$f":"$L$1-Table10161718[Competed Count]","v":4},{"$f":"IF(Q106<2,\"Yes\",\"No\")","v":"No"},{"$f":"AND($C$1=\"Y\",D106>0)","v":false},{"$f":"AND($E$1=\"Y\",F106>0)","v":false},{"$f":"AND($G$1=\"Y\",H106>0)","v":false},{"$f":"AND($I$1=\"Y\",J106>0)","v":false},{"$f":"AND($K$1=\"Y\",L106>0)","v":false},{"$f":"COUNTIF(Table10161718[[#This Row],[Competed 1]:[Competed 5]],\"=TRUE\")","v":0}]
[null,"-","-",{"$f":"IF(C107=\"-\",0,C107)","v":0},"-",{"$f":"IF(E107=\"-\",0,E107)","v":0},"-",{"$f":"IF(G107=\"-\",0,G107)","v":0},"-",{"$f":"IF(I107=\"-\",0,I107)","v":0},"-",{"$f":"IF(K107=\"-\",0,K107)","v":0},{"$f":"Table10161718[[#This Row],[School]]","v":"-"},{"$f":"D107+F107+H107+J107+L107","v":0},{"$f":"MAX(C107,E107,G107,I107,K107)","v":0},{"$f":"IF(Q107=1,N107,IF(Q107=0,(N107-O107),\"-\"))","v":"-"},{"$f":"$L$1-Table10161718[Competed Count]","v":4},{"$f":"IF(Q107<2,\"Yes\",\"No\")","v":"No"},{"$f":"AND($C$1=\"Y\",D107>0)","v":false},{"$f":"AND($E$1=\"Y\",F107>0)","v":false},{"$f":"AND($G$1=\"Y\",H107>0)","v":false},{"$f":"AND($I$1=\"Y\",J107>0)","v":false},{"$f":"AND($K$1=\"Y\",L107>0)","v":false},{"$f":"COUNTIF(Table10161718[[#This Row],[Competed 1]:[Competed 5]],\"=TRUE\")","v":0}]
[null,"-","-",{"$f":"IF(C108=\"-\",0,C108)","v":0},"-",{"$f":"IF(E108=\"-\",0,E108)","v":0},"-",{"$f":"IF(G108=\"-\",0,G108)","v":0},"-",{"$f":"IF(I108=\"-\",0,I108)","v":0},"-",{"$f":"IF(K108=\"-\",0,K108)","v":0},{"$f":"Table10161718[[#This Row],[School]]","v":"-"},{"$f":"D108+F108+H108+J108+L108","v":0},{"$f":"MAX(C108,E108,G108,I108,K108)","v":0},{"$f":"IF(Q108=1,N108,IF(Q108=0,(N108-O108),\"-\"))","v":"-"},{"$f":"$L$1-Table10161718[Competed Count]","v":4},{"$f":"IF(Q108<2,\"Yes\",\"No\")","v":"No"},{"$f":"AND($C$1=\"Y\",D108>0)","v":false},{"$f":"AND($E$1=\"Y\",F108>0)","v":false},{"$f":"AND($G$1=\"Y\",H108>0)","v":false},{"$f":"AND($I$1=\"Y\",J108>0)","v":false},{"$f":"AND($K$1=\"Y\",L108>0)","v":false},{"$f":"COUNTIF(Table10161718[[#This Row],[Competed 1]:[Competed 5]],\"=TRUE\")","v":0}]
[null,"-","-",{"$f":"IF(C109=\"-\",0,C109)","v":0},"-",{"$f":"IF(E109=\"-\",0,E109)","v":0},"-",{"$f":"IF(G109=\"-\",0,G109)","v":0},"-",{"$f":"IF(I109=\"-\",0,I109)","v":0},"-",{"$f":"IF(K109=\"-\",0,K109)","v":0},{"$f":"Table10161718[[#This Row],[School]]","v":"-"},{"$f":"D109+F109+H109+J109+L109","v":0},{"$f":"MAX(C109,E109,G109,I109,K109)","v":0},{"$f":"IF(Q109=1,N109,IF(Q109=0,(N109-O109),\"-\"))","v":"-"},{"$f":"$L$1-Table10161718[Competed Count]","v":4},{"$f":"IF(Q109<2,\"Yes\",\"No\")","v":"No"},{"$f":"AND($C$1=\"Y\",D109>0)","v":false},{"$f":"AND($E$1=\"Y\",F109>0)","v":false},{"$f":"AND($G$1=\"Y\",H109>0)","v":false},{"$f":"AND($I$1=\"Y\",J109>0)","v":false},{"$f":"AND($K$1=\"Y\",L109>0)","v":false},{"$f":"COUNTIF(Table10161718[[#This Row],[Competed 1]:[Competed 5]],\"=TRUE\")","v":0}]
[null,"-","-",{"$f":"IF(C110=\"-\",0,C110)","v":0},"-",{"$f":"IF(E110=\"-\",0,E110)","v":0},"-",{"$f":"IF(G110=\"-\",0,G110)","v":0},"-",{"$f":"IF(I110=\"-\",0,I110)","v":0},"-",{"$f":"IF(K110=\"-\",0,K110)","v":0},{"$f":"Table10161718[[#This Row],[School]]","v":"-"},{"$f":"D110+F110+H110+J110+L110","v":0},{"$f":"MAX(C110,E110,G110,I110,K110)","v":0},{"$f":"IF(Q110=1,N110,IF(Q110=0,(N110-O110),\"-\"))","v":"-"},{"$f":"$L$1-Table10161718[Competed Count]","v":4},{"$f":"IF(Q110<2,\"Yes\",\"No\")","v":"No"},{"$f":"AND($C$1=\"Y\",D110>0)","v":false},{"$f":"AND($E$1=\"Y\",F110>0)","v":false},{"$f":"AND($G$1=\"Y\",H110>0)","v":false},{"$f":"AND($I$1=\"Y\",J110>0)","v":false},{"$f":"AND($K$1=\"Y\",L110>0)","v":false},{"$f":"COUNTIF(Table10161718[[#This Row],[Competed 1]:[Competed 5]],\"=TRUE\")","v":0}]
[null,"-","-",{"$f":"IF(C111=\"-\",0,C111)","v":0},"-",{"$f":"IF(E111=\"-\",0,E111)","v":0},"-",{"$f":"IF(G111=\"-\",0,G111)","v":0},"-",{"$f":"IF(I111=\"-\",0,I111)","v":0},"-",{"$f":"IF(K111=\"-\",0,K111)","v":0},{"$f":"Table10161718[[#This Row],[School]]","v":"-"},{"$f":"D111+F111+H111+J111+L111","v":0},{"$f":"MAX(C111,E111,G111,I111,K111)","v":0},{"$f":"IF(Q111=1,N111,IF(Q111=0,(N111-O111),\"-\"))","v":"-"},{"$f":"$L$1-Table10161718[Competed Count]","v":4},{"$f":"IF(Q111<2,\"Yes\",\"No\")","v":"No"},{"$f":"AND($C$1=\"Y\",D111>0)","v":false},{"$f":"AND($E$1=\"Y\",F111>0)","v":false},{"$f":"AND($G$1=\"Y\",H111>0)","v":false},{"$f":"AND($I$1=\"Y\",J111>0)","v":false},{"$f":"AND($K$1=\"Y\",L111>0)","v":false},{"$f":"COUNTIF(Table10161718[[#This Row],[Competed 1]:[Competed 5]],\"=TRUE\")","v":0}]
[null,"-","-",{"$f":"IF(C112=\"-\",0,C112)","v":0},"-",{"$f":"IF(E112=\"-\",0,E112)","v":0},"-",{"$f":"IF(G112=\"-\",0,G112)","v":0},"-",{"$f":"IF(I112=\"-\",0,I112)","v":0},"-",{"$f":"IF(K112=\"-\",0,K112)","v":0},{"$f":"Table10161718[[#This Row],[School]]","v":"-"},{"$f":"D112+F112+H112+J112+L112","v":0},{"$f":"MAX(C112,E112,G112,I112,K112)","v":0},{"$f":"IF(Q112=1,N112,IF(Q112=0,(N112-O112),\"-\"))","v":"-"},{"$f":"$L$1-Table10161718[Competed Count]","v":4},{"$f":"IF(Q112<2,\"Yes\",\"No\")","v":"No"},{"$f":"AND($C$1=\"Y\",D112>0)","v":false},{"$f":"AND($E$1=\"Y\",F112>0)","v":false},{"$f":"AND($G$1=\"Y\",H112>0)","v":false},{"$f":"AND($I$1=\"Y\",J112>0)","v":false},{"$f":"AND($K$1=\"Y\",L112>0)","v":false},{"$f":"COUNTIF(Table10161718[[#This Row],[Competed 1]:[Competed 5]],\"=TRUE\")","v":0}]
[null,"-","-",{"$f":"IF(C113=\"-\",0,C113)","v":0},"-",{"$f":"IF(E113=\"-\",0,E113)","v":0},"-",{"$f":"IF(G113=\"-\",0,G113)","v":0},"-",{"$f":"IF(I113=\"-\",0,I113)","v":0},"-",{"$f":"IF(K113=\"-\",0,K113)","v":0},{"$f":"Table10161718[[#This Row],[School]]","v":"-"},{"$f":"D113+F113+H113+J113+L113","v":0},{"$f":"MAX(C113,E113,G113,I113,K113)","v":0},{"$f":"IF(Q113=1,N113,IF(Q113=0,(N113-O113),\"-\"))","v":"-"},{"$f":"$L$1-Table10161718[Competed Count]","v":4},{"$f":"IF(Q113<2,\"Yes\",\"No\")","v":"No"},{"$f":"AND($C$1=\"Y\",D113>0)","v":false},{"$f":"AND($E$1=\"Y\",F113>0)","v":false},{"$f":"AND($G$1=\"Y\",H113>0)","v":false},{"$f":"AND($I$1=\"Y\",J113>0)","v":false},{"$f":"AND($K$1=\"Y\",L113>0)","v":false},{"$f":"COUNTIF(Table10161718[[#This Row],[Competed 1]:[Competed 5]],\"=TRUE\")","v":0}]
[null,"-","-",{"$f":"IF(C114=\"-\",0,C114)","v":0},"-",{"$f":"IF(E114=\"-\",0,E114)","v":0},"-",{"$f":"IF(G114=\"-\",0,G114)","v":0},"-",{"$f":"IF(I114=\"-\",0,I114)","v":0},"-",{"$f":"IF(K114=\"-\",0,K114)","v":0},{"$f":"Table10161718[[#This Row],[School]]","v":"-"},{"$f":"D114+F114+H114+J114+L114","v":0},{"$f":"MAX(C114,E114,G114,I114,K114)","v":0},{"$f":"IF(Q114=1,N114,IF(Q114=0,(N114-O114),\"-\"))","v":"-"},{"$f":"$L$1-Table10161718[Competed Count]","v":4},{"$f":"IF(Q114<2,\"Yes\",\"No\")","v":"No"},{"$f":"AND($C$1=\"Y\",D114>0)","v":false},{"$f":"AND($E$1=\"Y\",F114>0)","v":false},{"$f":"AND($G$1=\"Y\",H114>0)","v":false},{"$f":"AND($I$1=\"Y\",J114>0)","v":false},{"$f":"AND($K$1=\"Y\",L114>0)","v":false},{"$f":"COUNTIF(Table10161718[[#This Row],[Competed 1]:[Competed 5]],\"=TRUE\")","v":0}]
[null,"-","-",{"$f":"IF(C115=\"-\",0,C115)","v":0},"-",{"$f":"IF(E115=\"-\",0,E115)","v":0},"-",{"$f":"IF(G115=\"-\",0,G115)","v":0},"-",{"$f":"IF(I115=\"-\",0,I115)","v":0},"-",{"$f":"IF(K115=\"-\",0,K115)","v":0},{"$f":"Table10161718[[#This Row],[School]]","v":"-"},{"$f":"D115+F115+H115+J115+L115","v":0},{"$f":"MAX(C115,E115,G115,I115,K115)","v":0},{"$f":"IF(Q115=1,N115,IF(Q115=0,(N115-O115),\"-\"))","v":"-"},{"$f":"$L$1-Table10161718[Competed Count]","v":4},{"$f":"IF(Q115<2,\"Yes\",\"No\")","v":"No"},{"$f":"AND($C$1=\"Y\",D115>0)","v":false},{"$f":"AND($E$1=\"Y\",F115>0)","v":false},{"$f":"AND($G$1=\"Y\",H115>0)","v":false},{"$f":"AND($I$1=\"Y\",J115>0)","v":false},{"$f":"AND($K$1=\"Y\",L115>0)","v":false},{"$f":"COUNTIF(Table10161718[[#This Row],[Competed 1]:[Competed 5]],\"=TRUE\")","v":0}]
[null,"-","-",{"$f":"IF(C116=\"-\",0,C116)","v":0},"-",{"$f":"IF(E116=\"-\",0,E116)","v":0},"-",{"$f":"IF(G116=\"-\",0,G116)","v":0},"-",{"$f":"IF(I116=\"-\",0,I116)","v":0},"-",{"$f":"IF(K116=\"-\",0,K116)","v":0},{"$f":"Table10161718[[#This Row],[School]]","v":"-"},{"$f":"D116+F116+H116+J116+L116","v":0},{"$f":"MAX(C116,E116,G116,I116,K116)","v":0},{"$f":"IF(Q116=1,N116,IF(Q116=0,(N116-O116),\"-\"))","v":"-"},{"$f":"$L$1-Table10161718[Competed Count]","v":4},{"$f":"IF(Q116<2,\"Yes\",\"No\")","v":"No"},{"$f":"AND($C$1=\"Y\",D116>0)","v":false},{"$f":"AND($E$1=\"Y\",F116>0)","v":false},{"$f":"AND($G$1=\"Y\",H116>0)","v":false},{"$f":"AND($I$1=\"Y\",J116>0)","v":false},{"$f":"AND($K$1=\"Y\",L116>0)","v":false},{"$f":"COUNTIF(Table10161718[[#This Row],[Competed 1]:[Competed 5]],\"=TRUE\")","v":0}]
[null,"-","-",{"$f":"IF(C117=\"-\",0,C117)","v":0},"-",{"$f":"IF(E117=\"-\",0,E117)","v":0},"-",{"$f":"IF(G117=\"-\",0,G117)","v":0},"-",{"$f":"IF(I117=\"-\",0,I117)","v":0},"-",{"$f":"IF(K117=\"-\",0,K117)","v":0},{"$f":"Table10161718[[#This Row],[School]]","v":"-"},{"$f":"D117+F117+H117+J117+L117","v":0},{"$f":"MAX(C117,E117,G117,I117,K117)","v":0},{"$f":"IF(Q117=1,N117,IF(Q117=0,(N117-O117),\"-\"))","v":"-"},{"$f":"$L$1-Table10161718[Competed Count]","v":4},{"$f":"IF(Q117<2,\"Yes\",\"No\")","v":"No"},{"$f":"AND($C$1=\"Y\",D117>0)","v":false},{"$f":"AND($E$1=\"Y\",F117>0)","v":false},{"$f":"AND($G$1=\"Y\",H117>0)","v":false},{"$f":"AND($I$1=\"Y\",J117>0)","v":false},{"$f":"AND($K$1=\"Y\",L117>0)","v":false},{"$f":"COUNTIF(Table10161718[[#This Row],[Competed 1]:[Competed 5]],\"=TRUE\")","v":0}]
[null,"-","-",{"$f":"IF(C118=\"-\",0,C118)","v":0},"-",{"$f":"IF(E118=\"-\",0,E118)","v":0},"-",{"$f":"IF(G118=\"-\",0,G118)","v":0},"-",{"$f":"IF(I118=\"-\",0,I118)","v":0},"-",{"$f":"IF(K118=\"-\",0,K118)","v":0},{"$f":"Table10161718[[#This Row],[School]]","v":"-"},{"$f":"D118+F118+H118+J118+L118","v":0},{"$f":"MAX(C118,E118,G118,I118,K118)","v":0},{"$f":"IF(Q118=1,N118,IF(Q118=0,(N118-O118),\"-\"))","v":"-"},{"$f":"$L$1-Table10161718[Competed Count]","v":4},{"$f":"IF(Q118<2,\"Yes\",\"No\")","v":"No"},{"$f":"AND($C$1=\"Y\",D118>0)","v":false},{"$f":"AND($E$1=\"Y\",F118>0)","v":false},{"$f":"AND($G$1=\"Y\",H118>0)","v":false},{"$f":"AND($I$1=\"Y\",J118>0)","v":false},{"$f":"AND($K$1=\"Y\",L118>0)","v":false},{"$f":"COUNTIF(Table10161718[[#This Row],[Competed 1]:[Competed 5]],\"=TRUE\")","v":0}]
[null,"-","-",{"$f":"IF(C119=\"-\",0,C119)","v":0},"-",{"$f":"IF(E119=\"-\",0,E119)","v":0},"-",{"$f":"IF(G119=\"-\",0,G119)","v":0},"-",{"$f":"IF(I119=\"-\",0,I119)","v":0},"-",{"$f":"IF(K119=\"-\",0,K119)","v":0},{"$f":"Table10161718[[#This Row],[School]]","v":"-"},{"$f":"D119+F119+H119+J119+L119","v":0},{"$f":"MAX(C119,E119,G119,I119,K119)","v":0},{"$f":"IF(Q119=1,N119,IF(Q119=0,(N119-O119),\"-\"))","v":"-"},{"$f":"$L$1-Table10161718[Competed Count]","v":4},{"$f":"IF(Q119<2,\"Yes\",\"No\")","v":"No"},{"$f":"AND($C$1=\"Y\",D119>0)","v":false},{"$f":"AND($E$1=\"Y\",F119>0)","v":false},{"$f":"AND($G$1=\"Y\",H119>0)","v":false},{"$f":"AND($I$1=\"Y\",J119>0)","v":false},{"$f":"AND($K$1=\"Y\",L119>0)","v":false},{"$f":"COUNTIF(Table10161718[[#This Row],[Competed 1]:[Competed 5]],\"=TRUE\")","v":0}]
[null,"-","-",{"$f":"IF(C120=\"-\",0,C120)","v":0},"-",{"$f":"IF(E120=\"-\",0,E120)","v":0},"-",{"$f":"IF(G120=\"-\",0,G120)","v":0},"-",{"$f":"IF(I120=\"-\",0,I120)","v":0},"-",{"$f":"IF(K120=\"-\",0,K120)","v":0},{"$f":"Table10161718[[#This Row],[School]]","v":"-"},{"$f":"D120+F120+H120+J120+L120","v":0},{"$f":"MAX(C120,E120,G120,I120,K120)","v":0},{"$f":"IF(Q120=1,N120,IF(Q120=0,(N120-O120),\"-\"))","v":"-"},{"$f":"$L$1-Table10161718[Competed Count]","v":4},{"$f":"IF(Q120<2,\"Yes\",\"No\")","v":"No"},{"$f":"AND($C$1=\"Y\",D120>0)","v":false},{"$f":"AND($E$1=\"Y\",F120>0)","v":false},{"$f":"AND($G$1=\"Y\",H120>0)","v":false},{"$f":"AND($I$1=\"Y\",J120>0)","v":false},{"$f":"AND($K$1=\"Y\",L120>0)","v":false},{"$f":"COUNTIF(Table10161718[[#This Row],[Competed 1]:[Competed 5]],\"=TRUE\")","v":0}]
[null,"-","-",{"$f":"IF(C121=\"-\",0,C121)","v":0},"-",{"$f":"IF(E121=\"-\",0,E121)","v":0},"-",{"$f":"IF(G121=\"-\",0,G121)","v":0},"-",{"$f":"IF(I121=\"-\",0,I121)","v":0},"-",{"$f":"IF(K121=\"-\",0,K121)","v":0},{"$f":"Table10161718[[#This Row],[School]]","v":"-"},{"$f":"D121+F121+H121+J121+L121","v":0},{"$f":"MAX(C121,E121,G121,I121,K121)","v":0},{"$f":"IF(Q121=1,N121,IF(Q121=0,(N121-O121),\"-\"))","v":"-"},{"$f":"$L$1-Table10161718[Competed Count]","v":4},{"$f":"IF(Q121<2,\"Yes\",\"No\")","v":"No"},{"$f":"AND($C$1=\"Y\",D121>0)","v":false},{"$f":"AND($E$1=\"Y\",F121>0)","v":false},{"$f":"AND($G$1=\"Y\",H121>0)","v":false},{"$f":"AND($I$1=\"Y\",J121>0)","v":false},{"$f":"AND($K$1=\"Y\",L121>0)","v":false},{"$f":"COUNTIF(Table10161718[[#This Row],[Competed 1]:[Competed 5]],\"=TRUE\")","v":0}]
[null,"-","-",{"$f":"IF(C122=\"-\",0,C122)","v":0},"-",{"$f":"IF(E122=\"-\",0,E122)","v":0},"-",{"$f":"IF(G122=\"-\",0,G122)","v":0},"-",{"$f":"IF(I122=\"-\",0,I122)","v":0},"-",{"$f":"IF(K122=\"-\",0,K122)","v":0},{"$f":"Table10161718[[#This Row],[School]]","v":"-"},{"$f":"D122+F122+H122+J122+L122","v":0},{"$f":"MAX(C122,E122,G122,I122,K122)","v":0},{"$f":"IF(Q122=1,N122,IF(Q122=0,(N122-O122),\"-\"))","v":"-"},{"$f":"$L$1-Table10161718[Competed Count]","v":4},{"$f":"IF(Q122<2,\"Yes\",\"No\")","v":"No"},{"$f":"AND($C$1=\"Y\",D122>0)","v":false},{"$f":"AND($E$1=\"Y\",F122>0)","v":false},{"$f":"AND($G$1=\"Y\",H122>0)","v":false},{"$f":"AND($I$1=\"Y\",J122>0)","v":false},{"$f":"AND($K$1=\"Y\",L122>0)","v":false},{"$f":"COUNTIF(Table10161718[[#This Row],[Competed 1]:[Competed 5]],\"=TRUE\")","v":0}]
[null,"-","-",{"$f":"IF(C123=\"-\",0,C123)","v":0},"-",{"$f":"IF(E123=\"-\",0,E123)","v":0},"-",{"$f":"IF(G123=\"-\",0,G123)","v":0},"-",{"$f":"IF(I123=\"-\",0,I123)","v":0},"-",{"$f":"IF(K123=\"-\",0,K123)","v":0},{"$f":"Table10161718[[#This Row],[School]]","v":"-"},{"$f":"D123+F123+H123+J123+L123","v":0},{"$f":"MAX(C123,E123,G123,I123,K123)","v":0},{"$f":"IF(Q123=1,N123,IF(Q123=0,(N123-O123),\"-\"))","v":"-"},{"$f":"$L$1-Table10161718[Competed Count]","v":4},{"$f":"IF(Q123<2,\"Yes\",\"No\")","v":"No"},{"$f":"AND($C$1=\"Y\",D123>0)","v":false},{"$f":"AND($E$1=\"Y\",F123>0)","v":false},{"$f":"AND($G$1=\"Y\",H123>0)","v":false},{"$f":"AND($I$1=\"Y\",J123>0)","v":false},{"$f":"AND($K$1=\"Y\",L123>0)","v":false},{"$f":"COUNTIF(Table10161718[[#This Row],[Competed 1]:[Competed 5]],\"=TRUE\")","v":0}]
[null,"-","-",{"$f":"IF(C124=\"-\",0,C124)","v":0},"-",{"$f":"IF(E124=\"-\",0,E124)","v":0},"-",{"$f":"IF(G124=\"-\",0,G124)","v":0},"-",{"$f":"IF(I124=\"-\",0,I124)","v":0},"-",{"$f":"IF(K124=\"-\",0,K124)","v":0},{"$f":"Table10161718[[#This Row],[School]]","v":"-"},{"$f":"D124+F124+H124+J124+L124","v":0},{"$f":"MAX(C124,E124,G124,I124,K124)","v":0},{"$f":"IF(Q124=1,N124,IF(Q124=0,(N124-O124),\"-\"))","v":"-"},{"$f":"$L$1-Table10161718[Competed Count]","v":4},{"$f":"IF(Q124<2,\"Yes\",\"No\")","v":"No"},{"$f":"AND($C$1=\"Y\",D124>0)","v":false},{"$f":"AND($E$1=\"Y\",F124>0)","v":false},{"$f":"AND($G$1=\"Y\",H124>0)","v":false},{"$f":"AND($I$1=\"Y\",J124>0)","v":false},{"$f":"AND($K$1=\"Y\",L124>0)","v":false},{"$f":"COUNTIF(Table10161718[[#This Row],[Competed 1]:[Competed 5]],\"=TRUE\")","v":0}]
[null,"-","-",{"$f":"IF(C125=\"-\",0,C125)","v":0},"-",{"$f":"IF(E125=\"-\",0,E125)","v":0},"-",{"$f":"IF(G125=\"-\",0,G125)","v":0},"-",{"$f":"IF(I125=\"-\",0,I125)","v":0},"-",{"$f":"IF(K125=\"-\",0,K125)","v":0},{"$f":"Table10161718[[#This Row],[School]]","v":"-"},{"$f":"D125+F125+H125+J125+L125","v":0},{"$f":"MAX(C125,E125,G125,I125,K125)","v":0},{"$f":"IF(Q125=1,N125,IF(Q125=0,(N125-O125),\"-\"))","v":"-"},{"$f":"$L$1-Table10161718[Competed Count]","v":4},{"$f":"IF(Q125<2,\"Yes\",\"No\")","v":"No"},{"$f":"AND($C$1=\"Y\",D125>0)","v":false},{"$f":"AND($E$1=\"Y\",F125>0)","v":false},{"$f":"AND($G$1=\"Y\",H125>0)","v":false},{"$f":"AND($I$1=\"Y\",J125>0)","v":false},{"$f":"AND($K$1=\"Y\",L125>0)","v":false},{"$f":"COUNTIF(Table10161718[[#This Row],[Competed 1]:[Competed 5]],\"=TRUE\")","v":0}]
[null,"-","-",{"$f":"IF(C126=\"-\",0,C126)","v":0},"-",{"$f":"IF(E126=\"-\",0,E126)","v":0},"-",{"$f":"IF(G126=\"-\",0,G126)","v":0},"-",{"$f":"IF(I126=\"-\",0,I126)","v":0},"-",{"$f":"IF(K126=\"-\",0,K126)","v":0},{"$f":"Table10161718[[#This Row],[School]]","v":"-"},{"$f":"D126+F126+H126+J126+L126","v":0},{"$f":"MAX(C126,E126,G126,I126,K126)","v":0},{"$f":"IF(Q126=1,N126,IF(Q126=0,(N126-O126),\"-\"))","v":"-"},{"$f":"$L$1-Table10161718[Competed Count]","v":4},{"$f":"IF(Q126<2,\"Yes\",\"No\")","v":"No"},{"$f":"AND($C$1=\"Y\",D126>0)","v":false},{"$f":"AND($E$1=\"Y\",F126>0)","v":false},{"$f":"AND($G$1=\"Y\",H126>0)","v":false},{"$f":"AND($I$1=\"Y\",J126>0)","v":false},{"$f":"AND($K$1=\"Y\",L126>0)","v":false},{"$f":"COUNTIF(Table10161718[[#This Row],[Competed 1]:[Competed 5]],\"=TRUE\")","v":0}]
[null,"-","-",{"$f":"IF(C127=\"-\",0,C127)","v":0},"-",{"$f":"IF(E127=\"-\",0,E127)","v":0},"-",{"$f":"IF(G127=\"-\",0,G127)","v":0},"-",{"$f":"IF(I127=\"-\",0,I127)","v":0},"-",{"$f":"IF(K127=\"-\",0,K127)","v":0},{"$f":"Table10161718[[#This Row],[School]]","v":"-"},{"$f":"D127+F127+H127+J127+L127","v":0},{"$f":"MAX(C127,E127,G127,I127,K127)","v":0},{"$f":"IF(Q127=1,N127,IF(Q127=0,(N127-O127),\"-\"))","v":"-"},{"$f":"$L$1-Table10161718[Competed Count]","v":4},{"$f":"IF(Q127<2,\"Yes\",\"No\")","v":"No"},{"$f":"AND($C$1=\"Y\",D127>0)","v":false},{"$f":"AND($E$1=\"Y\",F127>0)","v":false},{"$f":"AND($G$1=\"Y\",H127>0)","v":false},{"$f":"AND($I$1=\"Y\",J127>0)","v":false},{"$f":"AND($K$1=\"Y\",L127>0)","v":false},{"$f":"COUNTIF(Table10161718[[#This Row],[Competed 1]:[Competed 5]],\"=TRUE\")","v":0}]
[null,"-","-",{"$f":"IF(C128=\"-\",0,C128)","v":0},"-",{"$f":"IF(E128=\"-\",0,E128)","v":0},"-",{"$f":"IF(G128=\"-\",0,G128)","v":0},"-",{"$f":"IF(I128=\"-\",0,I128)","v":0},"-",{"$f":"IF(K128=\"-\",0,K128)","v":0},{"$f":"Table10161718[[#This Row],[School]]","v":"-"},{"$f":"D128+F128+H128+J128+L128","v":0},{"$f":"MAX(C128,E128,G128,I128,K128)","v":0},{"$f":"IF(Q128=1,N128,IF(Q128=0,(N128-O128),\"-\"))","v":"-"},{"$f":"$L$1-Table10161718[Competed Count]","v":4},{"$f":"IF(Q128<2,\"Yes\",\"No\")","v":"No"},{"$f":"AND($C$1=\"Y\",D128>0)","v":false},{"$f":"AND($E$1=\"Y\",F128>0)","v":false},{"$f":"AND($G$1=\"Y\",H128>0)","v":false},{"$f":"AND($I$1=\"Y\",J128>0)","v":false},{"$f":"AND($K$1=\"Y\",L128>0)","v":false},{"$f":"COUNTIF(Table10161718[[#This Row],[Competed 1]:[Competed 5]],\"=TRUE\")","v":0}]
[null,"-","-",{"$f":"IF(C129=\"-\",0,C129)","v":0},"-",{"$f":"IF(E129=\"-\",0,E129)","v":0},"-",{"$f":"IF(G129=\"-\",0,G129)","v":0},"-",{"$f":"IF(I129=\"-\",0,I129)","v":0},"-",{"$f":"IF(K129=\"-\",0,K129)","v":0},{"$f":"Table10161718[[#This Row],[School]]","v":"-"},{"$f":"D129+F129+H129+J129+L129","v":0},{"$f":"MAX(C129,E129,G129,I129,K129)","v":0},{"$f":"IF(Q129=1,N129,IF(Q129=0,(N129-O129),\"-\"))","v":"-"},{"$f":"$L$1-Table10161718[Competed Count]","v":4},{"$f":"IF(Q129<2,\"Yes\",\"No\")","v":"No"},{"$f":"AND($C$1=\"Y\",D129>0)","v":false},{"$f":"AND($E$1=\"Y\",F129>0)","v":false},{"$f":"AND($G$1=\"Y\",H129>0)","v":false},{"$f":"AND($I$1=\"Y\",J129>0)","v":false},{"$f":"AND($K$1=\"Y\",L129>0)","v":false},{"$f":"COUNTIF(Table10161718[[#This Row],[Competed 1]:[Competed 5]],\"=TRUE\")","v":0}]
[null,"-","-",{"$f":"IF(C130=\"-\",0,C130)","v":0},"-",{"$f":"IF(E130=\"-\",0,E130)","v":0},"-",{"$f":"IF(G130=\"-\",0,G130)","v":0},"-",{"$f":"IF(I130=\"-\",0,I130)","v":0},"-",{"$f":"IF(K130=\"-\",0,K130)","v":0},{"$f":"Table10161718[[#This Row],[School]]","v":"-"},{"$f":"D130+F130+H130+J130+L130","v":0},{"$f":"MAX(C130,E130,G130,I130,K130)","v":0},{"$f":"IF(Q130=1,N130,IF(Q130=0,(N130-O130),\"-\"))","v":"-"},{"$f":"$L$1-Table10161718[Competed Count]","v":4},{"$f":"IF(Q130<2,\"Yes\",\"No\")","v":"No"},{"$f":"AND($C$1=\"Y\",D130>0)","v":false},{"$f":"AND($E$1=\"Y\",F130>0)","v":false},{"$f":"AND($G$1=\"Y\",H130>0)","v":false},{"$f":"AND($I$1=\"Y\",J130>0)","v":false},{"$f":"AND($K$1=\"Y\",L130>0)","v":false},{"$f":"COUNTIF(Table10161718[[#This Row],[Competed 1]:[Competed 5]],\"=TRUE\")","v":0}]
[null,"-","-",{"$f":"IF(C131=\"-\",0,C131)","v":0},"-",{"$f":"IF(E131=\"-\",0,E131)","v":0},"-",{"$f":"IF(G131=\"-\",0,G131)","v":0},"-",{"$f":"IF(I131=\"-\",0,I131)","v":0},"-",{"$f":"IF(K131=\"-\",0,K131)","v":0},{"$f":"Table10161718[[#This Row],[School]]","v":"-"},{"$f":"D131+F131+H131+J131+L131","v":0},{"$f":"MAX(C131,E131,G131,I131,K131)","v":0},{"$f":"IF(Q131=1,N131,IF(Q131=0,(N131-O131),\"-\"))","v":"-"},{"$f":"$L$1-Table10161718[Competed Count]","v":4},{"$f":"IF(Q131<2,\"Yes\",\"No\")","v":"No"},{"$f":"AND($C$1=\"Y\",D131>0)","v":false},{"$f":"AND($E$1=\"Y\",F131>0)","v":false},{"$f":"AND($G$1=\"Y\",H131>0)","v":false},{"$f":"AND($I$1=\"Y\",J131>0)","v":false},{"$f":"AND($K$1=\"Y\",L131>0)","v":false},{"$f":"COUNTIF(Table10161718[[#This Row],[Competed 1]:[Competed 5]],\"=TRUE\")","v":0}]
[null,"-","-",{"$f":"IF(C132=\"-\",0,C132)","v":0},"-",{"$f":"IF(E132=\"-\",0,E132)","v":0},"-",{"$f":"IF(G132=\"-\",0,G132)","v":0},"-",{"$f":"IF(I132=\"-\",0,I132)","v":0},"-",{"$f":"IF(K132=\"-\",0,K132)","v":0},{"$f":"Table10161718[[#This Row],[School]]","v":"-"},{"$f":"D132+F132+H132+J132+L132","v":0},{"$f":"MAX(C132,E132,G132,I132,K132)","v":0},{"$f":"IF(Q132=1,N132,IF(Q132=0,(N132-O132),\"-\"))","v":"-"},{"$f":"$L$1-Table10161718[Competed Count]","v":4},{"$f":"IF(Q132<2,\"Yes\",\"No\")","v":"No"},{"$f":"AND($C$1=\"Y\",D132>0)","v":false},{"$f":"AND($E$1=\"Y\",F132>0)","v":false},{"$f":"AND($G$1=\"Y\",H132>0)","v":false},{"$f":"AND($I$1=\"Y\",J132>0)","v":false},{"$f":"AND($K$1=\"Y\",L132>0)","v":false},{"$f":"COUNTIF(Table10161718[[#This Row],[Competed 1]:[Competed 5]],\"=TRUE\")","v":0}]
[null,"-","-",{"$f":"IF(C133=\"-\",0,C133)","v":0},"-",{"$f":"IF(E133=\"-\",0,E133)","v":0},"-",{"$f":"IF(G133=\"-\",0,G133)","v":0},"-",{"$f":"IF(I133=\"-\",0,I133)","v":0},"-",{"$f":"IF(K133=\"-\",0,K133)","v":0},{"$f":"Table10161718[[#This Row],[School]]","v":"-"},{"$f":"D133+F133+H133+J133+L133","v":0},{"$f":"MAX(C133,E133,G133,I133,K133)","v":0},{"$f":"IF(Q133=1,N133,IF(Q133=0,(N133-O133),\"-\"))","v":"-"},{"$f":"$L$1-Table10161718[Competed Count]","v":4},{"$f":"IF(Q133<2,\"Yes\",\"No\")","v":"No"},{"$f":"AND($C$1=\"Y\",D133>0)","v":false},{"$f":"AND($E$1=\"Y\",F133>0)","v":false},{"$f":"AND($G$1=\"Y\",H133>0)","v":false},{"$f":"AND($I$1=\"Y\",J133>0)","v":false},{"$f":"AND($K$1=\"Y\",L133>0)","v":false},{"$f":"COUNTIF(Table10161718[[#This Row],[Competed 1]:[Competed 5]],\"=TRUE\")","v":0}]
[null,"-","-",{"$f":"IF(C134=\"-\",0,C134)","v":0},"-",{"$f":"IF(E134=\"-\",0,E134)","v":0},"-",{"$f":"IF(G134=\"-\",0,G134)","v":0},"-",{"$f":"IF(I134=\"-\",0,I134)","v":0},"-",{"$f":"IF(K134=\"-\",0,K134)","v":0},{"$f":"Table10161718[[#This Row],[School]]","v":"-"},{"$f":"D134+F134+H134+J134+L134","v":0},{"$f":"MAX(C134,E134,G134,I134,K134)","v":0},{"$f":"IF(Q134=1,N134,IF(Q134=0,(N134-O134),\"-\"))","v":"-"},{"$f":"$L$1-Table10161718[Competed Count]","v":4},{"$f":"IF(Q134<2,\"Yes\",\"No\")","v":"No"},{"$f":"AND($C$1=\"Y\",D134>0)","v":false},{"$f":"AND($E$1=\"Y\",F134>0)","v":false},{"$f":"AND($G$1=\"Y\",H134>0)","v":false},{"$f":"AND($I$1=\"Y\",J134>0)","v":false},{"$f":"AND($K$1=\"Y\",L134>0)","v":false},{"$f":"COUNTIF(Table10161718[[#This Row],[Competed 1]:[Competed 5]],\"=TRUE\")","v":0}]
[null,"-","-",{"$f":"IF(C135=\"-\",0,C135)","v":0},"-",{"$f":"IF(E135=\"-\",0,E135)","v":0},"-",{"$f":"IF(G135=\"-\",0,G135)","v":0},"-",{"$f":"IF(I135=\"-\",0,I135)","v":0},"-",{"$f":"IF(K135=\"-\",0,K135)","v":0},{"$f":"Table10161718[[#This Row],[School]]","v":"-"},{"$f":"D135+F135+H135+J135+L135","v":0},{"$f":"MAX(C135,E135,G135,I135,K135)","v":0},{"$f":"IF(Q135=1,N135,IF(Q135=0,(N135-O135),\"-\"))","v":"-"},{"$f":"$L$1-Table10161718[Competed Count]","v":4},{"$f":"IF(Q135<2,\"Yes\",\"No\")","v":"No"},{"$f":"AND($C$1=\"Y\",D135>0)","v":false},{"$f":"AND($E$1=\"Y\",F135>0)","v":false},{"$f":"AND($G$1=\"Y\",H135>0)","v":false},{"$f":"AND($I$1=\"Y\",J135>0)","v":false},{"$f":"AND($K$1=\"Y\",L135>0)","v":false},{"$f":"COUNTIF(Table10161718[[#This Row],[Competed 1]:[Competed 5]],\"=TRUE\")","v":0}]
[null,"-","-",{"$f":"IF(C136=\"-\",0,C136)","v":0},"-",{"$f":"IF(E136=\"-\",0,E136)","v":0},"-",{"$f":"IF(G136=\"-\",0,G136)","v":0},"-",{"$f":"IF(I136=\"-\",0,I136)","v":0},"-",{"$f":"IF(K136=\"-\",0,K136)","v":0},{"$f":"Table10161718[[#This Row],[School]]","v":"-"},{"$f":"D136+F136+H136+J136+L136","v":0},{"$f":"MAX(C136,E136,G136,I136,K136)","v":0},{"$f":"IF(Q136=1,N136,IF(Q136=0,(N136-O136),\"-\"))","v":"-"},{"$f":"$L$1-Table10161718[Competed Count]","v":4},{"$f":"IF(Q136<2,\"Yes\",\"No\")","v":"No"},{"$f":"AND($C$1=\"Y\",D136>0)","v":false},{"$f":"AND($E$1=\"Y\",F136>0)","v":false},{"$f":"AND($G$1=\"Y\",H136>0)","v":false},{"$f":"AND($I$1=\"Y\",J136>0)","v":false},{"$f":"AND($K$1=\"Y\",L136>0)","v":false},{"$f":"COUNTIF(Table10161718[[#This Row],[Competed 1]:[Competed 5]],\"=TRUE\")","v":0}]
[null,"-","-",{"$f":"IF(C137=\"-\",0,C137)","v":0},"-",{"$f":"IF(E137=\"-\",0,E137)","v":0},"-",{"$f":"IF(G137=\"-\",0,G137)","v":0},"-",{"$f":"IF(I137=\"-\",0,I137)","v":0},"-",{"$f":"IF(K137=\"-\",0,K137)","v":0},{"$f":"Table10161718[[#This Row],[School]]","v":"-"},{"$f":"D137+F137+H137+J137+L137","v":0},{"$f":"MAX(C137,E137,G137,I137,K137)","v":0},{"$f":"IF(Q137=1,N137,IF(Q137=0,(N137-O137),\"-\"))","v":"-"},{"$f":"$L$1-Table10161718[Competed Count]","v":4},{"$f":"IF(Q137<2,\"Yes\",\"No\")","v":"No"},{"$f":"AND($C$1=\"Y\",D137>0)","v":false},{"$f":"AND($E$1=\"Y\",F137>0)","v":false},{"$f":"AND($G$1=\"Y\",H137>0)","v":false},{"$f":"AND($I$1=\"Y\",J137>0)","v":false},{"$f":"AND($K$1=\"Y\",L137>0)","v":false},{"$f":"COUNTIF(Table10161718[[#This Row],[Competed 1]:[Competed 5]],\"=TRUE\")","v":0}]
[null,"-","-",{"$f":"IF(C138=\"-\",0,C138)","v":0},"-",{"$f":"IF(E138=\"-\",0,E138)","v":0},"-",{"$f":"IF(G138=\"-\",0,G138)","v":0},"-",{"$f":"IF(I138=\"-\",0,I138)","v":0},"-",{"$f":"IF(K138=\"-\",0,K138)","v":0},{"$f":"Table10161718[[#This Row],[School]]","v":"-"},{"$f":"D138+F138+H138+J138+L138","v":0},{"$f":"MAX(C138,E138,G138,I138,K138)","v":0},{"$f":"IF(Q138=1,N138,IF(Q138=0,(N138-O138),\"-\"))","v":"-"},{"$f":"$L$1-Table10161718[Competed Count]","v":4},{"$f":"IF(Q138<2,\"Yes\",\"No\")","v":"No"},{"$f":"AND($C$1=\"Y\",D138>0)","v":false},{"$f":"AND($E$1=\"Y\",F138>0)","v":false},{"$f":"AND($G$1=\"Y\",H138>0)","v":false},{"$f":"AND($I$1=\"Y\",J138>0)","v":false},{"$f":"AND($K$1=\"Y\",L138>0)","v":false},{"$f":"COUNTIF(Table10161718[[#This Row],[Competed 1]:[Competed 5]],\"=TRUE\")","v":0}]
[null,"-","-",{"$f":"IF(C139=\"-\",0,C139)","v":0},"-",{"$f":"IF(E139=\"-\",0,E139)","v":0},"-",{"$f":"IF(G139=\"-\",0,G139)","v":0},"-",{"$f":"IF(I139=\"-\",0,I139)","v":0},"-",{"$f":"IF(K139=\"-\",0,K139)","v":0},{"$f":"Table10161718[[#This Row],[School]]","v":"-"},{"$f":"D139+F139+H139+J139+L139","v":0},{"$f":"MAX(C139,E139,G139,I139,K139)","v":0},{"$f":"IF(Q139=1,N139,IF(Q139=0,(N139-O139),\"-\"))","v":"-"},{"$f":"$L$1-Table10161718[Competed Count]","v":4},{"$f":"IF(Q139<2,\"Yes\",\"No\")","v":"No"},{"$f":"AND($C$1=\"Y\",D139>0)","v":false},{"$f":"AND($E$1=\"Y\",F139>0)","v":false},{"$f":"AND($G$1=\"Y\",H139>0)","v":false},{"$f":"AND($I$1=\"Y\",J139>0)","v":false},{"$f":"AND($K$1=\"Y\",L139>0)","v":false},{"$f":"COUNTIF(Table10161718[[#This Row],[Competed 1]:[Competed 5]],\"=TRUE\")","v":0}]
[null,"-","-",{"$f":"IF(C140=\"-\",0,C140)","v":0},"-",{"$f":"IF(E140=\"-\",0,E140)","v":0},"-",{"$f":"IF(G140=\"-\",0,G140)","v":0},"-",{"$f":"IF(I140=\"-\",0,I140)","v":0},"-",{"$f":"IF(K140=\"-\",0,K140)","v":0},{"$f":"Table10161718[[#This Row],[School]]","v":"-"},{"$f":"D140+F140+H140+J140+L140","v":0},{"$f":"MAX(C140,E140,G140,I140,K140)","v":0},{"$f":"IF(Q140=1,N140,IF(Q140=0,(N140-O140),\"-\"))","v":"-"},{"$f":"$L$1-Table10161718[Competed Count]","v":4},{"$f":"IF(Q140<2,\"Yes\",\"No\")","v":"No"},{"$f":"AND($C$1=\"Y\",D140>0)","v":false},{"$f":"AND($E$1=\"Y\",F140>0)","v":false},{"$f":"AND($G$1=\"Y\",H140>0)","v":false},{"$f":"AND($I$1=\"Y\",J140>0)","v":false},{"$f":"AND($K$1=\"Y\",L140>0)","v":false},{"$f":"COUNTIF(Table10161718[[#This Row],[Competed 1]:[Competed 5]],\"=TRUE\")","v":0}]
[null,"-","-",{"$f":"IF(C141=\"-\",0,C141)","v":0},"-",{"$f":"IF(E141=\"-\",0,E141)","v":0},"-",{"$f":"IF(G141=\"-\",0,G141)","v":0},"-",{"$f":"IF(I141=\"-\",0,I141)","v":0},"-",{"$f":"IF(K141=\"-\",0,K141)","v":0},{"$f":"Table10161718[[#This Row],[School]]","v":"-"},{"$f":"D141+F141+H141+J141+L141","v":0},{"$f":"MAX(C141,E141,G141,I141,K141)","v":0},{"$f":"IF(Q141=1,N141,IF(Q141=0,(N141-O141),\"-\"))","v":"-"},{"$f":"$L$1-Table10161718[Competed Count]","v":4},{"$f":"IF(Q141<2,\"Yes\",\"No\")","v":"No"},{"$f":"AND($C$1=\"Y\",D141>0)","v":false},{"$f":"AND($E$1=\"Y\",F141>0)","v":false},{"$f":"AND($G$1=\"Y\",H141>0)","v":false},{"$f":"AND($I$1=\"Y\",J141>0)","v":false},{"$f":"AND($K$1=\"Y\",L141>0)","v":false},{"$f":"COUNTIF(Table10161718[[#This Row],[Competed 1]:[Competed 5]],\"=TRUE\")","v":0}]
[null,"-","-",{"$f":"IF(C142=\"-\",0,C142)","v":0},"-",{"$f":"IF(E142=\"-\",0,E142)","v":0},"-",{"$f":"IF(G142=\"-\",0,G142)","v":0},"-",{"$f":"IF(I142=\"-\",0,I142)","v":0},"-",{"$f":"IF(K142=\"-\",0,K142)","v":0},{"$f":"Table10161718[[#This Row],[School]]","v":"-"},{"$f":"D142+F142+H142+J142+L142","v":0},{"$f":"MAX(C142,E142,G142,I142,K142)","v":0},{"$f":"IF(Q142=1,N142,IF(Q142=0,(N142-O142),\"-\"))","v":"-"},{"$f":"$L$1-Table10161718[Competed Count]","v":4},{"$f":"IF(Q142<2,\"Yes\",\"No\")","v":"No"},{"$f":"AND($C$1=\"Y\",D142>0)","v":false},{"$f":"AND($E$1=\"Y\",F142>0)","v":false},{"$f":"AND($G$1=\"Y\",H142>0)","v":false},{"$f":"AND($I$1=\"Y\",J142>0)","v":false},{"$f":"AND($K$1=\"Y\",L142>0)","v":false},{"$f":"COUNTIF(Table10161718[[#This Row],[Competed 1]:[Competed 5]],\"=TRUE\")","v":0}]
[null,"-","-",{"$f":"IF(C143=\"-\",0,C143)","v":0},"-",{"$f":"IF(E143=\"-\",0,E143)","v":0},"-",{"$f":"IF(G143=\"-\",0,G143)","v":0},"-",{"$f":"IF(I143=\"-\",0,I143)","v":0},"-",{"$f":"IF(K143=\"-\",0,K143)","v":0},{"$f":"Table10161718[[#This Row],[School]]","v":"-"},{"$f":"D143+F143+H143+J143+L143","v":0},{"$f":"MAX(C143,E143,G143,I143,K143)","v":0},{"$f":"IF(Q143=1,N143,IF(Q143=0,(N143-O143),\"-\"))","v":"-"},{"$f":"$L$1-Table10161718[Competed Count]","v":4},{"$f":"IF(Q143<2,\"Yes\",\"No\")","v":"No"},{"$f":"AND($C$1=\"Y\",D143>0)","v":false},{"$f":"AND($E$1=\"Y\",F143>0)","v":false},{"$f":"AND($G$1=\"Y\",H143>0)","v":false},{"$f":"AND($I$1=\"Y\",J143>0)","v":false},{"$f":"AND($K$1=\"Y\",L143>0)","v":false},{"$f":"COUNTIF(Table10161718[[#This Row],[Competed 1]:[Competed 5]],\"=TRUE\")","v":0}]
[null,"-","-",{"$f":"IF(C144=\"-\",0,C144)","v":0},"-",{"$f":"IF(E144=\"-\",0,E144)","v":0},"-",{"$f":"IF(G144=\"-\",0,G144)","v":0},"-",{"$f":"IF(I144=\"-\",0,I144)","v":0},"-",{"$f":"IF(K144=\"-\",0,K144)","v":0},{"$f":"Table10161718[[#This Row],[School]]","v":"-"},{"$f":"D144+F144+H144+J144+L144","v":0},{"$f":"MAX(C144,E144,G144,I144,K144)","v":0},{"$f":"IF(Q144=1,N144,IF(Q144=0,(N144-O144),\"-\"))","v":"-"},{"$f":"$L$1-Table10161718[Competed Count]","v":4},{"$f":"IF(Q144<2,\"Yes\",\"No\")","v":"No"},{"$f":"AND($C$1=\"Y\",D144>0)","v":false},{"$f":"AND($E$1=\"Y\",F144>0)","v":false},{"$f":"AND($G$1=\"Y\",H144>0)","v":false},{"$f":"AND($I$1=\"Y\",J144>0)","v":false},{"$f":"AND($K$1=\"Y\",L144>0)","v":false},{"$f":"COUNTIF(Table10161718[[#This Row],[Competed 1]:[Competed 5]],\"=TRUE\")","v":0}]
[null,"-","-",{"$f":"IF(C145=\"-\",0,C145)","v":0},"-",{"$f":"IF(E145=\"-\",0,E145)","v":0},"-",{"$f":"IF(G145=\"-\",0,G145)","v":0},"-",{"$f":"IF(I145=\"-\",0,I145)","v":0},"-",{"$f":"IF(K145=\"-\",0,K145)","v":0},{"$f":"Table10161718[[#This Row],[School]]","v":"-"},{"$f":"D145+F145+H145+J145+L145","v":0},{"$f":"MAX(C145,E145,G145,I145,K145)","v":0},{"$f":"IF(Q145=1,N145,IF(Q145=0,(N145-O145),\"-\"))","v":"-"},{"$f":"$L$1-Table10161718[Competed Count]","v":4},{"$f":"IF(Q145<2,\"Yes\",\"No\")","v":"No"},{"$f":"AND($C$1=\"Y\",D145>0)","v":false},{"$f":"AND($E$1=\"Y\",F145>0)","v":false},{"$f":"AND($G$1=\"Y\",H145>0)","v":false},{"$f":"AND($I$1=\"Y\",J145>0)","v":false},{"$f":"AND($K$1=\"Y\",L145>0)","v":false},{"$f":"COUNTIF(Table10161718[[#This Row],[Competed 1]:[Competed 5]],\"=TRUE\")","v":0}]
[null,"-","-",{"$f":"IF(C146=\"-\",0,C146)","v":0},"-",{"$f":"IF(E146=\"-\",0,E146)","v":0},"-",{"$f":"IF(G146=\"-\",0,G146)","v":0},"-",{"$f":"IF(I146=\"-\",0,I146)","v":0},"-",{"$f":"IF(K146=\"-\",0,K146)","v":0},{"$f":"Table10161718[[#This Row],[School]]","v":"-"},{"$f":"D146+F146+H146+J146+L146","v":0},{"$f":"MAX(C146,E146,G146,I146,K146)","v":0},{"$f":"IF(Q146=1,N146,IF(Q146=0,(N146-O146),\"-\"))","v":"-"},{"$f":"$L$1-Table10161718[Competed Count]","v":4},{"$f":"IF(Q146<2,\"Yes\",\"No\")","v":"No"},{"$f":"AND($C$1=\"Y\",D146>0)","v":false},{"$f":"AND($E$1=\"Y\",F146>0)","v":false},{"$f":"AND($G$1=\"Y\",H146>0)","v":false},{"$f":"AND($I$1=\"Y\",J146>0)","v":false},{"$f":"AND($K$1=\"Y\",L146>0)","v":false},{"$f":"COUNTIF(Table10161718[[#This Row],[Competed 1]:[Competed 5]],\"=TRUE\")","v":0}]
[null,"-","-",{"$f":"IF(C147=\"-\",0,C147)","v":0},"-",{"$f":"IF(E147=\"-\",0,E147)","v":0},"-",{"$f":"IF(G147=\"-\",0,G147)","v":0},"-",{"$f":"IF(I147=\"-\",0,I147)","v":0},"-",{"$f":"IF(K147=\"-\",0,K147)","v":0},{"$f":"Table10161718[[#This Row],[School]]","v":"-"},{"$f":"D147+F147+H147+J147+L147","v":0},{"$f":"MAX(C147,E147,G147,I147,K147)","v":0},{"$f":"IF(Q147=1,N147,IF(Q147=0,(N147-O147),\"-\"))","v":"-"},{"$f":"$L$1-Table10161718[Competed Count]","v":4},{"$f":"IF(Q147<2,\"Yes\",\"No\")","v":"No"},{"$f":"AND($C$1=\"Y\",D147>0)","v":false},{"$f":"AND($E$1=\"Y\",F147>0)","v":false},{"$f":"AND($G$1=\"Y\",H147>0)","v":false},{"$f":"AND($I$1=\"Y\",J147>0)","v":false},{"$f":"AND($K$1=\"Y\",L147>0)","v":false},{"$f":"COUNTIF(Table10161718[[#This Row],[Competed 1]:[Competed 5]],\"=TRUE\")","v":0}]
[null,"-","-",{"$f":"IF(C148=\"-\",0,C148)","v":0},"-",{"$f":"IF(E148=\"-\",0,E148)","v":0},"-",{"$f":"IF(G148=\"-\",0,G148)","v":0},"-",{"$f":"IF(I148=\"-\",0,I148)","v":0},"-",{"$f":"IF(K148=\"-\",0,K148)","v":0},{"$f":"Table10161718[[#This Row],[School]]","v":"-"},{"$f":"D148+F148+H148+J148+L148","v":0},{"$f":"MAX(C148,E148,G148,I148,K148)","v":0},{"$f":"IF(Q148=1,N148,IF(Q148=0,(N148-O148),\"-\"))","v":"-"},{"$f":"$L$1-Table10161718[Competed Count]","v":4},{"$f":"IF(Q148<2,\"Yes\",\"No\")","v":"No"},{"$f":"AND($C$1=\"Y\",D148>0)","v":false},{"$f":"AND($E$1=\"Y\",F148>0)","v":false},{"$f":"AND($G$1=\"Y\",H148>0)","v":false},{"$f":"AND($I$1=\"Y\",J148>0)","v":false},{"$f":"AND($K$1=\"Y\",L148>0)","v":false},{"$f":"COUNTIF(Table10161718[[#This Row],[Competed 1]:[Competed 5]],\"=TRUE\")","v":0}]
[null,"-","-",{"$f":"IF(C149=\"-\",0,C149)","v":0},"-",{"$f":"IF(E149=\"-\",0,E149)","v":0},"-",{"$f":"IF(G149=\"-\",0,G149)","v":0},"-",{"$f":"IF(I149=\"-\",0,I149)","v":0},"-",{"$f":"IF(K149=\"-\",0,K149)","v":0},{"$f":"Table10161718[[#This Row],[School]]","v":"-"},{"$f":"D149+F149+H149+J149+L149","v":0},{"$f":"MAX(C149,E149,G149,I149,K149)","v":0},{"$f":"IF(Q149=1,N149,IF(Q149=0,(N149-O149),\"-\"))","v":"-"},{"$f":"$L$1-Table10161718[Competed Count]","v":4},{"$f":"IF(Q149<2,\"Yes\",\"No\")","v":"No"},{"$f":"AND($C$1=\"Y\",D149>0)","v":false},{"$f":"AND($E$1=\"Y\",F149>0)","v":false},{"$f":"AND($G$1=\"Y\",H149>0)","v":false},{"$f":"AND($I$1=\"Y\",J149>0)","v":false},{"$f":"AND($K$1=\"Y\",L149>0)","v":false},{"$f":"COUNTIF(Table10161718[[#This Row],[Competed 1]:[Competed 5]],\"=TRUE\")","v":0}]
[null,"-","-",{"$f":"IF(C150=\"-\",0,C150)","v":0},"-",{"$f":"IF(E150=\"-\",0,E150)","v":0},"-",{"$f":"IF(G150=\"-\",0,G150)","v":0},"-",{"$f":"IF(I150=\"-\",0,I150)","v":0},"-",{"$f":"IF(K150=\"-\",0,K150)","v":0},{"$f":"Table10161718[[#This Row],[School]]","v":"-"},{"$f":"D150+F150+H150+J150+L150","v":0},{"$f":"MAX(C150,E150,G150,I150,K150)","v":0},{"$f":"IF(Q150=1,N150,IF(Q150=0,(N150-O150),\"-\"))","v":"-"},{"$f":"$L$1-Table10161718[Competed Count]","v":4},{"$f":"IF(Q150<2,\"Yes\",\"No\")","v":"No"},{"$f":"AND($C$1=\"Y\",D150>0)","v":false},{"$f":"AND($E$1=\"Y\",F150>0)","v":false},{"$f":"AND($G$1=\"Y\",H150>0)","v":false},{"$f":"AND($I$1=\"Y\",J150>0)","v":false},{"$f":"AND($K$1=\"Y\",L150>0)","v":false},{"$f":"COUNTIF(Table10161718[[#This Row],[Competed 1]:[Competed 5]],\"=TRUE\")","v":0}]

{"sheet":"SG","index":6,"n_rows":150,"n_cols":29,"rows_kept":150,"cut":false,"hidden":false,"merged":[]}
["Total Number of Runners","Race Complete (Y/N) ",{"$f":"Y7G!C1","v":"Y"},null,{"$f":"Y7G!E1","v":"Y"},null,{"$f":"Y7G!G1","v":"Y"},null,{"$f":"Y7G!I1","v":"Y"},null,{"$f":"Y7G!K1","v":"N"},{"$f":"COUNTIF(C1:K1,\"=Y\")","v":4},null,null,null,null,null,"Total Eligible for League",null,{"$f":"IF(K1=\"Y\",1,0)","v":0},null,{"$f":"SUM(S1:T1)","v":0}]
[{"$f":"COUNTA(A5:A300)","v":17},"No of Finishers",8,{"$f":"MAX(D5:D151)","v":8},10,10,7,7,12,12,null,null,null,null,null,null,null,{"$f":"COUNTIF(R5:R200,\"Yes\")","v":9}]
["Senior Girls","Number of results recorded",{"$f":"COUNTIF(C5:C150,\">0\")","v":8},null,{"$f":"COUNTIF(F5:F150,\">0\")","v":10},null,7,null,{"$f":"COUNTIF(J5:J150,\">0\")","v":12},null,0]
["Name","School","Race 1","Normalised result -1","Race 2","Normalised result -2","Race 3","Normalised result -3","Race 4","Normalised result -4","Race 5","Normalised result -5","Duplicate school","Total\n(All Races)","Lowest Place Finish","Final Total","League contender?\n(No. of races - missed)","Eligible For League Title","Competed 1","Competed 2","Competed 3","Competed 4","Competed 5","Competed Count",null,null,null,null," "]
["Laura Mullin","Loughborough High School","-",{"$f":"IF(C5=\"-\",0,C5)","v":0},1,{"$f":"IF(E5=\"-\",0,E5)","v":1},1,{"$f":"IF(G5=\"-\",0,G5)","v":1},1,{"$f":"IF(I5=\"-\",0,I5)","v":1},"-",{"$f":"IF(K5=\"-\",0,K5)","v":0},{"$f":"Table1016171819[[#This Row],[School]]","v":"Loughborough High School"},{"$f":"D5+F5+H5+J5+L5","v":3},{"$f":"MAX(C5,E5,G5,I5,K5)","v":1},{"$f":"IF(Q5=1,N5,IF(Q5=0,(N5-O5),\"-\"))","v":3},{"$f":"$L$1-Table1016171819[Competed Count]","v":1},{"$f":"IF(Q5<2,\"Yes\",\"No\")","v":"Yes"},{"$f":"AND($C$1=\"Y\",D5>0)","v":false},{"$f":"AND($E$1=\"Y\",F5>0)","v":true},{"$f":"AND($G$1=\"Y\",H5>0)","v":true},{"$f":"AND($I$1=\"Y\",J5>0)","v":true},{"$f":"AND($K$1=\"Y\",L5>0)","v":false},{"$f":"COUNTIF(Table1016171819[[#This Row],[Competed 1]:[Competed 5]],\"=TRUE\")","v":3}]
["Amy Hammersley","De Lisle College",3,{"$f":"IF(C6=\"-\",0,C6)","v":3},"-",{"$f":"IF(E6=\"-\",0,E6)","v":0},2,{"$f":"IF(G6=\"-\",0,G6)","v":2},2,{"$f":"IF(I6=\"-\",0,I6)","v":2},"-",{"$f":"IF(K6=\"-\",0,K6)","v":0},{"$f":"Table1016171819[[#This Row],[School]]","v":"De Lisle College"},{"$f":"D6+F6+H6+J6+L6","v":7},{"$f":"MAX(C6,E6,G6,I6,K6)","v":3},{"$f":"IF(Q6=1,N6,IF(Q6=0,(N6-O6),\"-\"))","v":7},{"$f":"$L$1-Table1016171819[Competed Count]","v":1},{"$f":"IF(Q6<2,\"Yes\",\"No\")","v":"Yes"},{"$f":"AND($C$1=\"Y\",D6>0)","v":true},{"$f":"AND($E$1=\"Y\",F6>0)","v":false},{"$f":"AND($G$1=\"Y\",H6>0)","v":true},{"$f":"AND($I$1=\"Y\",J6>0)","v":true},{"$f":"AND($K$1=\"Y\",L6>0)","v":false},{"$f":"COUNTIF(Table1016171819[[#This Row],[Competed 1]:[Competed 5]],\"=TRUE\")","v":3}]
["Aimee Seager","Brooksby Melton College","-",{"$f":"IF(C7=\"-\",0,C7)","v":0},2,{"$f":"IF(E7=\"-\",0,E7)","v":2},3,{"$f":"IF(G7=\"-\",0,G7)","v":3},3,{"$f":"IF(I7=\"-\",0,I7)","v":3},"-",{"$f":"IF(K7=\"-\",0,K7)","v":0},{"$f":"Table1016171819[[#This Row],[School]]","v":"Brooksby Melton College"},{"$f":"D7+F7+H7+J7+L7","v":8},{"$f":"MAX(C7,E7,G7,I7,K7)","v":3},{"$f":"IF(Q7=1,N7,IF(Q7=0,(N7-O7),\"-\"))","v":8},{"$f":"$L$1-Table1016171819[Competed Count]","v":1},{"$f":"IF(Q7<2,\"Yes\",\"No\")","v":"Yes"},{"$f":"AND($C$1=\"Y\",D7>0)","v":false},{"$f":"AND($E$1=\"Y\",F7>0)","v":true},{"$f":"AND($G$1=\"Y\",H7>0)","v":true},{"$f":"AND($I$1=\"Y\",J7>0)","v":true},{"$f":"AND($K$1=\"Y\",L7>0)","v":false},{"$f":"COUNTIF(Table1016171819[[#This Row],[Competed 1]:[Competed 5]],\"=TRUE\")","v":3}]
["Paige Stevenson","Hind Leys College","-",{"$f":"IF(C8=\"-\",0,C8)","v":0},"-",{"$f":"IF(E8=\"-\",0,E8)","v":0},"-",{"$f":"IF(G8=\"-\",0,G8)","v":0},4,{"$f":"IF(I8=\"-\",0,I8)","v":4},"-",{"$f":"IF(K8=\"-\",0,K8)","v":0},{"$f":"Table1016171819[[#This Row],[School]]","v":"Hind Leys College"},{"$f":"D8+F8+H8+J8+L8","v":4},{"$f":"MAX(C8,E8,G8,I8,K8)","v":4},{"$f":"IF(Q8=1,N8,IF(Q8=0,(N8-O8),\"-\"))","v":"-"},{"$f":"$L$1-Table1016171819[Competed Count]","v":3},{"$f":"IF(Q8<2,\"Yes\",\"No\")","v":"No"},{"$f":"AND($C$1=\"Y\",D8>0)","v":false},{"$f":"AND($E$1=\"Y\",F8>0)","v":false},{"$f":"AND($G$1=\"Y\",H8>0)","v":false},{"$f":"AND($I$1=\"Y\",J8>0)","v":true},{"$f":"AND($K$1=\"Y\",L8>0)","v":false},{"$f":"COUNTIF(Table1016171819[[#This Row],[Competed 1]:[Competed 5]],\"=TRUE\")","v":1}]
["Alexandra West","Beauchamp College","-",{"$f":"IF(C9=\"-\",0,C9)","v":0},"-",{"$f":"IF(E9=\"-\",0,E9)","v":0},"-",{"$f":"IF(G9=\"-\",0,G9)","v":0},5,{"$f":"IF(I9=\"-\",0,I9)","v":5},"-",{"$f":"IF(K9=\"-\",0,K9)","v":0},{"$f":"Table1016171819[[#This Row],[School]]","v":"Beauchamp College"},{"$f":"D9+F9+H9+J9+L9","v":5},{"$f":"MAX(C9,E9,G9,I9,K9)","v":5},{"$f":"IF(Q9=1,N9,IF(Q9=0,(N9-O9),\"-\"))","v":"-"},{"$f":"$L$1-Table1016171819[Competed Count]","v":3},{"$f":"IF(Q9<2,\"Yes\",\"No\")","v":"No"},{"$f":"AND($C$1=\"Y\",D9>0)","v":false},{"$f":"AND($E$1=\"Y\",F9>0)","v":false},{"$f":"AND($G$1=\"Y\",H9>0)","v":false},{"$f":"AND($I$1=\"Y\",J9>0)","v":true},{"$f":"AND($K$1=\"Y\",L9>0)","v":false},{"$f":"COUNTIF(Table1016171819[[#This Row],[Competed 1]:[Competed 5]],\"=TRUE\")","v":1}]
["Chloe Foster","Loughborough High School","-",{"$f":"IF(C10=\"-\",0,C10)","v":0},5,{"$f":"IF(E10=\"-\",0,E10)","v":5},7,{"$f":"IF(G10=\"-\",0,G10)","v":7},6,{"$f":"IF(I10=\"-\",0,I10)","v":6},"-",{"$f":"IF(K10=\"-\",0,K10)","v":0},{"$f":"Table1016171819[[#This Row],[School]]","v":"Loughborough High School"},{"$f":"D10+F10+H10+J10+L10","v":18},{"$f":"MAX(C10,E10,G10,I10,K10)","v":7},{"$f":"IF(Q10=1,N10,IF(Q10=0,(N10-O10),\"-\"))","v":18},{"$f":"$L$1-Table1016171819[Competed Count]","v":1},{"$f":"IF(Q10<2,\"Yes\",\"No\")","v":"Yes"},{"$f":"AND($C$1=\"Y\",D10>0)","v":false},{"$f":"AND($E$1=\"Y\",F10>0)","v":true},{"$f":"AND($G$1=\"Y\",H10>0)","v":true},{"$f":"AND($I$1=\"Y\",J10>0)","v":true},{"$f":"AND($K$1=\"Y\",L10>0)","v":false},{"$f":"COUNTIF(Table1016171819[[#This Row],[Competed 1]:[Competed 5]],\"=TRUE\")","v":3}]
["Jess Hazell","Bosworth Academy",6,{"$f":"IF(C11=\"-\",0,C11)","v":6},4,{"$f":"IF(E11=\"-\",0,E11)","v":4},"-",{"$f":"IF(G11=\"-\",0,G11)","v":0},7,{"$f":"IF(I11=\"-\",0,I11)","v":7},"-",{"$f":"IF(K11=\"-\",0,K11)","v":0},{"$f":"Table1016171819[[#This Row],[School]]","v":"Bosworth Academy"},{"$f":"D11+F11+H11+J11+L11","v":17},{"$f":"MAX(C11,E11,G11,I11,K11)","v":7},{"$f":"IF(Q11=1,N11,IF(Q11=0,(N11-O11),\"-\"))","v":17},{"$f":"$L$1-Table1016171819[Competed Count]","v":1},{"$f":"IF(Q11<2,\"Yes\",\"No\")","v":"Yes"},{"$f":"AND($C$1=\"Y\",D11>0)","v":true},{"$f":"AND($E$1=\"Y\",F11>0)","v":true},{"$f":"AND($G$1=\"Y\",H11>0)","v":false},{"$f":"AND($I$1=\"Y\",J11>0)","v":true},{"$f":"AND($K$1=\"Y\",L11>0)","v":false},{"$f":"COUNTIF(Table1016171819[[#This Row],[Competed 1]:[Competed 5]],\"=TRUE\")","v":3}]
["Megan Rowley","Hinckley Academy",7,{"$f":"IF(C12=\"-\",0,C12)","v":7},"-",{"$f":"IF(E12=\"-\",0,E12)","v":0},6,{"$f":"IF(G12=\"-\",0,G12)","v":6},8,{"$f":"IF(I12=\"-\",0,I12)","v":8},"-",{"$f":"IF(K12=\"-\",0,K12)","v":0},{"$f":"Table1016171819[[#This Row],[School]]","v":"Hinckley Academy"},{"$f":"D12+F12+H12+J12+L12","v":21},{"$f":"MAX(C12,E12,G12,I12,K12)","v":8},{"$f":"IF(Q12=1,N12,IF(Q12=0,(N12-O12),\"-\"))","v":21},{"$f":"$L$1-Table1016171819[Competed Count]","v":1},{"$f":"IF(Q12<2,\"Yes\",\"No\")","v":"Yes"},{"$f":"AND($C$1=\"Y\",D12>0)","v":true},{"$f":"AND($E$1=\"Y\",F12>0)","v":false},{"$f":"AND($G$1=\"Y\",H12>0)","v":true},{"$f":"AND($I$1=\"Y\",J12>0)","v":true},{"$f":"AND($K$1=\"Y\",L12>0)","v":false},{"$f":"COUNTIF(Table1016171819[[#This Row],[Competed 1]:[Competed 5]],\"=TRUE\")","v":3}]
["Amy Saville ","Harington School",4,{"$f":"IF(C13=\"-\",0,C13)","v":4},6,{"$f":"IF(E13=\"-\",0,E13)","v":6},4,{"$f":"IF(G13=\"-\",0,G13)","v":4},9,{"$f":"IF(I13=\"-\",0,I13)","v":9},"-",{"$f":"IF(K13=\"-\",0,K13)","v":0},{"$f":"Table1016171819[[#This Row],[School]]","v":"Harington School"},{"$f":"D13+F13+H13+J13+L13","v":23},{"$f":"MAX(C13,E13,G13,I13,K13)","v":9},{"$f":"IF(Q13=1,N13,IF(Q13=0,(N13-O13),\"-\"))","v":14},{"$f":"$L$1-Table1016171819[Competed Count]","v":0},{"$f":"IF(Q13<2,\"Yes\",\"No\")","v":"Yes"},{"$f":"AND($C$1=\"Y\",D13>0)","v":true},{"$f":"AND($E$1=\"Y\",F13>0)","v":true},{"$f":"AND($G$1=\"Y\",H13>0)","v":true},{"$f":"AND($I$1=\"Y\",J13>0)","v":true},{"$f":"AND($K$1=\"Y\",L13>0)","v":false},{"$f":"COUNTIF(Table1016171819[[#This Row],[Competed 1]:[Competed 5]],\"=TRUE\")","v":4}]
["Niamh Watson","Robert Smyth Academy",5,{"$f":"IF(C14=\"-\",0,C14)","v":5},"-",{"$f":"IF(E14=\"-\",0,E14)","v":0},5,{"$f":"IF(G14=\"-\",0,G14)","v":5},10,{"$f":"IF(I14=\"-\",0,I14)","v":10},"-",{"$f":"IF(K14=\"-\",0,K14)","v":0},{"$f":"Table1016171819[[#This Row],[School]]","v":"Robert Smyth Academy"},{"$f":"D14+F14+H14+J14+L14","v":20},{"$f":"MAX(C14,E14,G14,I14,K14)","v":10},{"$f":"IF(Q14=1,N14,IF(Q14=0,(N14-O14),\"-\"))","v":20},{"$f":"$L$1-Table1016171819[Competed Count]","v":1},{"$f":"IF(Q14<2,\"Yes\",\"No\")","v":"Yes"},{"$f":"AND($C$1=\"Y\",D14>0)","v":true},{"$f":"AND($E$1=\"Y\",F14>0)","v":false},{"$f":"AND($G$1=\"Y\",H14>0)","v":true},{"$f":"AND($I$1=\"Y\",J14>0)","v":true},{"$f":"AND($K$1=\"Y\",L14>0)","v":false},{"$f":"COUNTIF(Table1016171819[[#This Row],[Competed 1]:[Competed 5]],\"=TRUE\")","v":3}]
["Elizabeth Mulvaney","Loughborough High School","-",{"$f":"IF(C15=\"-\",0,C15)","v":0},3,{"$f":"IF(E15=\"-\",0,E15)","v":3},"-",{"$f":"IF(G15=\"-\",0,G15)","v":0},11,{"$f":"IF(I15=\"-\",0,I15)","v":11},"-",{"$f":"IF(K15=\"-\",0,K15)","v":0},{"$f":"Table1016171819[[#This Row],[School]]","v":"Loughborough High School"},{"$f":"D15+F15+H15+J15+L15","v":14},{"$f":"MAX(C15,E15,G15,I15,K15)","v":11},{"$f":"IF(Q15=1,N15,IF(Q15=0,(N15-O15),\"-\"))","v":"-"},{"$f":"$L$1-Table1016171819[Competed Count]","v":2},{"$f":"IF(Q15<2,\"Yes\",\"No\")","v":"No"},{"$f":"AND($C$1=\"Y\",D15>0)","v":false},{"$f":"AND($E$1=\"Y\",F15>0)","v":true},{"$f":"AND($G$1=\"Y\",H15>0)","v":false},{"$f":"AND($I$1=\"Y\",J15>0)","v":true},{"$f":"AND($K$1=\"Y\",L15>0)","v":false},{"$f":"COUNTIF(Table1016171819[[#This Row],[Competed 1]:[Competed 5]],\"=TRUE\")","v":2}]
["Alice Tansey","Robert Smyth Academy",8,{"$f":"IF(C16=\"-\",0,C16)","v":8},8,{"$f":"IF(E16=\"-\",0,E16)","v":8},"-",{"$f":"IF(G16=\"-\",0,G16)","v":0},12,{"$f":"IF(I16=\"-\",0,I16)","v":12},"-",{"$f":"IF(K16=\"-\",0,K16)","v":0},{"$f":"Table1016171819[[#This Row],[School]]","v":"Robert Smyth Academy"},{"$f":"D16+F16+H16+J16+L16","v":28},{"$f":"MAX(C16,E16,G16,I16,K16)","v":12},{"$f":"IF(Q16=1,N16,IF(Q16=0,(N16-O16),\"-\"))","v":28},{"$f":"$L$1-Table1016171819[Competed Count]","v":1},{"$f":"IF(Q16<2,\"Yes\",\"No\")","v":"Yes"},{"$f":"AND($C$1=\"Y\",D16>0)","v":true},{"$f":"AND($E$1=\"Y\",F16>0)","v":true},{"$f":"AND($G$1=\"Y\",H16>0)","v":false},{"$f":"AND($I$1=\"Y\",J16>0)","v":true},{"$f":"AND($K$1=\"Y\",L16>0)","v":false},{"$f":"COUNTIF(Table1016171819[[#This Row],[Competed 1]:[Competed 5]],\"=TRUE\")","v":3}]
["Izzy Hall","Uppingham School","-",{"$f":"IF(C17=\"-\",0,C17)","v":0},7,{"$f":"IF(E17=\"-\",0,E17)","v":7},"-",{"$f":"IF(G17=\"-\",0,G17)","v":0},"-",{"$f":"IF(I17=\"-\",0,I17)","v":0},"-",{"$f":"IF(K17=\"-\",0,K17)","v":0},{"$f":"Table1016171819[[#This Row],[School]]","v":"Uppingham School"},{"$f":"D17+F17+H17+J17+L17","v":7},{"$f":"MAX(C17,E17,G17,I17,K17)","v":7},{"$f":"IF(Q17=1,N17,IF(Q17=0,(N17-O17),\"-\"))","v":"-"},{"$f":"$L$1-Table1016171819[Competed Count]","v":3},{"$f":"IF(Q17<2,\"Yes\",\"No\")","v":"No"},{"$f":"AND($C$1=\"Y\",D17>0)","v":false},{"$f":"AND($E$1=\"Y\",F17>0)","v":true},{"$f":"AND($G$1=\"Y\",H17>0)","v":false},{"$f":"AND($I$1=\"Y\",J17>0)","v":false},{"$f":"AND($K$1=\"Y\",L17>0)","v":false},{"$f":"COUNTIF(Table1016171819[[#This Row],[Competed 1]:[Competed 5]],\"=TRUE\")","v":1}]
["Izzy Cranwell","Uppingham School","-",{"$f":"IF(C18=\"-\",0,C18)","v":0},9,{"$f":"IF(E18=\"-\",0,E18)","v":9},"-",{"$f":"IF(G18=\"-\",0,G18)","v":0},"-",{"$f":"IF(I18=\"-\",0,I18)","v":0},"-",{"$f":"IF(K18=\"-\",0,K18)","v":0},{"$f":"Table1016171819[[#This Row],[School]]","v":"Uppingham School"},{"$f":"D18+F18+H18+J18+L18","v":9},{"$f":"MAX(C18,E18,G18,I18,K18)","v":9},{"$f":"IF(Q18=1,N18,IF(Q18=0,(N18-O18),\"-\"))","v":"-"},{"$f":"$L$1-Table1016171819[Competed Count]","v":3},{"$f":"IF(Q18<2,\"Yes\",\"No\")","v":"No"},{"$f":"AND($C$1=\"Y\",D18>0)","v":false},{"$f":"AND($E$1=\"Y\",F18>0)","v":true},{"$f":"AND($G$1=\"Y\",H18>0)","v":false},{"$f":"AND($I$1=\"Y\",J18>0)","v":false},{"$f":"AND($K$1=\"Y\",L18>0)","v":false},{"$f":"COUNTIF(Table1016171819[[#This Row],[Competed 1]:[Competed 5]],\"=TRUE\")","v":1}]
["Hettie Seriven-Seager","Uppingham School","-",{"$f":"IF(C19=\"-\",0,C19)","v":0},10,{"$f":"IF(E19=\"-\",0,E19)","v":10},"-",{"$f":"IF(G19=\"-\",0,G19)","v":0},"-",{"$f":"IF(I19=\"-\",0,I19)","v":0},"-",{"$f":"IF(K19=\"-\",0,K19)","v":0},{"$f":"Table1016171819[[#This Row],[School]]","v":"Uppingham School"},{"$f":"D19+F19+H19+J19+L19","v":10},{"$f":"MAX(C19,E19,G19,I19,K19)","v":10},{"$f":"IF(Q19=1,N19,IF(Q19=0,(N19-O19),\"-\"))","v":"-"},{"$f":"$L$1-Table1016171819[Competed Count]","v":3},{"$f":"IF(Q19<2,\"Yes\",\"No\")","v":"No"},{"$f":"AND($C$1=\"Y\",D19>0)","v":false},{"$f":"AND($E$1=\"Y\",F19>0)","v":true},{"$f":"AND($G$1=\"Y\",H19>0)","v":false},{"$f":"AND($I$1=\"Y\",J19>0)","v":false},{"$f":"AND($K$1=\"Y\",L19>0)","v":false},{"$f":"COUNTIF(Table1016171819[[#This Row],[Competed 1]:[Competed 5]],\"=TRUE\")","v":1}]
["Jordan Waine","Loughborough College",1,{"$f":"IF(C20=\"-\",0,C20)","v":1},"-",{"$f":"IF(E20=\"-\",0,E20)","v":0},"-",{"$f":"IF(G20=\"-\",0,G20)","v":0},"-",{"$f":"IF(I20=\"-\",0,I20)","v":0},"-",{"$f":"IF(K20=\"-\",0,K20)","v":0},{"$f":"Table1016171819[[#This Row],[School]]","v":"Loughborough College"},{"$f":"D20+F20+H20+J20+L20","v":1},{"$f":"MAX(C20,E20,G20,I20,K20)","v":1},{"$f":"IF(Q20=1,N20,IF(Q20=0,(N20-O20),\"-\"))","v":"-"},{"$f":"$L$1-Table1016171819[Competed Count]","v":3},{"$f":"IF(Q20<2,\"Yes\",\"No\")","v":"No"},{"$f":"AND($C$1=\"Y\",D20>0)","v":true},{"$f":"AND($E$1=\"Y\",F20>0)","v":false},{"$f":"AND($G$1=\"Y\",H20>0)","v":false},{"$f":"AND($I$1=\"Y\",J20>0)","v":false},{"$f":"AND($K$1=\"Y\",L20>0)","v":false},{"$f":"COUNTIF(Table1016171819[[#This Row],[Competed 1]:[Competed 5]],\"=TRUE\")","v":1}]
["Caitlin Roper","Leicester Grammar School",2,{"$f":"IF(C21=\"-\",0,C21)","v":2},"-",{"$f":"IF(E21=\"-\",0,E21)","v":0},"-",{"$f":"IF(G21=\"-\",0,G21)","v":0},"-",{"$f":"IF(I21=\"-\",0,I21)","v":0},"-",{"$f":"IF(K21=\"-\",0,K21)","v":0},{"$f":"Table1016171819[[#This Row],[School]]","v":"Leicester Grammar School"},{"$f":"D21+F21+H21+J21+L21","v":2},{"$f":"MAX(C21,E21,G21,I21,K21)","v":2},{"$f":"IF(Q21=1,N21,IF(Q21=0,(N21-O21),\"-\"))","v":"-"},{"$f":"$L$1-Table1016171819[Competed Count]","v":3},{"$f":"IF(Q21<2,\"Yes\",\"No\")","v":"No"},{"$f":"AND($C$1=\"Y\",D21>0)","v":true},{"$f":"AND($E$1=\"Y\",F21>0)","v":false},{"$f":"AND($G$1=\"Y\",H21>0)","v":false},{"$f":"AND($I$1=\"Y\",J21>0)","v":false},{"$f":"AND($K$1=\"Y\",L21>0)","v":false},{"$f":"COUNTIF(Table1016171819[[#This Row],[Competed 1]:[Competed 5]],\"=TRUE\")","v":1}]
[null,"-","-",{"$f":"IF(C22=\"-\",0,C22)","v":0},"-",{"$f":"IF(E22=\"-\",0,E22)","v":0},"-",{"$f":"IF(G22=\"-\",0,G22)","v":0},"-",{"$f":"IF(I22=\"-\",0,I22)","v":0},"-",{"$f":"IF(K22=\"-\",0,K22)","v":0},{"$f":"Table1016171819[[#This Row],[School]]","v":"-"},{"$f":"D22+F22+H22+J22+L22","v":0},{"$f":"MAX(C22,E22,G22,I22,K22)","v":0},{"$f":"IF(Q22=1,N22,IF(Q22=0,(N22-O22),\"-\"))","v":"-"},{"$f":"$L$1-Table1016171819[Competed Count]","v":4},{"$f":"IF(Q22<2,\"Yes\",\"No\")","v":"No"},{"$f":"AND($C$1=\"Y\",D22>0)","v":false},{"$f":"AND($E$1=\"Y\",F22>0)","v":false},{"$f":"AND($G$1=\"Y\",H22>0)","v":false},{"$f":"AND($I$1=\"Y\",J22>0)","v":false},{"$f":"AND($K$1=\"Y\",L22>0)","v":false},{"$f":"COUNTIF(Table1016171819[[#This Row],[Competed 1]:[Competed 5]],\"=TRUE\")","v":0}]
[null,"-","-",{"$f":"IF(C23=\"-\",0,C23)","v":0},"-",{"$f":"IF(E23=\"-\",0,E23)","v":0},"-",{"$f":"IF(G23=\"-\",0,G23)","v":0},"-",{"$f":"IF(I23=\"-\",0,I23)","v":0},"-",{"$f":"IF(K23=\"-\",0,K23)","v":0},{"$f":"Table1016171819[[#This Row],[School]]","v":"-"},{"$f":"D23+F23+H23+J23+L23","v":0},{"$f":"MAX(C23,E23,G23,I23,K23)","v":0},{"$f":"IF(Q23=1,N23,IF(Q23=0,(N23-O23),\"-\"))","v":"-"},{"$f":"$L$1-Table1016171819[Competed Count]","v":4},{"$f":"IF(Q23<2,\"Yes\",\"No\")","v":"No"},{"$f":"AND($C$1=\"Y\",D23>0)","v":false},{"$f":"AND($E$1=\"Y\",F23>0)","v":false},{"$f":"AND($G$1=\"Y\",H23>0)","v":false},{"$f":"AND($I$1=\"Y\",J23>0)","v":false},{"$f":"AND($K$1=\"Y\",L23>0)","v":false},{"$f":"COUNTIF(Table1016171819[[#This Row],[Competed 1]:[Competed 5]],\"=TRUE\")","v":0}]
[null,"-","-",{"$f":"IF(C24=\"-\",0,C24)","v":0},"-",{"$f":"IF(E24=\"-\",0,E24)","v":0},"-",{"$f":"IF(G24=\"-\",0,G24)","v":0},"-",{"$f":"IF(I24=\"-\",0,I24)","v":0},"-",{"$f":"IF(K24=\"-\",0,K24)","v":0},{"$f":"Table1016171819[[#This Row],[School]]","v":"-"},{"$f":"D24+F24+H24+J24+L24","v":0},{"$f":"MAX(C24,E24,G24,I24,K24)","v":0},{"$f":"IF(Q24=1,N24,IF(Q24=0,(N24-O24),\"-\"))","v":"-"},{"$f":"$L$1-Table1016171819[Competed Count]","v":4},{"$f":"IF(Q24<2,\"Yes\",\"No\")","v":"No"},{"$f":"AND($C$1=\"Y\",D24>0)","v":false},{"$f":"AND($E$1=\"Y\",F24>0)","v":false},{"$f":"AND($G$1=\"Y\",H24>0)","v":false},{"$f":"AND($I$1=\"Y\",J24>0)","v":false},{"$f":"AND($K$1=\"Y\",L24>0)","v":false},{"$f":"COUNTIF(Table1016171819[[#This Row],[Competed 1]:[Competed 5]],\"=TRUE\")","v":0}]
[null,"-","-",{"$f":"IF(C25=\"-\",0,C25)","v":0},"-",{"$f":"IF(E25=\"-\",0,E25)","v":0},"-",{"$f":"IF(G25=\"-\",0,G25)","v":0},"-",{"$f":"IF(I25=\"-\",0,I25)","v":0},"-",{"$f":"IF(K25=\"-\",0,K25)","v":0},{"$f":"Table1016171819[[#This Row],[School]]","v":"-"},{"$f":"D25+F25+H25+J25+L25","v":0},{"$f":"MAX(C25,E25,G25,I25,K25)","v":0},{"$f":"IF(Q25=1,N25,IF(Q25=0,(N25-O25),\"-\"))","v":"-"},{"$f":"$L$1-Table1016171819[Competed Count]","v":4},{"$f":"IF(Q25<2,\"Yes\",\"No\")","v":"No"},{"$f":"AND($C$1=\"Y\",D25>0)","v":false},{"$f":"AND($E$1=\"Y\",F25>0)","v":false},{"$f":"AND($G$1=\"Y\",H25>0)","v":false},{"$f":"AND($I$1=\"Y\",J25>0)","v":false},{"$f":"AND($K$1=\"Y\",L25>0)","v":false},{"$f":"COUNTIF(Table1016171819[[#This Row],[Competed 1]:[Competed 5]],\"=TRUE\")","v":0}]
[null,"-","-",{"$f":"IF(C26=\"-\",0,C26)","v":0},"-",{"$f":"IF(E26=\"-\",0,E26)","v":0},"-",{"$f":"IF(G26=\"-\",0,G26)","v":0},"-",{"$f":"IF(I26=\"-\",0,I26)","v":0},"-",{"$f":"IF(K26=\"-\",0,K26)","v":0},{"$f":"Table1016171819[[#This Row],[School]]","v":"-"},{"$f":"D26+F26+H26+J26+L26","v":0},{"$f":"MAX(C26,E26,G26,I26,K26)","v":0},{"$f":"IF(Q26=1,N26,IF(Q26=0,(N26-O26),\"-\"))","v":"-"},{"$f":"$L$1-Table1016171819[Competed Count]","v":4},{"$f":"IF(Q26<2,\"Yes\",\"No\")","v":"No"},{"$f":"AND($C$1=\"Y\",D26>0)","v":false},{"$f":"AND($E$1=\"Y\",F26>0)","v":false},{"$f":"AND($G$1=\"Y\",H26>0)","v":false},{"$f":"AND($I$1=\"Y\",J26>0)","v":false},{"$f":"AND($K$1=\"Y\",L26>0)","v":false},{"$f":"COUNTIF(Table1016171819[[#This Row],[Competed 1]:[Competed 5]],\"=TRUE\")","v":0}]
[null,"-","-",{"$f":"IF(C27=\"-\",0,C27)","v":0},"-",{"$f":"IF(E27=\"-\",0,E27)","v":0},"-",{"$f":"IF(G27=\"-\",0,G27)","v":0},"-",{"$f":"IF(I27=\"-\",0,I27)","v":0},"-",{"$f":"IF(K27=\"-\",0,K27)","v":0},{"$f":"Table1016171819[[#This Row],[School]]","v":"-"},{"$f":"D27+F27+H27+J27+L27","v":0},{"$f":"MAX(C27,E27,G27,I27,K27)","v":0},{"$f":"IF(Q27=1,N27,IF(Q27=0,(N27-O27),\"-\"))","v":"-"},{"$f":"$L$1-Table1016171819[Competed Count]","v":4},{"$f":"IF(Q27<2,\"Yes\",\"No\")","v":"No"},{"$f":"AND($C$1=\"Y\",D27>0)","v":false},{"$f":"AND($E$1=\"Y\",F27>0)","v":false},{"$f":"AND($G$1=\"Y\",H27>0)","v":false},{"$f":"AND($I$1=\"Y\",J27>0)","v":false},{"$f":"AND($K$1=\"Y\",L27>0)","v":false},{"$f":"COUNTIF(Table1016171819[[#This Row],[Competed 1]:[Competed 5]],\"=TRUE\")","v":0}]
[null,"-","-",{"$f":"IF(C28=\"-\",0,C28)","v":0},"-",{"$f":"IF(E28=\"-\",0,E28)","v":0},"-",{"$f":"IF(G28=\"-\",0,G28)","v":0},"-",{"$f":"IF(I28=\"-\",0,I28)","v":0},"-",{"$f":"IF(K28=\"-\",0,K28)","v":0},{"$f":"Table1016171819[[#This Row],[School]]","v":"-"},{"$f":"D28+F28+H28+J28+L28","v":0},{"$f":"MAX(C28,E28,G28,I28,K28)","v":0},{"$f":"IF(Q28=1,N28,IF(Q28=0,(N28-O28),\"-\"))","v":"-"},{"$f":"$L$1-Table1016171819[Competed Count]","v":4},{"$f":"IF(Q28<2,\"Yes\",\"No\")","v":"No"},{"$f":"AND($C$1=\"Y\",D28>0)","v":false},{"$f":"AND($E$1=\"Y\",F28>0)","v":false},{"$f":"AND($G$1=\"Y\",H28>0)","v":false},{"$f":"AND($I$1=\"Y\",J28>0)","v":false},{"$f":"AND($K$1=\"Y\",L28>0)","v":false},{"$f":"COUNTIF(Table1016171819[[#This Row],[Competed 1]:[Competed 5]],\"=TRUE\")","v":0}]
[null,"-","-",{"$f":"IF(C29=\"-\",0,C29)","v":0},"-",{"$f":"IF(E29=\"-\",0,E29)","v":0},"-",{"$f":"IF(G29=\"-\",0,G29)","v":0},"-",{"$f":"IF(I29=\"-\",0,I29)","v":0},"-",{"$f":"IF(K29=\"-\",0,K29)","v":0},{"$f":"Table1016171819[[#This Row],[School]]","v":"-"},{"$f":"D29+F29+H29+J29+L29","v":0},{"$f":"MAX(C29,E29,G29,I29,K29)","v":0},{"$f":"IF(Q29=1,N29,IF(Q29=0,(N29-O29),\"-\"))","v":"-"},{"$f":"$L$1-Table1016171819[Competed Count]","v":4},{"$f":"IF(Q29<2,\"Yes\",\"No\")","v":"No"},{"$f":"AND($C$1=\"Y\",D29>0)","v":false},{"$f":"AND($E$1=\"Y\",F29>0)","v":false},{"$f":"AND($G$1=\"Y\",H29>0)","v":false},{"$f":"AND($I$1=\"Y\",J29>0)","v":false},{"$f":"AND($K$1=\"Y\",L29>0)","v":false},{"$f":"COUNTIF(Table1016171819[[#This Row],[Competed 1]:[Competed 5]],\"=TRUE\")","v":0}]
[null,"-","-",{"$f":"IF(C30=\"-\",0,C30)","v":0},"-",{"$f":"IF(E30=\"-\",0,E30)","v":0},"-",{"$f":"IF(G30=\"-\",0,G30)","v":0},"-",{"$f":"IF(I30=\"-\",0,I30)","v":0},"-",{"$f":"IF(K30=\"-\",0,K30)","v":0},{"$f":"Table1016171819[[#This Row],[School]]","v":"-"},{"$f":"D30+F30+H30+J30+L30","v":0},{"$f":"MAX(C30,E30,G30,I30,K30)","v":0},{"$f":"IF(Q30=1,N30,IF(Q30=0,(N30-O30),\"-\"))","v":"-"},{"$f":"$L$1-Table1016171819[Competed Count]","v":4},{"$f":"IF(Q30<2,\"Yes\",\"No\")","v":"No"},{"$f":"AND($C$1=\"Y\",D30>0)","v":false},{"$f":"AND($E$1=\"Y\",F30>0)","v":false},{"$f":"AND($G$1=\"Y\",H30>0)","v":false},{"$f":"AND($I$1=\"Y\",J30>0)","v":false},{"$f":"AND($K$1=\"Y\",L30>0)","v":false},{"$f":"COUNTIF(Table1016171819[[#This Row],[Competed 1]:[Competed 5]],\"=TRUE\")","v":0}]
[null,"-","-",{"$f":"IF(C31=\"-\",0,C31)","v":0},"-",{"$f":"IF(E31=\"-\",0,E31)","v":0},"-",{"$f":"IF(G31=\"-\",0,G31)","v":0},"-",{"$f":"IF(I31=\"-\",0,I31)","v":0},"-",{"$f":"IF(K31=\"-\",0,K31)","v":0},{"$f":"Table1016171819[[#This Row],[School]]","v":"-"},{"$f":"D31+F31+H31+J31+L31","v":0},{"$f":"MAX(C31,E31,G31,I31,K31)","v":0},{"$f":"IF(Q31=1,N31,IF(Q31=0,(N31-O31),\"-\"))","v":"-"},{"$f":"$L$1-Table1016171819[Competed Count]","v":4},{"$f":"IF(Q31<2,\"Yes\",\"No\")","v":"No"},{"$f":"AND($C$1=\"Y\",D31>0)","v":false},{"$f":"AND($E$1=\"Y\",F31>0)","v":false},{"$f":"AND($G$1=\"Y\",H31>0)","v":false},{"$f":"AND($I$1=\"Y\",J31>0)","v":false},{"$f":"AND($K$1=\"Y\",L31>0)","v":false},{"$f":"COUNTIF(Table1016171819[[#This Row],[Competed 1]:[Competed 5]],\"=TRUE\")","v":0}]
[null,"-","-",{"$f":"IF(C32=\"-\",0,C32)","v":0},"-",{"$f":"IF(E32=\"-\",0,E32)","v":0},"-",{"$f":"IF(G32=\"-\",0,G32)","v":0},"-",{"$f":"IF(I32=\"-\",0,I32)","v":0},"-",{"$f":"IF(K32=\"-\",0,K32)","v":0},{"$f":"Table1016171819[[#This Row],[School]]","v":"-"},{"$f":"D32+F32+H32+J32+L32","v":0},{"$f":"MAX(C32,E32,G32,I32,K32)","v":0},{"$f":"IF(Q32=1,N32,IF(Q32=0,(N32-O32),\"-\"))","v":"-"},{"$f":"$L$1-Table1016171819[Competed Count]","v":4},{"$f":"IF(Q32<2,\"Yes\",\"No\")","v":"No"},{"$f":"AND($C$1=\"Y\",D32>0)","v":false},{"$f":"AND($E$1=\"Y\",F32>0)","v":false},{"$f":"AND($G$1=\"Y\",H32>0)","v":false},{"$f":"AND($I$1=\"Y\",J32>0)","v":false},{"$f":"AND($K$1=\"Y\",L32>0)","v":false},{"$f":"COUNTIF(Table1016171819[[#This Row],[Competed 1]:[Competed 5]],\"=TRUE\")","v":0}]
[null,"-","-",{"$f":"IF(C33=\"-\",0,C33)","v":0},"-",{"$f":"IF(E33=\"-\",0,E33)","v":0},"-",{"$f":"IF(G33=\"-\",0,G33)","v":0},"-",{"$f":"IF(I33=\"-\",0,I33)","v":0},"-",{"$f":"IF(K33=\"-\",0,K33)","v":0},{"$f":"Table1016171819[[#This Row],[School]]","v":"-"},{"$f":"D33+F33+H33+J33+L33","v":0},{"$f":"MAX(C33,E33,G33,I33,K33)","v":0},{"$f":"IF(Q33=1,N33,IF(Q33=0,(N33-O33),\"-\"))","v":"-"},{"$f":"$L$1-Table1016171819[Competed Count]","v":4},{"$f":"IF(Q33<2,\"Yes\",\"No\")","v":"No"},{"$f":"AND($C$1=\"Y\",D33>0)","v":false},{"$f":"AND($E$1=\"Y\",F33>0)","v":false},{"$f":"AND($G$1=\"Y\",H33>0)","v":false},{"$f":"AND($I$1=\"Y\",J33>0)","v":false},{"$f":"AND($K$1=\"Y\",L33>0)","v":false},{"$f":"COUNTIF(Table1016171819[[#This Row],[Competed 1]:[Competed 5]],\"=TRUE\")","v":0}]
[null,"-","-",{"$f":"IF(C34=\"-\",0,C34)","v":0},"-",{"$f":"IF(E34=\"-\",0,E34)","v":0},"-",{"$f":"IF(G34=\"-\",0,G34)","v":0},"-",{"$f":"IF(I34=\"-\",0,I34)","v":0},"-",{"$f":"IF(K34=\"-\",0,K34)","v":0},{"$f":"Table1016171819[[#This Row],[School]]","v":"-"},{"$f":"D34+F34+H34+J34+L34","v":0},{"$f":"MAX(C34,E34,G34,I34,K34)","v":0},{"$f":"IF(Q34=1,N34,IF(Q34=0,(N34-O34),\"-\"))","v":"-"},{"$f":"$L$1-Table1016171819[Competed Count]","v":4},{"$f":"IF(Q34<2,\"Yes\",\"No\")","v":"No"},{"$f":"AND($C$1=\"Y\",D34>0)","v":false},{"$f":"AND($E$1=\"Y\",F34>0)","v":false},{"$f":"AND($G$1=\"Y\",H34>0)","v":false},{"$f":"AND($I$1=\"Y\",J34>0)","v":false},{"$f":"AND($K$1=\"Y\",L34>0)","v":false},{"$f":"COUNTIF(Table1016171819[[#This Row],[Competed 1]:[Competed 5]],\"=TRUE\")","v":0}]
[null,"-","-",{"$f":"IF(C35=\"-\",0,C35)","v":0},"-",{"$f":"IF(E35=\"-\",0,E35)","v":0},"-",{"$f":"IF(G35=\"-\",0,G35)","v":0},"-",{"$f":"IF(I35=\"-\",0,I35)","v":0},"-",{"$f":"IF(K35=\"-\",0,K35)","v":0},{"$f":"Table1016171819[[#This Row],[School]]","v":"-"},{"$f":"D35+F35+H35+J35+L35","v":0},{"$f":"MAX(C35,E35,G35,I35,K35)","v":0},{"$f":"IF(Q35=1,N35,IF(Q35=0,(N35-O35),\"-\"))","v":"-"},{"$f":"$L$1-Table1016171819[Competed Count]","v":4},{"$f":"IF(Q35<2,\"Yes\",\"No\")","v":"No"},{"$f":"AND($C$1=\"Y\",D35>0)","v":false},{"$f":"AND($E$1=\"Y\",F35>0)","v":false},{"$f":"AND($G$1=\"Y\",H35>0)","v":false},{"$f":"AND($I$1=\"Y\",J35>0)","v":false},{"$f":"AND($K$1=\"Y\",L35>0)","v":false},{"$f":"COUNTIF(Table1016171819[[#This Row],[Competed 1]:[Competed 5]],\"=TRUE\")","v":0}]
[null,"-","-",{"$f":"IF(C36=\"-\",0,C36)","v":0},"-",{"$f":"IF(E36=\"-\",0,E36)","v":0},"-",{"$f":"IF(G36=\"-\",0,G36)","v":0},"-",{"$f":"IF(I36=\"-\",0,I36)","v":0},"-",{"$f":"IF(K36=\"-\",0,K36)","v":0},{"$f":"Table1016171819[[#This Row],[School]]","v":"-"},{"$f":"D36+F36+H36+J36+L36","v":0},{"$f":"MAX(C36,E36,G36,I36,K36)","v":0},{"$f":"IF(Q36=1,N36,IF(Q36=0,(N36-O36),\"-\"))","v":"-"},{"$f":"$L$1-Table1016171819[Competed Count]","v":4},{"$f":"IF(Q36<2,\"Yes\",\"No\")","v":"No"},{"$f":"AND($C$1=\"Y\",D36>0)","v":false},{"$f":"AND($E$1=\"Y\",F36>0)","v":false},{"$f":"AND($G$1=\"Y\",H36>0)","v":false},{"$f":"AND($I$1=\"Y\",J36>0)","v":false},{"$f":"AND($K$1=\"Y\",L36>0)","v":false},{"$f":"COUNTIF(Table1016171819[[#This Row],[Competed 1]:[Competed 5]],\"=TRUE\")","v":0}]
[null,"-","-",{"$f":"IF(C37=\"-\",0,C37)","v":0},"-",{"$f":"IF(E37=\"-\",0,E37)","v":0},"-",{"$f":"IF(G37=\"-\",0,G37)","v":0},"-",{"$f":"IF(I37=\"-\",0,I37)","v":0},"-",{"$f":"IF(K37=\"-\",0,K37)","v":0},{"$f":"Table1016171819[[#This Row],[School]]","v":"-"},{"$f":"D37+F37+H37+J37+L37","v":0},{"$f":"MAX(C37,E37,G37,I37,K37)","v":0},{"$f":"IF(Q37=1,N37,IF(Q37=0,(N37-O37),\"-\"))","v":"-"},{"$f":"$L$1-Table1016171819[Competed Count]","v":4},{"$f":"IF(Q37<2,\"Yes\",\"No\")","v":"No"},{"$f":"AND($C$1=\"Y\",D37>0)","v":false},{"$f":"AND($E$1=\"Y\",F37>0)","v":false},{"$f":"AND($G$1=\"Y\",H37>0)","v":false},{"$f":"AND($I$1=\"Y\",J37>0)","v":false},{"$f":"AND($K$1=\"Y\",L37>0)","v":false},{"$f":"COUNTIF(Table1016171819[[#This Row],[Competed 1]:[Competed 5]],\"=TRUE\")","v":0}]
[null,"-","-",{"$f":"IF(C38=\"-\",0,C38)","v":0},"-",{"$f":"IF(E38=\"-\",0,E38)","v":0},"-",{"$f":"IF(G38=\"-\",0,G38)","v":0},"-",{"$f":"IF(I38=\"-\",0,I38)","v":0},"-",{"$f":"IF(K38=\"-\",0,K38)","v":0},{"$f":"Table1016171819[[#This Row],[School]]","v":"-"},{"$f":"D38+F38+H38+J38+L38","v":0},{"$f":"MAX(C38,E38,G38,I38,K38)","v":0},{"$f":"IF(Q38=1,N38,IF(Q38=0,(N38-O38),\"-\"))","v":"-"},{"$f":"$L$1-Table1016171819[Competed Count]","v":4},{"$f":"IF(Q38<2,\"Yes\",\"No\")","v":"No"},{"$f":"AND($C$1=\"Y\",D38>0)","v":false},{"$f":"AND($E$1=\"Y\",F38>0)","v":false},{"$f":"AND($G$1=\"Y\",H38>0)","v":false},{"$f":"AND($I$1=\"Y\",J38>0)","v":false},{"$f":"AND($K$1=\"Y\",L38>0)","v":false},{"$f":"COUNTIF(Table1016171819[[#This Row],[Competed 1]:[Competed 5]],\"=TRUE\")","v":0}]
[null,"-","-",{"$f":"IF(C39=\"-\",0,C39)","v":0},"-",{"$f":"IF(E39=\"-\",0,E39)","v":0},"-",{"$f":"IF(G39=\"-\",0,G39)","v":0},"-",{"$f":"IF(I39=\"-\",0,I39)","v":0},"-",{"$f":"IF(K39=\"-\",0,K39)","v":0},{"$f":"Table1016171819[[#This Row],[School]]","v":"-"},{"$f":"D39+F39+H39+J39+L39","v":0},{"$f":"MAX(C39,E39,G39,I39,K39)","v":0},{"$f":"IF(Q39=1,N39,IF(Q39=0,(N39-O39),\"-\"))","v":"-"},{"$f":"$L$1-Table1016171819[Competed Count]","v":4},{"$f":"IF(Q39<2,\"Yes\",\"No\")","v":"No"},{"$f":"AND($C$1=\"Y\",D39>0)","v":false},{"$f":"AND($E$1=\"Y\",F39>0)","v":false},{"$f":"AND($G$1=\"Y\",H39>0)","v":false},{"$f":"AND($I$1=\"Y\",J39>0)","v":false},{"$f":"AND($K$1=\"Y\",L39>0)","v":false},{"$f":"COUNTIF(Table1016171819[[#This Row],[Competed 1]:[Competed 5]],\"=TRUE\")","v":0}]
[null,"-","-",{"$f":"IF(C40=\"-\",0,C40)","v":0},"-",{"$f":"IF(E40=\"-\",0,E40)","v":0},"-",{"$f":"IF(G40=\"-\",0,G40)","v":0},"-",{"$f":"IF(I40=\"-\",0,I40)","v":0},"-",{"$f":"IF(K40=\"-\",0,K40)","v":0},{"$f":"Table1016171819[[#This Row],[School]]","v":"-"},{"$f":"D40+F40+H40+J40+L40","v":0},{"$f":"MAX(C40,E40,G40,I40,K40)","v":0},{"$f":"IF(Q40=1,N40,IF(Q40=0,(N40-O40),\"-\"))","v":"-"},{"$f":"$L$1-Table1016171819[Competed Count]","v":4},{"$f":"IF(Q40<2,\"Yes\",\"No\")","v":"No"},{"$f":"AND($C$1=\"Y\",D40>0)","v":false},{"$f":"AND($E$1=\"Y\",F40>0)","v":false},{"$f":"AND($G$1=\"Y\",H40>0)","v":false},{"$f":"AND($I$1=\"Y\",J40>0)","v":false},{"$f":"AND($K$1=\"Y\",L40>0)","v":false},{"$f":"COUNTIF(Table1016171819[[#This Row],[Competed 1]:[Competed 5]],\"=TRUE\")","v":0}]
[null,"-","-",{"$f":"IF(C41=\"-\",0,C41)","v":0},"-",{"$f":"IF(E41=\"-\",0,E41)","v":0},"-",{"$f":"IF(G41=\"-\",0,G41)","v":0},"-",{"$f":"IF(I41=\"-\",0,I41)","v":0},"-",{"$f":"IF(K41=\"-\",0,K41)","v":0},{"$f":"Table1016171819[[#This Row],[School]]","v":"-"},{"$f":"D41+F41+H41+J41+L41","v":0},{"$f":"MAX(C41,E41,G41,I41,K41)","v":0},{"$f":"IF(Q41=1,N41,IF(Q41=0,(N41-O41),\"-\"))","v":"-"},{"$f":"$L$1-Table1016171819[Competed Count]","v":4},{"$f":"IF(Q41<2,\"Yes\",\"No\")","v":"No"},{"$f":"AND($C$1=\"Y\",D41>0)","v":false},{"$f":"AND($E$1=\"Y\",F41>0)","v":false},{"$f":"AND($G$1=\"Y\",H41>0)","v":false},{"$f":"AND($I$1=\"Y\",J41>0)","v":false},{"$f":"AND($K$1=\"Y\",L41>0)","v":false},{"$f":"COUNTIF(Table1016171819[[#This Row],[Competed 1]:[Competed 5]],\"=TRUE\")","v":0}]
[null,"-","-",{"$f":"IF(C42=\"-\",0,C42)","v":0},"-",{"$f":"IF(E42=\"-\",0,E42)","v":0},"-",{"$f":"IF(G42=\"-\",0,G42)","v":0},"-",{"$f":"IF(I42=\"-\",0,I42)","v":0},"-",{"$f":"IF(K42=\"-\",0,K42)","v":0},{"$f":"Table1016171819[[#This Row],[School]]","v":"-"},{"$f":"D42+F42+H42+J42+L42","v":0},{"$f":"MAX(C42,E42,G42,I42,K42)","v":0},{"$f":"IF(Q42=1,N42,IF(Q42=0,(N42-O42),\"-\"))","v":"-"},{"$f":"$L$1-Table1016171819[Competed Count]","v":4},{"$f":"IF(Q42<2,\"Yes\",\"No\")","v":"No"},{"$f":"AND($C$1=\"Y\",D42>0)","v":false},{"$f":"AND($E$1=\"Y\",F42>0)","v":false},{"$f":"AND($G$1=\"Y\",H42>0)","v":false},{"$f":"AND($I$1=\"Y\",J42>0)","v":false},{"$f":"AND($K$1=\"Y\",L42>0)","v":false},{"$f":"COUNTIF(Table1016171819[[#This Row],[Competed 1]:[Competed 5]],\"=TRUE\")","v":0}]
[null,"-","-",{"$f":"IF(C43=\"-\",0,C43)","v":0},"-",{"$f":"IF(E43=\"-\",0,E43)","v":0},"-",{"$f":"IF(G43=\"-\",0,G43)","v":0},"-",{"$f":"IF(I43=\"-\",0,I43)","v":0},"-",{"$f":"IF(K43=\"-\",0,K43)","v":0},{"$f":"Table1016171819[[#This Row],[School]]","v":"-"},{"$f":"D43+F43+H43+J43+L43","v":0},{"$f":"MAX(C43,E43,G43,I43,K43)","v":0},{"$f":"IF(Q43=1,N43,IF(Q43=0,(N43-O43),\"-\"))","v":"-"},{"$f":"$L$1-Table1016171819[Competed Count]","v":4},{"$f":"IF(Q43<2,\"Yes\",\"No\")","v":"No"},{"$f":"AND($C$1=\"Y\",D43>0)","v":false},{"$f":"AND($E$1=\"Y\",F43>0)","v":false},{"$f":"AND($G$1=\"Y\",H43>0)","v":false},{"$f":"AND($I$1=\"Y\",J43>0)","v":false},{"$f":"AND($K$1=\"Y\",L43>0)","v":false},{"$f":"COUNTIF(Table1016171819[[#This Row],[Competed 1]:[Competed 5]],\"=TRUE\")","v":0}]
[null,"-","-",{"$f":"IF(C44=\"-\",0,C44)","v":0},"-",{"$f":"IF(E44=\"-\",0,E44)","v":0},"-",{"$f":"IF(G44=\"-\",0,G44)","v":0},"-",{"$f":"IF(I44=\"-\",0,I44)","v":0},"-",{"$f":"IF(K44=\"-\",0,K44)","v":0},{"$f":"Table1016171819[[#This Row],[School]]","v":"-"},{"$f":"D44+F44+H44+J44+L44","v":0},{"$f":"MAX(C44,E44,G44,I44,K44)","v":0},{"$f":"IF(Q44=1,N44,IF(Q44=0,(N44-O44),\"-\"))","v":"-"},{"$f":"$L$1-Table1016171819[Competed Count]","v":4},{"$f":"IF(Q44<2,\"Yes\",\"No\")","v":"No"},{"$f":"AND($C$1=\"Y\",D44>0)","v":false},{"$f":"AND($E$1=\"Y\",F44>0)","v":false},{"$f":"AND($G$1=\"Y\",H44>0)","v":false},{"$f":"AND($I$1=\"Y\",J44>0)","v":false},{"$f":"AND($K$1=\"Y\",L44>0)","v":false},{"$f":"COUNTIF(Table1016171819[[#This Row],[Competed 1]:[Competed 5]],\"=TRUE\")","v":0}]
[null,"-","-",{"$f":"IF(C45=\"-\",0,C45)","v":0},"-",{"$f":"IF(E45=\"-\",0,E45)","v":0},"-",{"$f":"IF(G45=\"-\",0,G45)","v":0},"-",{"$f":"IF(I45=\"-\",0,I45)","v":0},"-",{"$f":"IF(K45=\"-\",0,K45)","v":0},{"$f":"Table1016171819[[#This Row],[School]]","v":"-"},{"$f":"D45+F45+H45+J45+L45","v":0},{"$f":"MAX(C45,E45,G45,I45,K45)","v":0},{"$f":"IF(Q45=1,N45,IF(Q45=0,(N45-O45),\"-\"))","v":"-"},{"$f":"$L$1-Table1016171819[Competed Count]","v":4},{"$f":"IF(Q45<2,\"Yes\",\"No\")","v":"No"},{"$f":"AND($C$1=\"Y\",D45>0)","v":false},{"$f":"AND($E$1=\"Y\",F45>0)","v":false},{"$f":"AND($G$1=\"Y\",H45>0)","v":false},{"$f":"AND($I$1=\"Y\",J45>0)","v":false},{"$f":"AND($K$1=\"Y\",L45>0)","v":false},{"$f":"COUNTIF(Table1016171819[[#This Row],[Competed 1]:[Competed 5]],\"=TRUE\")","v":0}]
[null,"-","-",{"$f":"IF(C46=\"-\",0,C46)","v":0},"-",{"$f":"IF(E46=\"-\",0,E46)","v":0},"-",{"$f":"IF(G46=\"-\",0,G46)","v":0},"-",{"$f":"IF(I46=\"-\",0,I46)","v":0},"-",{"$f":"IF(K46=\"-\",0,K46)","v":0},{"$f":"Table1016171819[[#This Row],[School]]","v":"-"},{"$f":"D46+F46+H46+J46+L46","v":0},{"$f":"MAX(C46,E46,G46,I46,K46)","v":0},{"$f":"IF(Q46=1,N46,IF(Q46=0,(N46-O46),\"-\"))","v":"-"},{"$f":"$L$1-Table1016171819[Competed Count]","v":4},{"$f":"IF(Q46<2,\"Yes\",\"No\")","v":"No"},{"$f":"AND($C$1=\"Y\",D46>0)","v":false},{"$f":"AND($E$1=\"Y\",F46>0)","v":false},{"$f":"AND($G$1=\"Y\",H46>0)","v":false},{"$f":"AND($I$1=\"Y\",J46>0)","v":false},{"$f":"AND($K$1=\"Y\",L46>0)","v":false},{"$f":"COUNTIF(Table1016171819[[#This Row],[Competed 1]:[Competed 5]],\"=TRUE\")","v":0}]
[null,"-","-",{"$f":"IF(C47=\"-\",0,C47)","v":0},"-",{"$f":"IF(E47=\"-\",0,E47)","v":0},"-",{"$f":"IF(G47=\"-\",0,G47)","v":0},"-",{"$f":"IF(I47=\"-\",0,I47)","v":0},"-",{"$f":"IF(K47=\"-\",0,K47)","v":0},{"$f":"Table1016171819[[#This Row],[School]]","v":"-"},{"$f":"D47+F47+H47+J47+L47","v":0},{"$f":"MAX(C47,E47,G47,I47,K47)","v":0},{"$f":"IF(Q47=1,N47,IF(Q47=0,(N47-O47),\"-\"))","v":"-"},{"$f":"$L$1-Table1016171819[Competed Count]","v":4},{"$f":"IF(Q47<2,\"Yes\",\"No\")","v":"No"},{"$f":"AND($C$1=\"Y\",D47>0)","v":false},{"$f":"AND($E$1=\"Y\",F47>0)","v":false},{"$f":"AND($G$1=\"Y\",H47>0)","v":false},{"$f":"AND($I$1=\"Y\",J47>0)","v":false},{"$f":"AND($K$1=\"Y\",L47>0)","v":false},{"$f":"COUNTIF(Table1016171819[[#This Row],[Competed 1]:[Competed 5]],\"=TRUE\")","v":0}]
[null,"-","-",{"$f":"IF(C48=\"-\",0,C48)","v":0},"-",{"$f":"IF(E48=\"-\",0,E48)","v":0},"-",{"$f":"IF(G48=\"-\",0,G48)","v":0},"-",{"$f":"IF(I48=\"-\",0,I48)","v":0},"-",{"$f":"IF(K48=\"-\",0,K48)","v":0},{"$f":"Table1016171819[[#This Row],[School]]","v":"-"},{"$f":"D48+F48+H48+J48+L48","v":0},{"$f":"MAX(C48,E48,G48,I48,K48)","v":0},{"$f":"IF(Q48=1,N48,IF(Q48=0,(N48-O48),\"-\"))","v":"-"},{"$f":"$L$1-Table1016171819[Competed Count]","v":4},{"$f":"IF(Q48<2,\"Yes\",\"No\")","v":"No"},{"$f":"AND($C$1=\"Y\",D48>0)","v":false},{"$f":"AND($E$1=\"Y\",F48>0)","v":false},{"$f":"AND($G$1=\"Y\",H48>0)","v":false},{"$f":"AND($I$1=\"Y\",J48>0)","v":false},{"$f":"AND($K$1=\"Y\",L48>0)","v":false},{"$f":"COUNTIF(Table1016171819[[#This Row],[Competed 1]:[Competed 5]],\"=TRUE\")","v":0}]
[null,"-","-",{"$f":"IF(C49=\"-\",0,C49)","v":0},"-",{"$f":"IF(E49=\"-\",0,E49)","v":0},"-",{"$f":"IF(G49=\"-\",0,G49)","v":0},"-",{"$f":"IF(I49=\"-\",0,I49)","v":0},"-",{"$f":"IF(K49=\"-\",0,K49)","v":0},{"$f":"Table1016171819[[#This Row],[School]]","v":"-"},{"$f":"D49+F49+H49+J49+L49","v":0},{"$f":"MAX(C49,E49,G49,I49,K49)","v":0},{"$f":"IF(Q49=1,N49,IF(Q49=0,(N49-O49),\"-\"))","v":"-"},{"$f":"$L$1-Table1016171819[Competed Count]","v":4},{"$f":"IF(Q49<2,\"Yes\",\"No\")","v":"No"},{"$f":"AND($C$1=\"Y\",D49>0)","v":false},{"$f":"AND($E$1=\"Y\",F49>0)","v":false},{"$f":"AND($G$1=\"Y\",H49>0)","v":false},{"$f":"AND($I$1=\"Y\",J49>0)","v":false},{"$f":"AND($K$1=\"Y\",L49>0)","v":false},{"$f":"COUNTIF(Table1016171819[[#This Row],[Competed 1]:[Competed 5]],\"=TRUE\")","v":0}]
[null,"-","-",{"$f":"IF(C50=\"-\",0,C50)","v":0},"-",{"$f":"IF(E50=\"-\",0,E50)","v":0},"-",{"$f":"IF(G50=\"-\",0,G50)","v":0},"-",{"$f":"IF(I50=\"-\",0,I50)","v":0},"-",{"$f":"IF(K50=\"-\",0,K50)","v":0},{"$f":"Table1016171819[[#This Row],[School]]","v":"-"},{"$f":"D50+F50+H50+J50+L50","v":0},{"$f":"MAX(C50,E50,G50,I50,K50)","v":0},{"$f":"IF(Q50=1,N50,IF(Q50=0,(N50-O50),\"-\"))","v":"-"},{"$f":"$L$1-Table1016171819[Competed Count]","v":4},{"$f":"IF(Q50<2,\"Yes\",\"No\")","v":"No"},{"$f":"AND($C$1=\"Y\",D50>0)","v":false},{"$f":"AND($E$1=\"Y\",F50>0)","v":false},{"$f":"AND($G$1=\"Y\",H50>0)","v":false},{"$f":"AND($I$1=\"Y\",J50>0)","v":false},{"$f":"AND($K$1=\"Y\",L50>0)","v":false},{"$f":"COUNTIF(Table1016171819[[#This Row],[Competed 1]:[Competed 5]],\"=TRUE\")","v":0}]
[null,"-","-",{"$f":"IF(C51=\"-\",0,C51)","v":0},"-",{"$f":"IF(E51=\"-\",0,E51)","v":0},"-",{"$f":"IF(G51=\"-\",0,G51)","v":0},"-",{"$f":"IF(I51=\"-\",0,I51)","v":0},"-",{"$f":"IF(K51=\"-\",0,K51)","v":0},{"$f":"Table1016171819[[#This Row],[School]]","v":"-"},{"$f":"D51+F51+H51+J51+L51","v":0},{"$f":"MAX(C51,E51,G51,I51,K51)","v":0},{"$f":"IF(Q51=1,N51,IF(Q51=0,(N51-O51),\"-\"))","v":"-"},{"$f":"$L$1-Table1016171819[Competed Count]","v":4},{"$f":"IF(Q51<2,\"Yes\",\"No\")","v":"No"},{"$f":"AND($C$1=\"Y\",D51>0)","v":false},{"$f":"AND($E$1=\"Y\",F51>0)","v":false},{"$f":"AND($G$1=\"Y\",H51>0)","v":false},{"$f":"AND($I$1=\"Y\",J51>0)","v":false},{"$f":"AND($K$1=\"Y\",L51>0)","v":false},{"$f":"COUNTIF(Table1016171819[[#This Row],[Competed 1]:[Competed 5]],\"=TRUE\")","v":0}]
[null,"-","-",{"$f":"IF(C52=\"-\",0,C52)","v":0},"-",{"$f":"IF(E52=\"-\",0,E52)","v":0},"-",{"$f":"IF(G52=\"-\",0,G52)","v":0},"-",{"$f":"IF(I52=\"-\",0,I52)","v":0},"-",{"$f":"IF(K52=\"-\",0,K52)","v":0},{"$f":"Table1016171819[[#This Row],[School]]","v":"-"},{"$f":"D52+F52+H52+J52+L52","v":0},{"$f":"MAX(C52,E52,G52,I52,K52)","v":0},{"$f":"IF(Q52=1,N52,IF(Q52=0,(N52-O52),\"-\"))","v":"-"},{"$f":"$L$1-Table1016171819[Competed Count]","v":4},{"$f":"IF(Q52<2,\"Yes\",\"No\")","v":"No"},{"$f":"AND($C$1=\"Y\",D52>0)","v":false},{"$f":"AND($E$1=\"Y\",F52>0)","v":false},{"$f":"AND($G$1=\"Y\",H52>0)","v":false},{"$f":"AND($I$1=\"Y\",J52>0)","v":false},{"$f":"AND($K$1=\"Y\",L52>0)","v":false},{"$f":"COUNTIF(Table1016171819[[#This Row],[Competed 1]:[Competed 5]],\"=TRUE\")","v":0}]
[null,"-","-",{"$f":"IF(C53=\"-\",0,C53)","v":0},"-",{"$f":"IF(E53=\"-\",0,E53)","v":0},"-",{"$f":"IF(G53=\"-\",0,G53)","v":0},"-",{"$f":"IF(I53=\"-\",0,I53)","v":0},"-",{"$f":"IF(K53=\"-\",0,K53)","v":0},{"$f":"Table1016171819[[#This Row],[School]]","v":"-"},{"$f":"D53+F53+H53+J53+L53","v":0},{"$f":"MAX(C53,E53,G53,I53,K53)","v":0},{"$f":"IF(Q53=1,N53,IF(Q53=0,(N53-O53),\"-\"))","v":"-"},{"$f":"$L$1-Table1016171819[Competed Count]","v":4},{"$f":"IF(Q53<2,\"Yes\",\"No\")","v":"No"},{"$f":"AND($C$1=\"Y\",D53>0)","v":false},{"$f":"AND($E$1=\"Y\",F53>0)","v":false},{"$f":"AND($G$1=\"Y\",H53>0)","v":false},{"$f":"AND($I$1=\"Y\",J53>0)","v":false},{"$f":"AND($K$1=\"Y\",L53>0)","v":false},{"$f":"COUNTIF(Table1016171819[[#This Row],[Competed 1]:[Competed 5]],\"=TRUE\")","v":0}]
[null,"-","-",{"$f":"IF(C54=\"-\",0,C54)","v":0},"-",{"$f":"IF(E54=\"-\",0,E54)","v":0},"-",{"$f":"IF(G54=\"-\",0,G54)","v":0},"-",{"$f":"IF(I54=\"-\",0,I54)","v":0},"-",{"$f":"IF(K54=\"-\",0,K54)","v":0},{"$f":"Table1016171819[[#This Row],[School]]","v":"-"},{"$f":"D54+F54+H54+J54+L54","v":0},{"$f":"MAX(C54,E54,G54,I54,K54)","v":0},{"$f":"IF(Q54=1,N54,IF(Q54=0,(N54-O54),\"-\"))","v":"-"},{"$f":"$L$1-Table1016171819[Competed Count]","v":4},{"$f":"IF(Q54<2,\"Yes\",\"No\")","v":"No"},{"$f":"AND($C$1=\"Y\",D54>0)","v":false},{"$f":"AND($E$1=\"Y\",F54>0)","v":false},{"$f":"AND($G$1=\"Y\",H54>0)","v":false},{"$f":"AND($I$1=\"Y\",J54>0)","v":false},{"$f":"AND($K$1=\"Y\",L54>0)","v":false},{"$f":"COUNTIF(Table1016171819[[#This Row],[Competed 1]:[Competed 5]],\"=TRUE\")","v":0}]
[null,"-","-",{"$f":"IF(C55=\"-\",0,C55)","v":0},"-",{"$f":"IF(E55=\"-\",0,E55)","v":0},"-",{"$f":"IF(G55=\"-\",0,G55)","v":0},"-",{"$f":"IF(I55=\"-\",0,I55)","v":0},"-",{"$f":"IF(K55=\"-\",0,K55)","v":0},{"$f":"Table1016171819[[#This Row],[School]]","v":"-"},{"$f":"D55+F55+H55+J55+L55","v":0},{"$f":"MAX(C55,E55,G55,I55,K55)","v":0},{"$f":"IF(Q55=1,N55,IF(Q55=0,(N55-O55),\"-\"))","v":"-"},{"$f":"$L$1-Table1016171819[Competed Count]","v":4},{"$f":"IF(Q55<2,\"Yes\",\"No\")","v":"No"},{"$f":"AND($C$1=\"Y\",D55>0)","v":false},{"$f":"AND($E$1=\"Y\",F55>0)","v":false},{"$f":"AND($G$1=\"Y\",H55>0)","v":false},{"$f":"AND($I$1=\"Y\",J55>0)","v":false},{"$f":"AND($K$1=\"Y\",L55>0)","v":false},{"$f":"COUNTIF(Table1016171819[[#This Row],[Competed 1]:[Competed 5]],\"=TRUE\")","v":0}]
[null,"-","-",{"$f":"IF(C56=\"-\",0,C56)","v":0},"-",{"$f":"IF(E56=\"-\",0,E56)","v":0},"-",{"$f":"IF(G56=\"-\",0,G56)","v":0},"-",{"$f":"IF(I56=\"-\",0,I56)","v":0},"-",{"$f":"IF(K56=\"-\",0,K56)","v":0},{"$f":"Table1016171819[[#This Row],[School]]","v":"-"},{"$f":"D56+F56+H56+J56+L56","v":0},{"$f":"MAX(C56,E56,G56,I56,K56)","v":0},{"$f":"IF(Q56=1,N56,IF(Q56=0,(N56-O56),\"-\"))","v":"-"},{"$f":"$L$1-Table1016171819[Competed Count]","v":4},{"$f":"IF(Q56<2,\"Yes\",\"No\")","v":"No"},{"$f":"AND($C$1=\"Y\",D56>0)","v":false},{"$f":"AND($E$1=\"Y\",F56>0)","v":false},{"$f":"AND($G$1=\"Y\",H56>0)","v":false},{"$f":"AND($I$1=\"Y\",J56>0)","v":false},{"$f":"AND($K$1=\"Y\",L56>0)","v":false},{"$f":"COUNTIF(Table1016171819[[#This Row],[Competed 1]:[Competed 5]],\"=TRUE\")","v":0}]
[null,"-","-",{"$f":"IF(C57=\"-\",0,C57)","v":0},"-",{"$f":"IF(E57=\"-\",0,E57)","v":0},"-",{"$f":"IF(G57=\"-\",0,G57)","v":0},"-",{"$f":"IF(I57=\"-\",0,I57)","v":0},"-",{"$f":"IF(K57=\"-\",0,K57)","v":0},{"$f":"Table1016171819[[#This Row],[School]]","v":"-"},{"$f":"D57+F57+H57+J57+L57","v":0},{"$f":"MAX(C57,E57,G57,I57,K57)","v":0},{"$f":"IF(Q57=1,N57,IF(Q57=0,(N57-O57),\"-\"))","v":"-"},{"$f":"$L$1-Table1016171819[Competed Count]","v":4},{"$f":"IF(Q57<2,\"Yes\",\"No\")","v":"No"},{"$f":"AND($C$1=\"Y\",D57>0)","v":false},{"$f":"AND($E$1=\"Y\",F57>0)","v":false},{"$f":"AND($G$1=\"Y\",H57>0)","v":false},{"$f":"AND($I$1=\"Y\",J57>0)","v":false},{"$f":"AND($K$1=\"Y\",L57>0)","v":false},{"$f":"COUNTIF(Table1016171819[[#This Row],[Competed 1]:[Competed 5]],\"=TRUE\")","v":0}]
[null,"-","-",{"$f":"IF(C58=\"-\",0,C58)","v":0},"-",{"$f":"IF(E58=\"-\",0,E58)","v":0},"-",{"$f":"IF(G58=\"-\",0,G58)","v":0},"-",{"$f":"IF(I58=\"-\",0,I58)","v":0},"-",{"$f":"IF(K58=\"-\",0,K58)","v":0},{"$f":"Table1016171819[[#This Row],[School]]","v":"-"},{"$f":"D58+F58+H58+J58+L58","v":0},{"$f":"MAX(C58,E58,G58,I58,K58)","v":0},{"$f":"IF(Q58=1,N58,IF(Q58=0,(N58-O58),\"-\"))","v":"-"},{"$f":"$L$1-Table1016171819[Competed Count]","v":4},{"$f":"IF(Q58<2,\"Yes\",\"No\")","v":"No"},{"$f":"AND($C$1=\"Y\",D58>0)","v":false},{"$f":"AND($E$1=\"Y\",F58>0)","v":false},{"$f":"AND($G$1=\"Y\",H58>0)","v":false},{"$f":"AND($I$1=\"Y\",J58>0)","v":false},{"$f":"AND($K$1=\"Y\",L58>0)","v":false},{"$f":"COUNTIF(Table1016171819[[#This Row],[Competed 1]:[Competed 5]],\"=TRUE\")","v":0}]
[null,"-","-",{"$f":"IF(C59=\"-\",0,C59)","v":0},"-",{"$f":"IF(E59=\"-\",0,E59)","v":0},"-",{"$f":"IF(G59=\"-\",0,G59)","v":0},"-",{"$f":"IF(I59=\"-\",0,I59)","v":0},"-",{"$f":"IF(K59=\"-\",0,K59)","v":0},{"$f":"Table1016171819[[#This Row],[School]]","v":"-"},{"$f":"D59+F59+H59+J59+L59","v":0},{"$f":"MAX(C59,E59,G59,I59,K59)","v":0},{"$f":"IF(Q59=1,N59,IF(Q59=0,(N59-O59),\"-\"))","v":"-"},{"$f":"$L$1-Table1016171819[Competed Count]","v":4},{"$f":"IF(Q59<2,\"Yes\",\"No\")","v":"No"},{"$f":"AND($C$1=\"Y\",D59>0)","v":false},{"$f":"AND($E$1=\"Y\",F59>0)","v":false},{"$f":"AND($G$1=\"Y\",H59>0)","v":false},{"$f":"AND($I$1=\"Y\",J59>0)","v":false},{"$f":"AND($K$1=\"Y\",L59>0)","v":false},{"$f":"COUNTIF(Table1016171819[[#This Row],[Competed 1]:[Competed 5]],\"=TRUE\")","v":0}]
[null,"-","-",{"$f":"IF(C60=\"-\",0,C60)","v":0},"-",{"$f":"IF(E60=\"-\",0,E60)","v":0},"-",{"$f":"IF(G60=\"-\",0,G60)","v":0},"-",{"$f":"IF(I60=\"-\",0,I60)","v":0},"-",{"$f":"IF(K60=\"-\",0,K60)","v":0},{"$f":"Table1016171819[[#This Row],[School]]","v":"-"},{"$f":"D60+F60+H60+J60+L60","v":0},{"$f":"MAX(C60,E60,G60,I60,K60)","v":0},{"$f":"IF(Q60=1,N60,IF(Q60=0,(N60-O60),\"-\"))","v":"-"},{"$f":"$L$1-Table1016171819[Competed Count]","v":4},{"$f":"IF(Q60<2,\"Yes\",\"No\")","v":"No"},{"$f":"AND($C$1=\"Y\",D60>0)","v":false},{"$f":"AND($E$1=\"Y\",F60>0)","v":false},{"$f":"AND($G$1=\"Y\",H60>0)","v":false},{"$f":"AND($I$1=\"Y\",J60>0)","v":false},{"$f":"AND($K$1=\"Y\",L60>0)","v":false},{"$f":"COUNTIF(Table1016171819[[#This Row],[Competed 1]:[Competed 5]],\"=TRUE\")","v":0}]
[null,"-","-",{"$f":"IF(C61=\"-\",0,C61)","v":0},"-",{"$f":"IF(E61=\"-\",0,E61)","v":0},"-",{"$f":"IF(G61=\"-\",0,G61)","v":0},"-",{"$f":"IF(I61=\"-\",0,I61)","v":0},"-",{"$f":"IF(K61=\"-\",0,K61)","v":0},{"$f":"Table1016171819[[#This Row],[School]]","v":"-"},{"$f":"D61+F61+H61+J61+L61","v":0},{"$f":"MAX(C61,E61,G61,I61,K61)","v":0},{"$f":"IF(Q61=1,N61,IF(Q61=0,(N61-O61),\"-\"))","v":"-"},{"$f":"$L$1-Table1016171819[Competed Count]","v":4},{"$f":"IF(Q61<2,\"Yes\",\"No\")","v":"No"},{"$f":"AND($C$1=\"Y\",D61>0)","v":false},{"$f":"AND($E$1=\"Y\",F61>0)","v":false},{"$f":"AND($G$1=\"Y\",H61>0)","v":false},{"$f":"AND($I$1=\"Y\",J61>0)","v":false},{"$f":"AND($K$1=\"Y\",L61>0)","v":false},{"$f":"COUNTIF(Table1016171819[[#This Row],[Competed 1]:[Competed 5]],\"=TRUE\")","v":0}]
[null,"-","-",{"$f":"IF(C62=\"-\",0,C62)","v":0},"-",{"$f":"IF(E62=\"-\",0,E62)","v":0},"-",{"$f":"IF(G62=\"-\",0,G62)","v":0},"-",{"$f":"IF(I62=\"-\",0,I62)","v":0},"-",{"$f":"IF(K62=\"-\",0,K62)","v":0},{"$f":"Table1016171819[[#This Row],[School]]","v":"-"},{"$f":"D62+F62+H62+J62+L62","v":0},{"$f":"MAX(C62,E62,G62,I62,K62)","v":0},{"$f":"IF(Q62=1,N62,IF(Q62=0,(N62-O62),\"-\"))","v":"-"},{"$f":"$L$1-Table1016171819[Competed Count]","v":4},{"$f":"IF(Q62<2,\"Yes\",\"No\")","v":"No"},{"$f":"AND($C$1=\"Y\",D62>0)","v":false},{"$f":"AND($E$1=\"Y\",F62>0)","v":false},{"$f":"AND($G$1=\"Y\",H62>0)","v":false},{"$f":"AND($I$1=\"Y\",J62>0)","v":false},{"$f":"AND($K$1=\"Y\",L62>0)","v":false},{"$f":"COUNTIF(Table1016171819[[#This Row],[Competed 1]:[Competed 5]],\"=TRUE\")","v":0}]
[null,"-","-",{"$f":"IF(C63=\"-\",0,C63)","v":0},"-",{"$f":"IF(E63=\"-\",0,E63)","v":0},"-",{"$f":"IF(G63=\"-\",0,G63)","v":0},"-",{"$f":"IF(I63=\"-\",0,I63)","v":0},"-",{"$f":"IF(K63=\"-\",0,K63)","v":0},{"$f":"Table1016171819[[#This Row],[School]]","v":"-"},{"$f":"D63+F63+H63+J63+L63","v":0},{"$f":"MAX(C63,E63,G63,I63,K63)","v":0},{"$f":"IF(Q63=1,N63,IF(Q63=0,(N63-O63),\"-\"))","v":"-"},{"$f":"$L$1-Table1016171819[Competed Count]","v":4},{"$f":"IF(Q63<2,\"Yes\",\"No\")","v":"No"},{"$f":"AND($C$1=\"Y\",D63>0)","v":false},{"$f":"AND($E$1=\"Y\",F63>0)","v":false},{"$f":"AND($G$1=\"Y\",H63>0)","v":false},{"$f":"AND($I$1=\"Y\",J63>0)","v":false},{"$f":"AND($K$1=\"Y\",L63>0)","v":false},{"$f":"COUNTIF(Table1016171819[[#This Row],[Competed 1]:[Competed 5]],\"=TRUE\")","v":0}]
[null,"-","-",{"$f":"IF(C64=\"-\",0,C64)","v":0},"-",{"$f":"IF(E64=\"-\",0,E64)","v":0},"-",{"$f":"IF(G64=\"-\",0,G64)","v":0},"-",{"$f":"IF(I64=\"-\",0,I64)","v":0},"-",{"$f":"IF(K64=\"-\",0,K64)","v":0},{"$f":"Table1016171819[[#This Row],[School]]","v":"-"},{"$f":"D64+F64+H64+J64+L64","v":0},{"$f":"MAX(C64,E64,G64,I64,K64)","v":0},{"$f":"IF(Q64=1,N64,IF(Q64=0,(N64-O64),\"-\"))","v":"-"},{"$f":"$L$1-Table1016171819[Competed Count]","v":4},{"$f":"IF(Q64<2,\"Yes\",\"No\")","v":"No"},{"$f":"AND($C$1=\"Y\",D64>0)","v":false},{"$f":"AND($E$1=\"Y\",F64>0)","v":false},{"$f":"AND($G$1=\"Y\",H64>0)","v":false},{"$f":"AND($I$1=\"Y\",J64>0)","v":false},{"$f":"AND($K$1=\"Y\",L64>0)","v":false},{"$f":"COUNTIF(Table1016171819[[#This Row],[Competed 1]:[Competed 5]],\"=TRUE\")","v":0}]
[null,"-","-",{"$f":"IF(C65=\"-\",0,C65)","v":0},"-",{"$f":"IF(E65=\"-\",0,E65)","v":0},"-",{"$f":"IF(G65=\"-\",0,G65)","v":0},"-",{"$f":"IF(I65=\"-\",0,I65)","v":0},"-",{"$f":"IF(K65=\"-\",0,K65)","v":0},{"$f":"Table1016171819[[#This Row],[School]]","v":"-"},{"$f":"D65+F65+H65+J65+L65","v":0},{"$f":"MAX(C65,E65,G65,I65,K65)","v":0},{"$f":"IF(Q65=1,N65,IF(Q65=0,(N65-O65),\"-\"))","v":"-"},{"$f":"$L$1-Table1016171819[Competed Count]","v":4},{"$f":"IF(Q65<2,\"Yes\",\"No\")","v":"No"},{"$f":"AND($C$1=\"Y\",D65>0)","v":false},{"$f":"AND($E$1=\"Y\",F65>0)","v":false},{"$f":"AND($G$1=\"Y\",H65>0)","v":false},{"$f":"AND($I$1=\"Y\",J65>0)","v":false},{"$f":"AND($K$1=\"Y\",L65>0)","v":false},{"$f":"COUNTIF(Table1016171819[[#This Row],[Competed 1]:[Competed 5]],\"=TRUE\")","v":0}]
[null,"-","-",{"$f":"IF(C66=\"-\",0,C66)","v":0},"-",{"$f":"IF(E66=\"-\",0,E66)","v":0},"-",{"$f":"IF(G66=\"-\",0,G66)","v":0},"-",{"$f":"IF(I66=\"-\",0,I66)","v":0},"-",{"$f":"IF(K66=\"-\",0,K66)","v":0},{"$f":"Table1016171819[[#This Row],[School]]","v":"-"},{"$f":"D66+F66+H66+J66+L66","v":0},{"$f":"MAX(C66,E66,G66,I66,K66)","v":0},{"$f":"IF(Q66=1,N66,IF(Q66=0,(N66-O66),\"-\"))","v":"-"},{"$f":"$L$1-Table1016171819[Competed Count]","v":4},{"$f":"IF(Q66<2,\"Yes\",\"No\")","v":"No"},{"$f":"AND($C$1=\"Y\",D66>0)","v":false},{"$f":"AND($E$1=\"Y\",F66>0)","v":false},{"$f":"AND($G$1=\"Y\",H66>0)","v":false},{"$f":"AND($I$1=\"Y\",J66>0)","v":false},{"$f":"AND($K$1=\"Y\",L66>0)","v":false},{"$f":"COUNTIF(Table1016171819[[#This Row],[Competed 1]:[Competed 5]],\"=TRUE\")","v":0}]
[null,"-","-",{"$f":"IF(C67=\"-\",0,C67)","v":0},"-",{"$f":"IF(E67=\"-\",0,E67)","v":0},"-",{"$f":"IF(G67=\"-\",0,G67)","v":0},"-",{"$f":"IF(I67=\"-\",0,I67)","v":0},"-",{"$f":"IF(K67=\"-\",0,K67)","v":0},{"$f":"Table1016171819[[#This Row],[School]]","v":"-"},{"$f":"D67+F67+H67+J67+L67","v":0},{"$f":"MAX(C67,E67,G67,I67,K67)","v":0},{"$f":"IF(Q67=1,N67,IF(Q67=0,(N67-O67),\"-\"))","v":"-"},{"$f":"$L$1-Table1016171819[Competed Count]","v":4},{"$f":"IF(Q67<2,\"Yes\",\"No\")","v":"No"},{"$f":"AND($C$1=\"Y\",D67>0)","v":false},{"$f":"AND($E$1=\"Y\",F67>0)","v":false},{"$f":"AND($G$1=\"Y\",H67>0)","v":false},{"$f":"AND($I$1=\"Y\",J67>0)","v":false},{"$f":"AND($K$1=\"Y\",L67>0)","v":false},{"$f":"COUNTIF(Table1016171819[[#This Row],[Competed 1]:[Competed 5]],\"=TRUE\")","v":0}]
[null,"-","-",{"$f":"IF(C68=\"-\",0,C68)","v":0},"-",{"$f":"IF(E68=\"-\",0,E68)","v":0},"-",{"$f":"IF(G68=\"-\",0,G68)","v":0},"-",{"$f":"IF(I68=\"-\",0,I68)","v":0},"-",{"$f":"IF(K68=\"-\",0,K68)","v":0},{"$f":"Table1016171819[[#This Row],[School]]","v":"-"},{"$f":"D68+F68+H68+J68+L68","v":0},{"$f":"MAX(C68,E68,G68,I68,K68)","v":0},{"$f":"IF(Q68=1,N68,IF(Q68=0,(N68-O68),\"-\"))","v":"-"},{"$f":"$L$1-Table1016171819[Competed Count]","v":4},{"$f":"IF(Q68<2,\"Yes\",\"No\")","v":"No"},{"$f":"AND($C$1=\"Y\",D68>0)","v":false},{"$f":"AND($E$1=\"Y\",F68>0)","v":false},{"$f":"AND($G$1=\"Y\",H68>0)","v":false},{"$f":"AND($I$1=\"Y\",J68>0)","v":false},{"$f":"AND($K$1=\"Y\",L68>0)","v":false},{"$f":"COUNTIF(Table1016171819[[#This Row],[Competed 1]:[Competed 5]],\"=TRUE\")","v":0}]
[null,"-","-",{"$f":"IF(C69=\"-\",0,C69)","v":0},"-",{"$f":"IF(E69=\"-\",0,E69)","v":0},"-",{"$f":"IF(G69=\"-\",0,G69)","v":0},"-",{"$f":"IF(I69=\"-\",0,I69)","v":0},"-",{"$f":"IF(K69=\"-\",0,K69)","v":0},{"$f":"Table1016171819[[#This Row],[School]]","v":"-"},{"$f":"D69+F69+H69+J69+L69","v":0},{"$f":"MAX(C69,E69,G69,I69,K69)","v":0},{"$f":"IF(Q69=1,N69,IF(Q69=0,(N69-O69),\"-\"))","v":"-"},{"$f":"$L$1-Table1016171819[Competed Count]","v":4},{"$f":"IF(Q69<2,\"Yes\",\"No\")","v":"No"},{"$f":"AND($C$1=\"Y\",D69>0)","v":false},{"$f":"AND($E$1=\"Y\",F69>0)","v":false},{"$f":"AND($G$1=\"Y\",H69>0)","v":false},{"$f":"AND($I$1=\"Y\",J69>0)","v":false},{"$f":"AND($K$1=\"Y\",L69>0)","v":false},{"$f":"COUNTIF(Table1016171819[[#This Row],[Competed 1]:[Competed 5]],\"=TRUE\")","v":0}]
[null,"-","-",{"$f":"IF(C70=\"-\",0,C70)","v":0},"-",{"$f":"IF(E70=\"-\",0,E70)","v":0},"-",{"$f":"IF(G70=\"-\",0,G70)","v":0},"-",{"$f":"IF(I70=\"-\",0,I70)","v":0},"-",{"$f":"IF(K70=\"-\",0,K70)","v":0},{"$f":"Table1016171819[[#This Row],[School]]","v":"-"},{"$f":"D70+F70+H70+J70+L70","v":0},{"$f":"MAX(C70,E70,G70,I70,K70)","v":0},{"$f":"IF(Q70=1,N70,IF(Q70=0,(N70-O70),\"-\"))","v":"-"},{"$f":"$L$1-Table1016171819[Competed Count]","v":4},{"$f":"IF(Q70<2,\"Yes\",\"No\")","v":"No"},{"$f":"AND($C$1=\"Y\",D70>0)","v":false},{"$f":"AND($E$1=\"Y\",F70>0)","v":false},{"$f":"AND($G$1=\"Y\",H70>0)","v":false},{"$f":"AND($I$1=\"Y\",J70>0)","v":false},{"$f":"AND($K$1=\"Y\",L70>0)","v":false},{"$f":"COUNTIF(Table1016171819[[#This Row],[Competed 1]:[Competed 5]],\"=TRUE\")","v":0}]
[null,"-","-",{"$f":"IF(C71=\"-\",0,C71)","v":0},"-",{"$f":"IF(E71=\"-\",0,E71)","v":0},"-",{"$f":"IF(G71=\"-\",0,G71)","v":0},"-",{"$f":"IF(I71=\"-\",0,I71)","v":0},"-",{"$f":"IF(K71=\"-\",0,K71)","v":0},{"$f":"Table1016171819[[#This Row],[School]]","v":"-"},{"$f":"D71+F71+H71+J71+L71","v":0},{"$f":"MAX(C71,E71,G71,I71,K71)","v":0},{"$f":"IF(Q71=1,N71,IF(Q71=0,(N71-O71),\"-\"))","v":"-"},{"$f":"$L$1-Table1016171819[Competed Count]","v":4},{"$f":"IF(Q71<2,\"Yes\",\"No\")","v":"No"},{"$f":"AND($C$1=\"Y\",D71>0)","v":false},{"$f":"AND($E$1=\"Y\",F71>0)","v":false},{"$f":"AND($G$1=\"Y\",H71>0)","v":false},{"$f":"AND($I$1=\"Y\",J71>0)","v":false},{"$f":"AND($K$1=\"Y\",L71>0)","v":false},{"$f":"COUNTIF(Table1016171819[[#This Row],[Competed 1]:[Competed 5]],\"=TRUE\")","v":0}]
[null,"-","-",{"$f":"IF(C72=\"-\",0,C72)","v":0},"-",{"$f":"IF(E72=\"-\",0,E72)","v":0},"-",{"$f":"IF(G72=\"-\",0,G72)","v":0},"-",{"$f":"IF(I72=\"-\",0,I72)","v":0},"-",{"$f":"IF(K72=\"-\",0,K72)","v":0},{"$f":"Table1016171819[[#This Row],[School]]","v":"-"},{"$f":"D72+F72+H72+J72+L72","v":0},{"$f":"MAX(C72,E72,G72,I72,K72)","v":0},{"$f":"IF(Q72=1,N72,IF(Q72=0,(N72-O72),\"-\"))","v":"-"},{"$f":"$L$1-Table1016171819[Competed Count]","v":4},{"$f":"IF(Q72<2,\"Yes\",\"No\")","v":"No"},{"$f":"AND($C$1=\"Y\",D72>0)","v":false},{"$f":"AND($E$1=\"Y\",F72>0)","v":false},{"$f":"AND($G$1=\"Y\",H72>0)","v":false},{"$f":"AND($I$1=\"Y\",J72>0)","v":false},{"$f":"AND($K$1=\"Y\",L72>0)","v":false},{"$f":"COUNTIF(Table1016171819[[#This Row],[Competed 1]:[Competed 5]],\"=TRUE\")","v":0}]
[null,"-","-",{"$f":"IF(C73=\"-\",0,C73)","v":0},"-",{"$f":"IF(E73=\"-\",0,E73)","v":0},"-",{"$f":"IF(G73=\"-\",0,G73)","v":0},"-",{"$f":"IF(I73=\"-\",0,I73)","v":0},"-",{"$f":"IF(K73=\"-\",0,K73)","v":0},{"$f":"Table1016171819[[#This Row],[School]]","v":"-"},{"$f":"D73+F73+H73+J73+L73","v":0},{"$f":"MAX(C73,E73,G73,I73,K73)","v":0},{"$f":"IF(Q73=1,N73,IF(Q73=0,(N73-O73),\"-\"))","v":"-"},{"$f":"$L$1-Table1016171819[Competed Count]","v":4},{"$f":"IF(Q73<2,\"Yes\",\"No\")","v":"No"},{"$f":"AND($C$1=\"Y\",D73>0)","v":false},{"$f":"AND($E$1=\"Y\",F73>0)","v":false},{"$f":"AND($G$1=\"Y\",H73>0)","v":false},{"$f":"AND($I$1=\"Y\",J73>0)","v":false},{"$f":"AND($K$1=\"Y\",L73>0)","v":false},{"$f":"COUNTIF(Table1016171819[[#This Row],[Competed 1]:[Competed 5]],\"=TRUE\")","v":0}]
[null,"-","-",{"$f":"IF(C74=\"-\",0,C74)","v":0},"-",{"$f":"IF(E74=\"-\",0,E74)","v":0},"-",{"$f":"IF(G74=\"-\",0,G74)","v":0},"-",{"$f":"IF(I74=\"-\",0,I74)","v":0},"-",{"$f":"IF(K74=\"-\",0,K74)","v":0},{"$f":"Table1016171819[[#This Row],[School]]","v":"-"},{"$f":"D74+F74+H74+J74+L74","v":0},{"$f":"MAX(C74,E74,G74,I74,K74)","v":0},{"$f":"IF(Q74=1,N74,IF(Q74=0,(N74-O74),\"-\"))","v":"-"},{"$f":"$L$1-Table1016171819[Competed Count]","v":4},{"$f":"IF(Q74<2,\"Yes\",\"No\")","v":"No"},{"$f":"AND($C$1=\"Y\",D74>0)","v":false},{"$f":"AND($E$1=\"Y\",F74>0)","v":false},{"$f":"AND($G$1=\"Y\",H74>0)","v":false},{"$f":"AND($I$1=\"Y\",J74>0)","v":false},{"$f":"AND($K$1=\"Y\",L74>0)","v":false},{"$f":"COUNTIF(Table1016171819[[#This Row],[Competed 1]:[Competed 5]],\"=TRUE\")","v":0}]
[null,"-","-",{"$f":"IF(C75=\"-\",0,C75)","v":0},"-",{"$f":"IF(E75=\"-\",0,E75)","v":0},"-",{"$f":"IF(G75=\"-\",0,G75)","v":0},"-",{"$f":"IF(I75=\"-\",0,I75)","v":0},"-",{"$f":"IF(K75=\"-\",0,K75)","v":0},{"$f":"Table1016171819[[#This Row],[School]]","v":"-"},{"$f":"D75+F75+H75+J75+L75","v":0},{"$f":"MAX(C75,E75,G75,I75,K75)","v":0},{"$f":"IF(Q75=1,N75,IF(Q75=0,(N75-O75),\"-\"))","v":"-"},{"$f":"$L$1-Table1016171819[Competed Count]","v":4},{"$f":"IF(Q75<2,\"Yes\",\"No\")","v":"No"},{"$f":"AND($C$1=\"Y\",D75>0)","v":false},{"$f":"AND($E$1=\"Y\",F75>0)","v":false},{"$f":"AND($G$1=\"Y\",H75>0)","v":false},{"$f":"AND($I$1=\"Y\",J75>0)","v":false},{"$f":"AND($K$1=\"Y\",L75>0)","v":false},{"$f":"COUNTIF(Table1016171819[[#This Row],[Competed 1]:[Competed 5]],\"=TRUE\")","v":0}]
[null,"-","-",{"$f":"IF(C76=\"-\",0,C76)","v":0},"-",{"$f":"IF(E76=\"-\",0,E76)","v":0},"-",{"$f":"IF(G76=\"-\",0,G76)","v":0},"-",{"$f":"IF(I76=\"-\",0,I76)","v":0},"-",{"$f":"IF(K76=\"-\",0,K76)","v":0},{"$f":"Table1016171819[[#This Row],[School]]","v":"-"},{"$f":"D76+F76+H76+J76+L76","v":0},{"$f":"MAX(C76,E76,G76,I76,K76)","v":0},{"$f":"IF(Q76=1,N76,IF(Q76=0,(N76-O76),\"-\"))","v":"-"},{"$f":"$L$1-Table1016171819[Competed Count]","v":4},{"$f":"IF(Q76<2,\"Yes\",\"No\")","v":"No"},{"$f":"AND($C$1=\"Y\",D76>0)","v":false},{"$f":"AND($E$1=\"Y\",F76>0)","v":false},{"$f":"AND($G$1=\"Y\",H76>0)","v":false},{"$f":"AND($I$1=\"Y\",J76>0)","v":false},{"$f":"AND($K$1=\"Y\",L76>0)","v":false},{"$f":"COUNTIF(Table1016171819[[#This Row],[Competed 1]:[Competed 5]],\"=TRUE\")","v":0}]
[null,"-","-",{"$f":"IF(C77=\"-\",0,C77)","v":0},"-",{"$f":"IF(E77=\"-\",0,E77)","v":0},"-",{"$f":"IF(G77=\"-\",0,G77)","v":0},"-",{"$f":"IF(I77=\"-\",0,I77)","v":0},"-",{"$f":"IF(K77=\"-\",0,K77)","v":0},{"$f":"Table1016171819[[#This Row],[School]]","v":"-"},{"$f":"D77+F77+H77+J77+L77","v":0},{"$f":"MAX(C77,E77,G77,I77,K77)","v":0},{"$f":"IF(Q77=1,N77,IF(Q77=0,(N77-O77),\"-\"))","v":"-"},{"$f":"$L$1-Table1016171819[Competed Count]","v":4},{"$f":"IF(Q77<2,\"Yes\",\"No\")","v":"No"},{"$f":"AND($C$1=\"Y\",D77>0)","v":false},{"$f":"AND($E$1=\"Y\",F77>0)","v":false},{"$f":"AND($G$1=\"Y\",H77>0)","v":false},{"$f":"AND($I$1=\"Y\",J77>0)","v":false},{"$f":"AND($K$1=\"Y\",L77>0)","v":false},{"$f":"COUNTIF(Table1016171819[[#This Row],[Competed 1]:[Competed 5]],\"=TRUE\")","v":0}]
[null,"-","-",{"$f":"IF(C78=\"-\",0,C78)","v":0},"-",{"$f":"IF(E78=\"-\",0,E78)","v":0},"-",{"$f":"IF(G78=\"-\",0,G78)","v":0},"-",{"$f":"IF(I78=\"-\",0,I78)","v":0},"-",{"$f":"IF(K78=\"-\",0,K78)","v":0},{"$f":"Table1016171819[[#This Row],[School]]","v":"-"},{"$f":"D78+F78+H78+J78+L78","v":0},{"$f":"MAX(C78,E78,G78,I78,K78)","v":0},{"$f":"IF(Q78=1,N78,IF(Q78=0,(N78-O78),\"-\"))","v":"-"},{"$f":"$L$1-Table1016171819[Competed Count]","v":4},{"$f":"IF(Q78<2,\"Yes\",\"No\")","v":"No"},{"$f":"AND($C$1=\"Y\",D78>0)","v":false},{"$f":"AND($E$1=\"Y\",F78>0)","v":false},{"$f":"AND($G$1=\"Y\",H78>0)","v":false},{"$f":"AND($I$1=\"Y\",J78>0)","v":false},{"$f":"AND($K$1=\"Y\",L78>0)","v":false},{"$f":"COUNTIF(Table1016171819[[#This Row],[Competed 1]:[Competed 5]],\"=TRUE\")","v":0}]
[null,"-","-",{"$f":"IF(C79=\"-\",0,C79)","v":0},"-",{"$f":"IF(E79=\"-\",0,E79)","v":0},"-",{"$f":"IF(G79=\"-\",0,G79)","v":0},"-",{"$f":"IF(I79=\"-\",0,I79)","v":0},"-",{"$f":"IF(K79=\"-\",0,K79)","v":0},{"$f":"Table1016171819[[#This Row],[School]]","v":"-"},{"$f":"D79+F79+H79+J79+L79","v":0},{"$f":"MAX(C79,E79,G79,I79,K79)","v":0},{"$f":"IF(Q79=1,N79,IF(Q79=0,(N79-O79),\"-\"))","v":"-"},{"$f":"$L$1-Table1016171819[Competed Count]","v":4},{"$f":"IF(Q79<2,\"Yes\",\"No\")","v":"No"},{"$f":"AND($C$1=\"Y\",D79>0)","v":false},{"$f":"AND($E$1=\"Y\",F79>0)","v":false},{"$f":"AND($G$1=\"Y\",H79>0)","v":false},{"$f":"AND($I$1=\"Y\",J79>0)","v":false},{"$f":"AND($K$1=\"Y\",L79>0)","v":false},{"$f":"COUNTIF(Table1016171819[[#This Row],[Competed 1]:[Competed 5]],\"=TRUE\")","v":0}]
[null,"-","-",{"$f":"IF(C80=\"-\",0,C80)","v":0},"-",{"$f":"IF(E80=\"-\",0,E80)","v":0},"-",{"$f":"IF(G80=\"-\",0,G80)","v":0},"-",{"$f":"IF(I80=\"-\",0,I80)","v":0},"-",{"$f":"IF(K80=\"-\",0,K80)","v":0},{"$f":"Table1016171819[[#This Row],[School]]","v":"-"},{"$f":"D80+F80+H80+J80+L80","v":0},{"$f":"MAX(C80,E80,G80,I80,K80)","v":0},{"$f":"IF(Q80=1,N80,IF(Q80=0,(N80-O80),\"-\"))","v":"-"},{"$f":"$L$1-Table1016171819[Competed Count]","v":4},{"$f":"IF(Q80<2,\"Yes\",\"No\")","v":"No"},{"$f":"AND($C$1=\"Y\",D80>0)","v":false},{"$f":"AND($E$1=\"Y\",F80>0)","v":false},{"$f":"AND($G$1=\"Y\",H80>0)","v":false},{"$f":"AND($I$1=\"Y\",J80>0)","v":false},{"$f":"AND($K$1=\"Y\",L80>0)","v":false},{"$f":"COUNTIF(Table1016171819[[#This Row],[Competed 1]:[Competed 5]],\"=TRUE\")","v":0}]
[null,"-","-",{"$f":"IF(C81=\"-\",0,C81)","v":0},"-",{"$f":"IF(E81=\"-\",0,E81)","v":0},"-",{"$f":"IF(G81=\"-\",0,G81)","v":0},"-",{"$f":"IF(I81=\"-\",0,I81)","v":0},"-",{"$f":"IF(K81=\"-\",0,K81)","v":0},{"$f":"Table1016171819[[#This Row],[School]]","v":"-"},{"$f":"D81+F81+H81+J81+L81","v":0},{"$f":"MAX(C81,E81,G81,I81,K81)","v":0},{"$f":"IF(Q81=1,N81,IF(Q81=0,(N81-O81),\"-\"))","v":"-"},{"$f":"$L$1-Table1016171819[Competed Count]","v":4},{"$f":"IF(Q81<2,\"Yes\",\"No\")","v":"No"},{"$f":"AND($C$1=\"Y\",D81>0)","v":false},{"$f":"AND($E$1=\"Y\",F81>0)","v":false},{"$f":"AND($G$1=\"Y\",H81>0)","v":false},{"$f":"AND($I$1=\"Y\",J81>0)","v":false},{"$f":"AND($K$1=\"Y\",L81>0)","v":false},{"$f":"COUNTIF(Table1016171819[[#This Row],[Competed 1]:[Competed 5]],\"=TRUE\")","v":0}]
[null,"-","-",{"$f":"IF(C82=\"-\",0,C82)","v":0},"-",{"$f":"IF(E82=\"-\",0,E82)","v":0},"-",{"$f":"IF(G82=\"-\",0,G82)","v":0},"-",{"$f":"IF(I82=\"-\",0,I82)","v":0},"-",{"$f":"IF(K82=\"-\",0,K82)","v":0},{"$f":"Table1016171819[[#This Row],[School]]","v":"-"},{"$f":"D82+F82+H82+J82+L82","v":0},{"$f":"MAX(C82,E82,G82,I82,K82)","v":0},{"$f":"IF(Q82=1,N82,IF(Q82=0,(N82-O82),\"-\"))","v":"-"},{"$f":"$L$1-Table1016171819[Competed Count]","v":4},{"$f":"IF(Q82<2,\"Yes\",\"No\")","v":"No"},{"$f":"AND($C$1=\"Y\",D82>0)","v":false},{"$f":"AND($E$1=\"Y\",F82>0)","v":false},{"$f":"AND($G$1=\"Y\",H82>0)","v":false},{"$f":"AND($I$1=\"Y\",J82>0)","v":false},{"$f":"AND($K$1=\"Y\",L82>0)","v":false},{"$f":"COUNTIF(Table1016171819[[#This Row],[Competed 1]:[Competed 5]],\"=TRUE\")","v":0}]
[null,"-","-",{"$f":"IF(C83=\"-\",0,C83)","v":0},"-",{"$f":"IF(E83=\"-\",0,E83)","v":0},"-",{"$f":"IF(G83=\"-\",0,G83)","v":0},"-",{"$f":"IF(I83=\"-\",0,I83)","v":0},"-",{"$f":"IF(K83=\"-\",0,K83)","v":0},{"$f":"Table1016171819[[#This Row],[School]]","v":"-"},{"$f":"D83+F83+H83+J83+L83","v":0},{"$f":"MAX(C83,E83,G83,I83,K83)","v":0},{"$f":"IF(Q83=1,N83,IF(Q83=0,(N83-O83),\"-\"))","v":"-"},{"$f":"$L$1-Table1016171819[Competed Count]","v":4},{"$f":"IF(Q83<2,\"Yes\",\"No\")","v":"No"},{"$f":"AND($C$1=\"Y\",D83>0)","v":false},{"$f":"AND($E$1=\"Y\",F83>0)","v":false},{"$f":"AND($G$1=\"Y\",H83>0)","v":false},{"$f":"AND($I$1=\"Y\",J83>0)","v":false},{"$f":"AND($K$1=\"Y\",L83>0)","v":false},{"$f":"COUNTIF(Table1016171819[[#This Row],[Competed 1]:[Competed 5]],\"=TRUE\")","v":0}]
[null,"-","-",{"$f":"IF(C84=\"-\",0,C84)","v":0},"-",{"$f":"IF(E84=\"-\",0,E84)","v":0},"-",{"$f":"IF(G84=\"-\",0,G84)","v":0},"-",{"$f":"IF(I84=\"-\",0,I84)","v":0},"-",{"$f":"IF(K84=\"-\",0,K84)","v":0},{"$f":"Table1016171819[[#This Row],[School]]","v":"-"},{"$f":"D84+F84+H84+J84+L84","v":0},{"$f":"MAX(C84,E84,G84,I84,K84)","v":0},{"$f":"IF(Q84=1,N84,IF(Q84=0,(N84-O84),\"-\"))","v":"-"},{"$f":"$L$1-Table1016171819[Competed Count]","v":4},{"$f":"IF(Q84<2,\"Yes\",\"No\")","v":"No"},{"$f":"AND($C$1=\"Y\",D84>0)","v":false},{"$f":"AND($E$1=\"Y\",F84>0)","v":false},{"$f":"AND($G$1=\"Y\",H84>0)","v":false},{"$f":"AND($I$1=\"Y\",J84>0)","v":false},{"$f":"AND($K$1=\"Y\",L84>0)","v":false},{"$f":"COUNTIF(Table1016171819[[#This Row],[Competed 1]:[Competed 5]],\"=TRUE\")","v":0}]
[null,"-","-",{"$f":"IF(C85=\"-\",0,C85)","v":0},"-",{"$f":"IF(E85=\"-\",0,E85)","v":0},"-",{"$f":"IF(G85=\"-\",0,G85)","v":0},"-",{"$f":"IF(I85=\"-\",0,I85)","v":0},"-",{"$f":"IF(K85=\"-\",0,K85)","v":0},{"$f":"Table1016171819[[#This Row],[School]]","v":"-"},{"$f":"D85+F85+H85+J85+L85","v":0},{"$f":"MAX(C85,E85,G85,I85,K85)","v":0},{"$f":"IF(Q85=1,N85,IF(Q85=0,(N85-O85),\"-\"))","v":"-"},{"$f":"$L$1-Table1016171819[Competed Count]","v":4},{"$f":"IF(Q85<2,\"Yes\",\"No\")","v":"No"},{"$f":"AND($C$1=\"Y\",D85>0)","v":false},{"$f":"AND($E$1=\"Y\",F85>0)","v":false},{"$f":"AND($G$1=\"Y\",H85>0)","v":false},{"$f":"AND($I$1=\"Y\",J85>0)","v":false},{"$f":"AND($K$1=\"Y\",L85>0)","v":false},{"$f":"COUNTIF(Table1016171819[[#This Row],[Competed 1]:[Competed 5]],\"=TRUE\")","v":0}]
[null,"-","-",{"$f":"IF(C86=\"-\",0,C86)","v":0},"-",{"$f":"IF(E86=\"-\",0,E86)","v":0},"-",{"$f":"IF(G86=\"-\",0,G86)","v":0},"-",{"$f":"IF(I86=\"-\",0,I86)","v":0},"-",{"$f":"IF(K86=\"-\",0,K86)","v":0},{"$f":"Table1016171819[[#This Row],[School]]","v":"-"},{"$f":"D86+F86+H86+J86+L86","v":0},{"$f":"MAX(C86,E86,G86,I86,K86)","v":0},{"$f":"IF(Q86=1,N86,IF(Q86=0,(N86-O86),\"-\"))","v":"-"},{"$f":"$L$1-Table1016171819[Competed Count]","v":4},{"$f":"IF(Q86<2,\"Yes\",\"No\")","v":"No"},{"$f":"AND($C$1=\"Y\",D86>0)","v":false},{"$f":"AND($E$1=\"Y\",F86>0)","v":false},{"$f":"AND($G$1=\"Y\",H86>0)","v":false},{"$f":"AND($I$1=\"Y\",J86>0)","v":false},{"$f":"AND($K$1=\"Y\",L86>0)","v":false},{"$f":"COUNTIF(Table1016171819[[#This Row],[Competed 1]:[Competed 5]],\"=TRUE\")","v":0}]
[null,"-","-",{"$f":"IF(C87=\"-\",0,C87)","v":0},"-",{"$f":"IF(E87=\"-\",0,E87)","v":0},"-",{"$f":"IF(G87=\"-\",0,G87)","v":0},"-",{"$f":"IF(I87=\"-\",0,I87)","v":0},"-",{"$f":"IF(K87=\"-\",0,K87)","v":0},{"$f":"Table1016171819[[#This Row],[School]]","v":"-"},{"$f":"D87+F87+H87+J87+L87","v":0},{"$f":"MAX(C87,E87,G87,I87,K87)","v":0},{"$f":"IF(Q87=1,N87,IF(Q87=0,(N87-O87),\"-\"))","v":"-"},{"$f":"$L$1-Table1016171819[Competed Count]","v":4},{"$f":"IF(Q87<2,\"Yes\",\"No\")","v":"No"},{"$f":"AND($C$1=\"Y\",D87>0)","v":false},{"$f":"AND($E$1=\"Y\",F87>0)","v":false},{"$f":"AND($G$1=\"Y\",H87>0)","v":false},{"$f":"AND($I$1=\"Y\",J87>0)","v":false},{"$f":"AND($K$1=\"Y\",L87>0)","v":false},{"$f":"COUNTIF(Table1016171819[[#This Row],[Competed 1]:[Competed 5]],\"=TRUE\")","v":0}]
[null,"-","-",{"$f":"IF(C88=\"-\",0,C88)","v":0},"-",{"$f":"IF(E88=\"-\",0,E88)","v":0},"-",{"$f":"IF(G88=\"-\",0,G88)","v":0},"-",{"$f":"IF(I88=\"-\",0,I88)","v":0},"-",{"$f":"IF(K88=\"-\",0,K88)","v":0},{"$f":"Table1016171819[[#This Row],[School]]","v":"-"},{"$f":"D88+F88+H88+J88+L88","v":0},{"$f":"MAX(C88,E88,G88,I88,K88)","v":0},{"$f":"IF(Q88=1,N88,IF(Q88=0,(N88-O88),\"-\"))","v":"-"},{"$f":"$L$1-Table1016171819[Competed Count]","v":4},{"$f":"IF(Q88<2,\"Yes\",\"No\")","v":"No"},{"$f":"AND($C$1=\"Y\",D88>0)","v":false},{"$f":"AND($E$1=\"Y\",F88>0)","v":false},{"$f":"AND($G$1=\"Y\",H88>0)","v":false},{"$f":"AND($I$1=\"Y\",J88>0)","v":false},{"$f":"AND($K$1=\"Y\",L88>0)","v":false},{"$f":"COUNTIF(Table1016171819[[#This Row],[Competed 1]:[Competed 5]],\"=TRUE\")","v":0}]
[null,"-","-",{"$f":"IF(C89=\"-\",0,C89)","v":0},"-",{"$f":"IF(E89=\"-\",0,E89)","v":0},"-",{"$f":"IF(G89=\"-\",0,G89)","v":0},"-",{"$f":"IF(I89=\"-\",0,I89)","v":0},"-",{"$f":"IF(K89=\"-\",0,K89)","v":0},{"$f":"Table1016171819[[#This Row],[School]]","v":"-"},{"$f":"D89+F89+H89+J89+L89","v":0},{"$f":"MAX(C89,E89,G89,I89,K89)","v":0},{"$f":"IF(Q89=1,N89,IF(Q89=0,(N89-O89),\"-\"))","v":"-"},{"$f":"$L$1-Table1016171819[Competed Count]","v":4},{"$f":"IF(Q89<2,\"Yes\",\"No\")","v":"No"},{"$f":"AND($C$1=\"Y\",D89>0)","v":false},{"$f":"AND($E$1=\"Y\",F89>0)","v":false},{"$f":"AND($G$1=\"Y\",H89>0)","v":false},{"$f":"AND($I$1=\"Y\",J89>0)","v":false},{"$f":"AND($K$1=\"Y\",L89>0)","v":false},{"$f":"COUNTIF(Table1016171819[[#This Row],[Competed 1]:[Competed 5]],\"=TRUE\")","v":0}]
[null,"-","-",{"$f":"IF(C90=\"-\",0,C90)","v":0},"-",{"$f":"IF(E90=\"-\",0,E90)","v":0},"-",{"$f":"IF(G90=\"-\",0,G90)","v":0},"-",{"$f":"IF(I90=\"-\",0,I90)","v":0},"-",{"$f":"IF(K90=\"-\",0,K90)","v":0},{"$f":"Table1016171819[[#This Row],[School]]","v":"-"},{"$f":"D90+F90+H90+J90+L90","v":0},{"$f":"MAX(C90,E90,G90,I90,K90)","v":0},{"$f":"IF(Q90=1,N90,IF(Q90=0,(N90-O90),\"-\"))","v":"-"},{"$f":"$L$1-Table1016171819[Competed Count]","v":4},{"$f":"IF(Q90<2,\"Yes\",\"No\")","v":"No"},{"$f":"AND($C$1=\"Y\",D90>0)","v":false},{"$f":"AND($E$1=\"Y\",F90>0)","v":false},{"$f":"AND($G$1=\"Y\",H90>0)","v":false},{"$f":"AND($I$1=\"Y\",J90>0)","v":false},{"$f":"AND($K$1=\"Y\",L90>0)","v":false},{"$f":"COUNTIF(Table1016171819[[#This Row],[Competed 1]:[Competed 5]],\"=TRUE\")","v":0}]
[null,"-","-",{"$f":"IF(C91=\"-\",0,C91)","v":0},"-",{"$f":"IF(E91=\"-\",0,E91)","v":0},"-",{"$f":"IF(G91=\"-\",0,G91)","v":0},"-",{"$f":"IF(I91=\"-\",0,I91)","v":0},"-",{"$f":"IF(K91=\"-\",0,K91)","v":0},{"$f":"Table1016171819[[#This Row],[School]]","v":"-"},{"$f":"D91+F91+H91+J91+L91","v":0},{"$f":"MAX(C91,E91,G91,I91,K91)","v":0},{"$f":"IF(Q91=1,N91,IF(Q91=0,(N91-O91),\"-\"))","v":"-"},{"$f":"$L$1-Table1016171819[Competed Count]","v":4},{"$f":"IF(Q91<2,\"Yes\",\"No\")","v":"No"},{"$f":"AND($C$1=\"Y\",D91>0)","v":false},{"$f":"AND($E$1=\"Y\",F91>0)","v":false},{"$f":"AND($G$1=\"Y\",H91>0)","v":false},{"$f":"AND($I$1=\"Y\",J91>0)","v":false},{"$f":"AND($K$1=\"Y\",L91>0)","v":false},{"$f":"COUNTIF(Table1016171819[[#This Row],[Competed 1]:[Competed 5]],\"=TRUE\")","v":0}]
[null,"-","-",{"$f":"IF(C92=\"-\",0,C92)","v":0},"-",{"$f":"IF(E92=\"-\",0,E92)","v":0},"-",{"$f":"IF(G92=\"-\",0,G92)","v":0},"-",{"$f":"IF(I92=\"-\",0,I92)","v":0},"-",{"$f":"IF(K92=\"-\",0,K92)","v":0},{"$f":"Table1016171819[[#This Row],[School]]","v":"-"},{"$f":"D92+F92+H92+J92+L92","v":0},{"$f":"MAX(C92,E92,G92,I92,K92)","v":0},{"$f":"IF(Q92=1,N92,IF(Q92=0,(N92-O92),\"-\"))","v":"-"},{"$f":"$L$1-Table1016171819[Competed Count]","v":4},{"$f":"IF(Q92<2,\"Yes\",\"No\")","v":"No"},{"$f":"AND($C$1=\"Y\",D92>0)","v":false},{"$f":"AND($E$1=\"Y\",F92>0)","v":false},{"$f":"AND($G$1=\"Y\",H92>0)","v":false},{"$f":"AND($I$1=\"Y\",J92>0)","v":false},{"$f":"AND($K$1=\"Y\",L92>0)","v":false},{"$f":"COUNTIF(Table1016171819[[#This Row],[Competed 1]:[Competed 5]],\"=TRUE\")","v":0}]
[null,"-","-",{"$f":"IF(C93=\"-\",0,C93)","v":0},"-",{"$f":"IF(E93=\"-\",0,E93)","v":0},"-",{"$f":"IF(G93=\"-\",0,G93)","v":0},"-",{"$f":"IF(I93=\"-\",0,I93)","v":0},"-",{"$f":"IF(K93=\"-\",0,K93)","v":0},{"$f":"Table1016171819[[#This Row],[School]]","v":"-"},{"$f":"D93+F93+H93+J93+L93","v":0},{"$f":"MAX(C93,E93,G93,I93,K93)","v":0},{"$f":"IF(Q93=1,N93,IF(Q93=0,(N93-O93),\"-\"))","v":"-"},{"$f":"$L$1-Table1016171819[Competed Count]","v":4},{"$f":"IF(Q93<2,\"Yes\",\"No\")","v":"No"},{"$f":"AND($C$1=\"Y\",D93>0)","v":false},{"$f":"AND($E$1=\"Y\",F93>0)","v":false},{"$f":"AND($G$1=\"Y\",H93>0)","v":false},{"$f":"AND($I$1=\"Y\",J93>0)","v":false},{"$f":"AND($K$1=\"Y\",L93>0)","v":false},{"$f":"COUNTIF(Table1016171819[[#This Row],[Competed 1]:[Competed 5]],\"=TRUE\")","v":0}]
[null,"-","-",{"$f":"IF(C94=\"-\",0,C94)","v":0},"-",{"$f":"IF(E94=\"-\",0,E94)","v":0},"-",{"$f":"IF(G94=\"-\",0,G94)","v":0},"-",{"$f":"IF(I94=\"-\",0,I94)","v":0},"-",{"$f":"IF(K94=\"-\",0,K94)","v":0},{"$f":"Table1016171819[[#This Row],[School]]","v":"-"},{"$f":"D94+F94+H94+J94+L94","v":0},{"$f":"MAX(C94,E94,G94,I94,K94)","v":0},{"$f":"IF(Q94=1,N94,IF(Q94=0,(N94-O94),\"-\"))","v":"-"},{"$f":"$L$1-Table1016171819[Competed Count]","v":4},{"$f":"IF(Q94<2,\"Yes\",\"No\")","v":"No"},{"$f":"AND($C$1=\"Y\",D94>0)","v":false},{"$f":"AND($E$1=\"Y\",F94>0)","v":false},{"$f":"AND($G$1=\"Y\",H94>0)","v":false},{"$f":"AND($I$1=\"Y\",J94>0)","v":false},{"$f":"AND($K$1=\"Y\",L94>0)","v":false},{"$f":"COUNTIF(Table1016171819[[#This Row],[Competed 1]:[Competed 5]],\"=TRUE\")","v":0}]
[null,"-","-",{"$f":"IF(C95=\"-\",0,C95)","v":0},"-",{"$f":"IF(E95=\"-\",0,E95)","v":0},"-",{"$f":"IF(G95=\"-\",0,G95)","v":0},"-",{"$f":"IF(I95=\"-\",0,I95)","v":0},"-",{"$f":"IF(K95=\"-\",0,K95)","v":0},{"$f":"Table1016171819[[#This Row],[School]]","v":"-"},{"$f":"D95+F95+H95+J95+L95","v":0},{"$f":"MAX(C95,E95,G95,I95,K95)","v":0},{"$f":"IF(Q95=1,N95,IF(Q95=0,(N95-O95),\"-\"))","v":"-"},{"$f":"$L$1-Table1016171819[Competed Count]","v":4},{"$f":"IF(Q95<2,\"Yes\",\"No\")","v":"No"},{"$f":"AND($C$1=\"Y\",D95>0)","v":false},{"$f":"AND($E$1=\"Y\",F95>0)","v":false},{"$f":"AND($G$1=\"Y\",H95>0)","v":false},{"$f":"AND($I$1=\"Y\",J95>0)","v":false},{"$f":"AND($K$1=\"Y\",L95>0)","v":false},{"$f":"COUNTIF(Table1016171819[[#This Row],[Competed 1]:[Competed 5]],\"=TRUE\")","v":0}]
[null,"-","-",{"$f":"IF(C96=\"-\",0,C96)","v":0},"-",{"$f":"IF(E96=\"-\",0,E96)","v":0},"-",{"$f":"IF(G96=\"-\",0,G96)","v":0},"-",{"$f":"IF(I96=\"-\",0,I96)","v":0},"-",{"$f":"IF(K96=\"-\",0,K96)","v":0},{"$f":"Table1016171819[[#This Row],[School]]","v":"-"},{"$f":"D96+F96+H96+J96+L96","v":0},{"$f":"MAX(C96,E96,G96,I96,K96)","v":0},{"$f":"IF(Q96=1,N96,IF(Q96=0,(N96-O96),\"-\"))","v":"-"},{"$f":"$L$1-Table1016171819[Competed Count]","v":4},{"$f":"IF(Q96<2,\"Yes\",\"No\")","v":"No"},{"$f":"AND($C$1=\"Y\",D96>0)","v":false},{"$f":"AND($E$1=\"Y\",F96>0)","v":false},{"$f":"AND($G$1=\"Y\",H96>0)","v":false},{"$f":"AND($I$1=\"Y\",J96>0)","v":false},{"$f":"AND($K$1=\"Y\",L96>0)","v":false},{"$f":"COUNTIF(Table1016171819[[#This Row],[Competed 1]:[Competed 5]],\"=TRUE\")","v":0}]
[null,"-","-",{"$f":"IF(C97=\"-\",0,C97)","v":0},"-",{"$f":"IF(E97=\"-\",0,E97)","v":0},"-",{"$f":"IF(G97=\"-\",0,G97)","v":0},"-",{"$f":"IF(I97=\"-\",0,I97)","v":0},"-",{"$f":"IF(K97=\"-\",0,K97)","v":0},{"$f":"Table1016171819[[#This Row],[School]]","v":"-"},{"$f":"D97+F97+H97+J97+L97","v":0},{"$f":"MAX(C97,E97,G97,I97,K97)","v":0},{"$f":"IF(Q97=1,N97,IF(Q97=0,(N97-O97),\"-\"))","v":"-"},{"$f":"$L$1-Table1016171819[Competed Count]","v":4},{"$f":"IF(Q97<2,\"Yes\",\"No\")","v":"No"},{"$f":"AND($C$1=\"Y\",D97>0)","v":false},{"$f":"AND($E$1=\"Y\",F97>0)","v":false},{"$f":"AND($G$1=\"Y\",H97>0)","v":false},{"$f":"AND($I$1=\"Y\",J97>0)","v":false},{"$f":"AND($K$1=\"Y\",L97>0)","v":false},{"$f":"COUNTIF(Table1016171819[[#This Row],[Competed 1]:[Competed 5]],\"=TRUE\")","v":0}]
[null,"-","-",{"$f":"IF(C98=\"-\",0,C98)","v":0},"-",{"$f":"IF(E98=\"-\",0,E98)","v":0},"-",{"$f":"IF(G98=\"-\",0,G98)","v":0},"-",{"$f":"IF(I98=\"-\",0,I98)","v":0},"-",{"$f":"IF(K98=\"-\",0,K98)","v":0},{"$f":"Table1016171819[[#This Row],[School]]","v":"-"},{"$f":"D98+F98+H98+J98+L98","v":0},{"$f":"MAX(C98,E98,G98,I98,K98)","v":0},{"$f":"IF(Q98=1,N98,IF(Q98=0,(N98-O98),\"-\"))","v":"-"},{"$f":"$L$1-Table1016171819[Competed Count]","v":4},{"$f":"IF(Q98<2,\"Yes\",\"No\")","v":"No"},{"$f":"AND($C$1=\"Y\",D98>0)","v":false},{"$f":"AND($E$1=\"Y\",F98>0)","v":false},{"$f":"AND($G$1=\"Y\",H98>0)","v":false},{"$f":"AND($I$1=\"Y\",J98>0)","v":false},{"$f":"AND($K$1=\"Y\",L98>0)","v":false},{"$f":"COUNTIF(Table1016171819[[#This Row],[Competed 1]:[Competed 5]],\"=TRUE\")","v":0}]
[null,"-","-",{"$f":"IF(C99=\"-\",0,C99)","v":0},"-",{"$f":"IF(E99=\"-\",0,E99)","v":0},"-",{"$f":"IF(G99=\"-\",0,G99)","v":0},"-",{"$f":"IF(I99=\"-\",0,I99)","v":0},"-",{"$f":"IF(K99=\"-\",0,K99)","v":0},{"$f":"Table1016171819[[#This Row],[School]]","v":"-"},{"$f":"D99+F99+H99+J99+L99","v":0},{"$f":"MAX(C99,E99,G99,I99,K99)","v":0},{"$f":"IF(Q99=1,N99,IF(Q99=0,(N99-O99),\"-\"))","v":"-"},{"$f":"$L$1-Table1016171819[Competed Count]","v":4},{"$f":"IF(Q99<2,\"Yes\",\"No\")","v":"No"},{"$f":"AND($C$1=\"Y\",D99>0)","v":false},{"$f":"AND($E$1=\"Y\",F99>0)","v":false},{"$f":"AND($G$1=\"Y\",H99>0)","v":false},{"$f":"AND($I$1=\"Y\",J99>0)","v":false},{"$f":"AND($K$1=\"Y\",L99>0)","v":false},{"$f":"COUNTIF(Table1016171819[[#This Row],[Competed 1]:[Competed 5]],\"=TRUE\")","v":0}]
[null,"-","-",{"$f":"IF(C100=\"-\",0,C100)","v":0},"-",{"$f":"IF(E100=\"-\",0,E100)","v":0},"-",{"$f":"IF(G100=\"-\",0,G100)","v":0},"-",{"$f":"IF(I100=\"-\",0,I100)","v":0},"-",{"$f":"IF(K100=\"-\",0,K100)","v":0},{"$f":"Table1016171819[[#This Row],[School]]","v":"-"},{"$f":"D100+F100+H100+J100+L100","v":0},{"$f":"MAX(C100,E100,G100,I100,K100)","v":0},{"$f":"IF(Q100=1,N100,IF(Q100=0,(N100-O100),\"-\"))","v":"-"},{"$f":"$L$1-Table1016171819[Competed Count]","v":4},{"$f":"IF(Q100<2,\"Yes\",\"No\")","v":"No"},{"$f":"AND($C$1=\"Y\",D100>0)","v":false},{"$f":"AND($E$1=\"Y\",F100>0)","v":false},{"$f":"AND($G$1=\"Y\",H100>0)","v":false},{"$f":"AND($I$1=\"Y\",J100>0)","v":false},{"$f":"AND($K$1=\"Y\",L100>0)","v":false},{"$f":"COUNTIF(Table1016171819[[#This Row],[Competed 1]:[Competed 5]],\"=TRUE\")","v":0}]
[null,"-","-",{"$f":"IF(C101=\"-\",0,C101)","v":0},"-",{"$f":"IF(E101=\"-\",0,E101)","v":0},"-",{"$f":"IF(G101=\"-\",0,G101)","v":0},"-",{"$f":"IF(I101=\"-\",0,I101)","v":0},"-",{"$f":"IF(K101=\"-\",0,K101)","v":0},{"$f":"Table1016171819[[#This Row],[School]]","v":"-"},{"$f":"D101+F101+H101+J101+L101","v":0},{"$f":"MAX(C101,E101,G101,I101,K101)","v":0},{"$f":"IF(Q101=1,N101,IF(Q101=0,(N101-O101),\"-\"))","v":"-"},{"$f":"$L$1-Table1016171819[Competed Count]","v":4},{"$f":"IF(Q101<2,\"Yes\",\"No\")","v":"No"},{"$f":"AND($C$1=\"Y\",D101>0)","v":false},{"$f":"AND($E$1=\"Y\",F101>0)","v":false},{"$f":"AND($G$1=\"Y\",H101>0)","v":false},{"$f":"AND($I$1=\"Y\",J101>0)","v":false},{"$f":"AND($K$1=\"Y\",L101>0)","v":false},{"$f":"COUNTIF(Table1016171819[[#This Row],[Competed 1]:[Competed 5]],\"=TRUE\")","v":0}]
[null,"-","-",{"$f":"IF(C102=\"-\",0,C102)","v":0},"-",{"$f":"IF(E102=\"-\",0,E102)","v":0},"-",{"$f":"IF(G102=\"-\",0,G102)","v":0},"-",{"$f":"IF(I102=\"-\",0,I102)","v":0},"-",{"$f":"IF(K102=\"-\",0,K102)","v":0},{"$f":"Table1016171819[[#This Row],[School]]","v":"-"},{"$f":"D102+F102+H102+J102+L102","v":0},{"$f":"MAX(C102,E102,G102,I102,K102)","v":0},{"$f":"IF(Q102=1,N102,IF(Q102=0,(N102-O102),\"-\"))","v":"-"},{"$f":"$L$1-Table1016171819[Competed Count]","v":4},{"$f":"IF(Q102<2,\"Yes\",\"No\")","v":"No"},{"$f":"AND($C$1=\"Y\",D102>0)","v":false},{"$f":"AND($E$1=\"Y\",F102>0)","v":false},{"$f":"AND($G$1=\"Y\",H102>0)","v":false},{"$f":"AND($I$1=\"Y\",J102>0)","v":false},{"$f":"AND($K$1=\"Y\",L102>0)","v":false},{"$f":"COUNTIF(Table1016171819[[#This Row],[Competed 1]:[Competed 5]],\"=TRUE\")","v":0}]
[null,"-","-",{"$f":"IF(C103=\"-\",0,C103)","v":0},"-",{"$f":"IF(E103=\"-\",0,E103)","v":0},"-",{"$f":"IF(G103=\"-\",0,G103)","v":0},"-",{"$f":"IF(I103=\"-\",0,I103)","v":0},"-",{"$f":"IF(K103=\"-\",0,K103)","v":0},{"$f":"Table1016171819[[#This Row],[School]]","v":"-"},{"$f":"D103+F103+H103+J103+L103","v":0},{"$f":"MAX(C103,E103,G103,I103,K103)","v":0},{"$f":"IF(Q103=1,N103,IF(Q103=0,(N103-O103),\"-\"))","v":"-"},{"$f":"$L$1-Table1016171819[Competed Count]","v":4},{"$f":"IF(Q103<2,\"Yes\",\"No\")","v":"No"},{"$f":"AND($C$1=\"Y\",D103>0)","v":false},{"$f":"AND($E$1=\"Y\",F103>0)","v":false},{"$f":"AND($G$1=\"Y\",H103>0)","v":false},{"$f":"AND($I$1=\"Y\",J103>0)","v":false},{"$f":"AND($K$1=\"Y\",L103>0)","v":false},{"$f":"COUNTIF(Table1016171819[[#This Row],[Competed 1]:[Competed 5]],\"=TRUE\")","v":0}]
[null,"-","-",{"$f":"IF(C104=\"-\",0,C104)","v":0},"-",{"$f":"IF(E104=\"-\",0,E104)","v":0},"-",{"$f":"IF(G104=\"-\",0,G104)","v":0},"-",{"$f":"IF(I104=\"-\",0,I104)","v":0},"-",{"$f":"IF(K104=\"-\",0,K104)","v":0},{"$f":"Table1016171819[[#This Row],[School]]","v":"-"},{"$f":"D104+F104+H104+J104+L104","v":0},{"$f":"MAX(C104,E104,G104,I104,K104)","v":0},{"$f":"IF(Q104=1,N104,IF(Q104=0,(N104-O104),\"-\"))","v":"-"},{"$f":"$L$1-Table1016171819[Competed Count]","v":4},{"$f":"IF(Q104<2,\"Yes\",\"No\")","v":"No"},{"$f":"AND($C$1=\"Y\",D104>0)","v":false},{"$f":"AND($E$1=\"Y\",F104>0)","v":false},{"$f":"AND($G$1=\"Y\",H104>0)","v":false},{"$f":"AND($I$1=\"Y\",J104>0)","v":false},{"$f":"AND($K$1=\"Y\",L104>0)","v":false},{"$f":"COUNTIF(Table1016171819[[#This Row],[Competed 1]:[Competed 5]],\"=TRUE\")","v":0}]
[null,"-","-",{"$f":"IF(C105=\"-\",0,C105)","v":0},"-",{"$f":"IF(E105=\"-\",0,E105)","v":0},"-",{"$f":"IF(G105=\"-\",0,G105)","v":0},"-",{"$f":"IF(I105=\"-\",0,I105)","v":0},"-",{"$f":"IF(K105=\"-\",0,K105)","v":0},{"$f":"Table1016171819[[#This Row],[School]]","v":"-"},{"$f":"D105+F105+H105+J105+L105","v":0},{"$f":"MAX(C105,E105,G105,I105,K105)","v":0},{"$f":"IF(Q105=1,N105,IF(Q105=0,(N105-O105),\"-\"))","v":"-"},{"$f":"$L$1-Table1016171819[Competed Count]","v":4},{"$f":"IF(Q105<2,\"Yes\",\"No\")","v":"No"},{"$f":"AND($C$1=\"Y\",D105>0)","v":false},{"$f":"AND($E$1=\"Y\",F105>0)","v":false},{"$f":"AND($G$1=\"Y\",H105>0)","v":false},{"$f":"AND($I$1=\"Y\",J105>0)","v":false},{"$f":"AND($K$1=\"Y\",L105>0)","v":false},{"$f":"COUNTIF(Table1016171819[[#This Row],[Competed 1]:[Competed 5]],\"=TRUE\")","v":0}]
[null,"-","-",{"$f":"IF(C106=\"-\",0,C106)","v":0},"-",{"$f":"IF(E106=\"-\",0,E106)","v":0},"-",{"$f":"IF(G106=\"-\",0,G106)","v":0},"-",{"$f":"IF(I106=\"-\",0,I106)","v":0},"-",{"$f":"IF(K106=\"-\",0,K106)","v":0},{"$f":"Table1016171819[[#This Row],[School]]","v":"-"},{"$f":"D106+F106+H106+J106+L106","v":0},{"$f":"MAX(C106,E106,G106,I106,K106)","v":0},{"$f":"IF(Q106=1,N106,IF(Q106=0,(N106-O106),\"-\"))","v":"-"},{"$f":"$L$1-Table1016171819[Competed Count]","v":4},{"$f":"IF(Q106<2,\"Yes\",\"No\")","v":"No"},{"$f":"AND($C$1=\"Y\",D106>0)","v":false},{"$f":"AND($E$1=\"Y\",F106>0)","v":false},{"$f":"AND($G$1=\"Y\",H106>0)","v":false},{"$f":"AND($I$1=\"Y\",J106>0)","v":false},{"$f":"AND($K$1=\"Y\",L106>0)","v":false},{"$f":"COUNTIF(Table1016171819[[#This Row],[Competed 1]:[Competed 5]],\"=TRUE\")","v":0}]
[null,"-","-",{"$f":"IF(C107=\"-\",0,C107)","v":0},"-",{"$f":"IF(E107=\"-\",0,E107)","v":0},"-",{"$f":"IF(G107=\"-\",0,G107)","v":0},"-",{"$f":"IF(I107=\"-\",0,I107)","v":0},"-",{"$f":"IF(K107=\"-\",0,K107)","v":0},{"$f":"Table1016171819[[#This Row],[School]]","v":"-"},{"$f":"D107+F107+H107+J107+L107","v":0},{"$f":"MAX(C107,E107,G107,I107,K107)","v":0},{"$f":"IF(Q107=1,N107,IF(Q107=0,(N107-O107),\"-\"))","v":"-"},{"$f":"$L$1-Table1016171819[Competed Count]","v":4},{"$f":"IF(Q107<2,\"Yes\",\"No\")","v":"No"},{"$f":"AND($C$1=\"Y\",D107>0)","v":false},{"$f":"AND($E$1=\"Y\",F107>0)","v":false},{"$f":"AND($G$1=\"Y\",H107>0)","v":false},{"$f":"AND($I$1=\"Y\",J107>0)","v":false},{"$f":"AND($K$1=\"Y\",L107>0)","v":false},{"$f":"COUNTIF(Table1016171819[[#This Row],[Competed 1]:[Competed 5]],\"=TRUE\")","v":0}]
[null,"-","-",{"$f":"IF(C108=\"-\",0,C108)","v":0},"-",{"$f":"IF(E108=\"-\",0,E108)","v":0},"-",{"$f":"IF(G108=\"-\",0,G108)","v":0},"-",{"$f":"IF(I108=\"-\",0,I108)","v":0},"-",{"$f":"IF(K108=\"-\",0,K108)","v":0},{"$f":"Table1016171819[[#This Row],[School]]","v":"-"},{"$f":"D108+F108+H108+J108+L108","v":0},{"$f":"MAX(C108,E108,G108,I108,K108)","v":0},{"$f":"IF(Q108=1,N108,IF(Q108=0,(N108-O108),\"-\"))","v":"-"},{"$f":"$L$1-Table1016171819[Competed Count]","v":4},{"$f":"IF(Q108<2,\"Yes\",\"No\")","v":"No"},{"$f":"AND($C$1=\"Y\",D108>0)","v":false},{"$f":"AND($E$1=\"Y\",F108>0)","v":false},{"$f":"AND($G$1=\"Y\",H108>0)","v":false},{"$f":"AND($I$1=\"Y\",J108>0)","v":false},{"$f":"AND($K$1=\"Y\",L108>0)","v":false},{"$f":"COUNTIF(Table1016171819[[#This Row],[Competed 1]:[Competed 5]],\"=TRUE\")","v":0}]
[null,"-","-",{"$f":"IF(C109=\"-\",0,C109)","v":0},"-",{"$f":"IF(E109=\"-\",0,E109)","v":0},"-",{"$f":"IF(G109=\"-\",0,G109)","v":0},"-",{"$f":"IF(I109=\"-\",0,I109)","v":0},"-",{"$f":"IF(K109=\"-\",0,K109)","v":0},{"$f":"Table1016171819[[#This Row],[School]]","v":"-"},{"$f":"D109+F109+H109+J109+L109","v":0},{"$f":"MAX(C109,E109,G109,I109,K109)","v":0},{"$f":"IF(Q109=1,N109,IF(Q109=0,(N109-O109),\"-\"))","v":"-"},{"$f":"$L$1-Table1016171819[Competed Count]","v":4},{"$f":"IF(Q109<2,\"Yes\",\"No\")","v":"No"},{"$f":"AND($C$1=\"Y\",D109>0)","v":false},{"$f":"AND($E$1=\"Y\",F109>0)","v":false},{"$f":"AND($G$1=\"Y\",H109>0)","v":false},{"$f":"AND($I$1=\"Y\",J109>0)","v":false},{"$f":"AND($K$1=\"Y\",L109>0)","v":false},{"$f":"COUNTIF(Table1016171819[[#This Row],[Competed 1]:[Competed 5]],\"=TRUE\")","v":0}]
[null,"-","-",{"$f":"IF(C110=\"-\",0,C110)","v":0},"-",{"$f":"IF(E110=\"-\",0,E110)","v":0},"-",{"$f":"IF(G110=\"-\",0,G110)","v":0},"-",{"$f":"IF(I110=\"-\",0,I110)","v":0},"-",{"$f":"IF(K110=\"-\",0,K110)","v":0},{"$f":"Table1016171819[[#This Row],[School]]","v":"-"},{"$f":"D110+F110+H110+J110+L110","v":0},{"$f":"MAX(C110,E110,G110,I110,K110)","v":0},{"$f":"IF(Q110=1,N110,IF(Q110=0,(N110-O110),\"-\"))","v":"-"},{"$f":"$L$1-Table1016171819[Competed Count]","v":4},{"$f":"IF(Q110<2,\"Yes\",\"No\")","v":"No"},{"$f":"AND($C$1=\"Y\",D110>0)","v":false},{"$f":"AND($E$1=\"Y\",F110>0)","v":false},{"$f":"AND($G$1=\"Y\",H110>0)","v":false},{"$f":"AND($I$1=\"Y\",J110>0)","v":false},{"$f":"AND($K$1=\"Y\",L110>0)","v":false},{"$f":"COUNTIF(Table1016171819[[#This Row],[Competed 1]:[Competed 5]],\"=TRUE\")","v":0}]
[null,"-","-",{"$f":"IF(C111=\"-\",0,C111)","v":0},"-",{"$f":"IF(E111=\"-\",0,E111)","v":0},"-",{"$f":"IF(G111=\"-\",0,G111)","v":0},"-",{"$f":"IF(I111=\"-\",0,I111)","v":0},"-",{"$f":"IF(K111=\"-\",0,K111)","v":0},{"$f":"Table1016171819[[#This Row],[School]]","v":"-"},{"$f":"D111+F111+H111+J111+L111","v":0},{"$f":"MAX(C111,E111,G111,I111,K111)","v":0},{"$f":"IF(Q111=1,N111,IF(Q111=0,(N111-O111),\"-\"))","v":"-"},{"$f":"$L$1-Table1016171819[Competed Count]","v":4},{"$f":"IF(Q111<2,\"Yes\",\"No\")","v":"No"},{"$f":"AND($C$1=\"Y\",D111>0)","v":false},{"$f":"AND($E$1=\"Y\",F111>0)","v":false},{"$f":"AND($G$1=\"Y\",H111>0)","v":false},{"$f":"AND($I$1=\"Y\",J111>0)","v":false},{"$f":"AND($K$1=\"Y\",L111>0)","v":false},{"$f":"COUNTIF(Table1016171819[[#This Row],[Competed 1]:[Competed 5]],\"=TRUE\")","v":0}]
[null,"-","-",{"$f":"IF(C112=\"-\",0,C112)","v":0},"-",{"$f":"IF(E112=\"-\",0,E112)","v":0},"-",{"$f":"IF(G112=\"-\",0,G112)","v":0},"-",{"$f":"IF(I112=\"-\",0,I112)","v":0},"-",{"$f":"IF(K112=\"-\",0,K112)","v":0},{"$f":"Table1016171819[[#This Row],[School]]","v":"-"},{"$f":"D112+F112+H112+J112+L112","v":0},{"$f":"MAX(C112,E112,G112,I112,K112)","v":0},{"$f":"IF(Q112=1,N112,IF(Q112=0,(N112-O112),\"-\"))","v":"-"},{"$f":"$L$1-Table1016171819[Competed Count]","v":4},{"$f":"IF(Q112<2,\"Yes\",\"No\")","v":"No"},{"$f":"AND($C$1=\"Y\",D112>0)","v":false},{"$f":"AND($E$1=\"Y\",F112>0)","v":false},{"$f":"AND($G$1=\"Y\",H112>0)","v":false},{"$f":"AND($I$1=\"Y\",J112>0)","v":false},{"$f":"AND($K$1=\"Y\",L112>0)","v":false},{"$f":"COUNTIF(Table1016171819[[#This Row],[Competed 1]:[Competed 5]],\"=TRUE\")","v":0}]
[null,"-","-",{"$f":"IF(C113=\"-\",0,C113)","v":0},"-",{"$f":"IF(E113=\"-\",0,E113)","v":0},"-",{"$f":"IF(G113=\"-\",0,G113)","v":0},"-",{"$f":"IF(I113=\"-\",0,I113)","v":0},"-",{"$f":"IF(K113=\"-\",0,K113)","v":0},{"$f":"Table1016171819[[#This Row],[School]]","v":"-"},{"$f":"D113+F113+H113+J113+L113","v":0},{"$f":"MAX(C113,E113,G113,I113,K113)","v":0},{"$f":"IF(Q113=1,N113,IF(Q113=0,(N113-O113),\"-\"))","v":"-"},{"$f":"$L$1-Table1016171819[Competed Count]","v":4},{"$f":"IF(Q113<2,\"Yes\",\"No\")","v":"No"},{"$f":"AND($C$1=\"Y\",D113>0)","v":false},{"$f":"AND($E$1=\"Y\",F113>0)","v":false},{"$f":"AND($G$1=\"Y\",H113>0)","v":false},{"$f":"AND($I$1=\"Y\",J113>0)","v":false},{"$f":"AND($K$1=\"Y\",L113>0)","v":false},{"$f":"COUNTIF(Table1016171819[[#This Row],[Competed 1]:[Competed 5]],\"=TRUE\")","v":0}]
[null,"-","-",{"$f":"IF(C114=\"-\",0,C114)","v":0},"-",{"$f":"IF(E114=\"-\",0,E114)","v":0},"-",{"$f":"IF(G114=\"-\",0,G114)","v":0},"-",{"$f":"IF(I114=\"-\",0,I114)","v":0},"-",{"$f":"IF(K114=\"-\",0,K114)","v":0},{"$f":"Table1016171819[[#This Row],[School]]","v":"-"},{"$f":"D114+F114+H114+J114+L114","v":0},{"$f":"MAX(C114,E114,G114,I114,K114)","v":0},{"$f":"IF(Q114=1,N114,IF(Q114=0,(N114-O114),\"-\"))","v":"-"},{"$f":"$L$1-Table1016171819[Competed Count]","v":4},{"$f":"IF(Q114<2,\"Yes\",\"No\")","v":"No"},{"$f":"AND($C$1=\"Y\",D114>0)","v":false},{"$f":"AND($E$1=\"Y\",F114>0)","v":false},{"$f":"AND($G$1=\"Y\",H114>0)","v":false},{"$f":"AND($I$1=\"Y\",J114>0)","v":false},{"$f":"AND($K$1=\"Y\",L114>0)","v":false},{"$f":"COUNTIF(Table1016171819[[#This Row],[Competed 1]:[Competed 5]],\"=TRUE\")","v":0}]
[null,"-","-",{"$f":"IF(C115=\"-\",0,C115)","v":0},"-",{"$f":"IF(E115=\"-\",0,E115)","v":0},"-",{"$f":"IF(G115=\"-\",0,G115)","v":0},"-",{"$f":"IF(I115=\"-\",0,I115)","v":0},"-",{"$f":"IF(K115=\"-\",0,K115)","v":0},{"$f":"Table1016171819[[#This Row],[School]]","v":"-"},{"$f":"D115+F115+H115+J115+L115","v":0},{"$f":"MAX(C115,E115,G115,I115,K115)","v":0},{"$f":"IF(Q115=1,N115,IF(Q115=0,(N115-O115),\"-\"))","v":"-"},{"$f":"$L$1-Table1016171819[Competed Count]","v":4},{"$f":"IF(Q115<2,\"Yes\",\"No\")","v":"No"},{"$f":"AND($C$1=\"Y\",D115>0)","v":false},{"$f":"AND($E$1=\"Y\",F115>0)","v":false},{"$f":"AND($G$1=\"Y\",H115>0)","v":false},{"$f":"AND($I$1=\"Y\",J115>0)","v":false},{"$f":"AND($K$1=\"Y\",L115>0)","v":false},{"$f":"COUNTIF(Table1016171819[[#This Row],[Competed 1]:[Competed 5]],\"=TRUE\")","v":0}]
[null,"-","-",{"$f":"IF(C116=\"-\",0,C116)","v":0},"-",{"$f":"IF(E116=\"-\",0,E116)","v":0},"-",{"$f":"IF(G116=\"-\",0,G116)","v":0},"-",{"$f":"IF(I116=\"-\",0,I116)","v":0},"-",{"$f":"IF(K116=\"-\",0,K116)","v":0},{"$f":"Table1016171819[[#This Row],[School]]","v":"-"},{"$f":"D116+F116+H116+J116+L116","v":0},{"$f":"MAX(C116,E116,G116,I116,K116)","v":0},{"$f":"IF(Q116=1,N116,IF(Q116=0,(N116-O116),\"-\"))","v":"-"},{"$f":"$L$1-Table1016171819[Competed Count]","v":4},{"$f":"IF(Q116<2,\"Yes\",\"No\")","v":"No"},{"$f":"AND($C$1=\"Y\",D116>0)","v":false},{"$f":"AND($E$1=\"Y\",F116>0)","v":false},{"$f":"AND($G$1=\"Y\",H116>0)","v":false},{"$f":"AND($I$1=\"Y\",J116>0)","v":false},{"$f":"AND($K$1=\"Y\",L116>0)","v":false},{"$f":"COUNTIF(Table1016171819[[#This Row],[Competed 1]:[Competed 5]],\"=TRUE\")","v":0}]
[null,"-","-",{"$f":"IF(C117=\"-\",0,C117)","v":0},"-",{"$f":"IF(E117=\"-\",0,E117)","v":0},"-",{"$f":"IF(G117=\"-\",0,G117)","v":0},"-",{"$f":"IF(I117=\"-\",0,I117)","v":0},"-",{"$f":"IF(K117=\"-\",0,K117)","v":0},{"$f":"Table1016171819[[#This Row],[School]]","v":"-"},{"$f":"D117+F117+H117+J117+L117","v":0},{"$f":"MAX(C117,E117,G117,I117,K117)","v":0},{"$f":"IF(Q117=1,N117,IF(Q117=0,(N117-O117),\"-\"))","v":"-"},{"$f":"$L$1-Table1016171819[Competed Count]","v":4},{"$f":"IF(Q117<2,\"Yes\",\"No\")","v":"No"},{"$f":"AND($C$1=\"Y\",D117>0)","v":false},{"$f":"AND($E$1=\"Y\",F117>0)","v":false},{"$f":"AND($G$1=\"Y\",H117>0)","v":false},{"$f":"AND($I$1=\"Y\",J117>0)","v":false},{"$f":"AND($K$1=\"Y\",L117>0)","v":false},{"$f":"COUNTIF(Table1016171819[[#This Row],[Competed 1]:[Competed 5]],\"=TRUE\")","v":0}]
[null,"-","-",{"$f":"IF(C118=\"-\",0,C118)","v":0},"-",{"$f":"IF(E118=\"-\",0,E118)","v":0},"-",{"$f":"IF(G118=\"-\",0,G118)","v":0},"-",{"$f":"IF(I118=\"-\",0,I118)","v":0},"-",{"$f":"IF(K118=\"-\",0,K118)","v":0},{"$f":"Table1016171819[[#This Row],[School]]","v":"-"},{"$f":"D118+F118+H118+J118+L118","v":0},{"$f":"MAX(C118,E118,G118,I118,K118)","v":0},{"$f":"IF(Q118=1,N118,IF(Q118=0,(N118-O118),\"-\"))","v":"-"},{"$f":"$L$1-Table1016171819[Competed Count]","v":4},{"$f":"IF(Q118<2,\"Yes\",\"No\")","v":"No"},{"$f":"AND($C$1=\"Y\",D118>0)","v":false},{"$f":"AND($E$1=\"Y\",F118>0)","v":false},{"$f":"AND($G$1=\"Y\",H118>0)","v":false},{"$f":"AND($I$1=\"Y\",J118>0)","v":false},{"$f":"AND($K$1=\"Y\",L118>0)","v":false},{"$f":"COUNTIF(Table1016171819[[#This Row],[Competed 1]:[Competed 5]],\"=TRUE\")","v":0}]
[null,"-","-",{"$f":"IF(C119=\"-\",0,C119)","v":0},"-",{"$f":"IF(E119=\"-\",0,E119)","v":0},"-",{"$f":"IF(G119=\"-\",0,G119)","v":0},"-",{"$f":"IF(I119=\"-\",0,I119)","v":0},"-",{"$f":"IF(K119=\"-\",0,K119)","v":0},{"$f":"Table1016171819[[#This Row],[School]]","v":"-"},{"$f":"D119+F119+H119+J119+L119","v":0},{"$f":"MAX(C119,E119,G119,I119,K119)","v":0},{"$f":"IF(Q119=1,N119,IF(Q119=0,(N119-O119),\"-\"))","v":"-"},{"$f":"$L$1-Table1016171819[Competed Count]","v":4},{"$f":"IF(Q119<2,\"Yes\",\"No\")","v":"No"},{"$f":"AND($C$1=\"Y\",D119>0)","v":false},{"$f":"AND($E$1=\"Y\",F119>0)","v":false},{"$f":"AND($G$1=\"Y\",H119>0)","v":false},{"$f":"AND($I$1=\"Y\",J119>0)","v":false},{"$f":"AND($K$1=\"Y\",L119>0)","v":false},{"$f":"COUNTIF(Table1016171819[[#This Row],[Competed 1]:[Competed 5]],\"=TRUE\")","v":0}]
[null,"-","-",{"$f":"IF(C120=\"-\",0,C120)","v":0},"-",{"$f":"IF(E120=\"-\",0,E120)","v":0},"-",{"$f":"IF(G120=\"-\",0,G120)","v":0},"-",{"$f":"IF(I120=\"-\",0,I120)","v":0},"-",{"$f":"IF(K120=\"-\",0,K120)","v":0},{"$f":"Table1016171819[[#This Row],[School]]","v":"-"},{"$f":"D120+F120+H120+J120+L120","v":0},{"$f":"MAX(C120,E120,G120,I120,K120)","v":0},{"$f":"IF(Q120=1,N120,IF(Q120=0,(N120-O120),\"-\"))","v":"-"},{"$f":"$L$1-Table1016171819[Competed Count]","v":4},{"$f":"IF(Q120<2,\"Yes\",\"No\")","v":"No"},{"$f":"AND($C$1=\"Y\",D120>0)","v":false},{"$f":"AND($E$1=\"Y\",F120>0)","v":false},{"$f":"AND($G$1=\"Y\",H120>0)","v":false},{"$f":"AND($I$1=\"Y\",J120>0)","v":false},{"$f":"AND($K$1=\"Y\",L120>0)","v":false},{"$f":"COUNTIF(Table1016171819[[#This Row],[Competed 1]:[Competed 5]],\"=TRUE\")","v":0}]
[null,"-","-",{"$f":"IF(C121=\"-\",0,C121)","v":0},"-",{"$f":"IF(E121=\"-\",0,E121)","v":0},"-",{"$f":"IF(G121=\"-\",0,G121)","v":0},"-",{"$f":"IF(I121=\"-\",0,I121)","v":0},"-",{"$f":"IF(K121=\"-\",0,K121)","v":0},{"$f":"Table1016171819[[#This Row],[School]]","v":"-"},{"$f":"D121+F121+H121+J121+L121","v":0},{"$f":"MAX(C121,E121,G121,I121,K121)","v":0},{"$f":"IF(Q121=1,N121,IF(Q121=0,(N121-O121),\"-\"))","v":"-"},{"$f":"$L$1-Table1016171819[Competed Count]","v":4},{"$f":"IF(Q121<2,\"Yes\",\"No\")","v":"No"},{"$f":"AND($C$1=\"Y\",D121>0)","v":false},{"$f":"AND($E$1=\"Y\",F121>0)","v":false},{"$f":"AND($G$1=\"Y\",H121>0)","v":false},{"$f":"AND($I$1=\"Y\",J121>0)","v":false},{"$f":"AND($K$1=\"Y\",L121>0)","v":false},{"$f":"COUNTIF(Table1016171819[[#This Row],[Competed 1]:[Competed 5]],\"=TRUE\")","v":0}]
[null,"-","-",{"$f":"IF(C122=\"-\",0,C122)","v":0},"-",{"$f":"IF(E122=\"-\",0,E122)","v":0},"-",{"$f":"IF(G122=\"-\",0,G122)","v":0},"-",{"$f":"IF(I122=\"-\",0,I122)","v":0},"-",{"$f":"IF(K122=\"-\",0,K122)","v":0},{"$f":"Table1016171819[[#This Row],[School]]","v":"-"},{"$f":"D122+F122+H122+J122+L122","v":0},{"$f":"MAX(C122,E122,G122,I122,K122)","v":0},{"$f":"IF(Q122=1,N122,IF(Q122=0,(N122-O122),\"-\"))","v":"-"},{"$f":"$L$1-Table1016171819[Competed Count]","v":4},{"$f":"IF(Q122<2,\"Yes\",\"No\")","v":"No"},{"$f":"AND($C$1=\"Y\",D122>0)","v":false},{"$f":"AND($E$1=\"Y\",F122>0)","v":false},{"$f":"AND($G$1=\"Y\",H122>0)","v":false},{"$f":"AND($I$1=\"Y\",J122>0)","v":false},{"$f":"AND($K$1=\"Y\",L122>0)","v":false},{"$f":"COUNTIF(Table1016171819[[#This Row],[Competed 1]:[Competed 5]],\"=TRUE\")","v":0}]
[null,"-","-",{"$f":"IF(C123=\"-\",0,C123)","v":0},"-",{"$f":"IF(E123=\"-\",0,E123)","v":0},"-",{"$f":"IF(G123=\"-\",0,G123)","v":0},"-",{"$f":"IF(I123=\"-\",0,I123)","v":0},"-",{"$f":"IF(K123=\"-\",0,K123)","v":0},{"$f":"Table1016171819[[#This Row],[School]]","v":"-"},{"$f":"D123+F123+H123+J123+L123","v":0},{"$f":"MAX(C123,E123,G123,I123,K123)","v":0},{"$f":"IF(Q123=1,N123,IF(Q123=0,(N123-O123),\"-\"))","v":"-"},{"$f":"$L$1-Table1016171819[Competed Count]","v":4},{"$f":"IF(Q123<2,\"Yes\",\"No\")","v":"No"},{"$f":"AND($C$1=\"Y\",D123>0)","v":false},{"$f":"AND($E$1=\"Y\",F123>0)","v":false},{"$f":"AND($G$1=\"Y\",H123>0)","v":false},{"$f":"AND($I$1=\"Y\",J123>0)","v":false},{"$f":"AND($K$1=\"Y\",L123>0)","v":false},{"$f":"COUNTIF(Table1016171819[[#This Row],[Competed 1]:[Competed 5]],\"=TRUE\")","v":0}]
[null,"-","-",{"$f":"IF(C124=\"-\",0,C124)","v":0},"-",{"$f":"IF(E124=\"-\",0,E124)","v":0},"-",{"$f":"IF(G124=\"-\",0,G124)","v":0},"-",{"$f":"IF(I124=\"-\",0,I124)","v":0},"-",{"$f":"IF(K124=\"-\",0,K124)","v":0},{"$f":"Table1016171819[[#This Row],[School]]","v":"-"},{"$f":"D124+F124+H124+J124+L124","v":0},{"$f":"MAX(C124,E124,G124,I124,K124)","v":0},{"$f":"IF(Q124=1,N124,IF(Q124=0,(N124-O124),\"-\"))","v":"-"},{"$f":"$L$1-Table1016171819[Competed Count]","v":4},{"$f":"IF(Q124<2,\"Yes\",\"No\")","v":"No"},{"$f":"AND($C$1=\"Y\",D124>0)","v":false},{"$f":"AND($E$1=\"Y\",F124>0)","v":false},{"$f":"AND($G$1=\"Y\",H124>0)","v":false},{"$f":"AND($I$1=\"Y\",J124>0)","v":false},{"$f":"AND($K$1=\"Y\",L124>0)","v":false},{"$f":"COUNTIF(Table1016171819[[#This Row],[Competed 1]:[Competed 5]],\"=TRUE\")","v":0}]
[null,"-","-",{"$f":"IF(C125=\"-\",0,C125)","v":0},"-",{"$f":"IF(E125=\"-\",0,E125)","v":0},"-",{"$f":"IF(G125=\"-\",0,G125)","v":0},"-",{"$f":"IF(I125=\"-\",0,I125)","v":0},"-",{"$f":"IF(K125=\"-\",0,K125)","v":0},{"$f":"Table1016171819[[#This Row],[School]]","v":"-"},{"$f":"D125+F125+H125+J125+L125","v":0},{"$f":"MAX(C125,E125,G125,I125,K125)","v":0},{"$f":"IF(Q125=1,N125,IF(Q125=0,(N125-O125),\"-\"))","v":"-"},{"$f":"$L$1-Table1016171819[Competed Count]","v":4},{"$f":"IF(Q125<2,\"Yes\",\"No\")","v":"No"},{"$f":"AND($C$1=\"Y\",D125>0)","v":false},{"$f":"AND($E$1=\"Y\",F125>0)","v":false},{"$f":"AND($G$1=\"Y\",H125>0)","v":false},{"$f":"AND($I$1=\"Y\",J125>0)","v":false},{"$f":"AND($K$1=\"Y\",L125>0)","v":false},{"$f":"COUNTIF(Table1016171819[[#This Row],[Competed 1]:[Competed 5]],\"=TRUE\")","v":0}]
[null,"-","-",{"$f":"IF(C126=\"-\",0,C126)","v":0},"-",{"$f":"IF(E126=\"-\",0,E126)","v":0},"-",{"$f":"IF(G126=\"-\",0,G126)","v":0},"-",{"$f":"IF(I126=\"-\",0,I126)","v":0},"-",{"$f":"IF(K126=\"-\",0,K126)","v":0},{"$f":"Table1016171819[[#This Row],[School]]","v":"-"},{"$f":"D126+F126+H126+J126+L126","v":0},{"$f":"MAX(C126,E126,G126,I126,K126)","v":0},{"$f":"IF(Q126=1,N126,IF(Q126=0,(N126-O126),\"-\"))","v":"-"},{"$f":"$L$1-Table1016171819[Competed Count]","v":4},{"$f":"IF(Q126<2,\"Yes\",\"No\")","v":"No"},{"$f":"AND($C$1=\"Y\",D126>0)","v":false},{"$f":"AND($E$1=\"Y\",F126>0)","v":false},{"$f":"AND($G$1=\"Y\",H126>0)","v":false},{"$f":"AND($I$1=\"Y\",J126>0)","v":false},{"$f":"AND($K$1=\"Y\",L126>0)","v":false},{"$f":"COUNTIF(Table1016171819[[#This Row],[Competed 1]:[Competed 5]],\"=TRUE\")","v":0}]
[null,"-","-",{"$f":"IF(C127=\"-\",0,C127)","v":0},"-",{"$f":"IF(E127=\"-\",0,E127)","v":0},"-",{"$f":"IF(G127=\"-\",0,G127)","v":0},"-",{"$f":"IF(I127=\"-\",0,I127)","v":0},"-",{"$f":"IF(K127=\"-\",0,K127)","v":0},{"$f":"Table1016171819[[#This Row],[School]]","v":"-"},{"$f":"D127+F127+H127+J127+L127","v":0},{"$f":"MAX(C127,E127,G127,I127,K127)","v":0},{"$f":"IF(Q127=1,N127,IF(Q127=0,(N127-O127),\"-\"))","v":"-"},{"$f":"$L$1-Table1016171819[Competed Count]","v":4},{"$f":"IF(Q127<2,\"Yes\",\"No\")","v":"No"},{"$f":"AND($C$1=\"Y\",D127>0)","v":false},{"$f":"AND($E$1=\"Y\",F127>0)","v":false},{"$f":"AND($G$1=\"Y\",H127>0)","v":false},{"$f":"AND($I$1=\"Y\",J127>0)","v":false},{"$f":"AND($K$1=\"Y\",L127>0)","v":false},{"$f":"COUNTIF(Table1016171819[[#This Row],[Competed 1]:[Competed 5]],\"=TRUE\")","v":0}]
[null,"-","-",{"$f":"IF(C128=\"-\",0,C128)","v":0},"-",{"$f":"IF(E128=\"-\",0,E128)","v":0},"-",{"$f":"IF(G128=\"-\",0,G128)","v":0},"-",{"$f":"IF(I128=\"-\",0,I128)","v":0},"-",{"$f":"IF(K128=\"-\",0,K128)","v":0},{"$f":"Table1016171819[[#This Row],[School]]","v":"-"},{"$f":"D128+F128+H128+J128+L128","v":0},{"$f":"MAX(C128,E128,G128,I128,K128)","v":0},{"$f":"IF(Q128=1,N128,IF(Q128=0,(N128-O128),\"-\"))","v":"-"},{"$f":"$L$1-Table1016171819[Competed Count]","v":4},{"$f":"IF(Q128<2,\"Yes\",\"No\")","v":"No"},{"$f":"AND($C$1=\"Y\",D128>0)","v":false},{"$f":"AND($E$1=\"Y\",F128>0)","v":false},{"$f":"AND($G$1=\"Y\",H128>0)","v":false},{"$f":"AND($I$1=\"Y\",J128>0)","v":false},{"$f":"AND($K$1=\"Y\",L128>0)","v":false},{"$f":"COUNTIF(Table1016171819[[#This Row],[Competed 1]:[Competed 5]],\"=TRUE\")","v":0}]
[null,"-","-",{"$f":"IF(C129=\"-\",0,C129)","v":0},"-",{"$f":"IF(E129=\"-\",0,E129)","v":0},"-",{"$f":"IF(G129=\"-\",0,G129)","v":0},"-",{"$f":"IF(I129=\"-\",0,I129)","v":0},"-",{"$f":"IF(K129=\"-\",0,K129)","v":0},{"$f":"Table1016171819[[#This Row],[School]]","v":"-"},{"$f":"D129+F129+H129+J129+L129","v":0},{"$f":"MAX(C129,E129,G129,I129,K129)","v":0},{"$f":"IF(Q129=1,N129,IF(Q129=0,(N129-O129),\"-\"))","v":"-"},{"$f":"$L$1-Table1016171819[Competed Count]","v":4},{"$f":"IF(Q129<2,\"Yes\",\"No\")","v":"No"},{"$f":"AND($C$1=\"Y\",D129>0)","v":false},{"$f":"AND($E$1=\"Y\",F129>0)","v":false},{"$f":"AND($G$1=\"Y\",H129>0)","v":false},{"$f":"AND($I$1=\"Y\",J129>0)","v":false},{"$f":"AND($K$1=\"Y\",L129>0)","v":false},{"$f":"COUNTIF(Table1016171819[[#This Row],[Competed 1]:[Competed 5]],\"=TRUE\")","v":0}]
[null,"-","-",{"$f":"IF(C130=\"-\",0,C130)","v":0},"-",{"$f":"IF(E130=\"-\",0,E130)","v":0},"-",{"$f":"IF(G130=\"-\",0,G130)","v":0},"-",{"$f":"IF(I130=\"-\",0,I130)","v":0},"-",{"$f":"IF(K130=\"-\",0,K130)","v":0},{"$f":"Table1016171819[[#This Row],[School]]","v":"-"},{"$f":"D130+F130+H130+J130+L130","v":0},{"$f":"MAX(C130,E130,G130,I130,K130)","v":0},{"$f":"IF(Q130=1,N130,IF(Q130=0,(N130-O130),\"-\"))","v":"-"},{"$f":"$L$1-Table1016171819[Competed Count]","v":4},{"$f":"IF(Q130<2,\"Yes\",\"No\")","v":"No"},{"$f":"AND($C$1=\"Y\",D130>0)","v":false},{"$f":"AND($E$1=\"Y\",F130>0)","v":false},{"$f":"AND($G$1=\"Y\",H130>0)","v":false},{"$f":"AND($I$1=\"Y\",J130>0)","v":false},{"$f":"AND($K$1=\"Y\",L130>0)","v":false},{"$f":"COUNTIF(Table1016171819[[#This Row],[Competed 1]:[Competed 5]],\"=TRUE\")","v":0}]
[null,"-","-",{"$f":"IF(C131=\"-\",0,C131)","v":0},"-",{"$f":"IF(E131=\"-\",0,E131)","v":0},"-",{"$f":"IF(G131=\"-\",0,G131)","v":0},"-",{"$f":"IF(I131=\"-\",0,I131)","v":0},"-",{"$f":"IF(K131=\"-\",0,K131)","v":0},{"$f":"Table1016171819[[#This Row],[School]]","v":"-"},{"$f":"D131+F131+H131+J131+L131","v":0},{"$f":"MAX(C131,E131,G131,I131,K131)","v":0},{"$f":"IF(Q131=1,N131,IF(Q131=0,(N131-O131),\"-\"))","v":"-"},{"$f":"$L$1-Table1016171819[Competed Count]","v":4},{"$f":"IF(Q131<2,\"Yes\",\"No\")","v":"No"},{"$f":"AND($C$1=\"Y\",D131>0)","v":false},{"$f":"AND($E$1=\"Y\",F131>0)","v":false},{"$f":"AND($G$1=\"Y\",H131>0)","v":false},{"$f":"AND($I$1=\"Y\",J131>0)","v":false},{"$f":"AND($K$1=\"Y\",L131>0)","v":false},{"$f":"COUNTIF(Table1016171819[[#This Row],[Competed 1]:[Competed 5]],\"=TRUE\")","v":0}]
[null,"-","-",{"$f":"IF(C132=\"-\",0,C132)","v":0},"-",{"$f":"IF(E132=\"-\",0,E132)","v":0},"-",{"$f":"IF(G132=\"-\",0,G132)","v":0},"-",{"$f":"IF(I132=\"-\",0,I132)","v":0},"-",{"$f":"IF(K132=\"-\",0,K132)","v":0},{"$f":"Table1016171819[[#This Row],[School]]","v":"-"},{"$f":"D132+F132+H132+J132+L132","v":0},{"$f":"MAX(C132,E132,G132,I132,K132)","v":0},{"$f":"IF(Q132=1,N132,IF(Q132=0,(N132-O132),\"-\"))","v":"-"},{"$f":"$L$1-Table1016171819[Competed Count]","v":4},{"$f":"IF(Q132<2,\"Yes\",\"No\")","v":"No"},{"$f":"AND($C$1=\"Y\",D132>0)","v":false},{"$f":"AND($E$1=\"Y\",F132>0)","v":false},{"$f":"AND($G$1=\"Y\",H132>0)","v":false},{"$f":"AND($I$1=\"Y\",J132>0)","v":false},{"$f":"AND($K$1=\"Y\",L132>0)","v":false},{"$f":"COUNTIF(Table1016171819[[#This Row],[Competed 1]:[Competed 5]],\"=TRUE\")","v":0}]
[null,"-","-",{"$f":"IF(C133=\"-\",0,C133)","v":0},"-",{"$f":"IF(E133=\"-\",0,E133)","v":0},"-",{"$f":"IF(G133=\"-\",0,G133)","v":0},"-",{"$f":"IF(I133=\"-\",0,I133)","v":0},"-",{"$f":"IF(K133=\"-\",0,K133)","v":0},{"$f":"Table1016171819[[#This Row],[School]]","v":"-"},{"$f":"D133+F133+H133+J133+L133","v":0},{"$f":"MAX(C133,E133,G133,I133,K133)","v":0},{"$f":"IF(Q133=1,N133,IF(Q133=0,(N133-O133),\"-\"))","v":"-"},{"$f":"$L$1-Table1016171819[Competed Count]","v":4},{"$f":"IF(Q133<2,\"Yes\",\"No\")","v":"No"},{"$f":"AND($C$1=\"Y\",D133>0)","v":false},{"$f":"AND($E$1=\"Y\",F133>0)","v":false},{"$f":"AND($G$1=\"Y\",H133>0)","v":false},{"$f":"AND($I$1=\"Y\",J133>0)","v":false},{"$f":"AND($K$1=\"Y\",L133>0)","v":false},{"$f":"COUNTIF(Table1016171819[[#This Row],[Competed 1]:[Competed 5]],\"=TRUE\")","v":0}]
[null,"-","-",{"$f":"IF(C134=\"-\",0,C134)","v":0},"-",{"$f":"IF(E134=\"-\",0,E134)","v":0},"-",{"$f":"IF(G134=\"-\",0,G134)","v":0},"-",{"$f":"IF(I134=\"-\",0,I134)","v":0},"-",{"$f":"IF(K134=\"-\",0,K134)","v":0},{"$f":"Table1016171819[[#This Row],[School]]","v":"-"},{"$f":"D134+F134+H134+J134+L134","v":0},{"$f":"MAX(C134,E134,G134,I134,K134)","v":0},{"$f":"IF(Q134=1,N134,IF(Q134=0,(N134-O134),\"-\"))","v":"-"},{"$f":"$L$1-Table1016171819[Competed Count]","v":4},{"$f":"IF(Q134<2,\"Yes\",\"No\")","v":"No"},{"$f":"AND($C$1=\"Y\",D134>0)","v":false},{"$f":"AND($E$1=\"Y\",F134>0)","v":false},{"$f":"AND($G$1=\"Y\",H134>0)","v":false},{"$f":"AND($I$1=\"Y\",J134>0)","v":false},{"$f":"AND($K$1=\"Y\",L134>0)","v":false},{"$f":"COUNTIF(Table1016171819[[#This Row],[Competed 1]:[Competed 5]],\"=TRUE\")","v":0}]
[null,"-","-",{"$f":"IF(C135=\"-\",0,C135)","v":0},"-",{"$f":"IF(E135=\"-\",0,E135)","v":0},"-",{"$f":"IF(G135=\"-\",0,G135)","v":0},"-",{"$f":"IF(I135=\"-\",0,I135)","v":0},"-",{"$f":"IF(K135=\"-\",0,K135)","v":0},{"$f":"Table1016171819[[#This Row],[School]]","v":"-"},{"$f":"D135+F135+H135+J135+L135","v":0},{"$f":"MAX(C135,E135,G135,I135,K135)","v":0},{"$f":"IF(Q135=1,N135,IF(Q135=0,(N135-O135),\"-\"))","v":"-"},{"$f":"$L$1-Table1016171819[Competed Count]","v":4},{"$f":"IF(Q135<2,\"Yes\",\"No\")","v":"No"},{"$f":"AND($C$1=\"Y\",D135>0)","v":false},{"$f":"AND($E$1=\"Y\",F135>0)","v":false},{"$f":"AND($G$1=\"Y\",H135>0)","v":false},{"$f":"AND($I$1=\"Y\",J135>0)","v":false},{"$f":"AND($K$1=\"Y\",L135>0)","v":false},{"$f":"COUNTIF(Table1016171819[[#This Row],[Competed 1]:[Competed 5]],\"=TRUE\")","v":0}]
[null,"-","-",{"$f":"IF(C136=\"-\",0,C136)","v":0},"-",{"$f":"IF(E136=\"-\",0,E136)","v":0},"-",{"$f":"IF(G136=\"-\",0,G136)","v":0},"-",{"$f":"IF(I136=\"-\",0,I136)","v":0},"-",{"$f":"IF(K136=\"-\",0,K136)","v":0},{"$f":"Table1016171819[[#This Row],[School]]","v":"-"},{"$f":"D136+F136+H136+J136+L136","v":0},{"$f":"MAX(C136,E136,G136,I136,K136)","v":0},{"$f":"IF(Q136=1,N136,IF(Q136=0,(N136-O136),\"-\"))","v":"-"},{"$f":"$L$1-Table1016171819[Competed Count]","v":4},{"$f":"IF(Q136<2,\"Yes\",\"No\")","v":"No"},{"$f":"AND($C$1=\"Y\",D136>0)","v":false},{"$f":"AND($E$1=\"Y\",F136>0)","v":false},{"$f":"AND($G$1=\"Y\",H136>0)","v":false},{"$f":"AND($I$1=\"Y\",J136>0)","v":false},{"$f":"AND($K$1=\"Y\",L136>0)","v":false},{"$f":"COUNTIF(Table1016171819[[#This Row],[Competed 1]:[Competed 5]],\"=TRUE\")","v":0}]
[null,"-","-",{"$f":"IF(C137=\"-\",0,C137)","v":0},"-",{"$f":"IF(E137=\"-\",0,E137)","v":0},"-",{"$f":"IF(G137=\"-\",0,G137)","v":0},"-",{"$f":"IF(I137=\"-\",0,I137)","v":0},"-",{"$f":"IF(K137=\"-\",0,K137)","v":0},{"$f":"Table1016171819[[#This Row],[School]]","v":"-"},{"$f":"D137+F137+H137+J137+L137","v":0},{"$f":"MAX(C137,E137,G137,I137,K137)","v":0},{"$f":"IF(Q137=1,N137,IF(Q137=0,(N137-O137),\"-\"))","v":"-"},{"$f":"$L$1-Table1016171819[Competed Count]","v":4},{"$f":"IF(Q137<2,\"Yes\",\"No\")","v":"No"},{"$f":"AND($C$1=\"Y\",D137>0)","v":false},{"$f":"AND($E$1=\"Y\",F137>0)","v":false},{"$f":"AND($G$1=\"Y\",H137>0)","v":false},{"$f":"AND($I$1=\"Y\",J137>0)","v":false},{"$f":"AND($K$1=\"Y\",L137>0)","v":false},{"$f":"COUNTIF(Table1016171819[[#This Row],[Competed 1]:[Competed 5]],\"=TRUE\")","v":0}]
[null,"-","-",{"$f":"IF(C138=\"-\",0,C138)","v":0},"-",{"$f":"IF(E138=\"-\",0,E138)","v":0},"-",{"$f":"IF(G138=\"-\",0,G138)","v":0},"-",{"$f":"IF(I138=\"-\",0,I138)","v":0},"-",{"$f":"IF(K138=\"-\",0,K138)","v":0},{"$f":"Table1016171819[[#This Row],[School]]","v":"-"},{"$f":"D138+F138+H138+J138+L138","v":0},{"$f":"MAX(C138,E138,G138,I138,K138)","v":0},{"$f":"IF(Q138=1,N138,IF(Q138=0,(N138-O138),\"-\"))","v":"-"},{"$f":"$L$1-Table1016171819[Competed Count]","v":4},{"$f":"IF(Q138<2,\"Yes\",\"No\")","v":"No"},{"$f":"AND($C$1=\"Y\",D138>0)","v":false},{"$f":"AND($E$1=\"Y\",F138>0)","v":false},{"$f":"AND($G$1=\"Y\",H138>0)","v":false},{"$f":"AND($I$1=\"Y\",J138>0)","v":false},{"$f":"AND($K$1=\"Y\",L138>0)","v":false},{"$f":"COUNTIF(Table1016171819[[#This Row],[Competed 1]:[Competed 5]],\"=TRUE\")","v":0}]
[null,"-","-",{"$f":"IF(C139=\"-\",0,C139)","v":0},"-",{"$f":"IF(E139=\"-\",0,E139)","v":0},"-",{"$f":"IF(G139=\"-\",0,G139)","v":0},"-",{"$f":"IF(I139=\"-\",0,I139)","v":0},"-",{"$f":"IF(K139=\"-\",0,K139)","v":0},{"$f":"Table1016171819[[#This Row],[School]]","v":"-"},{"$f":"D139+F139+H139+J139+L139","v":0},{"$f":"MAX(C139,E139,G139,I139,K139)","v":0},{"$f":"IF(Q139=1,N139,IF(Q139=0,(N139-O139),\"-\"))","v":"-"},{"$f":"$L$1-Table1016171819[Competed Count]","v":4},{"$f":"IF(Q139<2,\"Yes\",\"No\")","v":"No"},{"$f":"AND($C$1=\"Y\",D139>0)","v":false},{"$f":"AND($E$1=\"Y\",F139>0)","v":false},{"$f":"AND($G$1=\"Y\",H139>0)","v":false},{"$f":"AND($I$1=\"Y\",J139>0)","v":false},{"$f":"AND($K$1=\"Y\",L139>0)","v":false},{"$f":"COUNTIF(Table1016171819[[#This Row],[Competed 1]:[Competed 5]],\"=TRUE\")","v":0}]
[null,"-","-",{"$f":"IF(C140=\"-\",0,C140)","v":0},"-",{"$f":"IF(E140=\"-\",0,E140)","v":0},"-",{"$f":"IF(G140=\"-\",0,G140)","v":0},"-",{"$f":"IF(I140=\"-\",0,I140)","v":0},"-",{"$f":"IF(K140=\"-\",0,K140)","v":0},{"$f":"Table1016171819[[#This Row],[School]]","v":"-"},{"$f":"D140+F140+H140+J140+L140","v":0},{"$f":"MAX(C140,E140,G140,I140,K140)","v":0},{"$f":"IF(Q140=1,N140,IF(Q140=0,(N140-O140),\"-\"))","v":"-"},{"$f":"$L$1-Table1016171819[Competed Count]","v":4},{"$f":"IF(Q140<2,\"Yes\",\"No\")","v":"No"},{"$f":"AND($C$1=\"Y\",D140>0)","v":false},{"$f":"AND($E$1=\"Y\",F140>0)","v":false},{"$f":"AND($G$1=\"Y\",H140>0)","v":false},{"$f":"AND($I$1=\"Y\",J140>0)","v":false},{"$f":"AND($K$1=\"Y\",L140>0)","v":false},{"$f":"COUNTIF(Table1016171819[[#This Row],[Competed 1]:[Competed 5]],\"=TRUE\")","v":0}]
[null,"-","-",{"$f":"IF(C141=\"-\",0,C141)","v":0},"-",{"$f":"IF(E141=\"-\",0,E141)","v":0},"-",{"$f":"IF(G141=\"-\",0,G141)","v":0},"-",{"$f":"IF(I141=\"-\",0,I141)","v":0},"-",{"$f":"IF(K141=\"-\",0,K141)","v":0},{"$f":"Table1016171819[[#This Row],[School]]","v":"-"},{"$f":"D141+F141+H141+J141+L141","v":0},{"$f":"MAX(C141,E141,G141,I141,K141)","v":0},{"$f":"IF(Q141=1,N141,IF(Q141=0,(N141-O141),\"-\"))","v":"-"},{"$f":"$L$1-Table1016171819[Competed Count]","v":4},{"$f":"IF(Q141<2,\"Yes\",\"No\")","v":"No"},{"$f":"AND($C$1=\"Y\",D141>0)","v":false},{"$f":"AND($E$1=\"Y\",F141>0)","v":false},{"$f":"AND($G$1=\"Y\",H141>0)","v":false},{"$f":"AND($I$1=\"Y\",J141>0)","v":false},{"$f":"AND($K$1=\"Y\",L141>0)","v":false},{"$f":"COUNTIF(Table1016171819[[#This Row],[Competed 1]:[Competed 5]],\"=TRUE\")","v":0}]
[null,"-","-",{"$f":"IF(C142=\"-\",0,C142)","v":0},"-",{"$f":"IF(E142=\"-\",0,E142)","v":0},"-",{"$f":"IF(G142=\"-\",0,G142)","v":0},"-",{"$f":"IF(I142=\"-\",0,I142)","v":0},"-",{"$f":"IF(K142=\"-\",0,K142)","v":0},{"$f":"Table1016171819[[#This Row],[School]]","v":"-"},{"$f":"D142+F142+H142+J142+L142","v":0},{"$f":"MAX(C142,E142,G142,I142,K142)","v":0},{"$f":"IF(Q142=1,N142,IF(Q142=0,(N142-O142),\"-\"))","v":"-"},{"$f":"$L$1-Table1016171819[Competed Count]","v":4},{"$f":"IF(Q142<2,\"Yes\",\"No\")","v":"No"},{"$f":"AND($C$1=\"Y\",D142>0)","v":false},{"$f":"AND($E$1=\"Y\",F142>0)","v":false},{"$f":"AND($G$1=\"Y\",H142>0)","v":false},{"$f":"AND($I$1=\"Y\",J142>0)","v":false},{"$f":"AND($K$1=\"Y\",L142>0)","v":false},{"$f":"COUNTIF(Table1016171819[[#This Row],[Competed 1]:[Competed 5]],\"=TRUE\")","v":0}]
[null,"-","-",{"$f":"IF(C143=\"-\",0,C143)","v":0},"-",{"$f":"IF(E143=\"-\",0,E143)","v":0},"-",{"$f":"IF(G143=\"-\",0,G143)","v":0},"-",{"$f":"IF(I143=\"-\",0,I143)","v":0},"-",{"$f":"IF(K143=\"-\",0,K143)","v":0},{"$f":"Table1016171819[[#This Row],[School]]","v":"-"},{"$f":"D143+F143+H143+J143+L143","v":0},{"$f":"MAX(C143,E143,G143,I143,K143)","v":0},{"$f":"IF(Q143=1,N143,IF(Q143=0,(N143-O143),\"-\"))","v":"-"},{"$f":"$L$1-Table1016171819[Competed Count]","v":4},{"$f":"IF(Q143<2,\"Yes\",\"No\")","v":"No"},{"$f":"AND($C$1=\"Y\",D143>0)","v":false},{"$f":"AND($E$1=\"Y\",F143>0)","v":false},{"$f":"AND($G$1=\"Y\",H143>0)","v":false},{"$f":"AND($I$1=\"Y\",J143>0)","v":false},{"$f":"AND($K$1=\"Y\",L143>0)","v":false},{"$f":"COUNTIF(Table1016171819[[#This Row],[Competed 1]:[Competed 5]],\"=TRUE\")","v":0}]
[null,"-","-",{"$f":"IF(C144=\"-\",0,C144)","v":0},"-",{"$f":"IF(E144=\"-\",0,E144)","v":0},"-",{"$f":"IF(G144=\"-\",0,G144)","v":0},"-",{"$f":"IF(I144=\"-\",0,I144)","v":0},"-",{"$f":"IF(K144=\"-\",0,K144)","v":0},{"$f":"Table1016171819[[#This Row],[School]]","v":"-"},{"$f":"D144+F144+H144+J144+L144","v":0},{"$f":"MAX(C144,E144,G144,I144,K144)","v":0},{"$f":"IF(Q144=1,N144,IF(Q144=0,(N144-O144),\"-\"))","v":"-"},{"$f":"$L$1-Table1016171819[Competed Count]","v":4},{"$f":"IF(Q144<2,\"Yes\",\"No\")","v":"No"},{"$f":"AND($C$1=\"Y\",D144>0)","v":false},{"$f":"AND($E$1=\"Y\",F144>0)","v":false},{"$f":"AND($G$1=\"Y\",H144>0)","v":false},{"$f":"AND($I$1=\"Y\",J144>0)","v":false},{"$f":"AND($K$1=\"Y\",L144>0)","v":false},{"$f":"COUNTIF(Table1016171819[[#This Row],[Competed 1]:[Competed 5]],\"=TRUE\")","v":0}]
[null,"-","-",{"$f":"IF(C145=\"-\",0,C145)","v":0},"-",{"$f":"IF(E145=\"-\",0,E145)","v":0},"-",{"$f":"IF(G145=\"-\",0,G145)","v":0},"-",{"$f":"IF(I145=\"-\",0,I145)","v":0},"-",{"$f":"IF(K145=\"-\",0,K145)","v":0},{"$f":"Table1016171819[[#This Row],[School]]","v":"-"},{"$f":"D145+F145+H145+J145+L145","v":0},{"$f":"MAX(C145,E145,G145,I145,K145)","v":0},{"$f":"IF(Q145=1,N145,IF(Q145=0,(N145-O145),\"-\"))","v":"-"},{"$f":"$L$1-Table1016171819[Competed Count]","v":4},{"$f":"IF(Q145<2,\"Yes\",\"No\")","v":"No"},{"$f":"AND($C$1=\"Y\",D145>0)","v":false},{"$f":"AND($E$1=\"Y\",F145>0)","v":false},{"$f":"AND($G$1=\"Y\",H145>0)","v":false},{"$f":"AND($I$1=\"Y\",J145>0)","v":false},{"$f":"AND($K$1=\"Y\",L145>0)","v":false},{"$f":"COUNTIF(Table1016171819[[#This Row],[Competed 1]:[Competed 5]],\"=TRUE\")","v":0}]
[null,"-","-",{"$f":"IF(C146=\"-\",0,C146)","v":0},"-",{"$f":"IF(E146=\"-\",0,E146)","v":0},"-",{"$f":"IF(G146=\"-\",0,G146)","v":0},"-",{"$f":"IF(I146=\"-\",0,I146)","v":0},"-",{"$f":"IF(K146=\"-\",0,K146)","v":0},{"$f":"Table1016171819[[#This Row],[School]]","v":"-"},{"$f":"D146+F146+H146+J146+L146","v":0},{"$f":"MAX(C146,E146,G146,I146,K146)","v":0},{"$f":"IF(Q146=1,N146,IF(Q146=0,(N146-O146),\"-\"))","v":"-"},{"$f":"$L$1-Table1016171819[Competed Count]","v":4},{"$f":"IF(Q146<2,\"Yes\",\"No\")","v":"No"},{"$f":"AND($C$1=\"Y\",D146>0)","v":false},{"$f":"AND($E$1=\"Y\",F146>0)","v":false},{"$f":"AND($G$1=\"Y\",H146>0)","v":false},{"$f":"AND($I$1=\"Y\",J146>0)","v":false},{"$f":"AND($K$1=\"Y\",L146>0)","v":false},{"$f":"COUNTIF(Table1016171819[[#This Row],[Competed 1]:[Competed 5]],\"=TRUE\")","v":0}]
[null,"-","-",{"$f":"IF(C147=\"-\",0,C147)","v":0},"-",{"$f":"IF(E147=\"-\",0,E147)","v":0},"-",{"$f":"IF(G147=\"-\",0,G147)","v":0},"-",{"$f":"IF(I147=\"-\",0,I147)","v":0},"-",{"$f":"IF(K147=\"-\",0,K147)","v":0},{"$f":"Table1016171819[[#This Row],[School]]","v":"-"},{"$f":"D147+F147+H147+J147+L147","v":0},{"$f":"MAX(C147,E147,G147,I147,K147)","v":0},{"$f":"IF(Q147=1,N147,IF(Q147=0,(N147-O147),\"-\"))","v":"-"},{"$f":"$L$1-Table1016171819[Competed Count]","v":4},{"$f":"IF(Q147<2,\"Yes\",\"No\")","v":"No"},{"$f":"AND($C$1=\"Y\",D147>0)","v":false},{"$f":"AND($E$1=\"Y\",F147>0)","v":false},{"$f":"AND($G$1=\"Y\",H147>0)","v":false},{"$f":"AND($I$1=\"Y\",J147>0)","v":false},{"$f":"AND($K$1=\"Y\",L147>0)","v":false},{"$f":"COUNTIF(Table1016171819[[#This Row],[Competed 1]:[Competed 5]],\"=TRUE\")","v":0}]
[null,"-","-",{"$f":"IF(C148=\"-\",0,C148)","v":0},"-",{"$f":"IF(E148=\"-\",0,E148)","v":0},"-",{"$f":"IF(G148=\"-\",0,G148)","v":0},"-",{"$f":"IF(I148=\"-\",0,I148)","v":0},"-",{"$f":"IF(K148=\"-\",0,K148)","v":0},{"$f":"Table1016171819[[#This Row],[School]]","v":"-"},{"$f":"D148+F148+H148+J148+L148","v":0},{"$f":"MAX(C148,E148,G148,I148,K148)","v":0},{"$f":"IF(Q148=1,N148,IF(Q148=0,(N148-O148),\"-\"))","v":"-"},{"$f":"$L$1-Table1016171819[Competed Count]","v":4},{"$f":"IF(Q148<2,\"Yes\",\"No\")","v":"No"},{"$f":"AND($C$1=\"Y\",D148>0)","v":false},{"$f":"AND($E$1=\"Y\",F148>0)","v":false},{"$f":"AND($G$1=\"Y\",H148>0)","v":false},{"$f":"AND($I$1=\"Y\",J148>0)","v":false},{"$f":"AND($K$1=\"Y\",L148>0)","v":false},{"$f":"COUNTIF(Table1016171819[[#This Row],[Competed 1]:[Competed 5]],\"=TRUE\")","v":0}]
[null,"-","-",{"$f":"IF(C149=\"-\",0,C149)","v":0},"-",{"$f":"IF(E149=\"-\",0,E149)","v":0},"-",{"$f":"IF(G149=\"-\",0,G149)","v":0},"-",{"$f":"IF(I149=\"-\",0,I149)","v":0},"-",{"$f":"IF(K149=\"-\",0,K149)","v":0},{"$f":"Table1016171819[[#This Row],[School]]","v":"-"},{"$f":"D149+F149+H149+J149+L149","v":0},{"$f":"MAX(C149,E149,G149,I149,K149)","v":0},{"$f":"IF(Q149=1,N149,IF(Q149=0,(N149-O149),\"-\"))","v":"-"},{"$f":"$L$1-Table1016171819[Competed Count]","v":4},{"$f":"IF(Q149<2,\"Yes\",\"No\")","v":"No"},{"$f":"AND($C$1=\"Y\",D149>0)","v":false},{"$f":"AND($E$1=\"Y\",F149>0)","v":false},{"$f":"AND($G$1=\"Y\",H149>0)","v":false},{"$f":"AND($I$1=\"Y\",J149>0)","v":false},{"$f":"AND($K$1=\"Y\",L149>0)","v":false},{"$f":"COUNTIF(Table1016171819[[#This Row],[Competed 1]:[Competed 5]],\"=TRUE\")","v":0}]
[null,"-","-",{"$f":"IF(C150=\"-\",0,C150)","v":0},"-",{"$f":"IF(E150=\"-\",0,E150)","v":0},"-",{"$f":"IF(G150=\"-\",0,G150)","v":0},"-",{"$f":"IF(I150=\"-\",0,I150)","v":0},"-",{"$f":"IF(K150=\"-\",0,K150)","v":0},{"$f":"Table1016171819[[#This Row],[School]]","v":"-"},{"$f":"D150+F150+H150+J150+L150","v":0},{"$f":"MAX(C150,E150,G150,I150,K150)","v":0},{"$f":"IF(Q150=1,N150,IF(Q150=0,(N150-O150),\"-\"))","v":"-"},{"$f":"$L$1-Table1016171819[Competed Count]","v":4},{"$f":"IF(Q150<2,\"Yes\",\"No\")","v":"No"},{"$f":"AND($C$1=\"Y\",D150>0)","v":false},{"$f":"AND($E$1=\"Y\",F150>0)","v":false},{"$f":"AND($G$1=\"Y\",H150>0)","v":false},{"$f":"AND($I$1=\"Y\",J150>0)","v":false},{"$f":"AND($K$1=\"Y\",L150>0)","v":false},{"$f":"COUNTIF(Table1016171819[[#This Row],[Competed 1]:[Competed 5]],\"=TRUE\")","v":0}]

{"sheet":"SB","index":7,"n_rows":150,"n_cols":29,"rows_kept":150,"cut":false,"hidden":false,"merged":[]}
["Total Number of Runners","Race Complete (Y/N) ",{"$f":"Y7G!C1","v":"Y"},null,{"$f":"Y7G!E1","v":"Y"},null,{"$f":"Y7G!G1","v":"Y"},null,{"$f":"Y7G!I1","v":"Y"},null,{"$f":"Y7G!K1","v":"N"},{"$f":"COUNTIF(C1:K1,\"=Y\")","v":4},null,null,null,null,null,"Total Eligible for League",null,{"$f":"IF(K1=\"Y\",1,0)","v":0},null,{"$f":"SUM(S1:T1)","v":0}]
[{"$f":"COUNTA(A5:A300)","v":25},"No of Finishers",10,{"$f":"MAX(D5:D151)","v":10},12,12,10,10,13,13,null,null,null,null,null,null,null,{"$f":"COUNTIF(R5:R200,\"Yes\")","v":6}]
["Senior Boys","Number of results recorded",{"$f":"COUNTIF(C5:C150,\">0\")","v":10},null,{"$f":"COUNTIF(F5:F150,\">0\")","v":12},null,10,null,{"$f":"COUNTIF(J5:J150,\">0\")","v":13},null,0]
["Name","School","Race 1","Normalised result -1","Race 2","Normalised result -2","Race 3","Normalised result -3","Race 4","Normalised result -4","Race 5","Normalised result -5","Duplicate School","Total\n(All Races)","Lowest Place Finish","Final Total","League contender?\n(No. of races - missed)","Eligible For League Title","Competed 1","Competed 2","Competed 3","Competed 4","Competed 5","Competed Count",null,null,null,null," "]
["Alfie Thompson","Ratcliffe College","-",{"$f":"IF(C5=\"-\",0,C5)","v":0},"-",{"$f":"IF(E5=\"-\",0,E5)","v":0},"-",{"$f":"IF(G5=\"-\",0,G5)","v":0},1,{"$f":"IF(I5=\"-\",0,I5)","v":1},"-",{"$f":"IF(K5=\"-\",0,K5)","v":0},{"$f":"Table101617181920[[#This Row],[School]]","v":"Ratcliffe College"},{"$f":"D5+F5+H5+J5+L5","v":1},{"$f":"MAX(C5,E5,G5,I5,K5)","v":1},{"$f":"IF(Q5=1,N5,IF(Q5=0,(N5-O5),\"-\"))","v":"-"},{"$f":"$L$1-Table101617181920[Competed Count]","v":3},{"$f":"IF(Q5<2,\"Yes\",\"No\")","v":"No"},{"$f":"AND($C$1=\"Y\",D5>0)","v":false},{"$f":"AND($E$1=\"Y\",F5>0)","v":false},{"$f":"AND($G$1=\"Y\",H5>0)","v":false},{"$f":"AND($I$1=\"Y\",J5>0)","v":true},{"$f":"AND($K$1=\"Y\",L5>0)","v":false},{"$f":"COUNTIF(Table101617181920[[#This Row],[Competed 1]:[Competed 5]],\"=TRUE\")","v":1}]
["Tom Gostelow","De Lisle College",2,{"$f":"IF(C6=\"-\",0,C6)","v":2},"-",{"$f":"IF(E6=\"-\",0,E6)","v":0},1,{"$f":"IF(G6=\"-\",0,G6)","v":1},2,{"$f":"IF(I6=\"-\",0,I6)","v":2},"-",{"$f":"IF(K6=\"-\",0,K6)","v":0},{"$f":"Table101617181920[[#This Row],[School]]","v":"De Lisle College"},{"$f":"D6+F6+H6+J6+L6","v":5},{"$f":"MAX(C6,E6,G6,I6,K6)","v":2},{"$f":"IF(Q6=1,N6,IF(Q6=0,(N6-O6),\"-\"))","v":5},{"$f":"$L$1-Table101617181920[Competed Count]","v":1},{"$f":"IF(Q6<2,\"Yes\",\"No\")","v":"Yes"},{"$f":"AND($C$1=\"Y\",D6>0)","v":true},{"$f":"AND($E$1=\"Y\",F6>0)","v":false},{"$f":"AND($G$1=\"Y\",H6>0)","v":true},{"$f":"AND($I$1=\"Y\",J6>0)","v":true},{"$f":"AND($K$1=\"Y\",L6>0)","v":false},{"$f":"COUNTIF(Table101617181920[[#This Row],[Competed 1]:[Competed 5]],\"=TRUE\")","v":3}]
["Oliver Freer","Loughborough College",3,{"$f":"IF(C7=\"-\",0,C7)","v":3},"-",{"$f":"IF(E7=\"-\",0,E7)","v":0},3,{"$f":"IF(G7=\"-\",0,G7)","v":3},3,{"$f":"IF(I7=\"-\",0,I7)","v":3},"-",{"$f":"IF(K7=\"-\",0,K7)","v":0},{"$f":"Table101617181920[[#This Row],[School]]","v":"Loughborough College"},{"$f":"D7+F7+H7+J7+L7","v":9},{"$f":"MAX(C7,E7,G7,I7,K7)","v":3},{"$f":"IF(Q7=1,N7,IF(Q7=0,(N7-O7),\"-\"))","v":9},{"$f":"$L$1-Table101617181920[Competed Count]","v":1},{"$f":"IF(Q7<2,\"Yes\",\"No\")","v":"Yes"},{"$f":"AND($C$1=\"Y\",D7>0)","v":true},{"$f":"AND($E$1=\"Y\",F7>0)","v":false},{"$f":"AND($G$1=\"Y\",H7>0)","v":true},{"$f":"AND($I$1=\"Y\",J7>0)","v":true},{"$f":"AND($K$1=\"Y\",L7>0)","v":false},{"$f":"COUNTIF(Table101617181920[[#This Row],[Competed 1]:[Competed 5]],\"=TRUE\")","v":3}]
["George Burnett","Loughborough Grammar School","-",{"$f":"IF(C8=\"-\",0,C8)","v":0},"-",{"$f":"IF(E8=\"-\",0,E8)","v":0},2,{"$f":"IF(G8=\"-\",0,G8)","v":2},4,{"$f":"IF(I8=\"-\",0,I8)","v":4},"-",{"$f":"IF(K8=\"-\",0,K8)","v":0},{"$f":"Table101617181920[[#This Row],[School]]","v":"Loughborough Grammar School"},{"$f":"D8+F8+H8+J8+L8","v":6},{"$f":"MAX(C8,E8,G8,I8,K8)","v":4},{"$f":"IF(Q8=1,N8,IF(Q8=0,(N8-O8),\"-\"))","v":"-"},{"$f":"$L$1-Table101617181920[Competed Count]","v":2},{"$f":"IF(Q8<2,\"Yes\",\"No\")","v":"No"},{"$f":"AND($C$1=\"Y\",D8>0)","v":false},{"$f":"AND($E$1=\"Y\",F8>0)","v":false},{"$f":"AND($G$1=\"Y\",H8>0)","v":true},{"$f":"AND($I$1=\"Y\",J8>0)","v":true},{"$f":"AND($K$1=\"Y\",L8>0)","v":false},{"$f":"COUNTIF(Table101617181920[[#This Row],[Competed 1]:[Competed 5]],\"=TRUE\")","v":2}]
["Archie Banks","Ratcliffe College","-",{"$f":"IF(C9=\"-\",0,C9)","v":0},"-",{"$f":"IF(E9=\"-\",0,E9)","v":0},"-",{"$f":"IF(G9=\"-\",0,G9)","v":0},5,{"$f":"IF(I9=\"-\",0,I9)","v":5},"-",{"$f":"IF(K9=\"-\",0,K9)","v":0},{"$f":"Table101617181920[[#This Row],[School]]","v":"Ratcliffe College"},{"$f":"D9+F9+H9+J9+L9","v":5},{"$f":"MAX(C9,E9,G9,I9,K9)","v":5},{"$f":"IF(Q9=1,N9,IF(Q9=0,(N9-O9),\"-\"))","v":"-"},{"$f":"$L$1-Table101617181920[Competed Count]","v":3},{"$f":"IF(Q9<2,\"Yes\",\"No\")","v":"No"},{"$f":"AND($C$1=\"Y\",D9>0)","v":false},{"$f":"AND($E$1=\"Y\",F9>0)","v":false},{"$f":"AND($G$1=\"Y\",H9>0)","v":false},{"$f":"AND($I$1=\"Y\",J9>0)","v":true},{"$f":"AND($K$1=\"Y\",L9>0)","v":false},{"$f":"COUNTIF(Table101617181920[[#This Row],[Competed 1]:[Competed 5]],\"=TRUE\")","v":1}]
["Pascal Bouttier-Butler","Groby CC",5,{"$f":"IF(C10=\"-\",0,C10)","v":5},1,{"$f":"IF(E10=\"-\",0,E10)","v":1},5,{"$f":"IF(G10=\"-\",0,G10)","v":5},6,{"$f":"IF(I10=\"-\",0,I10)","v":6},"-",{"$f":"IF(K10=\"-\",0,K10)","v":0},{"$f":"Table101617181920[[#This Row],[School]]","v":"Groby CC"},{"$f":"D10+F10+H10+J10+L10","v":17},{"$f":"MAX(C10,E10,G10,I10,K10)","v":6},{"$f":"IF(Q10=1,N10,IF(Q10=0,(N10-O10),\"-\"))","v":11},{"$f":"$L$1-Table101617181920[Competed Count]","v":0},{"$f":"IF(Q10<2,\"Yes\",\"No\")","v":"Yes"},{"$f":"AND($C$1=\"Y\",D10>0)","v":true},{"$f":"AND($E$1=\"Y\",F10>0)","v":true},{"$f":"AND($G$1=\"Y\",H10>0)","v":true},{"$f":"AND($I$1=\"Y\",J10>0)","v":true},{"$f":"AND($K$1=\"Y\",L10>0)","v":false},{"$f":"COUNTIF(Table101617181920[[#This Row],[Competed 1]:[Competed 5]],\"=TRUE\")","v":4}]
["James McCall","Dixie Grammar School",7,{"$f":"IF(C11=\"-\",0,C11)","v":7},5,{"$f":"IF(E11=\"-\",0,E11)","v":5},8,{"$f":"IF(G11=\"-\",0,G11)","v":8},7,{"$f":"IF(I11=\"-\",0,I11)","v":7},"-",{"$f":"IF(K11=\"-\",0,K11)","v":0},{"$f":"Table101617181920[[#This Row],[School]]","v":"Dixie Grammar School"},{"$f":"D11+F11+H11+J11+L11","v":27},{"$f":"MAX(C11,E11,G11,I11,K11)","v":8},{"$f":"IF(Q11=1,N11,IF(Q11=0,(N11-O11),\"-\"))","v":19},{"$f":"$L$1-Table101617181920[Competed Count]","v":0},{"$f":"IF(Q11<2,\"Yes\",\"No\")","v":"Yes"},{"$f":"AND($C$1=\"Y\",D11>0)","v":true},{"$f":"AND($E$1=\"Y\",F11>0)","v":true},{"$f":"AND($G$1=\"Y\",H11>0)","v":true},{"$f":"AND($I$1=\"Y\",J11>0)","v":true},{"$f":"AND($K$1=\"Y\",L11>0)","v":false},{"$f":"COUNTIF(Table101617181920[[#This Row],[Competed 1]:[Competed 5]],\"=TRUE\")","v":4}]
["Edward Thomas","Rawlins Academy",8,{"$f":"IF(C12=\"-\",0,C12)","v":8},6,{"$f":"IF(E12=\"-\",0,E12)","v":6},7,{"$f":"IF(G12=\"-\",0,G12)","v":7},8,{"$f":"IF(I12=\"-\",0,I12)","v":8},"-",{"$f":"IF(K12=\"-\",0,K12)","v":0},{"$f":"Table101617181920[[#This Row],[School]]","v":"Rawlins Academy"},{"$f":"D12+F12+H12+J12+L12","v":29},{"$f":"MAX(C12,E12,G12,I12,K12)","v":8},{"$f":"IF(Q12=1,N12,IF(Q12=0,(N12-O12),\"-\"))","v":21},{"$f":"$L$1-Table101617181920[Competed Count]","v":0},{"$f":"IF(Q12<2,\"Yes\",\"No\")","v":"Yes"},{"$f":"AND($C$1=\"Y\",D12>0)","v":true},{"$f":"AND($E$1=\"Y\",F12>0)","v":true},{"$f":"AND($G$1=\"Y\",H12>0)","v":true},{"$f":"AND($I$1=\"Y\",J12>0)","v":true},{"$f":"AND($K$1=\"Y\",L12>0)","v":false},{"$f":"COUNTIF(Table101617181920[[#This Row],[Competed 1]:[Competed 5]],\"=TRUE\")","v":4}]
["Alfie Lowe","Rawlins Academy","-",{"$f":"IF(C13=\"-\",0,C13)","v":0},8,{"$f":"IF(E13=\"-\",0,E13)","v":8},"-",{"$f":"IF(G13=\"-\",0,G13)","v":0},9,{"$f":"IF(I13=\"-\",0,I13)","v":9},"-",{"$f":"IF(K13=\"-\",0,K13)","v":0},{"$f":"Table101617181920[[#This Row],[School]]","v":"Rawlins Academy"},{"$f":"D13+F13+H13+J13+L13","v":17},{"$f":"MAX(C13,E13,G13,I13,K13)","v":9},{"$f":"IF(Q13=1,N13,IF(Q13=0,(N13-O13),\"-\"))","v":"-"},{"$f":"$L$1-Table101617181920[Competed Count]","v":2},{"$f":"IF(Q13<2,\"Yes\",\"No\")","v":"No"},{"$f":"AND($C$1=\"Y\",D13>0)","v":false},{"$f":"AND($E$1=\"Y\",F13>0)","v":true},{"$f":"AND($G$1=\"Y\",H13>0)","v":false},{"$f":"AND($I$1=\"Y\",J13>0)","v":true},{"$f":"AND($K$1=\"Y\",L13>0)","v":false},{"$f":"COUNTIF(Table101617181920[[#This Row],[Competed 1]:[Competed 5]],\"=TRUE\")","v":2}]
["Mark McCall","Dixie Grammar School",9,{"$f":"IF(C14=\"-\",0,C14)","v":9},11,{"$f":"IF(E14=\"-\",0,E14)","v":11},"-",{"$f":"IF(G14=\"-\",0,G14)","v":0},10,{"$f":"IF(I14=\"-\",0,I14)","v":10},"-",{"$f":"IF(K14=\"-\",0,K14)","v":0},{"$f":"Table101617181920[[#This Row],[School]]","v":"Dixie Grammar School"},{"$f":"D14+F14+H14+J14+L14","v":30},{"$f":"MAX(C14,E14,G14,I14,K14)","v":11},{"$f":"IF(Q14=1,N14,IF(Q14=0,(N14-O14),\"-\"))","v":30},{"$f":"$L$1-Table101617181920[Competed Count]","v":1},{"$f":"IF(Q14<2,\"Yes\",\"No\")","v":"Yes"},{"$f":"AND($C$1=\"Y\",D14>0)","v":true},{"$f":"AND($E$1=\"Y\",F14>0)","v":true},{"$f":"AND($G$1=\"Y\",H14>0)","v":false},{"$f":"AND($I$1=\"Y\",J14>0)","v":true},{"$f":"AND($K$1=\"Y\",L14>0)","v":false},{"$f":"COUNTIF(Table101617181920[[#This Row],[Competed 1]:[Competed 5]],\"=TRUE\")","v":3}]
["F Beresford","Loughborough Grammar School","-",{"$f":"IF(C15=\"-\",0,C15)","v":0},"-",{"$f":"IF(E15=\"-\",0,E15)","v":0},"-",{"$f":"IF(G15=\"-\",0,G15)","v":0},11,{"$f":"IF(I15=\"-\",0,I15)","v":11},"-",{"$f":"IF(K15=\"-\",0,K15)","v":0},{"$f":"Table101617181920[[#This Row],[School]]","v":"Loughborough Grammar School"},{"$f":"D15+F15+H15+J15+L15","v":11},{"$f":"MAX(C15,E15,G15,I15,K15)","v":11},{"$f":"IF(Q15=1,N15,IF(Q15=0,(N15-O15),\"-\"))","v":"-"},{"$f":"$L$1-Table101617181920[Competed Count]","v":3},{"$f":"IF(Q15<2,\"Yes\",\"No\")","v":"No"},{"$f":"AND($C$1=\"Y\",D15>0)","v":false},{"$f":"AND($E$1=\"Y\",F15>0)","v":false},{"$f":"AND($G$1=\"Y\",H15>0)","v":false},{"$f":"AND($I$1=\"Y\",J15>0)","v":true},{"$f":"AND($K$1=\"Y\",L15>0)","v":false},{"$f":"COUNTIF(Table101617181920[[#This Row],[Competed 1]:[Competed 5]],\"=TRUE\")","v":1}]
["Z Xu","Loughborough Grammar School","-",{"$f":"IF(C16=\"-\",0,C16)","v":0},"-",{"$f":"IF(E16=\"-\",0,E16)","v":0},"-",{"$f":"IF(G16=\"-\",0,G16)","v":0},12,{"$f":"IF(I16=\"-\",0,I16)","v":12},"-",{"$f":"IF(K16=\"-\",0,K16)","v":0},{"$f":"Table101617181920[[#This Row],[School]]","v":"Loughborough Grammar School"},{"$f":"D16+F16+H16+J16+L16","v":12},{"$f":"MAX(C16,E16,G16,I16,K16)","v":12},{"$f":"IF(Q16=1,N16,IF(Q16=0,(N16-O16),\"-\"))","v":"-"},{"$f":"$L$1-Table101617181920[Competed Count]","v":3},{"$f":"IF(Q16<2,\"Yes\",\"No\")","v":"No"},{"$f":"AND($C$1=\"Y\",D16>0)","v":false},{"$f":"AND($E$1=\"Y\",F16>0)","v":false},{"$f":"AND($G$1=\"Y\",H16>0)","v":false},{"$f":"AND($I$1=\"Y\",J16>0)","v":true},{"$f":"AND($K$1=\"Y\",L16>0)","v":false},{"$f":"COUNTIF(Table101617181920[[#This Row],[Competed 1]:[Competed 5]],\"=TRUE\")","v":1}]
["Y Hu","Loughborough Grammar School","-",{"$f":"IF(C17=\"-\",0,C17)","v":0},"-",{"$f":"IF(E17=\"-\",0,E17)","v":0},"-",{"$f":"IF(G17=\"-\",0,G17)","v":0},13,{"$f":"IF(I17=\"-\",0,I17)","v":13},"-",{"$f":"IF(K17=\"-\",0,K17)","v":0},{"$f":"Table101617181920[[#This Row],[School]]","v":"Loughborough Grammar School"},{"$f":"D17+F17+H17+J17+L17","v":13},{"$f":"MAX(C17,E17,G17,I17,K17)","v":13},{"$f":"IF(Q17=1,N17,IF(Q17=0,(N17-O17),\"-\"))","v":"-"},{"$f":"$L$1-Table101617181920[Competed Count]","v":3},{"$f":"IF(Q17<2,\"Yes\",\"No\")","v":"No"},{"$f":"AND($C$1=\"Y\",D17>0)","v":false},{"$f":"AND($E$1=\"Y\",F17>0)","v":false},{"$f":"AND($G$1=\"Y\",H17>0)","v":false},{"$f":"AND($I$1=\"Y\",J17>0)","v":true},{"$f":"AND($K$1=\"Y\",L17>0)","v":false},{"$f":"COUNTIF(Table101617181920[[#This Row],[Competed 1]:[Competed 5]],\"=TRUE\")","v":1}]
["Tom Corby","Lutterworth College",4,{"$f":"IF(C18=\"-\",0,C18)","v":4},"-",{"$f":"IF(E18=\"-\",0,E18)","v":0},4,{"$f":"IF(G18=\"-\",0,G18)","v":4},"-",{"$f":"IF(I18=\"-\",0,I18)","v":0},"-",{"$f":"IF(K18=\"-\",0,K18)","v":0},{"$f":"Table101617181920[[#This Row],[School]]","v":"Lutterworth College"},{"$f":"D18+F18+H18+J18+L18","v":8},{"$f":"MAX(C18,E18,G18,I18,K18)","v":4},{"$f":"IF(Q18=1,N18,IF(Q18=0,(N18-O18),\"-\"))","v":"-"},{"$f":"$L$1-Table101617181920[Competed Count]","v":2},{"$f":"IF(Q18<2,\"Yes\",\"No\")","v":"No"},{"$f":"AND($C$1=\"Y\",D18>0)","v":true},{"$f":"AND($E$1=\"Y\",F18>0)","v":false},{"$f":"AND($G$1=\"Y\",H18>0)","v":true},{"$f":"AND($I$1=\"Y\",J18>0)","v":false},{"$f":"AND($K$1=\"Y\",L18>0)","v":false},{"$f":"COUNTIF(Table101617181920[[#This Row],[Competed 1]:[Competed 5]],\"=TRUE\")","v":2}]
["Mike Pitchers","Loughborough Grammar School","-",{"$f":"IF(C19=\"-\",0,C19)","v":0},4,{"$f":"IF(E19=\"-\",0,E19)","v":4},6,{"$f":"IF(G19=\"-\",0,G19)","v":6},"-",{"$f":"IF(I19=\"-\",0,I19)","v":0},"-",{"$f":"IF(K19=\"-\",0,K19)","v":0},{"$f":"Table101617181920[[#This Row],[School]]","v":"Loughborough Grammar School"},{"$f":"D19+F19+H19+J19+L19","v":10},{"$f":"MAX(C19,E19,G19,I19,K19)","v":6},{"$f":"IF(Q19=1,N19,IF(Q19=0,(N19-O19),\"-\"))","v":"-"},{"$f":"$L$1-Table101617181920[Competed Count]","v":2},{"$f":"IF(Q19<2,\"Yes\",\"No\")","v":"No"},{"$f":"AND($C$1=\"Y\",D19>0)","v":false},{"$f":"AND($E$1=\"Y\",F19>0)","v":true},{"$f":"AND($G$1=\"Y\",H19>0)","v":true},{"$f":"AND($I$1=\"Y\",J19>0)","v":false},{"$f":"AND($K$1=\"Y\",L19>0)","v":false},{"$f":"COUNTIF(Table101617181920[[#This Row],[Competed 1]:[Competed 5]],\"=TRUE\")","v":2}]
["Bradley Hill","Charnwood College","-",{"$f":"IF(C20=\"-\",0,C20)","v":0},"-",{"$f":"IF(E20=\"-\",0,E20)","v":0},9,{"$f":"IF(G20=\"-\",0,G20)","v":9},"-",{"$f":"IF(I20=\"-\",0,I20)","v":0},"-",{"$f":"IF(K20=\"-\",0,K20)","v":0},{"$f":"Table101617181920[[#This Row],[School]]","v":"Charnwood College"},{"$f":"D20+F20+H20+J20+L20","v":9},{"$f":"MAX(C20,E20,G20,I20,K20)","v":9},{"$f":"IF(Q20=1,N20,IF(Q20=0,(N20-O20),\"-\"))","v":"-"},{"$f":"$L$1-Table101617181920[Competed Count]","v":3},{"$f":"IF(Q20<2,\"Yes\",\"No\")","v":"No"},{"$f":"AND($C$1=\"Y\",D20>0)","v":false},{"$f":"AND($E$1=\"Y\",F20>0)","v":false},{"$f":"AND($G$1=\"Y\",H20>0)","v":true},{"$f":"AND($I$1=\"Y\",J20>0)","v":false},{"$f":"AND($K$1=\"Y\",L20>0)","v":false},{"$f":"COUNTIF(Table101617181920[[#This Row],[Competed 1]:[Competed 5]],\"=TRUE\")","v":1}]
["Adrian Jaroszuk","Charnwood College","-",{"$f":"IF(C21=\"-\",0,C21)","v":0},12,{"$f":"IF(E21=\"-\",0,E21)","v":12},10,{"$f":"IF(G21=\"-\",0,G21)","v":10},"-",{"$f":"IF(I21=\"-\",0,I21)","v":0},"-",{"$f":"IF(K21=\"-\",0,K21)","v":0},{"$f":"Table101617181920[[#This Row],[School]]","v":"Charnwood College"},{"$f":"D21+F21+H21+J21+L21","v":22},{"$f":"MAX(C21,E21,G21,I21,K21)","v":12},{"$f":"IF(Q21=1,N21,IF(Q21=0,(N21-O21),\"-\"))","v":"-"},{"$f":"$L$1-Table101617181920[Competed Count]","v":2},{"$f":"IF(Q21<2,\"Yes\",\"No\")","v":"No"},{"$f":"AND($C$1=\"Y\",D21>0)","v":false},{"$f":"AND($E$1=\"Y\",F21>0)","v":true},{"$f":"AND($G$1=\"Y\",H21>0)","v":true},{"$f":"AND($I$1=\"Y\",J21>0)","v":false},{"$f":"AND($K$1=\"Y\",L21>0)","v":false},{"$f":"COUNTIF(Table101617181920[[#This Row],[Competed 1]:[Competed 5]],\"=TRUE\")","v":2}]
["Will Weatherill","Uppingham School","-",{"$f":"IF(C22=\"-\",0,C22)","v":0},2,{"$f":"IF(E22=\"-\",0,E22)","v":2},"-",{"$f":"IF(G22=\"-\",0,G22)","v":0},"-",{"$f":"IF(I22=\"-\",0,I22)","v":0},"-",{"$f":"IF(K22=\"-\",0,K22)","v":0},{"$f":"Table101617181920[[#This Row],[School]]","v":"Uppingham School"},{"$f":"D22+F22+H22+J22+L22","v":2},{"$f":"MAX(C22,E22,G22,I22,K22)","v":2},{"$f":"IF(Q22=1,N22,IF(Q22=0,(N22-O22),\"-\"))","v":"-"},{"$f":"$L$1-Table101617181920[Competed Count]","v":3},{"$f":"IF(Q22<2,\"Yes\",\"No\")","v":"No"},{"$f":"AND($C$1=\"Y\",D22>0)","v":false},{"$f":"AND($E$1=\"Y\",F22>0)","v":true},{"$f":"AND($G$1=\"Y\",H22>0)","v":false},{"$f":"AND($I$1=\"Y\",J22>0)","v":false},{"$f":"AND($K$1=\"Y\",L22>0)","v":false},{"$f":"COUNTIF(Table101617181920[[#This Row],[Competed 1]:[Competed 5]],\"=TRUE\")","v":1}]
["Alex Macfadyen","Uppingham School","-",{"$f":"IF(C23=\"-\",0,C23)","v":0},3,{"$f":"IF(E23=\"-\",0,E23)","v":3},"-",{"$f":"IF(G23=\"-\",0,G23)","v":0},"-",{"$f":"IF(I23=\"-\",0,I23)","v":0},"-",{"$f":"IF(K23=\"-\",0,K23)","v":0},{"$f":"Table101617181920[[#This Row],[School]]","v":"Uppingham School"},{"$f":"D23+F23+H23+J23+L23","v":3},{"$f":"MAX(C23,E23,G23,I23,K23)","v":3},{"$f":"IF(Q23=1,N23,IF(Q23=0,(N23-O23),\"-\"))","v":"-"},{"$f":"$L$1-Table101617181920[Competed Count]","v":3},{"$f":"IF(Q23<2,\"Yes\",\"No\")","v":"No"},{"$f":"AND($C$1=\"Y\",D23>0)","v":false},{"$f":"AND($E$1=\"Y\",F23>0)","v":true},{"$f":"AND($G$1=\"Y\",H23>0)","v":false},{"$f":"AND($I$1=\"Y\",J23>0)","v":false},{"$f":"AND($K$1=\"Y\",L23>0)","v":false},{"$f":"COUNTIF(Table101617181920[[#This Row],[Competed 1]:[Competed 5]],\"=TRUE\")","v":1}]
["Scott Ram","Loughborough Grammar School","-",{"$f":"IF(C24=\"-\",0,C24)","v":0},7,{"$f":"IF(E24=\"-\",0,E24)","v":7},"-",{"$f":"IF(G24=\"-\",0,G24)","v":0},"-",{"$f":"IF(I24=\"-\",0,I24)","v":0},"-",{"$f":"IF(K24=\"-\",0,K24)","v":0},{"$f":"Table101617181920[[#This Row],[School]]","v":"Loughborough Grammar School"},{"$f":"D24+F24+H24+J24+L24","v":7},{"$f":"MAX(C24,E24,G24,I24,K24)","v":7},{"$f":"IF(Q24=1,N24,IF(Q24=0,(N24-O24),\"-\"))","v":"-"},{"$f":"$L$1-Table101617181920[Competed Count]","v":3},{"$f":"IF(Q24<2,\"Yes\",\"No\")","v":"No"},{"$f":"AND($C$1=\"Y\",D24>0)","v":false},{"$f":"AND($E$1=\"Y\",F24>0)","v":true},{"$f":"AND($G$1=\"Y\",H24>0)","v":false},{"$f":"AND($I$1=\"Y\",J24>0)","v":false},{"$f":"AND($K$1=\"Y\",L24>0)","v":false},{"$f":"COUNTIF(Table101617181920[[#This Row],[Competed 1]:[Competed 5]],\"=TRUE\")","v":1}]
["Josh Finn","Loughborough Grammar School","-",{"$f":"IF(C25=\"-\",0,C25)","v":0},9,{"$f":"IF(E25=\"-\",0,E25)","v":9},"-",{"$f":"IF(G25=\"-\",0,G25)","v":0},"-",{"$f":"IF(I25=\"-\",0,I25)","v":0},"-",{"$f":"IF(K25=\"-\",0,K25)","v":0},{"$f":"Table101617181920[[#This Row],[School]]","v":"Loughborough Grammar School"},{"$f":"D25+F25+H25+J25+L25","v":9},{"$f":"MAX(C25,E25,G25,I25,K25)","v":9},{"$f":"IF(Q25=1,N25,IF(Q25=0,(N25-O25),\"-\"))","v":"-"},{"$f":"$L$1-Table101617181920[Competed Count]","v":3},{"$f":"IF(Q25<2,\"Yes\",\"No\")","v":"No"},{"$f":"AND($C$1=\"Y\",D25>0)","v":false},{"$f":"AND($E$1=\"Y\",F25>0)","v":true},{"$f":"AND($G$1=\"Y\",H25>0)","v":false},{"$f":"AND($I$1=\"Y\",J25>0)","v":false},{"$f":"AND($K$1=\"Y\",L25>0)","v":false},{"$f":"COUNTIF(Table101617181920[[#This Row],[Competed 1]:[Competed 5]],\"=TRUE\")","v":1}]
["Seb Garfoot","Uppingham School","-",{"$f":"IF(C26=\"-\",0,C26)","v":0},10,{"$f":"IF(E26=\"-\",0,E26)","v":10},"-",{"$f":"IF(G26=\"-\",0,G26)","v":0},"-",{"$f":"IF(I26=\"-\",0,I26)","v":0},"-",{"$f":"IF(K26=\"-\",0,K26)","v":0},{"$f":"Table101617181920[[#This Row],[School]]","v":"Uppingham School"},{"$f":"D26+F26+H26+J26+L26","v":10},{"$f":"MAX(C26,E26,G26,I26,K26)","v":10},{"$f":"IF(Q26=1,N26,IF(Q26=0,(N26-O26),\"-\"))","v":"-"},{"$f":"$L$1-Table101617181920[Competed Count]","v":3},{"$f":"IF(Q26<2,\"Yes\",\"No\")","v":"No"},{"$f":"AND($C$1=\"Y\",D26>0)","v":false},{"$f":"AND($E$1=\"Y\",F26>0)","v":true},{"$f":"AND($G$1=\"Y\",H26>0)","v":false},{"$f":"AND($I$1=\"Y\",J26>0)","v":false},{"$f":"AND($K$1=\"Y\",L26>0)","v":false},{"$f":"COUNTIF(Table101617181920[[#This Row],[Competed 1]:[Competed 5]],\"=TRUE\")","v":1}]
["Isaac Akers","Robert Smyth Academy",1,{"$f":"IF(C27=\"-\",0,C27)","v":1},"-",{"$f":"IF(E27=\"-\",0,E27)","v":0},"-",{"$f":"IF(G27=\"-\",0,G27)","v":0},"-",{"$f":"IF(I27=\"-\",0,I27)","v":0},"-",{"$f":"IF(K27=\"-\",0,K27)","v":0},{"$f":"Table101617181920[[#This Row],[School]]","v":"Robert Smyth Academy"},{"$f":"D27+F27+H27+J27+L27","v":1},{"$f":"MAX(C27,E27,G27,I27,K27)","v":1},{"$f":"IF(Q27=1,N27,IF(Q27=0,(N27-O27),\"-\"))","v":"-"},{"$f":"$L$1-Table101617181920[Competed Count]","v":3},{"$f":"IF(Q27<2,\"Yes\",\"No\")","v":"No"},{"$f":"AND($C$1=\"Y\",D27>0)","v":true},{"$f":"AND($E$1=\"Y\",F27>0)","v":false},{"$f":"AND($G$1=\"Y\",H27>0)","v":false},{"$f":"AND($I$1=\"Y\",J27>0)","v":false},{"$f":"AND($K$1=\"Y\",L27>0)","v":false},{"$f":"COUNTIF(Table101617181920[[#This Row],[Competed 1]:[Competed 5]],\"=TRUE\")","v":1}]
["Finn Lydon","Loughborough College",6,{"$f":"IF(C28=\"-\",0,C28)","v":6},"-",{"$f":"IF(E28=\"-\",0,E28)","v":0},"-",{"$f":"IF(G28=\"-\",0,G28)","v":0},"-",{"$f":"IF(I28=\"-\",0,I28)","v":0},"-",{"$f":"IF(K28=\"-\",0,K28)","v":0},{"$f":"Table101617181920[[#This Row],[School]]","v":"Loughborough College"},{"$f":"D28+F28+H28+J28+L28","v":6},{"$f":"MAX(C28,E28,G28,I28,K28)","v":6},{"$f":"IF(Q28=1,N28,IF(Q28=0,(N28-O28),\"-\"))","v":"-"},{"$f":"$L$1-Table101617181920[Competed Count]","v":3},{"$f":"IF(Q28<2,\"Yes\",\"No\")","v":"No"},{"$f":"AND($C$1=\"Y\",D28>0)","v":true},{"$f":"AND($E$1=\"Y\",F28>0)","v":false},{"$f":"AND($G$1=\"Y\",H28>0)","v":false},{"$f":"AND($I$1=\"Y\",J28>0)","v":false},{"$f":"AND($K$1=\"Y\",L28>0)","v":false},{"$f":"COUNTIF(Table101617181920[[#This Row],[Competed 1]:[Competed 5]],\"=TRUE\")","v":1}]
["Jharmarl Richardson","Charnwood College",10,{"$f":"IF(C29=\"-\",0,C29)","v":10},"-",{"$f":"IF(E29=\"-\",0,E29)","v":0},"-",{"$f":"IF(G29=\"-\",0,G29)","v":0},"-",{"$f":"IF(I29=\"-\",0,I29)","v":0},"-",{"$f":"IF(K29=\"-\",0,K29)","v":0},{"$f":"Table101617181920[[#This Row],[School]]","v":"Charnwood College"},{"$f":"D29+F29+H29+J29+L29","v":10},{"$f":"MAX(C29,E29,G29,I29,K29)","v":10},{"$f":"IF(Q29=1,N29,IF(Q29=0,(N29-O29),\"-\"))","v":"-"},{"$f":"$L$1-Table101617181920[Competed Count]","v":3},{"$f":"IF(Q29<2,\"Yes\",\"No\")","v":"No"},{"$f":"AND($C$1=\"Y\",D29>0)","v":true},{"$f":"AND($E$1=\"Y\",F29>0)","v":false},{"$f":"AND($G$1=\"Y\",H29>0)","v":false},{"$f":"AND($I$1=\"Y\",J29>0)","v":false},{"$f":"AND($K$1=\"Y\",L29>0)","v":false},{"$f":"COUNTIF(Table101617181920[[#This Row],[Competed 1]:[Competed 5]],\"=TRUE\")","v":1}]
[null,"-","-",{"$f":"IF(C30=\"-\",0,C30)","v":0},"-",{"$f":"IF(E30=\"-\",0,E30)","v":0},"-",{"$f":"IF(G30=\"-\",0,G30)","v":0},"-",{"$f":"IF(I30=\"-\",0,I30)","v":0},"-",{"$f":"IF(K30=\"-\",0,K30)","v":0},{"$f":"Table101617181920[[#This Row],[School]]","v":"-"},{"$f":"D30+F30+H30+J30+L30","v":0},{"$f":"MAX(C30,E30,G30,I30,K30)","v":0},{"$f":"IF(Q30=1,N30,IF(Q30=0,(N30-O30),\"-\"))","v":"-"},{"$f":"$L$1-Table101617181920[Competed Count]","v":4},{"$f":"IF(Q30<2,\"Yes\",\"No\")","v":"No"},{"$f":"AND($C$1=\"Y\",D30>0)","v":false},{"$f":"AND($E$1=\"Y\",F30>0)","v":false},{"$f":"AND($G$1=\"Y\",H30>0)","v":false},{"$f":"AND($I$1=\"Y\",J30>0)","v":false},{"$f":"AND($K$1=\"Y\",L30>0)","v":false},{"$f":"COUNTIF(Table101617181920[[#This Row],[Competed 1]:[Competed 5]],\"=TRUE\")","v":0}]
[null,"-","-",{"$f":"IF(C31=\"-\",0,C31)","v":0},"-",{"$f":"IF(E31=\"-\",0,E31)","v":0},"-",{"$f":"IF(G31=\"-\",0,G31)","v":0},"-",{"$f":"IF(I31=\"-\",0,I31)","v":0},"-",{"$f":"IF(K31=\"-\",0,K31)","v":0},{"$f":"Table101617181920[[#This Row],[School]]","v":"-"},{"$f":"D31+F31+H31+J31+L31","v":0},{"$f":"MAX(C31,E31,G31,I31,K31)","v":0},{"$f":"IF(Q31=1,N31,IF(Q31=0,(N31-O31),\"-\"))","v":"-"},{"$f":"$L$1-Table101617181920[Competed Count]","v":4},{"$f":"IF(Q31<2,\"Yes\",\"No\")","v":"No"},{"$f":"AND($C$1=\"Y\",D31>0)","v":false},{"$f":"AND($E$1=\"Y\",F31>0)","v":false},{"$f":"AND($G$1=\"Y\",H31>0)","v":false},{"$f":"AND($I$1=\"Y\",J31>0)","v":false},{"$f":"AND($K$1=\"Y\",L31>0)","v":false},{"$f":"COUNTIF(Table101617181920[[#This Row],[Competed 1]:[Competed 5]],\"=TRUE\")","v":0}]
[null,"-","-",{"$f":"IF(C32=\"-\",0,C32)","v":0},"-",{"$f":"IF(E32=\"-\",0,E32)","v":0},"-",{"$f":"IF(G32=\"-\",0,G32)","v":0},"-",{"$f":"IF(I32=\"-\",0,I32)","v":0},"-",{"$f":"IF(K32=\"-\",0,K32)","v":0},{"$f":"Table101617181920[[#This Row],[School]]","v":"-"},{"$f":"D32+F32+H32+J32+L32","v":0},{"$f":"MAX(C32,E32,G32,I32,K32)","v":0},{"$f":"IF(Q32=1,N32,IF(Q32=0,(N32-O32),\"-\"))","v":"-"},{"$f":"$L$1-Table101617181920[Competed Count]","v":4},{"$f":"IF(Q32<2,\"Yes\",\"No\")","v":"No"},{"$f":"AND($C$1=\"Y\",D32>0)","v":false},{"$f":"AND($E$1=\"Y\",F32>0)","v":false},{"$f":"AND($G$1=\"Y\",H32>0)","v":false},{"$f":"AND($I$1=\"Y\",J32>0)","v":false},{"$f":"AND($K$1=\"Y\",L32>0)","v":false},{"$f":"COUNTIF(Table101617181920[[#This Row],[Competed 1]:[Competed 5]],\"=TRUE\")","v":0}]
[null,"-","-",{"$f":"IF(C33=\"-\",0,C33)","v":0},"-",{"$f":"IF(E33=\"-\",0,E33)","v":0},"-",{"$f":"IF(G33=\"-\",0,G33)","v":0},"-",{"$f":"IF(I33=\"-\",0,I33)","v":0},"-",{"$f":"IF(K33=\"-\",0,K33)","v":0},{"$f":"Table101617181920[[#This Row],[School]]","v":"-"},{"$f":"D33+F33+H33+J33+L33","v":0},{"$f":"MAX(C33,E33,G33,I33,K33)","v":0},{"$f":"IF(Q33=1,N33,IF(Q33=0,(N33-O33),\"-\"))","v":"-"},{"$f":"$L$1-Table101617181920[Competed Count]","v":4},{"$f":"IF(Q33<2,\"Yes\",\"No\")","v":"No"},{"$f":"AND($C$1=\"Y\",D33>0)","v":false},{"$f":"AND($E$1=\"Y\",F33>0)","v":false},{"$f":"AND($G$1=\"Y\",H33>0)","v":false},{"$f":"AND($I$1=\"Y\",J33>0)","v":false},{"$f":"AND($K$1=\"Y\",L33>0)","v":false},{"$f":"COUNTIF(Table101617181920[[#This Row],[Competed 1]:[Competed 5]],\"=TRUE\")","v":0}]
[null,"-","-",{"$f":"IF(C34=\"-\",0,C34)","v":0},"-",{"$f":"IF(E34=\"-\",0,E34)","v":0},"-",{"$f":"IF(G34=\"-\",0,G34)","v":0},"-",{"$f":"IF(I34=\"-\",0,I34)","v":0},"-",{"$f":"IF(K34=\"-\",0,K34)","v":0},{"$f":"Table101617181920[[#This Row],[School]]","v":"-"},{"$f":"D34+F34+H34+J34+L34","v":0},{"$f":"MAX(C34,E34,G34,I34,K34)","v":0},{"$f":"IF(Q34=1,N34,IF(Q34=0,(N34-O34),\"-\"))","v":"-"},{"$f":"$L$1-Table101617181920[Competed Count]","v":4},{"$f":"IF(Q34<2,\"Yes\",\"No\")","v":"No"},{"$f":"AND($C$1=\"Y\",D34>0)","v":false},{"$f":"AND($E$1=\"Y\",F34>0)","v":false},{"$f":"AND($G$1=\"Y\",H34>0)","v":false},{"$f":"AND($I$1=\"Y\",J34>0)","v":false},{"$f":"AND($K$1=\"Y\",L34>0)","v":false},{"$f":"COUNTIF(Table101617181920[[#This Row],[Competed 1]:[Competed 5]],\"=TRUE\")","v":0}]
[null,"-","-",{"$f":"IF(C35=\"-\",0,C35)","v":0},"-",{"$f":"IF(E35=\"-\",0,E35)","v":0},"-",{"$f":"IF(G35=\"-\",0,G35)","v":0},"-",{"$f":"IF(I35=\"-\",0,I35)","v":0},"-",{"$f":"IF(K35=\"-\",0,K35)","v":0},{"$f":"Table101617181920[[#This Row],[School]]","v":"-"},{"$f":"D35+F35+H35+J35+L35","v":0},{"$f":"MAX(C35,E35,G35,I35,K35)","v":0},{"$f":"IF(Q35=1,N35,IF(Q35=0,(N35-O35),\"-\"))","v":"-"},{"$f":"$L$1-Table101617181920[Competed Count]","v":4},{"$f":"IF(Q35<2,\"Yes\",\"No\")","v":"No"},{"$f":"AND($C$1=\"Y\",D35>0)","v":false},{"$f":"AND($E$1=\"Y\",F35>0)","v":false},{"$f":"AND($G$1=\"Y\",H35>0)","v":false},{"$f":"AND($I$1=\"Y\",J35>0)","v":false},{"$f":"AND($K$1=\"Y\",L35>0)","v":false},{"$f":"COUNTIF(Table101617181920[[#This Row],[Competed 1]:[Competed 5]],\"=TRUE\")","v":0}]
[null,"-","-",{"$f":"IF(C36=\"-\",0,C36)","v":0},"-",{"$f":"IF(E36=\"-\",0,E36)","v":0},"-",{"$f":"IF(G36=\"-\",0,G36)","v":0},"-",{"$f":"IF(I36=\"-\",0,I36)","v":0},"-",{"$f":"IF(K36=\"-\",0,K36)","v":0},{"$f":"Table101617181920[[#This Row],[School]]","v":"-"},{"$f":"D36+F36+H36+J36+L36","v":0},{"$f":"MAX(C36,E36,G36,I36,K36)","v":0},{"$f":"IF(Q36=1,N36,IF(Q36=0,(N36-O36),\"-\"))","v":"-"},{"$f":"$L$1-Table101617181920[Competed Count]","v":4},{"$f":"IF(Q36<2,\"Yes\",\"No\")","v":"No"},{"$f":"AND($C$1=\"Y\",D36>0)","v":false},{"$f":"AND($E$1=\"Y\",F36>0)","v":false},{"$f":"AND($G$1=\"Y\",H36>0)","v":false},{"$f":"AND($I$1=\"Y\",J36>0)","v":false},{"$f":"AND($K$1=\"Y\",L36>0)","v":false},{"$f":"COUNTIF(Table101617181920[[#This Row],[Competed 1]:[Competed 5]],\"=TRUE\")","v":0}]
[null,"-","-",{"$f":"IF(C37=\"-\",0,C37)","v":0},"-",{"$f":"IF(E37=\"-\",0,E37)","v":0},"-",{"$f":"IF(G37=\"-\",0,G37)","v":0},"-",{"$f":"IF(I37=\"-\",0,I37)","v":0},"-",{"$f":"IF(K37=\"-\",0,K37)","v":0},{"$f":"Table101617181920[[#This Row],[School]]","v":"-"},{"$f":"D37+F37+H37+J37+L37","v":0},{"$f":"MAX(C37,E37,G37,I37,K37)","v":0},{"$f":"IF(Q37=1,N37,IF(Q37=0,(N37-O37),\"-\"))","v":"-"},{"$f":"$L$1-Table101617181920[Competed Count]","v":4},{"$f":"IF(Q37<2,\"Yes\",\"No\")","v":"No"},{"$f":"AND($C$1=\"Y\",D37>0)","v":false},{"$f":"AND($E$1=\"Y\",F37>0)","v":false},{"$f":"AND($G$1=\"Y\",H37>0)","v":false},{"$f":"AND($I$1=\"Y\",J37>0)","v":false},{"$f":"AND($K$1=\"Y\",L37>0)","v":false},{"$f":"COUNTIF(Table101617181920[[#This Row],[Competed 1]:[Competed 5]],\"=TRUE\")","v":0}]
[null,"-","-",{"$f":"IF(C38=\"-\",0,C38)","v":0},"-",{"$f":"IF(E38=\"-\",0,E38)","v":0},"-",{"$f":"IF(G38=\"-\",0,G38)","v":0},"-",{"$f":"IF(I38=\"-\",0,I38)","v":0},"-",{"$f":"IF(K38=\"-\",0,K38)","v":0},{"$f":"Table101617181920[[#This Row],[School]]","v":"-"},{"$f":"D38+F38+H38+J38+L38","v":0},{"$f":"MAX(C38,E38,G38,I38,K38)","v":0},{"$f":"IF(Q38=1,N38,IF(Q38=0,(N38-O38),\"-\"))","v":"-"},{"$f":"$L$1-Table101617181920[Competed Count]","v":4},{"$f":"IF(Q38<2,\"Yes\",\"No\")","v":"No"},{"$f":"AND($C$1=\"Y\",D38>0)","v":false},{"$f":"AND($E$1=\"Y\",F38>0)","v":false},{"$f":"AND($G$1=\"Y\",H38>0)","v":false},{"$f":"AND($I$1=\"Y\",J38>0)","v":false},{"$f":"AND($K$1=\"Y\",L38>0)","v":false},{"$f":"COUNTIF(Table101617181920[[#This Row],[Competed 1]:[Competed 5]],\"=TRUE\")","v":0}]
[null,"-","-",{"$f":"IF(C39=\"-\",0,C39)","v":0},"-",{"$f":"IF(E39=\"-\",0,E39)","v":0},"-",{"$f":"IF(G39=\"-\",0,G39)","v":0},"-",{"$f":"IF(I39=\"-\",0,I39)","v":0},"-",{"$f":"IF(K39=\"-\",0,K39)","v":0},{"$f":"Table101617181920[[#This Row],[School]]","v":"-"},{"$f":"D39+F39+H39+J39+L39","v":0},{"$f":"MAX(C39,E39,G39,I39,K39)","v":0},{"$f":"IF(Q39=1,N39,IF(Q39=0,(N39-O39),\"-\"))","v":"-"},{"$f":"$L$1-Table101617181920[Competed Count]","v":4},{"$f":"IF(Q39<2,\"Yes\",\"No\")","v":"No"},{"$f":"AND($C$1=\"Y\",D39>0)","v":false},{"$f":"AND($E$1=\"Y\",F39>0)","v":false},{"$f":"AND($G$1=\"Y\",H39>0)","v":false},{"$f":"AND($I$1=\"Y\",J39>0)","v":false},{"$f":"AND($K$1=\"Y\",L39>0)","v":false},{"$f":"COUNTIF(Table101617181920[[#This Row],[Competed 1]:[Competed 5]],\"=TRUE\")","v":0}]
[null,"-","-",{"$f":"IF(C40=\"-\",0,C40)","v":0},"-",{"$f":"IF(E40=\"-\",0,E40)","v":0},"-",{"$f":"IF(G40=\"-\",0,G40)","v":0},"-",{"$f":"IF(I40=\"-\",0,I40)","v":0},"-",{"$f":"IF(K40=\"-\",0,K40)","v":0},{"$f":"Table101617181920[[#This Row],[School]]","v":"-"},{"$f":"D40+F40+H40+J40+L40","v":0},{"$f":"MAX(C40,E40,G40,I40,K40)","v":0},{"$f":"IF(Q40=1,N40,IF(Q40=0,(N40-O40),\"-\"))","v":"-"},{"$f":"$L$1-Table101617181920[Competed Count]","v":4},{"$f":"IF(Q40<2,\"Yes\",\"No\")","v":"No"},{"$f":"AND($C$1=\"Y\",D40>0)","v":false},{"$f":"AND($E$1=\"Y\",F40>0)","v":false},{"$f":"AND($G$1=\"Y\",H40>0)","v":false},{"$f":"AND($I$1=\"Y\",J40>0)","v":false},{"$f":"AND($K$1=\"Y\",L40>0)","v":false},{"$f":"COUNTIF(Table101617181920[[#This Row],[Competed 1]:[Competed 5]],\"=TRUE\")","v":0}]
[null,"-","-",{"$f":"IF(C41=\"-\",0,C41)","v":0},"-",{"$f":"IF(E41=\"-\",0,E41)","v":0},"-",{"$f":"IF(G41=\"-\",0,G41)","v":0},"-",{"$f":"IF(I41=\"-\",0,I41)","v":0},"-",{"$f":"IF(K41=\"-\",0,K41)","v":0},{"$f":"Table101617181920[[#This Row],[School]]","v":"-"},{"$f":"D41+F41+H41+J41+L41","v":0},{"$f":"MAX(C41,E41,G41,I41,K41)","v":0},{"$f":"IF(Q41=1,N41,IF(Q41=0,(N41-O41),\"-\"))","v":"-"},{"$f":"$L$1-Table101617181920[Competed Count]","v":4},{"$f":"IF(Q41<2,\"Yes\",\"No\")","v":"No"},{"$f":"AND($C$1=\"Y\",D41>0)","v":false},{"$f":"AND($E$1=\"Y\",F41>0)","v":false},{"$f":"AND($G$1=\"Y\",H41>0)","v":false},{"$f":"AND($I$1=\"Y\",J41>0)","v":false},{"$f":"AND($K$1=\"Y\",L41>0)","v":false},{"$f":"COUNTIF(Table101617181920[[#This Row],[Competed 1]:[Competed 5]],\"=TRUE\")","v":0}]
[null,"-","-",{"$f":"IF(C42=\"-\",0,C42)","v":0},"-",{"$f":"IF(E42=\"-\",0,E42)","v":0},"-",{"$f":"IF(G42=\"-\",0,G42)","v":0},"-",{"$f":"IF(I42=\"-\",0,I42)","v":0},"-",{"$f":"IF(K42=\"-\",0,K42)","v":0},{"$f":"Table101617181920[[#This Row],[School]]","v":"-"},{"$f":"D42+F42+H42+J42+L42","v":0},{"$f":"MAX(C42,E42,G42,I42,K42)","v":0},{"$f":"IF(Q42=1,N42,IF(Q42=0,(N42-O42),\"-\"))","v":"-"},{"$f":"$L$1-Table101617181920[Competed Count]","v":4},{"$f":"IF(Q42<2,\"Yes\",\"No\")","v":"No"},{"$f":"AND($C$1=\"Y\",D42>0)","v":false},{"$f":"AND($E$1=\"Y\",F42>0)","v":false},{"$f":"AND($G$1=\"Y\",H42>0)","v":false},{"$f":"AND($I$1=\"Y\",J42>0)","v":false},{"$f":"AND($K$1=\"Y\",L42>0)","v":false},{"$f":"COUNTIF(Table101617181920[[#This Row],[Competed 1]:[Competed 5]],\"=TRUE\")","v":0}]
[null,"-","-",{"$f":"IF(C43=\"-\",0,C43)","v":0},"-",{"$f":"IF(E43=\"-\",0,E43)","v":0},"-",{"$f":"IF(G43=\"-\",0,G43)","v":0},"-",{"$f":"IF(I43=\"-\",0,I43)","v":0},"-",{"$f":"IF(K43=\"-\",0,K43)","v":0},{"$f":"Table101617181920[[#This Row],[School]]","v":"-"},{"$f":"D43+F43+H43+J43+L43","v":0},{"$f":"MAX(C43,E43,G43,I43,K43)","v":0},{"$f":"IF(Q43=1,N43,IF(Q43=0,(N43-O43),\"-\"))","v":"-"},{"$f":"$L$1-Table101617181920[Competed Count]","v":4},{"$f":"IF(Q43<2,\"Yes\",\"No\")","v":"No"},{"$f":"AND($C$1=\"Y\",D43>0)","v":false},{"$f":"AND($E$1=\"Y\",F43>0)","v":false},{"$f":"AND($G$1=\"Y\",H43>0)","v":false},{"$f":"AND($I$1=\"Y\",J43>0)","v":false},{"$f":"AND($K$1=\"Y\",L43>0)","v":false},{"$f":"COUNTIF(Table101617181920[[#This Row],[Competed 1]:[Competed 5]],\"=TRUE\")","v":0}]
[null,"-","-",{"$f":"IF(C44=\"-\",0,C44)","v":0},"-",{"$f":"IF(E44=\"-\",0,E44)","v":0},"-",{"$f":"IF(G44=\"-\",0,G44)","v":0},"-",{"$f":"IF(I44=\"-\",0,I44)","v":0},"-",{"$f":"IF(K44=\"-\",0,K44)","v":0},{"$f":"Table101617181920[[#This Row],[School]]","v":"-"},{"$f":"D44+F44+H44+J44+L44","v":0},{"$f":"MAX(C44,E44,G44,I44,K44)","v":0},{"$f":"IF(Q44=1,N44,IF(Q44=0,(N44-O44),\"-\"))","v":"-"},{"$f":"$L$1-Table101617181920[Competed Count]","v":4},{"$f":"IF(Q44<2,\"Yes\",\"No\")","v":"No"},{"$f":"AND($C$1=\"Y\",D44>0)","v":false},{"$f":"AND($E$1=\"Y\",F44>0)","v":false},{"$f":"AND($G$1=\"Y\",H44>0)","v":false},{"$f":"AND($I$1=\"Y\",J44>0)","v":false},{"$f":"AND($K$1=\"Y\",L44>0)","v":false},{"$f":"COUNTIF(Table101617181920[[#This Row],[Competed 1]:[Competed 5]],\"=TRUE\")","v":0}]
[null,"-","-",{"$f":"IF(C45=\"-\",0,C45)","v":0},"-",{"$f":"IF(E45=\"-\",0,E45)","v":0},"-",{"$f":"IF(G45=\"-\",0,G45)","v":0},"-",{"$f":"IF(I45=\"-\",0,I45)","v":0},"-",{"$f":"IF(K45=\"-\",0,K45)","v":0},{"$f":"Table101617181920[[#This Row],[School]]","v":"-"},{"$f":"D45+F45+H45+J45+L45","v":0},{"$f":"MAX(C45,E45,G45,I45,K45)","v":0},{"$f":"IF(Q45=1,N45,IF(Q45=0,(N45-O45),\"-\"))","v":"-"},{"$f":"$L$1-Table101617181920[Competed Count]","v":4},{"$f":"IF(Q45<2,\"Yes\",\"No\")","v":"No"},{"$f":"AND($C$1=\"Y\",D45>0)","v":false},{"$f":"AND($E$1=\"Y\",F45>0)","v":false},{"$f":"AND($G$1=\"Y\",H45>0)","v":false},{"$f":"AND($I$1=\"Y\",J45>0)","v":false},{"$f":"AND($K$1=\"Y\",L45>0)","v":false},{"$f":"COUNTIF(Table101617181920[[#This Row],[Competed 1]:[Competed 5]],\"=TRUE\")","v":0}]
[null,"-","-",{"$f":"IF(C46=\"-\",0,C46)","v":0},"-",{"$f":"IF(E46=\"-\",0,E46)","v":0},"-",{"$f":"IF(G46=\"-\",0,G46)","v":0},"-",{"$f":"IF(I46=\"-\",0,I46)","v":0},"-",{"$f":"IF(K46=\"-\",0,K46)","v":0},{"$f":"Table101617181920[[#This Row],[School]]","v":"-"},{"$f":"D46+F46+H46+J46+L46","v":0},{"$f":"MAX(C46,E46,G46,I46,K46)","v":0},{"$f":"IF(Q46=1,N46,IF(Q46=0,(N46-O46),\"-\"))","v":"-"},{"$f":"$L$1-Table101617181920[Competed Count]","v":4},{"$f":"IF(Q46<2,\"Yes\",\"No\")","v":"No"},{"$f":"AND($C$1=\"Y\",D46>0)","v":false},{"$f":"AND($E$1=\"Y\",F46>0)","v":false},{"$f":"AND($G$1=\"Y\",H46>0)","v":false},{"$f":"AND($I$1=\"Y\",J46>0)","v":false},{"$f":"AND($K$1=\"Y\",L46>0)","v":false},{"$f":"COUNTIF(Table101617181920[[#This Row],[Competed 1]:[Competed 5]],\"=TRUE\")","v":0}]
[null,"-","-",{"$f":"IF(C47=\"-\",0,C47)","v":0},"-",{"$f":"IF(E47=\"-\",0,E47)","v":0},"-",{"$f":"IF(G47=\"-\",0,G47)","v":0},"-",{"$f":"IF(I47=\"-\",0,I47)","v":0},"-",{"$f":"IF(K47=\"-\",0,K47)","v":0},{"$f":"Table101617181920[[#This Row],[School]]","v":"-"},{"$f":"D47+F47+H47+J47+L47","v":0},{"$f":"MAX(C47,E47,G47,I47,K47)","v":0},{"$f":"IF(Q47=1,N47,IF(Q47=0,(N47-O47),\"-\"))","v":"-"},{"$f":"$L$1-Table101617181920[Competed Count]","v":4},{"$f":"IF(Q47<2,\"Yes\",\"No\")","v":"No"},{"$f":"AND($C$1=\"Y\",D47>0)","v":false},{"$f":"AND($E$1=\"Y\",F47>0)","v":false},{"$f":"AND($G$1=\"Y\",H47>0)","v":false},{"$f":"AND($I$1=\"Y\",J47>0)","v":false},{"$f":"AND($K$1=\"Y\",L47>0)","v":false},{"$f":"COUNTIF(Table101617181920[[#This Row],[Competed 1]:[Competed 5]],\"=TRUE\")","v":0}]
[null,"-","-",{"$f":"IF(C48=\"-\",0,C48)","v":0},"-",{"$f":"IF(E48=\"-\",0,E48)","v":0},"-",{"$f":"IF(G48=\"-\",0,G48)","v":0},"-",{"$f":"IF(I48=\"-\",0,I48)","v":0},"-",{"$f":"IF(K48=\"-\",0,K48)","v":0},{"$f":"Table101617181920[[#This Row],[School]]","v":"-"},{"$f":"D48+F48+H48+J48+L48","v":0},{"$f":"MAX(C48,E48,G48,I48,K48)","v":0},{"$f":"IF(Q48=1,N48,IF(Q48=0,(N48-O48),\"-\"))","v":"-"},{"$f":"$L$1-Table101617181920[Competed Count]","v":4},{"$f":"IF(Q48<2,\"Yes\",\"No\")","v":"No"},{"$f":"AND($C$1=\"Y\",D48>0)","v":false},{"$f":"AND($E$1=\"Y\",F48>0)","v":false},{"$f":"AND($G$1=\"Y\",H48>0)","v":false},{"$f":"AND($I$1=\"Y\",J48>0)","v":false},{"$f":"AND($K$1=\"Y\",L48>0)","v":false},{"$f":"COUNTIF(Table101617181920[[#This Row],[Competed 1]:[Competed 5]],\"=TRUE\")","v":0}]
[null,"-","-",{"$f":"IF(C49=\"-\",0,C49)","v":0},"-",{"$f":"IF(E49=\"-\",0,E49)","v":0},"-",{"$f":"IF(G49=\"-\",0,G49)","v":0},"-",{"$f":"IF(I49=\"-\",0,I49)","v":0},"-",{"$f":"IF(K49=\"-\",0,K49)","v":0},{"$f":"Table101617181920[[#This Row],[School]]","v":"-"},{"$f":"D49+F49+H49+J49+L49","v":0},{"$f":"MAX(C49,E49,G49,I49,K49)","v":0},{"$f":"IF(Q49=1,N49,IF(Q49=0,(N49-O49),\"-\"))","v":"-"},{"$f":"$L$1-Table101617181920[Competed Count]","v":4},{"$f":"IF(Q49<2,\"Yes\",\"No\")","v":"No"},{"$f":"AND($C$1=\"Y\",D49>0)","v":false},{"$f":"AND($E$1=\"Y\",F49>0)","v":false},{"$f":"AND($G$1=\"Y\",H49>0)","v":false},{"$f":"AND($I$1=\"Y\",J49>0)","v":false},{"$f":"AND($K$1=\"Y\",L49>0)","v":false},{"$f":"COUNTIF(Table101617181920[[#This Row],[Competed 1]:[Competed 5]],\"=TRUE\")","v":0}]
[null,"-","-",{"$f":"IF(C50=\"-\",0,C50)","v":0},"-",{"$f":"IF(E50=\"-\",0,E50)","v":0},"-",{"$f":"IF(G50=\"-\",0,G50)","v":0},"-",{"$f":"IF(I50=\"-\",0,I50)","v":0},"-",{"$f":"IF(K50=\"-\",0,K50)","v":0},{"$f":"Table101617181920[[#This Row],[School]]","v":"-"},{"$f":"D50+F50+H50+J50+L50","v":0},{"$f":"MAX(C50,E50,G50,I50,K50)","v":0},{"$f":"IF(Q50=1,N50,IF(Q50=0,(N50-O50),\"-\"))","v":"-"},{"$f":"$L$1-Table101617181920[Competed Count]","v":4},{"$f":"IF(Q50<2,\"Yes\",\"No\")","v":"No"},{"$f":"AND($C$1=\"Y\",D50>0)","v":false},{"$f":"AND($E$1=\"Y\",F50>0)","v":false},{"$f":"AND($G$1=\"Y\",H50>0)","v":false},{"$f":"AND($I$1=\"Y\",J50>0)","v":false},{"$f":"AND($K$1=\"Y\",L50>0)","v":false},{"$f":"COUNTIF(Table101617181920[[#This Row],[Competed 1]:[Competed 5]],\"=TRUE\")","v":0}]
[null,"-","-",{"$f":"IF(C51=\"-\",0,C51)","v":0},"-",{"$f":"IF(E51=\"-\",0,E51)","v":0},"-",{"$f":"IF(G51=\"-\",0,G51)","v":0},"-",{"$f":"IF(I51=\"-\",0,I51)","v":0},"-",{"$f":"IF(K51=\"-\",0,K51)","v":0},{"$f":"Table101617181920[[#This Row],[School]]","v":"-"},{"$f":"D51+F51+H51+J51+L51","v":0},{"$f":"MAX(C51,E51,G51,I51,K51)","v":0},{"$f":"IF(Q51=1,N51,IF(Q51=0,(N51-O51),\"-\"))","v":"-"},{"$f":"$L$1-Table101617181920[Competed Count]","v":4},{"$f":"IF(Q51<2,\"Yes\",\"No\")","v":"No"},{"$f":"AND($C$1=\"Y\",D51>0)","v":false},{"$f":"AND($E$1=\"Y\",F51>0)","v":false},{"$f":"AND($G$1=\"Y\",H51>0)","v":false},{"$f":"AND($I$1=\"Y\",J51>0)","v":false},{"$f":"AND($K$1=\"Y\",L51>0)","v":false},{"$f":"COUNTIF(Table101617181920[[#This Row],[Competed 1]:[Competed 5]],\"=TRUE\")","v":0}]
[null,"-","-",{"$f":"IF(C52=\"-\",0,C52)","v":0},"-",{"$f":"IF(E52=\"-\",0,E52)","v":0},"-",{"$f":"IF(G52=\"-\",0,G52)","v":0},"-",{"$f":"IF(I52=\"-\",0,I52)","v":0},"-",{"$f":"IF(K52=\"-\",0,K52)","v":0},{"$f":"Table101617181920[[#This Row],[School]]","v":"-"},{"$f":"D52+F52+H52+J52+L52","v":0},{"$f":"MAX(C52,E52,G52,I52,K52)","v":0},{"$f":"IF(Q52=1,N52,IF(Q52=0,(N52-O52),\"-\"))","v":"-"},{"$f":"$L$1-Table101617181920[Competed Count]","v":4},{"$f":"IF(Q52<2,\"Yes\",\"No\")","v":"No"},{"$f":"AND($C$1=\"Y\",D52>0)","v":false},{"$f":"AND($E$1=\"Y\",F52>0)","v":false},{"$f":"AND($G$1=\"Y\",H52>0)","v":false},{"$f":"AND($I$1=\"Y\",J52>0)","v":false},{"$f":"AND($K$1=\"Y\",L52>0)","v":false},{"$f":"COUNTIF(Table101617181920[[#This Row],[Competed 1]:[Competed 5]],\"=TRUE\")","v":0}]
[null,"-","-",{"$f":"IF(C53=\"-\",0,C53)","v":0},"-",{"$f":"IF(E53=\"-\",0,E53)","v":0},"-",{"$f":"IF(G53=\"-\",0,G53)","v":0},"-",{"$f":"IF(I53=\"-\",0,I53)","v":0},"-",{"$f":"IF(K53=\"-\",0,K53)","v":0},{"$f":"Table101617181920[[#This Row],[School]]","v":"-"},{"$f":"D53+F53+H53+J53+L53","v":0},{"$f":"MAX(C53,E53,G53,I53,K53)","v":0},{"$f":"IF(Q53=1,N53,IF(Q53=0,(N53-O53),\"-\"))","v":"-"},{"$f":"$L$1-Table101617181920[Competed Count]","v":4},{"$f":"IF(Q53<2,\"Yes\",\"No\")","v":"No"},{"$f":"AND($C$1=\"Y\",D53>0)","v":false},{"$f":"AND($E$1=\"Y\",F53>0)","v":false},{"$f":"AND($G$1=\"Y\",H53>0)","v":false},{"$f":"AND($I$1=\"Y\",J53>0)","v":false},{"$f":"AND($K$1=\"Y\",L53>0)","v":false},{"$f":"COUNTIF(Table101617181920[[#This Row],[Competed 1]:[Competed 5]],\"=TRUE\")","v":0}]
[null,"-","-",{"$f":"IF(C54=\"-\",0,C54)","v":0},"-",{"$f":"IF(E54=\"-\",0,E54)","v":0},"-",{"$f":"IF(G54=\"-\",0,G54)","v":0},"-",{"$f":"IF(I54=\"-\",0,I54)","v":0},"-",{"$f":"IF(K54=\"-\",0,K54)","v":0},{"$f":"Table101617181920[[#This Row],[School]]","v":"-"},{"$f":"D54+F54+H54+J54+L54","v":0},{"$f":"MAX(C54,E54,G54,I54,K54)","v":0},{"$f":"IF(Q54=1,N54,IF(Q54=0,(N54-O54),\"-\"))","v":"-"},{"$f":"$L$1-Table101617181920[Competed Count]","v":4},{"$f":"IF(Q54<2,\"Yes\",\"No\")","v":"No"},{"$f":"AND($C$1=\"Y\",D54>0)","v":false},{"$f":"AND($E$1=\"Y\",F54>0)","v":false},{"$f":"AND($G$1=\"Y\",H54>0)","v":false},{"$f":"AND($I$1=\"Y\",J54>0)","v":false},{"$f":"AND($K$1=\"Y\",L54>0)","v":false},{"$f":"COUNTIF(Table101617181920[[#This Row],[Competed 1]:[Competed 5]],\"=TRUE\")","v":0}]
[null,"-","-",{"$f":"IF(C55=\"-\",0,C55)","v":0},"-",{"$f":"IF(E55=\"-\",0,E55)","v":0},"-",{"$f":"IF(G55=\"-\",0,G55)","v":0},"-",{"$f":"IF(I55=\"-\",0,I55)","v":0},"-",{"$f":"IF(K55=\"-\",0,K55)","v":0},{"$f":"Table101617181920[[#This Row],[School]]","v":"-"},{"$f":"D55+F55+H55+J55+L55","v":0},{"$f":"MAX(C55,E55,G55,I55,K55)","v":0},{"$f":"IF(Q55=1,N55,IF(Q55=0,(N55-O55),\"-\"))","v":"-"},{"$f":"$L$1-Table101617181920[Competed Count]","v":4},{"$f":"IF(Q55<2,\"Yes\",\"No\")","v":"No"},{"$f":"AND($C$1=\"Y\",D55>0)","v":false},{"$f":"AND($E$1=\"Y\",F55>0)","v":false},{"$f":"AND($G$1=\"Y\",H55>0)","v":false},{"$f":"AND($I$1=\"Y\",J55>0)","v":false},{"$f":"AND($K$1=\"Y\",L55>0)","v":false},{"$f":"COUNTIF(Table101617181920[[#This Row],[Competed 1]:[Competed 5]],\"=TRUE\")","v":0}]
[null,"-","-",{"$f":"IF(C56=\"-\",0,C56)","v":0},"-",{"$f":"IF(E56=\"-\",0,E56)","v":0},"-",{"$f":"IF(G56=\"-\",0,G56)","v":0},"-",{"$f":"IF(I56=\"-\",0,I56)","v":0},"-",{"$f":"IF(K56=\"-\",0,K56)","v":0},{"$f":"Table101617181920[[#This Row],[School]]","v":"-"},{"$f":"D56+F56+H56+J56+L56","v":0},{"$f":"MAX(C56,E56,G56,I56,K56)","v":0},{"$f":"IF(Q56=1,N56,IF(Q56=0,(N56-O56),\"-\"))","v":"-"},{"$f":"$L$1-Table101617181920[Competed Count]","v":4},{"$f":"IF(Q56<2,\"Yes\",\"No\")","v":"No"},{"$f":"AND($C$1=\"Y\",D56>0)","v":false},{"$f":"AND($E$1=\"Y\",F56>0)","v":false},{"$f":"AND($G$1=\"Y\",H56>0)","v":false},{"$f":"AND($I$1=\"Y\",J56>0)","v":false},{"$f":"AND($K$1=\"Y\",L56>0)","v":false},{"$f":"COUNTIF(Table101617181920[[#This Row],[Competed 1]:[Competed 5]],\"=TRUE\")","v":0}]
[null,"-","-",{"$f":"IF(C57=\"-\",0,C57)","v":0},"-",{"$f":"IF(E57=\"-\",0,E57)","v":0},"-",{"$f":"IF(G57=\"-\",0,G57)","v":0},"-",{"$f":"IF(I57=\"-\",0,I57)","v":0},"-",{"$f":"IF(K57=\"-\",0,K57)","v":0},{"$f":"Table101617181920[[#This Row],[School]]","v":"-"},{"$f":"D57+F57+H57+J57+L57","v":0},{"$f":"MAX(C57,E57,G57,I57,K57)","v":0},{"$f":"IF(Q57=1,N57,IF(Q57=0,(N57-O57),\"-\"))","v":"-"},{"$f":"$L$1-Table101617181920[Competed Count]","v":4},{"$f":"IF(Q57<2,\"Yes\",\"No\")","v":"No"},{"$f":"AND($C$1=\"Y\",D57>0)","v":false},{"$f":"AND($E$1=\"Y\",F57>0)","v":false},{"$f":"AND($G$1=\"Y\",H57>0)","v":false},{"$f":"AND($I$1=\"Y\",J57>0)","v":false},{"$f":"AND($K$1=\"Y\",L57>0)","v":false},{"$f":"COUNTIF(Table101617181920[[#This Row],[Competed 1]:[Competed 5]],\"=TRUE\")","v":0}]
[null,"-","-",{"$f":"IF(C58=\"-\",0,C58)","v":0},"-",{"$f":"IF(E58=\"-\",0,E58)","v":0},"-",{"$f":"IF(G58=\"-\",0,G58)","v":0},"-",{"$f":"IF(I58=\"-\",0,I58)","v":0},"-",{"$f":"IF(K58=\"-\",0,K58)","v":0},{"$f":"Table101617181920[[#This Row],[School]]","v":"-"},{"$f":"D58+F58+H58+J58+L58","v":0},{"$f":"MAX(C58,E58,G58,I58,K58)","v":0},{"$f":"IF(Q58=1,N58,IF(Q58=0,(N58-O58),\"-\"))","v":"-"},{"$f":"$L$1-Table101617181920[Competed Count]","v":4},{"$f":"IF(Q58<2,\"Yes\",\"No\")","v":"No"},{"$f":"AND($C$1=\"Y\",D58>0)","v":false},{"$f":"AND($E$1=\"Y\",F58>0)","v":false},{"$f":"AND($G$1=\"Y\",H58>0)","v":false},{"$f":"AND($I$1=\"Y\",J58>0)","v":false},{"$f":"AND($K$1=\"Y\",L58>0)","v":false},{"$f":"COUNTIF(Table101617181920[[#This Row],[Competed 1]:[Competed 5]],\"=TRUE\")","v":0}]
[null,"-","-",{"$f":"IF(C59=\"-\",0,C59)","v":0},"-",{"$f":"IF(E59=\"-\",0,E59)","v":0},"-",{"$f":"IF(G59=\"-\",0,G59)","v":0},"-",{"$f":"IF(I59=\"-\",0,I59)","v":0},"-",{"$f":"IF(K59=\"-\",0,K59)","v":0},{"$f":"Table101617181920[[#This Row],[School]]","v":"-"},{"$f":"D59+F59+H59+J59+L59","v":0},{"$f":"MAX(C59,E59,G59,I59,K59)","v":0},{"$f":"IF(Q59=1,N59,IF(Q59=0,(N59-O59),\"-\"))","v":"-"},{"$f":"$L$1-Table101617181920[Competed Count]","v":4},{"$f":"IF(Q59<2,\"Yes\",\"No\")","v":"No"},{"$f":"AND($C$1=\"Y\",D59>0)","v":false},{"$f":"AND($E$1=\"Y\",F59>0)","v":false},{"$f":"AND($G$1=\"Y\",H59>0)","v":false},{"$f":"AND($I$1=\"Y\",J59>0)","v":false},{"$f":"AND($K$1=\"Y\",L59>0)","v":false},{"$f":"COUNTIF(Table101617181920[[#This Row],[Competed 1]:[Competed 5]],\"=TRUE\")","v":0}]
[null,"-","-",{"$f":"IF(C60=\"-\",0,C60)","v":0},"-",{"$f":"IF(E60=\"-\",0,E60)","v":0},"-",{"$f":"IF(G60=\"-\",0,G60)","v":0},"-",{"$f":"IF(I60=\"-\",0,I60)","v":0},"-",{"$f":"IF(K60=\"-\",0,K60)","v":0},{"$f":"Table101617181920[[#This Row],[School]]","v":"-"},{"$f":"D60+F60+H60+J60+L60","v":0},{"$f":"MAX(C60,E60,G60,I60,K60)","v":0},{"$f":"IF(Q60=1,N60,IF(Q60=0,(N60-O60),\"-\"))","v":"-"},{"$f":"$L$1-Table101617181920[Competed Count]","v":4},{"$f":"IF(Q60<2,\"Yes\",\"No\")","v":"No"},{"$f":"AND($C$1=\"Y\",D60>0)","v":false},{"$f":"AND($E$1=\"Y\",F60>0)","v":false},{"$f":"AND($G$1=\"Y\",H60>0)","v":false},{"$f":"AND($I$1=\"Y\",J60>0)","v":false},{"$f":"AND($K$1=\"Y\",L60>0)","v":false},{"$f":"COUNTIF(Table101617181920[[#This Row],[Competed 1]:[Competed 5]],\"=TRUE\")","v":0}]
[null,"-","-",{"$f":"IF(C61=\"-\",0,C61)","v":0},"-",{"$f":"IF(E61=\"-\",0,E61)","v":0},"-",{"$f":"IF(G61=\"-\",0,G61)","v":0},"-",{"$f":"IF(I61=\"-\",0,I61)","v":0},"-",{"$f":"IF(K61=\"-\",0,K61)","v":0},{"$f":"Table101617181920[[#This Row],[School]]","v":"-"},{"$f":"D61+F61+H61+J61+L61","v":0},{"$f":"MAX(C61,E61,G61,I61,K61)","v":0},{"$f":"IF(Q61=1,N61,IF(Q61=0,(N61-O61),\"-\"))","v":"-"},{"$f":"$L$1-Table101617181920[Competed Count]","v":4},{"$f":"IF(Q61<2,\"Yes\",\"No\")","v":"No"},{"$f":"AND($C$1=\"Y\",D61>0)","v":false},{"$f":"AND($E$1=\"Y\",F61>0)","v":false},{"$f":"AND($G$1=\"Y\",H61>0)","v":false},{"$f":"AND($I$1=\"Y\",J61>0)","v":false},{"$f":"AND($K$1=\"Y\",L61>0)","v":false},{"$f":"COUNTIF(Table101617181920[[#This Row],[Competed 1]:[Competed 5]],\"=TRUE\")","v":0}]
[null,"-","-",{"$f":"IF(C62=\"-\",0,C62)","v":0},"-",{"$f":"IF(E62=\"-\",0,E62)","v":0},"-",{"$f":"IF(G62=\"-\",0,G62)","v":0},"-",{"$f":"IF(I62=\"-\",0,I62)","v":0},"-",{"$f":"IF(K62=\"-\",0,K62)","v":0},{"$f":"Table101617181920[[#This Row],[School]]","v":"-"},{"$f":"D62+F62+H62+J62+L62","v":0},{"$f":"MAX(C62,E62,G62,I62,K62)","v":0},{"$f":"IF(Q62=1,N62,IF(Q62=0,(N62-O62),\"-\"))","v":"-"},{"$f":"$L$1-Table101617181920[Competed Count]","v":4},{"$f":"IF(Q62<2,\"Yes\",\"No\")","v":"No"},{"$f":"AND($C$1=\"Y\",D62>0)","v":false},{"$f":"AND($E$1=\"Y\",F62>0)","v":false},{"$f":"AND($G$1=\"Y\",H62>0)","v":false},{"$f":"AND($I$1=\"Y\",J62>0)","v":false},{"$f":"AND($K$1=\"Y\",L62>0)","v":false},{"$f":"COUNTIF(Table101617181920[[#This Row],[Competed 1]:[Competed 5]],\"=TRUE\")","v":0}]
[null,"-","-",{"$f":"IF(C63=\"-\",0,C63)","v":0},"-",{"$f":"IF(E63=\"-\",0,E63)","v":0},"-",{"$f":"IF(G63=\"-\",0,G63)","v":0},"-",{"$f":"IF(I63=\"-\",0,I63)","v":0},"-",{"$f":"IF(K63=\"-\",0,K63)","v":0},{"$f":"Table101617181920[[#This Row],[School]]","v":"-"},{"$f":"D63+F63+H63+J63+L63","v":0},{"$f":"MAX(C63,E63,G63,I63,K63)","v":0},{"$f":"IF(Q63=1,N63,IF(Q63=0,(N63-O63),\"-\"))","v":"-"},{"$f":"$L$1-Table101617181920[Competed Count]","v":4},{"$f":"IF(Q63<2,\"Yes\",\"No\")","v":"No"},{"$f":"AND($C$1=\"Y\",D63>0)","v":false},{"$f":"AND($E$1=\"Y\",F63>0)","v":false},{"$f":"AND($G$1=\"Y\",H63>0)","v":false},{"$f":"AND($I$1=\"Y\",J63>0)","v":false},{"$f":"AND($K$1=\"Y\",L63>0)","v":false},{"$f":"COUNTIF(Table101617181920[[#This Row],[Competed 1]:[Competed 5]],\"=TRUE\")","v":0}]
[null,"-","-",{"$f":"IF(C64=\"-\",0,C64)","v":0},"-",{"$f":"IF(E64=\"-\",0,E64)","v":0},"-",{"$f":"IF(G64=\"-\",0,G64)","v":0},"-",{"$f":"IF(I64=\"-\",0,I64)","v":0},"-",{"$f":"IF(K64=\"-\",0,K64)","v":0},{"$f":"Table101617181920[[#This Row],[School]]","v":"-"},{"$f":"D64+F64+H64+J64+L64","v":0},{"$f":"MAX(C64,E64,G64,I64,K64)","v":0},{"$f":"IF(Q64=1,N64,IF(Q64=0,(N64-O64),\"-\"))","v":"-"},{"$f":"$L$1-Table101617181920[Competed Count]","v":4},{"$f":"IF(Q64<2,\"Yes\",\"No\")","v":"No"},{"$f":"AND($C$1=\"Y\",D64>0)","v":false},{"$f":"AND($E$1=\"Y\",F64>0)","v":false},{"$f":"AND($G$1=\"Y\",H64>0)","v":false},{"$f":"AND($I$1=\"Y\",J64>0)","v":false},{"$f":"AND($K$1=\"Y\",L64>0)","v":false},{"$f":"COUNTIF(Table101617181920[[#This Row],[Competed 1]:[Competed 5]],\"=TRUE\")","v":0}]
[null,"-","-",{"$f":"IF(C65=\"-\",0,C65)","v":0},"-",{"$f":"IF(E65=\"-\",0,E65)","v":0},"-",{"$f":"IF(G65=\"-\",0,G65)","v":0},"-",{"$f":"IF(I65=\"-\",0,I65)","v":0},"-",{"$f":"IF(K65=\"-\",0,K65)","v":0},{"$f":"Table101617181920[[#This Row],[School]]","v":"-"},{"$f":"D65+F65+H65+J65+L65","v":0},{"$f":"MAX(C65,E65,G65,I65,K65)","v":0},{"$f":"IF(Q65=1,N65,IF(Q65=0,(N65-O65),\"-\"))","v":"-"},{"$f":"$L$1-Table101617181920[Competed Count]","v":4},{"$f":"IF(Q65<2,\"Yes\",\"No\")","v":"No"},{"$f":"AND($C$1=\"Y\",D65>0)","v":false},{"$f":"AND($E$1=\"Y\",F65>0)","v":false},{"$f":"AND($G$1=\"Y\",H65>0)","v":false},{"$f":"AND($I$1=\"Y\",J65>0)","v":false},{"$f":"AND($K$1=\"Y\",L65>0)","v":false},{"$f":"COUNTIF(Table101617181920[[#This Row],[Competed 1]:[Competed 5]],\"=TRUE\")","v":0}]
[null,"-","-",{"$f":"IF(C66=\"-\",0,C66)","v":0},"-",{"$f":"IF(E66=\"-\",0,E66)","v":0},"-",{"$f":"IF(G66=\"-\",0,G66)","v":0},"-",{"$f":"IF(I66=\"-\",0,I66)","v":0},"-",{"$f":"IF(K66=\"-\",0,K66)","v":0},{"$f":"Table101617181920[[#This Row],[School]]","v":"-"},{"$f":"D66+F66+H66+J66+L66","v":0},{"$f":"MAX(C66,E66,G66,I66,K66)","v":0},{"$f":"IF(Q66=1,N66,IF(Q66=0,(N66-O66),\"-\"))","v":"-"},{"$f":"$L$1-Table101617181920[Competed Count]","v":4},{"$f":"IF(Q66<2,\"Yes\",\"No\")","v":"No"},{"$f":"AND($C$1=\"Y\",D66>0)","v":false},{"$f":"AND($E$1=\"Y\",F66>0)","v":false},{"$f":"AND($G$1=\"Y\",H66>0)","v":false},{"$f":"AND($I$1=\"Y\",J66>0)","v":false},{"$f":"AND($K$1=\"Y\",L66>0)","v":false},{"$f":"COUNTIF(Table101617181920[[#This Row],[Competed 1]:[Competed 5]],\"=TRUE\")","v":0}]
[null,"-","-",{"$f":"IF(C67=\"-\",0,C67)","v":0},"-",{"$f":"IF(E67=\"-\",0,E67)","v":0},"-",{"$f":"IF(G67=\"-\",0,G67)","v":0},"-",{"$f":"IF(I67=\"-\",0,I67)","v":0},"-",{"$f":"IF(K67=\"-\",0,K67)","v":0},{"$f":"Table101617181920[[#This Row],[School]]","v":"-"},{"$f":"D67+F67+H67+J67+L67","v":0},{"$f":"MAX(C67,E67,G67,I67,K67)","v":0},{"$f":"IF(Q67=1,N67,IF(Q67=0,(N67-O67),\"-\"))","v":"-"},{"$f":"$L$1-Table101617181920[Competed Count]","v":4},{"$f":"IF(Q67<2,\"Yes\",\"No\")","v":"No"},{"$f":"AND($C$1=\"Y\",D67>0)","v":false},{"$f":"AND($E$1=\"Y\",F67>0)","v":false},{"$f":"AND($G$1=\"Y\",H67>0)","v":false},{"$f":"AND($I$1=\"Y\",J67>0)","v":false},{"$f":"AND($K$1=\"Y\",L67>0)","v":false},{"$f":"COUNTIF(Table101617181920[[#This Row],[Competed 1]:[Competed 5]],\"=TRUE\")","v":0}]
[null,"-","-",{"$f":"IF(C68=\"-\",0,C68)","v":0},"-",{"$f":"IF(E68=\"-\",0,E68)","v":0},"-",{"$f":"IF(G68=\"-\",0,G68)","v":0},"-",{"$f":"IF(I68=\"-\",0,I68)","v":0},"-",{"$f":"IF(K68=\"-\",0,K68)","v":0},{"$f":"Table101617181920[[#This Row],[School]]","v":"-"},{"$f":"D68+F68+H68+J68+L68","v":0},{"$f":"MAX(C68,E68,G68,I68,K68)","v":0},{"$f":"IF(Q68=1,N68,IF(Q68=0,(N68-O68),\"-\"))","v":"-"},{"$f":"$L$1-Table101617181920[Competed Count]","v":4},{"$f":"IF(Q68<2,\"Yes\",\"No\")","v":"No"},{"$f":"AND($C$1=\"Y\",D68>0)","v":false},{"$f":"AND($E$1=\"Y\",F68>0)","v":false},{"$f":"AND($G$1=\"Y\",H68>0)","v":false},{"$f":"AND($I$1=\"Y\",J68>0)","v":false},{"$f":"AND($K$1=\"Y\",L68>0)","v":false},{"$f":"COUNTIF(Table101617181920[[#This Row],[Competed 1]:[Competed 5]],\"=TRUE\")","v":0}]
[null,"-","-",{"$f":"IF(C69=\"-\",0,C69)","v":0},"-",{"$f":"IF(E69=\"-\",0,E69)","v":0},"-",{"$f":"IF(G69=\"-\",0,G69)","v":0},"-",{"$f":"IF(I69=\"-\",0,I69)","v":0},"-",{"$f":"IF(K69=\"-\",0,K69)","v":0},{"$f":"Table101617181920[[#This Row],[School]]","v":"-"},{"$f":"D69+F69+H69+J69+L69","v":0},{"$f":"MAX(C69,E69,G69,I69,K69)","v":0},{"$f":"IF(Q69=1,N69,IF(Q69=0,(N69-O69),\"-\"))","v":"-"},{"$f":"$L$1-Table101617181920[Competed Count]","v":4},{"$f":"IF(Q69<2,\"Yes\",\"No\")","v":"No"},{"$f":"AND($C$1=\"Y\",D69>0)","v":false},{"$f":"AND($E$1=\"Y\",F69>0)","v":false},{"$f":"AND($G$1=\"Y\",H69>0)","v":false},{"$f":"AND($I$1=\"Y\",J69>0)","v":false},{"$f":"AND($K$1=\"Y\",L69>0)","v":false},{"$f":"COUNTIF(Table101617181920[[#This Row],[Competed 1]:[Competed 5]],\"=TRUE\")","v":0}]
[null,"-","-",{"$f":"IF(C70=\"-\",0,C70)","v":0},"-",{"$f":"IF(E70=\"-\",0,E70)","v":0},"-",{"$f":"IF(G70=\"-\",0,G70)","v":0},"-",{"$f":"IF(I70=\"-\",0,I70)","v":0},"-",{"$f":"IF(K70=\"-\",0,K70)","v":0},{"$f":"Table101617181920[[#This Row],[School]]","v":"-"},{"$f":"D70+F70+H70+J70+L70","v":0},{"$f":"MAX(C70,E70,G70,I70,K70)","v":0},{"$f":"IF(Q70=1,N70,IF(Q70=0,(N70-O70),\"-\"))","v":"-"},{"$f":"$L$1-Table101617181920[Competed Count]","v":4},{"$f":"IF(Q70<2,\"Yes\",\"No\")","v":"No"},{"$f":"AND($C$1=\"Y\",D70>0)","v":false},{"$f":"AND($E$1=\"Y\",F70>0)","v":false},{"$f":"AND($G$1=\"Y\",H70>0)","v":false},{"$f":"AND($I$1=\"Y\",J70>0)","v":false},{"$f":"AND($K$1=\"Y\",L70>0)","v":false},{"$f":"COUNTIF(Table101617181920[[#This Row],[Competed 1]:[Competed 5]],\"=TRUE\")","v":0}]
[null,"-","-",{"$f":"IF(C71=\"-\",0,C71)","v":0},"-",{"$f":"IF(E71=\"-\",0,E71)","v":0},"-",{"$f":"IF(G71=\"-\",0,G71)","v":0},"-",{"$f":"IF(I71=\"-\",0,I71)","v":0},"-",{"$f":"IF(K71=\"-\",0,K71)","v":0},{"$f":"Table101617181920[[#This Row],[School]]","v":"-"},{"$f":"D71+F71+H71+J71+L71","v":0},{"$f":"MAX(C71,E71,G71,I71,K71)","v":0},{"$f":"IF(Q71=1,N71,IF(Q71=0,(N71-O71),\"-\"))","v":"-"},{"$f":"$L$1-Table101617181920[Competed Count]","v":4},{"$f":"IF(Q71<2,\"Yes\",\"No\")","v":"No"},{"$f":"AND($C$1=\"Y\",D71>0)","v":false},{"$f":"AND($E$1=\"Y\",F71>0)","v":false},{"$f":"AND($G$1=\"Y\",H71>0)","v":false},{"$f":"AND($I$1=\"Y\",J71>0)","v":false},{"$f":"AND($K$1=\"Y\",L71>0)","v":false},{"$f":"COUNTIF(Table101617181920[[#This Row],[Competed 1]:[Competed 5]],\"=TRUE\")","v":0}]
[null,"-","-",{"$f":"IF(C72=\"-\",0,C72)","v":0},"-",{"$f":"IF(E72=\"-\",0,E72)","v":0},"-",{"$f":"IF(G72=\"-\",0,G72)","v":0},"-",{"$f":"IF(I72=\"-\",0,I72)","v":0},"-",{"$f":"IF(K72=\"-\",0,K72)","v":0},{"$f":"Table101617181920[[#This Row],[School]]","v":"-"},{"$f":"D72+F72+H72+J72+L72","v":0},{"$f":"MAX(C72,E72,G72,I72,K72)","v":0},{"$f":"IF(Q72=1,N72,IF(Q72=0,(N72-O72),\"-\"))","v":"-"},{"$f":"$L$1-Table101617181920[Competed Count]","v":4},{"$f":"IF(Q72<2,\"Yes\",\"No\")","v":"No"},{"$f":"AND($C$1=\"Y\",D72>0)","v":false},{"$f":"AND($E$1=\"Y\",F72>0)","v":false},{"$f":"AND($G$1=\"Y\",H72>0)","v":false},{"$f":"AND($I$1=\"Y\",J72>0)","v":false},{"$f":"AND($K$1=\"Y\",L72>0)","v":false},{"$f":"COUNTIF(Table101617181920[[#This Row],[Competed 1]:[Competed 5]],\"=TRUE\")","v":0}]
[null,"-","-",{"$f":"IF(C73=\"-\",0,C73)","v":0},"-",{"$f":"IF(E73=\"-\",0,E73)","v":0},"-",{"$f":"IF(G73=\"-\",0,G73)","v":0},"-",{"$f":"IF(I73=\"-\",0,I73)","v":0},"-",{"$f":"IF(K73=\"-\",0,K73)","v":0},{"$f":"Table101617181920[[#This Row],[School]]","v":"-"},{"$f":"D73+F73+H73+J73+L73","v":0},{"$f":"MAX(C73,E73,G73,I73,K73)","v":0},{"$f":"IF(Q73=1,N73,IF(Q73=0,(N73-O73),\"-\"))","v":"-"},{"$f":"$L$1-Table101617181920[Competed Count]","v":4},{"$f":"IF(Q73<2,\"Yes\",\"No\")","v":"No"},{"$f":"AND($C$1=\"Y\",D73>0)","v":false},{"$f":"AND($E$1=\"Y\",F73>0)","v":false},{"$f":"AND($G$1=\"Y\",H73>0)","v":false},{"$f":"AND($I$1=\"Y\",J73>0)","v":false},{"$f":"AND($K$1=\"Y\",L73>0)","v":false},{"$f":"COUNTIF(Table101617181920[[#This Row],[Competed 1]:[Competed 5]],\"=TRUE\")","v":0}]
[null,"-","-",{"$f":"IF(C74=\"-\",0,C74)","v":0},"-",{"$f":"IF(E74=\"-\",0,E74)","v":0},"-",{"$f":"IF(G74=\"-\",0,G74)","v":0},"-",{"$f":"IF(I74=\"-\",0,I74)","v":0},"-",{"$f":"IF(K74=\"-\",0,K74)","v":0},{"$f":"Table101617181920[[#This Row],[School]]","v":"-"},{"$f":"D74+F74+H74+J74+L74","v":0},{"$f":"MAX(C74,E74,G74,I74,K74)","v":0},{"$f":"IF(Q74=1,N74,IF(Q74=0,(N74-O74),\"-\"))","v":"-"},{"$f":"$L$1-Table101617181920[Competed Count]","v":4},{"$f":"IF(Q74<2,\"Yes\",\"No\")","v":"No"},{"$f":"AND($C$1=\"Y\",D74>0)","v":false},{"$f":"AND($E$1=\"Y\",F74>0)","v":false},{"$f":"AND($G$1=\"Y\",H74>0)","v":false},{"$f":"AND($I$1=\"Y\",J74>0)","v":false},{"$f":"AND($K$1=\"Y\",L74>0)","v":false},{"$f":"COUNTIF(Table101617181920[[#This Row],[Competed 1]:[Competed 5]],\"=TRUE\")","v":0}]
[null,"-","-",{"$f":"IF(C75=\"-\",0,C75)","v":0},"-",{"$f":"IF(E75=\"-\",0,E75)","v":0},"-",{"$f":"IF(G75=\"-\",0,G75)","v":0},"-",{"$f":"IF(I75=\"-\",0,I75)","v":0},"-",{"$f":"IF(K75=\"-\",0,K75)","v":0},{"$f":"Table101617181920[[#This Row],[School]]","v":"-"},{"$f":"D75+F75+H75+J75+L75","v":0},{"$f":"MAX(C75,E75,G75,I75,K75)","v":0},{"$f":"IF(Q75=1,N75,IF(Q75=0,(N75-O75),\"-\"))","v":"-"},{"$f":"$L$1-Table101617181920[Competed Count]","v":4},{"$f":"IF(Q75<2,\"Yes\",\"No\")","v":"No"},{"$f":"AND($C$1=\"Y\",D75>0)","v":false},{"$f":"AND($E$1=\"Y\",F75>0)","v":false},{"$f":"AND($G$1=\"Y\",H75>0)","v":false},{"$f":"AND($I$1=\"Y\",J75>0)","v":false},{"$f":"AND($K$1=\"Y\",L75>0)","v":false},{"$f":"COUNTIF(Table101617181920[[#This Row],[Competed 1]:[Competed 5]],\"=TRUE\")","v":0}]
[null,"-","-",{"$f":"IF(C76=\"-\",0,C76)","v":0},"-",{"$f":"IF(E76=\"-\",0,E76)","v":0},"-",{"$f":"IF(G76=\"-\",0,G76)","v":0},"-",{"$f":"IF(I76=\"-\",0,I76)","v":0},"-",{"$f":"IF(K76=\"-\",0,K76)","v":0},{"$f":"Table101617181920[[#This Row],[School]]","v":"-"},{"$f":"D76+F76+H76+J76+L76","v":0},{"$f":"MAX(C76,E76,G76,I76,K76)","v":0},{"$f":"IF(Q76=1,N76,IF(Q76=0,(N76-O76),\"-\"))","v":"-"},{"$f":"$L$1-Table101617181920[Competed Count]","v":4},{"$f":"IF(Q76<2,\"Yes\",\"No\")","v":"No"},{"$f":"AND($C$1=\"Y\",D76>0)","v":false},{"$f":"AND($E$1=\"Y\",F76>0)","v":false},{"$f":"AND($G$1=\"Y\",H76>0)","v":false},{"$f":"AND($I$1=\"Y\",J76>0)","v":false},{"$f":"AND($K$1=\"Y\",L76>0)","v":false},{"$f":"COUNTIF(Table101617181920[[#This Row],[Competed 1]:[Competed 5]],\"=TRUE\")","v":0}]
[null,"-","-",{"$f":"IF(C77=\"-\",0,C77)","v":0},"-",{"$f":"IF(E77=\"-\",0,E77)","v":0},"-",{"$f":"IF(G77=\"-\",0,G77)","v":0},"-",{"$f":"IF(I77=\"-\",0,I77)","v":0},"-",{"$f":"IF(K77=\"-\",0,K77)","v":0},{"$f":"Table101617181920[[#This Row],[School]]","v":"-"},{"$f":"D77+F77+H77+J77+L77","v":0},{"$f":"MAX(C77,E77,G77,I77,K77)","v":0},{"$f":"IF(Q77=1,N77,IF(Q77=0,(N77-O77),\"-\"))","v":"-"},{"$f":"$L$1-Table101617181920[Competed Count]","v":4},{"$f":"IF(Q77<2,\"Yes\",\"No\")","v":"No"},{"$f":"AND($C$1=\"Y\",D77>0)","v":false},{"$f":"AND($E$1=\"Y\",F77>0)","v":false},{"$f":"AND($G$1=\"Y\",H77>0)","v":false},{"$f":"AND($I$1=\"Y\",J77>0)","v":false},{"$f":"AND($K$1=\"Y\",L77>0)","v":false},{"$f":"COUNTIF(Table101617181920[[#This Row],[Competed 1]:[Competed 5]],\"=TRUE\")","v":0}]
[null,"-","-",{"$f":"IF(C78=\"-\",0,C78)","v":0},"-",{"$f":"IF(E78=\"-\",0,E78)","v":0},"-",{"$f":"IF(G78=\"-\",0,G78)","v":0},"-",{"$f":"IF(I78=\"-\",0,I78)","v":0},"-",{"$f":"IF(K78=\"-\",0,K78)","v":0},{"$f":"Table101617181920[[#This Row],[School]]","v":"-"},{"$f":"D78+F78+H78+J78+L78","v":0},{"$f":"MAX(C78,E78,G78,I78,K78)","v":0},{"$f":"IF(Q78=1,N78,IF(Q78=0,(N78-O78),\"-\"))","v":"-"},{"$f":"$L$1-Table101617181920[Competed Count]","v":4},{"$f":"IF(Q78<2,\"Yes\",\"No\")","v":"No"},{"$f":"AND($C$1=\"Y\",D78>0)","v":false},{"$f":"AND($E$1=\"Y\",F78>0)","v":false},{"$f":"AND($G$1=\"Y\",H78>0)","v":false},{"$f":"AND($I$1=\"Y\",J78>0)","v":false},{"$f":"AND($K$1=\"Y\",L78>0)","v":false},{"$f":"COUNTIF(Table101617181920[[#This Row],[Competed 1]:[Competed 5]],\"=TRUE\")","v":0}]
[null,"-","-",{"$f":"IF(C79=\"-\",0,C79)","v":0},"-",{"$f":"IF(E79=\"-\",0,E79)","v":0},"-",{"$f":"IF(G79=\"-\",0,G79)","v":0},"-",{"$f":"IF(I79=\"-\",0,I79)","v":0},"-",{"$f":"IF(K79=\"-\",0,K79)","v":0},{"$f":"Table101617181920[[#This Row],[School]]","v":"-"},{"$f":"D79+F79+H79+J79+L79","v":0},{"$f":"MAX(C79,E79,G79,I79,K79)","v":0},{"$f":"IF(Q79=1,N79,IF(Q79=0,(N79-O79),\"-\"))","v":"-"},{"$f":"$L$1-Table101617181920[Competed Count]","v":4},{"$f":"IF(Q79<2,\"Yes\",\"No\")","v":"No"},{"$f":"AND($C$1=\"Y\",D79>0)","v":false},{"$f":"AND($E$1=\"Y\",F79>0)","v":false},{"$f":"AND($G$1=\"Y\",H79>0)","v":false},{"$f":"AND($I$1=\"Y\",J79>0)","v":false},{"$f":"AND($K$1=\"Y\",L79>0)","v":false},{"$f":"COUNTIF(Table101617181920[[#This Row],[Competed 1]:[Competed 5]],\"=TRUE\")","v":0}]
[null,"-","-",{"$f":"IF(C80=\"-\",0,C80)","v":0},"-",{"$f":"IF(E80=\"-\",0,E80)","v":0},"-",{"$f":"IF(G80=\"-\",0,G80)","v":0},"-",{"$f":"IF(I80=\"-\",0,I80)","v":0},"-",{"$f":"IF(K80=\"-\",0,K80)","v":0},{"$f":"Table101617181920[[#This Row],[School]]","v":"-"},{"$f":"D80+F80+H80+J80+L80","v":0},{"$f":"MAX(C80,E80,G80,I80,K80)","v":0},{"$f":"IF(Q80=1,N80,IF(Q80=0,(N80-O80),\"-\"))","v":"-"},{"$f":"$L$1-Table101617181920[Competed Count]","v":4},{"$f":"IF(Q80<2,\"Yes\",\"No\")","v":"No"},{"$f":"AND($C$1=\"Y\",D80>0)","v":false},{"$f":"AND($E$1=\"Y\",F80>0)","v":false},{"$f":"AND($G$1=\"Y\",H80>0)","v":false},{"$f":"AND($I$1=\"Y\",J80>0)","v":false},{"$f":"AND($K$1=\"Y\",L80>0)","v":false},{"$f":"COUNTIF(Table101617181920[[#This Row],[Competed 1]:[Competed 5]],\"=TRUE\")","v":0}]
[null,"-","-",{"$f":"IF(C81=\"-\",0,C81)","v":0},"-",{"$f":"IF(E81=\"-\",0,E81)","v":0},"-",{"$f":"IF(G81=\"-\",0,G81)","v":0},"-",{"$f":"IF(I81=\"-\",0,I81)","v":0},"-",{"$f":"IF(K81=\"-\",0,K81)","v":0},{"$f":"Table101617181920[[#This Row],[School]]","v":"-"},{"$f":"D81+F81+H81+J81+L81","v":0},{"$f":"MAX(C81,E81,G81,I81,K81)","v":0},{"$f":"IF(Q81=1,N81,IF(Q81=0,(N81-O81),\"-\"))","v":"-"},{"$f":"$L$1-Table101617181920[Competed Count]","v":4},{"$f":"IF(Q81<2,\"Yes\",\"No\")","v":"No"},{"$f":"AND($C$1=\"Y\",D81>0)","v":false},{"$f":"AND($E$1=\"Y\",F81>0)","v":false},{"$f":"AND($G$1=\"Y\",H81>0)","v":false},{"$f":"AND($I$1=\"Y\",J81>0)","v":false},{"$f":"AND($K$1=\"Y\",L81>0)","v":false},{"$f":"COUNTIF(Table101617181920[[#This Row],[Competed 1]:[Competed 5]],\"=TRUE\")","v":0}]
[null,"-","-",{"$f":"IF(C82=\"-\",0,C82)","v":0},"-",{"$f":"IF(E82=\"-\",0,E82)","v":0},"-",{"$f":"IF(G82=\"-\",0,G82)","v":0},"-",{"$f":"IF(I82=\"-\",0,I82)","v":0},"-",{"$f":"IF(K82=\"-\",0,K82)","v":0},{"$f":"Table101617181920[[#This Row],[School]]","v":"-"},{"$f":"D82+F82+H82+J82+L82","v":0},{"$f":"MAX(C82,E82,G82,I82,K82)","v":0},{"$f":"IF(Q82=1,N82,IF(Q82=0,(N82-O82),\"-\"))","v":"-"},{"$f":"$L$1-Table101617181920[Competed Count]","v":4},{"$f":"IF(Q82<2,\"Yes\",\"No\")","v":"No"},{"$f":"AND($C$1=\"Y\",D82>0)","v":false},{"$f":"AND($E$1=\"Y\",F82>0)","v":false},{"$f":"AND($G$1=\"Y\",H82>0)","v":false},{"$f":"AND($I$1=\"Y\",J82>0)","v":false},{"$f":"AND($K$1=\"Y\",L82>0)","v":false},{"$f":"COUNTIF(Table101617181920[[#This Row],[Competed 1]:[Competed 5]],\"=TRUE\")","v":0}]
[null,"-","-",{"$f":"IF(C83=\"-\",0,C83)","v":0},"-",{"$f":"IF(E83=\"-\",0,E83)","v":0},"-",{"$f":"IF(G83=\"-\",0,G83)","v":0},"-",{"$f":"IF(I83=\"-\",0,I83)","v":0},"-",{"$f":"IF(K83=\"-\",0,K83)","v":0},{"$f":"Table101617181920[[#This Row],[School]]","v":"-"},{"$f":"D83+F83+H83+J83+L83","v":0},{"$f":"MAX(C83,E83,G83,I83,K83)","v":0},{"$f":"IF(Q83=1,N83,IF(Q83=0,(N83-O83),\"-\"))","v":"-"},{"$f":"$L$1-Table101617181920[Competed Count]","v":4},{"$f":"IF(Q83<2,\"Yes\",\"No\")","v":"No"},{"$f":"AND($C$1=\"Y\",D83>0)","v":false},{"$f":"AND($E$1=\"Y\",F83>0)","v":false},{"$f":"AND($G$1=\"Y\",H83>0)","v":false},{"$f":"AND($I$1=\"Y\",J83>0)","v":false},{"$f":"AND($K$1=\"Y\",L83>0)","v":false},{"$f":"COUNTIF(Table101617181920[[#This Row],[Competed 1]:[Competed 5]],\"=TRUE\")","v":0}]
[null,"-","-",{"$f":"IF(C84=\"-\",0,C84)","v":0},"-",{"$f":"IF(E84=\"-\",0,E84)","v":0},"-",{"$f":"IF(G84=\"-\",0,G84)","v":0},"-",{"$f":"IF(I84=\"-\",0,I84)","v":0},"-",{"$f":"IF(K84=\"-\",0,K84)","v":0},{"$f":"Table101617181920[[#This Row],[School]]","v":"-"},{"$f":"D84+F84+H84+J84+L84","v":0},{"$f":"MAX(C84,E84,G84,I84,K84)","v":0},{"$f":"IF(Q84=1,N84,IF(Q84=0,(N84-O84),\"-\"))","v":"-"},{"$f":"$L$1-Table101617181920[Competed Count]","v":4},{"$f":"IF(Q84<2,\"Yes\",\"No\")","v":"No"},{"$f":"AND($C$1=\"Y\",D84>0)","v":false},{"$f":"AND($E$1=\"Y\",F84>0)","v":false},{"$f":"AND($G$1=\"Y\",H84>0)","v":false},{"$f":"AND($I$1=\"Y\",J84>0)","v":false},{"$f":"AND($K$1=\"Y\",L84>0)","v":false},{"$f":"COUNTIF(Table101617181920[[#This Row],[Competed 1]:[Competed 5]],\"=TRUE\")","v":0}]
[null,"-","-",{"$f":"IF(C85=\"-\",0,C85)","v":0},"-",{"$f":"IF(E85=\"-\",0,E85)","v":0},"-",{"$f":"IF(G85=\"-\",0,G85)","v":0},"-",{"$f":"IF(I85=\"-\",0,I85)","v":0},"-",{"$f":"IF(K85=\"-\",0,K85)","v":0},{"$f":"Table101617181920[[#This Row],[School]]","v":"-"},{"$f":"D85+F85+H85+J85+L85","v":0},{"$f":"MAX(C85,E85,G85,I85,K85)","v":0},{"$f":"IF(Q85=1,N85,IF(Q85=0,(N85-O85),\"-\"))","v":"-"},{"$f":"$L$1-Table101617181920[Competed Count]","v":4},{"$f":"IF(Q85<2,\"Yes\",\"No\")","v":"No"},{"$f":"AND($C$1=\"Y\",D85>0)","v":false},{"$f":"AND($E$1=\"Y\",F85>0)","v":false},{"$f":"AND($G$1=\"Y\",H85>0)","v":false},{"$f":"AND($I$1=\"Y\",J85>0)","v":false},{"$f":"AND($K$1=\"Y\",L85>0)","v":false},{"$f":"COUNTIF(Table101617181920[[#This Row],[Competed 1]:[Competed 5]],\"=TRUE\")","v":0}]
[null,"-","-",{"$f":"IF(C86=\"-\",0,C86)","v":0},"-",{"$f":"IF(E86=\"-\",0,E86)","v":0},"-",{"$f":"IF(G86=\"-\",0,G86)","v":0},"-",{"$f":"IF(I86=\"-\",0,I86)","v":0},"-",{"$f":"IF(K86=\"-\",0,K86)","v":0},{"$f":"Table101617181920[[#This Row],[School]]","v":"-"},{"$f":"D86+F86+H86+J86+L86","v":0},{"$f":"MAX(C86,E86,G86,I86,K86)","v":0},{"$f":"IF(Q86=1,N86,IF(Q86=0,(N86-O86),\"-\"))","v":"-"},{"$f":"$L$1-Table101617181920[Competed Count]","v":4},{"$f":"IF(Q86<2,\"Yes\",\"No\")","v":"No"},{"$f":"AND($C$1=\"Y\",D86>0)","v":false},{"$f":"AND($E$1=\"Y\",F86>0)","v":false},{"$f":"AND($G$1=\"Y\",H86>0)","v":false},{"$f":"AND($I$1=\"Y\",J86>0)","v":false},{"$f":"AND($K$1=\"Y\",L86>0)","v":false},{"$f":"COUNTIF(Table101617181920[[#This Row],[Competed 1]:[Competed 5]],\"=TRUE\")","v":0}]
[null,"-","-",{"$f":"IF(C87=\"-\",0,C87)","v":0},"-",{"$f":"IF(E87=\"-\",0,E87)","v":0},"-",{"$f":"IF(G87=\"-\",0,G87)","v":0},"-",{"$f":"IF(I87=\"-\",0,I87)","v":0},"-",{"$f":"IF(K87=\"-\",0,K87)","v":0},{"$f":"Table101617181920[[#This Row],[School]]","v":"-"},{"$f":"D87+F87+H87+J87+L87","v":0},{"$f":"MAX(C87,E87,G87,I87,K87)","v":0},{"$f":"IF(Q87=1,N87,IF(Q87=0,(N87-O87),\"-\"))","v":"-"},{"$f":"$L$1-Table101617181920[Competed Count]","v":4},{"$f":"IF(Q87<2,\"Yes\",\"No\")","v":"No"},{"$f":"AND($C$1=\"Y\",D87>0)","v":false},{"$f":"AND($E$1=\"Y\",F87>0)","v":false},{"$f":"AND($G$1=\"Y\",H87>0)","v":false},{"$f":"AND($I$1=\"Y\",J87>0)","v":false},{"$f":"AND($K$1=\"Y\",L87>0)","v":false},{"$f":"COUNTIF(Table101617181920[[#This Row],[Competed 1]:[Competed 5]],\"=TRUE\")","v":0}]
[null,"-","-",{"$f":"IF(C88=\"-\",0,C88)","v":0},"-",{"$f":"IF(E88=\"-\",0,E88)","v":0},"-",{"$f":"IF(G88=\"-\",0,G88)","v":0},"-",{"$f":"IF(I88=\"-\",0,I88)","v":0},"-",{"$f":"IF(K88=\"-\",0,K88)","v":0},{"$f":"Table101617181920[[#This Row],[School]]","v":"-"},{"$f":"D88+F88+H88+J88+L88","v":0},{"$f":"MAX(C88,E88,G88,I88,K88)","v":0},{"$f":"IF(Q88=1,N88,IF(Q88=0,(N88-O88),\"-\"))","v":"-"},{"$f":"$L$1-Table101617181920[Competed Count]","v":4},{"$f":"IF(Q88<2,\"Yes\",\"No\")","v":"No"},{"$f":"AND($C$1=\"Y\",D88>0)","v":false},{"$f":"AND($E$1=\"Y\",F88>0)","v":false},{"$f":"AND($G$1=\"Y\",H88>0)","v":false},{"$f":"AND($I$1=\"Y\",J88>0)","v":false},{"$f":"AND($K$1=\"Y\",L88>0)","v":false},{"$f":"COUNTIF(Table101617181920[[#This Row],[Competed 1]:[Competed 5]],\"=TRUE\")","v":0}]
[null,"-","-",{"$f":"IF(C89=\"-\",0,C89)","v":0},"-",{"$f":"IF(E89=\"-\",0,E89)","v":0},"-",{"$f":"IF(G89=\"-\",0,G89)","v":0},"-",{"$f":"IF(I89=\"-\",0,I89)","v":0},"-",{"$f":"IF(K89=\"-\",0,K89)","v":0},{"$f":"Table101617181920[[#This Row],[School]]","v":"-"},{"$f":"D89+F89+H89+J89+L89","v":0},{"$f":"MAX(C89,E89,G89,I89,K89)","v":0},{"$f":"IF(Q89=1,N89,IF(Q89=0,(N89-O89),\"-\"))","v":"-"},{"$f":"$L$1-Table101617181920[Competed Count]","v":4},{"$f":"IF(Q89<2,\"Yes\",\"No\")","v":"No"},{"$f":"AND($C$1=\"Y\",D89>0)","v":false},{"$f":"AND($E$1=\"Y\",F89>0)","v":false},{"$f":"AND($G$1=\"Y\",H89>0)","v":false},{"$f":"AND($I$1=\"Y\",J89>0)","v":false},{"$f":"AND($K$1=\"Y\",L89>0)","v":false},{"$f":"COUNTIF(Table101617181920[[#This Row],[Competed 1]:[Competed 5]],\"=TRUE\")","v":0}]
[null,"-","-",{"$f":"IF(C90=\"-\",0,C90)","v":0},"-",{"$f":"IF(E90=\"-\",0,E90)","v":0},"-",{"$f":"IF(G90=\"-\",0,G90)","v":0},"-",{"$f":"IF(I90=\"-\",0,I90)","v":0},"-",{"$f":"IF(K90=\"-\",0,K90)","v":0},{"$f":"Table101617181920[[#This Row],[School]]","v":"-"},{"$f":"D90+F90+H90+J90+L90","v":0},{"$f":"MAX(C90,E90,G90,I90,K90)","v":0},{"$f":"IF(Q90=1,N90,IF(Q90=0,(N90-O90),\"-\"))","v":"-"},{"$f":"$L$1-Table101617181920[Competed Count]","v":4},{"$f":"IF(Q90<2,\"Yes\",\"No\")","v":"No"},{"$f":"AND($C$1=\"Y\",D90>0)","v":false},{"$f":"AND($E$1=\"Y\",F90>0)","v":false},{"$f":"AND($G$1=\"Y\",H90>0)","v":false},{"$f":"AND($I$1=\"Y\",J90>0)","v":false},{"$f":"AND($K$1=\"Y\",L90>0)","v":false},{"$f":"COUNTIF(Table101617181920[[#This Row],[Competed 1]:[Competed 5]],\"=TRUE\")","v":0}]
[null,"-","-",{"$f":"IF(C91=\"-\",0,C91)","v":0},"-",{"$f":"IF(E91=\"-\",0,E91)","v":0},"-",{"$f":"IF(G91=\"-\",0,G91)","v":0},"-",{"$f":"IF(I91=\"-\",0,I91)","v":0},"-",{"$f":"IF(K91=\"-\",0,K91)","v":0},{"$f":"Table101617181920[[#This Row],[School]]","v":"-"},{"$f":"D91+F91+H91+J91+L91","v":0},{"$f":"MAX(C91,E91,G91,I91,K91)","v":0},{"$f":"IF(Q91=1,N91,IF(Q91=0,(N91-O91),\"-\"))","v":"-"},{"$f":"$L$1-Table101617181920[Competed Count]","v":4},{"$f":"IF(Q91<2,\"Yes\",\"No\")","v":"No"},{"$f":"AND($C$1=\"Y\",D91>0)","v":false},{"$f":"AND($E$1=\"Y\",F91>0)","v":false},{"$f":"AND($G$1=\"Y\",H91>0)","v":false},{"$f":"AND($I$1=\"Y\",J91>0)","v":false},{"$f":"AND($K$1=\"Y\",L91>0)","v":false},{"$f":"COUNTIF(Table101617181920[[#This Row],[Competed 1]:[Competed 5]],\"=TRUE\")","v":0}]
[null,"-","-",{"$f":"IF(C92=\"-\",0,C92)","v":0},"-",{"$f":"IF(E92=\"-\",0,E92)","v":0},"-",{"$f":"IF(G92=\"-\",0,G92)","v":0},"-",{"$f":"IF(I92=\"-\",0,I92)","v":0},"-",{"$f":"IF(K92=\"-\",0,K92)","v":0},{"$f":"Table101617181920[[#This Row],[School]]","v":"-"},{"$f":"D92+F92+H92+J92+L92","v":0},{"$f":"MAX(C92,E92,G92,I92,K92)","v":0},{"$f":"IF(Q92=1,N92,IF(Q92=0,(N92-O92),\"-\"))","v":"-"},{"$f":"$L$1-Table101617181920[Competed Count]","v":4},{"$f":"IF(Q92<2,\"Yes\",\"No\")","v":"No"},{"$f":"AND($C$1=\"Y\",D92>0)","v":false},{"$f":"AND($E$1=\"Y\",F92>0)","v":false},{"$f":"AND($G$1=\"Y\",H92>0)","v":false},{"$f":"AND($I$1=\"Y\",J92>0)","v":false},{"$f":"AND($K$1=\"Y\",L92>0)","v":false},{"$f":"COUNTIF(Table101617181920[[#This Row],[Competed 1]:[Competed 5]],\"=TRUE\")","v":0}]
[null,"-","-",{"$f":"IF(C93=\"-\",0,C93)","v":0},"-",{"$f":"IF(E93=\"-\",0,E93)","v":0},"-",{"$f":"IF(G93=\"-\",0,G93)","v":0},"-",{"$f":"IF(I93=\"-\",0,I93)","v":0},"-",{"$f":"IF(K93=\"-\",0,K93)","v":0},{"$f":"Table101617181920[[#This Row],[School]]","v":"-"},{"$f":"D93+F93+H93+J93+L93","v":0},{"$f":"MAX(C93,E93,G93,I93,K93)","v":0},{"$f":"IF(Q93=1,N93,IF(Q93=0,(N93-O93),\"-\"))","v":"-"},{"$f":"$L$1-Table101617181920[Competed Count]","v":4},{"$f":"IF(Q93<2,\"Yes\",\"No\")","v":"No"},{"$f":"AND($C$1=\"Y\",D93>0)","v":false},{"$f":"AND($E$1=\"Y\",F93>0)","v":false},{"$f":"AND($G$1=\"Y\",H93>0)","v":false},{"$f":"AND($I$1=\"Y\",J93>0)","v":false},{"$f":"AND($K$1=\"Y\",L93>0)","v":false},{"$f":"COUNTIF(Table101617181920[[#This Row],[Competed 1]:[Competed 5]],\"=TRUE\")","v":0}]
[null,"-","-",{"$f":"IF(C94=\"-\",0,C94)","v":0},"-",{"$f":"IF(E94=\"-\",0,E94)","v":0},"-",{"$f":"IF(G94=\"-\",0,G94)","v":0},"-",{"$f":"IF(I94=\"-\",0,I94)","v":0},"-",{"$f":"IF(K94=\"-\",0,K94)","v":0},{"$f":"Table101617181920[[#This Row],[School]]","v":"-"},{"$f":"D94+F94+H94+J94+L94","v":0},{"$f":"MAX(C94,E94,G94,I94,K94)","v":0},{"$f":"IF(Q94=1,N94,IF(Q94=0,(N94-O94),\"-\"))","v":"-"},{"$f":"$L$1-Table101617181920[Competed Count]","v":4},{"$f":"IF(Q94<2,\"Yes\",\"No\")","v":"No"},{"$f":"AND($C$1=\"Y\",D94>0)","v":false},{"$f":"AND($E$1=\"Y\",F94>0)","v":false},{"$f":"AND($G$1=\"Y\",H94>0)","v":false},{"$f":"AND($I$1=\"Y\",J94>0)","v":false},{"$f":"AND($K$1=\"Y\",L94>0)","v":false},{"$f":"COUNTIF(Table101617181920[[#This Row],[Competed 1]:[Competed 5]],\"=TRUE\")","v":0}]
[null,"-","-",{"$f":"IF(C95=\"-\",0,C95)","v":0},"-",{"$f":"IF(E95=\"-\",0,E95)","v":0},"-",{"$f":"IF(G95=\"-\",0,G95)","v":0},"-",{"$f":"IF(I95=\"-\",0,I95)","v":0},"-",{"$f":"IF(K95=\"-\",0,K95)","v":0},{"$f":"Table101617181920[[#This Row],[School]]","v":"-"},{"$f":"D95+F95+H95+J95+L95","v":0},{"$f":"MAX(C95,E95,G95,I95,K95)","v":0},{"$f":"IF(Q95=1,N95,IF(Q95=0,(N95-O95),\"-\"))","v":"-"},{"$f":"$L$1-Table101617181920[Competed Count]","v":4},{"$f":"IF(Q95<2,\"Yes\",\"No\")","v":"No"},{"$f":"AND($C$1=\"Y\",D95>0)","v":false},{"$f":"AND($E$1=\"Y\",F95>0)","v":false},{"$f":"AND($G$1=\"Y\",H95>0)","v":false},{"$f":"AND($I$1=\"Y\",J95>0)","v":false},{"$f":"AND($K$1=\"Y\",L95>0)","v":false},{"$f":"COUNTIF(Table101617181920[[#This Row],[Competed 1]:[Competed 5]],\"=TRUE\")","v":0}]
[null,"-","-",{"$f":"IF(C96=\"-\",0,C96)","v":0},"-",{"$f":"IF(E96=\"-\",0,E96)","v":0},"-",{"$f":"IF(G96=\"-\",0,G96)","v":0},"-",{"$f":"IF(I96=\"-\",0,I96)","v":0},"-",{"$f":"IF(K96=\"-\",0,K96)","v":0},{"$f":"Table101617181920[[#This Row],[School]]","v":"-"},{"$f":"D96+F96+H96+J96+L96","v":0},{"$f":"MAX(C96,E96,G96,I96,K96)","v":0},{"$f":"IF(Q96=1,N96,IF(Q96=0,(N96-O96),\"-\"))","v":"-"},{"$f":"$L$1-Table101617181920[Competed Count]","v":4},{"$f":"IF(Q96<2,\"Yes\",\"No\")","v":"No"},{"$f":"AND($C$1=\"Y\",D96>0)","v":false},{"$f":"AND($E$1=\"Y\",F96>0)","v":false},{"$f":"AND($G$1=\"Y\",H96>0)","v":false},{"$f":"AND($I$1=\"Y\",J96>0)","v":false},{"$f":"AND($K$1=\"Y\",L96>0)","v":false},{"$f":"COUNTIF(Table101617181920[[#This Row],[Competed 1]:[Competed 5]],\"=TRUE\")","v":0}]
[null,"-","-",{"$f":"IF(C97=\"-\",0,C97)","v":0},"-",{"$f":"IF(E97=\"-\",0,E97)","v":0},"-",{"$f":"IF(G97=\"-\",0,G97)","v":0},"-",{"$f":"IF(I97=\"-\",0,I97)","v":0},"-",{"$f":"IF(K97=\"-\",0,K97)","v":0},{"$f":"Table101617181920[[#This Row],[School]]","v":"-"},{"$f":"D97+F97+H97+J97+L97","v":0},{"$f":"MAX(C97,E97,G97,I97,K97)","v":0},{"$f":"IF(Q97=1,N97,IF(Q97=0,(N97-O97),\"-\"))","v":"-"},{"$f":"$L$1-Table101617181920[Competed Count]","v":4},{"$f":"IF(Q97<2,\"Yes\",\"No\")","v":"No"},{"$f":"AND($C$1=\"Y\",D97>0)","v":false},{"$f":"AND($E$1=\"Y\",F97>0)","v":false},{"$f":"AND($G$1=\"Y\",H97>0)","v":false},{"$f":"AND($I$1=\"Y\",J97>0)","v":false},{"$f":"AND($K$1=\"Y\",L97>0)","v":false},{"$f":"COUNTIF(Table101617181920[[#This Row],[Competed 1]:[Competed 5]],\"=TRUE\")","v":0}]
[null,"-","-",{"$f":"IF(C98=\"-\",0,C98)","v":0},"-",{"$f":"IF(E98=\"-\",0,E98)","v":0},"-",{"$f":"IF(G98=\"-\",0,G98)","v":0},"-",{"$f":"IF(I98=\"-\",0,I98)","v":0},"-",{"$f":"IF(K98=\"-\",0,K98)","v":0},{"$f":"Table101617181920[[#This Row],[School]]","v":"-"},{"$f":"D98+F98+H98+J98+L98","v":0},{"$f":"MAX(C98,E98,G98,I98,K98)","v":0},{"$f":"IF(Q98=1,N98,IF(Q98=0,(N98-O98),\"-\"))","v":"-"},{"$f":"$L$1-Table101617181920[Competed Count]","v":4},{"$f":"IF(Q98<2,\"Yes\",\"No\")","v":"No"},{"$f":"AND($C$1=\"Y\",D98>0)","v":false},{"$f":"AND($E$1=\"Y\",F98>0)","v":false},{"$f":"AND($G$1=\"Y\",H98>0)","v":false},{"$f":"AND($I$1=\"Y\",J98>0)","v":false},{"$f":"AND($K$1=\"Y\",L98>0)","v":false},{"$f":"COUNTIF(Table101617181920[[#This Row],[Competed 1]:[Competed 5]],\"=TRUE\")","v":0}]
[null,"-","-",{"$f":"IF(C99=\"-\",0,C99)","v":0},"-",{"$f":"IF(E99=\"-\",0,E99)","v":0},"-",{"$f":"IF(G99=\"-\",0,G99)","v":0},"-",{"$f":"IF(I99=\"-\",0,I99)","v":0},"-",{"$f":"IF(K99=\"-\",0,K99)","v":0},{"$f":"Table101617181920[[#This Row],[School]]","v":"-"},{"$f":"D99+F99+H99+J99+L99","v":0},{"$f":"MAX(C99,E99,G99,I99,K99)","v":0},{"$f":"IF(Q99=1,N99,IF(Q99=0,(N99-O99),\"-\"))","v":"-"},{"$f":"$L$1-Table101617181920[Competed Count]","v":4},{"$f":"IF(Q99<2,\"Yes\",\"No\")","v":"No"},{"$f":"AND($C$1=\"Y\",D99>0)","v":false},{"$f":"AND($E$1=\"Y\",F99>0)","v":false},{"$f":"AND($G$1=\"Y\",H99>0)","v":false},{"$f":"AND($I$1=\"Y\",J99>0)","v":false},{"$f":"AND($K$1=\"Y\",L99>0)","v":false},{"$f":"COUNTIF(Table101617181920[[#This Row],[Competed 1]:[Competed 5]],\"=TRUE\")","v":0}]
[null,"-","-",{"$f":"IF(C100=\"-\",0,C100)","v":0},"-",{"$f":"IF(E100=\"-\",0,E100)","v":0},"-",{"$f":"IF(G100=\"-\",0,G100)","v":0},"-",{"$f":"IF(I100=\"-\",0,I100)","v":0},"-",{"$f":"IF(K100=\"-\",0,K100)","v":0},{"$f":"Table101617181920[[#This Row],[School]]","v":"-"},{"$f":"D100+F100+H100+J100+L100","v":0},{"$f":"MAX(C100,E100,G100,I100,K100)","v":0},{"$f":"IF(Q100=1,N100,IF(Q100=0,(N100-O100),\"-\"))","v":"-"},{"$f":"$L$1-Table101617181920[Competed Count]","v":4},{"$f":"IF(Q100<2,\"Yes\",\"No\")","v":"No"},{"$f":"AND($C$1=\"Y\",D100>0)","v":false},{"$f":"AND($E$1=\"Y\",F100>0)","v":false},{"$f":"AND($G$1=\"Y\",H100>0)","v":false},{"$f":"AND($I$1=\"Y\",J100>0)","v":false},{"$f":"AND($K$1=\"Y\",L100>0)","v":false},{"$f":"COUNTIF(Table101617181920[[#This Row],[Competed 1]:[Competed 5]],\"=TRUE\")","v":0}]
[null,"-","-",{"$f":"IF(C101=\"-\",0,C101)","v":0},"-",{"$f":"IF(E101=\"-\",0,E101)","v":0},"-",{"$f":"IF(G101=\"-\",0,G101)","v":0},"-",{"$f":"IF(I101=\"-\",0,I101)","v":0},"-",{"$f":"IF(K101=\"-\",0,K101)","v":0},{"$f":"Table101617181920[[#This Row],[School]]","v":"-"},{"$f":"D101+F101+H101+J101+L101","v":0},{"$f":"MAX(C101,E101,G101,I101,K101)","v":0},{"$f":"IF(Q101=1,N101,IF(Q101=0,(N101-O101),\"-\"))","v":"-"},{"$f":"$L$1-Table101617181920[Competed Count]","v":4},{"$f":"IF(Q101<2,\"Yes\",\"No\")","v":"No"},{"$f":"AND($C$1=\"Y\",D101>0)","v":false},{"$f":"AND($E$1=\"Y\",F101>0)","v":false},{"$f":"AND($G$1=\"Y\",H101>0)","v":false},{"$f":"AND($I$1=\"Y\",J101>0)","v":false},{"$f":"AND($K$1=\"Y\",L101>0)","v":false},{"$f":"COUNTIF(Table101617181920[[#This Row],[Competed 1]:[Competed 5]],\"=TRUE\")","v":0}]
[null,"-","-",{"$f":"IF(C102=\"-\",0,C102)","v":0},"-",{"$f":"IF(E102=\"-\",0,E102)","v":0},"-",{"$f":"IF(G102=\"-\",0,G102)","v":0},"-",{"$f":"IF(I102=\"-\",0,I102)","v":0},"-",{"$f":"IF(K102=\"-\",0,K102)","v":0},{"$f":"Table101617181920[[#This Row],[School]]","v":"-"},{"$f":"D102+F102+H102+J102+L102","v":0},{"$f":"MAX(C102,E102,G102,I102,K102)","v":0},{"$f":"IF(Q102=1,N102,IF(Q102=0,(N102-O102),\"-\"))","v":"-"},{"$f":"$L$1-Table101617181920[Competed Count]","v":4},{"$f":"IF(Q102<2,\"Yes\",\"No\")","v":"No"},{"$f":"AND($C$1=\"Y\",D102>0)","v":false},{"$f":"AND($E$1=\"Y\",F102>0)","v":false},{"$f":"AND($G$1=\"Y\",H102>0)","v":false},{"$f":"AND($I$1=\"Y\",J102>0)","v":false},{"$f":"AND($K$1=\"Y\",L102>0)","v":false},{"$f":"COUNTIF(Table101617181920[[#This Row],[Competed 1]:[Competed 5]],\"=TRUE\")","v":0}]
[null,"-","-",{"$f":"IF(C103=\"-\",0,C103)","v":0},"-",{"$f":"IF(E103=\"-\",0,E103)","v":0},"-",{"$f":"IF(G103=\"-\",0,G103)","v":0},"-",{"$f":"IF(I103=\"-\",0,I103)","v":0},"-",{"$f":"IF(K103=\"-\",0,K103)","v":0},{"$f":"Table101617181920[[#This Row],[School]]","v":"-"},{"$f":"D103+F103+H103+J103+L103","v":0},{"$f":"MAX(C103,E103,G103,I103,K103)","v":0},{"$f":"IF(Q103=1,N103,IF(Q103=0,(N103-O103),\"-\"))","v":"-"},{"$f":"$L$1-Table101617181920[Competed Count]","v":4},{"$f":"IF(Q103<2,\"Yes\",\"No\")","v":"No"},{"$f":"AND($C$1=\"Y\",D103>0)","v":false},{"$f":"AND($E$1=\"Y\",F103>0)","v":false},{"$f":"AND($G$1=\"Y\",H103>0)","v":false},{"$f":"AND($I$1=\"Y\",J103>0)","v":false},{"$f":"AND($K$1=\"Y\",L103>0)","v":false},{"$f":"COUNTIF(Table101617181920[[#This Row],[Competed 1]:[Competed 5]],\"=TRUE\")","v":0}]
[null,"-","-",{"$f":"IF(C104=\"-\",0,C104)","v":0},"-",{"$f":"IF(E104=\"-\",0,E104)","v":0},"-",{"$f":"IF(G104=\"-\",0,G104)","v":0},"-",{"$f":"IF(I104=\"-\",0,I104)","v":0},"-",{"$f":"IF(K104=\"-\",0,K104)","v":0},{"$f":"Table101617181920[[#This Row],[School]]","v":"-"},{"$f":"D104+F104+H104+J104+L104","v":0},{"$f":"MAX(C104,E104,G104,I104,K104)","v":0},{"$f":"IF(Q104=1,N104,IF(Q104=0,(N104-O104),\"-\"))","v":"-"},{"$f":"$L$1-Table101617181920[Competed Count]","v":4},{"$f":"IF(Q104<2,\"Yes\",\"No\")","v":"No"},{"$f":"AND($C$1=\"Y\",D104>0)","v":false},{"$f":"AND($E$1=\"Y\",F104>0)","v":false},{"$f":"AND($G$1=\"Y\",H104>0)","v":false},{"$f":"AND($I$1=\"Y\",J104>0)","v":false},{"$f":"AND($K$1=\"Y\",L104>0)","v":false},{"$f":"COUNTIF(Table101617181920[[#This Row],[Competed 1]:[Competed 5]],\"=TRUE\")","v":0}]
[null,"-","-",{"$f":"IF(C105=\"-\",0,C105)","v":0},"-",{"$f":"IF(E105=\"-\",0,E105)","v":0},"-",{"$f":"IF(G105=\"-\",0,G105)","v":0},"-",{"$f":"IF(I105=\"-\",0,I105)","v":0},"-",{"$f":"IF(K105=\"-\",0,K105)","v":0},{"$f":"Table101617181920[[#This Row],[School]]","v":"-"},{"$f":"D105+F105+H105+J105+L105","v":0},{"$f":"MAX(C105,E105,G105,I105,K105)","v":0},{"$f":"IF(Q105=1,N105,IF(Q105=0,(N105-O105),\"-\"))","v":"-"},{"$f":"$L$1-Table101617181920[Competed Count]","v":4},{"$f":"IF(Q105<2,\"Yes\",\"No\")","v":"No"},{"$f":"AND($C$1=\"Y\",D105>0)","v":false},{"$f":"AND($E$1=\"Y\",F105>0)","v":false},{"$f":"AND($G$1=\"Y\",H105>0)","v":false},{"$f":"AND($I$1=\"Y\",J105>0)","v":false},{"$f":"AND($K$1=\"Y\",L105>0)","v":false},{"$f":"COUNTIF(Table101617181920[[#This Row],[Competed 1]:[Competed 5]],\"=TRUE\")","v":0}]
[null,"-","-",{"$f":"IF(C106=\"-\",0,C106)","v":0},"-",{"$f":"IF(E106=\"-\",0,E106)","v":0},"-",{"$f":"IF(G106=\"-\",0,G106)","v":0},"-",{"$f":"IF(I106=\"-\",0,I106)","v":0},"-",{"$f":"IF(K106=\"-\",0,K106)","v":0},{"$f":"Table101617181920[[#This Row],[School]]","v":"-"},{"$f":"D106+F106+H106+J106+L106","v":0},{"$f":"MAX(C106,E106,G106,I106,K106)","v":0},{"$f":"IF(Q106=1,N106,IF(Q106=0,(N106-O106),\"-\"))","v":"-"},{"$f":"$L$1-Table101617181920[Competed Count]","v":4},{"$f":"IF(Q106<2,\"Yes\",\"No\")","v":"No"},{"$f":"AND($C$1=\"Y\",D106>0)","v":false},{"$f":"AND($E$1=\"Y\",F106>0)","v":false},{"$f":"AND($G$1=\"Y\",H106>0)","v":false},{"$f":"AND($I$1=\"Y\",J106>0)","v":false},{"$f":"AND($K$1=\"Y\",L106>0)","v":false},{"$f":"COUNTIF(Table101617181920[[#This Row],[Competed 1]:[Competed 5]],\"=TRUE\")","v":0}]
[null,"-","-",{"$f":"IF(C107=\"-\",0,C107)","v":0},"-",{"$f":"IF(E107=\"-\",0,E107)","v":0},"-",{"$f":"IF(G107=\"-\",0,G107)","v":0},"-",{"$f":"IF(I107=\"-\",0,I107)","v":0},"-",{"$f":"IF(K107=\"-\",0,K107)","v":0},{"$f":"Table101617181920[[#This Row],[School]]","v":"-"},{"$f":"D107+F107+H107+J107+L107","v":0},{"$f":"MAX(C107,E107,G107,I107,K107)","v":0},{"$f":"IF(Q107=1,N107,IF(Q107=0,(N107-O107),\"-\"))","v":"-"},{"$f":"$L$1-Table101617181920[Competed Count]","v":4},{"$f":"IF(Q107<2,\"Yes\",\"No\")","v":"No"},{"$f":"AND($C$1=\"Y\",D107>0)","v":false},{"$f":"AND($E$1=\"Y\",F107>0)","v":false},{"$f":"AND($G$1=\"Y\",H107>0)","v":false},{"$f":"AND($I$1=\"Y\",J107>0)","v":false},{"$f":"AND($K$1=\"Y\",L107>0)","v":false},{"$f":"COUNTIF(Table101617181920[[#This Row],[Competed 1]:[Competed 5]],\"=TRUE\")","v":0}]
[null,"-","-",{"$f":"IF(C108=\"-\",0,C108)","v":0},"-",{"$f":"IF(E108=\"-\",0,E108)","v":0},"-",{"$f":"IF(G108=\"-\",0,G108)","v":0},"-",{"$f":"IF(I108=\"-\",0,I108)","v":0},"-",{"$f":"IF(K108=\"-\",0,K108)","v":0},{"$f":"Table101617181920[[#This Row],[School]]","v":"-"},{"$f":"D108+F108+H108+J108+L108","v":0},{"$f":"MAX(C108,E108,G108,I108,K108)","v":0},{"$f":"IF(Q108=1,N108,IF(Q108=0,(N108-O108),\"-\"))","v":"-"},{"$f":"$L$1-Table101617181920[Competed Count]","v":4},{"$f":"IF(Q108<2,\"Yes\",\"No\")","v":"No"},{"$f":"AND($C$1=\"Y\",D108>0)","v":false},{"$f":"AND($E$1=\"Y\",F108>0)","v":false},{"$f":"AND($G$1=\"Y\",H108>0)","v":false},{"$f":"AND($I$1=\"Y\",J108>0)","v":false},{"$f":"AND($K$1=\"Y\",L108>0)","v":false},{"$f":"COUNTIF(Table101617181920[[#This Row],[Competed 1]:[Competed 5]],\"=TRUE\")","v":0}]
[null,"-","-",{"$f":"IF(C109=\"-\",0,C109)","v":0},"-",{"$f":"IF(E109=\"-\",0,E109)","v":0},"-",{"$f":"IF(G109=\"-\",0,G109)","v":0},"-",{"$f":"IF(I109=\"-\",0,I109)","v":0},"-",{"$f":"IF(K109=\"-\",0,K109)","v":0},{"$f":"Table101617181920[[#This Row],[School]]","v":"-"},{"$f":"D109+F109+H109+J109+L109","v":0},{"$f":"MAX(C109,E109,G109,I109,K109)","v":0},{"$f":"IF(Q109=1,N109,IF(Q109=0,(N109-O109),\"-\"))","v":"-"},{"$f":"$L$1-Table101617181920[Competed Count]","v":4},{"$f":"IF(Q109<2,\"Yes\",\"No\")","v":"No"},{"$f":"AND($C$1=\"Y\",D109>0)","v":false},{"$f":"AND($E$1=\"Y\",F109>0)","v":false},{"$f":"AND($G$1=\"Y\",H109>0)","v":false},{"$f":"AND($I$1=\"Y\",J109>0)","v":false},{"$f":"AND($K$1=\"Y\",L109>0)","v":false},{"$f":"COUNTIF(Table101617181920[[#This Row],[Competed 1]:[Competed 5]],\"=TRUE\")","v":0}]
[null,"-","-",{"$f":"IF(C110=\"-\",0,C110)","v":0},"-",{"$f":"IF(E110=\"-\",0,E110)","v":0},"-",{"$f":"IF(G110=\"-\",0,G110)","v":0},"-",{"$f":"IF(I110=\"-\",0,I110)","v":0},"-",{"$f":"IF(K110=\"-\",0,K110)","v":0},{"$f":"Table101617181920[[#This Row],[School]]","v":"-"},{"$f":"D110+F110+H110+J110+L110","v":0},{"$f":"MAX(C110,E110,G110,I110,K110)","v":0},{"$f":"IF(Q110=1,N110,IF(Q110=0,(N110-O110),\"-\"))","v":"-"},{"$f":"$L$1-Table101617181920[Competed Count]","v":4},{"$f":"IF(Q110<2,\"Yes\",\"No\")","v":"No"},{"$f":"AND($C$1=\"Y\",D110>0)","v":false},{"$f":"AND($E$1=\"Y\",F110>0)","v":false},{"$f":"AND($G$1=\"Y\",H110>0)","v":false},{"$f":"AND($I$1=\"Y\",J110>0)","v":false},{"$f":"AND($K$1=\"Y\",L110>0)","v":false},{"$f":"COUNTIF(Table101617181920[[#This Row],[Competed 1]:[Competed 5]],\"=TRUE\")","v":0}]
[null,"-","-",{"$f":"IF(C111=\"-\",0,C111)","v":0},"-",{"$f":"IF(E111=\"-\",0,E111)","v":0},"-",{"$f":"IF(G111=\"-\",0,G111)","v":0},"-",{"$f":"IF(I111=\"-\",0,I111)","v":0},"-",{"$f":"IF(K111=\"-\",0,K111)","v":0},{"$f":"Table101617181920[[#This Row],[School]]","v":"-"},{"$f":"D111+F111+H111+J111+L111","v":0},{"$f":"MAX(C111,E111,G111,I111,K111)","v":0},{"$f":"IF(Q111=1,N111,IF(Q111=0,(N111-O111),\"-\"))","v":"-"},{"$f":"$L$1-Table101617181920[Competed Count]","v":4},{"$f":"IF(Q111<2,\"Yes\",\"No\")","v":"No"},{"$f":"AND($C$1=\"Y\",D111>0)","v":false},{"$f":"AND($E$1=\"Y\",F111>0)","v":false},{"$f":"AND($G$1=\"Y\",H111>0)","v":false},{"$f":"AND($I$1=\"Y\",J111>0)","v":false},{"$f":"AND($K$1=\"Y\",L111>0)","v":false},{"$f":"COUNTIF(Table101617181920[[#This Row],[Competed 1]:[Competed 5]],\"=TRUE\")","v":0}]
[null,"-","-",{"$f":"IF(C112=\"-\",0,C112)","v":0},"-",{"$f":"IF(E112=\"-\",0,E112)","v":0},"-",{"$f":"IF(G112=\"-\",0,G112)","v":0},"-",{"$f":"IF(I112=\"-\",0,I112)","v":0},"-",{"$f":"IF(K112=\"-\",0,K112)","v":0},{"$f":"Table101617181920[[#This Row],[School]]","v":"-"},{"$f":"D112+F112+H112+J112+L112","v":0},{"$f":"MAX(C112,E112,G112,I112,K112)","v":0},{"$f":"IF(Q112=1,N112,IF(Q112=0,(N112-O112),\"-\"))","v":"-"},{"$f":"$L$1-Table101617181920[Competed Count]","v":4},{"$f":"IF(Q112<2,\"Yes\",\"No\")","v":"No"},{"$f":"AND($C$1=\"Y\",D112>0)","v":false},{"$f":"AND($E$1=\"Y\",F112>0)","v":false},{"$f":"AND($G$1=\"Y\",H112>0)","v":false},{"$f":"AND($I$1=\"Y\",J112>0)","v":false},{"$f":"AND($K$1=\"Y\",L112>0)","v":false},{"$f":"COUNTIF(Table101617181920[[#This Row],[Competed 1]:[Competed 5]],\"=TRUE\")","v":0}]
[null,"-","-",{"$f":"IF(C113=\"-\",0,C113)","v":0},"-",{"$f":"IF(E113=\"-\",0,E113)","v":0},"-",{"$f":"IF(G113=\"-\",0,G113)","v":0},"-",{"$f":"IF(I113=\"-\",0,I113)","v":0},"-",{"$f":"IF(K113=\"-\",0,K113)","v":0},{"$f":"Table101617181920[[#This Row],[School]]","v":"-"},{"$f":"D113+F113+H113+J113+L113","v":0},{"$f":"MAX(C113,E113,G113,I113,K113)","v":0},{"$f":"IF(Q113=1,N113,IF(Q113=0,(N113-O113),\"-\"))","v":"-"},{"$f":"$L$1-Table101617181920[Competed Count]","v":4},{"$f":"IF(Q113<2,\"Yes\",\"No\")","v":"No"},{"$f":"AND($C$1=\"Y\",D113>0)","v":false},{"$f":"AND($E$1=\"Y\",F113>0)","v":false},{"$f":"AND($G$1=\"Y\",H113>0)","v":false},{"$f":"AND($I$1=\"Y\",J113>0)","v":false},{"$f":"AND($K$1=\"Y\",L113>0)","v":false},{"$f":"COUNTIF(Table101617181920[[#This Row],[Competed 1]:[Competed 5]],\"=TRUE\")","v":0}]
[null,"-","-",{"$f":"IF(C114=\"-\",0,C114)","v":0},"-",{"$f":"IF(E114=\"-\",0,E114)","v":0},"-",{"$f":"IF(G114=\"-\",0,G114)","v":0},"-",{"$f":"IF(I114=\"-\",0,I114)","v":0},"-",{"$f":"IF(K114=\"-\",0,K114)","v":0},{"$f":"Table101617181920[[#This Row],[School]]","v":"-"},{"$f":"D114+F114+H114+J114+L114","v":0},{"$f":"MAX(C114,E114,G114,I114,K114)","v":0},{"$f":"IF(Q114=1,N114,IF(Q114=0,(N114-O114),\"-\"))","v":"-"},{"$f":"$L$1-Table101617181920[Competed Count]","v":4},{"$f":"IF(Q114<2,\"Yes\",\"No\")","v":"No"},{"$f":"AND($C$1=\"Y\",D114>0)","v":false},{"$f":"AND($E$1=\"Y\",F114>0)","v":false},{"$f":"AND($G$1=\"Y\",H114>0)","v":false},{"$f":"AND($I$1=\"Y\",J114>0)","v":false},{"$f":"AND($K$1=\"Y\",L114>0)","v":false},{"$f":"COUNTIF(Table101617181920[[#This Row],[Competed 1]:[Competed 5]],\"=TRUE\")","v":0}]
[null,"-","-",{"$f":"IF(C115=\"-\",0,C115)","v":0},"-",{"$f":"IF(E115=\"-\",0,E115)","v":0},"-",{"$f":"IF(G115=\"-\",0,G115)","v":0},"-",{"$f":"IF(I115=\"-\",0,I115)","v":0},"-",{"$f":"IF(K115=\"-\",0,K115)","v":0},{"$f":"Table101617181920[[#This Row],[School]]","v":"-"},{"$f":"D115+F115+H115+J115+L115","v":0},{"$f":"MAX(C115,E115,G115,I115,K115)","v":0},{"$f":"IF(Q115=1,N115,IF(Q115=0,(N115-O115),\"-\"))","v":"-"},{"$f":"$L$1-Table101617181920[Competed Count]","v":4},{"$f":"IF(Q115<2,\"Yes\",\"No\")","v":"No"},{"$f":"AND($C$1=\"Y\",D115>0)","v":false},{"$f":"AND($E$1=\"Y\",F115>0)","v":false},{"$f":"AND($G$1=\"Y\",H115>0)","v":false},{"$f":"AND($I$1=\"Y\",J115>0)","v":false},{"$f":"AND($K$1=\"Y\",L115>0)","v":false},{"$f":"COUNTIF(Table101617181920[[#This Row],[Competed 1]:[Competed 5]],\"=TRUE\")","v":0}]
[null,"-","-",{"$f":"IF(C116=\"-\",0,C116)","v":0},"-",{"$f":"IF(E116=\"-\",0,E116)","v":0},"-",{"$f":"IF(G116=\"-\",0,G116)","v":0},"-",{"$f":"IF(I116=\"-\",0,I116)","v":0},"-",{"$f":"IF(K116=\"-\",0,K116)","v":0},{"$f":"Table101617181920[[#This Row],[School]]","v":"-"},{"$f":"D116+F116+H116+J116+L116","v":0},{"$f":"MAX(C116,E116,G116,I116,K116)","v":0},{"$f":"IF(Q116=1,N116,IF(Q116=0,(N116-O116),\"-\"))","v":"-"},{"$f":"$L$1-Table101617181920[Competed Count]","v":4},{"$f":"IF(Q116<2,\"Yes\",\"No\")","v":"No"},{"$f":"AND($C$1=\"Y\",D116>0)","v":false},{"$f":"AND($E$1=\"Y\",F116>0)","v":false},{"$f":"AND($G$1=\"Y\",H116>0)","v":false},{"$f":"AND($I$1=\"Y\",J116>0)","v":false},{"$f":"AND($K$1=\"Y\",L116>0)","v":false},{"$f":"COUNTIF(Table101617181920[[#This Row],[Competed 1]:[Competed 5]],\"=TRUE\")","v":0}]
[null,"-","-",{"$f":"IF(C117=\"-\",0,C117)","v":0},"-",{"$f":"IF(E117=\"-\",0,E117)","v":0},"-",{"$f":"IF(G117=\"-\",0,G117)","v":0},"-",{"$f":"IF(I117=\"-\",0,I117)","v":0},"-",{"$f":"IF(K117=\"-\",0,K117)","v":0},{"$f":"Table101617181920[[#This Row],[School]]","v":"-"},{"$f":"D117+F117+H117+J117+L117","v":0},{"$f":"MAX(C117,E117,G117,I117,K117)","v":0},{"$f":"IF(Q117=1,N117,IF(Q117=0,(N117-O117),\"-\"))","v":"-"},{"$f":"$L$1-Table101617181920[Competed Count]","v":4},{"$f":"IF(Q117<2,\"Yes\",\"No\")","v":"No"},{"$f":"AND($C$1=\"Y\",D117>0)","v":false},{"$f":"AND($E$1=\"Y\",F117>0)","v":false},{"$f":"AND($G$1=\"Y\",H117>0)","v":false},{"$f":"AND($I$1=\"Y\",J117>0)","v":false},{"$f":"AND($K$1=\"Y\",L117>0)","v":false},{"$f":"COUNTIF(Table101617181920[[#This Row],[Competed 1]:[Competed 5]],\"=TRUE\")","v":0}]
[null,"-","-",{"$f":"IF(C118=\"-\",0,C118)","v":0},"-",{"$f":"IF(E118=\"-\",0,E118)","v":0},"-",{"$f":"IF(G118=\"-\",0,G118)","v":0},"-",{"$f":"IF(I118=\"-\",0,I118)","v":0},"-",{"$f":"IF(K118=\"-\",0,K118)","v":0},{"$f":"Table101617181920[[#This Row],[School]]","v":"-"},{"$f":"D118+F118+H118+J118+L118","v":0},{"$f":"MAX(C118,E118,G118,I118,K118)","v":0},{"$f":"IF(Q118=1,N118,IF(Q118=0,(N118-O118),\"-\"))","v":"-"},{"$f":"$L$1-Table101617181920[Competed Count]","v":4},{"$f":"IF(Q118<2,\"Yes\",\"No\")","v":"No"},{"$f":"AND($C$1=\"Y\",D118>0)","v":false},{"$f":"AND($E$1=\"Y\",F118>0)","v":false},{"$f":"AND($G$1=\"Y\",H118>0)","v":false},{"$f":"AND($I$1=\"Y\",J118>0)","v":false},{"$f":"AND($K$1=\"Y\",L118>0)","v":false},{"$f":"COUNTIF(Table101617181920[[#This Row],[Competed 1]:[Competed 5]],\"=TRUE\")","v":0}]
[null,"-","-",{"$f":"IF(C119=\"-\",0,C119)","v":0},"-",{"$f":"IF(E119=\"-\",0,E119)","v":0},"-",{"$f":"IF(G119=\"-\",0,G119)","v":0},"-",{"$f":"IF(I119=\"-\",0,I119)","v":0},"-",{"$f":"IF(K119=\"-\",0,K119)","v":0},{"$f":"Table101617181920[[#This Row],[School]]","v":"-"},{"$f":"D119+F119+H119+J119+L119","v":0},{"$f":"MAX(C119,E119,G119,I119,K119)","v":0},{"$f":"IF(Q119=1,N119,IF(Q119=0,(N119-O119),\"-\"))","v":"-"},{"$f":"$L$1-Table101617181920[Competed Count]","v":4},{"$f":"IF(Q119<2,\"Yes\",\"No\")","v":"No"},{"$f":"AND($C$1=\"Y\",D119>0)","v":false},{"$f":"AND($E$1=\"Y\",F119>0)","v":false},{"$f":"AND($G$1=\"Y\",H119>0)","v":false},{"$f":"AND($I$1=\"Y\",J119>0)","v":false},{"$f":"AND($K$1=\"Y\",L119>0)","v":false},{"$f":"COUNTIF(Table101617181920[[#This Row],[Competed 1]:[Competed 5]],\"=TRUE\")","v":0}]
[null,"-","-",{"$f":"IF(C120=\"-\",0,C120)","v":0},"-",{"$f":"IF(E120=\"-\",0,E120)","v":0},"-",{"$f":"IF(G120=\"-\",0,G120)","v":0},"-",{"$f":"IF(I120=\"-\",0,I120)","v":0},"-",{"$f":"IF(K120=\"-\",0,K120)","v":0},{"$f":"Table101617181920[[#This Row],[School]]","v":"-"},{"$f":"D120+F120+H120+J120+L120","v":0},{"$f":"MAX(C120,E120,G120,I120,K120)","v":0},{"$f":"IF(Q120=1,N120,IF(Q120=0,(N120-O120),\"-\"))","v":"-"},{"$f":"$L$1-Table101617181920[Competed Count]","v":4},{"$f":"IF(Q120<2,\"Yes\",\"No\")","v":"No"},{"$f":"AND($C$1=\"Y\",D120>0)","v":false},{"$f":"AND($E$1=\"Y\",F120>0)","v":false},{"$f":"AND($G$1=\"Y\",H120>0)","v":false},{"$f":"AND($I$1=\"Y\",J120>0)","v":false},{"$f":"AND($K$1=\"Y\",L120>0)","v":false},{"$f":"COUNTIF(Table101617181920[[#This Row],[Competed 1]:[Competed 5]],\"=TRUE\")","v":0}]
[null,"-","-",{"$f":"IF(C121=\"-\",0,C121)","v":0},"-",{"$f":"IF(E121=\"-\",0,E121)","v":0},"-",{"$f":"IF(G121=\"-\",0,G121)","v":0},"-",{"$f":"IF(I121=\"-\",0,I121)","v":0},"-",{"$f":"IF(K121=\"-\",0,K121)","v":0},{"$f":"Table101617181920[[#This Row],[School]]","v":"-"},{"$f":"D121+F121+H121+J121+L121","v":0},{"$f":"MAX(C121,E121,G121,I121,K121)","v":0},{"$f":"IF(Q121=1,N121,IF(Q121=0,(N121-O121),\"-\"))","v":"-"},{"$f":"$L$1-Table101617181920[Competed Count]","v":4},{"$f":"IF(Q121<2,\"Yes\",\"No\")","v":"No"},{"$f":"AND($C$1=\"Y\",D121>0)","v":false},{"$f":"AND($E$1=\"Y\",F121>0)","v":false},{"$f":"AND($G$1=\"Y\",H121>0)","v":false},{"$f":"AND($I$1=\"Y\",J121>0)","v":false},{"$f":"AND($K$1=\"Y\",L121>0)","v":false},{"$f":"COUNTIF(Table101617181920[[#This Row],[Competed 1]:[Competed 5]],\"=TRUE\")","v":0}]
[null,"-","-",{"$f":"IF(C122=\"-\",0,C122)","v":0},"-",{"$f":"IF(E122=\"-\",0,E122)","v":0},"-",{"$f":"IF(G122=\"-\",0,G122)","v":0},"-",{"$f":"IF(I122=\"-\",0,I122)","v":0},"-",{"$f":"IF(K122=\"-\",0,K122)","v":0},{"$f":"Table101617181920[[#This Row],[School]]","v":"-"},{"$f":"D122+F122+H122+J122+L122","v":0},{"$f":"MAX(C122,E122,G122,I122,K122)","v":0},{"$f":"IF(Q122=1,N122,IF(Q122=0,(N122-O122),\"-\"))","v":"-"},{"$f":"$L$1-Table101617181920[Competed Count]","v":4},{"$f":"IF(Q122<2,\"Yes\",\"No\")","v":"No"},{"$f":"AND($C$1=\"Y\",D122>0)","v":false},{"$f":"AND($E$1=\"Y\",F122>0)","v":false},{"$f":"AND($G$1=\"Y\",H122>0)","v":false},{"$f":"AND($I$1=\"Y\",J122>0)","v":false},{"$f":"AND($K$1=\"Y\",L122>0)","v":false},{"$f":"COUNTIF(Table101617181920[[#This Row],[Competed 1]:[Competed 5]],\"=TRUE\")","v":0}]
[null,"-","-",{"$f":"IF(C123=\"-\",0,C123)","v":0},"-",{"$f":"IF(E123=\"-\",0,E123)","v":0},"-",{"$f":"IF(G123=\"-\",0,G123)","v":0},"-",{"$f":"IF(I123=\"-\",0,I123)","v":0},"-",{"$f":"IF(K123=\"-\",0,K123)","v":0},{"$f":"Table101617181920[[#This Row],[School]]","v":"-"},{"$f":"D123+F123+H123+J123+L123","v":0},{"$f":"MAX(C123,E123,G123,I123,K123)","v":0},{"$f":"IF(Q123=1,N123,IF(Q123=0,(N123-O123),\"-\"))","v":"-"},{"$f":"$L$1-Table101617181920[Competed Count]","v":4},{"$f":"IF(Q123<2,\"Yes\",\"No\")","v":"No"},{"$f":"AND($C$1=\"Y\",D123>0)","v":false},{"$f":"AND($E$1=\"Y\",F123>0)","v":false},{"$f":"AND($G$1=\"Y\",H123>0)","v":false},{"$f":"AND($I$1=\"Y\",J123>0)","v":false},{"$f":"AND($K$1=\"Y\",L123>0)","v":false},{"$f":"COUNTIF(Table101617181920[[#This Row],[Competed 1]:[Competed 5]],\"=TRUE\")","v":0}]
[null,"-","-",{"$f":"IF(C124=\"-\",0,C124)","v":0},"-",{"$f":"IF(E124=\"-\",0,E124)","v":0},"-",{"$f":"IF(G124=\"-\",0,G124)","v":0},"-",{"$f":"IF(I124=\"-\",0,I124)","v":0},"-",{"$f":"IF(K124=\"-\",0,K124)","v":0},{"$f":"Table101617181920[[#This Row],[School]]","v":"-"},{"$f":"D124+F124+H124+J124+L124","v":0},{"$f":"MAX(C124,E124,G124,I124,K124)","v":0},{"$f":"IF(Q124=1,N124,IF(Q124=0,(N124-O124),\"-\"))","v":"-"},{"$f":"$L$1-Table101617181920[Competed Count]","v":4},{"$f":"IF(Q124<2,\"Yes\",\"No\")","v":"No"},{"$f":"AND($C$1=\"Y\",D124>0)","v":false},{"$f":"AND($E$1=\"Y\",F124>0)","v":false},{"$f":"AND($G$1=\"Y\",H124>0)","v":false},{"$f":"AND($I$1=\"Y\",J124>0)","v":false},{"$f":"AND($K$1=\"Y\",L124>0)","v":false},{"$f":"COUNTIF(Table101617181920[[#This Row],[Competed 1]:[Competed 5]],\"=TRUE\")","v":0}]
[null,"-","-",{"$f":"IF(C125=\"-\",0,C125)","v":0},"-",{"$f":"IF(E125=\"-\",0,E125)","v":0},"-",{"$f":"IF(G125=\"-\",0,G125)","v":0},"-",{"$f":"IF(I125=\"-\",0,I125)","v":0},"-",{"$f":"IF(K125=\"-\",0,K125)","v":0},{"$f":"Table101617181920[[#This Row],[School]]","v":"-"},{"$f":"D125+F125+H125+J125+L125","v":0},{"$f":"MAX(C125,E125,G125,I125,K125)","v":0},{"$f":"IF(Q125=1,N125,IF(Q125=0,(N125-O125),\"-\"))","v":"-"},{"$f":"$L$1-Table101617181920[Competed Count]","v":4},{"$f":"IF(Q125<2,\"Yes\",\"No\")","v":"No"},{"$f":"AND($C$1=\"Y\",D125>0)","v":false},{"$f":"AND($E$1=\"Y\",F125>0)","v":false},{"$f":"AND($G$1=\"Y\",H125>0)","v":false},{"$f":"AND($I$1=\"Y\",J125>0)","v":false},{"$f":"AND($K$1=\"Y\",L125>0)","v":false},{"$f":"COUNTIF(Table101617181920[[#This Row],[Competed 1]:[Competed 5]],\"=TRUE\")","v":0}]
[null,"-","-",{"$f":"IF(C126=\"-\",0,C126)","v":0},"-",{"$f":"IF(E126=\"-\",0,E126)","v":0},"-",{"$f":"IF(G126=\"-\",0,G126)","v":0},"-",{"$f":"IF(I126=\"-\",0,I126)","v":0},"-",{"$f":"IF(K126=\"-\",0,K126)","v":0},{"$f":"Table101617181920[[#This Row],[School]]","v":"-"},{"$f":"D126+F126+H126+J126+L126","v":0},{"$f":"MAX(C126,E126,G126,I126,K126)","v":0},{"$f":"IF(Q126=1,N126,IF(Q126=0,(N126-O126),\"-\"))","v":"-"},{"$f":"$L$1-Table101617181920[Competed Count]","v":4},{"$f":"IF(Q126<2,\"Yes\",\"No\")","v":"No"},{"$f":"AND($C$1=\"Y\",D126>0)","v":false},{"$f":"AND($E$1=\"Y\",F126>0)","v":false},{"$f":"AND($G$1=\"Y\",H126>0)","v":false},{"$f":"AND($I$1=\"Y\",J126>0)","v":false},{"$f":"AND($K$1=\"Y\",L126>0)","v":false},{"$f":"COUNTIF(Table101617181920[[#This Row],[Competed 1]:[Competed 5]],\"=TRUE\")","v":0}]
[null,"-","-",{"$f":"IF(C127=\"-\",0,C127)","v":0},"-",{"$f":"IF(E127=\"-\",0,E127)","v":0},"-",{"$f":"IF(G127=\"-\",0,G127)","v":0},"-",{"$f":"IF(I127=\"-\",0,I127)","v":0},"-",{"$f":"IF(K127=\"-\",0,K127)","v":0},{"$f":"Table101617181920[[#This Row],[School]]","v":"-"},{"$f":"D127+F127+H127+J127+L127","v":0},{"$f":"MAX(C127,E127,G127,I127,K127)","v":0},{"$f":"IF(Q127=1,N127,IF(Q127=0,(N127-O127),\"-\"))","v":"-"},{"$f":"$L$1-Table101617181920[Competed Count]","v":4},{"$f":"IF(Q127<2,\"Yes\",\"No\")","v":"No"},{"$f":"AND($C$1=\"Y\",D127>0)","v":false},{"$f":"AND($E$1=\"Y\",F127>0)","v":false},{"$f":"AND($G$1=\"Y\",H127>0)","v":false},{"$f":"AND($I$1=\"Y\",J127>0)","v":false},{"$f":"AND($K$1=\"Y\",L127>0)","v":false},{"$f":"COUNTIF(Table101617181920[[#This Row],[Competed 1]:[Competed 5]],\"=TRUE\")","v":0}]
[null,"-","-",{"$f":"IF(C128=\"-\",0,C128)","v":0},"-",{"$f":"IF(E128=\"-\",0,E128)","v":0},"-",{"$f":"IF(G128=\"-\",0,G128)","v":0},"-",{"$f":"IF(I128=\"-\",0,I128)","v":0},"-",{"$f":"IF(K128=\"-\",0,K128)","v":0},{"$f":"Table101617181920[[#This Row],[School]]","v":"-"},{"$f":"D128+F128+H128+J128+L128","v":0},{"$f":"MAX(C128,E128,G128,I128,K128)","v":0},{"$f":"IF(Q128=1,N128,IF(Q128=0,(N128-O128),\"-\"))","v":"-"},{"$f":"$L$1-Table101617181920[Competed Count]","v":4},{"$f":"IF(Q128<2,\"Yes\",\"No\")","v":"No"},{"$f":"AND($C$1=\"Y\",D128>0)","v":false},{"$f":"AND($E$1=\"Y\",F128>0)","v":false},{"$f":"AND($G$1=\"Y\",H128>0)","v":false},{"$f":"AND($I$1=\"Y\",J128>0)","v":false},{"$f":"AND($K$1=\"Y\",L128>0)","v":false},{"$f":"COUNTIF(Table101617181920[[#This Row],[Competed 1]:[Competed 5]],\"=TRUE\")","v":0}]
[null,"-","-",{"$f":"IF(C129=\"-\",0,C129)","v":0},"-",{"$f":"IF(E129=\"-\",0,E129)","v":0},"-",{"$f":"IF(G129=\"-\",0,G129)","v":0},"-",{"$f":"IF(I129=\"-\",0,I129)","v":0},"-",{"$f":"IF(K129=\"-\",0,K129)","v":0},{"$f":"Table101617181920[[#This Row],[School]]","v":"-"},{"$f":"D129+F129+H129+J129+L129","v":0},{"$f":"MAX(C129,E129,G129,I129,K129)","v":0},{"$f":"IF(Q129=1,N129,IF(Q129=0,(N129-O129),\"-\"))","v":"-"},{"$f":"$L$1-Table101617181920[Competed Count]","v":4},{"$f":"IF(Q129<2,\"Yes\",\"No\")","v":"No"},{"$f":"AND($C$1=\"Y\",D129>0)","v":false},{"$f":"AND($E$1=\"Y\",F129>0)","v":false},{"$f":"AND($G$1=\"Y\",H129>0)","v":false},{"$f":"AND($I$1=\"Y\",J129>0)","v":false},{"$f":"AND($K$1=\"Y\",L129>0)","v":false},{"$f":"COUNTIF(Table101617181920[[#This Row],[Competed 1]:[Competed 5]],\"=TRUE\")","v":0}]
[null,"-","-",{"$f":"IF(C130=\"-\",0,C130)","v":0},"-",{"$f":"IF(E130=\"-\",0,E130)","v":0},"-",{"$f":"IF(G130=\"-\",0,G130)","v":0},"-",{"$f":"IF(I130=\"-\",0,I130)","v":0},"-",{"$f":"IF(K130=\"-\",0,K130)","v":0},{"$f":"Table101617181920[[#This Row],[School]]","v":"-"},{"$f":"D130+F130+H130+J130+L130","v":0},{"$f":"MAX(C130,E130,G130,I130,K130)","v":0},{"$f":"IF(Q130=1,N130,IF(Q130=0,(N130-O130),\"-\"))","v":"-"},{"$f":"$L$1-Table101617181920[Competed Count]","v":4},{"$f":"IF(Q130<2,\"Yes\",\"No\")","v":"No"},{"$f":"AND($C$1=\"Y\",D130>0)","v":false},{"$f":"AND($E$1=\"Y\",F130>0)","v":false},{"$f":"AND($G$1=\"Y\",H130>0)","v":false},{"$f":"AND($I$1=\"Y\",J130>0)","v":false},{"$f":"AND($K$1=\"Y\",L130>0)","v":false},{"$f":"COUNTIF(Table101617181920[[#This Row],[Competed 1]:[Competed 5]],\"=TRUE\")","v":0}]
[null,"-","-",{"$f":"IF(C131=\"-\",0,C131)","v":0},"-",{"$f":"IF(E131=\"-\",0,E131)","v":0},"-",{"$f":"IF(G131=\"-\",0,G131)","v":0},"-",{"$f":"IF(I131=\"-\",0,I131)","v":0},"-",{"$f":"IF(K131=\"-\",0,K131)","v":0},{"$f":"Table101617181920[[#This Row],[School]]","v":"-"},{"$f":"D131+F131+H131+J131+L131","v":0},{"$f":"MAX(C131,E131,G131,I131,K131)","v":0},{"$f":"IF(Q131=1,N131,IF(Q131=0,(N131-O131),\"-\"))","v":"-"},{"$f":"$L$1-Table101617181920[Competed Count]","v":4},{"$f":"IF(Q131<2,\"Yes\",\"No\")","v":"No"},{"$f":"AND($C$1=\"Y\",D131>0)","v":false},{"$f":"AND($E$1=\"Y\",F131>0)","v":false},{"$f":"AND($G$1=\"Y\",H131>0)","v":false},{"$f":"AND($I$1=\"Y\",J131>0)","v":false},{"$f":"AND($K$1=\"Y\",L131>0)","v":false},{"$f":"COUNTIF(Table101617181920[[#This Row],[Competed 1]:[Competed 5]],\"=TRUE\")","v":0}]
[null,"-","-",{"$f":"IF(C132=\"-\",0,C132)","v":0},"-",{"$f":"IF(E132=\"-\",0,E132)","v":0},"-",{"$f":"IF(G132=\"-\",0,G132)","v":0},"-",{"$f":"IF(I132=\"-\",0,I132)","v":0},"-",{"$f":"IF(K132=\"-\",0,K132)","v":0},{"$f":"Table101617181920[[#This Row],[School]]","v":"-"},{"$f":"D132+F132+H132+J132+L132","v":0},{"$f":"MAX(C132,E132,G132,I132,K132)","v":0},{"$f":"IF(Q132=1,N132,IF(Q132=0,(N132-O132),\"-\"))","v":"-"},{"$f":"$L$1-Table101617181920[Competed Count]","v":4},{"$f":"IF(Q132<2,\"Yes\",\"No\")","v":"No"},{"$f":"AND($C$1=\"Y\",D132>0)","v":false},{"$f":"AND($E$1=\"Y\",F132>0)","v":false},{"$f":"AND($G$1=\"Y\",H132>0)","v":false},{"$f":"AND($I$1=\"Y\",J132>0)","v":false},{"$f":"AND($K$1=\"Y\",L132>0)","v":false},{"$f":"COUNTIF(Table101617181920[[#This Row],[Competed 1]:[Competed 5]],\"=TRUE\")","v":0}]
[null,"-","-",{"$f":"IF(C133=\"-\",0,C133)","v":0},"-",{"$f":"IF(E133=\"-\",0,E133)","v":0},"-",{"$f":"IF(G133=\"-\",0,G133)","v":0},"-",{"$f":"IF(I133=\"-\",0,I133)","v":0},"-",{"$f":"IF(K133=\"-\",0,K133)","v":0},{"$f":"Table101617181920[[#This Row],[School]]","v":"-"},{"$f":"D133+F133+H133+J133+L133","v":0},{"$f":"MAX(C133,E133,G133,I133,K133)","v":0},{"$f":"IF(Q133=1,N133,IF(Q133=0,(N133-O133),\"-\"))","v":"-"},{"$f":"$L$1-Table101617181920[Competed Count]","v":4},{"$f":"IF(Q133<2,\"Yes\",\"No\")","v":"No"},{"$f":"AND($C$1=\"Y\",D133>0)","v":false},{"$f":"AND($E$1=\"Y\",F133>0)","v":false},{"$f":"AND($G$1=\"Y\",H133>0)","v":false},{"$f":"AND($I$1=\"Y\",J133>0)","v":false},{"$f":"AND($K$1=\"Y\",L133>0)","v":false},{"$f":"COUNTIF(Table101617181920[[#This Row],[Competed 1]:[Competed 5]],\"=TRUE\")","v":0}]
[null,"-","-",{"$f":"IF(C134=\"-\",0,C134)","v":0},"-",{"$f":"IF(E134=\"-\",0,E134)","v":0},"-",{"$f":"IF(G134=\"-\",0,G134)","v":0},"-",{"$f":"IF(I134=\"-\",0,I134)","v":0},"-",{"$f":"IF(K134=\"-\",0,K134)","v":0},{"$f":"Table101617181920[[#This Row],[School]]","v":"-"},{"$f":"D134+F134+H134+J134+L134","v":0},{"$f":"MAX(C134,E134,G134,I134,K134)","v":0},{"$f":"IF(Q134=1,N134,IF(Q134=0,(N134-O134),\"-\"))","v":"-"},{"$f":"$L$1-Table101617181920[Competed Count]","v":4},{"$f":"IF(Q134<2,\"Yes\",\"No\")","v":"No"},{"$f":"AND($C$1=\"Y\",D134>0)","v":false},{"$f":"AND($E$1=\"Y\",F134>0)","v":false},{"$f":"AND($G$1=\"Y\",H134>0)","v":false},{"$f":"AND($I$1=\"Y\",J134>0)","v":false},{"$f":"AND($K$1=\"Y\",L134>0)","v":false},{"$f":"COUNTIF(Table101617181920[[#This Row],[Competed 1]:[Competed 5]],\"=TRUE\")","v":0}]
[null,"-","-",{"$f":"IF(C135=\"-\",0,C135)","v":0},"-",{"$f":"IF(E135=\"-\",0,E135)","v":0},"-",{"$f":"IF(G135=\"-\",0,G135)","v":0},"-",{"$f":"IF(I135=\"-\",0,I135)","v":0},"-",{"$f":"IF(K135=\"-\",0,K135)","v":0},{"$f":"Table101617181920[[#This Row],[School]]","v":"-"},{"$f":"D135+F135+H135+J135+L135","v":0},{"$f":"MAX(C135,E135,G135,I135,K135)","v":0},{"$f":"IF(Q135=1,N135,IF(Q135=0,(N135-O135),\"-\"))","v":"-"},{"$f":"$L$1-Table101617181920[Competed Count]","v":4},{"$f":"IF(Q135<2,\"Yes\",\"No\")","v":"No"},{"$f":"AND($C$1=\"Y\",D135>0)","v":false},{"$f":"AND($E$1=\"Y\",F135>0)","v":false},{"$f":"AND($G$1=\"Y\",H135>0)","v":false},{"$f":"AND($I$1=\"Y\",J135>0)","v":false},{"$f":"AND($K$1=\"Y\",L135>0)","v":false},{"$f":"COUNTIF(Table101617181920[[#This Row],[Competed 1]:[Competed 5]],\"=TRUE\")","v":0}]
[null,"-","-",{"$f":"IF(C136=\"-\",0,C136)","v":0},"-",{"$f":"IF(E136=\"-\",0,E136)","v":0},"-",{"$f":"IF(G136=\"-\",0,G136)","v":0},"-",{"$f":"IF(I136=\"-\",0,I136)","v":0},"-",{"$f":"IF(K136=\"-\",0,K136)","v":0},{"$f":"Table101617181920[[#This Row],[School]]","v":"-"},{"$f":"D136+F136+H136+J136+L136","v":0},{"$f":"MAX(C136,E136,G136,I136,K136)","v":0},{"$f":"IF(Q136=1,N136,IF(Q136=0,(N136-O136),\"-\"))","v":"-"},{"$f":"$L$1-Table101617181920[Competed Count]","v":4},{"$f":"IF(Q136<2,\"Yes\",\"No\")","v":"No"},{"$f":"AND($C$1=\"Y\",D136>0)","v":false},{"$f":"AND($E$1=\"Y\",F136>0)","v":false},{"$f":"AND($G$1=\"Y\",H136>0)","v":false},{"$f":"AND($I$1=\"Y\",J136>0)","v":false},{"$f":"AND($K$1=\"Y\",L136>0)","v":false},{"$f":"COUNTIF(Table101617181920[[#This Row],[Competed 1]:[Competed 5]],\"=TRUE\")","v":0}]
[null,"-","-",{"$f":"IF(C137=\"-\",0,C137)","v":0},"-",{"$f":"IF(E137=\"-\",0,E137)","v":0},"-",{"$f":"IF(G137=\"-\",0,G137)","v":0},"-",{"$f":"IF(I137=\"-\",0,I137)","v":0},"-",{"$f":"IF(K137=\"-\",0,K137)","v":0},{"$f":"Table101617181920[[#This Row],[School]]","v":"-"},{"$f":"D137+F137+H137+J137+L137","v":0},{"$f":"MAX(C137,E137,G137,I137,K137)","v":0},{"$f":"IF(Q137=1,N137,IF(Q137=0,(N137-O137),\"-\"))","v":"-"},{"$f":"$L$1-Table101617181920[Competed Count]","v":4},{"$f":"IF(Q137<2,\"Yes\",\"No\")","v":"No"},{"$f":"AND($C$1=\"Y\",D137>0)","v":false},{"$f":"AND($E$1=\"Y\",F137>0)","v":false},{"$f":"AND($G$1=\"Y\",H137>0)","v":false},{"$f":"AND($I$1=\"Y\",J137>0)","v":false},{"$f":"AND($K$1=\"Y\",L137>0)","v":false},{"$f":"COUNTIF(Table101617181920[[#This Row],[Competed 1]:[Competed 5]],\"=TRUE\")","v":0}]
[null,"-","-",{"$f":"IF(C138=\"-\",0,C138)","v":0},"-",{"$f":"IF(E138=\"-\",0,E138)","v":0},"-",{"$f":"IF(G138=\"-\",0,G138)","v":0},"-",{"$f":"IF(I138=\"-\",0,I138)","v":0},"-",{"$f":"IF(K138=\"-\",0,K138)","v":0},{"$f":"Table101617181920[[#This Row],[School]]","v":"-"},{"$f":"D138+F138+H138+J138+L138","v":0},{"$f":"MAX(C138,E138,G138,I138,K138)","v":0},{"$f":"IF(Q138=1,N138,IF(Q138=0,(N138-O138),\"-\"))","v":"-"},{"$f":"$L$1-Table101617181920[Competed Count]","v":4},{"$f":"IF(Q138<2,\"Yes\",\"No\")","v":"No"},{"$f":"AND($C$1=\"Y\",D138>0)","v":false},{"$f":"AND($E$1=\"Y\",F138>0)","v":false},{"$f":"AND($G$1=\"Y\",H138>0)","v":false},{"$f":"AND($I$1=\"Y\",J138>0)","v":false},{"$f":"AND($K$1=\"Y\",L138>0)","v":false},{"$f":"COUNTIF(Table101617181920[[#This Row],[Competed 1]:[Competed 5]],\"=TRUE\")","v":0}]
[null,"-","-",{"$f":"IF(C139=\"-\",0,C139)","v":0},"-",{"$f":"IF(E139=\"-\",0,E139)","v":0},"-",{"$f":"IF(G139=\"-\",0,G139)","v":0},"-",{"$f":"IF(I139=\"-\",0,I139)","v":0},"-",{"$f":"IF(K139=\"-\",0,K139)","v":0},{"$f":"Table101617181920[[#This Row],[School]]","v":"-"},{"$f":"D139+F139+H139+J139+L139","v":0},{"$f":"MAX(C139,E139,G139,I139,K139)","v":0},{"$f":"IF(Q139=1,N139,IF(Q139=0,(N139-O139),\"-\"))","v":"-"},{"$f":"$L$1-Table101617181920[Competed Count]","v":4},{"$f":"IF(Q139<2,\"Yes\",\"No\")","v":"No"},{"$f":"AND($C$1=\"Y\",D139>0)","v":false},{"$f":"AND($E$1=\"Y\",F139>0)","v":false},{"$f":"AND($G$1=\"Y\",H139>0)","v":false},{"$f":"AND($I$1=\"Y\",J139>0)","v":false},{"$f":"AND($K$1=\"Y\",L139>0)","v":false},{"$f":"COUNTIF(Table101617181920[[#This Row],[Competed 1]:[Competed 5]],\"=TRUE\")","v":0}]
[null,"-","-",{"$f":"IF(C140=\"-\",0,C140)","v":0},"-",{"$f":"IF(E140=\"-\",0,E140)","v":0},"-",{"$f":"IF(G140=\"-\",0,G140)","v":0},"-",{"$f":"IF(I140=\"-\",0,I140)","v":0},"-",{"$f":"IF(K140=\"-\",0,K140)","v":0},{"$f":"Table101617181920[[#This Row],[School]]","v":"-"},{"$f":"D140+F140+H140+J140+L140","v":0},{"$f":"MAX(C140,E140,G140,I140,K140)","v":0},{"$f":"IF(Q140=1,N140,IF(Q140=0,(N140-O140),\"-\"))","v":"-"},{"$f":"$L$1-Table101617181920[Competed Count]","v":4},{"$f":"IF(Q140<2,\"Yes\",\"No\")","v":"No"},{"$f":"AND($C$1=\"Y\",D140>0)","v":false},{"$f":"AND($E$1=\"Y\",F140>0)","v":false},{"$f":"AND($G$1=\"Y\",H140>0)","v":false},{"$f":"AND($I$1=\"Y\",J140>0)","v":false},{"$f":"AND($K$1=\"Y\",L140>0)","v":false},{"$f":"COUNTIF(Table101617181920[[#This Row],[Competed 1]:[Competed 5]],\"=TRUE\")","v":0}]
[null,"-","-",{"$f":"IF(C141=\"-\",0,C141)","v":0},"-",{"$f":"IF(E141=\"-\",0,E141)","v":0},"-",{"$f":"IF(G141=\"-\",0,G141)","v":0},"-",{"$f":"IF(I141=\"-\",0,I141)","v":0},"-",{"$f":"IF(K141=\"-\",0,K141)","v":0},{"$f":"Table101617181920[[#This Row],[School]]","v":"-"},{"$f":"D141+F141+H141+J141+L141","v":0},{"$f":"MAX(C141,E141,G141,I141,K141)","v":0},{"$f":"IF(Q141=1,N141,IF(Q141=0,(N141-O141),\"-\"))","v":"-"},{"$f":"$L$1-Table101617181920[Competed Count]","v":4},{"$f":"IF(Q141<2,\"Yes\",\"No\")","v":"No"},{"$f":"AND($C$1=\"Y\",D141>0)","v":false},{"$f":"AND($E$1=\"Y\",F141>0)","v":false},{"$f":"AND($G$1=\"Y\",H141>0)","v":false},{"$f":"AND($I$1=\"Y\",J141>0)","v":false},{"$f":"AND($K$1=\"Y\",L141>0)","v":false},{"$f":"COUNTIF(Table101617181920[[#This Row],[Competed 1]:[Competed 5]],\"=TRUE\")","v":0}]
[null,"-","-",{"$f":"IF(C142=\"-\",0,C142)","v":0},"-",{"$f":"IF(E142=\"-\",0,E142)","v":0},"-",{"$f":"IF(G142=\"-\",0,G142)","v":0},"-",{"$f":"IF(I142=\"-\",0,I142)","v":0},"-",{"$f":"IF(K142=\"-\",0,K142)","v":0},{"$f":"Table101617181920[[#This Row],[School]]","v":"-"},{"$f":"D142+F142+H142+J142+L142","v":0},{"$f":"MAX(C142,E142,G142,I142,K142)","v":0},{"$f":"IF(Q142=1,N142,IF(Q142=0,(N142-O142),\"-\"))","v":"-"},{"$f":"$L$1-Table101617181920[Competed Count]","v":4},{"$f":"IF(Q142<2,\"Yes\",\"No\")","v":"No"},{"$f":"AND($C$1=\"Y\",D142>0)","v":false},{"$f":"AND($E$1=\"Y\",F142>0)","v":false},{"$f":"AND($G$1=\"Y\",H142>0)","v":false},{"$f":"AND($I$1=\"Y\",J142>0)","v":false},{"$f":"AND($K$1=\"Y\",L142>0)","v":false},{"$f":"COUNTIF(Table101617181920[[#This Row],[Competed 1]:[Competed 5]],\"=TRUE\")","v":0}]
[null,"-","-",{"$f":"IF(C143=\"-\",0,C143)","v":0},"-",{"$f":"IF(E143=\"-\",0,E143)","v":0},"-",{"$f":"IF(G143=\"-\",0,G143)","v":0},"-",{"$f":"IF(I143=\"-\",0,I143)","v":0},"-",{"$f":"IF(K143=\"-\",0,K143)","v":0},{"$f":"Table101617181920[[#This Row],[School]]","v":"-"},{"$f":"D143+F143+H143+J143+L143","v":0},{"$f":"MAX(C143,E143,G143,I143,K143)","v":0},{"$f":"IF(Q143=1,N143,IF(Q143=0,(N143-O143),\"-\"))","v":"-"},{"$f":"$L$1-Table101617181920[Competed Count]","v":4},{"$f":"IF(Q143<2,\"Yes\",\"No\")","v":"No"},{"$f":"AND($C$1=\"Y\",D143>0)","v":false},{"$f":"AND($E$1=\"Y\",F143>0)","v":false},{"$f":"AND($G$1=\"Y\",H143>0)","v":false},{"$f":"AND($I$1=\"Y\",J143>0)","v":false},{"$f":"AND($K$1=\"Y\",L143>0)","v":false},{"$f":"COUNTIF(Table101617181920[[#This Row],[Competed 1]:[Competed 5]],\"=TRUE\")","v":0}]
[null,"-","-",{"$f":"IF(C144=\"-\",0,C144)","v":0},"-",{"$f":"IF(E144=\"-\",0,E144)","v":0},"-",{"$f":"IF(G144=\"-\",0,G144)","v":0},"-",{"$f":"IF(I144=\"-\",0,I144)","v":0},"-",{"$f":"IF(K144=\"-\",0,K144)","v":0},{"$f":"Table101617181920[[#This Row],[School]]","v":"-"},{"$f":"D144+F144+H144+J144+L144","v":0},{"$f":"MAX(C144,E144,G144,I144,K144)","v":0},{"$f":"IF(Q144=1,N144,IF(Q144=0,(N144-O144),\"-\"))","v":"-"},{"$f":"$L$1-Table101617181920[Competed Count]","v":4},{"$f":"IF(Q144<2,\"Yes\",\"No\")","v":"No"},{"$f":"AND($C$1=\"Y\",D144>0)","v":false},{"$f":"AND($E$1=\"Y\",F144>0)","v":false},{"$f":"AND($G$1=\"Y\",H144>0)","v":false},{"$f":"AND($I$1=\"Y\",J144>0)","v":false},{"$f":"AND($K$1=\"Y\",L144>0)","v":false},{"$f":"COUNTIF(Table101617181920[[#This Row],[Competed 1]:[Competed 5]],\"=TRUE\")","v":0}]
[null,"-","-",{"$f":"IF(C145=\"-\",0,C145)","v":0},"-",{"$f":"IF(E145=\"-\",0,E145)","v":0},"-",{"$f":"IF(G145=\"-\",0,G145)","v":0},"-",{"$f":"IF(I145=\"-\",0,I145)","v":0},"-",{"$f":"IF(K145=\"-\",0,K145)","v":0},{"$f":"Table101617181920[[#This Row],[School]]","v":"-"},{"$f":"D145+F145+H145+J145+L145","v":0},{"$f":"MAX(C145,E145,G145,I145,K145)","v":0},{"$f":"IF(Q145=1,N145,IF(Q145=0,(N145-O145),\"-\"))","v":"-"},{"$f":"$L$1-Table101617181920[Competed Count]","v":4},{"$f":"IF(Q145<2,\"Yes\",\"No\")","v":"No"},{"$f":"AND($C$1=\"Y\",D145>0)","v":false},{"$f":"AND($E$1=\"Y\",F145>0)","v":false},{"$f":"AND($G$1=\"Y\",H145>0)","v":false},{"$f":"AND($I$1=\"Y\",J145>0)","v":false},{"$f":"AND($K$1=\"Y\",L145>0)","v":false},{"$f":"COUNTIF(Table101617181920[[#This Row],[Competed 1]:[Competed 5]],\"=TRUE\")","v":0}]
[null,"-","-",{"$f":"IF(C146=\"-\",0,C146)","v":0},"-",{"$f":"IF(E146=\"-\",0,E146)","v":0},"-",{"$f":"IF(G146=\"-\",0,G146)","v":0},"-",{"$f":"IF(I146=\"-\",0,I146)","v":0},"-",{"$f":"IF(K146=\"-\",0,K146)","v":0},{"$f":"Table101617181920[[#This Row],[School]]","v":"-"},{"$f":"D146+F146+H146+J146+L146","v":0},{"$f":"MAX(C146,E146,G146,I146,K146)","v":0},{"$f":"IF(Q146=1,N146,IF(Q146=0,(N146-O146),\"-\"))","v":"-"},{"$f":"$L$1-Table101617181920[Competed Count]","v":4},{"$f":"IF(Q146<2,\"Yes\",\"No\")","v":"No"},{"$f":"AND($C$1=\"Y\",D146>0)","v":false},{"$f":"AND($E$1=\"Y\",F146>0)","v":false},{"$f":"AND($G$1=\"Y\",H146>0)","v":false},{"$f":"AND($I$1=\"Y\",J146>0)","v":false},{"$f":"AND($K$1=\"Y\",L146>0)","v":false},{"$f":"COUNTIF(Table101617181920[[#This Row],[Competed 1]:[Competed 5]],\"=TRUE\")","v":0}]
[null,"-","-",{"$f":"IF(C147=\"-\",0,C147)","v":0},"-",{"$f":"IF(E147=\"-\",0,E147)","v":0},"-",{"$f":"IF(G147=\"-\",0,G147)","v":0},"-",{"$f":"IF(I147=\"-\",0,I147)","v":0},"-",{"$f":"IF(K147=\"-\",0,K147)","v":0},{"$f":"Table101617181920[[#This Row],[School]]","v":"-"},{"$f":"D147+F147+H147+J147+L147","v":0},{"$f":"MAX(C147,E147,G147,I147,K147)","v":0},{"$f":"IF(Q147=1,N147,IF(Q147=0,(N147-O147),\"-\"))","v":"-"},{"$f":"$L$1-Table101617181920[Competed Count]","v":4},{"$f":"IF(Q147<2,\"Yes\",\"No\")","v":"No"},{"$f":"AND($C$1=\"Y\",D147>0)","v":false},{"$f":"AND($E$1=\"Y\",F147>0)","v":false},{"$f":"AND($G$1=\"Y\",H147>0)","v":false},{"$f":"AND($I$1=\"Y\",J147>0)","v":false},{"$f":"AND($K$1=\"Y\",L147>0)","v":false},{"$f":"COUNTIF(Table101617181920[[#This Row],[Competed 1]:[Competed 5]],\"=TRUE\")","v":0}]
[null,"-","-",{"$f":"IF(C148=\"-\",0,C148)","v":0},"-",{"$f":"IF(E148=\"-\",0,E148)","v":0},"-",{"$f":"IF(G148=\"-\",0,G148)","v":0},"-",{"$f":"IF(I148=\"-\",0,I148)","v":0},"-",{"$f":"IF(K148=\"-\",0,K148)","v":0},{"$f":"Table101617181920[[#This Row],[School]]","v":"-"},{"$f":"D148+F148+H148+J148+L148","v":0},{"$f":"MAX(C148,E148,G148,I148,K148)","v":0},{"$f":"IF(Q148=1,N148,IF(Q148=0,(N148-O148),\"-\"))","v":"-"},{"$f":"$L$1-Table101617181920[Competed Count]","v":4},{"$f":"IF(Q148<2,\"Yes\",\"No\")","v":"No"},{"$f":"AND($C$1=\"Y\",D148>0)","v":false},{"$f":"AND($E$1=\"Y\",F148>0)","v":false},{"$f":"AND($G$1=\"Y\",H148>0)","v":false},{"$f":"AND($I$1=\"Y\",J148>0)","v":false},{"$f":"AND($K$1=\"Y\",L148>0)","v":false},{"$f":"COUNTIF(Table101617181920[[#This Row],[Competed 1]:[Competed 5]],\"=TRUE\")","v":0}]
[null,"-","-",{"$f":"IF(C149=\"-\",0,C149)","v":0},"-",{"$f":"IF(E149=\"-\",0,E149)","v":0},"-",{"$f":"IF(G149=\"-\",0,G149)","v":0},"-",{"$f":"IF(I149=\"-\",0,I149)","v":0},"-",{"$f":"IF(K149=\"-\",0,K149)","v":0},{"$f":"Table101617181920[[#This Row],[School]]","v":"-"},{"$f":"D149+F149+H149+J149+L149","v":0},{"$f":"MAX(C149,E149,G149,I149,K149)","v":0},{"$f":"IF(Q149=1,N149,IF(Q149=0,(N149-O149),\"-\"))","v":"-"},{"$f":"$L$1-Table101617181920[Competed Count]","v":4},{"$f":"IF(Q149<2,\"Yes\",\"No\")","v":"No"},{"$f":"AND($C$1=\"Y\",D149>0)","v":false},{"$f":"AND($E$1=\"Y\",F149>0)","v":false},{"$f":"AND($G$1=\"Y\",H149>0)","v":false},{"$f":"AND($I$1=\"Y\",J149>0)","v":false},{"$f":"AND($K$1=\"Y\",L149>0)","v":false},{"$f":"COUNTIF(Table101617181920[[#This Row],[Competed 1]:[Competed 5]],\"=TRUE\")","v":0}]
[null,"-","-",{"$f":"IF(C150=\"-\",0,C150)","v":0},"-",{"$f":"IF(E150=\"-\",0,E150)","v":0},"-",{"$f":"IF(G150=\"-\",0,G150)","v":0},"-",{"$f":"IF(I150=\"-\",0,I150)","v":0},"-",{"$f":"IF(K150=\"-\",0,K150)","v":0},{"$f":"Table101617181920[[#This Row],[School]]","v":"-"},{"$f":"D150+F150+H150+J150+L150","v":0},{"$f":"MAX(C150,E150,G150,I150,K150)","v":0},{"$f":"IF(Q150=1,N150,IF(Q150=0,(N150-O150),\"-\"))","v":"-"},{"$f":"$L$1-Table101617181920[Competed Count]","v":4},{"$f":"IF(Q150<2,\"Yes\",\"No\")","v":"No"},{"$f":"AND($C$1=\"Y\",D150>0)","v":false},{"$f":"AND($E$1=\"Y\",F150>0)","v":false},{"$f":"AND($G$1=\"Y\",H150>0)","v":false},{"$f":"AND($I$1=\"Y\",J150>0)","v":false},{"$f":"AND($K$1=\"Y\",L150>0)","v":false},{"$f":"COUNTIF(Table101617181920[[#This Row],[Competed 1]:[Competed 5]],\"=TRUE\")","v":0}]

{"sheet":"Team_Results","index":8,"n_rows":4017,"n_cols":21,"rows_kept":4017,"cut":false,"hidden":false,"merged":[]}
[]
["Reference","Y7G Teams","Position (Race 1)","Result (Race 1)","Claimed Last Place (Race 1)","Position (Race 2)","Result (Race 2)","Claimed Last Place (Race 2)","Position (Race 3)","Result (Race 3)","Claimed Last Place (Race 3)","Position (Race 4)","Result (Race 4)","Claimed Last Place (Race 4)","Position (Race 5)","Result (Race 5)","Claimed Last Place (Race 5)","Total (All Races)","Races Completed","Number of claimed LP","Eligible"]
[138,"Countesthorpe Leysland CC A",null,0,"N",null,0,"N",2,82,"Y",1,56,"N",null,0,"N",3,2,1,"No"]
[6,"De Lisle College A",1,51,"N",1,52,"N",1,65,"N",2,57,"N",null,0,"N",5,4,0,"Yes"]
[3,"John Ferneley College A",4,104,"Y",2,73,"N",4,86,"N",3,94,"N",null,0,"N",13,4,1,"Yes"]
[4,"Thomas Estley CC A",3,77,"N",3,79,"N",null,0,"N",4,104,"Y",null,0,"N",10,3,1,"Yes"]
[5,"Ivanhoe College A",2,61,"N",null,0,"N",2,82,"Y",null,0,"N",null,0,"N",4,2,1,"No"]
[2,"Charnwood College A",5,108,"N",4,88,"N",5,112,"N",null,0,"N",null,0,"N",14,3,0,"Yes"]
[11,"",null,"","",null,"","",null,"","",null,"","",null,"","",0,0,0,"No"]
[8,"",null,"","",null,"","",null,"","",null,"","",null,"","",0,0,0,"No"]
[10,"",null,"","",null,"","",null,"","",null,"","",null,"","",0,0,0,"No"]
[155,"",null,"","",null,"","",null,"","",null,"","",null,"","",0,0,0,"No"]
[275,"",null,"","",null,"","",null,"","",null,"","",null,"","",0,0,0,"No"]
[9,"",null,"","",null,"","",null,"","",null,"","",null,"","",0,0,0,"No"]
[89,"",null,"","",null,"","",null,"","",null,"","",null,"","",0,0,0,"No"]
[7,"",null,"","",null,"","",null,"","",null,"","",null,"","",0,0,0,"No"]
[126,"",null,"","",null,"","",null,"","",null,"","",null,"","",0,0,0,"No"]
[83,"",null,"","",null,"","",null,"","",null,"","",null,"","",0,0,0,"No"]
[12,"",null,"","",null,"","",null,"","",null,"","",null,"","",0,0,0,"No"]
[13,"",null,"","",null,"","",null,"","",null,"","",null,"","",0,0,0,"No"]
[14,"",null,"","",null,"","",null,"","",null,"","",null,"","",0,0,0,"No"]
[15,"",null,"","",null,"","",null,"","",null,"","",null,"","",0,0,0,"No"]
[16,"",null,"","",null,"","",null,"","",null,"","",null,"","",0,0,0,"No"]
[17,"",null,"","",null,"","",null,"","",null,"","",null,"","",0,0,0,"No"]
[18,"",null,"","",null,"","",null,"","",null,"","",null,"","",0,0,0,"No"]
[19,"",null,"","",null,"","",null,"","",null,"","",null,"","",0,0,0,"No"]
[20,"",null,"","",null,"","",null,"","",null,"","",null,"","",0,0,0,"No"]
[21,"",null,"","",null,"","",null,"","",null,"","",null,"","",0,0,0,"No"]
[22,"",null,"","",null,"","",null,"","",null,"","",null,"","",0,0,0,"No"]
[23,"",null,"","",null,"","",null,"","",null,"","",null,"","",0,0,0,"No"]
[24,"",null,"","",null,"","",null,"","",null,"","",null,"","",0,0,0,"No"]
[25,"",null,"","",null,"","",null,"","",null,"","",null,"","",0,0,0,"No"]
[26,"",null,"","",null,"","",null,"","",null,"","",null,"","",0,0,0,"No"]
[27,"",null,"","",null,"","",null,"","",null,"","",null,"","",0,0,0,"No"]
[28,"",null,"","",null,"","",null,"","",null,"","",null,"","",0,0,0,"No"]
[29,"",null,"","",null,"","",null,"","",null,"","",null,"","",0,0,0,"No"]
[30,"",null,"","",null,"","",null,"","",null,"","",null,"","",0,0,0,"No"]
[31,"",null,"","",null,"","",null,"","",null,"","",null,"","",0,0,0,"No"]
[32,"",null,"","",null,"","",null,"","",null,"","",null,"","",0,0,0,"No"]
[33,"",null,"","",null,"","",null,"","",null,"","",null,"","",0,0,0,"No"]
[34,"",null,"","",null,"","",null,"","",null,"","",null,"","",0,0,0,"No"]
[35,"",null,"","",null,"","",null,"","",null,"","",null,"","",0,0,0,"No"]
[36,"",null,"","",null,"","",null,"","",null,"","",null,"","",0,0,0,"No"]
[37,"",null,"","",null,"","",null,"","",null,"","",null,"","",0,0,0,"No"]
[38,"",null,"","",null,"","",null,"","",null,"","",null,"","",0,0,0,"No"]
[39,"",null,"","",null,"","",null,"","",null,"","",null,"","",0,0,0,"No"]
[40,"",null,"","",null,"","",null,"","",null,"","",null,"","",0,0,0,"No"]
[41,"",null,"","",null,"","",null,"","",null,"","",null,"","",0,0,0,"No"]
[42,"",null,"","",null,"","",null,"","",null,"","",null,"","",0,0,0,"No"]
[43,"",null,"","",null,"","",null,"","",null,"","",null,"","",0,0,0,"No"]
[44,"",null,"","",null,"","",null,"","",null,"","",null,"","",0,0,0,"No"]
[45,"",null,"","",null,"","",null,"","",null,"","",null,"","",0,0,0,"No"]
[46,"",null,"","",null,"","",null,"","",null,"","",null,"","",0,0,0,"No"]
[47,"",null,"","",null,"","",null,"","",null,"","",null,"","",0,0,0,"No"]
[48,"",null,"","",null,"","",null,"","",null,"","",null,"","",0,0,0,"No"]
[49,"",null,"","",null,"","",null,"","",null,"","",null,"","",0,0,0,"No"]
[50,"",null,"","",null,"","",null,"","",null,"","",null,"","",0,0,0,"No"]
[51,"",null,"","",null,"","",null,"","",null,"","",null,"","",0,0,0,"No"]
[52,"",null,"","",null,"","",null,"","",null,"","",null,"","",0,0,0,"No"]
[53,"",null,"","",null,"","",null,"","",null,"","",null,"","",0,0,0,"No"]
[54,"",null,"","",null,"","",null,"","",null,"","",null,"","",0,0,0,"No"]
[55,"",null,"","",null,"","",null,"","",null,"","",null,"","",0,0,0,"No"]
[56,"",null,"","",null,"","",null,"","",null,"","",null,"","",0,0,0,"No"]
[57,"",null,"","",null,"","",null,"","",null,"","",null,"","",0,0,0,"No"]
[58,"",null,"","",null,"","",null,"","",null,"","",null,"","",0,0,0,"No"]
[59,"",null,"","",null,"","",null,"","",null,"","",null,"","",0,0,0,"No"]
[60,"",null,"","",null,"","",null,"","",null,"","",null,"","",0,0,0,"No"]
[61,"",null,"","",null,"","",null,"","",null,"","",null,"","",0,0,0,"No"]
[62,"",null,"","",null,"","",null,"","",null,"","",null,"","",0,0,0,"No"]
[63,"",null,"","",null,"","",null,"","",null,"","",null,"","",0,0,0,"No"]
[64,"",null,"","",null,"","",null,"","",null,"","",null,"","",0,0,0,"No"]
[65,"",null,"","",null,"","",null,"","",null,"","",null,"","",0,0,0,"No"]
[66,"",null,"","",null,"","",null,"","",null,"","",null,"","",0,0,0,"No"]
[67,"",null,"","",null,"","",null,"","",null,"","",null,"","",0,0,0,"No"]
[68,"",null,"","",null,"","",null,"","",null,"","",null,"","",0,0,0,"No"]
[69,"",null,"","",null,"","",null,"","",null,"","",null,"","",0,0,0,"No"]
[70,"",null,"","",null,"","",null,"","",null,"","",null,"","",0,0,0,"No"]
[71,"",null,"","",null,"","",null,"","",null,"","",null,"","",0,0,0,"No"]
[72,"",null,"","",null,"","",null,"","",null,"","",null,"","",0,0,0,"No"]
[73,"",null,"","",null,"","",null,"","",null,"","",null,"","",0,0,0,"No"]
[74,"",null,"","",null,"","",null,"","",null,"","",null,"","",0,0,0,"No"]
[75,"",null,"","",null,"","",null,"","",null,"","",null,"","",0,0,0,"No"]
[76,"",null,"","",null,"","",null,"","",null,"","",null,"","",0,0,0,"No"]
[77,"",null,"","",null,"","",null,"","",null,"","",null,"","",0,0,0,"No"]
[78,"",null,"","",null,"","",null,"","",null,"","",null,"","",0,0,0,"No"]
[79,"",null,"","",null,"","",null,"","",null,"","",null,"","",0,0,0,"No"]
[80,"",null,"","",null,"","",null,"","",null,"","",null,"","",0,0,0,"No"]
[81,"",null,"","",null,"","",null,"","",null,"","",null,"","",0,0,0,"No"]
[82,"",null,"","",null,"","",null,"","",null,"","",null,"","",0,0,0,"No"]
[84,"",null,"","",null,"","",null,"","",null,"","",null,"","",0,0,0,"No"]
[85,"",null,"","",null,"","",null,"","",null,"","",null,"","",0,0,0,"No"]
[104,"Crown Hills CC A",null,0,"N",5,130,"Y",null,0,"N",null,0,"N",null,0,"N",5,1,1,"No"]
[87,"",null,"","",null,"","",null,"","",null,"","",null,"","",0,0,0,"No"]
[88,"",null,"","",null,"","",null,"","",null,"","",null,"","",0,0,0,"No"]
[90,"",null,"","",null,"","",null,"","",null,"","",null,"","",0,0,0,"No"]
[91,"",null,"","",null,"","",null,"","",null,"","",null,"","",0,0,0,"No"]
[92,"",null,"","",null,"","",null,"","",null,"","",null,"","",0,0,0,"No"]
[93,"",null,"","",null,"","",null,"","",null,"","",null,"","",0,0,0,"No"]
[94,"",null,"","",null,"","",null,"","",null,"","",null,"","",0,0,0,"No"]
[95,"",null,"","",null,"","",null,"","",null,"","",null,"","",0,0,0,"No"]
[96,"",null,"","",null,"","",null,"","",null,"","",null,"","",0,0,0,"No"]
[97,"",null,"","",null,"","",null,"","",null,"","",null,"","",0,0,0,"No"]
[98,"",null,"","",null,"","",null,"","",null,"","",null,"","",0,0,0,"No"]
[99,"",null,"","",null,"","",null,"","",null,"","",null,"","",0,0,0,"No"]
[100,"",null,"","",null,"","",null,"","",null,"","",null,"","",0,0,0,"No"]
[101,"",null,"","",null,"","",null,"","",null,"","",null,"","",0,0,0,"No"]
[102,"",null,"","",null,"","",null,"","",null,"","",null,"","",0,0,0,"No"]
[103,"",null,"","",null,"","",null,"","",null,"","",null,"","",0,0,0,"No"]
[86,"Catmose College A",null,0,"N",6,133,"Y",null,0,"N",null,0,"N",null,0,"N",6,1,1,"No"]
[105,"",null,"","",null,"","",null,"","",null,"","",null,"","",0,0,0,"No"]
[106,"",null,"","",null,"","",null,"","",null,"","",null,"","",0,0,0,"No"]
[107,"",null,"","",null,"","",null,"","",null,"","",null,"","",0,0,0,"No"]
[108,"",null,"","",null,"","",null,"","",null,"","",null,"","",0,0,0,"No"]
[109,"",null,"","",null,"","",null,"","",null,"","",null,"","",0,0,0,"No"]
[110,"",null,"","",null,"","",null,"","",null,"","",null,"","",0,0,0,"No"]
[111,"",null,"","",null,"","",null,"","",null,"","",null,"","",0,0,0,"No"]
[112,"",null,"","",null,"","",null,"","",null,"","",null,"","",0,0,0,"No"]
[113,"",null,"","",null,"","",null,"","",null,"","",null,"","",0,0,0,"No"]
[114,"",null,"","",null,"","",null,"","",null,"","",null,"","",0,0,0,"No"]
[115,"",null,"","",null,"","",null,"","",null,"","",null,"","",0,0,0,"No"]
[116,"",null,"","",null,"","",null,"","",null,"","",null,"","",0,0,0,"No"]
[117,"",null,"","",null,"","",null,"","",null,"","",null,"","",0,0,0,"No"]
[118,"",null,"","",null,"","",null,"","",null,"","",null,"","",0,0,0,"No"]
[119,"",null,"","",null,"","",null,"","",null,"","",null,"","",0,0,0,"No"]
[120,"",null,"","",null,"","",null,"","",null,"","",null,"","",0,0,0,"No"]
[121,"",null,"","",null,"","",null,"","",null,"","",null,"","",0,0,0,"No"]
[122,"",null,"","",null,"","",null,"","",null,"","",null,"","",0,0,0,"No"]
[123,"",null,"","",null,"","",null,"","",null,"","",null,"","",0,0,0,"No"]
[124,"",null,"","",null,"","",null,"","",null,"","",null,"","",0,0,0,"No"]
[125,"",null,"","",null,"","",null,"","",null,"","",null,"","",0,0,0,"No"]
[127,"",null,"","",null,"","",null,"","",null,"","",null,"","",0,0,0,"No"]
[128,"",null,"","",null,"","",null,"","",null,"","",null,"","",0,0,0,"No"]
[129,"",null,"","",null,"","",null,"","",null,"","",null,"","",0,0,0,"No"]
[130,"",null,"","",null,"","",null,"","",null,"","",null,"","",0,0,0,"No"]
[131,"",null,"","",null,"","",null,"","",null,"","",null,"","",0,0,0,"No"]
[132,"",null,"","",null,"","",null,"","",null,"","",null,"","",0,0,0,"No"]
[133,"",null,"","",null,"","",null,"","",null,"","",null,"","",0,0,0,"No"]
[134,"",null,"","",null,"","",null,"","",null,"","",null,"","",0,0,0,"No"]
[135,"",null,"","",null,"","",null,"","",null,"","",null,"","",0,0,0,"No"]
[136,"",null,"","",null,"","",null,"","",null,"","",null,"","",0,0,0,"No"]
[137,"",null,"","",null,"","",null,"","",null,"","",null,"","",0,0,0,"No"]
[1,"De Lisle College B",6,128,"Y",null,0,"N",null,0,"N",null,0,"N",null,0,"N",6,1,1,"No"]
[139,"",null,"","",null,"","",null,"","",null,"","",null,"","",0,0,0,"No"]
[140,"",null,"","",null,"","",null,"","",null,"","",null,"","",0,0,0,"No"]
[141,"",null,"","",null,"","",null,"","",null,"","",null,"","",0,0,0,"No"]
[142,"",null,"","",null,"","",null,"","",null,"","",null,"","",0,0,0,"No"]
[143,"",null,"","",null,"","",null,"","",null,"","",null,"","",0,0,0,"No"]
[144,"",null,"","",null,"","",null,"","",null,"","",null,"","",0,0,0,"No"]
[145,"",null,"","",null,"","",null,"","",null,"","",null,"","",0,0,0,"No"]
[146,"",null,"","",null,"","",null,"","",null,"","",null,"","",0,0,0,"No"]
[147,"",null,"","",null,"","",null,"","",null,"","",null,"","",0,0,0,"No"]
[148,"",null,"","",null,"","",null,"","",null,"","",null,"","",0,0,0,"No"]
[149,"",null,"","",null,"","",null,"","",null,"","",null,"","",0,0,0,"No"]
[150,"",null,"","",null,"","",null,"","",null,"","",null,"","",0,0,0,"No"]
[151,"",null,"","",null,"","",null,"","",null,"","",null,"","",0,0,0,"No"]
[152,"",null,"","",null,"","",null,"","",null,"","",null,"","",0,0,0,"No"]
[153,"",null,"","",null,"","",null,"","",null,"","",null,"","",0,0,0,"No"]
[154,"",null,"","",null,"","",null,"","",null,"","",null,"","",0,0,0,"No"]
[156,"",null,"","",null,"","",null,"","",null,"","",null,"","",0,0,0,"No"]
[157,"",null,"","",null,"","",null,"","",null,"","",null,"","",0,0,0,"No"]
[158,"",null,"","",null,"","",null,"","",null,"","",null,"","",0,0,0,"No"]
[159,"",null,"","",null,"","",null,"","",null,"","",null,"","",0,0,0,"No"]
[160,"",null,"","",null,"","",null,"","",null,"","",null,"","",0,0,0,"No"]
[161,"",null,"","",null,"","",null,"","",null,"","",null,"","",0,0,0,"No"]
[162,"",null,"","",null,"","",null,"","",null,"","",null,"","",0,0,0,"No"]
[163,"",null,"","",null,"","",null,"","",null,"","",null,"","",0,0,0,"No"]
[164,"",null,"","",null,"","",null,"","",null,"","",null,"","",0,0,0,"No"]
[165,"",null,"","",null,"","",null,"","",null,"","",null,"","",0,0,0,"No"]
[166,"",null,"","",null,"","",null,"","",null,"","",null,"","",0,0,0,"No"]
[167,"",null,"","",null,"","",null,"","",null,"","",null,"","",0,0,0,"No"]
[168,"",null,"","",null,"","",null,"","",null,"","",null,"","",0,0,0,"No"]
[169,"",null,"","",null,"","",null,"","",null,"","",null,"","",0,0,0,"No"]
[170,"",null,"","",null,"","",null,"","",null,"","",null,"","",0,0,0,"No"]
[171,"",null,"","",null,"","",null,"","",null,"","",null,"","",0,0,0,"No"]
[172,"",null,"","",null,"","",null,"","",null,"","",null,"","",0,0,0,"No"]
[173,"",null,"","",null,"","",null,"","",null,"","",null,"","",0,0,0,"No"]
[174,"",null,"","",null,"","",null,"","",null,"","",null,"","",0,0,0,"No"]
[175,"",null,"","",null,"","",null,"","",null,"","",null,"","",0,0,0,"No"]
[176,"",null,"","",null,"","",null,"","",null,"","",null,"","",0,0,0,"No"]
[177,"",null,"","",null,"","",null,"","",null,"","",null,"","",0,0,0,"No"]
[178,"",null,"","",null,"","",null,"","",null,"","",null,"","",0,0,0,"No"]
[179,"",null,"","",null,"","",null,"","",null,"","",null,"","",0,0,0,"No"]
[180,"",null,"","",null,"","",null,"","",null,"","",null,"","",0,0,0,"No"]
[181,"",null,"","",null,"","",null,"","",null,"","",null,"","",0,0,0,"No"]
[182,"",null,"","",null,"","",null,"","",null,"","",null,"","",0,0,0,"No"]
[183,"",null,"","",null,"","",null,"","",null,"","",null,"","",0,0,0,"No"]
[184,"",null,"","",null,"","",null,"","",null,"","",null,"","",0,0,0,"No"]
[185,"",null,"","",null,"","",null,"","",null,"","",null,"","",0,0,0,"No"]
[186,"",null,"","",null,"","",null,"","",null,"","",null,"","",0,0,0,"No"]
[187,"",null,"","",null,"","",null,"","",null,"","",null,"","",0,0,0,"No"]
[188,"",null,"","",null,"","",null,"","",null,"","",null,"","",0,0,0,"No"]
[189,"",null,"","",null,"","",null,"","",null,"","",null,"","",0,0,0,"No"]
[190,"",null,"","",null,"","",null,"","",null,"","",null,"","",0,0,0,"No"]
[191,"",null,"","",null,"","",null,"","",null,"","",null,"","",0,0,0,"No"]
[192,"",null,"","",null,"","",null,"","",null,"","",null,"","",0,0,0,"No"]
[193,"",null,"","",null,"","",null,"","",null,"","",null,"","",0,0,0,"No"]
[194,"",null,"","",null,"","",null,"","",null,"","",null,"","",0,0,0,"No"]
[195,"",null,"","",null,"","",null,"","",null,"","",null,"","",0,0,0,"No"]
[196,"",null,"","",null,"","",null,"","",null,"","",null,"","",0,0,0,"No"]
[197,"",null,"","",null,"","",null,"","",null,"","",null,"","",0,0,0,"No"]
[198,"",null,"","",null,"","",null,"","",null,"","",null,"","",0,0,0,"No"]
[199,"",null,"","",null,"","",null,"","",null,"","",null,"","",0,0,0,"No"]
[200,"",null,"","",null,"","",null,"","",null,"","",null,"","",0,0,0,"No"]
[201,"",null,"","",null,"","",null,"","",null,"","",null,"","",0,0,0,"No"]
[202,"",null,"","",null,"","",null,"","",null,"","",null,"","",0,0,0,"No"]
[203,"",null,"","",null,"","",null,"","",null,"","",null,"","",0,0,0,"No"]
[204,"",null,"","",null,"","",null,"","",null,"","",null,"","",0,0,0,"No"]
[205,"",null,"","",null,"","",null,"","",null,"","",null,"","",0,0,0,"No"]
[206,"",null,"","",null,"","",null,"","",null,"","",null,"","",0,0,0,"No"]
[207,"",null,"","",null,"","",null,"","",null,"","",null,"","",0,0,0,"No"]
[208,"",null,"","",null,"","",null,"","",null,"","",null,"","",0,0,0,"No"]
[209,"",null,"","",null,"","",null,"","",null,"","",null,"","",0,0,0,"No"]
[210,"",null,"","",null,"","",null,"","",null,"","",null,"","",0,0,0,"No"]
[211,"",null,"","",null,"","",null,"","",null,"","",null,"","",0,0,0,"No"]
[212,"",null,"","",null,"","",null,"","",null,"","",null,"","",0,0,0,"No"]
[213,"",null,"","",null,"","",null,"","",null,"","",null,"","",0,0,0,"No"]
[214,"",null,"","",null,"","",null,"","",null,"","",null,"","",0,0,0,"No"]
[215,"",null,"","",null,"","",null,"","",null,"","",null,"","",0,0,0,"No"]
[216,"",null,"","",null,"","",null,"","",null,"","",null,"","",0,0,0,"No"]
[217,"",null,"","",null,"","",null,"","",null,"","",null,"","",0,0,0,"No"]
[218,"",null,"","",null,"","",null,"","",null,"","",null,"","",0,0,0,"No"]
[219,"",null,"","",null,"","",null,"","",null,"","",null,"","",0,0,0,"No"]
[220,"",null,"","",null,"","",null,"","",null,"","",null,"","",0,0,0,"No"]
[221,"",null,"","",null,"","",null,"","",null,"","",null,"","",0,0,0,"No"]
[222,"",null,"","",null,"","",null,"","",null,"","",null,"","",0,0,0,"No"]
[223,"",null,"","",null,"","",null,"","",null,"","",null,"","",0,0,0,"No"]
[224,"",null,"","",null,"","",null,"","",null,"","",null,"","",0,0,0,"No"]
[225,"",null,"","",null,"","",null,"","",null,"","",null,"","",0,0,0,"No"]
[226,"",null,"","",null,"","",null,"","",null,"","",null,"","",0,0,0,"No"]
[227,"",null,"","",null,"","",null,"","",null,"","",null,"","",0,0,0,"No"]
[228,"",null,"","",null,"","",null,"","",null,"","",null,"","",0,0,0,"No"]
[229,"",null,"","",null,"","",null,"","",null,"","",null,"","",0,0,0,"No"]
[230,"",null,"","",null,"","",null,"","",null,"","",null,"","",0,0,0,"No"]
[231,"",null,"","",null,"","",null,"","",null,"","",null,"","",0,0,0,"No"]
[232,"",null,"","",null,"","",null,"","",null,"","",null,"","",0,0,0,"No"]
[233,"",null,"","",null,"","",null,"","",null,"","",null,"","",0,0,0,"No"]
[234,"",null,"","",null,"","",null,"","",null,"","",null,"","",0,0,0,"No"]
[235,"",null,"","",null,"","",null,"","",null,"","",null,"","",0,0,0,"No"]
[236,"",null,"","",null,"","",null,"","",null,"","",null,"","",0,0,0,"No"]
[237,"",null,"","",null,"","",null,"","",null,"","",null,"","",0,0,0,"No"]
[238,"",null,"","",null,"","",null,"","",null,"","",null,"","",0,0,0,"No"]
[239,"",null,"","",null,"","",null,"","",null,"","",null,"","",0,0,0,"No"]
[240,"",null,"","",null,"","",null,"","",null,"","",null,"","",0,0,0,"No"]
[241,"",null,"","",null,"","",null,"","",null,"","",null,"","",0,0,0,"No"]
[242,"",null,"","",null,"","",null,"","",null,"","",null,"","",0,0,0,"No"]
[243,"",null,"","",null,"","",null,"","",null,"","",null,"","",0,0,0,"No"]
[244,"",null,"","",null,"","",null,"","",null,"","",null,"","",0,0,0,"No"]
[245,"",null,"","",null,"","",null,"","",null,"","",null,"","",0,0,0,"No"]
[246,"",null,"","",null,"","",null,"","",null,"","",null,"","",0,0,0,"No"]
[247,"",null,"","",null,"","",null,"","",null,"","",null,"","",0,0,0,"No"]
[248,"",null,"","",null,"","",null,"","",null,"","",null,"","",0,0,0,"No"]
[249,"",null,"","",null,"","",null,"","",null,"","",null,"","",0,0,0,"No"]
[250,"",null,"","",null,"","",null,"","",null,"","",null,"","",0,0,0,"No"]
[251,"",null,"","",null,"","",null,"","",null,"","",null,"","",0,0,0,"No"]
[252,"",null,"","",null,"","",null,"","",null,"","",null,"","",0,0,0,"No"]
[253,"",null,"","",null,"","",null,"","",null,"","",null,"","",0,0,0,"No"]
[254,"",null,"","",null,"","",null,"","",null,"","",null,"","",0,0,0,"No"]
[255,"",null,"","",null,"","",null,"","",null,"","",null,"","",0,0,0,"No"]
[256,"",null,"","",null,"","",null,"","",null,"","",null,"","",0,0,0,"No"]
[257,"",null,"","",null,"","",null,"","",null,"","",null,"","",0,0,0,"No"]
[258,"",null,"","",null,"","",null,"","",null,"","",null,"","",0,0,0,"No"]
[259,"",null,"","",null,"","",null,"","",null,"","",null,"","",0,0,0,"No"]
[260,"",null,"","",null,"","",null,"","",null,"","",null,"","",0,0,0,"No"]
[261,"",null,"","",null,"","",null,"","",null,"","",null,"","",0,0,0,"No"]
[262,"",null,"","",null,"","",null,"","",null,"","",null,"","",0,0,0,"No"]
[263,"",null,"","",null,"","",null,"","",null,"","",null,"","",0,0,0,"No"]
[264,"",null,"","",null,"","",null,"","",null,"","",null,"","",0,0,0,"No"]
[265,"",null,"","",null,"","",null,"","",null,"","",null,"","",0,0,0,"No"]
[266,"",null,"","",null,"","",null,"","",null,"","",null,"","",0,0,0,"No"]
[267,"",null,"","",null,"","",null,"","",null,"","",null,"","",0,0,0,"No"]
[268,"",null,"","",null,"","",null,"","",null,"","",null,"","",0,0,0,"No"]
[269,"",null,"","",null,"","",null,"","",null,"","",null,"","",0,0,0,"No"]
[270,"",null,"","",null,"","",null,"","",null,"","",null,"","",0,0,0,"No"]
[271,"",null,"","",null,"","",null,"","",null,"","",null,"","",0,0,0,"No"]
[272,"",null,"","",null,"","",null,"","",null,"","",null,"","",0,0,0,"No"]
[273,"",null,"","",null,"","",null,"","",null,"","",null,"","",0,0,0,"No"]
[274,"",null,"","",null,"","",null,"","",null,"","",null,"","",0,0,0,"No"]
[276,"",null,"","",null,"","",null,"","",null,"","",null,"","",0,0,0,"No"]
[277,"",null,"","",null,"","",null,"","",null,"","",null,"","",0,0,0,"No"]
[278,"",null,"","",null,"","",null,"","",null,"","",null,"","",0,0,0,"No"]
[279,"",null,"","",null,"","",null,"","",null,"","",null,"","",0,0,0,"No"]
[280,"",null,"","",null,"","",null,"","",null,"","",null,"","",0,0,0,"No"]
[281,"",null,"","",null,"","",null,"","",null,"","",null,"","",0,0,0,"No"]
[282,"",null,"","",null,"","",null,"","",null,"","",null,"","",0,0,0,"No"]
[283,"",null,"","",null,"","",null,"","",null,"","",null,"","",0,0,0,"No"]
[284,"",null,"","",null,"","",null,"","",null,"","",null,"","",0,0,0,"No"]
[285,"",null,"","",null,"","",null,"","",null,"","",null,"","",0,0,0,"No"]
[286,"",null,"","",null,"","",null,"","",null,"","",null,"","",0,0,0,"No"]
[287,"",null,"","",null,"","",null,"","",null,"","",null,"","",0,0,0,"No"]
[288,"",null,"","",null,"","",null,"","",null,"","",null,"","",0,0,0,"No"]
[289,"",null,"","",null,"","",null,"","",null,"","",null,"","",0,0,0,"No"]
[290,"",null,"","",null,"","",null,"","",null,"","",null,"","",0,0,0,"No"]
[291,"",null,"","",null,"","",null,"","",null,"","",null,"","",0,0,0,"No"]
[292,"",null,"","",null,"","",null,"","",null,"","",null,"","",0,0,0,"No"]
[293,"",null,"","",null,"","",null,"","",null,"","",null,"","",0,0,0,"No"]
[294,"",null,"","",null,"","",null,"","",null,"","",null,"","",0,0,0,"No"]
[295,"",null,"","",null,"","",null,"","",null,"","",null,"","",0,0,0,"No"]
[296,"",null,"","",null,"","",null,"","",null,"","",null,"","",0,0,0,"No"]
[297,"",null,"","",null,"","",null,"","",null,"","",null,"","",0,0,0,"No"]
[298,"",null,"","",null,"","",null,"","",null,"","",null,"","",0,0,0,"No"]
[299,"",null,"","",null,"","",null,"","",null,"","",null,"","",0,0,0,"No"]
[300,"",null,"","",null,"","",null,"","",null,"","",null,"","",0,0,0,"No"]
[301,"",null,"","",null,"","",null,"","",null,"","",null,"","",0,0,0,"No"]
[302,"",null,"","",null,"","",null,"","",null,"","",null,"","",0,0,0,"No"]
[303,"",null,"","",null,"","",null,"","",null,"","",null,"","",0,0,0,"No"]
[304,"",null,"","",null,"","",null,"","",null,"","",null,"","",0,0,0,"No"]
[305,"",null,"","",null,"","",null,"","",null,"","",null,"","",0,0,0,"No"]
[306,"",null,"","",null,"","",null,"","",null,"","",null,"","",0,0,0,"No"]
[307,"",null,"","",null,"","",null,"","",null,"","",null,"","",0,0,0,"No"]
[308,"",null,"","",null,"","",null,"","",null,"","",null,"","",0,0,0,"No"]
[309,"",null,"","",null,"","",null,"","",null,"","",null,"","",0,0,0,"No"]
[310,"",null,"","",null,"","",null,"","",null,"","",null,"","",0,0,0,"No"]
[311,"",null,"","",null,"","",null,"","",null,"","",null,"","",0,0,0,"No"]
[312,"",null,"","",null,"","",null,"","",null,"","",null,"","",0,0,0,"No"]
[313,"",null,"","",null,"","",null,"","",null,"","",null,"","",0,0,0,"No"]
[314,"",null,"","",null,"","",null,"","",null,"","",null,"","",0,0,0,"No"]
[315,"",null,"","",null,"","",null,"","",null,"","",null,"","",0,0,0,"No"]
[316,"",null,"","",null,"","",null,"","",null,"","",null,"","",0,0,0,"No"]
[317,"",null,"","",null,"","",null,"","",null,"","",null,"","",0,0,0,"No"]
[318,"",null,"","",null,"","",null,"","",null,"","",null,"","",0,0,0,"No"]
[319,"",null,"","",null,"","",null,"","",null,"","",null,"","",0,0,0,"No"]
[320,"",null,"","",null,"","",null,"","",null,"","",null,"","",0,0,0,"No"]
[321,"",null,"","",null,"","",null,"","",null,"","",null,"","",0,0,0,"No"]
[322,"",null,"","",null,"","",null,"","",null,"","",null,"","",0,0,0,"No"]
[323,"",null,"","",null,"","",null,"","",null,"","",null,"","",0,0,0,"No"]
[324,"",null,"","",null,"","",null,"","",null,"","",null,"","",0,0,0,"No"]
[325,"",null,"","",null,"","",null,"","",null,"","",null,"","",0,0,0,"No"]
[326,"",null,"","",null,"","",null,"","",null,"","",null,"","",0,0,0,"No"]
[327,"",null,"","",null,"","",null,"","",null,"","",null,"","",0,0,0,"No"]
[328,"",null,"","",null,"","",null,"","",null,"","",null,"","",0,0,0,"No"]
[329,"",null,"","",null,"","",null,"","",null,"","",null,"","",0,0,0,"No"]
[330,"",null,"","",null,"","",null,"","",null,"","",null,"","",0,0,0,"No"]
[331,"",null,"","",null,"","",null,"","",null,"","",null,"","",0,0,0,"No"]
[332,"",null,"","",null,"","",null,"","",null,"","",null,"","",0,0,0,"No"]
[333,"",null,"","",null,"","",null,"","",null,"","",null,"","",0,0,0,"No"]
[334,"",null,"","",null,"","",null,"","",null,"","",null,"","",0,0,0,"No"]
[335,"",null,"","",null,"","",null,"","",null,"","",null,"","",0,0,0,"No"]
[336,"",null,"","",null,"","",null,"","",null,"","",null,"","",0,0,0,"No"]
[337,"",null,"","",null,"","",null,"","",null,"","",null,"","",0,0,0,"No"]
[338,"",null,"","",null,"","",null,"","",null,"","",null,"","",0,0,0,"No"]
[339,"",null,"","",null,"","",null,"","",null,"","",null,"","",0,0,0,"No"]
[340,"",null,"","",null,"","",null,"","",null,"","",null,"","",0,0,0,"No"]
[341,"",null,"","",null,"","",null,"","",null,"","",null,"","",0,0,0,"No"]
[342,"",null,"","",null,"","",null,"","",null,"","",null,"","",0,0,0,"No"]
[343,"",null,"","",null,"","",null,"","",null,"","",null,"","",0,0,0,"No"]
[344,"",null,"","",null,"","",null,"","",null,"","",null,"","",0,0,0,"No"]
[345,"",null,"","",null,"","",null,"","",null,"","",null,"","",0,0,0,"No"]
[346,"",null,"","",null,"","",null,"","",null,"","",null,"","",0,0,0,"No"]
[347,"",null,"","",null,"","",null,"","",null,"","",null,"","",0,0,0,"No"]
[348,"",null,"","",null,"","",null,"","",null,"","",null,"","",0,0,0,"No"]
[349,"",null,"","",null,"","",null,"","",null,"","",null,"","",0,0,0,"No"]
[350,"",null,"","",null,"","",null,"","",null,"","",null,"","",0,0,0,"No"]
[351,"",null,"","",null,"","",null,"","",null,"","",null,"","",0,0,0,"No"]
[352,"",null,"","",null,"","",null,"","",null,"","",null,"","",0,0,0,"No"]
[353,"",null,"","",null,"","",null,"","",null,"","",null,"","",0,0,0,"No"]
[354,"",null,"","",null,"","",null,"","",null,"","",null,"","",0,0,0,"No"]
[355,"",null,"","",null,"","",null,"","",null,"","",null,"","",0,0,0,"No"]
[356,"",null,"","",null,"","",null,"","",null,"","",null,"","",0,0,0,"No"]
[357,"",null,"","",null,"","",null,"","",null,"","",null,"","",0,0,0,"No"]
[358,"",null,"","",null,"","",null,"","",null,"","",null,"","",0,0,0,"No"]
[359,"",null,"","",null,"","",null,"","",null,"","",null,"","",0,0,0,"No"]
[360,"",null,"","",null,"","",null,"","",null,"","",null,"","",0,0,0,"No"]
[361,"",null,"","",null,"","",null,"","",null,"","",null,"","",0,0,0,"No"]
[362,"",null,"","",null,"","",null,"","",null,"","",null,"","",0,0,0,"No"]
[363,"",null,"","",null,"","",null,"","",null,"","",null,"","",0,0,0,"No"]
[364,"",null,"","",null,"","",null,"","",null,"","",null,"","",0,0,0,"No"]
[365,"",null,"","",null,"","",null,"","",null,"","",null,"","",0,0,0,"No"]
[366,"",null,"","",null,"","",null,"","",null,"","",null,"","",0,0,0,"No"]
[367,"",null,"","",null,"","",null,"","",null,"","",null,"","",0,0,0,"No"]
[368,"",null,"","",null,"","",null,"","",null,"","",null,"","",0,0,0,"No"]
[369,"",null,"","",null,"","",null,"","",null,"","",null,"","",0,0,0,"No"]
[370,"",null,"","",null,"","",null,"","",null,"","",null,"","",0,0,0,"No"]
[371,"",null,"","",null,"","",null,"","",null,"","",null,"","",0,0,0,"No"]
[372,"",null,"","",null,"","",null,"","",null,"","",null,"","",0,0,0,"No"]
[373,"",null,"","",null,"","",null,"","",null,"","",null,"","",0,0,0,"No"]
[374,"",null,"","",null,"","",null,"","",null,"","",null,"","",0,0,0,"No"]
[375,"",null,"","",null,"","",null,"","",null,"","",null,"","",0,0,0,"No"]
[376,"",null,"","",null,"","",null,"","",null,"","",null,"","",0,0,0,"No"]
[377,"",null,"","",null,"","",null,"","",null,"","",null,"","",0,0,0,"No"]
[378,"",null,"","",null,"","",null,"","",null,"","",null,"","",0,0,0,"No"]
[379,"",null,"","",null,"","",null,"","",null,"","",null,"","",0,0,0,"No"]
[380,"",null,"","",null,"","",null,"","",null,"","",null,"","",0,0,0,"No"]
[381,"",null,"","",null,"","",null,"","",null,"","",null,"","",0,0,0,"No"]
[382,"",null,"","",null,"","",null,"","",null,"","",null,"","",0,0,0,"No"]
[383,"",null,"","",null,"","",null,"","",null,"","",null,"","",0,0,0,"No"]
[384,"",null,"","",null,"","",null,"","",null,"","",null,"","",0,0,0,"No"]
[385,"",null,"","",null,"","",null,"","",null,"","",null,"","",0,0,0,"No"]
[386,"",null,"","",null,"","",null,"","",null,"","",null,"","",0,0,0,"No"]
[387,"",null,"","",null,"","",null,"","",null,"","",null,"","",0,0,0,"No"]
[388,"",null,"","",null,"","",null,"","",null,"","",null,"","",0,0,0,"No"]
[389,"",null,"","",null,"","",null,"","",null,"","",null,"","",0,0,0,"No"]
[390,"",null,"","",null,"","",null,"","",null,"","",null,"","",0,0,0,"No"]
[391,"",null,"","",null,"","",null,"","",null,"","",null,"","",0,0,0,"No"]
[392,"",null,"","",null,"","",null,"","",null,"","",null,"","",0,0,0,"No"]
[393,"",null,"","",null,"","",null,"","",null,"","",null,"","",0,0,0,"No"]
[394,"",null,"","",null,"","",null,"","",null,"","",null,"","",0,0,0,"No"]
[395,"",null,"","",null,"","",null,"","",null,"","",null,"","",0,0,0,"No"]
[396,"",null,"","",null,"","",null,"","",null,"","",null,"","",0,0,0,"No"]
[397,"",null,"","",null,"","",null,"","",null,"","",null,"","",0,0,0,"No"]
[398,"",null,"","",null,"","",null,"","",null,"","",null,"","",0,0,0,"No"]
[399,"",null,"","",null,"","",null,"","",null,"","",null,"","",0,0,0,"No"]
[400,"",null,"","",null,"","",null,"","",null,"","",null,"","",0,0,0,"No"]
[401,"",null,"","",null,"","",null,"","",null,"","",null,"","",0,0,0,"No"]
[402,"",null,"","",null,"","",null,"","",null,"","",null,"","",0,0,0,"No"]
[403,"",null,"","",null,"","",null,"","",null,"","",null,"","",0,0,0,"No"]
[404,"",null,"","",null,"","",null,"","",null,"","",null,"","",0,0,0,"No"]
[405,"",null,"","",null,"","",null,"","",null,"","",null,"","",0,0,0,"No"]
[406,"",null,"","",null,"","",null,"","",null,"","",null,"","",0,0,0,"No"]
[407,"",null,"","",null,"","",null,"","",null,"","",null,"","",0,0,0,"No"]
[408,"",null,"","",null,"","",null,"","",null,"","",null,"","",0,0,0,"No"]
[409,"",null,"","",null,"","",null,"","",null,"","",null,"","",0,0,0,"No"]
[410,"",null,"","",null,"","",null,"","",null,"","",null,"","",0,0,0,"No"]
[411,"",null,"","",null,"","",null,"","",null,"","",null,"","",0,0,0,"No"]
[412,"",null,"","",null,"","",null,"","",null,"","",null,"","",0,0,0,"No"]
[413,"",null,"","",null,"","",null,"","",null,"","",null,"","",0,0,0,"No"]
[414,"",null,"","",null,"","",null,"","",null,"","",null,"","",0,0,0,"No"]
[415,"",null,"","",null,"","",null,"","",null,"","",null,"","",0,0,0,"No"]
[416,"",null,"","",null,"","",null,"","",null,"","",null,"","",0,0,0,"No"]
[417,"",null,"","",null,"","",null,"","",null,"","",null,"","",0,0,0,"No"]
[418,"",null,"","",null,"","",null,"","",null,"","",null,"","",0,0,0,"No"]
[419,"",null,"","",null,"","",null,"","",null,"","",null,"","",0,0,0,"No"]
[420,"",null,"","",null,"","",null,"","",null,"","",null,"","",0,0,0,"No"]
[421,"",null,"","",null,"","",null,"","",null,"","",null,"","",0,0,0,"No"]
[422,"",null,"","",null,"","",null,"","",null,"","",null,"","",0,0,0,"No"]
[423,"",null,"","",null,"","",null,"","",null,"","",null,"","",0,0,0,"No"]
[424,"",null,"","",null,"","",null,"","",null,"","",null,"","",0,0,0,"No"]
[425,"",null,"","",null,"","",null,"","",null,"","",null,"","",0,0,0,"No"]
[426,"",null,"","",null,"","",null,"","",null,"","",null,"","",0,0,0,"No"]
[427,"",null,"","",null,"","",null,"","",null,"","",null,"","",0,0,0,"No"]
[428,"",null,"","",null,"","",null,"","",null,"","",null,"","",0,0,0,"No"]
[429,"",null,"","",null,"","",null,"","",null,"","",null,"","",0,0,0,"No"]
[430,"",null,"","",null,"","",null,"","",null,"","",null,"","",0,0,0,"No"]
[431,"",null,"","",null,"","",null,"","",null,"","",null,"","",0,0,0,"No"]
[432,"",null,"","",null,"","",null,"","",null,"","",null,"","",0,0,0,"No"]
[433,"",null,"","",null,"","",null,"","",null,"","",null,"","",0,0,0,"No"]
[434,"",null,"","",null,"","",null,"","",null,"","",null,"","",0,0,0,"No"]
[435,"",null,"","",null,"","",null,"","",null,"","",null,"","",0,0,0,"No"]
[436,"",null,"","",null,"","",null,"","",null,"","",null,"","",0,0,0,"No"]
[437,"",null,"","",null,"","",null,"","",null,"","",null,"","",0,0,0,"No"]
[438,"",null,"","",null,"","",null,"","",null,"","",null,"","",0,0,0,"No"]
[439,"",null,"","",null,"","",null,"","",null,"","",null,"","",0,0,0,"No"]
[440,"",null,"","",null,"","",null,"","",null,"","",null,"","",0,0,0,"No"]
[441,"",null,"","",null,"","",null,"","",null,"","",null,"","",0,0,0,"No"]
[442,"",null,"","",null,"","",null,"","",null,"","",null,"","",0,0,0,"No"]
[443,"",null,"","",null,"","",null,"","",null,"","",null,"","",0,0,0,"No"]
[444,"",null,"","",null,"","",null,"","",null,"","",null,"","",0,0,0,"No"]
[445,"",null,"","",null,"","",null,"","",null,"","",null,"","",0,0,0,"No"]
[446,"",null,"","",null,"","",null,"","",null,"","",null,"","",0,0,0,"No"]
[447,"",null,"","",null,"","",null,"","",null,"","",null,"","",0,0,0,"No"]
[448,"",null,"","",null,"","",null,"","",null,"","",null,"","",0,0,0,"No"]
[449,"",null,"","",null,"","",null,"","",null,"","",null,"","",0,0,0,"No"]
[450,"",null,"","",null,"","",null,"","",null,"","",null,"","",0,0,0,"No"]
[451,"",null,"","",null,"","",null,"","",null,"","",null,"","",0,0,0,"No"]
[452,"",null,"","",null,"","",null,"","",null,"","",null,"","",0,0,0,"No"]
[453,"",null,"","",null,"","",null,"","",null,"","",null,"","",0,0,0,"No"]
[454,"",null,"","",null,"","",null,"","",null,"","",null,"","",0,0,0,"No"]
[455,"",null,"","",null,"","",null,"","",null,"","",null,"","",0,0,0,"No"]
[456,"",null,"","",null,"","",null,"","",null,"","",null,"","",0,0,0,"No"]
[457,"",null,"","",null,"","",null,"","",null,"","",null,"","",0,0,0,"No"]
[458,"",null,"","",null,"","",null,"","",null,"","",null,"","",0,0,0,"No"]
[459,"",null,"","",null,"","",null,"","",null,"","",null,"","",0,0,0,"No"]
[460,"",null,"","",null,"","",null,"","",null,"","",null,"","",0,0,0,"No"]
[461,"",null,"","",null,"","",null,"","",null,"","",null,"","",0,0,0,"No"]
[462,"",null,"","",null,"","",null,"","",null,"","",null,"","",0,0,0,"No"]
[463,"",null,"","",null,"","",null,"","",null,"","",null,"","",0,0,0,"No"]
[464,"",null,"","",null,"","",null,"","",null,"","",null,"","",0,0,0,"No"]
[465,"",null,"","",null,"","",null,"","",null,"","",null,"","",0,0,0,"No"]
[466,"",null,"","",null,"","",null,"","",null,"","",null,"","",0,0,0,"No"]
[467,"",null,"","",null,"","",null,"","",null,"","",null,"","",0,0,0,"No"]
[468,"",null,"","",null,"","",null,"","",null,"","",null,"","",0,0,0,"No"]
[469,"",null,"","",null,"","",null,"","",null,"","",null,"","",0,0,0,"No"]
[470,"",null,"","",null,"","",null,"","",null,"","",null,"","",0,0,0,"No"]
[471,"",null,"","",null,"","",null,"","",null,"","",null,"","",0,0,0,"No"]
[472,"",null,"","",null,"","",null,"","",null,"","",null,"","",0,0,0,"No"]
[473,"",null,"","",null,"","",null,"","",null,"","",null,"","",0,0,0,"No"]
[474,"",null,"","",null,"","",null,"","",null,"","",null,"","",0,0,0,"No"]
[475,"",null,"","",null,"","",null,"","",null,"","",null,"","",0,0,0,"No"]
[476,"",null,"","",null,"","",null,"","",null,"","",null,"","",0,0,0,"No"]
[477,"",null,"","",null,"","",null,"","",null,"","",null,"","",0,0,0,"No"]
[478,"",null,"","",null,"","",null,"","",null,"","",null,"","",0,0,0,"No"]
[479,"",null,"","",null,"","",null,"","",null,"","",null,"","",0,0,0,"No"]
[480,"",null,"","",null,"","",null,"","",null,"","",null,"","",0,0,0,"No"]
[481,"",null,"","",null,"","",null,"","",null,"","",null,"","",0,0,0,"No"]
[482,"",null,"","",null,"","",null,"","",null,"","",null,"","",0,0,0,"No"]
[483,"",null,"","",null,"","",null,"","",null,"","",null,"","",0,0,0,"No"]
[484,"",null,"","",null,"","",null,"","",null,"","",null,"","",0,0,0,"No"]
[485,"",null,"","",null,"","",null,"","",null,"","",null,"","",0,0,0,"No"]
[486,"",null,"","",null,"","",null,"","",null,"","",null,"","",0,0,0,"No"]
[487,"",null,"","",null,"","",null,"","",null,"","",null,"","",0,0,0,"No"]
[488,"",null,"","",null,"","",null,"","",null,"","",null,"","",0,0,0,"No"]
[489,"",null,"","",null,"","",null,"","",null,"","",null,"","",0,0,0,"No"]
[490,"",null,"","",null,"","",null,"","",null,"","",null,"","",0,0,0,"No"]
[491,"",null,"","",null,"","",null,"","",null,"","",null,"","",0,0,0,"No"]
[492,"",null,"","",null,"","",null,"","",null,"","",null,"","",0,0,0,"No"]
[493,"",null,"","",null,"","",null,"","",null,"","",null,"","",0,0,0,"No"]
[494,"",null,"","",null,"","",null,"","",null,"","",null,"","",0,0,0,"No"]
[495,"",null,"","",null,"","",null,"","",null,"","",null,"","",0,0,0,"No"]
[496,"",null,"","",null,"","",null,"","",null,"","",null,"","",0,0,0,"No"]
[497,"",null,"","",null,"","",null,"","",null,"","",null,"","",0,0,0,"No"]
[498,"",null,"","",null,"","",null,"","",null,"","",null,"","",0,0,0,"No"]
[499,null,null,"","",null,"","",null,"","",null,"","",null,"","",0,0,0,"No"]
[]
["Reference","Y7B Teams","Position (Race 1)","Result (Race 1)","Claimed Last Place (Race 1)","Position (Race 2)","Result (Race 2)","Claimed Last Place (Race 2)","Position (Race 3)","Result (Race 3)","Claimed Last Place (Race 3)","Position (Race 4)","Result (Race 4)","Claimed Last Place (Race 4)","Position (Race 5)","Result (Race 5)","Claimed Last Place (Race 5)","Total (All Races)","Races Completed","Number of claimed LP","Eligible"]
[5,"Loughborough Grammar School A",8,172,"N",2,80,"N",null,0,"N",1,70,"N",null,0,"N",11,3,0,"Yes"]
[14,"",null,"","",null,"","",null,"","",null,"","",null,"","",0,0,0,"No"]
[12,"De Lisle College A",1,73,"N",3,90,"N",1,71,"N",2,72,"N",null,0,"N",7,4,0,"Yes"]
[11,"Uppingham CC A",2,104,"N",1,62,"N",2,74,"N",3,78,"N",null,0,"N",8,4,0,"Yes"]
[10,"Thomas Estley CC A",3,110,"N",9,175,"Y",3,100,"N",4,92,"N",null,0,"N",19,4,1,"Yes"]
[146,"",null,"","",null,"","",null,"","",null,"","",null,"","",0,0,0,"No"]
[8,"John Ferneley College A",5,120,"N",6,132,"N",4,112,"N",5,126,"N",null,0,"N",20,4,0,"Yes"]
[215,"St Pauls Catholic School A",null,0,"N",null,0,"N",null,0,"N",6,204,"Y",null,0,"N",6,1,1,"No"]
[41,"Wreake Valley Academy A",null,0,"N",null,0,"N",5,139,"Y",null,0,"N",null,0,"N",5,1,1,"No"]
[80,"Catmose College A",null,0,"N",5,127,"N",6,182,"Y",null,0,"N",null,0,"N",11,2,1,"No"]
[208,"Kibworth School A",null,0,"N",4,104,"N",null,0,"N",null,0,"N",null,0,"N",4,1,0,"No"]
[245,"",null,"","",null,"","",null,"","",null,"","",null,"","",0,0,0,"No"]
[214,"",null,"","",null,"","",null,"","",null,"","",null,"","",0,0,0,"No"]
[251,"",null,"","",null,"","",null,"","",null,"","",null,"","",0,0,0,"No"]
[7,"Charnwood College A",6,151,"N",7,148,"N",null,0,"N",null,0,"N",null,0,"N",13,2,0,"No"]
[9,"The Martin High School A",4,116,"N",8,162,"Y",null,0,"N",null,0,"N",null,0,"N",12,2,1,"No"]
[82,"Catmose College B",null,0,"N",10,195,"N",null,0,"N",null,0,"N",null,0,"N",10,1,0,"No"]
[13,"",null,"","",null,"","",null,"","",null,"","",null,"","",0,0,0,"No"]
[15,"",null,"","",null,"","",null,"","",null,"","",null,"","",0,0,0,"No"]
[16,"",null,"","",null,"","",null,"","",null,"","",null,"","",0,0,0,"No"]
[17,"",null,"","",null,"","",null,"","",null,"","",null,"","",0,0,0,"No"]
[18,"",null,"","",null,"","",null,"","",null,"","",null,"","",0,0,0,"No"]
[19,"",null,"","",null,"","",null,"","",null,"","",null,"","",0,0,0,"No"]
[20,"",null,"","",null,"","",null,"","",null,"","",null,"","",0,0,0,"No"]
[21,"",null,"","",null,"","",null,"","",null,"","",null,"","",0,0,0,"No"]
[22,"",null,"","",null,"","",null,"","",null,"","",null,"","",0,0,0,"No"]
[23,"",null,"","",null,"","",null,"","",null,"","",null,"","",0,0,0,"No"]
[24,"",null,"","",null,"","",null,"","",null,"","",null,"","",0,0,0,"No"]
[25,"",null,"","",null,"","",null,"","",null,"","",null,"","",0,0,0,"No"]
[26,"",null,"","",null,"","",null,"","",null,"","",null,"","",0,0,0,"No"]
[27,"",null,"","",null,"","",null,"","",null,"","",null,"","",0,0,0,"No"]
[28,"",null,"","",null,"","",null,"","",null,"","",null,"","",0,0,0,"No"]
[29,"",null,"","",null,"","",null,"","",null,"","",null,"","",0,0,0,"No"]
[30,"",null,"","",null,"","",null,"","",null,"","",null,"","",0,0,0,"No"]
[31,"",null,"","",null,"","",null,"","",null,"","",null,"","",0,0,0,"No"]
[32,"",null,"","",null,"","",null,"","",null,"","",null,"","",0,0,0,"No"]
[33,"",null,"","",null,"","",null,"","",null,"","",null,"","",0,0,0,"No"]
[34,"",null,"","",null,"","",null,"","",null,"","",null,"","",0,0,0,"No"]
[35,"",null,"","",null,"","",null,"","",null,"","",null,"","",0,0,0,"No"]
[36,"",null,"","",null,"","",null,"","",null,"","",null,"","",0,0,0,"No"]
[37,"",null,"","",null,"","",null,"","",null,"","",null,"","",0,0,0,"No"]
[38,"",null,"","",null,"","",null,"","",null,"","",null,"","",0,0,0,"No"]
[39,"",null,"","",null,"","",null,"","",null,"","",null,"","",0,0,0,"No"]
[40,"",null,"","",null,"","",null,"","",null,"","",null,"","",0,0,0,"No"]
[1,"Loughborough Grammar School B",12,276,"N",11,260,"Y",null,0,"N",null,0,"N",null,0,"N",23,2,1,"No"]
[42,"",null,"","",null,"","",null,"","",null,"","",null,"","",0,0,0,"No"]
[43,"",null,"","",null,"","",null,"","",null,"","",null,"","",0,0,0,"No"]
[44,"",null,"","",null,"","",null,"","",null,"","",null,"","",0,0,0,"No"]
[45,"",null,"","",null,"","",null,"","",null,"","",null,"","",0,0,0,"No"]
[46,"",null,"","",null,"","",null,"","",null,"","",null,"","",0,0,0,"No"]
[47,"",null,"","",null,"","",null,"","",null,"","",null,"","",0,0,0,"No"]
[48,"",null,"","",null,"","",null,"","",null,"","",null,"","",0,0,0,"No"]
[49,"",null,"","",null,"","",null,"","",null,"","",null,"","",0,0,0,"No"]
[50,"",null,"","",null,"","",null,"","",null,"","",null,"","",0,0,0,"No"]
[51,"",null,"","",null,"","",null,"","",null,"","",null,"","",0,0,0,"No"]
[52,"",null,"","",null,"","",null,"","",null,"","",null,"","",0,0,0,"No"]
[53,"",null,"","",null,"","",null,"","",null,"","",null,"","",0,0,0,"No"]
[54,"",null,"","",null,"","",null,"","",null,"","",null,"","",0,0,0,"No"]
[55,"",null,"","",null,"","",null,"","",null,"","",null,"","",0,0,0,"No"]
[56,"",null,"","",null,"","",null,"","",null,"","",null,"","",0,0,0,"No"]
[57,"",null,"","",null,"","",null,"","",null,"","",null,"","",0,0,0,"No"]
[58,"",null,"","",null,"","",null,"","",null,"","",null,"","",0,0,0,"No"]
[59,"",null,"","",null,"","",null,"","",null,"","",null,"","",0,0,0,"No"]
[60,"",null,"","",null,"","",null,"","",null,"","",null,"","",0,0,0,"No"]
[61,"",null,"","",null,"","",null,"","",null,"","",null,"","",0,0,0,"No"]
[62,"",null,"","",null,"","",null,"","",null,"","",null,"","",0,0,0,"No"]
[63,"",null,"","",null,"","",null,"","",null,"","",null,"","",0,0,0,"No"]
[64,"",null,"","",null,"","",null,"","",null,"","",null,"","",0,0,0,"No"]
[65,"",null,"","",null,"","",null,"","",null,"","",null,"","",0,0,0,"No"]
[66,"",null,"","",null,"","",null,"","",null,"","",null,"","",0,0,0,"No"]
[67,"",null,"","",null,"","",null,"","",null,"","",null,"","",0,0,0,"No"]
[68,"",null,"","",null,"","",null,"","",null,"","",null,"","",0,0,0,"No"]
[69,"",null,"","",null,"","",null,"","",null,"","",null,"","",0,0,0,"No"]
[70,"",null,"","",null,"","",null,"","",null,"","",null,"","",0,0,0,"No"]
[71,"",null,"","",null,"","",null,"","",null,"","",null,"","",0,0,0,"No"]
[72,"",null,"","",null,"","",null,"","",null,"","",null,"","",0,0,0,"No"]
[73,"",null,"","",null,"","",null,"","",null,"","",null,"","",0,0,0,"No"]
[74,"",null,"","",null,"","",null,"","",null,"","",null,"","",0,0,0,"No"]
[75,"",null,"","",null,"","",null,"","",null,"","",null,"","",0,0,0,"No"]
[76,"",null,"","",null,"","",null,"","",null,"","",null,"","",0,0,0,"No"]
[77,"",null,"","",null,"","",null,"","",null,"","",null,"","",0,0,0,"No"]
[78,"",null,"","",null,"","",null,"","",null,"","",null,"","",0,0,0,"No"]
[79,"",null,"","",null,"","",null,"","",null,"","",null,"","",0,0,0,"No"]
[98,"Crown Hills CC A",null,0,"N",11,260,"N",null,0,"N",null,0,"N",null,0,"N",11,1,0,"No"]
[81,"",null,"","",null,"","",null,"","",null,"","",null,"","",0,0,0,"No"]
[6,"Rawlins Academy A",7,152,"Y",null,0,"N",null,0,"N",null,0,"N",null,0,"N",7,1,1,"No"]
[83,"",null,"","",null,"","",null,"","",null,"","",null,"","",0,0,0,"No"]
[84,"",null,"","",null,"","",null,"","",null,"","",null,"","",0,0,0,"No"]
[85,"",null,"","",null,"","",null,"","",null,"","",null,"","",0,0,0,"No"]
[86,"",null,"","",null,"","",null,"","",null,"","",null,"","",0,0,0,"No"]
[87,"",null,"","",null,"","",null,"","",null,"","",null,"","",0,0,0,"No"]
[88,"",null,"","",null,"","",null,"","",null,"","",null,"","",0,0,0,"No"]
[89,"",null,"","",null,"","",null,"","",null,"","",null,"","",0,0,0,"No"]
[90,"",null,"","",null,"","",null,"","",null,"","",null,"","",0,0,0,"No"]
[91,"",null,"","",null,"","",null,"","",null,"","",null,"","",0,0,0,"No"]
[92,"",null,"","",null,"","",null,"","",null,"","",null,"","",0,0,0,"No"]
[93,"",null,"","",null,"","",null,"","",null,"","",null,"","",0,0,0,"No"]
[94,"",null,"","",null,"","",null,"","",null,"","",null,"","",0,0,0,"No"]
[95,"",null,"","",null,"","",null,"","",null,"","",null,"","",0,0,0,"No"]
[96,"",null,"","",null,"","",null,"","",null,"","",null,"","",0,0,0,"No"]
[97,"",null,"","",null,"","",null,"","",null,"","",null,"","",0,0,0,"No"]
[4,"Manor High School A",9,181,"Y",null,0,"N",null,0,"N",null,0,"N",null,0,"N",9,1,1,"No"]
[99,"",null,"","",null,"","",null,"","",null,"","",null,"","",0,0,0,"No"]
[100,"",null,"","",null,"","",null,"","",null,"","",null,"","",0,0,0,"No"]
[101,"",null,"","",null,"","",null,"","",null,"","",null,"","",0,0,0,"No"]
[102,"",null,"","",null,"","",null,"","",null,"","",null,"","",0,0,0,"No"]
[103,"",null,"","",null,"","",null,"","",null,"","",null,"","",0,0,0,"No"]
[104,"",null,"","",null,"","",null,"","",null,"","",null,"","",0,0,0,"No"]
[105,"",null,"","",null,"","",null,"","",null,"","",null,"","",0,0,0,"No"]
[106,"",null,"","",null,"","",null,"","",null,"","",null,"","",0,0,0,"No"]
[107,"",null,"","",null,"","",null,"","",null,"","",null,"","",0,0,0,"No"]
[108,"",null,"","",null,"","",null,"","",null,"","",null,"","",0,0,0,"No"]
[109,"",null,"","",null,"","",null,"","",null,"","",null,"","",0,0,0,"No"]
[110,"",null,"","",null,"","",null,"","",null,"","",null,"","",0,0,0,"No"]
[111,"",null,"","",null,"","",null,"","",null,"","",null,"","",0,0,0,"No"]
[112,"",null,"","",null,"","",null,"","",null,"","",null,"","",0,0,0,"No"]
[113,"",null,"","",null,"","",null,"","",null,"","",null,"","",0,0,0,"No"]
[114,"",null,"","",null,"","",null,"","",null,"","",null,"","",0,0,0,"No"]
[115,"",null,"","",null,"","",null,"","",null,"","",null,"","",0,0,0,"No"]
[116,"",null,"","",null,"","",null,"","",null,"","",null,"","",0,0,0,"No"]
[117,"",null,"","",null,"","",null,"","",null,"","",null,"","",0,0,0,"No"]
[118,"",null,"","",null,"","",null,"","",null,"","",null,"","",0,0,0,"No"]
[119,"",null,"","",null,"","",null,"","",null,"","",null,"","",0,0,0,"No"]
[120,"",null,"","",null,"","",null,"","",null,"","",null,"","",0,0,0,"No"]
[121,"",null,"","",null,"","",null,"","",null,"","",null,"","",0,0,0,"No"]
[122,"",null,"","",null,"","",null,"","",null,"","",null,"","",0,0,0,"No"]
[123,"",null,"","",null,"","",null,"","",null,"","",null,"","",0,0,0,"No"]
[124,"",null,"","",null,"","",null,"","",null,"","",null,"","",0,0,0,"No"]
[125,"",null,"","",null,"","",null,"","",null,"","",null,"","",0,0,0,"No"]
[126,"",null,"","",null,"","",null,"","",null,"","",null,"","",0,0,0,"No"]
[127,"",null,"","",null,"","",null,"","",null,"","",null,"","",0,0,0,"No"]
[128,"",null,"","",null,"","",null,"","",null,"","",null,"","",0,0,0,"No"]
[129,"",null,"","",null,"","",null,"","",null,"","",null,"","",0,0,0,"No"]
[130,"",null,"","",null,"","",null,"","",null,"","",null,"","",0,0,0,"No"]
[131,"",null,"","",null,"","",null,"","",null,"","",null,"","",0,0,0,"No"]
[132,"",null,"","",null,"","",null,"","",null,"","",null,"","",0,0,0,"No"]
[133,"",null,"","",null,"","",null,"","",null,"","",null,"","",0,0,0,"No"]
[134,"",null,"","",null,"","",null,"","",null,"","",null,"","",0,0,0,"No"]
[135,"",null,"","",null,"","",null,"","",null,"","",null,"","",0,0,0,"No"]
[136,"",null,"","",null,"","",null,"","",null,"","",null,"","",0,0,0,"No"]
[137,"",null,"","",null,"","",null,"","",null,"","",null,"","",0,0,0,"No"]
[138,"",null,"","",null,"","",null,"","",null,"","",null,"","",0,0,0,"No"]
[139,"",null,"","",null,"","",null,"","",null,"","",null,"","",0,0,0,"No"]
[140,"",null,"","",null,"","",null,"","",null,"","",null,"","",0,0,0,"No"]
[141,"",null,"","",null,"","",null,"","",null,"","",null,"","",0,0,0,"No"]
[142,"",null,"","",null,"","",null,"","",null,"","",null,"","",0,0,0,"No"]
[143,"",null,"","",null,"","",null,"","",null,"","",null,"","",0,0,0,"No"]
[144,"",null,"","",null,"","",null,"","",null,"","",null,"","",0,0,0,"No"]
[145,"",null,"","",null,"","",null,"","",null,"","",null,"","",0,0,0,"No"]
[147,"",null,"","",null,"","",null,"","",null,"","",null,"","",0,0,0,"No"]
[148,"",null,"","",null,"","",null,"","",null,"","",null,"","",0,0,0,"No"]
[149,"",null,"","",null,"","",null,"","",null,"","",null,"","",0,0,0,"No"]
[150,"",null,"","",null,"","",null,"","",null,"","",null,"","",0,0,0,"No"]
[151,"",null,"","",null,"","",null,"","",null,"","",null,"","",0,0,0,"No"]
[152,"",null,"","",null,"","",null,"","",null,"","",null,"","",0,0,0,"No"]
[153,"",null,"","",null,"","",null,"","",null,"","",null,"","",0,0,0,"No"]
[154,"",null,"","",null,"","",null,"","",null,"","",null,"","",0,0,0,"No"]
[155,"",null,"","",null,"","",null,"","",null,"","",null,"","",0,0,0,"No"]
[156,"",null,"","",null,"","",null,"","",null,"","",null,"","",0,0,0,"No"]
[157,"",null,"","",null,"","",null,"","",null,"","",null,"","",0,0,0,"No"]
[158,"",null,"","",null,"","",null,"","",null,"","",null,"","",0,0,0,"No"]
[159,"",null,"","",null,"","",null,"","",null,"","",null,"","",0,0,0,"No"]
[160,"",null,"","",null,"","",null,"","",null,"","",null,"","",0,0,0,"No"]
[161,"",null,"","",null,"","",null,"","",null,"","",null,"","",0,0,0,"No"]
[162,"",null,"","",null,"","",null,"","",null,"","",null,"","",0,0,0,"No"]
[163,"",null,"","",null,"","",null,"","",null,"","",null,"","",0,0,0,"No"]
[164,"",null,"","",null,"","",null,"","",null,"","",null,"","",0,0,0,"No"]
[165,"",null,"","",null,"","",null,"","",null,"","",null,"","",0,0,0,"No"]
[166,"",null,"","",null,"","",null,"","",null,"","",null,"","",0,0,0,"No"]
[167,"",null,"","",null,"","",null,"","",null,"","",null,"","",0,0,0,"No"]
[168,"",null,"","",null,"","",null,"","",null,"","",null,"","",0,0,0,"No"]
[169,"",null,"","",null,"","",null,"","",null,"","",null,"","",0,0,0,"No"]
[170,"",null,"","",null,"","",null,"","",null,"","",null,"","",0,0,0,"No"]
[171,"",null,"","",null,"","",null,"","",null,"","",null,"","",0,0,0,"No"]
[172,"",null,"","",null,"","",null,"","",null,"","",null,"","",0,0,0,"No"]
[173,"",null,"","",null,"","",null,"","",null,"","",null,"","",0,0,0,"No"]
[174,"",null,"","",null,"","",null,"","",null,"","",null,"","",0,0,0,"No"]
[175,"",null,"","",null,"","",null,"","",null,"","",null,"","",0,0,0,"No"]
[176,"",null,"","",null,"","",null,"","",null,"","",null,"","",0,0,0,"No"]
[177,"",null,"","",null,"","",null,"","",null,"","",null,"","",0,0,0,"No"]
[178,"",null,"","",null,"","",null,"","",null,"","",null,"","",0,0,0,"No"]
[179,"",null,"","",null,"","",null,"","",null,"","",null,"","",0,0,0,"No"]
[180,"",null,"","",null,"","",null,"","",null,"","",null,"","",0,0,0,"No"]
[181,"",null,"","",null,"","",null,"","",null,"","",null,"","",0,0,0,"No"]
[182,"",null,"","",null,"","",null,"","",null,"","",null,"","",0,0,0,"No"]
[183,"",null,"","",null,"","",null,"","",null,"","",null,"","",0,0,0,"No"]
[184,"",null,"","",null,"","",null,"","",null,"","",null,"","",0,0,0,"No"]
[185,"",null,"","",null,"","",null,"","",null,"","",null,"","",0,0,0,"No"]
[186,"",null,"","",null,"","",null,"","",null,"","",null,"","",0,0,0,"No"]
[187,"",null,"","",null,"","",null,"","",null,"","",null,"","",0,0,0,"No"]
[188,"",null,"","",null,"","",null,"","",null,"","",null,"","",0,0,0,"No"]
[189,"",null,"","",null,"","",null,"","",null,"","",null,"","",0,0,0,"No"]
[190,"",null,"","",null,"","",null,"","",null,"","",null,"","",0,0,0,"No"]
[191,"",null,"","",null,"","",null,"","",null,"","",null,"","",0,0,0,"No"]
[192,"",null,"","",null,"","",null,"","",null,"","",null,"","",0,0,0,"No"]
[193,"",null,"","",null,"","",null,"","",null,"","",null,"","",0,0,0,"No"]
[194,"",null,"","",null,"","",null,"","",null,"","",null,"","",0,0,0,"No"]
[195,"",null,"","",null,"","",null,"","",null,"","",null,"","",0,0,0,"No"]
[196,"",null,"","",null,"","",null,"","",null,"","",null,"","",0,0,0,"No"]
[197,"",null,"","",null,"","",null,"","",null,"","",null,"","",0,0,0,"No"]
[198,"",null,"","",null,"","",null,"","",null,"","",null,"","",0,0,0,"No"]
[199,"",null,"","",null,"","",null,"","",null,"","",null,"","",0,0,0,"No"]
[200,"",null,"","",null,"","",null,"","",null,"","",null,"","",0,0,0,"No"]
[201,"",null,"","",null,"","",null,"","",null,"","",null,"","",0,0,0,"No"]
[202,"",null,"","",null,"","",null,"","",null,"","",null,"","",0,0,0,"No"]
[203,"",null,"","",null,"","",null,"","",null,"","",null,"","",0,0,0,"No"]
[204,"",null,"","",null,"","",null,"","",null,"","",null,"","",0,0,0,"No"]
[205,"",null,"","",null,"","",null,"","",null,"","",null,"","",0,0,0,"No"]
[206,"",null,"","",null,"","",null,"","",null,"","",null,"","",0,0,0,"No"]
[207,"",null,"","",null,"","",null,"","",null,"","",null,"","",0,0,0,"No"]
[3,"Woodbrook Vale School A",10,192,"N",null,0,"N",null,0,"N",null,0,"N",null,0,"N",10,1,0,"No"]
[209,"",null,"","",null,"","",null,"","",null,"","",null,"","",0,0,0,"No"]
[210,"",null,"","",null,"","",null,"","",null,"","",null,"","",0,0,0,"No"]
[211,"",null,"","",null,"","",null,"","",null,"","",null,"","",0,0,0,"No"]
[212,"",null,"","",null,"","",null,"","",null,"","",null,"","",0,0,0,"No"]
[213,"",null,"","",null,"","",null,"","",null,"","",null,"","",0,0,0,"No"]
[2,"John Ferneley College B",11,230,"N",null,0,"N",null,0,"N",null,0,"N",null,0,"N",11,1,0,"No"]
[216,"",null,"","",null,"","",null,"","",null,"","",null,"","",0,0,0,"No"]
[217,"",null,"","",null,"","",null,"","",null,"","",null,"","",0,0,0,"No"]
[218,"",null,"","",null,"","",null,"","",null,"","",null,"","",0,0,0,"No"]
[219,"",null,"","",null,"","",null,"","",null,"","",null,"","",0,0,0,"No"]
[220,"",null,"","",null,"","",null,"","",null,"","",null,"","",0,0,0,"No"]
[221,"",null,"","",null,"","",null,"","",null,"","",null,"","",0,0,0,"No"]
[222,"",null,"","",null,"","",null,"","",null,"","",null,"","",0,0,0,"No"]
[223,"",null,"","",null,"","",null,"","",null,"","",null,"","",0,0,0,"No"]
[224,"",null,"","",null,"","",null,"","",null,"","",null,"","",0,0,0,"No"]
[225,"",null,"","",null,"","",null,"","",null,"","",null,"","",0,0,0,"No"]
[226,"",null,"","",null,"","",null,"","",null,"","",null,"","",0,0,0,"No"]
[227,"",null,"","",null,"","",null,"","",null,"","",null,"","",0,0,0,"No"]
[228,"",null,"","",null,"","",null,"","",null,"","",null,"","",0,0,0,"No"]
[229,"",null,"","",null,"","",null,"","",null,"","",null,"","",0,0,0,"No"]
[230,"",null,"","",null,"","",null,"","",null,"","",null,"","",0,0,0,"No"]
[231,"",null,"","",null,"","",null,"","",null,"","",null,"","",0,0,0,"No"]
[232,"",null,"","",null,"","",null,"","",null,"","",null,"","",0,0,0,"No"]
[233,"",null,"","",null,"","",null,"","",null,"","",null,"","",0,0,0,"No"]
[234,"",null,"","",null,"","",null,"","",null,"","",null,"","",0,0,0,"No"]
[235,"",null,"","",null,"","",null,"","",null,"","",null,"","",0,0,0,"No"]
[236,"",null,"","",null,"","",null,"","",null,"","",null,"","",0,0,0,"No"]
[237,"",null,"","",null,"","",null,"","",null,"","",null,"","",0,0,0,"No"]
[238,"",null,"","",null,"","",null,"","",null,"","",null,"","",0,0,0,"No"]
[239,"",null,"","",null,"","",null,"","",null,"","",null,"","",0,0,0,"No"]
[240,"",null,"","",null,"","",null,"","",null,"","",null,"","",0,0,0,"No"]
[241,"",null,"","",null,"","",null,"","",null,"","",null,"","",0,0,0,"No"]
[242,"",null,"","",null,"","",null,"","",null,"","",null,"","",0,0,0,"No"]
[243,"",null,"","",null,"","",null,"","",null,"","",null,"","",0,0,0,"No"]
[244,"",null,"","",null,"","",null,"","",null,"","",null,"","",0,0,0,"No"]
[246,"",null,"","",null,"","",null,"","",null,"","",null,"","",0,0,0,"No"]
[247,"",null,"","",null,"","",null,"","",null,"","",null,"","",0,0,0,"No"]
[248,"",null,"","",null,"","",null,"","",null,"","",null,"","",0,0,0,"No"]
[249,"",null,"","",null,"","",null,"","",null,"","",null,"","",0,0,0,"No"]
[250,"",null,"","",null,"","",null,"","",null,"","",null,"","",0,0,0,"No"]
[252,"",null,"","",null,"","",null,"","",null,"","",null,"","",0,0,0,"No"]
[253,"",null,"","",null,"","",null,"","",null,"","",null,"","",0,0,0,"No"]
[254,"",null,"","",null,"","",null,"","",null,"","",null,"","",0,0,0,"No"]
[255,"",null,"","",null,"","",null,"","",null,"","",null,"","",0,0,0,"No"]
[256,"",null,"","",null,"","",null,"","",null,"","",null,"","",0,0,0,"No"]
[257,"",null,"","",null,"","",null,"","",null,"","",null,"","",0,0,0,"No"]
[258,"",null,"","",null,"","",null,"","",null,"","",null,"","",0,0,0,"No"]
[259,"",null,"","",null,"","",null,"","",null,"","",null,"","",0,0,0,"No"]
[260,"",null,"","",null,"","",null,"","",null,"","",null,"","",0,0,0,"No"]
[261,"",null,"","",null,"","",null,"","",null,"","",null,"","",0,0,0,"No"]
[262,"",null,"","",null,"","",null,"","",null,"","",null,"","",0,0,0,"No"]
[263,"",null,"","",null,"","",null,"","",null,"","",null,"","",0,0,0,"No"]
[264,"",null,"","",null,"","",null,"","",null,"","",null,"","",0,0,0,"No"]
[265,"",null,"","",null,"","",null,"","",null,"","",null,"","",0,0,0,"No"]
[266,"",null,"","",null,"","",null,"","",null,"","",null,"","",0,0,0,"No"]
[267,"",null,"","",null,"","",null,"","",null,"","",null,"","",0,0,0,"No"]
[268,"",null,"","",null,"","",null,"","",null,"","",null,"","",0,0,0,"No"]
[269,"",null,"","",null,"","",null,"","",null,"","",null,"","",0,0,0,"No"]
[270,"",null,"","",null,"","",null,"","",null,"","",null,"","",0,0,0,"No"]
[271,"",null,"","",null,"","",null,"","",null,"","",null,"","",0,0,0,"No"]
[272,"",null,"","",null,"","",null,"","",null,"","",null,"","",0,0,0,"No"]
[273,"",null,"","",null,"","",null,"","",null,"","",null,"","",0,0,0,"No"]
[274,"",null,"","",null,"","",null,"","",null,"","",null,"","",0,0,0,"No"]
[275,"",null,"","",null,"","",null,"","",null,"","",null,"","",0,0,0,"No"]
[276,"",null,"","",null,"","",null,"","",null,"","",null,"","",0,0,0,"No"]
[277,"",null,"","",null,"","",null,"","",null,"","",null,"","",0,0,0,"No"]
[278,"",null,"","",null,"","",null,"","",null,"","",null,"","",0,0,0,"No"]
[279,"",null,"","",null,"","",null,"","",null,"","",null,"","",0,0,0,"No"]
[280,"",null,"","",null,"","",null,"","",null,"","",null,"","",0,0,0,"No"]
[281,"",null,"","",null,"","",null,"","",null,"","",null,"","",0,0,0,"No"]
[282,"",null,"","",null,"","",null,"","",null,"","",null,"","",0,0,0,"No"]
[283,"",null,"","",null,"","",null,"","",null,"","",null,"","",0,0,0,"No"]
[284,"",null,"","",null,"","",null,"","",null,"","",null,"","",0,0,0,"No"]
[285,"",null,"","",null,"","",null,"","",null,"","",null,"","",0,0,0,"No"]
[286,"",null,"","",null,"","",null,"","",null,"","",null,"","",0,0,0,"No"]
[287,"",null,"","",null,"","",null,"","",null,"","",null,"","",0,0,0,"No"]
[288,"",null,"","",null,"","",null,"","",null,"","",null,"","",0,0,0,"No"]
[289,"",null,"","",null,"","",null,"","",null,"","",null,"","",0,0,0,"No"]
[290,"",null,"","",null,"","",null,"","",null,"","",null,"","",0,0,0,"No"]
[291,"",null,"","",null,"","",null,"","",null,"","",null,"","",0,0,0,"No"]
[292,"",null,"","",null,"","",null,"","",null,"","",null,"","",0,0,0,"No"]
[293,"",null,"","",null,"","",null,"","",null,"","",null,"","",0,0,0,"No"]
[294,"",null,"","",null,"","",null,"","",null,"","",null,"","",0,0,0,"No"]
[295,"",null,"","",null,"","",null,"","",null,"","",null,"","",0,0,0,"No"]
[296,"",null,"","",null,"","",null,"","",null,"","",null,"","",0,0,0,"No"]
[297,"",null,"","",null,"","",null,"","",null,"","",null,"","",0,0,0,"No"]
[298,"",null,"","",null,"","",null,"","",null,"","",null,"","",0,0,0,"No"]
[299,"",null,"","",null,"","",null,"","",null,"","",null,"","",0,0,0,"No"]
[300,"",null,"","",null,"","",null,"","",null,"","",null,"","",0,0,0,"No"]
[301,"",null,"","",null,"","",null,"","",null,"","",null,"","",0,0,0,"No"]
[302,"",null,"","",null,"","",null,"","",null,"","",null,"","",0,0,0,"No"]
[303,"",null,"","",null,"","",null,"","",null,"","",null,"","",0,0,0,"No"]
[304,"",null,"","",null,"","",null,"","",null,"","",null,"","",0,0,0,"No"]
[305,"",null,"","",null,"","",null,"","",null,"","",null,"","",0,0,0,"No"]
[306,"",null,"","",null,"","",null,"","",null,"","",null,"","",0,0,0,"No"]
[307,"",null,"","",null,"","",null,"","",null,"","",null,"","",0,0,0,"No"]
[308,"",null,"","",null,"","",null,"","",null,"","",null,"","",0,0,0,"No"]
[309,"",null,"","",null,"","",null,"","",null,"","",null,"","",0,0,0,"No"]
[310,"",null,"","",null,"","",null,"","",null,"","",null,"","",0,0,0,"No"]
[311,"",null,"","",null,"","",null,"","",null,"","",null,"","",0,0,0,"No"]
[312,"",null,"","",null,"","",null,"","",null,"","",null,"","",0,0,0,"No"]
[313,"",null,"","",null,"","",null,"","",null,"","",null,"","",0,0,0,"No"]
[314,"",null,"","",null,"","",null,"","",null,"","",null,"","",0,0,0,"No"]
[315,"",null,"","",null,"","",null,"","",null,"","",null,"","",0,0,0,"No"]
[316,"",null,"","",null,"","",null,"","",null,"","",null,"","",0,0,0,"No"]
[317,"",null,"","",null,"","",null,"","",null,"","",null,"","",0,0,0,"No"]
[318,"",null,"","",null,"","",null,"","",null,"","",null,"","",0,0,0,"No"]
[319,"",null,"","",null,"","",null,"","",null,"","",null,"","",0,0,0,"No"]
[320,"",null,"","",null,"","",null,"","",null,"","",null,"","",0,0,0,"No"]
[321,"",null,"","",null,"","",null,"","",null,"","",null,"","",0,0,0,"No"]
[322,"",null,"","",null,"","",null,"","",null,"","",null,"","",0,0,0,"No"]
[323,"",null,"","",null,"","",null,"","",null,"","",null,"","",0,0,0,"No"]
[324,"",null,"","",null,"","",null,"","",null,"","",null,"","",0,0,0,"No"]
[325,"",null,"","",null,"","",null,"","",null,"","",null,"","",0,0,0,"No"]
[326,"",null,"","",null,"","",null,"","",null,"","",null,"","",0,0,0,"No"]
[327,"",null,"","",null,"","",null,"","",null,"","",null,"","",0,0,0,"No"]
[328,"",null,"","",null,"","",null,"","",null,"","",null,"","",0,0,0,"No"]
[329,"",null,"","",null,"","",null,"","",null,"","",null,"","",0,0,0,"No"]
[330,"",null,"","",null,"","",null,"","",null,"","",null,"","",0,0,0,"No"]
[331,"",null,"","",null,"","",null,"","",null,"","",null,"","",0,0,0,"No"]
[332,"",null,"","",null,"","",null,"","",null,"","",null,"","",0,0,0,"No"]
[333,"",null,"","",null,"","",null,"","",null,"","",null,"","",0,0,0,"No"]
[334,"",null,"","",null,"","",null,"","",null,"","",null,"","",0,0,0,"No"]
[335,"",null,"","",null,"","",null,"","",null,"","",null,"","",0,0,0,"No"]
[336,"",null,"","",null,"","",null,"","",null,"","",null,"","",0,0,0,"No"]
[337,"",null,"","",null,"","",null,"","",null,"","",null,"","",0,0,0,"No"]
[338,"",null,"","",null,"","",null,"","",null,"","",null,"","",0,0,0,"No"]
[339,"",null,"","",null,"","",null,"","",null,"","",null,"","",0,0,0,"No"]
[340,"",null,"","",null,"","",null,"","",null,"","",null,"","",0,0,0,"No"]
[341,"",null,"","",null,"","",null,"","",null,"","",null,"","",0,0,0,"No"]
[342,"",null,"","",null,"","",null,"","",null,"","",null,"","",0,0,0,"No"]
[343,"",null,"","",null,"","",null,"","",null,"","",null,"","",0,0,0,"No"]
[344,"",null,"","",null,"","",null,"","",null,"","",null,"","",0,0,0,"No"]
[345,"",null,"","",null,"","",null,"","",null,"","",null,"","",0,0,0,"No"]
[346,"",null,"","",null,"","",null,"","",null,"","",null,"","",0,0,0,"No"]
[347,"",null,"","",null,"","",null,"","",null,"","",null,"","",0,0,0,"No"]
[348,"",null,"","",null,"","",null,"","",null,"","",null,"","",0,0,0,"No"]
[349,"",null,"","",null,"","",null,"","",null,"","",null,"","",0,0,0,"No"]
[350,"",null,"","",null,"","",null,"","",null,"","",null,"","",0,0,0,"No"]
[351,"",null,"","",null,"","",null,"","",null,"","",null,"","",0,0,0,"No"]
[352,"",null,"","",null,"","",null,"","",null,"","",null,"","",0,0,0,"No"]
[353,"",null,"","",null,"","",null,"","",null,"","",null,"","",0,0,0,"No"]
[354,"",null,"","",null,"","",null,"","",null,"","",null,"","",0,0,0,"No"]
[355,"",null,"","",null,"","",null,"","",null,"","",null,"","",0,0,0,"No"]
[356,"",null,"","",null,"","",null,"","",null,"","",null,"","",0,0,0,"No"]
[357,"",null,"","",null,"","",null,"","",null,"","",null,"","",0,0,0,"No"]
[358,"",null,"","",null,"","",null,"","",null,"","",null,"","",0,0,0,"No"]
[359,"",null,"","",null,"","",null,"","",null,"","",null,"","",0,0,0,"No"]
[360,"",null,"","",null,"","",null,"","",null,"","",null,"","",0,0,0,"No"]
[361,"",null,"","",null,"","",null,"","",null,"","",null,"","",0,0,0,"No"]
[362,"",null,"","",null,"","",null,"","",null,"","",null,"","",0,0,0,"No"]
[363,"",null,"","",null,"","",null,"","",null,"","",null,"","",0,0,0,"No"]
[364,"",null,"","",null,"","",null,"","",null,"","",null,"","",0,0,0,"No"]
[365,"",null,"","",null,"","",null,"","",null,"","",null,"","",0,0,0,"No"]
[366,"",null,"","",null,"","",null,"","",null,"","",null,"","",0,0,0,"No"]
[367,"",null,"","",null,"","",null,"","",null,"","",null,"","",0,0,0,"No"]
[368,"",null,"","",null,"","",null,"","",null,"","",null,"","",0,0,0,"No"]
[369,"",null,"","",null,"","",null,"","",null,"","",null,"","",0,0,0,"No"]
[370,"",null,"","",null,"","",null,"","",null,"","",null,"","",0,0,0,"No"]
[371,"",null,"","",null,"","",null,"","",null,"","",null,"","",0,0,0,"No"]
[372,"",null,"","",null,"","",null,"","",null,"","",null,"","",0,0,0,"No"]
[373,"",null,"","",null,"","",null,"","",null,"","",null,"","",0,0,0,"No"]
[374,"",null,"","",null,"","",null,"","",null,"","",null,"","",0,0,0,"No"]
[375,"",null,"","",null,"","",null,"","",null,"","",null,"","",0,0,0,"No"]
[376,"",null,"","",null,"","",null,"","",null,"","",null,"","",0,0,0,"No"]
[377,"",null,"","",null,"","",null,"","",null,"","",null,"","",0,0,0,"No"]
[378,"",null,"","",null,"","",null,"","",null,"","",null,"","",0,0,0,"No"]
[379,"",null,"","",null,"","",null,"","",null,"","",null,"","",0,0,0,"No"]
[380,"",null,"","",null,"","",null,"","",null,"","",null,"","",0,0,0,"No"]
[381,"",null,"","",null,"","",null,"","",null,"","",null,"","",0,0,0,"No"]
[382,"",null,"","",null,"","",null,"","",null,"","",null,"","",0,0,0,"No"]
[383,"",null,"","",null,"","",null,"","",null,"","",null,"","",0,0,0,"No"]
[384,"",null,"","",null,"","",null,"","",null,"","",null,"","",0,0,0,"No"]
[385,"",null,"","",null,"","",null,"","",null,"","",null,"","",0,0,0,"No"]
[386,"",null,"","",null,"","",null,"","",null,"","",null,"","",0,0,0,"No"]
[387,"",null,"","",null,"","",null,"","",null,"","",null,"","",0,0,0,"No"]
[388,"",null,"","",null,"","",null,"","",null,"","",null,"","",0,0,0,"No"]
[389,"",null,"","",null,"","",null,"","",null,"","",null,"","",0,0,0,"No"]
[390,"",null,"","",null,"","",null,"","",null,"","",null,"","",0,0,0,"No"]
[391,"",null,"","",null,"","",null,"","",null,"","",null,"","",0,0,0,"No"]
[392,"",null,"","",null,"","",null,"","",null,"","",null,"","",0,0,0,"No"]
[393,"",null,"","",null,"","",null,"","",null,"","",null,"","",0,0,0,"No"]
[394,"",null,"","",null,"","",null,"","",null,"","",null,"","",0,0,0,"No"]
[395,"",null,"","",null,"","",null,"","",null,"","",null,"","",0,0,0,"No"]
[396,"",null,"","",null,"","",null,"","",null,"","",null,"","",0,0,0,"No"]
[397,"",null,"","",null,"","",null,"","",null,"","",null,"","",0,0,0,"No"]
[398,"",null,"","",null,"","",null,"","",null,"","",null,"","",0,0,0,"No"]
[399,"",null,"","",null,"","",null,"","",null,"","",null,"","",0,0,0,"No"]
[400,"",null,"","",null,"","",null,"","",null,"","",null,"","",0,0,0,"No"]
[401,"",null,"","",null,"","",null,"","",null,"","",null,"","",0,0,0,"No"]
[402,"",null,"","",null,"","",null,"","",null,"","",null,"","",0,0,0,"No"]
[403,"",null,"","",null,"","",null,"","",null,"","",null,"","",0,0,0,"No"]
[404,"",null,"","",null,"","",null,"","",null,"","",null,"","",0,0,0,"No"]
[405,"",null,"","",null,"","",null,"","",null,"","",null,"","",0,0,0,"No"]
[406,"",null,"","",null,"","",null,"","",null,"","",null,"","",0,0,0,"No"]
[407,"",null,"","",null,"","",null,"","",null,"","",null,"","",0,0,0,"No"]
[408,"",null,"","",null,"","",null,"","",null,"","",null,"","",0,0,0,"No"]
[409,"",null,"","",null,"","",null,"","",null,"","",null,"","",0,0,0,"No"]
[410,"",null,"","",null,"","",null,"","",null,"","",null,"","",0,0,0,"No"]
[411,"",null,"","",null,"","",null,"","",null,"","",null,"","",0,0,0,"No"]
[412,"",null,"","",null,"","",null,"","",null,"","",null,"","",0,0,0,"No"]
[413,"",null,"","",null,"","",null,"","",null,"","",null,"","",0,0,0,"No"]
[414,"",null,"","",null,"","",null,"","",null,"","",null,"","",0,0,0,"No"]
[415,"",null,"","",null,"","",null,"","",null,"","",null,"","",0,0,0,"No"]
[416,"",null,"","",null,"","",null,"","",null,"","",null,"","",0,0,0,"No"]
[417,"",null,"","",null,"","",null,"","",null,"","",null,"","",0,0,0,"No"]
[418,"",null,"","",null,"","",null,"","",null,"","",null,"","",0,0,0,"No"]
[419,"",null,"","",null,"","",null,"","",null,"","",null,"","",0,0,0,"No"]
[420,"",null,"","",null,"","",null,"","",null,"","",null,"","",0,0,0,"No"]
[421,"",null,"","",null,"","",null,"","",null,"","",null,"","",0,0,0,"No"]
[422,"",null,"","",null,"","",null,"","",null,"","",null,"","",0,0,0,"No"]
[423,"",null,"","",null,"","",null,"","",null,"","",null,"","",0,0,0,"No"]
[424,"",null,"","",null,"","",null,"","",null,"","",null,"","",0,0,0,"No"]
[425,"",null,"","",null,"","",null,"","",null,"","",null,"","",0,0,0,"No"]
[426,"",null,"","",null,"","",null,"","",null,"","",null,"","",0,0,0,"No"]
[427,"",null,"","",null,"","",null,"","",null,"","",null,"","",0,0,0,"No"]
[428,"",null,"","",null,"","",null,"","",null,"","",null,"","",0,0,0,"No"]
[429,"",null,"","",null,"","",null,"","",null,"","",null,"","",0,0,0,"No"]
[430,"",null,"","",null,"","",null,"","",null,"","",null,"","",0,0,0,"No"]
[431,"",null,"","",null,"","",null,"","",null,"","",null,"","",0,0,0,"No"]
[432,"",null,"","",null,"","",null,"","",null,"","",null,"","",0,0,0,"No"]
[433,"",null,"","",null,"","",null,"","",null,"","",null,"","",0,0,0,"No"]
[434,"",null,"","",null,"","",null,"","",null,"","",null,"","",0,0,0,"No"]
[435,"",null,"","",null,"","",null,"","",null,"","",null,"","",0,0,0,"No"]
[436,"",null,"","",null,"","",null,"","",null,"","",null,"","",0,0,0,"No"]
[437,"",null,"","",null,"","",null,"","",null,"","",null,"","",0,0,0,"No"]
[438,"",null,"","",null,"","",null,"","",null,"","",null,"","",0,0,0,"No"]
[439,"",null,"","",null,"","",null,"","",null,"","",null,"","",0,0,0,"No"]
[440,"",null,"","",null,"","",null,"","",null,"","",null,"","",0,0,0,"No"]
[441,"",null,"","",null,"","",null,"","",null,"","",null,"","",0,0,0,"No"]
[442,"",null,"","",null,"","",null,"","",null,"","",null,"","",0,0,0,"No"]
[443,"",null,"","",null,"","",null,"","",null,"","",null,"","",0,0,0,"No"]
[444,"",null,"","",null,"","",null,"","",null,"","",null,"","",0,0,0,"No"]
[445,"",null,"","",null,"","",null,"","",null,"","",null,"","",0,0,0,"No"]
[446,"",null,"","",null,"","",null,"","",null,"","",null,"","",0,0,0,"No"]
[447,"",null,"","",null,"","",null,"","",null,"","",null,"","",0,0,0,"No"]
[448,"",null,"","",null,"","",null,"","",null,"","",null,"","",0,0,0,"No"]
[449,"",null,"","",null,"","",null,"","",null,"","",null,"","",0,0,0,"No"]
[450,"",null,"","",null,"","",null,"","",null,"","",null,"","",0,0,0,"No"]
[451,"",null,"","",null,"","",null,"","",null,"","",null,"","",0,0,0,"No"]
[452,"",null,"","",null,"","",null,"","",null,"","",null,"","",0,0,0,"No"]
[453,"",null,"","",null,"","",null,"","",null,"","",null,"","",0,0,0,"No"]
[454,"",null,"","",null,"","",null,"","",null,"","",null,"","",0,0,0,"No"]
[455,"",null,"","",null,"","",null,"","",null,"","",null,"","",0,0,0,"No"]
[456,"",null,"","",null,"","",null,"","",null,"","",null,"","",0,0,0,"No"]
[457,"",null,"","",null,"","",null,"","",null,"","",null,"","",0,0,0,"No"]
[458,"",null,"","",null,"","",null,"","",null,"","",null,"","",0,0,0,"No"]
[459,"",null,"","",null,"","",null,"","",null,"","",null,"","",0,0,0,"No"]
[460,"",null,"","",null,"","",null,"","",null,"","",null,"","",0,0,0,"No"]
[461,"",null,"","",null,"","",null,"","",null,"","",null,"","",0,0,0,"No"]
[462,"",null,"","",null,"","",null,"","",null,"","",null,"","",0,0,0,"No"]
[463,"",null,"","",null,"","",null,"","",null,"","",null,"","",0,0,0,"No"]
[464,"",null,"","",null,"","",null,"","",null,"","",null,"","",0,0,0,"No"]
[465,"",null,"","",null,"","",null,"","",null,"","",null,"","",0,0,0,"No"]
[466,"",null,"","",null,"","",null,"","",null,"","",null,"","",0,0,0,"No"]
[467,"",null,"","",null,"","",null,"","",null,"","",null,"","",0,0,0,"No"]
[468,"",null,"","",null,"","",null,"","",null,"","",null,"","",0,0,0,"No"]
[469,"",null,"","",null,"","",null,"","",null,"","",null,"","",0,0,0,"No"]
[470,"",null,"","",null,"","",null,"","",null,"","",null,"","",0,0,0,"No"]
[471,"",null,"","",null,"","",null,"","",null,"","",null,"","",0,0,0,"No"]
[472,"",null,"","",null,"","",null,"","",null,"","",null,"","",0,0,0,"No"]
[473,"",null,"","",null,"","",null,"","",null,"","",null,"","",0,0,0,"No"]
[474,"",null,"","",null,"","",null,"","",null,"","",null,"","",0,0,0,"No"]
[475,"",null,"","",null,"","",null,"","",null,"","",null,"","",0,0,0,"No"]
[476,"",null,"","",null,"","",null,"","",null,"","",null,"","",0,0,0,"No"]
[477,"",null,"","",null,"","",null,"","",null,"","",null,"","",0,0,0,"No"]
[478,"",null,"","",null,"","",null,"","",null,"","",null,"","",0,0,0,"No"]
[479,"",null,"","",null,"","",null,"","",null,"","",null,"","",0,0,0,"No"]
[480,"",null,"","",null,"","",null,"","",null,"","",null,"","",0,0,0,"No"]
[481,"",null,"","",null,"","",null,"","",null,"","",null,"","",0,0,0,"No"]
[482,"",null,"","",null,"","",null,"","",null,"","",null,"","",0,0,0,"No"]
[483,"",null,"","",null,"","",null,"","",null,"","",null,"","",0,0,0,"No"]
[484,"",null,"","",null,"","",null,"","",null,"","",null,"","",0,0,0,"No"]
[485,"",null,"","",null,"","",null,"","",null,"","",null,"","",0,0,0,"No"]
[486,"",null,"","",null,"","",null,"","",null,"","",null,"","",0,0,0,"No"]
[487,"",null,"","",null,"","",null,"","",null,"","",null,"","",0,0,0,"No"]
[488,"",null,"","",null,"","",null,"","",null,"","",null,"","",0,0,0,"No"]
[489,"",null,"","",null,"","",null,"","",null,"","",null,"","",0,0,0,"No"]
[490,"",null,"","",null,"","",null,"","",null,"","",null,"","",0,0,0,"No"]
[491,"",null,"","",null,"","",null,"","",null,"","",null,"","",0,0,0,"No"]
[492,"",null,"","",null,"","",null,"","",null,"","",null,"","",0,0,0,"No"]
[493,"",null,"","",null,"","",null,"","",null,"","",null,"","",0,0,0,"No"]
[494,"",null,"","",null,"","",null,"","",null,"","",null,"","",0,0,0,"No"]
[495,"",null,"","",null,"","",null,"","",null,"","",null,"","",0,0,0,"No"]
[496,"",null,"","",null,"","",null,"","",null,"","",null,"","",0,0,0,"No"]
[497,"",null,"","",null,"","",null,"","",null,"","",null,"","",0,0,0,"No"]
[498,"",null,"","",null,"","",null,"","",null,"","",null,"","",0,0,0,"No"]
[499,"",null,"","",null,"","",null,"","",null,"","",null,"","",0,0,0,"No"]
[500,"",null,"","",null,"","",null,"","",null,"","",null,"","",0,0,0,"No"]
[]
["Reference","JG Teams","Position (Race 1)","Result (Race 1)","Claimed Last Place (Race 1)","Position (Race 2)","Result (Race 2)","Claimed Last Place (Race 2)","Position (Race 3)","Result (Race 3)","Claimed Last Place (Race 3)","Position (Race 4)","Result (Race 4)","Claimed Last Place (Race 4)","Position (Race 5)","Result (Race 5)","Claimed Last Place (Race 5)","Total (All Races)","Races Completed","Number of claimed LP","Eligible"]
[15,"Brookvale High School A",1,38,"N",2,65,"N",1,33,"N",1,25,"N",null,0,"N",5,4,0,"Yes"]
[275,"",null,"","",null,"","",null,"","",null,"","",null,"","",0,0,0,"No"]
[12,"Welland Park Academy A",4,104,"N",3,71,"N",3,92,"N",2,71,"N",null,0,"N",12,4,0,"Yes"]
[206,"",null,"","",null,"","",null,"","",null,"","",null,"","",0,0,0,"No"]
[13,"Thomas Estley CC A",3,92,"N",6,118,"Y",null,0,"N",3,104,"Y",null,0,"N",12,3,2,"No"]
[5,"Lutterworth High School A",11,202,"N",8,132,"N",5,169,"Y",4,124,"N",null,0,"N",28,4,1,"Yes"]
[43,"",null,"","",null,"","",null,"","",null,"","",null,"","",0,0,0,"No"]
[254,"",null,"","",null,"","",null,"","",null,"","",null,"","",0,0,0,"No"]
[7,"St Pauls Catholic School A",9,192,"N",7,132,"Y",null,0,"N",5,130,"Y",null,0,"N",21,3,2,"No"]
[150,"",null,"","",null,"","",null,"","",null,"","",null,"","",0,0,0,"No"]
[179,"Redmoor Academy A",null,0,"N",null,0,"N",7,193,"Y",6,163,"Y",null,0,"N",13,2,2,"No"]
[14,"Loughborough High School A",2,79,"N",4,75,"N",2,53,"N",null,0,"N",null,0,"N",8,3,0,"Yes"]
[8,"Woodbrook Vale School A",8,182,"Y",null,0,"N",4,116,"Y",null,0,"N",null,0,"N",12,2,2,"No"]
[31,"",null,"","",null,"","",null,"","",null,"","",null,"","",0,0,0,"No"]
[39,"",null,"","",null,"","",null,"","",null,"","",null,"","",0,0,0,"No"]
[257,"",null,"","",null,"","",null,"","",null,"","",null,"","",0,0,0,"No"]
[4,"John Ferneley College A",12,237,"Y",9,158,"Y",5,169,"Y",null,0,"N",null,0,"N",26,3,3,"No"]
[10,"St Martins Catholic Academy A",6,144,"N",1,61,"N",null,0,"N",null,0,"N",null,0,"N",7,2,0,"No"]
[78,"Catmose College A",null,0,"N",5,109,"N",null,0,"N",null,0,"N",null,0,"N",5,1,0,"No"]
[6,"De Lisle College A",10,201,"Y",10,171,"Y",null,0,"N",null,0,"N",null,0,"N",20,2,2,"No"]
[11,"Manor High School A",5,122,"N",null,0,"N",null,0,"N",null,0,"N",null,0,"N",5,1,0,"No"]
[9,"The Market Bosworth School A",7,163,"Y",null,0,"N",null,0,"N",null,0,"N",null,0,"N",7,1,1,"No"]
[16,"",null,"","",null,"","",null,"","",null,"","",null,"","",0,0,0,"No"]
[17,"",null,"","",null,"","",null,"","",null,"","",null,"","",0,0,0,"No"]
[18,"",null,"","",null,"","",null,"","",null,"","",null,"","",0,0,0,"No"]
[19,"",null,"","",null,"","",null,"","",null,"","",null,"","",0,0,0,"No"]
[20,"",null,"","",null,"","",null,"","",null,"","",null,"","",0,0,0,"No"]
[21,"",null,"","",null,"","",null,"","",null,"","",null,"","",0,0,0,"No"]
[22,"",null,"","",null,"","",null,"","",null,"","",null,"","",0,0,0,"No"]
[23,"",null,"","",null,"","",null,"","",null,"","",null,"","",0,0,0,"No"]
[24,"",null,"","",null,"","",null,"","",null,"","",null,"","",0,0,0,"No"]
[25,"",null,"","",null,"","",null,"","",null,"","",null,"","",0,0,0,"No"]
[26,"",null,"","",null,"","",null,"","",null,"","",null,"","",0,0,0,"No"]
[27,"",null,"","",null,"","",null,"","",null,"","",null,"","",0,0,0,"No"]
[28,"",null,"","",null,"","",null,"","",null,"","",null,"","",0,0,0,"No"]
[29,"",null,"","",null,"","",null,"","",null,"","",null,"","",0,0,0,"No"]
[30,"",null,"","",null,"","",null,"","",null,"","",null,"","",0,0,0,"No"]
[155,"",null,"","",null,"","",null,"","",null,"","",null,"","",0,0,0,"No"]
[32,"",null,"","",null,"","",null,"","",null,"","",null,"","",0,0,0,"No"]
[33,"",null,"","",null,"","",null,"","",null,"","",null,"","",0,0,0,"No"]
[34,"",null,"","",null,"","",null,"","",null,"","",null,"","",0,0,0,"No"]
[35,"",null,"","",null,"","",null,"","",null,"","",null,"","",0,0,0,"No"]
[36,"",null,"","",null,"","",null,"","",null,"","",null,"","",0,0,0,"No"]
[37,"",null,"","",null,"","",null,"","",null,"","",null,"","",0,0,0,"No"]
[38,"",null,"","",null,"","",null,"","",null,"","",null,"","",0,0,0,"No"]
[40,"",null,"","",null,"","",null,"","",null,"","",null,"","",0,0,0,"No"]
[41,"",null,"","",null,"","",null,"","",null,"","",null,"","",0,0,0,"No"]
[42,"",null,"","",null,"","",null,"","",null,"","",null,"","",0,0,0,"No"]
[44,"",null,"","",null,"","",null,"","",null,"","",null,"","",0,0,0,"No"]
[45,"",null,"","",null,"","",null,"","",null,"","",null,"","",0,0,0,"No"]
[46,"",null,"","",null,"","",null,"","",null,"","",null,"","",0,0,0,"No"]
[47,"",null,"","",null,"","",null,"","",null,"","",null,"","",0,0,0,"No"]
[48,"",null,"","",null,"","",null,"","",null,"","",null,"","",0,0,0,"No"]
[49,"",null,"","",null,"","",null,"","",null,"","",null,"","",0,0,0,"No"]
[50,"",null,"","",null,"","",null,"","",null,"","",null,"","",0,0,0,"No"]
[51,"",null,"","",null,"","",null,"","",null,"","",null,"","",0,0,0,"No"]
[52,"",null,"","",null,"","",null,"","",null,"","",null,"","",0,0,0,"No"]
[53,"",null,"","",null,"","",null,"","",null,"","",null,"","",0,0,0,"No"]
[54,"",null,"","",null,"","",null,"","",null,"","",null,"","",0,0,0,"No"]
[55,"",null,"","",null,"","",null,"","",null,"","",null,"","",0,0,0,"No"]
[56,"",null,"","",null,"","",null,"","",null,"","",null,"","",0,0,0,"No"]
[57,"",null,"","",null,"","",null,"","",null,"","",null,"","",0,0,0,"No"]
[58,"",null,"","",null,"","",null,"","",null,"","",null,"","",0,0,0,"No"]
[59,"",null,"","",null,"","",null,"","",null,"","",null,"","",0,0,0,"No"]
[60,"",null,"","",null,"","",null,"","",null,"","",null,"","",0,0,0,"No"]
[61,"",null,"","",null,"","",null,"","",null,"","",null,"","",0,0,0,"No"]
[62,"",null,"","",null,"","",null,"","",null,"","",null,"","",0,0,0,"No"]
[63,"",null,"","",null,"","",null,"","",null,"","",null,"","",0,0,0,"No"]
[64,"",null,"","",null,"","",null,"","",null,"","",null,"","",0,0,0,"No"]
[65,"",null,"","",null,"","",null,"","",null,"","",null,"","",0,0,0,"No"]
[66,"",null,"","",null,"","",null,"","",null,"","",null,"","",0,0,0,"No"]
[67,"",null,"","",null,"","",null,"","",null,"","",null,"","",0,0,0,"No"]
[68,"",null,"","",null,"","",null,"","",null,"","",null,"","",0,0,0,"No"]
[69,"",null,"","",null,"","",null,"","",null,"","",null,"","",0,0,0,"No"]
[70,"",null,"","",null,"","",null,"","",null,"","",null,"","",0,0,0,"No"]
[71,"",null,"","",null,"","",null,"","",null,"","",null,"","",0,0,0,"No"]
[72,"",null,"","",null,"","",null,"","",null,"","",null,"","",0,0,0,"No"]
[73,"",null,"","",null,"","",null,"","",null,"","",null,"","",0,0,0,"No"]
[74,"",null,"","",null,"","",null,"","",null,"","",null,"","",0,0,0,"No"]
[75,"",null,"","",null,"","",null,"","",null,"","",null,"","",0,0,0,"No"]
[76,"",null,"","",null,"","",null,"","",null,"","",null,"","",0,0,0,"No"]
[77,"",null,"","",null,"","",null,"","",null,"","",null,"","",0,0,0,"No"]
[3,"Lutterworth College A",13,243,"Y",null,0,"N",null,0,"N",null,0,"N",null,0,"N",13,1,1,"No"]
[79,"",null,"","",null,"","",null,"","",null,"","",null,"","",0,0,0,"No"]
[80,"",null,"","",null,"","",null,"","",null,"","",null,"","",0,0,0,"No"]
[81,"",null,"","",null,"","",null,"","",null,"","",null,"","",0,0,0,"No"]
[82,"",null,"","",null,"","",null,"","",null,"","",null,"","",0,0,0,"No"]
[83,"",null,"","",null,"","",null,"","",null,"","",null,"","",0,0,0,"No"]
[84,"",null,"","",null,"","",null,"","",null,"","",null,"","",0,0,0,"No"]
[85,"",null,"","",null,"","",null,"","",null,"","",null,"","",0,0,0,"No"]
[86,"",null,"","",null,"","",null,"","",null,"","",null,"","",0,0,0,"No"]
[87,"",null,"","",null,"","",null,"","",null,"","",null,"","",0,0,0,"No"]
[88,"",null,"","",null,"","",null,"","",null,"","",null,"","",0,0,0,"No"]
[89,"",null,"","",null,"","",null,"","",null,"","",null,"","",0,0,0,"No"]
[90,"",null,"","",null,"","",null,"","",null,"","",null,"","",0,0,0,"No"]
[91,"",null,"","",null,"","",null,"","",null,"","",null,"","",0,0,0,"No"]
[92,"",null,"","",null,"","",null,"","",null,"","",null,"","",0,0,0,"No"]
[93,"",null,"","",null,"","",null,"","",null,"","",null,"","",0,0,0,"No"]
[94,"",null,"","",null,"","",null,"","",null,"","",null,"","",0,0,0,"No"]
[95,"",null,"","",null,"","",null,"","",null,"","",null,"","",0,0,0,"No"]
[96,"",null,"","",null,"","",null,"","",null,"","",null,"","",0,0,0,"No"]
[97,"",null,"","",null,"","",null,"","",null,"","",null,"","",0,0,0,"No"]
[98,"",null,"","",null,"","",null,"","",null,"","",null,"","",0,0,0,"No"]
[99,"",null,"","",null,"","",null,"","",null,"","",null,"","",0,0,0,"No"]
[100,"",null,"","",null,"","",null,"","",null,"","",null,"","",0,0,0,"No"]
[101,"",null,"","",null,"","",null,"","",null,"","",null,"","",0,0,0,"No"]
[102,"",null,"","",null,"","",null,"","",null,"","",null,"","",0,0,0,"No"]
[103,"",null,"","",null,"","",null,"","",null,"","",null,"","",0,0,0,"No"]
[104,"",null,"","",null,"","",null,"","",null,"","",null,"","",0,0,0,"No"]
[105,"",null,"","",null,"","",null,"","",null,"","",null,"","",0,0,0,"No"]
[106,"",null,"","",null,"","",null,"","",null,"","",null,"","",0,0,0,"No"]
[107,"",null,"","",null,"","",null,"","",null,"","",null,"","",0,0,0,"No"]
[108,"",null,"","",null,"","",null,"","",null,"","",null,"","",0,0,0,"No"]
[109,"",null,"","",null,"","",null,"","",null,"","",null,"","",0,0,0,"No"]
[110,"",null,"","",null,"","",null,"","",null,"","",null,"","",0,0,0,"No"]
[111,"",null,"","",null,"","",null,"","",null,"","",null,"","",0,0,0,"No"]
[112,"",null,"","",null,"","",null,"","",null,"","",null,"","",0,0,0,"No"]
[113,"",null,"","",null,"","",null,"","",null,"","",null,"","",0,0,0,"No"]
[114,"",null,"","",null,"","",null,"","",null,"","",null,"","",0,0,0,"No"]
[115,"",null,"","",null,"","",null,"","",null,"","",null,"","",0,0,0,"No"]
[116,"",null,"","",null,"","",null,"","",null,"","",null,"","",0,0,0,"No"]
[117,"",null,"","",null,"","",null,"","",null,"","",null,"","",0,0,0,"No"]
[118,"",null,"","",null,"","",null,"","",null,"","",null,"","",0,0,0,"No"]
[119,"",null,"","",null,"","",null,"","",null,"","",null,"","",0,0,0,"No"]
[120,"",null,"","",null,"","",null,"","",null,"","",null,"","",0,0,0,"No"]
[121,"",null,"","",null,"","",null,"","",null,"","",null,"","",0,0,0,"No"]
[122,"",null,"","",null,"","",null,"","",null,"","",null,"","",0,0,0,"No"]
[123,"",null,"","",null,"","",null,"","",null,"","",null,"","",0,0,0,"No"]
[124,"",null,"","",null,"","",null,"","",null,"","",null,"","",0,0,0,"No"]
[125,"",null,"","",null,"","",null,"","",null,"","",null,"","",0,0,0,"No"]
[126,"",null,"","",null,"","",null,"","",null,"","",null,"","",0,0,0,"No"]
[127,"",null,"","",null,"","",null,"","",null,"","",null,"","",0,0,0,"No"]
[128,"",null,"","",null,"","",null,"","",null,"","",null,"","",0,0,0,"No"]
[129,"",null,"","",null,"","",null,"","",null,"","",null,"","",0,0,0,"No"]
[130,"",null,"","",null,"","",null,"","",null,"","",null,"","",0,0,0,"No"]
[131,"",null,"","",null,"","",null,"","",null,"","",null,"","",0,0,0,"No"]
[132,"",null,"","",null,"","",null,"","",null,"","",null,"","",0,0,0,"No"]
[133,"",null,"","",null,"","",null,"","",null,"","",null,"","",0,0,0,"No"]
[134,"",null,"","",null,"","",null,"","",null,"","",null,"","",0,0,0,"No"]
[135,"",null,"","",null,"","",null,"","",null,"","",null,"","",0,0,0,"No"]
[136,"",null,"","",null,"","",null,"","",null,"","",null,"","",0,0,0,"No"]
[137,"",null,"","",null,"","",null,"","",null,"","",null,"","",0,0,0,"No"]
[138,"",null,"","",null,"","",null,"","",null,"","",null,"","",0,0,0,"No"]
[139,"",null,"","",null,"","",null,"","",null,"","",null,"","",0,0,0,"No"]
[140,"",null,"","",null,"","",null,"","",null,"","",null,"","",0,0,0,"No"]
[141,"",null,"","",null,"","",null,"","",null,"","",null,"","",0,0,0,"No"]
[142,"",null,"","",null,"","",null,"","",null,"","",null,"","",0,0,0,"No"]
[143,"",null,"","",null,"","",null,"","",null,"","",null,"","",0,0,0,"No"]
[144,"",null,"","",null,"","",null,"","",null,"","",null,"","",0,0,0,"No"]
[145,"",null,"","",null,"","",null,"","",null,"","",null,"","",0,0,0,"No"]
[146,"",null,"","",null,"","",null,"","",null,"","",null,"","",0,0,0,"No"]
[147,"",null,"","",null,"","",null,"","",null,"","",null,"","",0,0,0,"No"]
[148,"",null,"","",null,"","",null,"","",null,"","",null,"","",0,0,0,"No"]
[149,"",null,"","",null,"","",null,"","",null,"","",null,"","",0,0,0,"No"]
[151,"",null,"","",null,"","",null,"","",null,"","",null,"","",0,0,0,"No"]
[152,"",null,"","",null,"","",null,"","",null,"","",null,"","",0,0,0,"No"]
[153,"",null,"","",null,"","",null,"","",null,"","",null,"","",0,0,0,"No"]
[154,"",null,"","",null,"","",null,"","",null,"","",null,"","",0,0,0,"No"]
[156,"",null,"","",null,"","",null,"","",null,"","",null,"","",0,0,0,"No"]
[157,"",null,"","",null,"","",null,"","",null,"","",null,"","",0,0,0,"No"]
[158,"",null,"","",null,"","",null,"","",null,"","",null,"","",0,0,0,"No"]
[159,"",null,"","",null,"","",null,"","",null,"","",null,"","",0,0,0,"No"]
[160,"",null,"","",null,"","",null,"","",null,"","",null,"","",0,0,0,"No"]
[161,"",null,"","",null,"","",null,"","",null,"","",null,"","",0,0,0,"No"]
[162,"",null,"","",null,"","",null,"","",null,"","",null,"","",0,0,0,"No"]
[163,"",null,"","",null,"","",null,"","",null,"","",null,"","",0,0,0,"No"]
[164,"",null,"","",null,"","",null,"","",null,"","",null,"","",0,0,0,"No"]
[165,"",null,"","",null,"","",null,"","",null,"","",null,"","",0,0,0,"No"]
[166,"",null,"","",null,"","",null,"","",null,"","",null,"","",0,0,0,"No"]
[167,"",null,"","",null,"","",null,"","",null,"","",null,"","",0,0,0,"No"]
[168,"",null,"","",null,"","",null,"","",null,"","",null,"","",0,0,0,"No"]
[169,"",null,"","",null,"","",null,"","",null,"","",null,"","",0,0,0,"No"]
[170,"",null,"","",null,"","",null,"","",null,"","",null,"","",0,0,0,"No"]
[171,"",null,"","",null,"","",null,"","",null,"","",null,"","",0,0,0,"No"]
[172,"",null,"","",null,"","",null,"","",null,"","",null,"","",0,0,0,"No"]
[173,"",null,"","",null,"","",null,"","",null,"","",null,"","",0,0,0,"No"]
[174,"",null,"","",null,"","",null,"","",null,"","",null,"","",0,0,0,"No"]
[175,"",null,"","",null,"","",null,"","",null,"","",null,"","",0,0,0,"No"]
[176,"",null,"","",null,"","",null,"","",null,"","",null,"","",0,0,0,"No"]
[177,"",null,"","",null,"","",null,"","",null,"","",null,"","",0,0,0,"No"]
[178,"",null,"","",null,"","",null,"","",null,"","",null,"","",0,0,0,"No"]
[2,"Crown Hills CC A",14,298,"N",null,0,"N",null,0,"N",null,0,"N",null,0,"N",14,1,0,"No"]
[180,"",null,"","",null,"","",null,"","",null,"","",null,"","",0,0,0,"No"]
[181,"",null,"","",null,"","",null,"","",null,"","",null,"","",0,0,0,"No"]
[182,"",null,"","",null,"","",null,"","",null,"","",null,"","",0,0,0,"No"]
[183,"",null,"","",null,"","",null,"","",null,"","",null,"","",0,0,0,"No"]
[184,"",null,"","",null,"","",null,"","",null,"","",null,"","",0,0,0,"No"]
[185,"",null,"","",null,"","",null,"","",null,"","",null,"","",0,0,0,"No"]
[186,"",null,"","",null,"","",null,"","",null,"","",null,"","",0,0,0,"No"]
[187,"",null,"","",null,"","",null,"","",null,"","",null,"","",0,0,0,"No"]
[188,"",null,"","",null,"","",null,"","",null,"","",null,"","",0,0,0,"No"]
[189,"",null,"","",null,"","",null,"","",null,"","",null,"","",0,0,0,"No"]
[190,"",null,"","",null,"","",null,"","",null,"","",null,"","",0,0,0,"No"]
[191,"",null,"","",null,"","",null,"","",null,"","",null,"","",0,0,0,"No"]
[192,"",null,"","",null,"","",null,"","",null,"","",null,"","",0,0,0,"No"]
[193,"",null,"","",null,"","",null,"","",null,"","",null,"","",0,0,0,"No"]
[194,"",null,"","",null,"","",null,"","",null,"","",null,"","",0,0,0,"No"]
[195,"",null,"","",null,"","",null,"","",null,"","",null,"","",0,0,0,"No"]
[196,"",null,"","",null,"","",null,"","",null,"","",null,"","",0,0,0,"No"]
[197,"",null,"","",null,"","",null,"","",null,"","",null,"","",0,0,0,"No"]
[198,"",null,"","",null,"","",null,"","",null,"","",null,"","",0,0,0,"No"]
[199,"",null,"","",null,"","",null,"","",null,"","",null,"","",0,0,0,"No"]
[200,"",null,"","",null,"","",null,"","",null,"","",null,"","",0,0,0,"No"]
[201,"",null,"","",null,"","",null,"","",null,"","",null,"","",0,0,0,"No"]
[202,"",null,"","",null,"","",null,"","",null,"","",null,"","",0,0,0,"No"]
[203,"",null,"","",null,"","",null,"","",null,"","",null,"","",0,0,0,"No"]
[204,"",null,"","",null,"","",null,"","",null,"","",null,"","",0,0,0,"No"]
[205,"",null,"","",null,"","",null,"","",null,"","",null,"","",0,0,0,"No"]
[207,"",null,"","",null,"","",null,"","",null,"","",null,"","",0,0,0,"No"]
[208,"",null,"","",null,"","",null,"","",null,"","",null,"","",0,0,0,"No"]
[209,"",null,"","",null,"","",null,"","",null,"","",null,"","",0,0,0,"No"]
[210,"",null,"","",null,"","",null,"","",null,"","",null,"","",0,0,0,"No"]
[211,"",null,"","",null,"","",null,"","",null,"","",null,"","",0,0,0,"No"]
[212,"",null,"","",null,"","",null,"","",null,"","",null,"","",0,0,0,"No"]
[213,"",null,"","",null,"","",null,"","",null,"","",null,"","",0,0,0,"No"]
[214,"",null,"","",null,"","",null,"","",null,"","",null,"","",0,0,0,"No"]
[215,"",null,"","",null,"","",null,"","",null,"","",null,"","",0,0,0,"No"]
[216,"",null,"","",null,"","",null,"","",null,"","",null,"","",0,0,0,"No"]
[217,"",null,"","",null,"","",null,"","",null,"","",null,"","",0,0,0,"No"]
[218,"",null,"","",null,"","",null,"","",null,"","",null,"","",0,0,0,"No"]
[219,"",null,"","",null,"","",null,"","",null,"","",null,"","",0,0,0,"No"]
[220,"",null,"","",null,"","",null,"","",null,"","",null,"","",0,0,0,"No"]
[221,"",null,"","",null,"","",null,"","",null,"","",null,"","",0,0,0,"No"]
[222,"",null,"","",null,"","",null,"","",null,"","",null,"","",0,0,0,"No"]
[223,"",null,"","",null,"","",null,"","",null,"","",null,"","",0,0,0,"No"]
[224,"",null,"","",null,"","",null,"","",null,"","",null,"","",0,0,0,"No"]
[225,"",null,"","",null,"","",null,"","",null,"","",null,"","",0,0,0,"No"]
[226,"",null,"","",null,"","",null,"","",null,"","",null,"","",0,0,0,"No"]
[227,"",null,"","",null,"","",null,"","",null,"","",null,"","",0,0,0,"No"]
[228,"",null,"","",null,"","",null,"","",null,"","",null,"","",0,0,0,"No"]
[229,"",null,"","",null,"","",null,"","",null,"","",null,"","",0,0,0,"No"]
[230,"",null,"","",null,"","",null,"","",null,"","",null,"","",0,0,0,"No"]
[231,"",null,"","",null,"","",null,"","",null,"","",null,"","",0,0,0,"No"]
[232,"",null,"","",null,"","",null,"","",null,"","",null,"","",0,0,0,"No"]
[233,"",null,"","",null,"","",null,"","",null,"","",null,"","",0,0,0,"No"]
[234,"",null,"","",null,"","",null,"","",null,"","",null,"","",0,0,0,"No"]
[235,"",null,"","",null,"","",null,"","",null,"","",null,"","",0,0,0,"No"]
[236,"",null,"","",null,"","",null,"","",null,"","",null,"","",0,0,0,"No"]
[237,"",null,"","",null,"","",null,"","",null,"","",null,"","",0,0,0,"No"]
[238,"",null,"","",null,"","",null,"","",null,"","",null,"","",0,0,0,"No"]
[239,"",null,"","",null,"","",null,"","",null,"","",null,"","",0,0,0,"No"]
[240,"",null,"","",null,"","",null,"","",null,"","",null,"","",0,0,0,"No"]
[241,"",null,"","",null,"","",null,"","",null,"","",null,"","",0,0,0,"No"]
[242,"",null,"","",null,"","",null,"","",null,"","",null,"","",0,0,0,"No"]
[243,"",null,"","",null,"","",null,"","",null,"","",null,"","",0,0,0,"No"]
[244,"",null,"","",null,"","",null,"","",null,"","",null,"","",0,0,0,"No"]
[245,"",null,"","",null,"","",null,"","",null,"","",null,"","",0,0,0,"No"]
[246,"",null,"","",null,"","",null,"","",null,"","",null,"","",0,0,0,"No"]
[247,"",null,"","",null,"","",null,"","",null,"","",null,"","",0,0,0,"No"]
[248,"",null,"","",null,"","",null,"","",null,"","",null,"","",0,0,0,"No"]
[249,"",null,"","",null,"","",null,"","",null,"","",null,"","",0,0,0,"No"]
[250,"",null,"","",null,"","",null,"","",null,"","",null,"","",0,0,0,"No"]
[251,"",null,"","",null,"","",null,"","",null,"","",null,"","",0,0,0,"No"]
[252,"",null,"","",null,"","",null,"","",null,"","",null,"","",0,0,0,"No"]
[253,"",null,"","",null,"","",null,"","",null,"","",null,"","",0,0,0,"No"]
[255,"",null,"","",null,"","",null,"","",null,"","",null,"","",0,0,0,"No"]
[256,"",null,"","",null,"","",null,"","",null,"","",null,"","",0,0,0,"No"]
[1,"Crown Hills CC B",15,314,"Y",null,0,"N",null,0,"N",null,0,"N",null,0,"N",15,1,1,"No"]
[258,"",null,"","",null,"","",null,"","",null,"","",null,"","",0,0,0,"No"]
[259,"",null,"","",null,"","",null,"","",null,"","",null,"","",0,0,0,"No"]
[260,"",null,"","",null,"","",null,"","",null,"","",null,"","",0,0,0,"No"]
[261,"",null,"","",null,"","",null,"","",null,"","",null,"","",0,0,0,"No"]
[262,"",null,"","",null,"","",null,"","",null,"","",null,"","",0,0,0,"No"]
[263,"",null,"","",null,"","",null,"","",null,"","",null,"","",0,0,0,"No"]
[264,"",null,"","",null,"","",null,"","",null,"","",null,"","",0,0,0,"No"]
[265,"",null,"","",null,"","",null,"","",null,"","",null,"","",0,0,0,"No"]
[266,"",null,"","",null,"","",null,"","",null,"","",null,"","",0,0,0,"No"]
[267,"",null,"","",null,"","",null,"","",null,"","",null,"","",0,0,0,"No"]
[268,"",null,"","",null,"","",null,"","",null,"","",null,"","",0,0,0,"No"]
[269,"",null,"","",null,"","",null,"","",null,"","",null,"","",0,0,0,"No"]
[270,"",null,"","",null,"","",null,"","",null,"","",null,"","",0,0,0,"No"]
[271,"",null,"","",null,"","",null,"","",null,"","",null,"","",0,0,0,"No"]
[272,"",null,"","",null,"","",null,"","",null,"","",null,"","",0,0,0,"No"]
[273,"",null,"","",null,"","",null,"","",null,"","",null,"","",0,0,0,"No"]
[274,"",null,"","",null,"","",null,"","",null,"","",null,"","",0,0,0,"No"]
[276,"",null,"","",null,"","",null,"","",null,"","",null,"","",0,0,0,"No"]
[277,"",null,"","",null,"","",null,"","",null,"","",null,"","",0,0,0,"No"]
[278,"",null,"","",null,"","",null,"","",null,"","",null,"","",0,0,0,"No"]
[279,"",null,"","",null,"","",null,"","",null,"","",null,"","",0,0,0,"No"]
[280,"",null,"","",null,"","",null,"","",null,"","",null,"","",0,0,0,"No"]
[281,"",null,"","",null,"","",null,"","",null,"","",null,"","",0,0,0,"No"]
[282,"",null,"","",null,"","",null,"","",null,"","",null,"","",0,0,0,"No"]
[283,"",null,"","",null,"","",null,"","",null,"","",null,"","",0,0,0,"No"]
[284,"",null,"","",null,"","",null,"","",null,"","",null,"","",0,0,0,"No"]
[285,"",null,"","",null,"","",null,"","",null,"","",null,"","",0,0,0,"No"]
[286,"",null,"","",null,"","",null,"","",null,"","",null,"","",0,0,0,"No"]
[287,"",null,"","",null,"","",null,"","",null,"","",null,"","",0,0,0,"No"]
[288,"",null,"","",null,"","",null,"","",null,"","",null,"","",0,0,0,"No"]
[289,"",null,"","",null,"","",null,"","",null,"","",null,"","",0,0,0,"No"]
[290,"",null,"","",null,"","",null,"","",null,"","",null,"","",0,0,0,"No"]
[291,"",null,"","",null,"","",null,"","",null,"","",null,"","",0,0,0,"No"]
[292,"",null,"","",null,"","",null,"","",null,"","",null,"","",0,0,0,"No"]
[293,"",null,"","",null,"","",null,"","",null,"","",null,"","",0,0,0,"No"]
[294,"",null,"","",null,"","",null,"","",null,"","",null,"","",0,0,0,"No"]
[295,"",null,"","",null,"","",null,"","",null,"","",null,"","",0,0,0,"No"]
[296,"",null,"","",null,"","",null,"","",null,"","",null,"","",0,0,0,"No"]
[297,"",null,"","",null,"","",null,"","",null,"","",null,"","",0,0,0,"No"]
[298,"",null,"","",null,"","",null,"","",null,"","",null,"","",0,0,0,"No"]
[299,"",null,"","",null,"","",null,"","",null,"","",null,"","",0,0,0,"No"]
[300,"",null,"","",null,"","",null,"","",null,"","",null,"","",0,0,0,"No"]
[301,"",null,"","",null,"","",null,"","",null,"","",null,"","",0,0,0,"No"]
[302,"",null,"","",null,"","",null,"","",null,"","",null,"","",0,0,0,"No"]
[303,"",null,"","",null,"","",null,"","",null,"","",null,"","",0,0,0,"No"]
[304,"",null,"","",null,"","",null,"","",null,"","",null,"","",0,0,0,"No"]
[305,"",null,"","",null,"","",null,"","",null,"","",null,"","",0,0,0,"No"]
[306,"",null,"","",null,"","",null,"","",null,"","",null,"","",0,0,0,"No"]
[307,"",null,"","",null,"","",null,"","",null,"","",null,"","",0,0,0,"No"]
[308,"",null,"","",null,"","",null,"","",null,"","",null,"","",0,0,0,"No"]
[309,"",null,"","",null,"","",null,"","",null,"","",null,"","",0,0,0,"No"]
[310,"",null,"","",null,"","",null,"","",null,"","",null,"","",0,0,0,"No"]
[311,"",null,"","",null,"","",null,"","",null,"","",null,"","",0,0,0,"No"]
[312,"",null,"","",null,"","",null,"","",null,"","",null,"","",0,0,0,"No"]
[313,"",null,"","",null,"","",null,"","",null,"","",null,"","",0,0,0,"No"]
[314,"",null,"","",null,"","",null,"","",null,"","",null,"","",0,0,0,"No"]
[315,"",null,"","",null,"","",null,"","",null,"","",null,"","",0,0,0,"No"]
[316,"",null,"","",null,"","",null,"","",null,"","",null,"","",0,0,0,"No"]
[317,"",null,"","",null,"","",null,"","",null,"","",null,"","",0,0,0,"No"]
[318,"",null,"","",null,"","",null,"","",null,"","",null,"","",0,0,0,"No"]
[319,"",null,"","",null,"","",null,"","",null,"","",null,"","",0,0,0,"No"]
[320,"",null,"","",null,"","",null,"","",null,"","",null,"","",0,0,0,"No"]
[321,"",null,"","",null,"","",null,"","",null,"","",null,"","",0,0,0,"No"]
[322,"",null,"","",null,"","",null,"","",null,"","",null,"","",0,0,0,"No"]
[323,"",null,"","",null,"","",null,"","",null,"","",null,"","",0,0,0,"No"]
[324,"",null,"","",null,"","",null,"","",null,"","",null,"","",0,0,0,"No"]
[325,"",null,"","",null,"","",null,"","",null,"","",null,"","",0,0,0,"No"]
[326,"",null,"","",null,"","",null,"","",null,"","",null,"","",0,0,0,"No"]
[327,"",null,"","",null,"","",null,"","",null,"","",null,"","",0,0,0,"No"]
[328,"",null,"","",null,"","",null,"","",null,"","",null,"","",0,0,0,"No"]
[329,"",null,"","",null,"","",null,"","",null,"","",null,"","",0,0,0,"No"]
[330,"",null,"","",null,"","",null,"","",null,"","",null,"","",0,0,0,"No"]
[331,"",null,"","",null,"","",null,"","",null,"","",null,"","",0,0,0,"No"]
[332,"",null,"","",null,"","",null,"","",null,"","",null,"","",0,0,0,"No"]
[333,"",null,"","",null,"","",null,"","",null,"","",null,"","",0,0,0,"No"]
[334,"",null,"","",null,"","",null,"","",null,"","",null,"","",0,0,0,"No"]
[335,"",null,"","",null,"","",null,"","",null,"","",null,"","",0,0,0,"No"]
[336,"",null,"","",null,"","",null,"","",null,"","",null,"","",0,0,0,"No"]
[337,"",null,"","",null,"","",null,"","",null,"","",null,"","",0,0,0,"No"]
[338,"",null,"","",null,"","",null,"","",null,"","",null,"","",0,0,0,"No"]
[339,"",null,"","",null,"","",null,"","",null,"","",null,"","",0,0,0,"No"]
[340,"",null,"","",null,"","",null,"","",null,"","",null,"","",0,0,0,"No"]
[341,"",null,"","",null,"","",null,"","",null,"","",null,"","",0,0,0,"No"]
[342,"",null,"","",null,"","",null,"","",null,"","",null,"","",0,0,0,"No"]
[343,"",null,"","",null,"","",null,"","",null,"","",null,"","",0,0,0,"No"]
[344,"",null,"","",null,"","",null,"","",null,"","",null,"","",0,0,0,"No"]
[345,"",null,"","",null,"","",null,"","",null,"","",null,"","",0,0,0,"No"]
[346,"",null,"","",null,"","",null,"","",null,"","",null,"","",0,0,0,"No"]
[347,"",null,"","",null,"","",null,"","",null,"","",null,"","",0,0,0,"No"]
[348,"",null,"","",null,"","",null,"","",null,"","",null,"","",0,0,0,"No"]
[349,"",null,"","",null,"","",null,"","",null,"","",null,"","",0,0,0,"No"]
[350,"",null,"","",null,"","",null,"","",null,"","",null,"","",0,0,0,"No"]
[351,"",null,"","",null,"","",null,"","",null,"","",null,"","",0,0,0,"No"]
[352,"",null,"","",null,"","",null,"","",null,"","",null,"","",0,0,0,"No"]
[353,"",null,"","",null,"","",null,"","",null,"","",null,"","",0,0,0,"No"]
[354,"",null,"","",null,"","",null,"","",null,"","",null,"","",0,0,0,"No"]
[355,"",null,"","",null,"","",null,"","",null,"","",null,"","",0,0,0,"No"]
[356,"",null,"","",null,"","",null,"","",null,"","",null,"","",0,0,0,"No"]
[357,"",null,"","",null,"","",null,"","",null,"","",null,"","",0,0,0,"No"]
[358,"",null,"","",null,"","",null,"","",null,"","",null,"","",0,0,0,"No"]
[359,"",null,"","",null,"","",null,"","",null,"","",null,"","",0,0,0,"No"]
[360,"",null,"","",null,"","",null,"","",null,"","",null,"","",0,0,0,"No"]
[361,"",null,"","",null,"","",null,"","",null,"","",null,"","",0,0,0,"No"]
[362,"",null,"","",null,"","",null,"","",null,"","",null,"","",0,0,0,"No"]
[363,"",null,"","",null,"","",null,"","",null,"","",null,"","",0,0,0,"No"]
[364,"",null,"","",null,"","",null,"","",null,"","",null,"","",0,0,0,"No"]
[365,"",null,"","",null,"","",null,"","",null,"","",null,"","",0,0,0,"No"]
[366,"",null,"","",null,"","",null,"","",null,"","",null,"","",0,0,0,"No"]
[367,"",null,"","",null,"","",null,"","",null,"","",null,"","",0,0,0,"No"]
[368,"",null,"","",null,"","",null,"","",null,"","",null,"","",0,0,0,"No"]
[369,"",null,"","",null,"","",null,"","",null,"","",null,"","",0,0,0,"No"]
[370,"",null,"","",null,"","",null,"","",null,"","",null,"","",0,0,0,"No"]
[371,"",null,"","",null,"","",null,"","",null,"","",null,"","",0,0,0,"No"]
[372,"",null,"","",null,"","",null,"","",null,"","",null,"","",0,0,0,"No"]
[373,"",null,"","",null,"","",null,"","",null,"","",null,"","",0,0,0,"No"]
[374,"",null,"","",null,"","",null,"","",null,"","",null,"","",0,0,0,"No"]
[375,"",null,"","",null,"","",null,"","",null,"","",null,"","",0,0,0,"No"]
[376,"",null,"","",null,"","",null,"","",null,"","",null,"","",0,0,0,"No"]
[377,"",null,"","",null,"","",null,"","",null,"","",null,"","",0,0,0,"No"]
[378,"",null,"","",null,"","",null,"","",null,"","",null,"","",0,0,0,"No"]
[379,"",null,"","",null,"","",null,"","",null,"","",null,"","",0,0,0,"No"]
[380,"",null,"","",null,"","",null,"","",null,"","",null,"","",0,0,0,"No"]
[381,"",null,"","",null,"","",null,"","",null,"","",null,"","",0,0,0,"No"]
[382,"",null,"","",null,"","",null,"","",null,"","",null,"","",0,0,0,"No"]
[383,"",null,"","",null,"","",null,"","",null,"","",null,"","",0,0,0,"No"]
[384,"",null,"","",null,"","",null,"","",null,"","",null,"","",0,0,0,"No"]
[385,"",null,"","",null,"","",null,"","",null,"","",null,"","",0,0,0,"No"]
[386,"",null,"","",null,"","",null,"","",null,"","",null,"","",0,0,0,"No"]
[387,"",null,"","",null,"","",null,"","",null,"","",null,"","",0,0,0,"No"]
[388,"",null,"","",null,"","",null,"","",null,"","",null,"","",0,0,0,"No"]
[389,"",null,"","",null,"","",null,"","",null,"","",null,"","",0,0,0,"No"]
[390,"",null,"","",null,"","",null,"","",null,"","",null,"","",0,0,0,"No"]
[391,"",null,"","",null,"","",null,"","",null,"","",null,"","",0,0,0,"No"]
[392,"",null,"","",null,"","",null,"","",null,"","",null,"","",0,0,0,"No"]
[393,"",null,"","",null,"","",null,"","",null,"","",null,"","",0,0,0,"No"]
[394,"",null,"","",null,"","",null,"","",null,"","",null,"","",0,0,0,"No"]
[395,"",null,"","",null,"","",null,"","",null,"","",null,"","",0,0,0,"No"]
[396,"",null,"","",null,"","",null,"","",null,"","",null,"","",0,0,0,"No"]
[397,"",null,"","",null,"","",null,"","",null,"","",null,"","",0,0,0,"No"]
[398,"",null,"","",null,"","",null,"","",null,"","",null,"","",0,0,0,"No"]
[399,"",null,"","",null,"","",null,"","",null,"","",null,"","",0,0,0,"No"]
[400,"",null,"","",null,"","",null,"","",null,"","",null,"","",0,0,0,"No"]
[401,"",null,"","",null,"","",null,"","",null,"","",null,"","",0,0,0,"No"]
[402,"",null,"","",null,"","",null,"","",null,"","",null,"","",0,0,0,"No"]
[403,"",null,"","",null,"","",null,"","",null,"","",null,"","",0,0,0,"No"]
[404,"",null,"","",null,"","",null,"","",null,"","",null,"","",0,0,0,"No"]
[405,"",null,"","",null,"","",null,"","",null,"","",null,"","",0,0,0,"No"]
[406,"",null,"","",null,"","",null,"","",null,"","",null,"","",0,0,0,"No"]
[407,"",null,"","",null,"","",null,"","",null,"","",null,"","",0,0,0,"No"]
[408,"",null,"","",null,"","",null,"","",null,"","",null,"","",0,0,0,"No"]
[409,"",null,"","",null,"","",null,"","",null,"","",null,"","",0,0,0,"No"]
[410,"",null,"","",null,"","",null,"","",null,"","",null,"","",0,0,0,"No"]
[411,"",null,"","",null,"","",null,"","",null,"","",null,"","",0,0,0,"No"]
[412,"",null,"","",null,"","",null,"","",null,"","",null,"","",0,0,0,"No"]
[413,"",null,"","",null,"","",null,"","",null,"","",null,"","",0,0,0,"No"]
[414,"",null,"","",null,"","",null,"","",null,"","",null,"","",0,0,0,"No"]
[415,"",null,"","",null,"","",null,"","",null,"","",null,"","",0,0,0,"No"]
[416,"",null,"","",null,"","",null,"","",null,"","",null,"","",0,0,0,"No"]
[417,"",null,"","",null,"","",null,"","",null,"","",null,"","",0,0,0,"No"]
[418,"",null,"","",null,"","",null,"","",null,"","",null,"","",0,0,0,"No"]
[419,"",null,"","",null,"","",null,"","",null,"","",null,"","",0,0,0,"No"]
[420,"",null,"","",null,"","",null,"","",null,"","",null,"","",0,0,0,"No"]
[421,"",null,"","",null,"","",null,"","",null,"","",null,"","",0,0,0,"No"]
[422,"",null,"","",null,"","",null,"","",null,"","",null,"","",0,0,0,"No"]
[423,"",null,"","",null,"","",null,"","",null,"","",null,"","",0,0,0,"No"]
[424,"",null,"","",null,"","",null,"","",null,"","",null,"","",0,0,0,"No"]
[425,"",null,"","",null,"","",null,"","",null,"","",null,"","",0,0,0,"No"]
[426,"",null,"","",null,"","",null,"","",null,"","",null,"","",0,0,0,"No"]
[427,"",null,"","",null,"","",null,"","",null,"","",null,"","",0,0,0,"No"]
[428,"",null,"","",null,"","",null,"","",null,"","",null,"","",0,0,0,"No"]
[429,"",null,"","",null,"","",null,"","",null,"","",null,"","",0,0,0,"No"]
[430,"",null,"","",null,"","",null,"","",null,"","",null,"","",0,0,0,"No"]
[431,"",null,"","",null,"","",null,"","",null,"","",null,"","",0,0,0,"No"]
[432,"",null,"","",null,"","",null,"","",null,"","",null,"","",0,0,0,"No"]
[433,"",null,"","",null,"","",null,"","",null,"","",null,"","",0,0,0,"No"]
[434,"",null,"","",null,"","",null,"","",null,"","",null,"","",0,0,0,"No"]
[435,"",null,"","",null,"","",null,"","",null,"","",null,"","",0,0,0,"No"]
[436,"",null,"","",null,"","",null,"","",null,"","",null,"","",0,0,0,"No"]
[437,"",null,"","",null,"","",null,"","",null,"","",null,"","",0,0,0,"No"]
[438,"",null,"","",null,"","",null,"","",null,"","",null,"","",0,0,0,"No"]
[439,"",null,"","",null,"","",null,"","",null,"","",null,"","",0,0,0,"No"]
[440,"",null,"","",null,"","",null,"","",null,"","",null,"","",0,0,0,"No"]
[441,"",null,"","",null,"","",null,"","",null,"","",null,"","",0,0,0,"No"]
[442,"",null,"","",null,"","",null,"","",null,"","",null,"","",0,0,0,"No"]
[443,"",null,"","",null,"","",null,"","",null,"","",null,"","",0,0,0,"No"]
[444,"",null,"","",null,"","",null,"","",null,"","",null,"","",0,0,0,"No"]
[445,"",null,"","",null,"","",null,"","",null,"","",null,"","",0,0,0,"No"]
[446,"",null,"","",null,"","",null,"","",null,"","",null,"","",0,0,0,"No"]
[447,"",null,"","",null,"","",null,"","",null,"","",null,"","",0,0,0,"No"]
[448,"",null,"","",null,"","",null,"","",null,"","",null,"","",0,0,0,"No"]
[449,"",null,"","",null,"","",null,"","",null,"","",null,"","",0,0,0,"No"]
[450,"",null,"","",null,"","",null,"","",null,"","",null,"","",0,0,0,"No"]
[451,"",null,"","",null,"","",null,"","",null,"","",null,"","",0,0,0,"No"]
[452,"",null,"","",null,"","",null,"","",null,"","",null,"","",0,0,0,"No"]
[453,"",null,"","",null,"","",null,"","",null,"","",null,"","",0,0,0,"No"]
[454,"",null,"","",null,"","",null,"","",null,"","",null,"","",0,0,0,"No"]
[455,"",null,"","",null,"","",null,"","",null,"","",null,"","",0,0,0,"No"]
[456,"",null,"","",null,"","",null,"","",null,"","",null,"","",0,0,0,"No"]
[457,"",null,"","",null,"","",null,"","",null,"","",null,"","",0,0,0,"No"]
[458,"",null,"","",null,"","",null,"","",null,"","",null,"","",0,0,0,"No"]
[459,"",null,"","",null,"","",null,"","",null,"","",null,"","",0,0,0,"No"]
[460,"",null,"","",null,"","",null,"","",null,"","",null,"","",0,0,0,"No"]
[461,"",null,"","",null,"","",null,"","",null,"","",null,"","",0,0,0,"No"]
[462,"",null,"","",null,"","",null,"","",null,"","",null,"","",0,0,0,"No"]
[463,"",null,"","",null,"","",null,"","",null,"","",null,"","",0,0,0,"No"]
[464,"",null,"","",null,"","",null,"","",null,"","",null,"","",0,0,0,"No"]
[465,"",null,"","",null,"","",null,"","",null,"","",null,"","",0,0,0,"No"]
[466,"",null,"","",null,"","",null,"","",null,"","",null,"","",0,0,0,"No"]
[467,"",null,"","",null,"","",null,"","",null,"","",null,"","",0,0,0,"No"]
[468,"",null,"","",null,"","",null,"","",null,"","",null,"","",0,0,0,"No"]
[469,"",null,"","",null,"","",null,"","",null,"","",null,"","",0,0,0,"No"]
[470,"",null,"","",null,"","",null,"","",null,"","",null,"","",0,0,0,"No"]
[471,"",null,"","",null,"","",null,"","",null,"","",null,"","",0,0,0,"No"]
[472,"",null,"","",null,"","",null,"","",null,"","",null,"","",0,0,0,"No"]
[473,"",null,"","",null,"","",null,"","",null,"","",null,"","",0,0,0,"No"]
[474,"",null,"","",null,"","",null,"","",null,"","",null,"","",0,0,0,"No"]
[475,"",null,"","",null,"","",null,"","",null,"","",null,"","",0,0,0,"No"]
[476,"",null,"","",null,"","",null,"","",null,"","",null,"","",0,0,0,"No"]
[477,"",null,"","",null,"","",null,"","",null,"","",null,"","",0,0,0,"No"]
[478,"",null,"","",null,"","",null,"","",null,"","",null,"","",0,0,0,"No"]
[479,"",null,"","",null,"","",null,"","",null,"","",null,"","",0,0,0,"No"]
[480,"",null,"","",null,"","",null,"","",null,"","",null,"","",0,0,0,"No"]
[481,"",null,"","",null,"","",null,"","",null,"","",null,"","",0,0,0,"No"]
[482,"",null,"","",null,"","",null,"","",null,"","",null,"","",0,0,0,"No"]
[483,"",null,"","",null,"","",null,"","",null,"","",null,"","",0,0,0,"No"]
[484,"",null,"","",null,"","",null,"","",null,"","",null,"","",0,0,0,"No"]
[485,"",null,"","",null,"","",null,"","",null,"","",null,"","",0,0,0,"No"]
[486,"",null,"","",null,"","",null,"","",null,"","",null,"","",0,0,0,"No"]
[487,"",null,"","",null,"","",null,"","",null,"","",null,"","",0,0,0,"No"]
[488,"",null,"","",null,"","",null,"","",null,"","",null,"","",0,0,0,"No"]
[489,"",null,"","",null,"","",null,"","",null,"","",null,"","",0,0,0,"No"]
[490,"",null,"","",null,"","",null,"","",null,"","",null,"","",0,0,0,"No"]
[491,"",null,"","",null,"","",null,"","",null,"","",null,"","",0,0,0,"No"]
[492,"",null,"","",null,"","",null,"","",null,"","",null,"","",0,0,0,"No"]
[493,"",null,"","",null,"","",null,"","",null,"","",null,"","",0,0,0,"No"]
[494,"",null,"","",null,"","",null,"","",null,"","",null,"","",0,0,0,"No"]
[495,"",null,"","",null,"","",null,"","",null,"","",null,"","",0,0,0,"No"]
[496,"",null,"","",null,"","",null,"","",null,"","",null,"","",0,0,0,"No"]
[497,"",null,"","",null,"","",null,"","",null,"","",null,"","",0,0,0,"No"]
[498,"",null,"","",null,"","",null,"","",null,"","",null,"","",0,0,0,"No"]
[499,"",null,"","",null,"","",null,"","",null,"","",null,"","",0,0,0,"No"]
[500,"",null,"","",null,"","",null,"","",null,"","",null,"","",0,0,0,"No"]
[]
["Reference","JB Teams","Position (Race 1)","Result (Race 1)","Claimed LP (1)","Position (Race 2)","Result (Race 2)","Claimed LP(2)","Position (Race 3)","Result (Race 3)","Claimed LP (3)","Position (Race 4)","Result (Race 4)","Claimed LP (4)","Position (Race 5)","Result (Race 5)","Claimed LP (5)","Total (All Races)","Races Completed","No. claimed LP","Eligible"]
[12,"Welland Park Academy A",1,57,"N",null,0,"N",3,87,"Y",1,51,"N",null,0,"N",5,3,1,"Yes"]
[9,"Catmose College A",4,116,"N",1,59,"N",1,64,"N",2,65,"N",null,0,"N",8,4,0,"Yes"]
[50,"Brookvale High School A",null,0,"N",null,0,"N",2,80,"Y",3,68,"Y",null,0,"N",5,2,2,"No"]
[10,"Uppingham CC A",3,105,"N",6,118,"Y",5,103,"N",4,116,"Y",null,0,"N",18,4,2,"Yes"]
[7,"John Ferneley College A",6,131,"N",2,74,"N",6,108,"N",5,121,"N",null,0,"N",19,4,0,"Yes"]
[35,"",null,"","",null,"","",null,"","",null,"","",null,"","",0,0,0,"No"]
[5,"Loughborough Grammar School A",8,169,"N",5,106,"N",4,97,"N",6,123,"N",null,0,"N",23,4,0,"Yes"]
[40,"",null,"","",null,"","",null,"","",null,"","",null,"","",0,0,0,"No"]
[38,"Brockington College A",null,0,"N",3,90,"N",6,108,"N",null,0,"N",null,0,"N",9,2,0,"No"]
[196,"",null,"","",null,"","",null,"","",null,"","",null,"","",0,0,0,"No"]
[8,"De Lisle College A",5,130,"N",7,130,"Y",8,123,"Y",null,0,"N",null,0,"N",20,3,2,"No"]
[82,"Catmose College B",null,0,"N",null,0,"N",9,133,"N",null,0,"N",null,0,"N",9,1,0,"No"]
[13,"",null,"","",null,"","",null,"","",null,"","",null,"","",0,0,0,"No"]
[14,"",null,"","",null,"","",null,"","",null,"","",null,"","",0,0,0,"No"]
[15,"",null,"","",null,"","",null,"","",null,"","",null,"","",0,0,0,"No"]
[16,"",null,"","",null,"","",null,"","",null,"","",null,"","",0,0,0,"No"]
[17,"",null,"","",null,"","",null,"","",null,"","",null,"","",0,0,0,"No"]
[18,"",null,"","",null,"","",null,"","",null,"","",null,"","",0,0,0,"No"]
[19,"",null,"","",null,"","",null,"","",null,"","",null,"","",0,0,0,"No"]
[20,"",null,"","",null,"","",null,"","",null,"","",null,"","",0,0,0,"No"]
[21,"",null,"","",null,"","",null,"","",null,"","",null,"","",0,0,0,"No"]
[22,"",null,"","",null,"","",null,"","",null,"","",null,"","",0,0,0,"No"]
[23,"",null,"","",null,"","",null,"","",null,"","",null,"","",0,0,0,"No"]
[24,"",null,"","",null,"","",null,"","",null,"","",null,"","",0,0,0,"No"]
[25,"",null,"","",null,"","",null,"","",null,"","",null,"","",0,0,0,"No"]
[26,"",null,"","",null,"","",null,"","",null,"","",null,"","",0,0,0,"No"]
[27,"",null,"","",null,"","",null,"","",null,"","",null,"","",0,0,0,"No"]
[28,"",null,"","",null,"","",null,"","",null,"","",null,"","",0,0,0,"No"]
[29,"",null,"","",null,"","",null,"","",null,"","",null,"","",0,0,0,"No"]
[30,"",null,"","",null,"","",null,"","",null,"","",null,"","",0,0,0,"No"]
[31,"",null,"","",null,"","",null,"","",null,"","",null,"","",0,0,0,"No"]
[32,"",null,"","",null,"","",null,"","",null,"","",null,"","",0,0,0,"No"]
[33,"",null,"","",null,"","",null,"","",null,"","",null,"","",0,0,0,"No"]
[34,"",null,"","",null,"","",null,"","",null,"","",null,"","",0,0,0,"No"]
[11,"Thomas Estley CC A",2,72,"N",4,97,"Y",null,0,"N",null,0,"N",null,0,"N",6,2,1,"No"]
[36,"",null,"","",null,"","",null,"","",null,"","",null,"","",0,0,0,"No"]
[37,"",null,"","",null,"","",null,"","",null,"","",null,"","",0,0,0,"No"]
[2,"St Pauls Catholic School A",11,221,"Y",8,148,"Y",null,0,"N",null,0,"N",null,0,"N",19,2,2,"No"]
[3,"Castle Rock High School A",10,206,"Y",9,156,"Y",null,0,"N",null,0,"N",null,0,"N",19,2,2,"No"]
[284,"Lutterworth College A",null,0,"N",10,168,"Y",null,0,"N",null,0,"N",null,0,"N",10,1,1,"No"]
[41,"",null,"","",null,"","",null,"","",null,"","",null,"","",0,0,0,"No"]
[42,"",null,"","",null,"","",null,"","",null,"","",null,"","",0,0,0,"No"]
[43,"",null,"","",null,"","",null,"","",null,"","",null,"","",0,0,0,"No"]
[44,"",null,"","",null,"","",null,"","",null,"","",null,"","",0,0,0,"No"]
[45,"",null,"","",null,"","",null,"","",null,"","",null,"","",0,0,0,"No"]
[46,"",null,"","",null,"","",null,"","",null,"","",null,"","",0,0,0,"No"]
[47,"",null,"","",null,"","",null,"","",null,"","",null,"","",0,0,0,"No"]
[48,"",null,"","",null,"","",null,"","",null,"","",null,"","",0,0,0,"No"]
[49,"",null,"","",null,"","",null,"","",null,"","",null,"","",0,0,0,"No"]
[6,"The Martin High School A",7,149,"N",null,0,"N",null,0,"N",null,0,"N",null,0,"N",7,1,0,"No"]
[51,"",null,"","",null,"","",null,"","",null,"","",null,"","",0,0,0,"No"]
[52,"",null,"","",null,"","",null,"","",null,"","",null,"","",0,0,0,"No"]
[53,"",null,"","",null,"","",null,"","",null,"","",null,"","",0,0,0,"No"]
[54,"",null,"","",null,"","",null,"","",null,"","",null,"","",0,0,0,"No"]
[55,"",null,"","",null,"","",null,"","",null,"","",null,"","",0,0,0,"No"]
[4,"Thomas Estley CC B",9,194,"Y",null,0,"N",null,0,"N",null,0,"N",null,0,"N",9,1,1,"No"]
[57,"",null,"","",null,"","",null,"","",null,"","",null,"","",0,0,0,"No"]
[58,"",null,"","",null,"","",null,"","",null,"","",null,"","",0,0,0,"No"]
[59,"",null,"","",null,"","",null,"","",null,"","",null,"","",0,0,0,"No"]
[60,"",null,"","",null,"","",null,"","",null,"","",null,"","",0,0,0,"No"]
[61,"",null,"","",null,"","",null,"","",null,"","",null,"","",0,0,0,"No"]
[62,"",null,"","",null,"","",null,"","",null,"","",null,"","",0,0,0,"No"]
[63,"",null,"","",null,"","",null,"","",null,"","",null,"","",0,0,0,"No"]
[64,"",null,"","",null,"","",null,"","",null,"","",null,"","",0,0,0,"No"]
[65,"",null,"","",null,"","",null,"","",null,"","",null,"","",0,0,0,"No"]
[66,"",null,"","",null,"","",null,"","",null,"","",null,"","",0,0,0,"No"]
[67,"",null,"","",null,"","",null,"","",null,"","",null,"","",0,0,0,"No"]
[68,"",null,"","",null,"","",null,"","",null,"","",null,"","",0,0,0,"No"]
[69,"",null,"","",null,"","",null,"","",null,"","",null,"","",0,0,0,"No"]
[70,"",null,"","",null,"","",null,"","",null,"","",null,"","",0,0,0,"No"]
[71,"",null,"","",null,"","",null,"","",null,"","",null,"","",0,0,0,"No"]
[72,"",null,"","",null,"","",null,"","",null,"","",null,"","",0,0,0,"No"]
[73,"",null,"","",null,"","",null,"","",null,"","",null,"","",0,0,0,"No"]
[74,"",null,"","",null,"","",null,"","",null,"","",null,"","",0,0,0,"No"]
[75,"",null,"","",null,"","",null,"","",null,"","",null,"","",0,0,0,"No"]
[76,"",null,"","",null,"","",null,"","",null,"","",null,"","",0,0,0,"No"]
[77,"",null,"","",null,"","",null,"","",null,"","",null,"","",0,0,0,"No"]
[78,"",null,"","",null,"","",null,"","",null,"","",null,"","",0,0,0,"No"]
[79,"",null,"","",null,"","",null,"","",null,"","",null,"","",0,0,0,"No"]
[80,"",null,"","",null,"","",null,"","",null,"","",null,"","",0,0,0,"No"]
[81,"",null,"","",null,"","",null,"","",null,"","",null,"","",0,0,0,"No"]
[1,"John Ferneley College B",12,267,"Y",null,0,"N",null,0,"N",null,0,"N",null,0,"N",12,1,1,"No"]
[83,"",null,"","",null,"","",null,"","",null,"","",null,"","",0,0,0,"No"]
[84,"",null,"","",null,"","",null,"","",null,"","",null,"","",0,0,0,"No"]
[85,"",null,"","",null,"","",null,"","",null,"","",null,"","",0,0,0,"No"]
[86,"",null,"","",null,"","",null,"","",null,"","",null,"","",0,0,0,"No"]
[87,"",null,"","",null,"","",null,"","",null,"","",null,"","",0,0,0,"No"]
[88,"",null,"","",null,"","",null,"","",null,"","",null,"","",0,0,0,"No"]
[89,"",null,"","",null,"","",null,"","",null,"","",null,"","",0,0,0,"No"]
[90,"",null,"","",null,"","",null,"","",null,"","",null,"","",0,0,0,"No"]
[91,"",null,"","",null,"","",null,"","",null,"","",null,"","",0,0,0,"No"]
[92,"",null,"","",null,"","",null,"","",null,"","",null,"","",0,0,0,"No"]
[93,"",null,"","",null,"","",null,"","",null,"","",null,"","",0,0,0,"No"]
[94,"",null,"","",null,"","",null,"","",null,"","",null,"","",0,0,0,"No"]
[95,"",null,"","",null,"","",null,"","",null,"","",null,"","",0,0,0,"No"]
[96,"",null,"","",null,"","",null,"","",null,"","",null,"","",0,0,0,"No"]
[97,"",null,"","",null,"","",null,"","",null,"","",null,"","",0,0,0,"No"]
[98,"",null,"","",null,"","",null,"","",null,"","",null,"","",0,0,0,"No"]
[99,"",null,"","",null,"","",null,"","",null,"","",null,"","",0,0,0,"No"]
[100,"",null,"","",null,"","",null,"","",null,"","",null,"","",0,0,0,"No"]
[101,"",null,"","",null,"","",null,"","",null,"","",null,"","",0,0,0,"No"]
[102,"",null,"","",null,"","",null,"","",null,"","",null,"","",0,0,0,"No"]
[103,"",null,"","",null,"","",null,"","",null,"","",null,"","",0,0,0,"No"]
[104,"",null,"","",null,"","",null,"","",null,"","",null,"","",0,0,0,"No"]
[105,"",null,"","",null,"","",null,"","",null,"","",null,"","",0,0,0,"No"]
[106,"",null,"","",null,"","",null,"","",null,"","",null,"","",0,0,0,"No"]
[107,"",null,"","",null,"","",null,"","",null,"","",null,"","",0,0,0,"No"]
[108,"",null,"","",null,"","",null,"","",null,"","",null,"","",0,0,0,"No"]
[109,"",null,"","",null,"","",null,"","",null,"","",null,"","",0,0,0,"No"]
[110,"",null,"","",null,"","",null,"","",null,"","",null,"","",0,0,0,"No"]
[111,"",null,"","",null,"","",null,"","",null,"","",null,"","",0,0,0,"No"]
[112,"",null,"","",null,"","",null,"","",null,"","",null,"","",0,0,0,"No"]
[113,"",null,"","",null,"","",null,"","",null,"","",null,"","",0,0,0,"No"]
[114,"",null,"","",null,"","",null,"","",null,"","",null,"","",0,0,0,"No"]
[115,"",null,"","",null,"","",null,"","",null,"","",null,"","",0,0,0,"No"]
[116,"",null,"","",null,"","",null,"","",null,"","",null,"","",0,0,0,"No"]
[117,"",null,"","",null,"","",null,"","",null,"","",null,"","",0,0,0,"No"]
[118,"",null,"","",null,"","",null,"","",null,"","",null,"","",0,0,0,"No"]
[119,"",null,"","",null,"","",null,"","",null,"","",null,"","",0,0,0,"No"]
[120,"",null,"","",null,"","",null,"","",null,"","",null,"","",0,0,0,"No"]
[121,"",null,"","",null,"","",null,"","",null,"","",null,"","",0,0,0,"No"]
[122,"",null,"","",null,"","",null,"","",null,"","",null,"","",0,0,0,"No"]
[123,"",null,"","",null,"","",null,"","",null,"","",null,"","",0,0,0,"No"]
[124,"",null,"","",null,"","",null,"","",null,"","",null,"","",0,0,0,"No"]
[125,"",null,"","",null,"","",null,"","",null,"","",null,"","",0,0,0,"No"]
[126,"",null,"","",null,"","",null,"","",null,"","",null,"","",0,0,0,"No"]
[127,"",null,"","",null,"","",null,"","",null,"","",null,"","",0,0,0,"No"]
[128,"",null,"","",null,"","",null,"","",null,"","",null,"","",0,0,0,"No"]
[39,"",null,"","",null,"","",null,"","",null,"","",null,"","",0,0,0,"No"]
[130,"",null,"","",null,"","",null,"","",null,"","",null,"","",0,0,0,"No"]
[131,"",null,"","",null,"","",null,"","",null,"","",null,"","",0,0,0,"No"]
[132,"",null,"","",null,"","",null,"","",null,"","",null,"","",0,0,0,"No"]
[133,"",null,"","",null,"","",null,"","",null,"","",null,"","",0,0,0,"No"]
[134,"",null,"","",null,"","",null,"","",null,"","",null,"","",0,0,0,"No"]
[135,"",null,"","",null,"","",null,"","",null,"","",null,"","",0,0,0,"No"]
[136,"",null,"","",null,"","",null,"","",null,"","",null,"","",0,0,0,"No"]
[137,"",null,"","",null,"","",null,"","",null,"","",null,"","",0,0,0,"No"]
[138,"",null,"","",null,"","",null,"","",null,"","",null,"","",0,0,0,"No"]
[139,"",null,"","",null,"","",null,"","",null,"","",null,"","",0,0,0,"No"]
[140,"",null,"","",null,"","",null,"","",null,"","",null,"","",0,0,0,"No"]
[141,"",null,"","",null,"","",null,"","",null,"","",null,"","",0,0,0,"No"]
[142,"",null,"","",null,"","",null,"","",null,"","",null,"","",0,0,0,"No"]
[143,"",null,"","",null,"","",null,"","",null,"","",null,"","",0,0,0,"No"]
[144,"",null,"","",null,"","",null,"","",null,"","",null,"","",0,0,0,"No"]
[145,"",null,"","",null,"","",null,"","",null,"","",null,"","",0,0,0,"No"]
[146,"",null,"","",null,"","",null,"","",null,"","",null,"","",0,0,0,"No"]
[147,"",null,"","",null,"","",null,"","",null,"","",null,"","",0,0,0,"No"]
[148,"",null,"","",null,"","",null,"","",null,"","",null,"","",0,0,0,"No"]
[149,"",null,"","",null,"","",null,"","",null,"","",null,"","",0,0,0,"No"]
[150,"",null,"","",null,"","",null,"","",null,"","",null,"","",0,0,0,"No"]
[151,"",null,"","",null,"","",null,"","",null,"","",null,"","",0,0,0,"No"]
[152,"",null,"","",null,"","",null,"","",null,"","",null,"","",0,0,0,"No"]
[153,"",null,"","",null,"","",null,"","",null,"","",null,"","",0,0,0,"No"]
[154,"",null,"","",null,"","",null,"","",null,"","",null,"","",0,0,0,"No"]
[155,"",null,"","",null,"","",null,"","",null,"","",null,"","",0,0,0,"No"]
[156,"",null,"","",null,"","",null,"","",null,"","",null,"","",0,0,0,"No"]
[157,"",null,"","",null,"","",null,"","",null,"","",null,"","",0,0,0,"No"]
[158,"",null,"","",null,"","",null,"","",null,"","",null,"","",0,0,0,"No"]
[159,"",null,"","",null,"","",null,"","",null,"","",null,"","",0,0,0,"No"]
[160,"",null,"","",null,"","",null,"","",null,"","",null,"","",0,0,0,"No"]
[161,"",null,"","",null,"","",null,"","",null,"","",null,"","",0,0,0,"No"]
[162,"",null,"","",null,"","",null,"","",null,"","",null,"","",0,0,0,"No"]
[163,"",null,"","",null,"","",null,"","",null,"","",null,"","",0,0,0,"No"]
[164,"",null,"","",null,"","",null,"","",null,"","",null,"","",0,0,0,"No"]
[165,"",null,"","",null,"","",null,"","",null,"","",null,"","",0,0,0,"No"]
[166,"",null,"","",null,"","",null,"","",null,"","",null,"","",0,0,0,"No"]
[167,"",null,"","",null,"","",null,"","",null,"","",null,"","",0,0,0,"No"]
[168,"",null,"","",null,"","",null,"","",null,"","",null,"","",0,0,0,"No"]
[169,"",null,"","",null,"","",null,"","",null,"","",null,"","",0,0,0,"No"]
[170,"",null,"","",null,"","",null,"","",null,"","",null,"","",0,0,0,"No"]
[171,"",null,"","",null,"","",null,"","",null,"","",null,"","",0,0,0,"No"]
[172,"",null,"","",null,"","",null,"","",null,"","",null,"","",0,0,0,"No"]
[173,"",null,"","",null,"","",null,"","",null,"","",null,"","",0,0,0,"No"]
[174,"",null,"","",null,"","",null,"","",null,"","",null,"","",0,0,0,"No"]
[175,"",null,"","",null,"","",null,"","",null,"","",null,"","",0,0,0,"No"]
[176,"",null,"","",null,"","",null,"","",null,"","",null,"","",0,0,0,"No"]
[177,"",null,"","",null,"","",null,"","",null,"","",null,"","",0,0,0,"No"]
[178,"",null,"","",null,"","",null,"","",null,"","",null,"","",0,0,0,"No"]
[179,"",null,"","",null,"","",null,"","",null,"","",null,"","",0,0,0,"No"]
[180,"",null,"","",null,"","",null,"","",null,"","",null,"","",0,0,0,"No"]
[181,"",null,"","",null,"","",null,"","",null,"","",null,"","",0,0,0,"No"]
[182,"",null,"","",null,"","",null,"","",null,"","",null,"","",0,0,0,"No"]
[183,"",null,"","",null,"","",null,"","",null,"","",null,"","",0,0,0,"No"]
[184,"",null,"","",null,"","",null,"","",null,"","",null,"","",0,0,0,"No"]
[185,"",null,"","",null,"","",null,"","",null,"","",null,"","",0,0,0,"No"]
[186,"",null,"","",null,"","",null,"","",null,"","",null,"","",0,0,0,"No"]
[187,"",null,"","",null,"","",null,"","",null,"","",null,"","",0,0,0,"No"]
[188,"",null,"","",null,"","",null,"","",null,"","",null,"","",0,0,0,"No"]
[189,"",null,"","",null,"","",null,"","",null,"","",null,"","",0,0,0,"No"]
[190,"",null,"","",null,"","",null,"","",null,"","",null,"","",0,0,0,"No"]
[191,"",null,"","",null,"","",null,"","",null,"","",null,"","",0,0,0,"No"]
[192,"",null,"","",null,"","",null,"","",null,"","",null,"","",0,0,0,"No"]
[193,"",null,"","",null,"","",null,"","",null,"","",null,"","",0,0,0,"No"]
[194,"",null,"","",null,"","",null,"","",null,"","",null,"","",0,0,0,"No"]
[195,"",null,"","",null,"","",null,"","",null,"","",null,"","",0,0,0,"No"]
[56,"",null,"","",null,"","",null,"","",null,"","",null,"","",0,0,0,"No"]
[197,"",null,"","",null,"","",null,"","",null,"","",null,"","",0,0,0,"No"]
[198,"",null,"","",null,"","",null,"","",null,"","",null,"","",0,0,0,"No"]
[199,"",null,"","",null,"","",null,"","",null,"","",null,"","",0,0,0,"No"]
[200,"",null,"","",null,"","",null,"","",null,"","",null,"","",0,0,0,"No"]
[201,"",null,"","",null,"","",null,"","",null,"","",null,"","",0,0,0,"No"]
[202,"",null,"","",null,"","",null,"","",null,"","",null,"","",0,0,0,"No"]
[203,"",null,"","",null,"","",null,"","",null,"","",null,"","",0,0,0,"No"]
[204,"",null,"","",null,"","",null,"","",null,"","",null,"","",0,0,0,"No"]
[205,"",null,"","",null,"","",null,"","",null,"","",null,"","",0,0,0,"No"]
[206,"",null,"","",null,"","",null,"","",null,"","",null,"","",0,0,0,"No"]
[207,"",null,"","",null,"","",null,"","",null,"","",null,"","",0,0,0,"No"]
[208,"",null,"","",null,"","",null,"","",null,"","",null,"","",0,0,0,"No"]
[209,"",null,"","",null,"","",null,"","",null,"","",null,"","",0,0,0,"No"]
[210,"",null,"","",null,"","",null,"","",null,"","",null,"","",0,0,0,"No"]
[211,"",null,"","",null,"","",null,"","",null,"","",null,"","",0,0,0,"No"]
[212,"",null,"","",null,"","",null,"","",null,"","",null,"","",0,0,0,"No"]
[213,"",null,"","",null,"","",null,"","",null,"","",null,"","",0,0,0,"No"]
[214,"",null,"","",null,"","",null,"","",null,"","",null,"","",0,0,0,"No"]
[215,"",null,"","",null,"","",null,"","",null,"","",null,"","",0,0,0,"No"]
[216,"",null,"","",null,"","",null,"","",null,"","",null,"","",0,0,0,"No"]
[217,"",null,"","",null,"","",null,"","",null,"","",null,"","",0,0,0,"No"]
[218,"",null,"","",null,"","",null,"","",null,"","",null,"","",0,0,0,"No"]
[219,"",null,"","",null,"","",null,"","",null,"","",null,"","",0,0,0,"No"]
[220,"",null,"","",null,"","",null,"","",null,"","",null,"","",0,0,0,"No"]
[221,"",null,"","",null,"","",null,"","",null,"","",null,"","",0,0,0,"No"]
[222,"",null,"","",null,"","",null,"","",null,"","",null,"","",0,0,0,"No"]
[223,"",null,"","",null,"","",null,"","",null,"","",null,"","",0,0,0,"No"]
[224,"",null,"","",null,"","",null,"","",null,"","",null,"","",0,0,0,"No"]
[225,"",null,"","",null,"","",null,"","",null,"","",null,"","",0,0,0,"No"]
[226,"",null,"","",null,"","",null,"","",null,"","",null,"","",0,0,0,"No"]
[227,"",null,"","",null,"","",null,"","",null,"","",null,"","",0,0,0,"No"]
[228,"",null,"","",null,"","",null,"","",null,"","",null,"","",0,0,0,"No"]
[229,"",null,"","",null,"","",null,"","",null,"","",null,"","",0,0,0,"No"]
[230,"",null,"","",null,"","",null,"","",null,"","",null,"","",0,0,0,"No"]
[231,"",null,"","",null,"","",null,"","",null,"","",null,"","",0,0,0,"No"]
[232,"",null,"","",null,"","",null,"","",null,"","",null,"","",0,0,0,"No"]
[233,"",null,"","",null,"","",null,"","",null,"","",null,"","",0,0,0,"No"]
[234,"",null,"","",null,"","",null,"","",null,"","",null,"","",0,0,0,"No"]
[235,"",null,"","",null,"","",null,"","",null,"","",null,"","",0,0,0,"No"]
[236,"",null,"","",null,"","",null,"","",null,"","",null,"","",0,0,0,"No"]
[237,"",null,"","",null,"","",null,"","",null,"","",null,"","",0,0,0,"No"]
[238,"",null,"","",null,"","",null,"","",null,"","",null,"","",0,0,0,"No"]
[239,"",null,"","",null,"","",null,"","",null,"","",null,"","",0,0,0,"No"]
[240,"",null,"","",null,"","",null,"","",null,"","",null,"","",0,0,0,"No"]
[241,"",null,"","",null,"","",null,"","",null,"","",null,"","",0,0,0,"No"]
[242,"",null,"","",null,"","",null,"","",null,"","",null,"","",0,0,0,"No"]
[243,"",null,"","",null,"","",null,"","",null,"","",null,"","",0,0,0,"No"]
[244,"",null,"","",null,"","",null,"","",null,"","",null,"","",0,0,0,"No"]
[245,"",null,"","",null,"","",null,"","",null,"","",null,"","",0,0,0,"No"]
[246,"",null,"","",null,"","",null,"","",null,"","",null,"","",0,0,0,"No"]
[247,"",null,"","",null,"","",null,"","",null,"","",null,"","",0,0,0,"No"]
[248,"",null,"","",null,"","",null,"","",null,"","",null,"","",0,0,0,"No"]
[249,"",null,"","",null,"","",null,"","",null,"","",null,"","",0,0,0,"No"]
[250,"",null,"","",null,"","",null,"","",null,"","",null,"","",0,0,0,"No"]
[251,"",null,"","",null,"","",null,"","",null,"","",null,"","",0,0,0,"No"]
[252,"",null,"","",null,"","",null,"","",null,"","",null,"","",0,0,0,"No"]
[253,"",null,"","",null,"","",null,"","",null,"","",null,"","",0,0,0,"No"]
[254,"",null,"","",null,"","",null,"","",null,"","",null,"","",0,0,0,"No"]
[255,"",null,"","",null,"","",null,"","",null,"","",null,"","",0,0,0,"No"]
[256,"",null,"","",null,"","",null,"","",null,"","",null,"","",0,0,0,"No"]
[257,"",null,"","",null,"","",null,"","",null,"","",null,"","",0,0,0,"No"]
[258,"",null,"","",null,"","",null,"","",null,"","",null,"","",0,0,0,"No"]
[259,"",null,"","",null,"","",null,"","",null,"","",null,"","",0,0,0,"No"]
[260,"",null,"","",null,"","",null,"","",null,"","",null,"","",0,0,0,"No"]
[261,"",null,"","",null,"","",null,"","",null,"","",null,"","",0,0,0,"No"]
[262,"",null,"","",null,"","",null,"","",null,"","",null,"","",0,0,0,"No"]
[263,"",null,"","",null,"","",null,"","",null,"","",null,"","",0,0,0,"No"]
[264,"",null,"","",null,"","",null,"","",null,"","",null,"","",0,0,0,"No"]
[265,"",null,"","",null,"","",null,"","",null,"","",null,"","",0,0,0,"No"]
[266,"",null,"","",null,"","",null,"","",null,"","",null,"","",0,0,0,"No"]
[267,"",null,"","",null,"","",null,"","",null,"","",null,"","",0,0,0,"No"]
[268,"",null,"","",null,"","",null,"","",null,"","",null,"","",0,0,0,"No"]
[269,"",null,"","",null,"","",null,"","",null,"","",null,"","",0,0,0,"No"]
[270,"",null,"","",null,"","",null,"","",null,"","",null,"","",0,0,0,"No"]
[271,"",null,"","",null,"","",null,"","",null,"","",null,"","",0,0,0,"No"]
[272,"",null,"","",null,"","",null,"","",null,"","",null,"","",0,0,0,"No"]
[273,"",null,"","",null,"","",null,"","",null,"","",null,"","",0,0,0,"No"]
[274,"",null,"","",null,"","",null,"","",null,"","",null,"","",0,0,0,"No"]
[275,"",null,"","",null,"","",null,"","",null,"","",null,"","",0,0,0,"No"]
[276,"",null,"","",null,"","",null,"","",null,"","",null,"","",0,0,0,"No"]
[277,"",null,"","",null,"","",null,"","",null,"","",null,"","",0,0,0,"No"]
[278,"",null,"","",null,"","",null,"","",null,"","",null,"","",0,0,0,"No"]
[279,"",null,"","",null,"","",null,"","",null,"","",null,"","",0,0,0,"No"]
[280,"",null,"","",null,"","",null,"","",null,"","",null,"","",0,0,0,"No"]
[281,"",null,"","",null,"","",null,"","",null,"","",null,"","",0,0,0,"No"]
[282,"",null,"","",null,"","",null,"","",null,"","",null,"","",0,0,0,"No"]
[283,"",null,"","",null,"","",null,"","",null,"","",null,"","",0,0,0,"No"]
[129,"",null,"","",null,"","",null,"","",null,"","",null,"","",0,0,0,"No"]
[285,"",null,"","",null,"","",null,"","",null,"","",null,"","",0,0,0,"No"]
[286,"",null,"","",null,"","",null,"","",null,"","",null,"","",0,0,0,"No"]
[287,"",null,"","",null,"","",null,"","",null,"","",null,"","",0,0,0,"No"]
[288,"",null,"","",null,"","",null,"","",null,"","",null,"","",0,0,0,"No"]
[289,"",null,"","",null,"","",null,"","",null,"","",null,"","",0,0,0,"No"]
[290,"",null,"","",null,"","",null,"","",null,"","",null,"","",0,0,0,"No"]
[291,"",null,"","",null,"","",null,"","",null,"","",null,"","",0,0,0,"No"]
[292,"",null,"","",null,"","",null,"","",null,"","",null,"","",0,0,0,"No"]
[293,"",null,"","",null,"","",null,"","",null,"","",null,"","",0,0,0,"No"]
[294,"",null,"","",null,"","",null,"","",null,"","",null,"","",0,0,0,"No"]
[295,"",null,"","",null,"","",null,"","",null,"","",null,"","",0,0,0,"No"]
[296,"",null,"","",null,"","",null,"","",null,"","",null,"","",0,0,0,"No"]
[297,"",null,"","",null,"","",null,"","",null,"","",null,"","",0,0,0,"No"]
[298,"",null,"","",null,"","",null,"","",null,"","",null,"","",0,0,0,"No"]
[299,"",null,"","",null,"","",null,"","",null,"","",null,"","",0,0,0,"No"]
[300,"",null,"","",null,"","",null,"","",null,"","",null,"","",0,0,0,"No"]
[301,"",null,"","",null,"","",null,"","",null,"","",null,"","",0,0,0,"No"]
[302,"",null,"","",null,"","",null,"","",null,"","",null,"","",0,0,0,"No"]
[303,"",null,"","",null,"","",null,"","",null,"","",null,"","",0,0,0,"No"]
[304,"",null,"","",null,"","",null,"","",null,"","",null,"","",0,0,0,"No"]
[305,"",null,"","",null,"","",null,"","",null,"","",null,"","",0,0,0,"No"]
[306,"",null,"","",null,"","",null,"","",null,"","",null,"","",0,0,0,"No"]
[307,"",null,"","",null,"","",null,"","",null,"","",null,"","",0,0,0,"No"]
[308,"",null,"","",null,"","",null,"","",null,"","",null,"","",0,0,0,"No"]
[309,"",null,"","",null,"","",null,"","",null,"","",null,"","",0,0,0,"No"]
[310,"",null,"","",null,"","",null,"","",null,"","",null,"","",0,0,0,"No"]
[311,"",null,"","",null,"","",null,"","",null,"","",null,"","",0,0,0,"No"]
[312,"",null,"","",null,"","",null,"","",null,"","",null,"","",0,0,0,"No"]
[313,"",null,"","",null,"","",null,"","",null,"","",null,"","",0,0,0,"No"]
[314,"",null,"","",null,"","",null,"","",null,"","",null,"","",0,0,0,"No"]
[315,"",null,"","",null,"","",null,"","",null,"","",null,"","",0,0,0,"No"]
[316,"",null,"","",null,"","",null,"","",null,"","",null,"","",0,0,0,"No"]
[317,"",null,"","",null,"","",null,"","",null,"","",null,"","",0,0,0,"No"]
[318,"",null,"","",null,"","",null,"","",null,"","",null,"","",0,0,0,"No"]
[319,"",null,"","",null,"","",null,"","",null,"","",null,"","",0,0,0,"No"]
[320,"",null,"","",null,"","",null,"","",null,"","",null,"","",0,0,0,"No"]
[321,"",null,"","",null,"","",null,"","",null,"","",null,"","",0,0,0,"No"]
[322,"",null,"","",null,"","",null,"","",null,"","",null,"","",0,0,0,"No"]
[323,"",null,"","",null,"","",null,"","",null,"","",null,"","",0,0,0,"No"]
[324,"",null,"","",null,"","",null,"","",null,"","",null,"","",0,0,0,"No"]
[325,"",null,"","",null,"","",null,"","",null,"","",null,"","",0,0,0,"No"]
[326,"",null,"","",null,"","",null,"","",null,"","",null,"","",0,0,0,"No"]
[327,"",null,"","",null,"","",null,"","",null,"","",null,"","",0,0,0,"No"]
[328,"",null,"","",null,"","",null,"","",null,"","",null,"","",0,0,0,"No"]
[329,"",null,"","",null,"","",null,"","",null,"","",null,"","",0,0,0,"No"]
[330,"",null,"","",null,"","",null,"","",null,"","",null,"","",0,0,0,"No"]
[331,"",null,"","",null,"","",null,"","",null,"","",null,"","",0,0,0,"No"]
[332,"",null,"","",null,"","",null,"","",null,"","",null,"","",0,0,0,"No"]
[333,"",null,"","",null,"","",null,"","",null,"","",null,"","",0,0,0,"No"]
[334,"",null,"","",null,"","",null,"","",null,"","",null,"","",0,0,0,"No"]
[335,"",null,"","",null,"","",null,"","",null,"","",null,"","",0,0,0,"No"]
[336,"",null,"","",null,"","",null,"","",null,"","",null,"","",0,0,0,"No"]
[337,"",null,"","",null,"","",null,"","",null,"","",null,"","",0,0,0,"No"]
[338,"",null,"","",null,"","",null,"","",null,"","",null,"","",0,0,0,"No"]
[339,"",null,"","",null,"","",null,"","",null,"","",null,"","",0,0,0,"No"]
[340,"",null,"","",null,"","",null,"","",null,"","",null,"","",0,0,0,"No"]
[341,"",null,"","",null,"","",null,"","",null,"","",null,"","",0,0,0,"No"]
[342,"",null,"","",null,"","",null,"","",null,"","",null,"","",0,0,0,"No"]
[343,"",null,"","",null,"","",null,"","",null,"","",null,"","",0,0,0,"No"]
[344,"",null,"","",null,"","",null,"","",null,"","",null,"","",0,0,0,"No"]
[345,"",null,"","",null,"","",null,"","",null,"","",null,"","",0,0,0,"No"]
[346,"",null,"","",null,"","",null,"","",null,"","",null,"","",0,0,0,"No"]
[347,"",null,"","",null,"","",null,"","",null,"","",null,"","",0,0,0,"No"]
[348,"",null,"","",null,"","",null,"","",null,"","",null,"","",0,0,0,"No"]
[349,"",null,"","",null,"","",null,"","",null,"","",null,"","",0,0,0,"No"]
[350,"",null,"","",null,"","",null,"","",null,"","",null,"","",0,0,0,"No"]
[351,"",null,"","",null,"","",null,"","",null,"","",null,"","",0,0,0,"No"]
[352,"",null,"","",null,"","",null,"","",null,"","",null,"","",0,0,0,"No"]
[353,"",null,"","",null,"","",null,"","",null,"","",null,"","",0,0,0,"No"]
[354,"",null,"","",null,"","",null,"","",null,"","",null,"","",0,0,0,"No"]
[355,"",null,"","",null,"","",null,"","",null,"","",null,"","",0,0,0,"No"]
[356,"",null,"","",null,"","",null,"","",null,"","",null,"","",0,0,0,"No"]
[357,"",null,"","",null,"","",null,"","",null,"","",null,"","",0,0,0,"No"]
[358,"",null,"","",null,"","",null,"","",null,"","",null,"","",0,0,0,"No"]
[359,"",null,"","",null,"","",null,"","",null,"","",null,"","",0,0,0,"No"]
[360,"",null,"","",null,"","",null,"","",null,"","",null,"","",0,0,0,"No"]
[361,"",null,"","",null,"","",null,"","",null,"","",null,"","",0,0,0,"No"]
[362,"",null,"","",null,"","",null,"","",null,"","",null,"","",0,0,0,"No"]
[363,"",null,"","",null,"","",null,"","",null,"","",null,"","",0,0,0,"No"]
[364,"",null,"","",null,"","",null,"","",null,"","",null,"","",0,0,0,"No"]
[365,"",null,"","",null,"","",null,"","",null,"","",null,"","",0,0,0,"No"]
[366,"",null,"","",null,"","",null,"","",null,"","",null,"","",0,0,0,"No"]
[367,"",null,"","",null,"","",null,"","",null,"","",null,"","",0,0,0,"No"]
[368,"",null,"","",null,"","",null,"","",null,"","",null,"","",0,0,0,"No"]
[369,"",null,"","",null,"","",null,"","",null,"","",null,"","",0,0,0,"No"]
[370,"",null,"","",null,"","",null,"","",null,"","",null,"","",0,0,0,"No"]
[371,"",null,"","",null,"","",null,"","",null,"","",null,"","",0,0,0,"No"]
[372,"",null,"","",null,"","",null,"","",null,"","",null,"","",0,0,0,"No"]
[373,"",null,"","",null,"","",null,"","",null,"","",null,"","",0,0,0,"No"]
[374,"",null,"","",null,"","",null,"","",null,"","",null,"","",0,0,0,"No"]
[375,"",null,"","",null,"","",null,"","",null,"","",null,"","",0,0,0,"No"]
[376,"",null,"","",null,"","",null,"","",null,"","",null,"","",0,0,0,"No"]
[377,"",null,"","",null,"","",null,"","",null,"","",null,"","",0,0,0,"No"]
[378,"",null,"","",null,"","",null,"","",null,"","",null,"","",0,0,0,"No"]
[379,"",null,"","",null,"","",null,"","",null,"","",null,"","",0,0,0,"No"]
[380,"",null,"","",null,"","",null,"","",null,"","",null,"","",0,0,0,"No"]
[381,"",null,"","",null,"","",null,"","",null,"","",null,"","",0,0,0,"No"]
[382,"",null,"","",null,"","",null,"","",null,"","",null,"","",0,0,0,"No"]
[383,"",null,"","",null,"","",null,"","",null,"","",null,"","",0,0,0,"No"]
[384,"",null,"","",null,"","",null,"","",null,"","",null,"","",0,0,0,"No"]
[385,"",null,"","",null,"","",null,"","",null,"","",null,"","",0,0,0,"No"]
[386,"",null,"","",null,"","",null,"","",null,"","",null,"","",0,0,0,"No"]
[387,"",null,"","",null,"","",null,"","",null,"","",null,"","",0,0,0,"No"]
[388,"",null,"","",null,"","",null,"","",null,"","",null,"","",0,0,0,"No"]
[389,"",null,"","",null,"","",null,"","",null,"","",null,"","",0,0,0,"No"]
[390,"",null,"","",null,"","",null,"","",null,"","",null,"","",0,0,0,"No"]
[391,"",null,"","",null,"","",null,"","",null,"","",null,"","",0,0,0,"No"]
[392,"",null,"","",null,"","",null,"","",null,"","",null,"","",0,0,0,"No"]
[393,"",null,"","",null,"","",null,"","",null,"","",null,"","",0,0,0,"No"]
[394,"",null,"","",null,"","",null,"","",null,"","",null,"","",0,0,0,"No"]
[395,"",null,"","",null,"","",null,"","",null,"","",null,"","",0,0,0,"No"]
[396,"",null,"","",null,"","",null,"","",null,"","",null,"","",0,0,0,"No"]
[397,"",null,"","",null,"","",null,"","",null,"","",null,"","",0,0,0,"No"]
[398,"",null,"","",null,"","",null,"","",null,"","",null,"","",0,0,0,"No"]
[399,"",null,"","",null,"","",null,"","",null,"","",null,"","",0,0,0,"No"]
[400,"",null,"","",null,"","",null,"","",null,"","",null,"","",0,0,0,"No"]
[401,"",null,"","",null,"","",null,"","",null,"","",null,"","",0,0,0,"No"]
[402,"",null,"","",null,"","",null,"","",null,"","",null,"","",0,0,0,"No"]
[403,"",null,"","",null,"","",null,"","",null,"","",null,"","",0,0,0,"No"]
[404,"",null,"","",null,"","",null,"","",null,"","",null,"","",0,0,0,"No"]
[405,"",null,"","",null,"","",null,"","",null,"","",null,"","",0,0,0,"No"]
[406,"",null,"","",null,"","",null,"","",null,"","",null,"","",0,0,0,"No"]
[407,"",null,"","",null,"","",null,"","",null,"","",null,"","",0,0,0,"No"]
[408,"",null,"","",null,"","",null,"","",null,"","",null,"","",0,0,0,"No"]
[409,"",null,"","",null,"","",null,"","",null,"","",null,"","",0,0,0,"No"]
[410,"",null,"","",null,"","",null,"","",null,"","",null,"","",0,0,0,"No"]
[411,"",null,"","",null,"","",null,"","",null,"","",null,"","",0,0,0,"No"]
[412,"",null,"","",null,"","",null,"","",null,"","",null,"","",0,0,0,"No"]
[413,"",null,"","",null,"","",null,"","",null,"","",null,"","",0,0,0,"No"]
[414,"",null,"","",null,"","",null,"","",null,"","",null,"","",0,0,0,"No"]
[415,"",null,"","",null,"","",null,"","",null,"","",null,"","",0,0,0,"No"]
[416,"",null,"","",null,"","",null,"","",null,"","",null,"","",0,0,0,"No"]
[417,"",null,"","",null,"","",null,"","",null,"","",null,"","",0,0,0,"No"]
[418,"",null,"","",null,"","",null,"","",null,"","",null,"","",0,0,0,"No"]
[419,"",null,"","",null,"","",null,"","",null,"","",null,"","",0,0,0,"No"]
[420,"",null,"","",null,"","",null,"","",null,"","",null,"","",0,0,0,"No"]
[421,"",null,"","",null,"","",null,"","",null,"","",null,"","",0,0,0,"No"]
[422,"",null,"","",null,"","",null,"","",null,"","",null,"","",0,0,0,"No"]
[423,"",null,"","",null,"","",null,"","",null,"","",null,"","",0,0,0,"No"]
[424,"",null,"","",null,"","",null,"","",null,"","",null,"","",0,0,0,"No"]
[425,"",null,"","",null,"","",null,"","",null,"","",null,"","",0,0,0,"No"]
[426,"",null,"","",null,"","",null,"","",null,"","",null,"","",0,0,0,"No"]
[427,"",null,"","",null,"","",null,"","",null,"","",null,"","",0,0,0,"No"]
[428,"",null,"","",null,"","",null,"","",null,"","",null,"","",0,0,0,"No"]
[429,"",null,"","",null,"","",null,"","",null,"","",null,"","",0,0,0,"No"]
[430,"",null,"","",null,"","",null,"","",null,"","",null,"","",0,0,0,"No"]
[431,"",null,"","",null,"","",null,"","",null,"","",null,"","",0,0,0,"No"]
[432,"",null,"","",null,"","",null,"","",null,"","",null,"","",0,0,0,"No"]
[433,"",null,"","",null,"","",null,"","",null,"","",null,"","",0,0,0,"No"]
[434,"",null,"","",null,"","",null,"","",null,"","",null,"","",0,0,0,"No"]
[435,"",null,"","",null,"","",null,"","",null,"","",null,"","",0,0,0,"No"]
[436,"",null,"","",null,"","",null,"","",null,"","",null,"","",0,0,0,"No"]
[437,"",null,"","",null,"","",null,"","",null,"","",null,"","",0,0,0,"No"]
[438,"",null,"","",null,"","",null,"","",null,"","",null,"","",0,0,0,"No"]
[439,"",null,"","",null,"","",null,"","",null,"","",null,"","",0,0,0,"No"]
[440,"",null,"","",null,"","",null,"","",null,"","",null,"","",0,0,0,"No"]
[441,"",null,"","",null,"","",null,"","",null,"","",null,"","",0,0,0,"No"]
[442,"",null,"","",null,"","",null,"","",null,"","",null,"","",0,0,0,"No"]
[443,"",null,"","",null,"","",null,"","",null,"","",null,"","",0,0,0,"No"]
[444,"",null,"","",null,"","",null,"","",null,"","",null,"","",0,0,0,"No"]
[445,"",null,"","",null,"","",null,"","",null,"","",null,"","",0,0,0,"No"]
[446,"",null,"","",null,"","",null,"","",null,"","",null,"","",0,0,0,"No"]
[447,"",null,"","",null,"","",null,"","",null,"","",null,"","",0,0,0,"No"]
[448,"",null,"","",null,"","",null,"","",null,"","",null,"","",0,0,0,"No"]
[449,"",null,"","",null,"","",null,"","",null,"","",null,"","",0,0,0,"No"]
[450,"",null,"","",null,"","",null,"","",null,"","",null,"","",0,0,0,"No"]
[451,"",null,"","",null,"","",null,"","",null,"","",null,"","",0,0,0,"No"]
[452,"",null,"","",null,"","",null,"","",null,"","",null,"","",0,0,0,"No"]
[453,"",null,"","",null,"","",null,"","",null,"","",null,"","",0,0,0,"No"]
[454,"",null,"","",null,"","",null,"","",null,"","",null,"","",0,0,0,"No"]
[455,"",null,"","",null,"","",null,"","",null,"","",null,"","",0,0,0,"No"]
[456,"",null,"","",null,"","",null,"","",null,"","",null,"","",0,0,0,"No"]
[457,"",null,"","",null,"","",null,"","",null,"","",null,"","",0,0,0,"No"]
[458,"",null,"","",null,"","",null,"","",null,"","",null,"","",0,0,0,"No"]
[459,"",null,"","",null,"","",null,"","",null,"","",null,"","",0,0,0,"No"]
[460,"",null,"","",null,"","",null,"","",null,"","",null,"","",0,0,0,"No"]
[461,"",null,"","",null,"","",null,"","",null,"","",null,"","",0,0,0,"No"]
[462,"",null,"","",null,"","",null,"","",null,"","",null,"","",0,0,0,"No"]
[463,"",null,"","",null,"","",null,"","",null,"","",null,"","",0,0,0,"No"]
[464,"",null,"","",null,"","",null,"","",null,"","",null,"","",0,0,0,"No"]
[465,"",null,"","",null,"","",null,"","",null,"","",null,"","",0,0,0,"No"]
[466,"",null,"","",null,"","",null,"","",null,"","",null,"","",0,0,0,"No"]
[467,"",null,"","",null,"","",null,"","",null,"","",null,"","",0,0,0,"No"]
[468,"",null,"","",null,"","",null,"","",null,"","",null,"","",0,0,0,"No"]
[469,"",null,"","",null,"","",null,"","",null,"","",null,"","",0,0,0,"No"]
[470,"",null,"","",null,"","",null,"","",null,"","",null,"","",0,0,0,"No"]
[471,"",null,"","",null,"","",null,"","",null,"","",null,"","",0,0,0,"No"]
[472,"",null,"","",null,"","",null,"","",null,"","",null,"","",0,0,0,"No"]
[473,"",null,"","",null,"","",null,"","",null,"","",null,"","",0,0,0,"No"]
[474,"",null,"","",null,"","",null,"","",null,"","",null,"","",0,0,0,"No"]
[475,"",null,"","",null,"","",null,"","",null,"","",null,"","",0,0,0,"No"]
[476,"",null,"","",null,"","",null,"","",null,"","",null,"","",0,0,0,"No"]
[477,"",null,"","",null,"","",null,"","",null,"","",null,"","",0,0,0,"No"]
[478,"",null,"","",null,"","",null,"","",null,"","",null,"","",0,0,0,"No"]
[479,"",null,"","",null,"","",null,"","",null,"","",null,"","",0,0,0,"No"]
[480,"",null,"","",null,"","",null,"","",null,"","",null,"","",0,0,0,"No"]
[481,"",null,"","",null,"","",null,"","",null,"","",null,"","",0,0,0,"No"]
[482,"",null,"","",null,"","",null,"","",null,"","",null,"","",0,0,0,"No"]
[483,"",null,"","",null,"","",null,"","",null,"","",null,"","",0,0,0,"No"]
[484,"",null,"","",null,"","",null,"","",null,"","",null,"","",0,0,0,"No"]
[485,"",null,"","",null,"","",null,"","",null,"","",null,"","",0,0,0,"No"]
[486,"",null,"","",null,"","",null,"","",null,"","",null,"","",0,0,0,"No"]
[487,"",null,"","",null,"","",null,"","",null,"","",null,"","",0,0,0,"No"]
[488,"",null,"","",null,"","",null,"","",null,"","",null,"","",0,0,0,"No"]
[489,"",null,"","",null,"","",null,"","",null,"","",null,"","",0,0,0,"No"]
[490,"",null,"","",null,"","",null,"","",null,"","",null,"","",0,0,0,"No"]
[491,"",null,"","",null,"","",null,"","",null,"","",null,"","",0,0,0,"No"]
[492,"",null,"","",null,"","",null,"","",null,"","",null,"","",0,0,0,"No"]
[493,"",null,"","",null,"","",null,"","",null,"","",null,"","",0,0,0,"No"]
[494,"",null,"","",null,"","",null,"","",null,"","",null,"","",0,0,0,"No"]
[495,"",null,"","",null,"","",null,"","",null,"","",null,"","",0,0,0,"No"]
[496,"",null,"","",null,"","",null,"","",null,"","",null,"","",0,0,0,"No"]
[497,"",null,"","",null,"","",null,"","",null,"","",null,"","",0,0,0,"No"]
[498,"",null,"","",null,"","",null,"","",null,"","",null,"","",0,0,0,"No"]
[499,"",null,"","",null,"","",null,"","",null,"","",null,"","",0,0,0,"No"]
[500,"",null,"","",null,"","",null,"","",null,"","",null,"","",0,0,0,"No"]
[]
["Reference","IG Teams","Position (Race 1)","Result (Race 1)","Claimed Last Place (Race 1)","Position (Race 2)","Result (Race 2)","Claimed Last Place (Race 2)","Position (Race 3)","Result (Race 3)","Claimed Last Place (Race 3)","Position (Race 4)","Result (Race 4)","Claimed Last Place (Race 4)","Position (Race 5)","Result (Race 5)","Claimed Last Place (Race 5)","Total (All Races)","Races Completed","Number of claimed LP","Eligible"]
[6,"Beauchamp College A",1,17,"N",1,8,"N",1,14,"N",1,24,"Y",null,0,"N",4,4,1,"Yes"]
[23,"Beauchamp College B",null,0,"N",2,26,"Y",null,0,"N",null,0,"N",null,0,"N",2,1,1,"No"]
[5,"Lutterworth High School A",2,31,"Y",null,0,"N",null,0,"N",null,0,"N",null,0,"N",2,1,1,"No"]
[4,"De Lisle College A",3,42,"Y",null,0,"N",null,0,"N",null,0,"N",null,0,"N",3,1,1,"No"]
[191,"",null,"","",null,"","",null,"","",null,"","",null,"","",0,0,0,"No"]
[116,"",null,"","",null,"","",null,"","",null,"","",null,"","",0,0,0,"No"]
[7,"",null,"","",null,"","",null,"","",null,"","",null,"","",0,0,0,"No"]
[8,"",null,"","",null,"","",null,"","",null,"","",null,"","",0,0,0,"No"]
[9,"",null,"","",null,"","",null,"","",null,"","",null,"","",0,0,0,"No"]
[10,"",null,"","",null,"","",null,"","",null,"","",null,"","",0,0,0,"No"]
[11,"",null,"","",null,"","",null,"","",null,"","",null,"","",0,0,0,"No"]
[12,"",null,"","",null,"","",null,"","",null,"","",null,"","",0,0,0,"No"]
[13,"",null,"","",null,"","",null,"","",null,"","",null,"","",0,0,0,"No"]
[14,"",null,"","",null,"","",null,"","",null,"","",null,"","",0,0,0,"No"]
[15,"",null,"","",null,"","",null,"","",null,"","",null,"","",0,0,0,"No"]
[16,"",null,"","",null,"","",null,"","",null,"","",null,"","",0,0,0,"No"]
[17,"",null,"","",null,"","",null,"","",null,"","",null,"","",0,0,0,"No"]
[18,"",null,"","",null,"","",null,"","",null,"","",null,"","",0,0,0,"No"]
[19,"",null,"","",null,"","",null,"","",null,"","",null,"","",0,0,0,"No"]
[20,"",null,"","",null,"","",null,"","",null,"","",null,"","",0,0,0,"No"]
[21,"",null,"","",null,"","",null,"","",null,"","",null,"","",0,0,0,"No"]
[22,"",null,"","",null,"","",null,"","",null,"","",null,"","",0,0,0,"No"]
[3,"Lutterworth College A",4,45,"Y",null,0,"N",null,0,"N",null,0,"N",null,0,"N",4,1,1,"No"]
[24,"",null,"","",null,"","",null,"","",null,"","",null,"","",0,0,0,"No"]
[25,"",null,"","",null,"","",null,"","",null,"","",null,"","",0,0,0,"No"]
[26,"",null,"","",null,"","",null,"","",null,"","",null,"","",0,0,0,"No"]
[27,"",null,"","",null,"","",null,"","",null,"","",null,"","",0,0,0,"No"]
[28,"",null,"","",null,"","",null,"","",null,"","",null,"","",0,0,0,"No"]
[29,"",null,"","",null,"","",null,"","",null,"","",null,"","",0,0,0,"No"]
[30,"",null,"","",null,"","",null,"","",null,"","",null,"","",0,0,0,"No"]
[31,"",null,"","",null,"","",null,"","",null,"","",null,"","",0,0,0,"No"]
[32,"",null,"","",null,"","",null,"","",null,"","",null,"","",0,0,0,"No"]
[33,"",null,"","",null,"","",null,"","",null,"","",null,"","",0,0,0,"No"]
[34,"",null,"","",null,"","",null,"","",null,"","",null,"","",0,0,0,"No"]
[35,"",null,"","",null,"","",null,"","",null,"","",null,"","",0,0,0,"No"]
[36,"",null,"","",null,"","",null,"","",null,"","",null,"","",0,0,0,"No"]
[37,"",null,"","",null,"","",null,"","",null,"","",null,"","",0,0,0,"No"]
[38,"",null,"","",null,"","",null,"","",null,"","",null,"","",0,0,0,"No"]
[39,"",null,"","",null,"","",null,"","",null,"","",null,"","",0,0,0,"No"]
[40,"",null,"","",null,"","",null,"","",null,"","",null,"","",0,0,0,"No"]
[41,"",null,"","",null,"","",null,"","",null,"","",null,"","",0,0,0,"No"]
[42,"",null,"","",null,"","",null,"","",null,"","",null,"","",0,0,0,"No"]
[43,"",null,"","",null,"","",null,"","",null,"","",null,"","",0,0,0,"No"]
[44,"",null,"","",null,"","",null,"","",null,"","",null,"","",0,0,0,"No"]
[45,"",null,"","",null,"","",null,"","",null,"","",null,"","",0,0,0,"No"]
[46,"",null,"","",null,"","",null,"","",null,"","",null,"","",0,0,0,"No"]
[47,"",null,"","",null,"","",null,"","",null,"","",null,"","",0,0,0,"No"]
[48,"",null,"","",null,"","",null,"","",null,"","",null,"","",0,0,0,"No"]
[49,"",null,"","",null,"","",null,"","",null,"","",null,"","",0,0,0,"No"]
[50,"",null,"","",null,"","",null,"","",null,"","",null,"","",0,0,0,"No"]
[51,"",null,"","",null,"","",null,"","",null,"","",null,"","",0,0,0,"No"]
[52,"",null,"","",null,"","",null,"","",null,"","",null,"","",0,0,0,"No"]
[53,"",null,"","",null,"","",null,"","",null,"","",null,"","",0,0,0,"No"]
[54,"",null,"","",null,"","",null,"","",null,"","",null,"","",0,0,0,"No"]
[55,"",null,"","",null,"","",null,"","",null,"","",null,"","",0,0,0,"No"]
[56,"",null,"","",null,"","",null,"","",null,"","",null,"","",0,0,0,"No"]
[57,"",null,"","",null,"","",null,"","",null,"","",null,"","",0,0,0,"No"]
[58,"",null,"","",null,"","",null,"","",null,"","",null,"","",0,0,0,"No"]
[59,"",null,"","",null,"","",null,"","",null,"","",null,"","",0,0,0,"No"]
[60,"",null,"","",null,"","",null,"","",null,"","",null,"","",0,0,0,"No"]
[61,"",null,"","",null,"","",null,"","",null,"","",null,"","",0,0,0,"No"]
[62,"",null,"","",null,"","",null,"","",null,"","",null,"","",0,0,0,"No"]
[63,"",null,"","",null,"","",null,"","",null,"","",null,"","",0,0,0,"No"]
[64,"",null,"","",null,"","",null,"","",null,"","",null,"","",0,0,0,"No"]
[65,"",null,"","",null,"","",null,"","",null,"","",null,"","",0,0,0,"No"]
[66,"",null,"","",null,"","",null,"","",null,"","",null,"","",0,0,0,"No"]
[67,"",null,"","",null,"","",null,"","",null,"","",null,"","",0,0,0,"No"]
[68,"",null,"","",null,"","",null,"","",null,"","",null,"","",0,0,0,"No"]
[69,"",null,"","",null,"","",null,"","",null,"","",null,"","",0,0,0,"No"]
[70,"",null,"","",null,"","",null,"","",null,"","",null,"","",0,0,0,"No"]
[71,"",null,"","",null,"","",null,"","",null,"","",null,"","",0,0,0,"No"]
[72,"",null,"","",null,"","",null,"","",null,"","",null,"","",0,0,0,"No"]
[73,"",null,"","",null,"","",null,"","",null,"","",null,"","",0,0,0,"No"]
[74,"",null,"","",null,"","",null,"","",null,"","",null,"","",0,0,0,"No"]
[75,"",null,"","",null,"","",null,"","",null,"","",null,"","",0,0,0,"No"]
[76,"",null,"","",null,"","",null,"","",null,"","",null,"","",0,0,0,"No"]
[77,"",null,"","",null,"","",null,"","",null,"","",null,"","",0,0,0,"No"]
[78,"",null,"","",null,"","",null,"","",null,"","",null,"","",0,0,0,"No"]
[79,"",null,"","",null,"","",null,"","",null,"","",null,"","",0,0,0,"No"]
[80,"",null,"","",null,"","",null,"","",null,"","",null,"","",0,0,0,"No"]
[81,"",null,"","",null,"","",null,"","",null,"","",null,"","",0,0,0,"No"]
[82,"",null,"","",null,"","",null,"","",null,"","",null,"","",0,0,0,"No"]
[83,"",null,"","",null,"","",null,"","",null,"","",null,"","",0,0,0,"No"]
[84,"",null,"","",null,"","",null,"","",null,"","",null,"","",0,0,0,"No"]
[85,"",null,"","",null,"","",null,"","",null,"","",null,"","",0,0,0,"No"]
[86,"",null,"","",null,"","",null,"","",null,"","",null,"","",0,0,0,"No"]
[87,"",null,"","",null,"","",null,"","",null,"","",null,"","",0,0,0,"No"]
[88,"",null,"","",null,"","",null,"","",null,"","",null,"","",0,0,0,"No"]
[89,"",null,"","",null,"","",null,"","",null,"","",null,"","",0,0,0,"No"]
[90,"",null,"","",null,"","",null,"","",null,"","",null,"","",0,0,0,"No"]
[91,"",null,"","",null,"","",null,"","",null,"","",null,"","",0,0,0,"No"]
[92,"",null,"","",null,"","",null,"","",null,"","",null,"","",0,0,0,"No"]
[93,"",null,"","",null,"","",null,"","",null,"","",null,"","",0,0,0,"No"]
[94,"",null,"","",null,"","",null,"","",null,"","",null,"","",0,0,0,"No"]
[95,"",null,"","",null,"","",null,"","",null,"","",null,"","",0,0,0,"No"]
[96,"",null,"","",null,"","",null,"","",null,"","",null,"","",0,0,0,"No"]
[97,"",null,"","",null,"","",null,"","",null,"","",null,"","",0,0,0,"No"]
[98,"",null,"","",null,"","",null,"","",null,"","",null,"","",0,0,0,"No"]
[99,"",null,"","",null,"","",null,"","",null,"","",null,"","",0,0,0,"No"]
[100,"",null,"","",null,"","",null,"","",null,"","",null,"","",0,0,0,"No"]
[101,"",null,"","",null,"","",null,"","",null,"","",null,"","",0,0,0,"No"]
[102,"",null,"","",null,"","",null,"","",null,"","",null,"","",0,0,0,"No"]
[103,"",null,"","",null,"","",null,"","",null,"","",null,"","",0,0,0,"No"]
[104,"",null,"","",null,"","",null,"","",null,"","",null,"","",0,0,0,"No"]
[105,"",null,"","",null,"","",null,"","",null,"","",null,"","",0,0,0,"No"]
[106,"",null,"","",null,"","",null,"","",null,"","",null,"","",0,0,0,"No"]
[107,"",null,"","",null,"","",null,"","",null,"","",null,"","",0,0,0,"No"]
[108,"",null,"","",null,"","",null,"","",null,"","",null,"","",0,0,0,"No"]
[109,"",null,"","",null,"","",null,"","",null,"","",null,"","",0,0,0,"No"]
[110,"",null,"","",null,"","",null,"","",null,"","",null,"","",0,0,0,"No"]
[111,"",null,"","",null,"","",null,"","",null,"","",null,"","",0,0,0,"No"]
[112,"",null,"","",null,"","",null,"","",null,"","",null,"","",0,0,0,"No"]
[113,"",null,"","",null,"","",null,"","",null,"","",null,"","",0,0,0,"No"]
[114,"",null,"","",null,"","",null,"","",null,"","",null,"","",0,0,0,"No"]
[115,"",null,"","",null,"","",null,"","",null,"","",null,"","",0,0,0,"No"]
[143,"",null,"","",null,"","",null,"","",null,"","",null,"","",0,0,0,"No"]
[117,"",null,"","",null,"","",null,"","",null,"","",null,"","",0,0,0,"No"]
[118,"",null,"","",null,"","",null,"","",null,"","",null,"","",0,0,0,"No"]
[119,"",null,"","",null,"","",null,"","",null,"","",null,"","",0,0,0,"No"]
[120,"",null,"","",null,"","",null,"","",null,"","",null,"","",0,0,0,"No"]
[121,"",null,"","",null,"","",null,"","",null,"","",null,"","",0,0,0,"No"]
[122,"",null,"","",null,"","",null,"","",null,"","",null,"","",0,0,0,"No"]
[123,"",null,"","",null,"","",null,"","",null,"","",null,"","",0,0,0,"No"]
[124,"",null,"","",null,"","",null,"","",null,"","",null,"","",0,0,0,"No"]
[125,"",null,"","",null,"","",null,"","",null,"","",null,"","",0,0,0,"No"]
[126,"",null,"","",null,"","",null,"","",null,"","",null,"","",0,0,0,"No"]
[127,"",null,"","",null,"","",null,"","",null,"","",null,"","",0,0,0,"No"]
[128,"",null,"","",null,"","",null,"","",null,"","",null,"","",0,0,0,"No"]
[129,"",null,"","",null,"","",null,"","",null,"","",null,"","",0,0,0,"No"]
[130,"",null,"","",null,"","",null,"","",null,"","",null,"","",0,0,0,"No"]
[131,"",null,"","",null,"","",null,"","",null,"","",null,"","",0,0,0,"No"]
[132,"",null,"","",null,"","",null,"","",null,"","",null,"","",0,0,0,"No"]
[133,"",null,"","",null,"","",null,"","",null,"","",null,"","",0,0,0,"No"]
[134,"",null,"","",null,"","",null,"","",null,"","",null,"","",0,0,0,"No"]
[135,"",null,"","",null,"","",null,"","",null,"","",null,"","",0,0,0,"No"]
[136,"",null,"","",null,"","",null,"","",null,"","",null,"","",0,0,0,"No"]
[137,"",null,"","",null,"","",null,"","",null,"","",null,"","",0,0,0,"No"]
[138,"",null,"","",null,"","",null,"","",null,"","",null,"","",0,0,0,"No"]
[139,"",null,"","",null,"","",null,"","",null,"","",null,"","",0,0,0,"No"]
[140,"",null,"","",null,"","",null,"","",null,"","",null,"","",0,0,0,"No"]
[141,"",null,"","",null,"","",null,"","",null,"","",null,"","",0,0,0,"No"]
[142,"",null,"","",null,"","",null,"","",null,"","",null,"","",0,0,0,"No"]
[2,"Robert Smyth Academy A",5,49,"Y",null,0,"N",null,0,"N",null,0,"N",null,0,"N",5,1,1,"No"]
[144,"",null,"","",null,"","",null,"","",null,"","",null,"","",0,0,0,"No"]
[145,"",null,"","",null,"","",null,"","",null,"","",null,"","",0,0,0,"No"]
[146,"",null,"","",null,"","",null,"","",null,"","",null,"","",0,0,0,"No"]
[147,"",null,"","",null,"","",null,"","",null,"","",null,"","",0,0,0,"No"]
[148,"",null,"","",null,"","",null,"","",null,"","",null,"","",0,0,0,"No"]
[149,"",null,"","",null,"","",null,"","",null,"","",null,"","",0,0,0,"No"]
[150,"",null,"","",null,"","",null,"","",null,"","",null,"","",0,0,0,"No"]
[151,"",null,"","",null,"","",null,"","",null,"","",null,"","",0,0,0,"No"]
[152,"",null,"","",null,"","",null,"","",null,"","",null,"","",0,0,0,"No"]
[153,"",null,"","",null,"","",null,"","",null,"","",null,"","",0,0,0,"No"]
[154,"",null,"","",null,"","",null,"","",null,"","",null,"","",0,0,0,"No"]
[155,"",null,"","",null,"","",null,"","",null,"","",null,"","",0,0,0,"No"]
[156,"",null,"","",null,"","",null,"","",null,"","",null,"","",0,0,0,"No"]
[157,"",null,"","",null,"","",null,"","",null,"","",null,"","",0,0,0,"No"]
[158,"",null,"","",null,"","",null,"","",null,"","",null,"","",0,0,0,"No"]
[159,"",null,"","",null,"","",null,"","",null,"","",null,"","",0,0,0,"No"]
[160,"",null,"","",null,"","",null,"","",null,"","",null,"","",0,0,0,"No"]
[161,"",null,"","",null,"","",null,"","",null,"","",null,"","",0,0,0,"No"]
[162,"",null,"","",null,"","",null,"","",null,"","",null,"","",0,0,0,"No"]
[163,"",null,"","",null,"","",null,"","",null,"","",null,"","",0,0,0,"No"]
[164,"",null,"","",null,"","",null,"","",null,"","",null,"","",0,0,0,"No"]
[165,"",null,"","",null,"","",null,"","",null,"","",null,"","",0,0,0,"No"]
[166,"",null,"","",null,"","",null,"","",null,"","",null,"","",0,0,0,"No"]
[167,"",null,"","",null,"","",null,"","",null,"","",null,"","",0,0,0,"No"]
[168,"",null,"","",null,"","",null,"","",null,"","",null,"","",0,0,0,"No"]
[169,"",null,"","",null,"","",null,"","",null,"","",null,"","",0,0,0,"No"]
[170,"",null,"","",null,"","",null,"","",null,"","",null,"","",0,0,0,"No"]
[171,"",null,"","",null,"","",null,"","",null,"","",null,"","",0,0,0,"No"]
[172,"",null,"","",null,"","",null,"","",null,"","",null,"","",0,0,0,"No"]
[173,"",null,"","",null,"","",null,"","",null,"","",null,"","",0,0,0,"No"]
[174,"",null,"","",null,"","",null,"","",null,"","",null,"","",0,0,0,"No"]
[175,"",null,"","",null,"","",null,"","",null,"","",null,"","",0,0,0,"No"]
[176,"",null,"","",null,"","",null,"","",null,"","",null,"","",0,0,0,"No"]
[177,"",null,"","",null,"","",null,"","",null,"","",null,"","",0,0,0,"No"]
[178,"",null,"","",null,"","",null,"","",null,"","",null,"","",0,0,0,"No"]
[179,"",null,"","",null,"","",null,"","",null,"","",null,"","",0,0,0,"No"]
[180,"",null,"","",null,"","",null,"","",null,"","",null,"","",0,0,0,"No"]
[181,"",null,"","",null,"","",null,"","",null,"","",null,"","",0,0,0,"No"]
[182,"",null,"","",null,"","",null,"","",null,"","",null,"","",0,0,0,"No"]
[183,"",null,"","",null,"","",null,"","",null,"","",null,"","",0,0,0,"No"]
[184,"",null,"","",null,"","",null,"","",null,"","",null,"","",0,0,0,"No"]
[185,"",null,"","",null,"","",null,"","",null,"","",null,"","",0,0,0,"No"]
[186,"",null,"","",null,"","",null,"","",null,"","",null,"","",0,0,0,"No"]
[187,"",null,"","",null,"","",null,"","",null,"","",null,"","",0,0,0,"No"]
[188,"",null,"","",null,"","",null,"","",null,"","",null,"","",0,0,0,"No"]
[189,"",null,"","",null,"","",null,"","",null,"","",null,"","",0,0,0,"No"]
[190,"",null,"","",null,"","",null,"","",null,"","",null,"","",0,0,0,"No"]
[1,"Loughborough High School A",6,54,"Y",null,0,"N",null,0,"N",null,0,"N",null,0,"N",6,1,1,"No"]
[192,"",null,"","",null,"","",null,"","",null,"","",null,"","",0,0,0,"No"]
[193,"",null,"","",null,"","",null,"","",null,"","",null,"","",0,0,0,"No"]
[194,"",null,"","",null,"","",null,"","",null,"","",null,"","",0,0,0,"No"]
[195,"",null,"","",null,"","",null,"","",null,"","",null,"","",0,0,0,"No"]
[196,"",null,"","",null,"","",null,"","",null,"","",null,"","",0,0,0,"No"]
[197,"",null,"","",null,"","",null,"","",null,"","",null,"","",0,0,0,"No"]
[198,"",null,"","",null,"","",null,"","",null,"","",null,"","",0,0,0,"No"]
[199,"",null,"","",null,"","",null,"","",null,"","",null,"","",0,0,0,"No"]
[200,"",null,"","",null,"","",null,"","",null,"","",null,"","",0,0,0,"No"]
[201,"",null,"","",null,"","",null,"","",null,"","",null,"","",0,0,0,"No"]
[202,"",null,"","",null,"","",null,"","",null,"","",null,"","",0,0,0,"No"]
[203,"",null,"","",null,"","",null,"","",null,"","",null,"","",0,0,0,"No"]
[204,"",null,"","",null,"","",null,"","",null,"","",null,"","",0,0,0,"No"]
[205,"",null,"","",null,"","",null,"","",null,"","",null,"","",0,0,0,"No"]
[206,"",null,"","",null,"","",null,"","",null,"","",null,"","",0,0,0,"No"]
[207,"",null,"","",null,"","",null,"","",null,"","",null,"","",0,0,0,"No"]
[208,"",null,"","",null,"","",null,"","",null,"","",null,"","",0,0,0,"No"]
[209,"",null,"","",null,"","",null,"","",null,"","",null,"","",0,0,0,"No"]
[210,"",null,"","",null,"","",null,"","",null,"","",null,"","",0,0,0,"No"]
[211,"",null,"","",null,"","",null,"","",null,"","",null,"","",0,0,0,"No"]
[212,"",null,"","",null,"","",null,"","",null,"","",null,"","",0,0,0,"No"]
[213,"",null,"","",null,"","",null,"","",null,"","",null,"","",0,0,0,"No"]
[214,"",null,"","",null,"","",null,"","",null,"","",null,"","",0,0,0,"No"]
[215,"",null,"","",null,"","",null,"","",null,"","",null,"","",0,0,0,"No"]
[216,"",null,"","",null,"","",null,"","",null,"","",null,"","",0,0,0,"No"]
[217,"",null,"","",null,"","",null,"","",null,"","",null,"","",0,0,0,"No"]
[218,"",null,"","",null,"","",null,"","",null,"","",null,"","",0,0,0,"No"]
[219,"",null,"","",null,"","",null,"","",null,"","",null,"","",0,0,0,"No"]
[220,"",null,"","",null,"","",null,"","",null,"","",null,"","",0,0,0,"No"]
[221,"",null,"","",null,"","",null,"","",null,"","",null,"","",0,0,0,"No"]
[222,"",null,"","",null,"","",null,"","",null,"","",null,"","",0,0,0,"No"]
[223,"",null,"","",null,"","",null,"","",null,"","",null,"","",0,0,0,"No"]
[224,"",null,"","",null,"","",null,"","",null,"","",null,"","",0,0,0,"No"]
[225,"",null,"","",null,"","",null,"","",null,"","",null,"","",0,0,0,"No"]
[226,"",null,"","",null,"","",null,"","",null,"","",null,"","",0,0,0,"No"]
[227,"",null,"","",null,"","",null,"","",null,"","",null,"","",0,0,0,"No"]
[228,"",null,"","",null,"","",null,"","",null,"","",null,"","",0,0,0,"No"]
[229,"",null,"","",null,"","",null,"","",null,"","",null,"","",0,0,0,"No"]
[230,"",null,"","",null,"","",null,"","",null,"","",null,"","",0,0,0,"No"]
[231,"",null,"","",null,"","",null,"","",null,"","",null,"","",0,0,0,"No"]
[232,"",null,"","",null,"","",null,"","",null,"","",null,"","",0,0,0,"No"]
[233,"",null,"","",null,"","",null,"","",null,"","",null,"","",0,0,0,"No"]
[234,"",null,"","",null,"","",null,"","",null,"","",null,"","",0,0,0,"No"]
[235,"",null,"","",null,"","",null,"","",null,"","",null,"","",0,0,0,"No"]
[236,"",null,"","",null,"","",null,"","",null,"","",null,"","",0,0,0,"No"]
[237,"",null,"","",null,"","",null,"","",null,"","",null,"","",0,0,0,"No"]
[238,"",null,"","",null,"","",null,"","",null,"","",null,"","",0,0,0,"No"]
[239,"",null,"","",null,"","",null,"","",null,"","",null,"","",0,0,0,"No"]
[240,"",null,"","",null,"","",null,"","",null,"","",null,"","",0,0,0,"No"]
[241,"",null,"","",null,"","",null,"","",null,"","",null,"","",0,0,0,"No"]
[242,"",null,"","",null,"","",null,"","",null,"","",null,"","",0,0,0,"No"]
[243,"",null,"","",null,"","",null,"","",null,"","",null,"","",0,0,0,"No"]
[244,"",null,"","",null,"","",null,"","",null,"","",null,"","",0,0,0,"No"]
[245,"",null,"","",null,"","",null,"","",null,"","",null,"","",0,0,0,"No"]
[246,"",null,"","",null,"","",null,"","",null,"","",null,"","",0,0,0,"No"]
[247,"",null,"","",null,"","",null,"","",null,"","",null,"","",0,0,0,"No"]
[248,"",null,"","",null,"","",null,"","",null,"","",null,"","",0,0,0,"No"]
[249,"",null,"","",null,"","",null,"","",null,"","",null,"","",0,0,0,"No"]
[250,"",null,"","",null,"","",null,"","",null,"","",null,"","",0,0,0,"No"]
[251,"",null,"","",null,"","",null,"","",null,"","",null,"","",0,0,0,"No"]
[252,"",null,"","",null,"","",null,"","",null,"","",null,"","",0,0,0,"No"]
[253,"",null,"","",null,"","",null,"","",null,"","",null,"","",0,0,0,"No"]
[254,"",null,"","",null,"","",null,"","",null,"","",null,"","",0,0,0,"No"]
[255,"",null,"","",null,"","",null,"","",null,"","",null,"","",0,0,0,"No"]
[256,"",null,"","",null,"","",null,"","",null,"","",null,"","",0,0,0,"No"]
[257,"",null,"","",null,"","",null,"","",null,"","",null,"","",0,0,0,"No"]
[258,"",null,"","",null,"","",null,"","",null,"","",null,"","",0,0,0,"No"]
[259,"",null,"","",null,"","",null,"","",null,"","",null,"","",0,0,0,"No"]
[260,"",null,"","",null,"","",null,"","",null,"","",null,"","",0,0,0,"No"]
[261,"",null,"","",null,"","",null,"","",null,"","",null,"","",0,0,0,"No"]
[262,"",null,"","",null,"","",null,"","",null,"","",null,"","",0,0,0,"No"]
[263,"",null,"","",null,"","",null,"","",null,"","",null,"","",0,0,0,"No"]
[264,"",null,"","",null,"","",null,"","",null,"","",null,"","",0,0,0,"No"]
[265,"",null,"","",null,"","",null,"","",null,"","",null,"","",0,0,0,"No"]
[266,"",null,"","",null,"","",null,"","",null,"","",null,"","",0,0,0,"No"]
[267,"",null,"","",null,"","",null,"","",null,"","",null,"","",0,0,0,"No"]
[268,"",null,"","",null,"","",null,"","",null,"","",null,"","",0,0,0,"No"]
[269,"",null,"","",null,"","",null,"","",null,"","",null,"","",0,0,0,"No"]
[270,"",null,"","",null,"","",null,"","",null,"","",null,"","",0,0,0,"No"]
[271,"",null,"","",null,"","",null,"","",null,"","",null,"","",0,0,0,"No"]
[272,"",null,"","",null,"","",null,"","",null,"","",null,"","",0,0,0,"No"]
[273,"",null,"","",null,"","",null,"","",null,"","",null,"","",0,0,0,"No"]
[274,"",null,"","",null,"","",null,"","",null,"","",null,"","",0,0,0,"No"]
[275,"",null,"","",null,"","",null,"","",null,"","",null,"","",0,0,0,"No"]
[276,"",null,"","",null,"","",null,"","",null,"","",null,"","",0,0,0,"No"]
[277,"",null,"","",null,"","",null,"","",null,"","",null,"","",0,0,0,"No"]
[278,"",null,"","",null,"","",null,"","",null,"","",null,"","",0,0,0,"No"]
[279,"",null,"","",null,"","",null,"","",null,"","",null,"","",0,0,0,"No"]
[280,"",null,"","",null,"","",null,"","",null,"","",null,"","",0,0,0,"No"]
[281,"",null,"","",null,"","",null,"","",null,"","",null,"","",0,0,0,"No"]
[282,"",null,"","",null,"","",null,"","",null,"","",null,"","",0,0,0,"No"]
[283,"",null,"","",null,"","",null,"","",null,"","",null,"","",0,0,0,"No"]
[284,"",null,"","",null,"","",null,"","",null,"","",null,"","",0,0,0,"No"]
[285,"",null,"","",null,"","",null,"","",null,"","",null,"","",0,0,0,"No"]
[286,"",null,"","",null,"","",null,"","",null,"","",null,"","",0,0,0,"No"]
[287,"",null,"","",null,"","",null,"","",null,"","",null,"","",0,0,0,"No"]
[288,"",null,"","",null,"","",null,"","",null,"","",null,"","",0,0,0,"No"]
[289,"",null,"","",null,"","",null,"","",null,"","",null,"","",0,0,0,"No"]
[290,"",null,"","",null,"","",null,"","",null,"","",null,"","",0,0,0,"No"]
[291,"",null,"","",null,"","",null,"","",null,"","",null,"","",0,0,0,"No"]
[292,"",null,"","",null,"","",null,"","",null,"","",null,"","",0,0,0,"No"]
[293,"",null,"","",null,"","",null,"","",null,"","",null,"","",0,0,0,"No"]
[294,"",null,"","",null,"","",null,"","",null,"","",null,"","",0,0,0,"No"]
[295,"",null,"","",null,"","",null,"","",null,"","",null,"","",0,0,0,"No"]
[296,"",null,"","",null,"","",null,"","",null,"","",null,"","",0,0,0,"No"]
[297,"",null,"","",null,"","",null,"","",null,"","",null,"","",0,0,0,"No"]
[298,"",null,"","",null,"","",null,"","",null,"","",null,"","",0,0,0,"No"]
[299,"",null,"","",null,"","",null,"","",null,"","",null,"","",0,0,0,"No"]
[300,"",null,"","",null,"","",null,"","",null,"","",null,"","",0,0,0,"No"]
[301,"",null,"","",null,"","",null,"","",null,"","",null,"","",0,0,0,"No"]
[302,"",null,"","",null,"","",null,"","",null,"","",null,"","",0,0,0,"No"]
[303,"",null,"","",null,"","",null,"","",null,"","",null,"","",0,0,0,"No"]
[304,"",null,"","",null,"","",null,"","",null,"","",null,"","",0,0,0,"No"]
[305,"",null,"","",null,"","",null,"","",null,"","",null,"","",0,0,0,"No"]
[306,"",null,"","",null,"","",null,"","",null,"","",null,"","",0,0,0,"No"]
[307,"",null,"","",null,"","",null,"","",null,"","",null,"","",0,0,0,"No"]
[308,"",null,"","",null,"","",null,"","",null,"","",null,"","",0,0,0,"No"]
[309,"",null,"","",null,"","",null,"","",null,"","",null,"","",0,0,0,"No"]
[310,"",null,"","",null,"","",null,"","",null,"","",null,"","",0,0,0,"No"]
[311,"",null,"","",null,"","",null,"","",null,"","",null,"","",0,0,0,"No"]
[312,"",null,"","",null,"","",null,"","",null,"","",null,"","",0,0,0,"No"]
[313,"",null,"","",null,"","",null,"","",null,"","",null,"","",0,0,0,"No"]
[314,"",null,"","",null,"","",null,"","",null,"","",null,"","",0,0,0,"No"]
[315,"",null,"","",null,"","",null,"","",null,"","",null,"","",0,0,0,"No"]
[316,"",null,"","",null,"","",null,"","",null,"","",null,"","",0,0,0,"No"]
[317,"",null,"","",null,"","",null,"","",null,"","",null,"","",0,0,0,"No"]
[318,"",null,"","",null,"","",null,"","",null,"","",null,"","",0,0,0,"No"]
[319,"",null,"","",null,"","",null,"","",null,"","",null,"","",0,0,0,"No"]
[320,"",null,"","",null,"","",null,"","",null,"","",null,"","",0,0,0,"No"]
[321,"",null,"","",null,"","",null,"","",null,"","",null,"","",0,0,0,"No"]
[322,"",null,"","",null,"","",null,"","",null,"","",null,"","",0,0,0,"No"]
[323,"",null,"","",null,"","",null,"","",null,"","",null,"","",0,0,0,"No"]
[324,"",null,"","",null,"","",null,"","",null,"","",null,"","",0,0,0,"No"]
[325,"",null,"","",null,"","",null,"","",null,"","",null,"","",0,0,0,"No"]
[326,"",null,"","",null,"","",null,"","",null,"","",null,"","",0,0,0,"No"]
[327,"",null,"","",null,"","",null,"","",null,"","",null,"","",0,0,0,"No"]
[328,"",null,"","",null,"","",null,"","",null,"","",null,"","",0,0,0,"No"]
[329,"",null,"","",null,"","",null,"","",null,"","",null,"","",0,0,0,"No"]
[330,"",null,"","",null,"","",null,"","",null,"","",null,"","",0,0,0,"No"]
[331,"",null,"","",null,"","",null,"","",null,"","",null,"","",0,0,0,"No"]
[332,"",null,"","",null,"","",null,"","",null,"","",null,"","",0,0,0,"No"]
[333,"",null,"","",null,"","",null,"","",null,"","",null,"","",0,0,0,"No"]
[334,"",null,"","",null,"","",null,"","",null,"","",null,"","",0,0,0,"No"]
[335,"",null,"","",null,"","",null,"","",null,"","",null,"","",0,0,0,"No"]
[336,"",null,"","",null,"","",null,"","",null,"","",null,"","",0,0,0,"No"]
[337,"",null,"","",null,"","",null,"","",null,"","",null,"","",0,0,0,"No"]
[338,"",null,"","",null,"","",null,"","",null,"","",null,"","",0,0,0,"No"]
[339,"",null,"","",null,"","",null,"","",null,"","",null,"","",0,0,0,"No"]
[340,"",null,"","",null,"","",null,"","",null,"","",null,"","",0,0,0,"No"]
[341,"",null,"","",null,"","",null,"","",null,"","",null,"","",0,0,0,"No"]
[342,"",null,"","",null,"","",null,"","",null,"","",null,"","",0,0,0,"No"]
[343,"",null,"","",null,"","",null,"","",null,"","",null,"","",0,0,0,"No"]
[344,"",null,"","",null,"","",null,"","",null,"","",null,"","",0,0,0,"No"]
[345,"",null,"","",null,"","",null,"","",null,"","",null,"","",0,0,0,"No"]
[346,"",null,"","",null,"","",null,"","",null,"","",null,"","",0,0,0,"No"]
[347,"",null,"","",null,"","",null,"","",null,"","",null,"","",0,0,0,"No"]
[348,"",null,"","",null,"","",null,"","",null,"","",null,"","",0,0,0,"No"]
[349,"",null,"","",null,"","",null,"","",null,"","",null,"","",0,0,0,"No"]
[350,"",null,"","",null,"","",null,"","",null,"","",null,"","",0,0,0,"No"]
[351,"",null,"","",null,"","",null,"","",null,"","",null,"","",0,0,0,"No"]
[352,"",null,"","",null,"","",null,"","",null,"","",null,"","",0,0,0,"No"]
[353,"",null,"","",null,"","",null,"","",null,"","",null,"","",0,0,0,"No"]
[354,"",null,"","",null,"","",null,"","",null,"","",null,"","",0,0,0,"No"]
[355,"",null,"","",null,"","",null,"","",null,"","",null,"","",0,0,0,"No"]
[356,"",null,"","",null,"","",null,"","",null,"","",null,"","",0,0,0,"No"]
[357,"",null,"","",null,"","",null,"","",null,"","",null,"","",0,0,0,"No"]
[358,"",null,"","",null,"","",null,"","",null,"","",null,"","",0,0,0,"No"]
[359,"",null,"","",null,"","",null,"","",null,"","",null,"","",0,0,0,"No"]
[360,"",null,"","",null,"","",null,"","",null,"","",null,"","",0,0,0,"No"]
[361,"",null,"","",null,"","",null,"","",null,"","",null,"","",0,0,0,"No"]
[362,"",null,"","",null,"","",null,"","",null,"","",null,"","",0,0,0,"No"]
[363,"",null,"","",null,"","",null,"","",null,"","",null,"","",0,0,0,"No"]
[364,"",null,"","",null,"","",null,"","",null,"","",null,"","",0,0,0,"No"]
[365,"",null,"","",null,"","",null,"","",null,"","",null,"","",0,0,0,"No"]
[366,"",null,"","",null,"","",null,"","",null,"","",null,"","",0,0,0,"No"]
[367,"",null,"","",null,"","",null,"","",null,"","",null,"","",0,0,0,"No"]
[368,"",null,"","",null,"","",null,"","",null,"","",null,"","",0,0,0,"No"]
[369,"",null,"","",null,"","",null,"","",null,"","",null,"","",0,0,0,"No"]
[370,"",null,"","",null,"","",null,"","",null,"","",null,"","",0,0,0,"No"]
[371,"",null,"","",null,"","",null,"","",null,"","",null,"","",0,0,0,"No"]
[372,"",null,"","",null,"","",null,"","",null,"","",null,"","",0,0,0,"No"]
[373,"",null,"","",null,"","",null,"","",null,"","",null,"","",0,0,0,"No"]
[374,"",null,"","",null,"","",null,"","",null,"","",null,"","",0,0,0,"No"]
[375,"",null,"","",null,"","",null,"","",null,"","",null,"","",0,0,0,"No"]
[376,"",null,"","",null,"","",null,"","",null,"","",null,"","",0,0,0,"No"]
[377,"",null,"","",null,"","",null,"","",null,"","",null,"","",0,0,0,"No"]
[378,"",null,"","",null,"","",null,"","",null,"","",null,"","",0,0,0,"No"]
[379,"",null,"","",null,"","",null,"","",null,"","",null,"","",0,0,0,"No"]
[380,"",null,"","",null,"","",null,"","",null,"","",null,"","",0,0,0,"No"]
[381,"",null,"","",null,"","",null,"","",null,"","",null,"","",0,0,0,"No"]
[382,"",null,"","",null,"","",null,"","",null,"","",null,"","",0,0,0,"No"]
[383,"",null,"","",null,"","",null,"","",null,"","",null,"","",0,0,0,"No"]
[384,"",null,"","",null,"","",null,"","",null,"","",null,"","",0,0,0,"No"]
[385,"",null,"","",null,"","",null,"","",null,"","",null,"","",0,0,0,"No"]
[386,"",null,"","",null,"","",null,"","",null,"","",null,"","",0,0,0,"No"]
[387,"",null,"","",null,"","",null,"","",null,"","",null,"","",0,0,0,"No"]
[388,"",null,"","",null,"","",null,"","",null,"","",null,"","",0,0,0,"No"]
[389,"",null,"","",null,"","",null,"","",null,"","",null,"","",0,0,0,"No"]
[390,"",null,"","",null,"","",null,"","",null,"","",null,"","",0,0,0,"No"]
[391,"",null,"","",null,"","",null,"","",null,"","",null,"","",0,0,0,"No"]
[392,"",null,"","",null,"","",null,"","",null,"","",null,"","",0,0,0,"No"]
[393,"",null,"","",null,"","",null,"","",null,"","",null,"","",0,0,0,"No"]
[394,"",null,"","",null,"","",null,"","",null,"","",null,"","",0,0,0,"No"]
[395,"",null,"","",null,"","",null,"","",null,"","",null,"","",0,0,0,"No"]
[396,"",null,"","",null,"","",null,"","",null,"","",null,"","",0,0,0,"No"]
[397,"",null,"","",null,"","",null,"","",null,"","",null,"","",0,0,0,"No"]
[398,"",null,"","",null,"","",null,"","",null,"","",null,"","",0,0,0,"No"]
[399,"",null,"","",null,"","",null,"","",null,"","",null,"","",0,0,0,"No"]
[400,"",null,"","",null,"","",null,"","",null,"","",null,"","",0,0,0,"No"]
[401,"",null,"","",null,"","",null,"","",null,"","",null,"","",0,0,0,"No"]
[402,"",null,"","",null,"","",null,"","",null,"","",null,"","",0,0,0,"No"]
[403,"",null,"","",null,"","",null,"","",null,"","",null,"","",0,0,0,"No"]
[404,"",null,"","",null,"","",null,"","",null,"","",null,"","",0,0,0,"No"]
[405,"",null,"","",null,"","",null,"","",null,"","",null,"","",0,0,0,"No"]
[406,"",null,"","",null,"","",null,"","",null,"","",null,"","",0,0,0,"No"]
[407,"",null,"","",null,"","",null,"","",null,"","",null,"","",0,0,0,"No"]
[408,"",null,"","",null,"","",null,"","",null,"","",null,"","",0,0,0,"No"]
[409,"",null,"","",null,"","",null,"","",null,"","",null,"","",0,0,0,"No"]
[410,"",null,"","",null,"","",null,"","",null,"","",null,"","",0,0,0,"No"]
[411,"",null,"","",null,"","",null,"","",null,"","",null,"","",0,0,0,"No"]
[412,"",null,"","",null,"","",null,"","",null,"","",null,"","",0,0,0,"No"]
[413,"",null,"","",null,"","",null,"","",null,"","",null,"","",0,0,0,"No"]
[414,"",null,"","",null,"","",null,"","",null,"","",null,"","",0,0,0,"No"]
[415,"",null,"","",null,"","",null,"","",null,"","",null,"","",0,0,0,"No"]
[416,"",null,"","",null,"","",null,"","",null,"","",null,"","",0,0,0,"No"]
[417,"",null,"","",null,"","",null,"","",null,"","",null,"","",0,0,0,"No"]
[418,"",null,"","",null,"","",null,"","",null,"","",null,"","",0,0,0,"No"]
[419,"",null,"","",null,"","",null,"","",null,"","",null,"","",0,0,0,"No"]
[420,"",null,"","",null,"","",null,"","",null,"","",null,"","",0,0,0,"No"]
[421,"",null,"","",null,"","",null,"","",null,"","",null,"","",0,0,0,"No"]
[422,"",null,"","",null,"","",null,"","",null,"","",null,"","",0,0,0,"No"]
[423,"",null,"","",null,"","",null,"","",null,"","",null,"","",0,0,0,"No"]
[424,"",null,"","",null,"","",null,"","",null,"","",null,"","",0,0,0,"No"]
[425,"",null,"","",null,"","",null,"","",null,"","",null,"","",0,0,0,"No"]
[426,"",null,"","",null,"","",null,"","",null,"","",null,"","",0,0,0,"No"]
[427,"",null,"","",null,"","",null,"","",null,"","",null,"","",0,0,0,"No"]
[428,"",null,"","",null,"","",null,"","",null,"","",null,"","",0,0,0,"No"]
[429,"",null,"","",null,"","",null,"","",null,"","",null,"","",0,0,0,"No"]
[430,"",null,"","",null,"","",null,"","",null,"","",null,"","",0,0,0,"No"]
[431,"",null,"","",null,"","",null,"","",null,"","",null,"","",0,0,0,"No"]
[432,"",null,"","",null,"","",null,"","",null,"","",null,"","",0,0,0,"No"]
[433,"",null,"","",null,"","",null,"","",null,"","",null,"","",0,0,0,"No"]
[434,"",null,"","",null,"","",null,"","",null,"","",null,"","",0,0,0,"No"]
[435,"",null,"","",null,"","",null,"","",null,"","",null,"","",0,0,0,"No"]
[436,"",null,"","",null,"","",null,"","",null,"","",null,"","",0,0,0,"No"]
[437,"",null,"","",null,"","",null,"","",null,"","",null,"","",0,0,0,"No"]
[438,"",null,"","",null,"","",null,"","",null,"","",null,"","",0,0,0,"No"]
[439,"",null,"","",null,"","",null,"","",null,"","",null,"","",0,0,0,"No"]
[440,"",null,"","",null,"","",null,"","",null,"","",null,"","",0,0,0,"No"]
[441,"",null,"","",null,"","",null,"","",null,"","",null,"","",0,0,0,"No"]
[442,"",null,"","",null,"","",null,"","",null,"","",null,"","",0,0,0,"No"]
[443,"",null,"","",null,"","",null,"","",null,"","",null,"","",0,0,0,"No"]
[444,"",null,"","",null,"","",null,"","",null,"","",null,"","",0,0,0,"No"]
[445,"",null,"","",null,"","",null,"","",null,"","",null,"","",0,0,0,"No"]
[446,"",null,"","",null,"","",null,"","",null,"","",null,"","",0,0,0,"No"]
[447,"",null,"","",null,"","",null,"","",null,"","",null,"","",0,0,0,"No"]
[448,"",null,"","",null,"","",null,"","",null,"","",null,"","",0,0,0,"No"]
[449,"",null,"","",null,"","",null,"","",null,"","",null,"","",0,0,0,"No"]
[450,"",null,"","",null,"","",null,"","",null,"","",null,"","",0,0,0,"No"]
[451,"",null,"","",null,"","",null,"","",null,"","",null,"","",0,0,0,"No"]
[452,"",null,"","",null,"","",null,"","",null,"","",null,"","",0,0,0,"No"]
[453,"",null,"","",null,"","",null,"","",null,"","",null,"","",0,0,0,"No"]
[454,"",null,"","",null,"","",null,"","",null,"","",null,"","",0,0,0,"No"]
[455,"",null,"","",null,"","",null,"","",null,"","",null,"","",0,0,0,"No"]
[456,"",null,"","",null,"","",null,"","",null,"","",null,"","",0,0,0,"No"]
[457,"",null,"","",null,"","",null,"","",null,"","",null,"","",0,0,0,"No"]
[458,"",null,"","",null,"","",null,"","",null,"","",null,"","",0,0,0,"No"]
[459,"",null,"","",null,"","",null,"","",null,"","",null,"","",0,0,0,"No"]
[460,"",null,"","",null,"","",null,"","",null,"","",null,"","",0,0,0,"No"]
[461,"",null,"","",null,"","",null,"","",null,"","",null,"","",0,0,0,"No"]
[462,"",null,"","",null,"","",null,"","",null,"","",null,"","",0,0,0,"No"]
[463,"",null,"","",null,"","",null,"","",null,"","",null,"","",0,0,0,"No"]
[464,"",null,"","",null,"","",null,"","",null,"","",null,"","",0,0,0,"No"]
[465,"",null,"","",null,"","",null,"","",null,"","",null,"","",0,0,0,"No"]
[466,"",null,"","",null,"","",null,"","",null,"","",null,"","",0,0,0,"No"]
[467,"",null,"","",null,"","",null,"","",null,"","",null,"","",0,0,0,"No"]
[468,"",null,"","",null,"","",null,"","",null,"","",null,"","",0,0,0,"No"]
[469,"",null,"","",null,"","",null,"","",null,"","",null,"","",0,0,0,"No"]
[470,"",null,"","",null,"","",null,"","",null,"","",null,"","",0,0,0,"No"]
[471,"",null,"","",null,"","",null,"","",null,"","",null,"","",0,0,0,"No"]
[472,"",null,"","",null,"","",null,"","",null,"","",null,"","",0,0,0,"No"]
[473,"",null,"","",null,"","",null,"","",null,"","",null,"","",0,0,0,"No"]
[474,"",null,"","",null,"","",null,"","",null,"","",null,"","",0,0,0,"No"]
[475,"",null,"","",null,"","",null,"","",null,"","",null,"","",0,0,0,"No"]
[476,"",null,"","",null,"","",null,"","",null,"","",null,"","",0,0,0,"No"]
[477,"",null,"","",null,"","",null,"","",null,"","",null,"","",0,0,0,"No"]
[478,"",null,"","",null,"","",null,"","",null,"","",null,"","",0,0,0,"No"]
[479,"",null,"","",null,"","",null,"","",null,"","",null,"","",0,0,0,"No"]
[480,"",null,"","",null,"","",null,"","",null,"","",null,"","",0,0,0,"No"]
[481,"",null,"","",null,"","",null,"","",null,"","",null,"","",0,0,0,"No"]
[482,"",null,"","",null,"","",null,"","",null,"","",null,"","",0,0,0,"No"]
[483,"",null,"","",null,"","",null,"","",null,"","",null,"","",0,0,0,"No"]
[484,"",null,"","",null,"","",null,"","",null,"","",null,"","",0,0,0,"No"]
[485,"",null,"","",null,"","",null,"","",null,"","",null,"","",0,0,0,"No"]
[486,"",null,"","",null,"","",null,"","",null,"","",null,"","",0,0,0,"No"]
[487,"",null,"","",null,"","",null,"","",null,"","",null,"","",0,0,0,"No"]
[488,"",null,"","",null,"","",null,"","",null,"","",null,"","",0,0,0,"No"]
[489,"",null,"","",null,"","",null,"","",null,"","",null,"","",0,0,0,"No"]
[490,"",null,"","",null,"","",null,"","",null,"","",null,"","",0,0,0,"No"]
[491,"",null,"","",null,"","",null,"","",null,"","",null,"","",0,0,0,"No"]
[492,"",null,"","",null,"","",null,"","",null,"","",null,"","",0,0,0,"No"]
[493,"",null,"","",null,"","",null,"","",null,"","",null,"","",0,0,0,"No"]
[494,"",null,"","",null,"","",null,"","",null,"","",null,"","",0,0,0,"No"]
[495,"",null,"","",null,"","",null,"","",null,"","",null,"","",0,0,0,"No"]
[496,"",null,"","",null,"","",null,"","",null,"","",null,"","",0,0,0,"No"]
[497,"",null,"","",null,"","",null,"","",null,"","",null,"","",0,0,0,"No"]
[498,"",null,"","",null,"","",null,"","",null,"","",null,"","",0,0,0,"No"]
[499,"",null,"","",null,"","",null,"","",null,"","",null,"","",0,0,0,"No"]
[500,"",null,"","",null,"","",null,"","",null,"","",null,"","",0,0,0,"No"]
[]
["Reference","IB Teams","Position (Race 1)","Result (Race 1)","Claimed Last Place (Race 1)","Position (Race 2)","Result (Race 2)","Claimed Last Place (Race 2)","Position (Race 3)","Result (Race 3)","Claimed Last Place (Race 3)","Position (Race 4)","Result (Race 4)","Claimed Last Place (Race 4)","Position (Race 5)","Result (Race 5)","Claimed Last Place (Race 5)","Total (All Races)","Races Completed","Number of claimed LP","Eligible"]
[12,"Loughborough Grammar School A",1,9,"N",1,8,"N",1,7,"N",1,28,"Y",null,0,"N",4,4,1,"Yes"]
[186,"",null,"","",null,"","",null,"","",null,"","",null,"","",0,0,0,"No"]
[284,"",null,"","",null,"","",null,"","",null,"","",null,"","",0,0,0,"No"]
[11,"John Ferneley College A",2,33,"N",2,37,"N",2,32,"N",2,34,"N",null,0,"N",8,4,0,"Yes"]
[6,"Dixie Grammar School A",6,70,"Y",null,0,"N",null,0,"N",3,47,"Y",null,0,"N",9,2,2,"No"]
[4,"John Ferneley College B",9,94,"N",8,85,"Y",7,73,"Y",4,61,"N",null,0,"N",28,4,2,"Yes"]
[274,"Loughborough Grammar School B",null,0,"N",null,0,"N",3,47,"Y",null,0,"N",null,0,"N",3,1,1,"No"]
[5,"Charnwood College A",8,85,"Y",5,55,"N",4,57,"N",null,0,"N",null,0,"N",17,3,1,"Yes"]
[9,"Groby CC A",4,67,"N",3,44,"N",5,63,"Y",null,0,"N",null,0,"N",12,3,1,"Yes"]
[1,"Catmose College A",12,99,"Y",7,71,"Y",6,72,"Y",null,0,"N",null,0,"N",25,3,3,"No"]
[8,"Welland Park Academy A",5,68,"Y",4,53,"Y",null,0,"N",null,0,"N",null,0,"N",9,2,2,"No"]
[2,"Robert Smyth Academy A",10,97,"Y",6,68,"Y",null,0,"N",null,0,"N",null,0,"N",16,2,2,"No"]
[13,"",null,"","",null,"","",null,"","",null,"","",null,"","",0,0,0,"No"]
[14,"",null,"","",null,"","",null,"","",null,"","",null,"","",0,0,0,"No"]
[15,"",null,"","",null,"","",null,"","",null,"","",null,"","",0,0,0,"No"]
[16,"",null,"","",null,"","",null,"","",null,"","",null,"","",0,0,0,"No"]
[17,"",null,"","",null,"","",null,"","",null,"","",null,"","",0,0,0,"No"]
[18,"",null,"","",null,"","",null,"","",null,"","",null,"","",0,0,0,"No"]
[19,"",null,"","",null,"","",null,"","",null,"","",null,"","",0,0,0,"No"]
[20,"",null,"","",null,"","",null,"","",null,"","",null,"","",0,0,0,"No"]
[21,"",null,"","",null,"","",null,"","",null,"","",null,"","",0,0,0,"No"]
[22,"",null,"","",null,"","",null,"","",null,"","",null,"","",0,0,0,"No"]
[23,"",null,"","",null,"","",null,"","",null,"","",null,"","",0,0,0,"No"]
[24,"",null,"","",null,"","",null,"","",null,"","",null,"","",0,0,0,"No"]
[25,"",null,"","",null,"","",null,"","",null,"","",null,"","",0,0,0,"No"]
[26,"",null,"","",null,"","",null,"","",null,"","",null,"","",0,0,0,"No"]
[27,"",null,"","",null,"","",null,"","",null,"","",null,"","",0,0,0,"No"]
[28,"",null,"","",null,"","",null,"","",null,"","",null,"","",0,0,0,"No"]
[29,"",null,"","",null,"","",null,"","",null,"","",null,"","",0,0,0,"No"]
[30,"",null,"","",null,"","",null,"","",null,"","",null,"","",0,0,0,"No"]
[31,"",null,"","",null,"","",null,"","",null,"","",null,"","",0,0,0,"No"]
[32,"",null,"","",null,"","",null,"","",null,"","",null,"","",0,0,0,"No"]
[286,"",null,"","",null,"","",null,"","",null,"","",null,"","",0,0,0,"No"]
[34,"",null,"","",null,"","",null,"","",null,"","",null,"","",0,0,0,"No"]
[35,"",null,"","",null,"","",null,"","",null,"","",null,"","",0,0,0,"No"]
[36,"",null,"","",null,"","",null,"","",null,"","",null,"","",0,0,0,"No"]
[37,"",null,"","",null,"","",null,"","",null,"","",null,"","",0,0,0,"No"]
[38,"",null,"","",null,"","",null,"","",null,"","",null,"","",0,0,0,"No"]
[39,"",null,"","",null,"","",null,"","",null,"","",null,"","",0,0,0,"No"]
[40,"",null,"","",null,"","",null,"","",null,"","",null,"","",0,0,0,"No"]
[41,"",null,"","",null,"","",null,"","",null,"","",null,"","",0,0,0,"No"]
[42,"",null,"","",null,"","",null,"","",null,"","",null,"","",0,0,0,"No"]
[43,"",null,"","",null,"","",null,"","",null,"","",null,"","",0,0,0,"No"]
[44,"",null,"","",null,"","",null,"","",null,"","",null,"","",0,0,0,"No"]
[45,"",null,"","",null,"","",null,"","",null,"","",null,"","",0,0,0,"No"]
[46,"",null,"","",null,"","",null,"","",null,"","",null,"","",0,0,0,"No"]
[47,"",null,"","",null,"","",null,"","",null,"","",null,"","",0,0,0,"No"]
[48,"",null,"","",null,"","",null,"","",null,"","",null,"","",0,0,0,"No"]
[49,"",null,"","",null,"","",null,"","",null,"","",null,"","",0,0,0,"No"]
[50,"",null,"","",null,"","",null,"","",null,"","",null,"","",0,0,0,"No"]
[51,"",null,"","",null,"","",null,"","",null,"","",null,"","",0,0,0,"No"]
[52,"",null,"","",null,"","",null,"","",null,"","",null,"","",0,0,0,"No"]
[53,"",null,"","",null,"","",null,"","",null,"","",null,"","",0,0,0,"No"]
[54,"",null,"","",null,"","",null,"","",null,"","",null,"","",0,0,0,"No"]
[55,"",null,"","",null,"","",null,"","",null,"","",null,"","",0,0,0,"No"]
[56,"",null,"","",null,"","",null,"","",null,"","",null,"","",0,0,0,"No"]
[57,"",null,"","",null,"","",null,"","",null,"","",null,"","",0,0,0,"No"]
[58,"",null,"","",null,"","",null,"","",null,"","",null,"","",0,0,0,"No"]
[59,"",null,"","",null,"","",null,"","",null,"","",null,"","",0,0,0,"No"]
[60,"",null,"","",null,"","",null,"","",null,"","",null,"","",0,0,0,"No"]
[61,"",null,"","",null,"","",null,"","",null,"","",null,"","",0,0,0,"No"]
[62,"",null,"","",null,"","",null,"","",null,"","",null,"","",0,0,0,"No"]
[63,"",null,"","",null,"","",null,"","",null,"","",null,"","",0,0,0,"No"]
[64,"",null,"","",null,"","",null,"","",null,"","",null,"","",0,0,0,"No"]
[65,"",null,"","",null,"","",null,"","",null,"","",null,"","",0,0,0,"No"]
[66,"",null,"","",null,"","",null,"","",null,"","",null,"","",0,0,0,"No"]
[67,"",null,"","",null,"","",null,"","",null,"","",null,"","",0,0,0,"No"]
[68,"",null,"","",null,"","",null,"","",null,"","",null,"","",0,0,0,"No"]
[69,"",null,"","",null,"","",null,"","",null,"","",null,"","",0,0,0,"No"]
[70,"",null,"","",null,"","",null,"","",null,"","",null,"","",0,0,0,"No"]
[71,"",null,"","",null,"","",null,"","",null,"","",null,"","",0,0,0,"No"]
[72,"",null,"","",null,"","",null,"","",null,"","",null,"","",0,0,0,"No"]
[73,"",null,"","",null,"","",null,"","",null,"","",null,"","",0,0,0,"No"]
[74,"",null,"","",null,"","",null,"","",null,"","",null,"","",0,0,0,"No"]
[75,"",null,"","",null,"","",null,"","",null,"","",null,"","",0,0,0,"No"]
[76,"",null,"","",null,"","",null,"","",null,"","",null,"","",0,0,0,"No"]
[77,"",null,"","",null,"","",null,"","",null,"","",null,"","",0,0,0,"No"]
[78,"",null,"","",null,"","",null,"","",null,"","",null,"","",0,0,0,"No"]
[79,"",null,"","",null,"","",null,"","",null,"","",null,"","",0,0,0,"No"]
[80,"",null,"","",null,"","",null,"","",null,"","",null,"","",0,0,0,"No"]
[81,"",null,"","",null,"","",null,"","",null,"","",null,"","",0,0,0,"No"]
[82,"",null,"","",null,"","",null,"","",null,"","",null,"","",0,0,0,"No"]
[83,"",null,"","",null,"","",null,"","",null,"","",null,"","",0,0,0,"No"]
[84,"",null,"","",null,"","",null,"","",null,"","",null,"","",0,0,0,"No"]
[85,"",null,"","",null,"","",null,"","",null,"","",null,"","",0,0,0,"No"]
[86,"",null,"","",null,"","",null,"","",null,"","",null,"","",0,0,0,"No"]
[87,"",null,"","",null,"","",null,"","",null,"","",null,"","",0,0,0,"No"]
[88,"",null,"","",null,"","",null,"","",null,"","",null,"","",0,0,0,"No"]
[89,"",null,"","",null,"","",null,"","",null,"","",null,"","",0,0,0,"No"]
[90,"",null,"","",null,"","",null,"","",null,"","",null,"","",0,0,0,"No"]
[91,"",null,"","",null,"","",null,"","",null,"","",null,"","",0,0,0,"No"]
[92,"",null,"","",null,"","",null,"","",null,"","",null,"","",0,0,0,"No"]
[93,"",null,"","",null,"","",null,"","",null,"","",null,"","",0,0,0,"No"]
[94,"",null,"","",null,"","",null,"","",null,"","",null,"","",0,0,0,"No"]
[95,"",null,"","",null,"","",null,"","",null,"","",null,"","",0,0,0,"No"]
[96,"",null,"","",null,"","",null,"","",null,"","",null,"","",0,0,0,"No"]
[97,"",null,"","",null,"","",null,"","",null,"","",null,"","",0,0,0,"No"]
[98,"",null,"","",null,"","",null,"","",null,"","",null,"","",0,0,0,"No"]
[99,"",null,"","",null,"","",null,"","",null,"","",null,"","",0,0,0,"No"]
[100,"",null,"","",null,"","",null,"","",null,"","",null,"","",0,0,0,"No"]
[101,"",null,"","",null,"","",null,"","",null,"","",null,"","",0,0,0,"No"]
[102,"",null,"","",null,"","",null,"","",null,"","",null,"","",0,0,0,"No"]
[103,"",null,"","",null,"","",null,"","",null,"","",null,"","",0,0,0,"No"]
[104,"",null,"","",null,"","",null,"","",null,"","",null,"","",0,0,0,"No"]
[105,"",null,"","",null,"","",null,"","",null,"","",null,"","",0,0,0,"No"]
[106,"",null,"","",null,"","",null,"","",null,"","",null,"","",0,0,0,"No"]
[107,"",null,"","",null,"","",null,"","",null,"","",null,"","",0,0,0,"No"]
[108,"",null,"","",null,"","",null,"","",null,"","",null,"","",0,0,0,"No"]
[109,"",null,"","",null,"","",null,"","",null,"","",null,"","",0,0,0,"No"]
[110,"",null,"","",null,"","",null,"","",null,"","",null,"","",0,0,0,"No"]
[111,"",null,"","",null,"","",null,"","",null,"","",null,"","",0,0,0,"No"]
[112,"",null,"","",null,"","",null,"","",null,"","",null,"","",0,0,0,"No"]
[113,"",null,"","",null,"","",null,"","",null,"","",null,"","",0,0,0,"No"]
[114,"",null,"","",null,"","",null,"","",null,"","",null,"","",0,0,0,"No"]
[115,"",null,"","",null,"","",null,"","",null,"","",null,"","",0,0,0,"No"]
[116,"",null,"","",null,"","",null,"","",null,"","",null,"","",0,0,0,"No"]
[117,"",null,"","",null,"","",null,"","",null,"","",null,"","",0,0,0,"No"]
[118,"",null,"","",null,"","",null,"","",null,"","",null,"","",0,0,0,"No"]
[119,"",null,"","",null,"","",null,"","",null,"","",null,"","",0,0,0,"No"]
[120,"",null,"","",null,"","",null,"","",null,"","",null,"","",0,0,0,"No"]
[121,"",null,"","",null,"","",null,"","",null,"","",null,"","",0,0,0,"No"]
[122,"",null,"","",null,"","",null,"","",null,"","",null,"","",0,0,0,"No"]
[123,"",null,"","",null,"","",null,"","",null,"","",null,"","",0,0,0,"No"]
[124,"",null,"","",null,"","",null,"","",null,"","",null,"","",0,0,0,"No"]
[125,"",null,"","",null,"","",null,"","",null,"","",null,"","",0,0,0,"No"]
[126,"",null,"","",null,"","",null,"","",null,"","",null,"","",0,0,0,"No"]
[127,"",null,"","",null,"","",null,"","",null,"","",null,"","",0,0,0,"No"]
[128,"",null,"","",null,"","",null,"","",null,"","",null,"","",0,0,0,"No"]
[129,"",null,"","",null,"","",null,"","",null,"","",null,"","",0,0,0,"No"]
[130,"",null,"","",null,"","",null,"","",null,"","",null,"","",0,0,0,"No"]
[131,"",null,"","",null,"","",null,"","",null,"","",null,"","",0,0,0,"No"]
[132,"",null,"","",null,"","",null,"","",null,"","",null,"","",0,0,0,"No"]
[133,"",null,"","",null,"","",null,"","",null,"","",null,"","",0,0,0,"No"]
[134,"",null,"","",null,"","",null,"","",null,"","",null,"","",0,0,0,"No"]
[135,"",null,"","",null,"","",null,"","",null,"","",null,"","",0,0,0,"No"]
[136,"",null,"","",null,"","",null,"","",null,"","",null,"","",0,0,0,"No"]
[137,"",null,"","",null,"","",null,"","",null,"","",null,"","",0,0,0,"No"]
[138,"",null,"","",null,"","",null,"","",null,"","",null,"","",0,0,0,"No"]
[139,"",null,"","",null,"","",null,"","",null,"","",null,"","",0,0,0,"No"]
[140,"",null,"","",null,"","",null,"","",null,"","",null,"","",0,0,0,"No"]
[141,"",null,"","",null,"","",null,"","",null,"","",null,"","",0,0,0,"No"]
[142,"",null,"","",null,"","",null,"","",null,"","",null,"","",0,0,0,"No"]
[143,"",null,"","",null,"","",null,"","",null,"","",null,"","",0,0,0,"No"]
[144,"",null,"","",null,"","",null,"","",null,"","",null,"","",0,0,0,"No"]
[145,"",null,"","",null,"","",null,"","",null,"","",null,"","",0,0,0,"No"]
[146,"",null,"","",null,"","",null,"","",null,"","",null,"","",0,0,0,"No"]
[147,"",null,"","",null,"","",null,"","",null,"","",null,"","",0,0,0,"No"]
[148,"",null,"","",null,"","",null,"","",null,"","",null,"","",0,0,0,"No"]
[149,"",null,"","",null,"","",null,"","",null,"","",null,"","",0,0,0,"No"]
[150,"",null,"","",null,"","",null,"","",null,"","",null,"","",0,0,0,"No"]
[151,"",null,"","",null,"","",null,"","",null,"","",null,"","",0,0,0,"No"]
[152,"",null,"","",null,"","",null,"","",null,"","",null,"","",0,0,0,"No"]
[153,"",null,"","",null,"","",null,"","",null,"","",null,"","",0,0,0,"No"]
[154,"",null,"","",null,"","",null,"","",null,"","",null,"","",0,0,0,"No"]
[155,"",null,"","",null,"","",null,"","",null,"","",null,"","",0,0,0,"No"]
[156,"",null,"","",null,"","",null,"","",null,"","",null,"","",0,0,0,"No"]
[157,"",null,"","",null,"","",null,"","",null,"","",null,"","",0,0,0,"No"]
[158,"",null,"","",null,"","",null,"","",null,"","",null,"","",0,0,0,"No"]
[159,"",null,"","",null,"","",null,"","",null,"","",null,"","",0,0,0,"No"]
[160,"",null,"","",null,"","",null,"","",null,"","",null,"","",0,0,0,"No"]
[161,"",null,"","",null,"","",null,"","",null,"","",null,"","",0,0,0,"No"]
[162,"",null,"","",null,"","",null,"","",null,"","",null,"","",0,0,0,"No"]
[163,"",null,"","",null,"","",null,"","",null,"","",null,"","",0,0,0,"No"]
[164,"",null,"","",null,"","",null,"","",null,"","",null,"","",0,0,0,"No"]
[165,"",null,"","",null,"","",null,"","",null,"","",null,"","",0,0,0,"No"]
[166,"",null,"","",null,"","",null,"","",null,"","",null,"","",0,0,0,"No"]
[167,"",null,"","",null,"","",null,"","",null,"","",null,"","",0,0,0,"No"]
[168,"",null,"","",null,"","",null,"","",null,"","",null,"","",0,0,0,"No"]
[169,"",null,"","",null,"","",null,"","",null,"","",null,"","",0,0,0,"No"]
[170,"",null,"","",null,"","",null,"","",null,"","",null,"","",0,0,0,"No"]
[171,"",null,"","",null,"","",null,"","",null,"","",null,"","",0,0,0,"No"]
[172,"",null,"","",null,"","",null,"","",null,"","",null,"","",0,0,0,"No"]
[173,"",null,"","",null,"","",null,"","",null,"","",null,"","",0,0,0,"No"]
[174,"",null,"","",null,"","",null,"","",null,"","",null,"","",0,0,0,"No"]
[175,"",null,"","",null,"","",null,"","",null,"","",null,"","",0,0,0,"No"]
[176,"",null,"","",null,"","",null,"","",null,"","",null,"","",0,0,0,"No"]
[177,"",null,"","",null,"","",null,"","",null,"","",null,"","",0,0,0,"No"]
[178,"",null,"","",null,"","",null,"","",null,"","",null,"","",0,0,0,"No"]
[179,"",null,"","",null,"","",null,"","",null,"","",null,"","",0,0,0,"No"]
[180,"",null,"","",null,"","",null,"","",null,"","",null,"","",0,0,0,"No"]
[181,"",null,"","",null,"","",null,"","",null,"","",null,"","",0,0,0,"No"]
[182,"",null,"","",null,"","",null,"","",null,"","",null,"","",0,0,0,"No"]
[183,"",null,"","",null,"","",null,"","",null,"","",null,"","",0,0,0,"No"]
[184,"",null,"","",null,"","",null,"","",null,"","",null,"","",0,0,0,"No"]
[185,"",null,"","",null,"","",null,"","",null,"","",null,"","",0,0,0,"No"]
[10,"The Martin High School A",3,59,"N",null,0,"N",null,0,"N",null,0,"N",null,0,"N",3,1,0,"No"]
[187,"",null,"","",null,"","",null,"","",null,"","",null,"","",0,0,0,"No"]
[188,"",null,"","",null,"","",null,"","",null,"","",null,"","",0,0,0,"No"]
[189,"",null,"","",null,"","",null,"","",null,"","",null,"","",0,0,0,"No"]
[190,"",null,"","",null,"","",null,"","",null,"","",null,"","",0,0,0,"No"]
[191,"",null,"","",null,"","",null,"","",null,"","",null,"","",0,0,0,"No"]
[192,"",null,"","",null,"","",null,"","",null,"","",null,"","",0,0,0,"No"]
[193,"",null,"","",null,"","",null,"","",null,"","",null,"","",0,0,0,"No"]
[194,"",null,"","",null,"","",null,"","",null,"","",null,"","",0,0,0,"No"]
[195,"",null,"","",null,"","",null,"","",null,"","",null,"","",0,0,0,"No"]
[196,"",null,"","",null,"","",null,"","",null,"","",null,"","",0,0,0,"No"]
[197,"",null,"","",null,"","",null,"","",null,"","",null,"","",0,0,0,"No"]
[198,"",null,"","",null,"","",null,"","",null,"","",null,"","",0,0,0,"No"]
[199,"",null,"","",null,"","",null,"","",null,"","",null,"","",0,0,0,"No"]
[200,"",null,"","",null,"","",null,"","",null,"","",null,"","",0,0,0,"No"]
[201,"",null,"","",null,"","",null,"","",null,"","",null,"","",0,0,0,"No"]
[202,"",null,"","",null,"","",null,"","",null,"","",null,"","",0,0,0,"No"]
[203,"",null,"","",null,"","",null,"","",null,"","",null,"","",0,0,0,"No"]
[204,"",null,"","",null,"","",null,"","",null,"","",null,"","",0,0,0,"No"]
[205,"",null,"","",null,"","",null,"","",null,"","",null,"","",0,0,0,"No"]
[206,"",null,"","",null,"","",null,"","",null,"","",null,"","",0,0,0,"No"]
[207,"",null,"","",null,"","",null,"","",null,"","",null,"","",0,0,0,"No"]
[208,"",null,"","",null,"","",null,"","",null,"","",null,"","",0,0,0,"No"]
[209,"",null,"","",null,"","",null,"","",null,"","",null,"","",0,0,0,"No"]
[210,"",null,"","",null,"","",null,"","",null,"","",null,"","",0,0,0,"No"]
[211,"",null,"","",null,"","",null,"","",null,"","",null,"","",0,0,0,"No"]
[212,"",null,"","",null,"","",null,"","",null,"","",null,"","",0,0,0,"No"]
[213,"",null,"","",null,"","",null,"","",null,"","",null,"","",0,0,0,"No"]
[214,"",null,"","",null,"","",null,"","",null,"","",null,"","",0,0,0,"No"]
[215,"",null,"","",null,"","",null,"","",null,"","",null,"","",0,0,0,"No"]
[216,"",null,"","",null,"","",null,"","",null,"","",null,"","",0,0,0,"No"]
[217,"",null,"","",null,"","",null,"","",null,"","",null,"","",0,0,0,"No"]
[218,"",null,"","",null,"","",null,"","",null,"","",null,"","",0,0,0,"No"]
[219,"",null,"","",null,"","",null,"","",null,"","",null,"","",0,0,0,"No"]
[220,"",null,"","",null,"","",null,"","",null,"","",null,"","",0,0,0,"No"]
[221,"",null,"","",null,"","",null,"","",null,"","",null,"","",0,0,0,"No"]
[222,"",null,"","",null,"","",null,"","",null,"","",null,"","",0,0,0,"No"]
[223,"",null,"","",null,"","",null,"","",null,"","",null,"","",0,0,0,"No"]
[224,"",null,"","",null,"","",null,"","",null,"","",null,"","",0,0,0,"No"]
[225,"",null,"","",null,"","",null,"","",null,"","",null,"","",0,0,0,"No"]
[226,"",null,"","",null,"","",null,"","",null,"","",null,"","",0,0,0,"No"]
[227,"",null,"","",null,"","",null,"","",null,"","",null,"","",0,0,0,"No"]
[228,"",null,"","",null,"","",null,"","",null,"","",null,"","",0,0,0,"No"]
[229,"",null,"","",null,"","",null,"","",null,"","",null,"","",0,0,0,"No"]
[230,"",null,"","",null,"","",null,"","",null,"","",null,"","",0,0,0,"No"]
[231,"",null,"","",null,"","",null,"","",null,"","",null,"","",0,0,0,"No"]
[232,"",null,"","",null,"","",null,"","",null,"","",null,"","",0,0,0,"No"]
[233,"",null,"","",null,"","",null,"","",null,"","",null,"","",0,0,0,"No"]
[234,"",null,"","",null,"","",null,"","",null,"","",null,"","",0,0,0,"No"]
[235,"",null,"","",null,"","",null,"","",null,"","",null,"","",0,0,0,"No"]
[236,"",null,"","",null,"","",null,"","",null,"","",null,"","",0,0,0,"No"]
[237,"",null,"","",null,"","",null,"","",null,"","",null,"","",0,0,0,"No"]
[238,"",null,"","",null,"","",null,"","",null,"","",null,"","",0,0,0,"No"]
[239,"",null,"","",null,"","",null,"","",null,"","",null,"","",0,0,0,"No"]
[240,"",null,"","",null,"","",null,"","",null,"","",null,"","",0,0,0,"No"]
[241,"",null,"","",null,"","",null,"","",null,"","",null,"","",0,0,0,"No"]
[242,"",null,"","",null,"","",null,"","",null,"","",null,"","",0,0,0,"No"]
[243,"",null,"","",null,"","",null,"","",null,"","",null,"","",0,0,0,"No"]
[244,"",null,"","",null,"","",null,"","",null,"","",null,"","",0,0,0,"No"]
[245,"",null,"","",null,"","",null,"","",null,"","",null,"","",0,0,0,"No"]
[246,"",null,"","",null,"","",null,"","",null,"","",null,"","",0,0,0,"No"]
[247,"",null,"","",null,"","",null,"","",null,"","",null,"","",0,0,0,"No"]
[248,"",null,"","",null,"","",null,"","",null,"","",null,"","",0,0,0,"No"]
[249,"",null,"","",null,"","",null,"","",null,"","",null,"","",0,0,0,"No"]
[250,"",null,"","",null,"","",null,"","",null,"","",null,"","",0,0,0,"No"]
[251,"",null,"","",null,"","",null,"","",null,"","",null,"","",0,0,0,"No"]
[252,"",null,"","",null,"","",null,"","",null,"","",null,"","",0,0,0,"No"]
[253,"",null,"","",null,"","",null,"","",null,"","",null,"","",0,0,0,"No"]
[254,"",null,"","",null,"","",null,"","",null,"","",null,"","",0,0,0,"No"]
[255,"",null,"","",null,"","",null,"","",null,"","",null,"","",0,0,0,"No"]
[256,"",null,"","",null,"","",null,"","",null,"","",null,"","",0,0,0,"No"]
[33,"",null,"","",null,"","",null,"","",null,"","",null,"","",0,0,0,"No"]
[258,"",null,"","",null,"","",null,"","",null,"","",null,"","",0,0,0,"No"]
[259,"",null,"","",null,"","",null,"","",null,"","",null,"","",0,0,0,"No"]
[260,"",null,"","",null,"","",null,"","",null,"","",null,"","",0,0,0,"No"]
[261,"",null,"","",null,"","",null,"","",null,"","",null,"","",0,0,0,"No"]
[262,"",null,"","",null,"","",null,"","",null,"","",null,"","",0,0,0,"No"]
[263,"",null,"","",null,"","",null,"","",null,"","",null,"","",0,0,0,"No"]
[264,"",null,"","",null,"","",null,"","",null,"","",null,"","",0,0,0,"No"]
[265,"",null,"","",null,"","",null,"","",null,"","",null,"","",0,0,0,"No"]
[266,"",null,"","",null,"","",null,"","",null,"","",null,"","",0,0,0,"No"]
[267,"",null,"","",null,"","",null,"","",null,"","",null,"","",0,0,0,"No"]
[268,"",null,"","",null,"","",null,"","",null,"","",null,"","",0,0,0,"No"]
[269,"",null,"","",null,"","",null,"","",null,"","",null,"","",0,0,0,"No"]
[270,"",null,"","",null,"","",null,"","",null,"","",null,"","",0,0,0,"No"]
[271,"",null,"","",null,"","",null,"","",null,"","",null,"","",0,0,0,"No"]
[272,"",null,"","",null,"","",null,"","",null,"","",null,"","",0,0,0,"No"]
[273,"",null,"","",null,"","",null,"","",null,"","",null,"","",0,0,0,"No"]
[7,"Hind Leys College A",6,70,"Y",null,0,"N",null,0,"N",null,0,"N",null,0,"N",6,1,1,"No"]
[275,"",null,"","",null,"","",null,"","",null,"","",null,"","",0,0,0,"No"]
[276,"",null,"","",null,"","",null,"","",null,"","",null,"","",0,0,0,"No"]
[277,"",null,"","",null,"","",null,"","",null,"","",null,"","",0,0,0,"No"]
[278,"",null,"","",null,"","",null,"","",null,"","",null,"","",0,0,0,"No"]
[279,"",null,"","",null,"","",null,"","",null,"","",null,"","",0,0,0,"No"]
[280,"",null,"","",null,"","",null,"","",null,"","",null,"","",0,0,0,"No"]
[281,"",null,"","",null,"","",null,"","",null,"","",null,"","",0,0,0,"No"]
[282,"",null,"","",null,"","",null,"","",null,"","",null,"","",0,0,0,"No"]
[283,"",null,"","",null,"","",null,"","",null,"","",null,"","",0,0,0,"No"]
[3,"Brockington College A",10,97,"Y",null,0,"N",null,0,"N",null,0,"N",null,0,"N",10,1,1,"No"]
[285,"",null,"","",null,"","",null,"","",null,"","",null,"","",0,0,0,"No"]
[257,"",null,"","",null,"","",null,"","",null,"","",null,"","",0,0,0,"No"]
[287,"",null,"","",null,"","",null,"","",null,"","",null,"","",0,0,0,"No"]
[288,"",null,"","",null,"","",null,"","",null,"","",null,"","",0,0,0,"No"]
[289,"",null,"","",null,"","",null,"","",null,"","",null,"","",0,0,0,"No"]
[290,"",null,"","",null,"","",null,"","",null,"","",null,"","",0,0,0,"No"]
[291,"",null,"","",null,"","",null,"","",null,"","",null,"","",0,0,0,"No"]
[292,"",null,"","",null,"","",null,"","",null,"","",null,"","",0,0,0,"No"]
[293,"",null,"","",null,"","",null,"","",null,"","",null,"","",0,0,0,"No"]
[294,"",null,"","",null,"","",null,"","",null,"","",null,"","",0,0,0,"No"]
[295,"",null,"","",null,"","",null,"","",null,"","",null,"","",0,0,0,"No"]
[296,"",null,"","",null,"","",null,"","",null,"","",null,"","",0,0,0,"No"]
[297,"",null,"","",null,"","",null,"","",null,"","",null,"","",0,0,0,"No"]
[298,"",null,"","",null,"","",null,"","",null,"","",null,"","",0,0,0,"No"]
[299,"",null,"","",null,"","",null,"","",null,"","",null,"","",0,0,0,"No"]
[300,"",null,"","",null,"","",null,"","",null,"","",null,"","",0,0,0,"No"]
[301,"",null,"","",null,"","",null,"","",null,"","",null,"","",0,0,0,"No"]
[302,"",null,"","",null,"","",null,"","",null,"","",null,"","",0,0,0,"No"]
[303,"",null,"","",null,"","",null,"","",null,"","",null,"","",0,0,0,"No"]
[304,"",null,"","",null,"","",null,"","",null,"","",null,"","",0,0,0,"No"]
[305,"",null,"","",null,"","",null,"","",null,"","",null,"","",0,0,0,"No"]
[306,"",null,"","",null,"","",null,"","",null,"","",null,"","",0,0,0,"No"]
[307,"",null,"","",null,"","",null,"","",null,"","",null,"","",0,0,0,"No"]
[308,"",null,"","",null,"","",null,"","",null,"","",null,"","",0,0,0,"No"]
[309,"",null,"","",null,"","",null,"","",null,"","",null,"","",0,0,0,"No"]
[310,"",null,"","",null,"","",null,"","",null,"","",null,"","",0,0,0,"No"]
[311,"",null,"","",null,"","",null,"","",null,"","",null,"","",0,0,0,"No"]
[312,"",null,"","",null,"","",null,"","",null,"","",null,"","",0,0,0,"No"]
[313,"",null,"","",null,"","",null,"","",null,"","",null,"","",0,0,0,"No"]
[314,"",null,"","",null,"","",null,"","",null,"","",null,"","",0,0,0,"No"]
[315,"",null,"","",null,"","",null,"","",null,"","",null,"","",0,0,0,"No"]
[316,"",null,"","",null,"","",null,"","",null,"","",null,"","",0,0,0,"No"]
[317,"",null,"","",null,"","",null,"","",null,"","",null,"","",0,0,0,"No"]
[318,"",null,"","",null,"","",null,"","",null,"","",null,"","",0,0,0,"No"]
[319,"",null,"","",null,"","",null,"","",null,"","",null,"","",0,0,0,"No"]
[320,"",null,"","",null,"","",null,"","",null,"","",null,"","",0,0,0,"No"]
[321,"",null,"","",null,"","",null,"","",null,"","",null,"","",0,0,0,"No"]
[322,"",null,"","",null,"","",null,"","",null,"","",null,"","",0,0,0,"No"]
[323,"",null,"","",null,"","",null,"","",null,"","",null,"","",0,0,0,"No"]
[324,"",null,"","",null,"","",null,"","",null,"","",null,"","",0,0,0,"No"]
[325,"",null,"","",null,"","",null,"","",null,"","",null,"","",0,0,0,"No"]
[326,"",null,"","",null,"","",null,"","",null,"","",null,"","",0,0,0,"No"]
[327,"",null,"","",null,"","",null,"","",null,"","",null,"","",0,0,0,"No"]
[328,"",null,"","",null,"","",null,"","",null,"","",null,"","",0,0,0,"No"]
[329,"",null,"","",null,"","",null,"","",null,"","",null,"","",0,0,0,"No"]
[330,"",null,"","",null,"","",null,"","",null,"","",null,"","",0,0,0,"No"]
[331,"",null,"","",null,"","",null,"","",null,"","",null,"","",0,0,0,"No"]
[332,"",null,"","",null,"","",null,"","",null,"","",null,"","",0,0,0,"No"]
[333,"",null,"","",null,"","",null,"","",null,"","",null,"","",0,0,0,"No"]
[334,"",null,"","",null,"","",null,"","",null,"","",null,"","",0,0,0,"No"]
[335,"",null,"","",null,"","",null,"","",null,"","",null,"","",0,0,0,"No"]
[336,"",null,"","",null,"","",null,"","",null,"","",null,"","",0,0,0,"No"]
[337,"",null,"","",null,"","",null,"","",null,"","",null,"","",0,0,0,"No"]
[338,"",null,"","",null,"","",null,"","",null,"","",null,"","",0,0,0,"No"]
[339,"",null,"","",null,"","",null,"","",null,"","",null,"","",0,0,0,"No"]
[340,"",null,"","",null,"","",null,"","",null,"","",null,"","",0,0,0,"No"]
[341,"",null,"","",null,"","",null,"","",null,"","",null,"","",0,0,0,"No"]
[342,"",null,"","",null,"","",null,"","",null,"","",null,"","",0,0,0,"No"]
[343,"",null,"","",null,"","",null,"","",null,"","",null,"","",0,0,0,"No"]
[344,"",null,"","",null,"","",null,"","",null,"","",null,"","",0,0,0,"No"]
[345,"",null,"","",null,"","",null,"","",null,"","",null,"","",0,0,0,"No"]
[346,"",null,"","",null,"","",null,"","",null,"","",null,"","",0,0,0,"No"]
[347,"",null,"","",null,"","",null,"","",null,"","",null,"","",0,0,0,"No"]
[348,"",null,"","",null,"","",null,"","",null,"","",null,"","",0,0,0,"No"]
[349,"",null,"","",null,"","",null,"","",null,"","",null,"","",0,0,0,"No"]
[350,"",null,"","",null,"","",null,"","",null,"","",null,"","",0,0,0,"No"]
[351,"",null,"","",null,"","",null,"","",null,"","",null,"","",0,0,0,"No"]
[352,"",null,"","",null,"","",null,"","",null,"","",null,"","",0,0,0,"No"]
[353,"",null,"","",null,"","",null,"","",null,"","",null,"","",0,0,0,"No"]
[354,"",null,"","",null,"","",null,"","",null,"","",null,"","",0,0,0,"No"]
[355,"",null,"","",null,"","",null,"","",null,"","",null,"","",0,0,0,"No"]
[356,"",null,"","",null,"","",null,"","",null,"","",null,"","",0,0,0,"No"]
[357,"",null,"","",null,"","",null,"","",null,"","",null,"","",0,0,0,"No"]
[358,"",null,"","",null,"","",null,"","",null,"","",null,"","",0,0,0,"No"]
[359,"",null,"","",null,"","",null,"","",null,"","",null,"","",0,0,0,"No"]
[360,"",null,"","",null,"","",null,"","",null,"","",null,"","",0,0,0,"No"]
[361,"",null,"","",null,"","",null,"","",null,"","",null,"","",0,0,0,"No"]
[362,"",null,"","",null,"","",null,"","",null,"","",null,"","",0,0,0,"No"]
[363,"",null,"","",null,"","",null,"","",null,"","",null,"","",0,0,0,"No"]
[364,"",null,"","",null,"","",null,"","",null,"","",null,"","",0,0,0,"No"]
[365,"",null,"","",null,"","",null,"","",null,"","",null,"","",0,0,0,"No"]
[366,"",null,"","",null,"","",null,"","",null,"","",null,"","",0,0,0,"No"]
[367,"",null,"","",null,"","",null,"","",null,"","",null,"","",0,0,0,"No"]
[368,"",null,"","",null,"","",null,"","",null,"","",null,"","",0,0,0,"No"]
[369,"",null,"","",null,"","",null,"","",null,"","",null,"","",0,0,0,"No"]
[370,"",null,"","",null,"","",null,"","",null,"","",null,"","",0,0,0,"No"]
[371,"",null,"","",null,"","",null,"","",null,"","",null,"","",0,0,0,"No"]
[372,"",null,"","",null,"","",null,"","",null,"","",null,"","",0,0,0,"No"]
[373,"",null,"","",null,"","",null,"","",null,"","",null,"","",0,0,0,"No"]
[374,"",null,"","",null,"","",null,"","",null,"","",null,"","",0,0,0,"No"]
[375,"",null,"","",null,"","",null,"","",null,"","",null,"","",0,0,0,"No"]
[376,"",null,"","",null,"","",null,"","",null,"","",null,"","",0,0,0,"No"]
[377,"",null,"","",null,"","",null,"","",null,"","",null,"","",0,0,0,"No"]
[378,"",null,"","",null,"","",null,"","",null,"","",null,"","",0,0,0,"No"]
[379,"",null,"","",null,"","",null,"","",null,"","",null,"","",0,0,0,"No"]
[380,"",null,"","",null,"","",null,"","",null,"","",null,"","",0,0,0,"No"]
[381,"",null,"","",null,"","",null,"","",null,"","",null,"","",0,0,0,"No"]
[382,"",null,"","",null,"","",null,"","",null,"","",null,"","",0,0,0,"No"]
[383,"",null,"","",null,"","",null,"","",null,"","",null,"","",0,0,0,"No"]
[384,"",null,"","",null,"","",null,"","",null,"","",null,"","",0,0,0,"No"]
[385,"",null,"","",null,"","",null,"","",null,"","",null,"","",0,0,0,"No"]
[386,"",null,"","",null,"","",null,"","",null,"","",null,"","",0,0,0,"No"]
[387,"",null,"","",null,"","",null,"","",null,"","",null,"","",0,0,0,"No"]
[388,"",null,"","",null,"","",null,"","",null,"","",null,"","",0,0,0,"No"]
[389,"",null,"","",null,"","",null,"","",null,"","",null,"","",0,0,0,"No"]
[390,"",null,"","",null,"","",null,"","",null,"","",null,"","",0,0,0,"No"]
[391,"",null,"","",null,"","",null,"","",null,"","",null,"","",0,0,0,"No"]
[392,"",null,"","",null,"","",null,"","",null,"","",null,"","",0,0,0,"No"]
[393,"",null,"","",null,"","",null,"","",null,"","",null,"","",0,0,0,"No"]
[394,"",null,"","",null,"","",null,"","",null,"","",null,"","",0,0,0,"No"]
[395,"",null,"","",null,"","",null,"","",null,"","",null,"","",0,0,0,"No"]
[396,"",null,"","",null,"","",null,"","",null,"","",null,"","",0,0,0,"No"]
[397,"",null,"","",null,"","",null,"","",null,"","",null,"","",0,0,0,"No"]
[398,"",null,"","",null,"","",null,"","",null,"","",null,"","",0,0,0,"No"]
[399,"",null,"","",null,"","",null,"","",null,"","",null,"","",0,0,0,"No"]
[400,"",null,"","",null,"","",null,"","",null,"","",null,"","",0,0,0,"No"]
[401,"",null,"","",null,"","",null,"","",null,"","",null,"","",0,0,0,"No"]
[402,"",null,"","",null,"","",null,"","",null,"","",null,"","",0,0,0,"No"]
[403,"",null,"","",null,"","",null,"","",null,"","",null,"","",0,0,0,"No"]
[404,"",null,"","",null,"","",null,"","",null,"","",null,"","",0,0,0,"No"]
[405,"",null,"","",null,"","",null,"","",null,"","",null,"","",0,0,0,"No"]
[406,"",null,"","",null,"","",null,"","",null,"","",null,"","",0,0,0,"No"]
[407,"",null,"","",null,"","",null,"","",null,"","",null,"","",0,0,0,"No"]
[408,"",null,"","",null,"","",null,"","",null,"","",null,"","",0,0,0,"No"]
[409,"",null,"","",null,"","",null,"","",null,"","",null,"","",0,0,0,"No"]
[410,"",null,"","",null,"","",null,"","",null,"","",null,"","",0,0,0,"No"]
[411,"",null,"","",null,"","",null,"","",null,"","",null,"","",0,0,0,"No"]
[412,"",null,"","",null,"","",null,"","",null,"","",null,"","",0,0,0,"No"]
[413,"",null,"","",null,"","",null,"","",null,"","",null,"","",0,0,0,"No"]
[414,"",null,"","",null,"","",null,"","",null,"","",null,"","",0,0,0,"No"]
[415,"",null,"","",null,"","",null,"","",null,"","",null,"","",0,0,0,"No"]
[416,"",null,"","",null,"","",null,"","",null,"","",null,"","",0,0,0,"No"]
[417,"",null,"","",null,"","",null,"","",null,"","",null,"","",0,0,0,"No"]
[418,"",null,"","",null,"","",null,"","",null,"","",null,"","",0,0,0,"No"]
[419,"",null,"","",null,"","",null,"","",null,"","",null,"","",0,0,0,"No"]
[420,"",null,"","",null,"","",null,"","",null,"","",null,"","",0,0,0,"No"]
[421,"",null,"","",null,"","",null,"","",null,"","",null,"","",0,0,0,"No"]
[422,"",null,"","",null,"","",null,"","",null,"","",null,"","",0,0,0,"No"]
[423,"",null,"","",null,"","",null,"","",null,"","",null,"","",0,0,0,"No"]
[424,"",null,"","",null,"","",null,"","",null,"","",null,"","",0,0,0,"No"]
[425,"",null,"","",null,"","",null,"","",null,"","",null,"","",0,0,0,"No"]
[426,"",null,"","",null,"","",null,"","",null,"","",null,"","",0,0,0,"No"]
[427,"",null,"","",null,"","",null,"","",null,"","",null,"","",0,0,0,"No"]
[428,"",null,"","",null,"","",null,"","",null,"","",null,"","",0,0,0,"No"]
[429,"",null,"","",null,"","",null,"","",null,"","",null,"","",0,0,0,"No"]
[430,"",null,"","",null,"","",null,"","",null,"","",null,"","",0,0,0,"No"]
[431,"",null,"","",null,"","",null,"","",null,"","",null,"","",0,0,0,"No"]
[432,"",null,"","",null,"","",null,"","",null,"","",null,"","",0,0,0,"No"]
[433,"",null,"","",null,"","",null,"","",null,"","",null,"","",0,0,0,"No"]
[434,"",null,"","",null,"","",null,"","",null,"","",null,"","",0,0,0,"No"]
[435,"",null,"","",null,"","",null,"","",null,"","",null,"","",0,0,0,"No"]
[436,"",null,"","",null,"","",null,"","",null,"","",null,"","",0,0,0,"No"]
[437,"",null,"","",null,"","",null,"","",null,"","",null,"","",0,0,0,"No"]
[438,"",null,"","",null,"","",null,"","",null,"","",null,"","",0,0,0,"No"]
[439,"",null,"","",null,"","",null,"","",null,"","",null,"","",0,0,0,"No"]
[440,"",null,"","",null,"","",null,"","",null,"","",null,"","",0,0,0,"No"]
[441,"",null,"","",null,"","",null,"","",null,"","",null,"","",0,0,0,"No"]
[442,"",null,"","",null,"","",null,"","",null,"","",null,"","",0,0,0,"No"]
[443,"",null,"","",null,"","",null,"","",null,"","",null,"","",0,0,0,"No"]
[444,"",null,"","",null,"","",null,"","",null,"","",null,"","",0,0,0,"No"]
[445,"",null,"","",null,"","",null,"","",null,"","",null,"","",0,0,0,"No"]
[446,"",null,"","",null,"","",null,"","",null,"","",null,"","",0,0,0,"No"]
[447,"",null,"","",null,"","",null,"","",null,"","",null,"","",0,0,0,"No"]
[448,"",null,"","",null,"","",null,"","",null,"","",null,"","",0,0,0,"No"]
[449,"",null,"","",null,"","",null,"","",null,"","",null,"","",0,0,0,"No"]
[450,"",null,"","",null,"","",null,"","",null,"","",null,"","",0,0,0,"No"]
[451,"",null,"","",null,"","",null,"","",null,"","",null,"","",0,0,0,"No"]
[452,"",null,"","",null,"","",null,"","",null,"","",null,"","",0,0,0,"No"]
[453,"",null,"","",null,"","",null,"","",null,"","",null,"","",0,0,0,"No"]
[454,"",null,"","",null,"","",null,"","",null,"","",null,"","",0,0,0,"No"]
[455,"",null,"","",null,"","",null,"","",null,"","",null,"","",0,0,0,"No"]
[456,"",null,"","",null,"","",null,"","",null,"","",null,"","",0,0,0,"No"]
[457,"",null,"","",null,"","",null,"","",null,"","",null,"","",0,0,0,"No"]
[458,"",null,"","",null,"","",null,"","",null,"","",null,"","",0,0,0,"No"]
[459,"",null,"","",null,"","",null,"","",null,"","",null,"","",0,0,0,"No"]
[460,"",null,"","",null,"","",null,"","",null,"","",null,"","",0,0,0,"No"]
[461,"",null,"","",null,"","",null,"","",null,"","",null,"","",0,0,0,"No"]
[462,"",null,"","",null,"","",null,"","",null,"","",null,"","",0,0,0,"No"]
[463,"",null,"","",null,"","",null,"","",null,"","",null,"","",0,0,0,"No"]
[464,"",null,"","",null,"","",null,"","",null,"","",null,"","",0,0,0,"No"]
[465,"",null,"","",null,"","",null,"","",null,"","",null,"","",0,0,0,"No"]
[466,"",null,"","",null,"","",null,"","",null,"","",null,"","",0,0,0,"No"]
[467,"",null,"","",null,"","",null,"","",null,"","",null,"","",0,0,0,"No"]
[468,"",null,"","",null,"","",null,"","",null,"","",null,"","",0,0,0,"No"]
[469,"",null,"","",null,"","",null,"","",null,"","",null,"","",0,0,0,"No"]
[470,"",null,"","",null,"","",null,"","",null,"","",null,"","",0,0,0,"No"]
[471,"",null,"","",null,"","",null,"","",null,"","",null,"","",0,0,0,"No"]
[472,"",null,"","",null,"","",null,"","",null,"","",null,"","",0,0,0,"No"]
[473,"",null,"","",null,"","",null,"","",null,"","",null,"","",0,0,0,"No"]
[474,"",null,"","",null,"","",null,"","",null,"","",null,"","",0,0,0,"No"]
[475,"",null,"","",null,"","",null,"","",null,"","",null,"","",0,0,0,"No"]
[476,"",null,"","",null,"","",null,"","",null,"","",null,"","",0,0,0,"No"]
[477,"",null,"","",null,"","",null,"","",null,"","",null,"","",0,0,0,"No"]
[478,"",null,"","",null,"","",null,"","",null,"","",null,"","",0,0,0,"No"]
[479,"",null,"","",null,"","",null,"","",null,"","",null,"","",0,0,0,"No"]
[480,"",null,"","",null,"","",null,"","",null,"","",null,"","",0,0,0,"No"]
[481,"",null,"","",null,"","",null,"","",null,"","",null,"","",0,0,0,"No"]
[482,"",null,"","",null,"","",null,"","",null,"","",null,"","",0,0,0,"No"]
[483,"",null,"","",null,"","",null,"","",null,"","",null,"","",0,0,0,"No"]
[484,"",null,"","",null,"","",null,"","",null,"","",null,"","",0,0,0,"No"]
[485,"",null,"","",null,"","",null,"","",null,"","",null,"","",0,0,0,"No"]
[486,"",null,"","",null,"","",null,"","",null,"","",null,"","",0,0,0,"No"]
[487,"",null,"","",null,"","",null,"","",null,"","",null,"","",0,0,0,"No"]
[488,"",null,"","",null,"","",null,"","",null,"","",null,"","",0,0,0,"No"]
[489,"",null,"","",null,"","",null,"","",null,"","",null,"","",0,0,0,"No"]
[490,"",null,"","",null,"","",null,"","",null,"","",null,"","",0,0,0,"No"]
[491,"",null,"","",null,"","",null,"","",null,"","",null,"","",0,0,0,"No"]
[492,"",null,"","",null,"","",null,"","",null,"","",null,"","",0,0,0,"No"]
[493,"",null,"","",null,"","",null,"","",null,"","",null,"","",0,0,0,"No"]
[494,"",null,"","",null,"","",null,"","",null,"","",null,"","",0,0,0,"No"]
[495,"",null,"","",null,"","",null,"","",null,"","",null,"","",0,0,0,"No"]
[496,"",null,"","",null,"","",null,"","",null,"","",null,"","",0,0,0,"No"]
[497,"",null,"","",null,"","",null,"","",null,"","",null,"","",0,0,0,"No"]
[498,"",null,"","",null,"","",null,"","",null,"","",null,"","",0,0,0,"No"]
[499,"",null,"","",null,"","",null,"","",null,"","",null,"","",0,0,0,"No"]
[500,"",null,"","",null,"","",null,"","",null,"","",null,"","",0,0,0,"No"]
[]
["Reference","SG Teams","Position (Race 1)","Result (Race 1)","Claimed Last Place (Race 1)","Position (Race 2)","Result (Race 2)","Claimed Last Place (Race 2)","Position (Race 3)","Result (Race 3)","Claimed Last Place (Race 3)","Position (Race 4)","Result (Race 4)","Claimed Last Place (Race 4)","Position (Race 5)","Result (Race 5)","Claimed Last Place (Race 5)","Total (All Races)","Races Completed","Number of claimed LP","Eligible"]
[173,"",null,"","",null,"","",null,"","",null,"","",null,"","",0,0,0,"No"]
[2,"",null,"","",null,"","",null,"","",null,"","",null,"","",0,0,0,"No"]
[3,"",null,"","",null,"","",null,"","",null,"","",null,"","",0,0,0,"No"]
[4,"",null,"","",null,"","",null,"","",null,"","",null,"","",0,0,0,"No"]
[5,"",null,"","",null,"","",null,"","",null,"","",null,"","",0,0,0,"No"]
[6,"",null,"","",null,"","",null,"","",null,"","",null,"","",0,0,0,"No"]
[7,"",null,"","",null,"","",null,"","",null,"","",null,"","",0,0,0,"No"]
[8,"",null,"","",null,"","",null,"","",null,"","",null,"","",0,0,0,"No"]
[9,"",null,"","",null,"","",null,"","",null,"","",null,"","",0,0,0,"No"]
[10,"",null,"","",null,"","",null,"","",null,"","",null,"","",0,0,0,"No"]
[11,"",null,"","",null,"","",null,"","",null,"","",null,"","",0,0,0,"No"]
[12,"",null,"","",null,"","",null,"","",null,"","",null,"","",0,0,0,"No"]
[13,"",null,"","",null,"","",null,"","",null,"","",null,"","",0,0,0,"No"]
[14,"",null,"","",null,"","",null,"","",null,"","",null,"","",0,0,0,"No"]
[15,"",null,"","",null,"","",null,"","",null,"","",null,"","",0,0,0,"No"]
[16,"",null,"","",null,"","",null,"","",null,"","",null,"","",0,0,0,"No"]
[17,"",null,"","",null,"","",null,"","",null,"","",null,"","",0,0,0,"No"]
[18,"",null,"","",null,"","",null,"","",null,"","",null,"","",0,0,0,"No"]
[19,"",null,"","",null,"","",null,"","",null,"","",null,"","",0,0,0,"No"]
[20,"",null,"","",null,"","",null,"","",null,"","",null,"","",0,0,0,"No"]
[21,"",null,"","",null,"","",null,"","",null,"","",null,"","",0,0,0,"No"]
[22,"",null,"","",null,"","",null,"","",null,"","",null,"","",0,0,0,"No"]
[23,"",null,"","",null,"","",null,"","",null,"","",null,"","",0,0,0,"No"]
[24,"",null,"","",null,"","",null,"","",null,"","",null,"","",0,0,0,"No"]
[25,"",null,"","",null,"","",null,"","",null,"","",null,"","",0,0,0,"No"]
[26,"",null,"","",null,"","",null,"","",null,"","",null,"","",0,0,0,"No"]
[27,"",null,"","",null,"","",null,"","",null,"","",null,"","",0,0,0,"No"]
[28,"",null,"","",null,"","",null,"","",null,"","",null,"","",0,0,0,"No"]
[29,"",null,"","",null,"","",null,"","",null,"","",null,"","",0,0,0,"No"]
[278,"Loughborough High School A",null,0,"N",1,9,"N",1,16,"Y",1,18,"N",null,0,"N",3,3,1,"Yes"]
[31,"",null,"","",null,"","",null,"","",null,"","",null,"","",0,0,0,"No"]
[32,"",null,"","",null,"","",null,"","",null,"","",null,"","",0,0,0,"No"]
[33,"",null,"","",null,"","",null,"","",null,"","",null,"","",0,0,0,"No"]
[34,"",null,"","",null,"","",null,"","",null,"","",null,"","",0,0,0,"No"]
[35,"",null,"","",null,"","",null,"","",null,"","",null,"","",0,0,0,"No"]
[36,"",null,"","",null,"","",null,"","",null,"","",null,"","",0,0,0,"No"]
[37,"",null,"","",null,"","",null,"","",null,"","",null,"","",0,0,0,"No"]
[38,"",null,"","",null,"","",null,"","",null,"","",null,"","",0,0,0,"No"]
[39,"",null,"","",null,"","",null,"","",null,"","",null,"","",0,0,0,"No"]
[40,"",null,"","",null,"","",null,"","",null,"","",null,"","",0,0,0,"No"]
[41,"",null,"","",null,"","",null,"","",null,"","",null,"","",0,0,0,"No"]
[42,"",null,"","",null,"","",null,"","",null,"","",null,"","",0,0,0,"No"]
[43,"",null,"","",null,"","",null,"","",null,"","",null,"","",0,0,0,"No"]
[44,"",null,"","",null,"","",null,"","",null,"","",null,"","",0,0,0,"No"]
[45,"",null,"","",null,"","",null,"","",null,"","",null,"","",0,0,0,"No"]
[46,"",null,"","",null,"","",null,"","",null,"","",null,"","",0,0,0,"No"]
[47,"",null,"","",null,"","",null,"","",null,"","",null,"","",0,0,0,"No"]
[48,"",null,"","",null,"","",null,"","",null,"","",null,"","",0,0,0,"No"]
[49,"",null,"","",null,"","",null,"","",null,"","",null,"","",0,0,0,"No"]
[50,"",null,"","",null,"","",null,"","",null,"","",null,"","",0,0,0,"No"]
[51,"",null,"","",null,"","",null,"","",null,"","",null,"","",0,0,0,"No"]
[52,"",null,"","",null,"","",null,"","",null,"","",null,"","",0,0,0,"No"]
[53,"",null,"","",null,"","",null,"","",null,"","",null,"","",0,0,0,"No"]
[54,"",null,"","",null,"","",null,"","",null,"","",null,"","",0,0,0,"No"]
[55,"",null,"","",null,"","",null,"","",null,"","",null,"","",0,0,0,"No"]
[56,"",null,"","",null,"","",null,"","",null,"","",null,"","",0,0,0,"No"]
[57,"",null,"","",null,"","",null,"","",null,"","",null,"","",0,0,0,"No"]
[58,"",null,"","",null,"","",null,"","",null,"","",null,"","",0,0,0,"No"]
[59,"",null,"","",null,"","",null,"","",null,"","",null,"","",0,0,0,"No"]
[60,"",null,"","",null,"","",null,"","",null,"","",null,"","",0,0,0,"No"]
[61,"",null,"","",null,"","",null,"","",null,"","",null,"","",0,0,0,"No"]
[62,"",null,"","",null,"","",null,"","",null,"","",null,"","",0,0,0,"No"]
[63,"",null,"","",null,"","",null,"","",null,"","",null,"","",0,0,0,"No"]
[64,"",null,"","",null,"","",null,"","",null,"","",null,"","",0,0,0,"No"]
[65,"",null,"","",null,"","",null,"","",null,"","",null,"","",0,0,0,"No"]
[66,"",null,"","",null,"","",null,"","",null,"","",null,"","",0,0,0,"No"]
[67,"",null,"","",null,"","",null,"","",null,"","",null,"","",0,0,0,"No"]
[68,"",null,"","",null,"","",null,"","",null,"","",null,"","",0,0,0,"No"]
[69,"",null,"","",null,"","",null,"","",null,"","",null,"","",0,0,0,"No"]
[70,"",null,"","",null,"","",null,"","",null,"","",null,"","",0,0,0,"No"]
[71,"",null,"","",null,"","",null,"","",null,"","",null,"","",0,0,0,"No"]
[72,"",null,"","",null,"","",null,"","",null,"","",null,"","",0,0,0,"No"]
[73,"",null,"","",null,"","",null,"","",null,"","",null,"","",0,0,0,"No"]
[74,"",null,"","",null,"","",null,"","",null,"","",null,"","",0,0,0,"No"]
[75,"",null,"","",null,"","",null,"","",null,"","",null,"","",0,0,0,"No"]
[76,"",null,"","",null,"","",null,"","",null,"","",null,"","",0,0,0,"No"]
[77,"",null,"","",null,"","",null,"","",null,"","",null,"","",0,0,0,"No"]
[78,"",null,"","",null,"","",null,"","",null,"","",null,"","",0,0,0,"No"]
[79,"",null,"","",null,"","",null,"","",null,"","",null,"","",0,0,0,"No"]
[80,"",null,"","",null,"","",null,"","",null,"","",null,"","",0,0,0,"No"]
[81,"",null,"","",null,"","",null,"","",null,"","",null,"","",0,0,0,"No"]
[82,"",null,"","",null,"","",null,"","",null,"","",null,"","",0,0,0,"No"]
[83,"",null,"","",null,"","",null,"","",null,"","",null,"","",0,0,0,"No"]
[84,"",null,"","",null,"","",null,"","",null,"","",null,"","",0,0,0,"No"]
[85,"",null,"","",null,"","",null,"","",null,"","",null,"","",0,0,0,"No"]
[86,"",null,"","",null,"","",null,"","",null,"","",null,"","",0,0,0,"No"]
[87,"",null,"","",null,"","",null,"","",null,"","",null,"","",0,0,0,"No"]
[88,"",null,"","",null,"","",null,"","",null,"","",null,"","",0,0,0,"No"]
[89,"",null,"","",null,"","",null,"","",null,"","",null,"","",0,0,0,"No"]
[90,"",null,"","",null,"","",null,"","",null,"","",null,"","",0,0,0,"No"]
[91,"",null,"","",null,"","",null,"","",null,"","",null,"","",0,0,0,"No"]
[92,"",null,"","",null,"","",null,"","",null,"","",null,"","",0,0,0,"No"]
[93,"",null,"","",null,"","",null,"","",null,"","",null,"","",0,0,0,"No"]
[94,"",null,"","",null,"","",null,"","",null,"","",null,"","",0,0,0,"No"]
[95,"",null,"","",null,"","",null,"","",null,"","",null,"","",0,0,0,"No"]
[96,"",null,"","",null,"","",null,"","",null,"","",null,"","",0,0,0,"No"]
[97,"",null,"","",null,"","",null,"","",null,"","",null,"","",0,0,0,"No"]
[98,"",null,"","",null,"","",null,"","",null,"","",null,"","",0,0,0,"No"]
[99,"",null,"","",null,"","",null,"","",null,"","",null,"","",0,0,0,"No"]
[100,"",null,"","",null,"","",null,"","",null,"","",null,"","",0,0,0,"No"]
[101,"",null,"","",null,"","",null,"","",null,"","",null,"","",0,0,0,"No"]
[102,"",null,"","",null,"","",null,"","",null,"","",null,"","",0,0,0,"No"]
[103,"",null,"","",null,"","",null,"","",null,"","",null,"","",0,0,0,"No"]
[104,"",null,"","",null,"","",null,"","",null,"","",null,"","",0,0,0,"No"]
[105,"",null,"","",null,"","",null,"","",null,"","",null,"","",0,0,0,"No"]
[106,"",null,"","",null,"","",null,"","",null,"","",null,"","",0,0,0,"No"]
[107,"",null,"","",null,"","",null,"","",null,"","",null,"","",0,0,0,"No"]
[108,"",null,"","",null,"","",null,"","",null,"","",null,"","",0,0,0,"No"]
[109,"",null,"","",null,"","",null,"","",null,"","",null,"","",0,0,0,"No"]
[110,"",null,"","",null,"","",null,"","",null,"","",null,"","",0,0,0,"No"]
[111,"",null,"","",null,"","",null,"","",null,"","",null,"","",0,0,0,"No"]
[112,"",null,"","",null,"","",null,"","",null,"","",null,"","",0,0,0,"No"]
[113,"",null,"","",null,"","",null,"","",null,"","",null,"","",0,0,0,"No"]
[114,"",null,"","",null,"","",null,"","",null,"","",null,"","",0,0,0,"No"]
[115,"",null,"","",null,"","",null,"","",null,"","",null,"","",0,0,0,"No"]
[116,"",null,"","",null,"","",null,"","",null,"","",null,"","",0,0,0,"No"]
[117,"",null,"","",null,"","",null,"","",null,"","",null,"","",0,0,0,"No"]
[118,"",null,"","",null,"","",null,"","",null,"","",null,"","",0,0,0,"No"]
[119,"",null,"","",null,"","",null,"","",null,"","",null,"","",0,0,0,"No"]
[120,"",null,"","",null,"","",null,"","",null,"","",null,"","",0,0,0,"No"]
[121,"",null,"","",null,"","",null,"","",null,"","",null,"","",0,0,0,"No"]
[122,"",null,"","",null,"","",null,"","",null,"","",null,"","",0,0,0,"No"]
[123,"",null,"","",null,"","",null,"","",null,"","",null,"","",0,0,0,"No"]
[124,"",null,"","",null,"","",null,"","",null,"","",null,"","",0,0,0,"No"]
[125,"",null,"","",null,"","",null,"","",null,"","",null,"","",0,0,0,"No"]
[126,"",null,"","",null,"","",null,"","",null,"","",null,"","",0,0,0,"No"]
[127,"",null,"","",null,"","",null,"","",null,"","",null,"","",0,0,0,"No"]
[128,"",null,"","",null,"","",null,"","",null,"","",null,"","",0,0,0,"No"]
[129,"",null,"","",null,"","",null,"","",null,"","",null,"","",0,0,0,"No"]
[130,"",null,"","",null,"","",null,"","",null,"","",null,"","",0,0,0,"No"]
[131,"",null,"","",null,"","",null,"","",null,"","",null,"","",0,0,0,"No"]
[132,"",null,"","",null,"","",null,"","",null,"","",null,"","",0,0,0,"No"]
[133,"",null,"","",null,"","",null,"","",null,"","",null,"","",0,0,0,"No"]
[134,"",null,"","",null,"","",null,"","",null,"","",null,"","",0,0,0,"No"]
[135,"",null,"","",null,"","",null,"","",null,"","",null,"","",0,0,0,"No"]
[136,"",null,"","",null,"","",null,"","",null,"","",null,"","",0,0,0,"No"]
[137,"",null,"","",null,"","",null,"","",null,"","",null,"","",0,0,0,"No"]
[138,"",null,"","",null,"","",null,"","",null,"","",null,"","",0,0,0,"No"]
[139,"",null,"","",null,"","",null,"","",null,"","",null,"","",0,0,0,"No"]
[140,"",null,"","",null,"","",null,"","",null,"","",null,"","",0,0,0,"No"]
[141,"",null,"","",null,"","",null,"","",null,"","",null,"","",0,0,0,"No"]
[142,"",null,"","",null,"","",null,"","",null,"","",null,"","",0,0,0,"No"]
[143,"",null,"","",null,"","",null,"","",null,"","",null,"","",0,0,0,"No"]
[144,"",null,"","",null,"","",null,"","",null,"","",null,"","",0,0,0,"No"]
[145,"",null,"","",null,"","",null,"","",null,"","",null,"","",0,0,0,"No"]
[146,"",null,"","",null,"","",null,"","",null,"","",null,"","",0,0,0,"No"]
[147,"",null,"","",null,"","",null,"","",null,"","",null,"","",0,0,0,"No"]
[148,"",null,"","",null,"","",null,"","",null,"","",null,"","",0,0,0,"No"]
[149,"",null,"","",null,"","",null,"","",null,"","",null,"","",0,0,0,"No"]
[150,"",null,"","",null,"","",null,"","",null,"","",null,"","",0,0,0,"No"]
[151,"",null,"","",null,"","",null,"","",null,"","",null,"","",0,0,0,"No"]
[152,"",null,"","",null,"","",null,"","",null,"","",null,"","",0,0,0,"No"]
[153,"",null,"","",null,"","",null,"","",null,"","",null,"","",0,0,0,"No"]
[154,"",null,"","",null,"","",null,"","",null,"","",null,"","",0,0,0,"No"]
[155,"",null,"","",null,"","",null,"","",null,"","",null,"","",0,0,0,"No"]
[156,"",null,"","",null,"","",null,"","",null,"","",null,"","",0,0,0,"No"]
[157,"",null,"","",null,"","",null,"","",null,"","",null,"","",0,0,0,"No"]
[158,"",null,"","",null,"","",null,"","",null,"","",null,"","",0,0,0,"No"]
[159,"",null,"","",null,"","",null,"","",null,"","",null,"","",0,0,0,"No"]
[160,"",null,"","",null,"","",null,"","",null,"","",null,"","",0,0,0,"No"]
[161,"",null,"","",null,"","",null,"","",null,"","",null,"","",0,0,0,"No"]
[162,"",null,"","",null,"","",null,"","",null,"","",null,"","",0,0,0,"No"]
[163,"",null,"","",null,"","",null,"","",null,"","",null,"","",0,0,0,"No"]
[164,"",null,"","",null,"","",null,"","",null,"","",null,"","",0,0,0,"No"]
[165,"",null,"","",null,"","",null,"","",null,"","",null,"","",0,0,0,"No"]
[166,"",null,"","",null,"","",null,"","",null,"","",null,"","",0,0,0,"No"]
[167,"",null,"","",null,"","",null,"","",null,"","",null,"","",0,0,0,"No"]
[168,"",null,"","",null,"","",null,"","",null,"","",null,"","",0,0,0,"No"]
[169,"",null,"","",null,"","",null,"","",null,"","",null,"","",0,0,0,"No"]
[170,"",null,"","",null,"","",null,"","",null,"","",null,"","",0,0,0,"No"]
[171,"",null,"","",null,"","",null,"","",null,"","",null,"","",0,0,0,"No"]
[172,"",null,"","",null,"","",null,"","",null,"","",null,"","",0,0,0,"No"]
[242,"",null,"","",null,"","",null,"","",null,"","",null,"","",0,0,0,"No"]
[174,"",null,"","",null,"","",null,"","",null,"","",null,"","",0,0,0,"No"]
[175,"",null,"","",null,"","",null,"","",null,"","",null,"","",0,0,0,"No"]
[176,"",null,"","",null,"","",null,"","",null,"","",null,"","",0,0,0,"No"]
[177,"",null,"","",null,"","",null,"","",null,"","",null,"","",0,0,0,"No"]
[178,"",null,"","",null,"","",null,"","",null,"","",null,"","",0,0,0,"No"]
[179,"",null,"","",null,"","",null,"","",null,"","",null,"","",0,0,0,"No"]
[180,"",null,"","",null,"","",null,"","",null,"","",null,"","",0,0,0,"No"]
[181,"",null,"","",null,"","",null,"","",null,"","",null,"","",0,0,0,"No"]
[182,"",null,"","",null,"","",null,"","",null,"","",null,"","",0,0,0,"No"]
[183,"",null,"","",null,"","",null,"","",null,"","",null,"","",0,0,0,"No"]
[184,"",null,"","",null,"","",null,"","",null,"","",null,"","",0,0,0,"No"]
[185,"",null,"","",null,"","",null,"","",null,"","",null,"","",0,0,0,"No"]
[186,"",null,"","",null,"","",null,"","",null,"","",null,"","",0,0,0,"No"]
[187,"",null,"","",null,"","",null,"","",null,"","",null,"","",0,0,0,"No"]
[188,"",null,"","",null,"","",null,"","",null,"","",null,"","",0,0,0,"No"]
[189,"",null,"","",null,"","",null,"","",null,"","",null,"","",0,0,0,"No"]
[190,"",null,"","",null,"","",null,"","",null,"","",null,"","",0,0,0,"No"]
[191,"",null,"","",null,"","",null,"","",null,"","",null,"","",0,0,0,"No"]
[192,"",null,"","",null,"","",null,"","",null,"","",null,"","",0,0,0,"No"]
[193,"",null,"","",null,"","",null,"","",null,"","",null,"","",0,0,0,"No"]
[194,"",null,"","",null,"","",null,"","",null,"","",null,"","",0,0,0,"No"]
[195,"",null,"","",null,"","",null,"","",null,"","",null,"","",0,0,0,"No"]
[196,"",null,"","",null,"","",null,"","",null,"","",null,"","",0,0,0,"No"]
[197,"",null,"","",null,"","",null,"","",null,"","",null,"","",0,0,0,"No"]
[198,"",null,"","",null,"","",null,"","",null,"","",null,"","",0,0,0,"No"]
[199,"",null,"","",null,"","",null,"","",null,"","",null,"","",0,0,0,"No"]
[200,"",null,"","",null,"","",null,"","",null,"","",null,"","",0,0,0,"No"]
[201,"",null,"","",null,"","",null,"","",null,"","",null,"","",0,0,0,"No"]
[202,"",null,"","",null,"","",null,"","",null,"","",null,"","",0,0,0,"No"]
[203,"",null,"","",null,"","",null,"","",null,"","",null,"","",0,0,0,"No"]
[204,"",null,"","",null,"","",null,"","",null,"","",null,"","",0,0,0,"No"]
[205,"",null,"","",null,"","",null,"","",null,"","",null,"","",0,0,0,"No"]
[206,"",null,"","",null,"","",null,"","",null,"","",null,"","",0,0,0,"No"]
[207,"",null,"","",null,"","",null,"","",null,"","",null,"","",0,0,0,"No"]
[208,"",null,"","",null,"","",null,"","",null,"","",null,"","",0,0,0,"No"]
[209,"",null,"","",null,"","",null,"","",null,"","",null,"","",0,0,0,"No"]
[210,"",null,"","",null,"","",null,"","",null,"","",null,"","",0,0,0,"No"]
[211,"",null,"","",null,"","",null,"","",null,"","",null,"","",0,0,0,"No"]
[212,"",null,"","",null,"","",null,"","",null,"","",null,"","",0,0,0,"No"]
[213,"",null,"","",null,"","",null,"","",null,"","",null,"","",0,0,0,"No"]
[214,"",null,"","",null,"","",null,"","",null,"","",null,"","",0,0,0,"No"]
[215,"",null,"","",null,"","",null,"","",null,"","",null,"","",0,0,0,"No"]
[216,"",null,"","",null,"","",null,"","",null,"","",null,"","",0,0,0,"No"]
[217,"",null,"","",null,"","",null,"","",null,"","",null,"","",0,0,0,"No"]
[218,"",null,"","",null,"","",null,"","",null,"","",null,"","",0,0,0,"No"]
[219,"",null,"","",null,"","",null,"","",null,"","",null,"","",0,0,0,"No"]
[220,"",null,"","",null,"","",null,"","",null,"","",null,"","",0,0,0,"No"]
[221,"",null,"","",null,"","",null,"","",null,"","",null,"","",0,0,0,"No"]
[222,"",null,"","",null,"","",null,"","",null,"","",null,"","",0,0,0,"No"]
[223,"",null,"","",null,"","",null,"","",null,"","",null,"","",0,0,0,"No"]
[224,"",null,"","",null,"","",null,"","",null,"","",null,"","",0,0,0,"No"]
[225,"",null,"","",null,"","",null,"","",null,"","",null,"","",0,0,0,"No"]
[226,"",null,"","",null,"","",null,"","",null,"","",null,"","",0,0,0,"No"]
[227,"",null,"","",null,"","",null,"","",null,"","",null,"","",0,0,0,"No"]
[228,"",null,"","",null,"","",null,"","",null,"","",null,"","",0,0,0,"No"]
[229,"",null,"","",null,"","",null,"","",null,"","",null,"","",0,0,0,"No"]
[230,"",null,"","",null,"","",null,"","",null,"","",null,"","",0,0,0,"No"]
[231,"",null,"","",null,"","",null,"","",null,"","",null,"","",0,0,0,"No"]
[232,"",null,"","",null,"","",null,"","",null,"","",null,"","",0,0,0,"No"]
[233,"",null,"","",null,"","",null,"","",null,"","",null,"","",0,0,0,"No"]
[234,"",null,"","",null,"","",null,"","",null,"","",null,"","",0,0,0,"No"]
[235,"",null,"","",null,"","",null,"","",null,"","",null,"","",0,0,0,"No"]
[236,"",null,"","",null,"","",null,"","",null,"","",null,"","",0,0,0,"No"]
[237,"",null,"","",null,"","",null,"","",null,"","",null,"","",0,0,0,"No"]
[238,"",null,"","",null,"","",null,"","",null,"","",null,"","",0,0,0,"No"]
[239,"",null,"","",null,"","",null,"","",null,"","",null,"","",0,0,0,"No"]
[240,"",null,"","",null,"","",null,"","",null,"","",null,"","",0,0,0,"No"]
[241,"",null,"","",null,"","",null,"","",null,"","",null,"","",0,0,0,"No"]
[1,"Robert Smyth Academy A",1,22,"Y",null,0,"N",null,0,"N",2,35,"Y",null,0,"N",3,2,2,"No"]
[243,"",null,"","",null,"","",null,"","",null,"","",null,"","",0,0,0,"No"]
[244,"",null,"","",null,"","",null,"","",null,"","",null,"","",0,0,0,"No"]
[245,"",null,"","",null,"","",null,"","",null,"","",null,"","",0,0,0,"No"]
[246,"",null,"","",null,"","",null,"","",null,"","",null,"","",0,0,0,"No"]
[247,"",null,"","",null,"","",null,"","",null,"","",null,"","",0,0,0,"No"]
[248,"",null,"","",null,"","",null,"","",null,"","",null,"","",0,0,0,"No"]
[249,"",null,"","",null,"","",null,"","",null,"","",null,"","",0,0,0,"No"]
[250,"",null,"","",null,"","",null,"","",null,"","",null,"","",0,0,0,"No"]
[251,"",null,"","",null,"","",null,"","",null,"","",null,"","",0,0,0,"No"]
[252,"",null,"","",null,"","",null,"","",null,"","",null,"","",0,0,0,"No"]
[253,"",null,"","",null,"","",null,"","",null,"","",null,"","",0,0,0,"No"]
[254,"",null,"","",null,"","",null,"","",null,"","",null,"","",0,0,0,"No"]
[255,"",null,"","",null,"","",null,"","",null,"","",null,"","",0,0,0,"No"]
[256,"",null,"","",null,"","",null,"","",null,"","",null,"","",0,0,0,"No"]
[257,"",null,"","",null,"","",null,"","",null,"","",null,"","",0,0,0,"No"]
[258,"",null,"","",null,"","",null,"","",null,"","",null,"","",0,0,0,"No"]
[259,"",null,"","",null,"","",null,"","",null,"","",null,"","",0,0,0,"No"]
[260,"",null,"","",null,"","",null,"","",null,"","",null,"","",0,0,0,"No"]
[261,"",null,"","",null,"","",null,"","",null,"","",null,"","",0,0,0,"No"]
[262,"",null,"","",null,"","",null,"","",null,"","",null,"","",0,0,0,"No"]
[263,"",null,"","",null,"","",null,"","",null,"","",null,"","",0,0,0,"No"]
[264,"",null,"","",null,"","",null,"","",null,"","",null,"","",0,0,0,"No"]
[265,"",null,"","",null,"","",null,"","",null,"","",null,"","",0,0,0,"No"]
[266,"",null,"","",null,"","",null,"","",null,"","",null,"","",0,0,0,"No"]
[267,"",null,"","",null,"","",null,"","",null,"","",null,"","",0,0,0,"No"]
[268,"",null,"","",null,"","",null,"","",null,"","",null,"","",0,0,0,"No"]
[269,"",null,"","",null,"","",null,"","",null,"","",null,"","",0,0,0,"No"]
[270,"",null,"","",null,"","",null,"","",null,"","",null,"","",0,0,0,"No"]
[271,"",null,"","",null,"","",null,"","",null,"","",null,"","",0,0,0,"No"]
[272,"",null,"","",null,"","",null,"","",null,"","",null,"","",0,0,0,"No"]
[273,"",null,"","",null,"","",null,"","",null,"","",null,"","",0,0,0,"No"]
[274,"",null,"","",null,"","",null,"","",null,"","",null,"","",0,0,0,"No"]
[275,"",null,"","",null,"","",null,"","",null,"","",null,"","",0,0,0,"No"]
[276,"",null,"","",null,"","",null,"","",null,"","",null,"","",0,0,0,"No"]
[277,"",null,"","",null,"","",null,"","",null,"","",null,"","",0,0,0,"No"]
[30,"Uppingham School A",null,0,"N",2,26,"N",null,0,"N",null,0,"N",null,0,"N",2,1,0,"No"]
[279,"",null,"","",null,"","",null,"","",null,"","",null,"","",0,0,0,"No"]
[280,"",null,"","",null,"","",null,"","",null,"","",null,"","",0,0,0,"No"]
[281,"",null,"","",null,"","",null,"","",null,"","",null,"","",0,0,0,"No"]
[282,"",null,"","",null,"","",null,"","",null,"","",null,"","",0,0,0,"No"]
[283,"",null,"","",null,"","",null,"","",null,"","",null,"","",0,0,0,"No"]
[284,"",null,"","",null,"","",null,"","",null,"","",null,"","",0,0,0,"No"]
[285,"",null,"","",null,"","",null,"","",null,"","",null,"","",0,0,0,"No"]
[286,"",null,"","",null,"","",null,"","",null,"","",null,"","",0,0,0,"No"]
[287,"",null,"","",null,"","",null,"","",null,"","",null,"","",0,0,0,"No"]
[288,"",null,"","",null,"","",null,"","",null,"","",null,"","",0,0,0,"No"]
[289,"",null,"","",null,"","",null,"","",null,"","",null,"","",0,0,0,"No"]
[290,"",null,"","",null,"","",null,"","",null,"","",null,"","",0,0,0,"No"]
[291,"",null,"","",null,"","",null,"","",null,"","",null,"","",0,0,0,"No"]
[292,"",null,"","",null,"","",null,"","",null,"","",null,"","",0,0,0,"No"]
[293,"",null,"","",null,"","",null,"","",null,"","",null,"","",0,0,0,"No"]
[294,"",null,"","",null,"","",null,"","",null,"","",null,"","",0,0,0,"No"]
[295,"",null,"","",null,"","",null,"","",null,"","",null,"","",0,0,0,"No"]
[296,"",null,"","",null,"","",null,"","",null,"","",null,"","",0,0,0,"No"]
[297,"",null,"","",null,"","",null,"","",null,"","",null,"","",0,0,0,"No"]
[298,"",null,"","",null,"","",null,"","",null,"","",null,"","",0,0,0,"No"]
[299,"",null,"","",null,"","",null,"","",null,"","",null,"","",0,0,0,"No"]
[300,"",null,"","",null,"","",null,"","",null,"","",null,"","",0,0,0,"No"]
[301,"",null,"","",null,"","",null,"","",null,"","",null,"","",0,0,0,"No"]
[302,"",null,"","",null,"","",null,"","",null,"","",null,"","",0,0,0,"No"]
[303,"",null,"","",null,"","",null,"","",null,"","",null,"","",0,0,0,"No"]
[304,"",null,"","",null,"","",null,"","",null,"","",null,"","",0,0,0,"No"]
[305,"",null,"","",null,"","",null,"","",null,"","",null,"","",0,0,0,"No"]
[306,"",null,"","",null,"","",null,"","",null,"","",null,"","",0,0,0,"No"]
[307,"",null,"","",null,"","",null,"","",null,"","",null,"","",0,0,0,"No"]
[308,"",null,"","",null,"","",null,"","",null,"","",null,"","",0,0,0,"No"]
[309,"",null,"","",null,"","",null,"","",null,"","",null,"","",0,0,0,"No"]
[310,"",null,"","",null,"","",null,"","",null,"","",null,"","",0,0,0,"No"]
[311,"",null,"","",null,"","",null,"","",null,"","",null,"","",0,0,0,"No"]
[312,"",null,"","",null,"","",null,"","",null,"","",null,"","",0,0,0,"No"]
[313,"",null,"","",null,"","",null,"","",null,"","",null,"","",0,0,0,"No"]
[314,"",null,"","",null,"","",null,"","",null,"","",null,"","",0,0,0,"No"]
[315,"",null,"","",null,"","",null,"","",null,"","",null,"","",0,0,0,"No"]
[316,"",null,"","",null,"","",null,"","",null,"","",null,"","",0,0,0,"No"]
[317,"",null,"","",null,"","",null,"","",null,"","",null,"","",0,0,0,"No"]
[318,"",null,"","",null,"","",null,"","",null,"","",null,"","",0,0,0,"No"]
[319,"",null,"","",null,"","",null,"","",null,"","",null,"","",0,0,0,"No"]
[320,"",null,"","",null,"","",null,"","",null,"","",null,"","",0,0,0,"No"]
[321,"",null,"","",null,"","",null,"","",null,"","",null,"","",0,0,0,"No"]
[322,"",null,"","",null,"","",null,"","",null,"","",null,"","",0,0,0,"No"]
[323,"",null,"","",null,"","",null,"","",null,"","",null,"","",0,0,0,"No"]
[324,"",null,"","",null,"","",null,"","",null,"","",null,"","",0,0,0,"No"]
[325,"",null,"","",null,"","",null,"","",null,"","",null,"","",0,0,0,"No"]
[326,"",null,"","",null,"","",null,"","",null,"","",null,"","",0,0,0,"No"]
[327,"",null,"","",null,"","",null,"","",null,"","",null,"","",0,0,0,"No"]
[328,"",null,"","",null,"","",null,"","",null,"","",null,"","",0,0,0,"No"]
[329,"",null,"","",null,"","",null,"","",null,"","",null,"","",0,0,0,"No"]
[330,"",null,"","",null,"","",null,"","",null,"","",null,"","",0,0,0,"No"]
[331,"",null,"","",null,"","",null,"","",null,"","",null,"","",0,0,0,"No"]
[332,"",null,"","",null,"","",null,"","",null,"","",null,"","",0,0,0,"No"]
[333,"",null,"","",null,"","",null,"","",null,"","",null,"","",0,0,0,"No"]
[334,"",null,"","",null,"","",null,"","",null,"","",null,"","",0,0,0,"No"]
[335,"",null,"","",null,"","",null,"","",null,"","",null,"","",0,0,0,"No"]
[336,"",null,"","",null,"","",null,"","",null,"","",null,"","",0,0,0,"No"]
[337,"",null,"","",null,"","",null,"","",null,"","",null,"","",0,0,0,"No"]
[338,"",null,"","",null,"","",null,"","",null,"","",null,"","",0,0,0,"No"]
[339,"",null,"","",null,"","",null,"","",null,"","",null,"","",0,0,0,"No"]
[340,"",null,"","",null,"","",null,"","",null,"","",null,"","",0,0,0,"No"]
[341,"",null,"","",null,"","",null,"","",null,"","",null,"","",0,0,0,"No"]
[342,"",null,"","",null,"","",null,"","",null,"","",null,"","",0,0,0,"No"]
[343,"",null,"","",null,"","",null,"","",null,"","",null,"","",0,0,0,"No"]
[344,"",null,"","",null,"","",null,"","",null,"","",null,"","",0,0,0,"No"]
[345,"",null,"","",null,"","",null,"","",null,"","",null,"","",0,0,0,"No"]
[346,"",null,"","",null,"","",null,"","",null,"","",null,"","",0,0,0,"No"]
[347,"",null,"","",null,"","",null,"","",null,"","",null,"","",0,0,0,"No"]
[348,"",null,"","",null,"","",null,"","",null,"","",null,"","",0,0,0,"No"]
[349,"",null,"","",null,"","",null,"","",null,"","",null,"","",0,0,0,"No"]
[350,"",null,"","",null,"","",null,"","",null,"","",null,"","",0,0,0,"No"]
[351,"",null,"","",null,"","",null,"","",null,"","",null,"","",0,0,0,"No"]
[352,"",null,"","",null,"","",null,"","",null,"","",null,"","",0,0,0,"No"]
[353,"",null,"","",null,"","",null,"","",null,"","",null,"","",0,0,0,"No"]
[354,"",null,"","",null,"","",null,"","",null,"","",null,"","",0,0,0,"No"]
[355,"",null,"","",null,"","",null,"","",null,"","",null,"","",0,0,0,"No"]
[356,"",null,"","",null,"","",null,"","",null,"","",null,"","",0,0,0,"No"]
[357,"",null,"","",null,"","",null,"","",null,"","",null,"","",0,0,0,"No"]
[358,"",null,"","",null,"","",null,"","",null,"","",null,"","",0,0,0,"No"]
[359,"",null,"","",null,"","",null,"","",null,"","",null,"","",0,0,0,"No"]
[360,"",null,"","",null,"","",null,"","",null,"","",null,"","",0,0,0,"No"]
[361,"",null,"","",null,"","",null,"","",null,"","",null,"","",0,0,0,"No"]
[362,"",null,"","",null,"","",null,"","",null,"","",null,"","",0,0,0,"No"]
[363,"",null,"","",null,"","",null,"","",null,"","",null,"","",0,0,0,"No"]
[364,"",null,"","",null,"","",null,"","",null,"","",null,"","",0,0,0,"No"]
[365,"",null,"","",null,"","",null,"","",null,"","",null,"","",0,0,0,"No"]
[366,"",null,"","",null,"","",null,"","",null,"","",null,"","",0,0,0,"No"]
[367,"",null,"","",null,"","",null,"","",null,"","",null,"","",0,0,0,"No"]
[368,"",null,"","",null,"","",null,"","",null,"","",null,"","",0,0,0,"No"]
[369,"",null,"","",null,"","",null,"","",null,"","",null,"","",0,0,0,"No"]
[370,"",null,"","",null,"","",null,"","",null,"","",null,"","",0,0,0,"No"]
[371,"",null,"","",null,"","",null,"","",null,"","",null,"","",0,0,0,"No"]
[372,"",null,"","",null,"","",null,"","",null,"","",null,"","",0,0,0,"No"]
[373,"",null,"","",null,"","",null,"","",null,"","",null,"","",0,0,0,"No"]
[374,"",null,"","",null,"","",null,"","",null,"","",null,"","",0,0,0,"No"]
[375,"",null,"","",null,"","",null,"","",null,"","",null,"","",0,0,0,"No"]
[376,"",null,"","",null,"","",null,"","",null,"","",null,"","",0,0,0,"No"]
[377,"",null,"","",null,"","",null,"","",null,"","",null,"","",0,0,0,"No"]
[378,"",null,"","",null,"","",null,"","",null,"","",null,"","",0,0,0,"No"]
[379,"",null,"","",null,"","",null,"","",null,"","",null,"","",0,0,0,"No"]
[380,"",null,"","",null,"","",null,"","",null,"","",null,"","",0,0,0,"No"]
[381,"",null,"","",null,"","",null,"","",null,"","",null,"","",0,0,0,"No"]
[382,"",null,"","",null,"","",null,"","",null,"","",null,"","",0,0,0,"No"]
[383,"",null,"","",null,"","",null,"","",null,"","",null,"","",0,0,0,"No"]
[384,"",null,"","",null,"","",null,"","",null,"","",null,"","",0,0,0,"No"]
[385,"",null,"","",null,"","",null,"","",null,"","",null,"","",0,0,0,"No"]
[386,"",null,"","",null,"","",null,"","",null,"","",null,"","",0,0,0,"No"]
[387,"",null,"","",null,"","",null,"","",null,"","",null,"","",0,0,0,"No"]
[388,"",null,"","",null,"","",null,"","",null,"","",null,"","",0,0,0,"No"]
[389,"",null,"","",null,"","",null,"","",null,"","",null,"","",0,0,0,"No"]
[390,"",null,"","",null,"","",null,"","",null,"","",null,"","",0,0,0,"No"]
[391,"",null,"","",null,"","",null,"","",null,"","",null,"","",0,0,0,"No"]
[392,"",null,"","",null,"","",null,"","",null,"","",null,"","",0,0,0,"No"]
[393,"",null,"","",null,"","",null,"","",null,"","",null,"","",0,0,0,"No"]
[394,"",null,"","",null,"","",null,"","",null,"","",null,"","",0,0,0,"No"]
[395,"",null,"","",null,"","",null,"","",null,"","",null,"","",0,0,0,"No"]
[396,"",null,"","",null,"","",null,"","",null,"","",null,"","",0,0,0,"No"]
[397,"",null,"","",null,"","",null,"","",null,"","",null,"","",0,0,0,"No"]
[398,"",null,"","",null,"","",null,"","",null,"","",null,"","",0,0,0,"No"]
[399,"",null,"","",null,"","",null,"","",null,"","",null,"","",0,0,0,"No"]
[400,"",null,"","",null,"","",null,"","",null,"","",null,"","",0,0,0,"No"]
[401,"",null,"","",null,"","",null,"","",null,"","",null,"","",0,0,0,"No"]
[402,"",null,"","",null,"","",null,"","",null,"","",null,"","",0,0,0,"No"]
[403,"",null,"","",null,"","",null,"","",null,"","",null,"","",0,0,0,"No"]
[404,"",null,"","",null,"","",null,"","",null,"","",null,"","",0,0,0,"No"]
[405,"",null,"","",null,"","",null,"","",null,"","",null,"","",0,0,0,"No"]
[406,"",null,"","",null,"","",null,"","",null,"","",null,"","",0,0,0,"No"]
[407,"",null,"","",null,"","",null,"","",null,"","",null,"","",0,0,0,"No"]
[408,"",null,"","",null,"","",null,"","",null,"","",null,"","",0,0,0,"No"]
[409,"",null,"","",null,"","",null,"","",null,"","",null,"","",0,0,0,"No"]
[410,"",null,"","",null,"","",null,"","",null,"","",null,"","",0,0,0,"No"]
[411,"",null,"","",null,"","",null,"","",null,"","",null,"","",0,0,0,"No"]
[412,"",null,"","",null,"","",null,"","",null,"","",null,"","",0,0,0,"No"]
[413,"",null,"","",null,"","",null,"","",null,"","",null,"","",0,0,0,"No"]
[414,"",null,"","",null,"","",null,"","",null,"","",null,"","",0,0,0,"No"]
[415,"",null,"","",null,"","",null,"","",null,"","",null,"","",0,0,0,"No"]
[416,"",null,"","",null,"","",null,"","",null,"","",null,"","",0,0,0,"No"]
[417,"",null,"","",null,"","",null,"","",null,"","",null,"","",0,0,0,"No"]
[418,"",null,"","",null,"","",null,"","",null,"","",null,"","",0,0,0,"No"]
[419,"",null,"","",null,"","",null,"","",null,"","",null,"","",0,0,0,"No"]
[420,"",null,"","",null,"","",null,"","",null,"","",null,"","",0,0,0,"No"]
[421,"",null,"","",null,"","",null,"","",null,"","",null,"","",0,0,0,"No"]
[422,"",null,"","",null,"","",null,"","",null,"","",null,"","",0,0,0,"No"]
[423,"",null,"","",null,"","",null,"","",null,"","",null,"","",0,0,0,"No"]
[424,"",null,"","",null,"","",null,"","",null,"","",null,"","",0,0,0,"No"]
[425,"",null,"","",null,"","",null,"","",null,"","",null,"","",0,0,0,"No"]
[426,"",null,"","",null,"","",null,"","",null,"","",null,"","",0,0,0,"No"]
[427,"",null,"","",null,"","",null,"","",null,"","",null,"","",0,0,0,"No"]
[428,"",null,"","",null,"","",null,"","",null,"","",null,"","",0,0,0,"No"]
[429,"",null,"","",null,"","",null,"","",null,"","",null,"","",0,0,0,"No"]
[430,"",null,"","",null,"","",null,"","",null,"","",null,"","",0,0,0,"No"]
[431,"",null,"","",null,"","",null,"","",null,"","",null,"","",0,0,0,"No"]
[432,"",null,"","",null,"","",null,"","",null,"","",null,"","",0,0,0,"No"]
[433,"",null,"","",null,"","",null,"","",null,"","",null,"","",0,0,0,"No"]
[434,"",null,"","",null,"","",null,"","",null,"","",null,"","",0,0,0,"No"]
[435,"",null,"","",null,"","",null,"","",null,"","",null,"","",0,0,0,"No"]
[436,"",null,"","",null,"","",null,"","",null,"","",null,"","",0,0,0,"No"]
[437,"",null,"","",null,"","",null,"","",null,"","",null,"","",0,0,0,"No"]
[438,"",null,"","",null,"","",null,"","",null,"","",null,"","",0,0,0,"No"]
[439,"",null,"","",null,"","",null,"","",null,"","",null,"","",0,0,0,"No"]
[440,"",null,"","",null,"","",null,"","",null,"","",null,"","",0,0,0,"No"]
[441,"",null,"","",null,"","",null,"","",null,"","",null,"","",0,0,0,"No"]
[442,"",null,"","",null,"","",null,"","",null,"","",null,"","",0,0,0,"No"]
[443,"",null,"","",null,"","",null,"","",null,"","",null,"","",0,0,0,"No"]
[444,"",null,"","",null,"","",null,"","",null,"","",null,"","",0,0,0,"No"]
[445,"",null,"","",null,"","",null,"","",null,"","",null,"","",0,0,0,"No"]
[446,"",null,"","",null,"","",null,"","",null,"","",null,"","",0,0,0,"No"]
[447,"",null,"","",null,"","",null,"","",null,"","",null,"","",0,0,0,"No"]
[448,"",null,"","",null,"","",null,"","",null,"","",null,"","",0,0,0,"No"]
[449,"",null,"","",null,"","",null,"","",null,"","",null,"","",0,0,0,"No"]
[450,"",null,"","",null,"","",null,"","",null,"","",null,"","",0,0,0,"No"]
[451,"",null,"","",null,"","",null,"","",null,"","",null,"","",0,0,0,"No"]
[452,"",null,"","",null,"","",null,"","",null,"","",null,"","",0,0,0,"No"]
[453,"",null,"","",null,"","",null,"","",null,"","",null,"","",0,0,0,"No"]
[454,"",null,"","",null,"","",null,"","",null,"","",null,"","",0,0,0,"No"]
[455,"",null,"","",null,"","",null,"","",null,"","",null,"","",0,0,0,"No"]
[456,"",null,"","",null,"","",null,"","",null,"","",null,"","",0,0,0,"No"]
[457,"",null,"","",null,"","",null,"","",null,"","",null,"","",0,0,0,"No"]
[458,"",null,"","",null,"","",null,"","",null,"","",null,"","",0,0,0,"No"]
[459,"",null,"","",null,"","",null,"","",null,"","",null,"","",0,0,0,"No"]
[460,"",null,"","",null,"","",null,"","",null,"","",null,"","",0,0,0,"No"]
[461,"",null,"","",null,"","",null,"","",null,"","",null,"","",0,0,0,"No"]
[462,"",null,"","",null,"","",null,"","",null,"","",null,"","",0,0,0,"No"]
[463,"",null,"","",null,"","",null,"","",null,"","",null,"","",0,0,0,"No"]
[464,"",null,"","",null,"","",null,"","",null,"","",null,"","",0,0,0,"No"]
[465,"",null,"","",null,"","",null,"","",null,"","",null,"","",0,0,0,"No"]
[466,"",null,"","",null,"","",null,"","",null,"","",null,"","",0,0,0,"No"]
[467,"",null,"","",null,"","",null,"","",null,"","",null,"","",0,0,0,"No"]
[468,"",null,"","",null,"","",null,"","",null,"","",null,"","",0,0,0,"No"]
[469,"",null,"","",null,"","",null,"","",null,"","",null,"","",0,0,0,"No"]
[470,"",null,"","",null,"","",null,"","",null,"","",null,"","",0,0,0,"No"]
[471,"",null,"","",null,"","",null,"","",null,"","",null,"","",0,0,0,"No"]
[472,"",null,"","",null,"","",null,"","",null,"","",null,"","",0,0,0,"No"]
[473,"",null,"","",null,"","",null,"","",null,"","",null,"","",0,0,0,"No"]
[474,"",null,"","",null,"","",null,"","",null,"","",null,"","",0,0,0,"No"]
[475,"",null,"","",null,"","",null,"","",null,"","",null,"","",0,0,0,"No"]
[476,"",null,"","",null,"","",null,"","",null,"","",null,"","",0,0,0,"No"]
[477,"",null,"","",null,"","",null,"","",null,"","",null,"","",0,0,0,"No"]
[478,"",null,"","",null,"","",null,"","",null,"","",null,"","",0,0,0,"No"]
[479,"",null,"","",null,"","",null,"","",null,"","",null,"","",0,0,0,"No"]
[480,"",null,"","",null,"","",null,"","",null,"","",null,"","",0,0,0,"No"]
[481,"",null,"","",null,"","",null,"","",null,"","",null,"","",0,0,0,"No"]
[482,"",null,"","",null,"","",null,"","",null,"","",null,"","",0,0,0,"No"]
[483,"",null,"","",null,"","",null,"","",null,"","",null,"","",0,0,0,"No"]
[484,"",null,"","",null,"","",null,"","",null,"","",null,"","",0,0,0,"No"]
[485,"",null,"","",null,"","",null,"","",null,"","",null,"","",0,0,0,"No"]
[486,"",null,"","",null,"","",null,"","",null,"","",null,"","",0,0,0,"No"]
[487,"",null,"","",null,"","",null,"","",null,"","",null,"","",0,0,0,"No"]
[488,"",null,"","",null,"","",null,"","",null,"","",null,"","",0,0,0,"No"]
[489,"",null,"","",null,"","",null,"","",null,"","",null,"","",0,0,0,"No"]
[490,"",null,"","",null,"","",null,"","",null,"","",null,"","",0,0,0,"No"]
[491,"",null,"","",null,"","",null,"","",null,"","",null,"","",0,0,0,"No"]
[492,"",null,"","",null,"","",null,"","",null,"","",null,"","",0,0,0,"No"]
[493,"",null,"","",null,"","",null,"","",null,"","",null,"","",0,0,0,"No"]
[494,"",null,"","",null,"","",null,"","",null,"","",null,"","",0,0,0,"No"]
[495,"",null,"","",null,"","",null,"","",null,"","",null,"","",0,0,0,"No"]
[496,"",null,"","",null,"","",null,"","",null,"","",null,"","",0,0,0,"No"]
[497,"",null,"","",null,"","",null,"","",null,"","",null,"","",0,0,0,"No"]
[498,"",null,"","",null,"","",null,"","",null,"","",null,"","",0,0,0,"No"]
[499,"",null,"","",null,"","",null,"","",null,"","",null,"","",0,0,0,"No"]
[500,"",null,"","",null,"","",null,"","",null,"","",null,"","",0,0,0,"No"]
[]
[]
["Reference","SB Teams","Position (Race 1)","Result (Race 1)","Claimed Last Place (Race 1)","Position (Race 2)","Result (Race 2)","Claimed Last Place (Race 2)","Position (Race 3)","Result (Race 3)","Claimed Last Place (Race 3)","Position (Race 4)","Result (Race 4)","Claimed Last Place (Race 4)","Position (Race 5)","Result (Race 5)","Claimed Last Place (Race 5)","Total (All Races)","Races Completed","Number of claimed LP","Eligible"]
[3,"",null,"","",null,"","",null,"","",null,"","",null,"","",0,0,0,"No"]
[44,"",null,"","",null,"","",null,"","",null,"","",null,"","",0,0,0,"No"]
[182,"",null,"","",null,"","",null,"","",null,"","",null,"","",0,0,0,"No"]
[4,"",null,"","",null,"","",null,"","",null,"","",null,"","",0,0,0,"No"]
[5,"",null,"","",null,"","",null,"","",null,"","",null,"","",0,0,0,"No"]
[6,"",null,"","",null,"","",null,"","",null,"","",null,"","",0,0,0,"No"]
[7,"",null,"","",null,"","",null,"","",null,"","",null,"","",0,0,0,"No"]
[8,"",null,"","",null,"","",null,"","",null,"","",null,"","",0,0,0,"No"]
[9,"",null,"","",null,"","",null,"","",null,"","",null,"","",0,0,0,"No"]
[10,"",null,"","",null,"","",null,"","",null,"","",null,"","",0,0,0,"No"]
[173,"Ratcliffe College A",null,0,"N",null,0,"N",null,0,"N",1,20,"Y",null,0,"N",1,1,1,"No"]
[12,"",null,"","",null,"","",null,"","",null,"","",null,"","",0,0,0,"No"]
[13,"",null,"","",null,"","",null,"","",null,"","",null,"","",0,0,0,"No"]
[14,"",null,"","",null,"","",null,"","",null,"","",null,"","",0,0,0,"No"]
[15,"",null,"","",null,"","",null,"","",null,"","",null,"","",0,0,0,"No"]
[16,"",null,"","",null,"","",null,"","",null,"","",null,"","",0,0,0,"No"]
[17,"",null,"","",null,"","",null,"","",null,"","",null,"","",0,0,0,"No"]
[18,"",null,"","",null,"","",null,"","",null,"","",null,"","",0,0,0,"No"]
[19,"",null,"","",null,"","",null,"","",null,"","",null,"","",0,0,0,"No"]
[20,"",null,"","",null,"","",null,"","",null,"","",null,"","",0,0,0,"No"]
[21,"",null,"","",null,"","",null,"","",null,"","",null,"","",0,0,0,"No"]
[22,"",null,"","",null,"","",null,"","",null,"","",null,"","",0,0,0,"No"]
[23,"",null,"","",null,"","",null,"","",null,"","",null,"","",0,0,0,"No"]
[24,"",null,"","",null,"","",null,"","",null,"","",null,"","",0,0,0,"No"]
[25,"",null,"","",null,"","",null,"","",null,"","",null,"","",0,0,0,"No"]
[26,"",null,"","",null,"","",null,"","",null,"","",null,"","",0,0,0,"No"]
[27,"",null,"","",null,"","",null,"","",null,"","",null,"","",0,0,0,"No"]
[28,"",null,"","",null,"","",null,"","",null,"","",null,"","",0,0,0,"No"]
[29,"",null,"","",null,"","",null,"","",null,"","",null,"","",0,0,0,"No"]
[30,"",null,"","",null,"","",null,"","",null,"","",null,"","",0,0,0,"No"]
[272,"Loughborough Grammar School A",null,0,"N",2,20,"N",1,19,"Y",2,27,"N",null,0,"N",5,3,1,"Yes"]
[32,"",null,"","",null,"","",null,"","",null,"","",null,"","",0,0,0,"No"]
[33,"",null,"","",null,"","",null,"","",null,"","",null,"","",0,0,0,"No"]
[34,"",null,"","",null,"","",null,"","",null,"","",null,"","",0,0,0,"No"]
[35,"",null,"","",null,"","",null,"","",null,"","",null,"","",0,0,0,"No"]
[36,"",null,"","",null,"","",null,"","",null,"","",null,"","",0,0,0,"No"]
[37,"",null,"","",null,"","",null,"","",null,"","",null,"","",0,0,0,"No"]
[38,"",null,"","",null,"","",null,"","",null,"","",null,"","",0,0,0,"No"]
[39,"",null,"","",null,"","",null,"","",null,"","",null,"","",0,0,0,"No"]
[40,"",null,"","",null,"","",null,"","",null,"","",null,"","",0,0,0,"No"]
[41,"",null,"","",null,"","",null,"","",null,"","",null,"","",0,0,0,"No"]
[42,"",null,"","",null,"","",null,"","",null,"","",null,"","",0,0,0,"No"]
[43,"",null,"","",null,"","",null,"","",null,"","",null,"","",0,0,0,"No"]
[11,"Rawlins Academy A",null,0,"N",3,27,"Y",null,0,"N",3,31,"Y",null,0,"N",6,2,2,"No"]
[45,"",null,"","",null,"","",null,"","",null,"","",null,"","",0,0,0,"No"]
[46,"",null,"","",null,"","",null,"","",null,"","",null,"","",0,0,0,"No"]
[47,"",null,"","",null,"","",null,"","",null,"","",null,"","",0,0,0,"No"]
[48,"",null,"","",null,"","",null,"","",null,"","",null,"","",0,0,0,"No"]
[49,"",null,"","",null,"","",null,"","",null,"","",null,"","",0,0,0,"No"]
[50,"",null,"","",null,"","",null,"","",null,"","",null,"","",0,0,0,"No"]
[51,"",null,"","",null,"","",null,"","",null,"","",null,"","",0,0,0,"No"]
[52,"",null,"","",null,"","",null,"","",null,"","",null,"","",0,0,0,"No"]
[53,"",null,"","",null,"","",null,"","",null,"","",null,"","",0,0,0,"No"]
[54,"",null,"","",null,"","",null,"","",null,"","",null,"","",0,0,0,"No"]
[55,"",null,"","",null,"","",null,"","",null,"","",null,"","",0,0,0,"No"]
[56,"",null,"","",null,"","",null,"","",null,"","",null,"","",0,0,0,"No"]
[57,"",null,"","",null,"","",null,"","",null,"","",null,"","",0,0,0,"No"]
[58,"",null,"","",null,"","",null,"","",null,"","",null,"","",0,0,0,"No"]
[59,"",null,"","",null,"","",null,"","",null,"","",null,"","",0,0,0,"No"]
[60,"",null,"","",null,"","",null,"","",null,"","",null,"","",0,0,0,"No"]
[61,"",null,"","",null,"","",null,"","",null,"","",null,"","",0,0,0,"No"]
[62,"",null,"","",null,"","",null,"","",null,"","",null,"","",0,0,0,"No"]
[63,"",null,"","",null,"","",null,"","",null,"","",null,"","",0,0,0,"No"]
[64,"",null,"","",null,"","",null,"","",null,"","",null,"","",0,0,0,"No"]
[65,"",null,"","",null,"","",null,"","",null,"","",null,"","",0,0,0,"No"]
[66,"",null,"","",null,"","",null,"","",null,"","",null,"","",0,0,0,"No"]
[67,"",null,"","",null,"","",null,"","",null,"","",null,"","",0,0,0,"No"]
[68,"",null,"","",null,"","",null,"","",null,"","",null,"","",0,0,0,"No"]
[69,"",null,"","",null,"","",null,"","",null,"","",null,"","",0,0,0,"No"]
[70,"",null,"","",null,"","",null,"","",null,"","",null,"","",0,0,0,"No"]
[71,"",null,"","",null,"","",null,"","",null,"","",null,"","",0,0,0,"No"]
[72,"",null,"","",null,"","",null,"","",null,"","",null,"","",0,0,0,"No"]
[73,"",null,"","",null,"","",null,"","",null,"","",null,"","",0,0,0,"No"]
[74,"",null,"","",null,"","",null,"","",null,"","",null,"","",0,0,0,"No"]
[75,"",null,"","",null,"","",null,"","",null,"","",null,"","",0,0,0,"No"]
[76,"",null,"","",null,"","",null,"","",null,"","",null,"","",0,0,0,"No"]
[77,"",null,"","",null,"","",null,"","",null,"","",null,"","",0,0,0,"No"]
[78,"",null,"","",null,"","",null,"","",null,"","",null,"","",0,0,0,"No"]
[79,"",null,"","",null,"","",null,"","",null,"","",null,"","",0,0,0,"No"]
[80,"",null,"","",null,"","",null,"","",null,"","",null,"","",0,0,0,"No"]
[81,"",null,"","",null,"","",null,"","",null,"","",null,"","",0,0,0,"No"]
[82,"",null,"","",null,"","",null,"","",null,"","",null,"","",0,0,0,"No"]
[83,"",null,"","",null,"","",null,"","",null,"","",null,"","",0,0,0,"No"]
[84,"",null,"","",null,"","",null,"","",null,"","",null,"","",0,0,0,"No"]
[85,"",null,"","",null,"","",null,"","",null,"","",null,"","",0,0,0,"No"]
[86,"",null,"","",null,"","",null,"","",null,"","",null,"","",0,0,0,"No"]
[87,"",null,"","",null,"","",null,"","",null,"","",null,"","",0,0,0,"No"]
[88,"",null,"","",null,"","",null,"","",null,"","",null,"","",0,0,0,"No"]
[89,"",null,"","",null,"","",null,"","",null,"","",null,"","",0,0,0,"No"]
[90,"",null,"","",null,"","",null,"","",null,"","",null,"","",0,0,0,"No"]
[91,"",null,"","",null,"","",null,"","",null,"","",null,"","",0,0,0,"No"]
[92,"",null,"","",null,"","",null,"","",null,"","",null,"","",0,0,0,"No"]
[93,"",null,"","",null,"","",null,"","",null,"","",null,"","",0,0,0,"No"]
[94,"",null,"","",null,"","",null,"","",null,"","",null,"","",0,0,0,"No"]
[95,"",null,"","",null,"","",null,"","",null,"","",null,"","",0,0,0,"No"]
[1,"Dixie Grammar School A",2,27,"Y",4,29,"Y",null,0,"N",3,31,"Y",null,0,"N",9,3,3,"No"]
[97,"",null,"","",null,"","",null,"","",null,"","",null,"","",0,0,0,"No"]
[98,"",null,"","",null,"","",null,"","",null,"","",null,"","",0,0,0,"No"]
[99,"",null,"","",null,"","",null,"","",null,"","",null,"","",0,0,0,"No"]
[100,"",null,"","",null,"","",null,"","",null,"","",null,"","",0,0,0,"No"]
[101,"",null,"","",null,"","",null,"","",null,"","",null,"","",0,0,0,"No"]
[102,"",null,"","",null,"","",null,"","",null,"","",null,"","",0,0,0,"No"]
[103,"",null,"","",null,"","",null,"","",null,"","",null,"","",0,0,0,"No"]
[104,"",null,"","",null,"","",null,"","",null,"","",null,"","",0,0,0,"No"]
[105,"",null,"","",null,"","",null,"","",null,"","",null,"","",0,0,0,"No"]
[106,"",null,"","",null,"","",null,"","",null,"","",null,"","",0,0,0,"No"]
[107,"",null,"","",null,"","",null,"","",null,"","",null,"","",0,0,0,"No"]
[108,"",null,"","",null,"","",null,"","",null,"","",null,"","",0,0,0,"No"]
[109,"",null,"","",null,"","",null,"","",null,"","",null,"","",0,0,0,"No"]
[110,"",null,"","",null,"","",null,"","",null,"","",null,"","",0,0,0,"No"]
[111,"",null,"","",null,"","",null,"","",null,"","",null,"","",0,0,0,"No"]
[112,"",null,"","",null,"","",null,"","",null,"","",null,"","",0,0,0,"No"]
[113,"",null,"","",null,"","",null,"","",null,"","",null,"","",0,0,0,"No"]
[114,"",null,"","",null,"","",null,"","",null,"","",null,"","",0,0,0,"No"]
[115,"",null,"","",null,"","",null,"","",null,"","",null,"","",0,0,0,"No"]
[116,"",null,"","",null,"","",null,"","",null,"","",null,"","",0,0,0,"No"]
[117,"",null,"","",null,"","",null,"","",null,"","",null,"","",0,0,0,"No"]
[118,"",null,"","",null,"","",null,"","",null,"","",null,"","",0,0,0,"No"]
[119,"",null,"","",null,"","",null,"","",null,"","",null,"","",0,0,0,"No"]
[120,"",null,"","",null,"","",null,"","",null,"","",null,"","",0,0,0,"No"]
[121,"",null,"","",null,"","",null,"","",null,"","",null,"","",0,0,0,"No"]
[122,"",null,"","",null,"","",null,"","",null,"","",null,"","",0,0,0,"No"]
[123,"",null,"","",null,"","",null,"","",null,"","",null,"","",0,0,0,"No"]
[124,"",null,"","",null,"","",null,"","",null,"","",null,"","",0,0,0,"No"]
[125,"",null,"","",null,"","",null,"","",null,"","",null,"","",0,0,0,"No"]
[126,"",null,"","",null,"","",null,"","",null,"","",null,"","",0,0,0,"No"]
[127,"",null,"","",null,"","",null,"","",null,"","",null,"","",0,0,0,"No"]
[128,"",null,"","",null,"","",null,"","",null,"","",null,"","",0,0,0,"No"]
[129,"",null,"","",null,"","",null,"","",null,"","",null,"","",0,0,0,"No"]
[130,"",null,"","",null,"","",null,"","",null,"","",null,"","",0,0,0,"No"]
[131,"",null,"","",null,"","",null,"","",null,"","",null,"","",0,0,0,"No"]
[132,"",null,"","",null,"","",null,"","",null,"","",null,"","",0,0,0,"No"]
[133,"",null,"","",null,"","",null,"","",null,"","",null,"","",0,0,0,"No"]
[134,"",null,"","",null,"","",null,"","",null,"","",null,"","",0,0,0,"No"]
[135,"",null,"","",null,"","",null,"","",null,"","",null,"","",0,0,0,"No"]
[136,"",null,"","",null,"","",null,"","",null,"","",null,"","",0,0,0,"No"]
[137,"",null,"","",null,"","",null,"","",null,"","",null,"","",0,0,0,"No"]
[138,"",null,"","",null,"","",null,"","",null,"","",null,"","",0,0,0,"No"]
[139,"",null,"","",null,"","",null,"","",null,"","",null,"","",0,0,0,"No"]
[140,"",null,"","",null,"","",null,"","",null,"","",null,"","",0,0,0,"No"]
[141,"",null,"","",null,"","",null,"","",null,"","",null,"","",0,0,0,"No"]
[142,"",null,"","",null,"","",null,"","",null,"","",null,"","",0,0,0,"No"]
[143,"",null,"","",null,"","",null,"","",null,"","",null,"","",0,0,0,"No"]
[144,"",null,"","",null,"","",null,"","",null,"","",null,"","",0,0,0,"No"]
[145,"",null,"","",null,"","",null,"","",null,"","",null,"","",0,0,0,"No"]
[146,"",null,"","",null,"","",null,"","",null,"","",null,"","",0,0,0,"No"]
[147,"",null,"","",null,"","",null,"","",null,"","",null,"","",0,0,0,"No"]
[148,"",null,"","",null,"","",null,"","",null,"","",null,"","",0,0,0,"No"]
[149,"",null,"","",null,"","",null,"","",null,"","",null,"","",0,0,0,"No"]
[150,"",null,"","",null,"","",null,"","",null,"","",null,"","",0,0,0,"No"]
[151,"",null,"","",null,"","",null,"","",null,"","",null,"","",0,0,0,"No"]
[152,"",null,"","",null,"","",null,"","",null,"","",null,"","",0,0,0,"No"]
[153,"",null,"","",null,"","",null,"","",null,"","",null,"","",0,0,0,"No"]
[154,"",null,"","",null,"","",null,"","",null,"","",null,"","",0,0,0,"No"]
[155,"",null,"","",null,"","",null,"","",null,"","",null,"","",0,0,0,"No"]
[156,"",null,"","",null,"","",null,"","",null,"","",null,"","",0,0,0,"No"]
[157,"",null,"","",null,"","",null,"","",null,"","",null,"","",0,0,0,"No"]
[158,"",null,"","",null,"","",null,"","",null,"","",null,"","",0,0,0,"No"]
[159,"",null,"","",null,"","",null,"","",null,"","",null,"","",0,0,0,"No"]
[160,"",null,"","",null,"","",null,"","",null,"","",null,"","",0,0,0,"No"]
[161,"",null,"","",null,"","",null,"","",null,"","",null,"","",0,0,0,"No"]
[162,"",null,"","",null,"","",null,"","",null,"","",null,"","",0,0,0,"No"]
[163,"",null,"","",null,"","",null,"","",null,"","",null,"","",0,0,0,"No"]
[164,"",null,"","",null,"","",null,"","",null,"","",null,"","",0,0,0,"No"]
[165,"",null,"","",null,"","",null,"","",null,"","",null,"","",0,0,0,"No"]
[166,"",null,"","",null,"","",null,"","",null,"","",null,"","",0,0,0,"No"]
[167,"",null,"","",null,"","",null,"","",null,"","",null,"","",0,0,0,"No"]
[168,"",null,"","",null,"","",null,"","",null,"","",null,"","",0,0,0,"No"]
[169,"",null,"","",null,"","",null,"","",null,"","",null,"","",0,0,0,"No"]
[170,"",null,"","",null,"","",null,"","",null,"","",null,"","",0,0,0,"No"]
[171,"",null,"","",null,"","",null,"","",null,"","",null,"","",0,0,0,"No"]
[172,"",null,"","",null,"","",null,"","",null,"","",null,"","",0,0,0,"No"]
[96,"Charnwood College A",null,0,"N",null,0,"N",2,30,"Y",null,0,"N",null,0,"N",2,1,1,"No"]
[174,"",null,"","",null,"","",null,"","",null,"","",null,"","",0,0,0,"No"]
[175,"",null,"","",null,"","",null,"","",null,"","",null,"","",0,0,0,"No"]
[176,"",null,"","",null,"","",null,"","",null,"","",null,"","",0,0,0,"No"]
[177,"",null,"","",null,"","",null,"","",null,"","",null,"","",0,0,0,"No"]
[178,"",null,"","",null,"","",null,"","",null,"","",null,"","",0,0,0,"No"]
[179,"",null,"","",null,"","",null,"","",null,"","",null,"","",0,0,0,"No"]
[180,"",null,"","",null,"","",null,"","",null,"","",null,"","",0,0,0,"No"]
[181,"",null,"","",null,"","",null,"","",null,"","",null,"","",0,0,0,"No"]
[31,"Uppingham School A",null,0,"N",1,15,"N",null,0,"N",null,0,"N",null,0,"N",1,1,0,"No"]
[183,"",null,"","",null,"","",null,"","",null,"","",null,"","",0,0,0,"No"]
[184,"",null,"","",null,"","",null,"","",null,"","",null,"","",0,0,0,"No"]
[185,"",null,"","",null,"","",null,"","",null,"","",null,"","",0,0,0,"No"]
[186,"",null,"","",null,"","",null,"","",null,"","",null,"","",0,0,0,"No"]
[187,"",null,"","",null,"","",null,"","",null,"","",null,"","",0,0,0,"No"]
[188,"",null,"","",null,"","",null,"","",null,"","",null,"","",0,0,0,"No"]
[189,"",null,"","",null,"","",null,"","",null,"","",null,"","",0,0,0,"No"]
[190,"",null,"","",null,"","",null,"","",null,"","",null,"","",0,0,0,"No"]
[191,"",null,"","",null,"","",null,"","",null,"","",null,"","",0,0,0,"No"]
[192,"",null,"","",null,"","",null,"","",null,"","",null,"","",0,0,0,"No"]
[193,"",null,"","",null,"","",null,"","",null,"","",null,"","",0,0,0,"No"]
[194,"",null,"","",null,"","",null,"","",null,"","",null,"","",0,0,0,"No"]
[195,"",null,"","",null,"","",null,"","",null,"","",null,"","",0,0,0,"No"]
[196,"",null,"","",null,"","",null,"","",null,"","",null,"","",0,0,0,"No"]
[197,"",null,"","",null,"","",null,"","",null,"","",null,"","",0,0,0,"No"]
[198,"",null,"","",null,"","",null,"","",null,"","",null,"","",0,0,0,"No"]
[199,"",null,"","",null,"","",null,"","",null,"","",null,"","",0,0,0,"No"]
[200,"",null,"","",null,"","",null,"","",null,"","",null,"","",0,0,0,"No"]
[201,"",null,"","",null,"","",null,"","",null,"","",null,"","",0,0,0,"No"]
[202,"",null,"","",null,"","",null,"","",null,"","",null,"","",0,0,0,"No"]
[203,"",null,"","",null,"","",null,"","",null,"","",null,"","",0,0,0,"No"]
[204,"",null,"","",null,"","",null,"","",null,"","",null,"","",0,0,0,"No"]
[205,"",null,"","",null,"","",null,"","",null,"","",null,"","",0,0,0,"No"]
[206,"",null,"","",null,"","",null,"","",null,"","",null,"","",0,0,0,"No"]
[207,"",null,"","",null,"","",null,"","",null,"","",null,"","",0,0,0,"No"]
[208,"",null,"","",null,"","",null,"","",null,"","",null,"","",0,0,0,"No"]
[209,"",null,"","",null,"","",null,"","",null,"","",null,"","",0,0,0,"No"]
[210,"",null,"","",null,"","",null,"","",null,"","",null,"","",0,0,0,"No"]
[211,"",null,"","",null,"","",null,"","",null,"","",null,"","",0,0,0,"No"]
[212,"",null,"","",null,"","",null,"","",null,"","",null,"","",0,0,0,"No"]
[213,"",null,"","",null,"","",null,"","",null,"","",null,"","",0,0,0,"No"]
[214,"",null,"","",null,"","",null,"","",null,"","",null,"","",0,0,0,"No"]
[215,"",null,"","",null,"","",null,"","",null,"","",null,"","",0,0,0,"No"]
[216,"",null,"","",null,"","",null,"","",null,"","",null,"","",0,0,0,"No"]
[217,"",null,"","",null,"","",null,"","",null,"","",null,"","",0,0,0,"No"]
[218,"",null,"","",null,"","",null,"","",null,"","",null,"","",0,0,0,"No"]
[219,"",null,"","",null,"","",null,"","",null,"","",null,"","",0,0,0,"No"]
[220,"",null,"","",null,"","",null,"","",null,"","",null,"","",0,0,0,"No"]
[221,"",null,"","",null,"","",null,"","",null,"","",null,"","",0,0,0,"No"]
[222,"",null,"","",null,"","",null,"","",null,"","",null,"","",0,0,0,"No"]
[223,"",null,"","",null,"","",null,"","",null,"","",null,"","",0,0,0,"No"]
[224,"",null,"","",null,"","",null,"","",null,"","",null,"","",0,0,0,"No"]
[225,"",null,"","",null,"","",null,"","",null,"","",null,"","",0,0,0,"No"]
[226,"",null,"","",null,"","",null,"","",null,"","",null,"","",0,0,0,"No"]
[227,"",null,"","",null,"","",null,"","",null,"","",null,"","",0,0,0,"No"]
[228,"",null,"","",null,"","",null,"","",null,"","",null,"","",0,0,0,"No"]
[229,"",null,"","",null,"","",null,"","",null,"","",null,"","",0,0,0,"No"]
[230,"",null,"","",null,"","",null,"","",null,"","",null,"","",0,0,0,"No"]
[231,"",null,"","",null,"","",null,"","",null,"","",null,"","",0,0,0,"No"]
[232,"",null,"","",null,"","",null,"","",null,"","",null,"","",0,0,0,"No"]
[233,"",null,"","",null,"","",null,"","",null,"","",null,"","",0,0,0,"No"]
[234,"",null,"","",null,"","",null,"","",null,"","",null,"","",0,0,0,"No"]
[235,"",null,"","",null,"","",null,"","",null,"","",null,"","",0,0,0,"No"]
[236,"",null,"","",null,"","",null,"","",null,"","",null,"","",0,0,0,"No"]
[237,"",null,"","",null,"","",null,"","",null,"","",null,"","",0,0,0,"No"]
[238,"",null,"","",null,"","",null,"","",null,"","",null,"","",0,0,0,"No"]
[239,"",null,"","",null,"","",null,"","",null,"","",null,"","",0,0,0,"No"]
[240,"",null,"","",null,"","",null,"","",null,"","",null,"","",0,0,0,"No"]
[241,"",null,"","",null,"","",null,"","",null,"","",null,"","",0,0,0,"No"]
[242,"",null,"","",null,"","",null,"","",null,"","",null,"","",0,0,0,"No"]
[243,"",null,"","",null,"","",null,"","",null,"","",null,"","",0,0,0,"No"]
[244,"",null,"","",null,"","",null,"","",null,"","",null,"","",0,0,0,"No"]
[245,"",null,"","",null,"","",null,"","",null,"","",null,"","",0,0,0,"No"]
[246,"",null,"","",null,"","",null,"","",null,"","",null,"","",0,0,0,"No"]
[247,"",null,"","",null,"","",null,"","",null,"","",null,"","",0,0,0,"No"]
[248,"",null,"","",null,"","",null,"","",null,"","",null,"","",0,0,0,"No"]
[249,"",null,"","",null,"","",null,"","",null,"","",null,"","",0,0,0,"No"]
[250,"",null,"","",null,"","",null,"","",null,"","",null,"","",0,0,0,"No"]
[251,"",null,"","",null,"","",null,"","",null,"","",null,"","",0,0,0,"No"]
[252,"",null,"","",null,"","",null,"","",null,"","",null,"","",0,0,0,"No"]
[253,"",null,"","",null,"","",null,"","",null,"","",null,"","",0,0,0,"No"]
[254,"",null,"","",null,"","",null,"","",null,"","",null,"","",0,0,0,"No"]
[255,"",null,"","",null,"","",null,"","",null,"","",null,"","",0,0,0,"No"]
[256,"",null,"","",null,"","",null,"","",null,"","",null,"","",0,0,0,"No"]
[257,"",null,"","",null,"","",null,"","",null,"","",null,"","",0,0,0,"No"]
[258,"",null,"","",null,"","",null,"","",null,"","",null,"","",0,0,0,"No"]
[259,"",null,"","",null,"","",null,"","",null,"","",null,"","",0,0,0,"No"]
[260,"",null,"","",null,"","",null,"","",null,"","",null,"","",0,0,0,"No"]
[261,"",null,"","",null,"","",null,"","",null,"","",null,"","",0,0,0,"No"]
[262,"",null,"","",null,"","",null,"","",null,"","",null,"","",0,0,0,"No"]
[263,"",null,"","",null,"","",null,"","",null,"","",null,"","",0,0,0,"No"]
[264,"",null,"","",null,"","",null,"","",null,"","",null,"","",0,0,0,"No"]
[265,"",null,"","",null,"","",null,"","",null,"","",null,"","",0,0,0,"No"]
[266,"",null,"","",null,"","",null,"","",null,"","",null,"","",0,0,0,"No"]
[267,"",null,"","",null,"","",null,"","",null,"","",null,"","",0,0,0,"No"]
[268,"",null,"","",null,"","",null,"","",null,"","",null,"","",0,0,0,"No"]
[269,"",null,"","",null,"","",null,"","",null,"","",null,"","",0,0,0,"No"]
[270,"",null,"","",null,"","",null,"","",null,"","",null,"","",0,0,0,"No"]
[271,"",null,"","",null,"","",null,"","",null,"","",null,"","",0,0,0,"No"]
[2,"Loughborough College A",1,20,"Y",null,0,"N",null,0,"N",null,0,"N",null,0,"N",1,1,1,"No"]
[273,"",null,"","",null,"","",null,"","",null,"","",null,"","",0,0,0,"No"]
[274,"",null,"","",null,"","",null,"","",null,"","",null,"","",0,0,0,"No"]
[275,"",null,"","",null,"","",null,"","",null,"","",null,"","",0,0,0,"No"]
[276,"",null,"","",null,"","",null,"","",null,"","",null,"","",0,0,0,"No"]
[277,"",null,"","",null,"","",null,"","",null,"","",null,"","",0,0,0,"No"]
[278,"",null,"","",null,"","",null,"","",null,"","",null,"","",0,0,0,"No"]
[279,"",null,"","",null,"","",null,"","",null,"","",null,"","",0,0,0,"No"]
[280,"",null,"","",null,"","",null,"","",null,"","",null,"","",0,0,0,"No"]
[281,"",null,"","",null,"","",null,"","",null,"","",null,"","",0,0,0,"No"]
[282,"",null,"","",null,"","",null,"","",null,"","",null,"","",0,0,0,"No"]
[283,"",null,"","",null,"","",null,"","",null,"","",null,"","",0,0,0,"No"]
[284,"",null,"","",null,"","",null,"","",null,"","",null,"","",0,0,0,"No"]
[285,"",null,"","",null,"","",null,"","",null,"","",null,"","",0,0,0,"No"]
[286,"",null,"","",null,"","",null,"","",null,"","",null,"","",0,0,0,"No"]
[287,"",null,"","",null,"","",null,"","",null,"","",null,"","",0,0,0,"No"]
[288,"",null,"","",null,"","",null,"","",null,"","",null,"","",0,0,0,"No"]
[289,"",null,"","",null,"","",null,"","",null,"","",null,"","",0,0,0,"No"]
[290,"",null,"","",null,"","",null,"","",null,"","",null,"","",0,0,0,"No"]
[291,"",null,"","",null,"","",null,"","",null,"","",null,"","",0,0,0,"No"]
[292,"",null,"","",null,"","",null,"","",null,"","",null,"","",0,0,0,"No"]
[293,"",null,"","",null,"","",null,"","",null,"","",null,"","",0,0,0,"No"]
[294,"",null,"","",null,"","",null,"","",null,"","",null,"","",0,0,0,"No"]
[295,"",null,"","",null,"","",null,"","",null,"","",null,"","",0,0,0,"No"]
[296,"",null,"","",null,"","",null,"","",null,"","",null,"","",0,0,0,"No"]
[297,"",null,"","",null,"","",null,"","",null,"","",null,"","",0,0,0,"No"]
[298,"",null,"","",null,"","",null,"","",null,"","",null,"","",0,0,0,"No"]
[299,"",null,"","",null,"","",null,"","",null,"","",null,"","",0,0,0,"No"]
[300,"",null,"","",null,"","",null,"","",null,"","",null,"","",0,0,0,"No"]
[301,"",null,"","",null,"","",null,"","",null,"","",null,"","",0,0,0,"No"]
[302,"",null,"","",null,"","",null,"","",null,"","",null,"","",0,0,0,"No"]
[303,"",null,"","",null,"","",null,"","",null,"","",null,"","",0,0,0,"No"]
[304,"",null,"","",null,"","",null,"","",null,"","",null,"","",0,0,0,"No"]
[305,"",null,"","",null,"","",null,"","",null,"","",null,"","",0,0,0,"No"]
[306,"",null,"","",null,"","",null,"","",null,"","",null,"","",0,0,0,"No"]
[307,"",null,"","",null,"","",null,"","",null,"","",null,"","",0,0,0,"No"]
[308,"",null,"","",null,"","",null,"","",null,"","",null,"","",0,0,0,"No"]
[309,"",null,"","",null,"","",null,"","",null,"","",null,"","",0,0,0,"No"]
[310,"",null,"","",null,"","",null,"","",null,"","",null,"","",0,0,0,"No"]
[311,"",null,"","",null,"","",null,"","",null,"","",null,"","",0,0,0,"No"]
[312,"",null,"","",null,"","",null,"","",null,"","",null,"","",0,0,0,"No"]
[313,"",null,"","",null,"","",null,"","",null,"","",null,"","",0,0,0,"No"]
[314,"",null,"","",null,"","",null,"","",null,"","",null,"","",0,0,0,"No"]
[315,"",null,"","",null,"","",null,"","",null,"","",null,"","",0,0,0,"No"]
[316,"",null,"","",null,"","",null,"","",null,"","",null,"","",0,0,0,"No"]
[317,"",null,"","",null,"","",null,"","",null,"","",null,"","",0,0,0,"No"]
[318,"",null,"","",null,"","",null,"","",null,"","",null,"","",0,0,0,"No"]
[319,"",null,"","",null,"","",null,"","",null,"","",null,"","",0,0,0,"No"]
[320,"",null,"","",null,"","",null,"","",null,"","",null,"","",0,0,0,"No"]
[321,"",null,"","",null,"","",null,"","",null,"","",null,"","",0,0,0,"No"]
[322,"",null,"","",null,"","",null,"","",null,"","",null,"","",0,0,0,"No"]
[323,"",null,"","",null,"","",null,"","",null,"","",null,"","",0,0,0,"No"]
[324,"",null,"","",null,"","",null,"","",null,"","",null,"","",0,0,0,"No"]
[325,"",null,"","",null,"","",null,"","",null,"","",null,"","",0,0,0,"No"]
[326,"",null,"","",null,"","",null,"","",null,"","",null,"","",0,0,0,"No"]
[327,"",null,"","",null,"","",null,"","",null,"","",null,"","",0,0,0,"No"]
[328,"",null,"","",null,"","",null,"","",null,"","",null,"","",0,0,0,"No"]
[329,"",null,"","",null,"","",null,"","",null,"","",null,"","",0,0,0,"No"]
[330,"",null,"","",null,"","",null,"","",null,"","",null,"","",0,0,0,"No"]
[331,"",null,"","",null,"","",null,"","",null,"","",null,"","",0,0,0,"No"]
[332,"",null,"","",null,"","",null,"","",null,"","",null,"","",0,0,0,"No"]
[333,"",null,"","",null,"","",null,"","",null,"","",null,"","",0,0,0,"No"]
[334,"",null,"","",null,"","",null,"","",null,"","",null,"","",0,0,0,"No"]
[335,"",null,"","",null,"","",null,"","",null,"","",null,"","",0,0,0,"No"]
[336,"",null,"","",null,"","",null,"","",null,"","",null,"","",0,0,0,"No"]
[337,"",null,"","",null,"","",null,"","",null,"","",null,"","",0,0,0,"No"]
[338,"",null,"","",null,"","",null,"","",null,"","",null,"","",0,0,0,"No"]
[339,"",null,"","",null,"","",null,"","",null,"","",null,"","",0,0,0,"No"]
[340,"",null,"","",null,"","",null,"","",null,"","",null,"","",0,0,0,"No"]
[341,"",null,"","",null,"","",null,"","",null,"","",null,"","",0,0,0,"No"]
[342,"",null,"","",null,"","",null,"","",null,"","",null,"","",0,0,0,"No"]
[343,"",null,"","",null,"","",null,"","",null,"","",null,"","",0,0,0,"No"]
[344,"",null,"","",null,"","",null,"","",null,"","",null,"","",0,0,0,"No"]
[345,"",null,"","",null,"","",null,"","",null,"","",null,"","",0,0,0,"No"]
[346,"",null,"","",null,"","",null,"","",null,"","",null,"","",0,0,0,"No"]
[347,"",null,"","",null,"","",null,"","",null,"","",null,"","",0,0,0,"No"]
[348,"",null,"","",null,"","",null,"","",null,"","",null,"","",0,0,0,"No"]
[349,"",null,"","",null,"","",null,"","",null,"","",null,"","",0,0,0,"No"]
[350,"",null,"","",null,"","",null,"","",null,"","",null,"","",0,0,0,"No"]
[351,"",null,"","",null,"","",null,"","",null,"","",null,"","",0,0,0,"No"]
[352,"",null,"","",null,"","",null,"","",null,"","",null,"","",0,0,0,"No"]
[353,"",null,"","",null,"","",null,"","",null,"","",null,"","",0,0,0,"No"]
[354,"",null,"","",null,"","",null,"","",null,"","",null,"","",0,0,0,"No"]
[355,"",null,"","",null,"","",null,"","",null,"","",null,"","",0,0,0,"No"]
[356,"",null,"","",null,"","",null,"","",null,"","",null,"","",0,0,0,"No"]
[357,"",null,"","",null,"","",null,"","",null,"","",null,"","",0,0,0,"No"]
[358,"",null,"","",null,"","",null,"","",null,"","",null,"","",0,0,0,"No"]
[359,"",null,"","",null,"","",null,"","",null,"","",null,"","",0,0,0,"No"]
[360,"",null,"","",null,"","",null,"","",null,"","",null,"","",0,0,0,"No"]
[361,"",null,"","",null,"","",null,"","",null,"","",null,"","",0,0,0,"No"]
[362,"",null,"","",null,"","",null,"","",null,"","",null,"","",0,0,0,"No"]
[363,"",null,"","",null,"","",null,"","",null,"","",null,"","",0,0,0,"No"]
[364,"",null,"","",null,"","",null,"","",null,"","",null,"","",0,0,0,"No"]
[365,"",null,"","",null,"","",null,"","",null,"","",null,"","",0,0,0,"No"]
[366,"",null,"","",null,"","",null,"","",null,"","",null,"","",0,0,0,"No"]
[367,"",null,"","",null,"","",null,"","",null,"","",null,"","",0,0,0,"No"]
[368,"",null,"","",null,"","",null,"","",null,"","",null,"","",0,0,0,"No"]
[369,"",null,"","",null,"","",null,"","",null,"","",null,"","",0,0,0,"No"]
[370,"",null,"","",null,"","",null,"","",null,"","",null,"","",0,0,0,"No"]
[371,"",null,"","",null,"","",null,"","",null,"","",null,"","",0,0,0,"No"]
[372,"",null,"","",null,"","",null,"","",null,"","",null,"","",0,0,0,"No"]
[373,"",null,"","",null,"","",null,"","",null,"","",null,"","",0,0,0,"No"]
[374,"",null,"","",null,"","",null,"","",null,"","",null,"","",0,0,0,"No"]
[375,"",null,"","",null,"","",null,"","",null,"","",null,"","",0,0,0,"No"]
[376,"",null,"","",null,"","",null,"","",null,"","",null,"","",0,0,0,"No"]
[377,"",null,"","",null,"","",null,"","",null,"","",null,"","",0,0,0,"No"]
[378,"",null,"","",null,"","",null,"","",null,"","",null,"","",0,0,0,"No"]
[379,"",null,"","",null,"","",null,"","",null,"","",null,"","",0,0,0,"No"]
[380,"",null,"","",null,"","",null,"","",null,"","",null,"","",0,0,0,"No"]
[381,"",null,"","",null,"","",null,"","",null,"","",null,"","",0,0,0,"No"]
[382,"",null,"","",null,"","",null,"","",null,"","",null,"","",0,0,0,"No"]
[383,"",null,"","",null,"","",null,"","",null,"","",null,"","",0,0,0,"No"]
[384,"",null,"","",null,"","",null,"","",null,"","",null,"","",0,0,0,"No"]
[385,"",null,"","",null,"","",null,"","",null,"","",null,"","",0,0,0,"No"]
[386,"",null,"","",null,"","",null,"","",null,"","",null,"","",0,0,0,"No"]
[387,"",null,"","",null,"","",null,"","",null,"","",null,"","",0,0,0,"No"]
[388,"",null,"","",null,"","",null,"","",null,"","",null,"","",0,0,0,"No"]
[389,"",null,"","",null,"","",null,"","",null,"","",null,"","",0,0,0,"No"]
[390,"",null,"","",null,"","",null,"","",null,"","",null,"","",0,0,0,"No"]
[391,"",null,"","",null,"","",null,"","",null,"","",null,"","",0,0,0,"No"]
[392,"",null,"","",null,"","",null,"","",null,"","",null,"","",0,0,0,"No"]
[393,"",null,"","",null,"","",null,"","",null,"","",null,"","",0,0,0,"No"]
[394,"",null,"","",null,"","",null,"","",null,"","",null,"","",0,0,0,"No"]
[395,"",null,"","",null,"","",null,"","",null,"","",null,"","",0,0,0,"No"]
[396,"",null,"","",null,"","",null,"","",null,"","",null,"","",0,0,0,"No"]
[397,"",null,"","",null,"","",null,"","",null,"","",null,"","",0,0,0,"No"]
[398,"",null,"","",null,"","",null,"","",null,"","",null,"","",0,0,0,"No"]
[399,"",null,"","",null,"","",null,"","",null,"","",null,"","",0,0,0,"No"]
[400,"",null,"","",null,"","",null,"","",null,"","",null,"","",0,0,0,"No"]
[401,"",null,"","",null,"","",null,"","",null,"","",null,"","",0,0,0,"No"]
[402,"",null,"","",null,"","",null,"","",null,"","",null,"","",0,0,0,"No"]
[403,"",null,"","",null,"","",null,"","",null,"","",null,"","",0,0,0,"No"]
[404,"",null,"","",null,"","",null,"","",null,"","",null,"","",0,0,0,"No"]
[405,"",null,"","",null,"","",null,"","",null,"","",null,"","",0,0,0,"No"]
[406,"",null,"","",null,"","",null,"","",null,"","",null,"","",0,0,0,"No"]
[407,"",null,"","",null,"","",null,"","",null,"","",null,"","",0,0,0,"No"]
[408,"",null,"","",null,"","",null,"","",null,"","",null,"","",0,0,0,"No"]
[409,"",null,"","",null,"","",null,"","",null,"","",null,"","",0,0,0,"No"]
[410,"",null,"","",null,"","",null,"","",null,"","",null,"","",0,0,0,"No"]
[411,"",null,"","",null,"","",null,"","",null,"","",null,"","",0,0,0,"No"]
[412,"",null,"","",null,"","",null,"","",null,"","",null,"","",0,0,0,"No"]
[413,"",null,"","",null,"","",null,"","",null,"","",null,"","",0,0,0,"No"]
[414,"",null,"","",null,"","",null,"","",null,"","",null,"","",0,0,0,"No"]
[415,"",null,"","",null,"","",null,"","",null,"","",null,"","",0,0,0,"No"]
[416,"",null,"","",null,"","",null,"","",null,"","",null,"","",0,0,0,"No"]
[417,"",null,"","",null,"","",null,"","",null,"","",null,"","",0,0,0,"No"]
[418,"",null,"","",null,"","",null,"","",null,"","",null,"","",0,0,0,"No"]
[419,"",null,"","",null,"","",null,"","",null,"","",null,"","",0,0,0,"No"]
[420,"",null,"","",null,"","",null,"","",null,"","",null,"","",0,0,0,"No"]
[421,"",null,"","",null,"","",null,"","",null,"","",null,"","",0,0,0,"No"]
[422,"",null,"","",null,"","",null,"","",null,"","",null,"","",0,0,0,"No"]
[423,"",null,"","",null,"","",null,"","",null,"","",null,"","",0,0,0,"No"]
[424,"",null,"","",null,"","",null,"","",null,"","",null,"","",0,0,0,"No"]
[425,"",null,"","",null,"","",null,"","",null,"","",null,"","",0,0,0,"No"]
[426,"",null,"","",null,"","",null,"","",null,"","",null,"","",0,0,0,"No"]
[427,"",null,"","",null,"","",null,"","",null,"","",null,"","",0,0,0,"No"]
[428,"",null,"","",null,"","",null,"","",null,"","",null,"","",0,0,0,"No"]
[429,"",null,"","",null,"","",null,"","",null,"","",null,"","",0,0,0,"No"]
[430,"",null,"","",null,"","",null,"","",null,"","",null,"","",0,0,0,"No"]
[431,"",null,"","",null,"","",null,"","",null,"","",null,"","",0,0,0,"No"]
[432,"",null,"","",null,"","",null,"","",null,"","",null,"","",0,0,0,"No"]
[433,"",null,"","",null,"","",null,"","",null,"","",null,"","",0,0,0,"No"]
[434,"",null,"","",null,"","",null,"","",null,"","",null,"","",0,0,0,"No"]
[435,"",null,"","",null,"","",null,"","",null,"","",null,"","",0,0,0,"No"]
[436,"",null,"","",null,"","",null,"","",null,"","",null,"","",0,0,0,"No"]
[437,"",null,"","",null,"","",null,"","",null,"","",null,"","",0,0,0,"No"]
[438,"",null,"","",null,"","",null,"","",null,"","",null,"","",0,0,0,"No"]
[439,"",null,"","",null,"","",null,"","",null,"","",null,"","",0,0,0,"No"]
[440,"",null,"","",null,"","",null,"","",null,"","",null,"","",0,0,0,"No"]
[441,"",null,"","",null,"","",null,"","",null,"","",null,"","",0,0,0,"No"]
[442,"",null,"","",null,"","",null,"","",null,"","",null,"","",0,0,0,"No"]
[443,"",null,"","",null,"","",null,"","",null,"","",null,"","",0,0,0,"No"]
[444,"",null,"","",null,"","",null,"","",null,"","",null,"","",0,0,0,"No"]
[445,"",null,"","",null,"","",null,"","",null,"","",null,"","",0,0,0,"No"]
[446,"",null,"","",null,"","",null,"","",null,"","",null,"","",0,0,0,"No"]
[447,"",null,"","",null,"","",null,"","",null,"","",null,"","",0,0,0,"No"]
[448,"",null,"","",null,"","",null,"","",null,"","",null,"","",0,0,0,"No"]
[449,"",null,"","",null,"","",null,"","",null,"","",null,"","",0,0,0,"No"]
[450,"",null,"","",null,"","",null,"","",null,"","",null,"","",0,0,0,"No"]
[451,"",null,"","",null,"","",null,"","",null,"","",null,"","",0,0,0,"No"]
[452,"",null,"","",null,"","",null,"","",null,"","",null,"","",0,0,0,"No"]
[453,"",null,"","",null,"","",null,"","",null,"","",null,"","",0,0,0,"No"]
[454,"",null,"","",null,"","",null,"","",null,"","",null,"","",0,0,0,"No"]
[455,"",null,"","",null,"","",null,"","",null,"","",null,"","",0,0,0,"No"]
[456,"",null,"","",null,"","",null,"","",null,"","",null,"","",0,0,0,"No"]
[457,"",null,"","",null,"","",null,"","",null,"","",null,"","",0,0,0,"No"]
[458,"",null,"","",null,"","",null,"","",null,"","",null,"","",0,0,0,"No"]
[459,"",null,"","",null,"","",null,"","",null,"","",null,"","",0,0,0,"No"]
[460,"",null,"","",null,"","",null,"","",null,"","",null,"","",0,0,0,"No"]
[461,"",null,"","",null,"","",null,"","",null,"","",null,"","",0,0,0,"No"]
[462,"",null,"","",null,"","",null,"","",null,"","",null,"","",0,0,0,"No"]
[463,"",null,"","",null,"","",null,"","",null,"","",null,"","",0,0,0,"No"]
[464,"",null,"","",null,"","",null,"","",null,"","",null,"","",0,0,0,"No"]
[465,"",null,"","",null,"","",null,"","",null,"","",null,"","",0,0,0,"No"]
[466,"",null,"","",null,"","",null,"","",null,"","",null,"","",0,0,0,"No"]
[467,"",null,"","",null,"","",null,"","",null,"","",null,"","",0,0,0,"No"]
[468,"",null,"","",null,"","",null,"","",null,"","",null,"","",0,0,0,"No"]
[469,"",null,"","",null,"","",null,"","",null,"","",null,"","",0,0,0,"No"]
[470,"",null,"","",null,"","",null,"","",null,"","",null,"","",0,0,0,"No"]
[471,"",null,"","",null,"","",null,"","",null,"","",null,"","",0,0,0,"No"]
[472,"",null,"","",null,"","",null,"","",null,"","",null,"","",0,0,0,"No"]
[473,"",null,"","",null,"","",null,"","",null,"","",null,"","",0,0,0,"No"]
[474,"",null,"","",null,"","",null,"","",null,"","",null,"","",0,0,0,"No"]
[475,"",null,"","",null,"","",null,"","",null,"","",null,"","",0,0,0,"No"]
[476,"",null,"","",null,"","",null,"","",null,"","",null,"","",0,0,0,"No"]
[477,"",null,"","",null,"","",null,"","",null,"","",null,"","",0,0,0,"No"]
[478,"",null,"","",null,"","",null,"","",null,"","",null,"","",0,0,0,"No"]
[479,"",null,"","",null,"","",null,"","",null,"","",null,"","",0,0,0,"No"]
[480,"",null,"","",null,"","",null,"","",null,"","",null,"","",0,0,0,"No"]
[481,"",null,"","",null,"","",null,"","",null,"","",null,"","",0,0,0,"No"]
[482,"",null,"","",null,"","",null,"","",null,"","",null,"","",0,0,0,"No"]
[483,"",null,"","",null,"","",null,"","",null,"","",null,"","",0,0,0,"No"]
[484,"",null,"","",null,"","",null,"","",null,"","",null,"","",0,0,0,"No"]
[485,"",null,"","",null,"","",null,"","",null,"","",null,"","",0,0,0,"No"]
[486,"",null,"","",null,"","",null,"","",null,"","",null,"","",0,0,0,"No"]
[487,"",null,"","",null,"","",null,"","",null,"","",null,"","",0,0,0,"No"]
[488,"",null,"","",null,"","",null,"","",null,"","",null,"","",0,0,0,"No"]
[489,"",null,"","",null,"","",null,"","",null,"","",null,"","",0,0,0,"No"]
[490,"",null,"","",null,"","",null,"","",null,"","",null,"","",0,0,0,"No"]
[491,"",null,"","",null,"","",null,"","",null,"","",null,"","",0,0,0,"No"]
[492,"",null,"","",null,"","",null,"","",null,"","",null,"","",0,0,0,"No"]
[493,"",null,"","",null,"","",null,"","",null,"","",null,"","",0,0,0,"No"]
[494,"",null,"","",null,"","",null,"","",null,"","",null,"","",0,0,0,"No"]
[495,"",null,"","",null,"","",null,"","",null,"","",null,"","",0,0,0,"No"]
[496,"",null,"","",null,"","",null,"","",null,"","",null,"","",0,0,0,"No"]
[497,"",null,"","",null,"","",null,"","",null,"","",null,"","",0,0,0,"No"]
[498,"",null,"","",null,"","",null,"","",null,"","",null,"","",0,0,0,"No"]
[499,"",null,"","",null,"","",null,"","",null,"","",null,"","",0,0,0,"No"]
[500,"",null,"","",null,"","",null,"","",null,"","",null,"","",0,0,0,"No"]
[501,"",null,"","",null,"","",null,"","",null,"","",null,"","",0,0,0,"No"]

{"sheet":"Summary Sheet","index":9,"n_rows":11,"n_cols":11,"rows_kept":11,"cut":false,"hidden":false,"merged":[[2,3,2,10],[1,1,1,10],[2,1,3,1],[2,2,3,2]]}
[]
[null,"Summary Sheet"]
[null,"Race","Location","Number of runners"]
[null,null,null,"Y7G","Y7B","JG","JB","IG","IB","SG","SB"]
[null,1,"Groby",{"$f":"Y7G!$C$2","v":39},{"$f":"Y7B!$C$2","v":74},{"$f":"JG!$C$2","v":79},{"$f":"JB!$C$2","v":68},{"$f":"IG!$C$2","v":21},{"$f":"IB!$C$2","v":38},{"$f":"SG!$C$2","v":8},{"$f":"SB!$C$2","v":10}]
[null,2,"Rutland Water",{"$f":"Y7G!$E$2","v":41},{"$f":"Y7B!$E$2","v":70},{"$f":"JG!$E$2","v":51},{"$f":"JB!$E$2","v":50},{"$f":"IG!$E$2","v":11},{"$f":"IB!$E$2","v":31},{"$f":"SG!$E$2","v":10},{"$f":"SB!$E$2","v":12}]
[null,3,"Longfield",{"$f":"Y7G!$G$2","v":35},{"$f":"Y7B!$G$2","v":53},{"$f":"JG!$G$2","v":50},{"$f":"JB!$G$2","v":47},{"$f":"IG!$G$2","v":11},{"$f":"IB!$G$2","v":27},{"$f":"SG!$G$2","v":7},{"$f":"SB!$G$2","v":10}]
[null,4,"Brooksby",{"$f":"Y7G!$I$2","v":33},{"$f":"Y7B!$I$2","v":53},{"$f":"JG!$I$2","v":43},{"$f":"JB!$I$2","v":43},{"$f":"IG!$I$2","v":12},{"$f":"IB!$I$2","v":24},{"$f":"SG!$I$2","v":12},{"$f":"SB!$I$2","v":13}]
[null,5,"Charnwood College",{"$f":"Y7G!$K$2","v":0},{"$f":"Y7B!$K$2","v":0},{"$f":"JG!$K$2","v":0},{"$f":"JB!$K$2","v":0},{"$f":"IG!$K$2","v":0},{"$f":"IB!$K$2","v":0},{"$f":"SG!$K$2","v":0},{"$f":"SB!$K$2","v":0}]
[]
[null,"Total number of runners","-",{"$f":"Y7G!$A$2","v":65},{"$f":"Y7B!$A$2","v":127},{"$f":"JG!$A$2","v":89},{"$f":"JB!$A$2","v":95},{"$f":"IG!$A$2","v":25},{"$f":"IB!$A$2","v":49},{"$f":"SG!$A$2","v":17},{"$f":"SB!$A$2","v":25}]

{"sheet":"Schools List","index":10,"n_rows":150,"n_cols":2,"rows_kept":150,"cut":false,"hidden":false,"merged":[]}
["Column2","Schools List"]
[0,"-"]
[1,"Abington Academy"]
[2,"Ashby School"]
[3,"Babington CC"]
[4,"Beauchamp College"]
[5,"Beaumont Leys School"]
[6,"Belvoir High School"]
[7,"Bosworth Academy"]
[8,"Brockington College"]
[9,"Brooksby Melton College"]
[10,"Brookvale High School"]
[11,"Bushloe High School"]
[12,"Casterton B & E College"]
[13,"Castle Donington CC"]
[14,"Castle Rock High School"]
[15,"Catmose College"]
[16,"Charnwood College"]
[17,"City of Leicester College"]
[18,"Countesthorpe Leysland CC"]
[19,"Crown Hills CC"]
[20,"De Lisle College"]
[21,"Dixie Grammar School"]
[22,"English Martyrs Catholic School"]
[23,"Fullhurst CC"]
[24,"Gartree High School"]
[25,"Gateway College"]
[26,"Groby CC"]
[27,"Guthlaxton College"]
[28,"Hamilton CC"]
[29,"Hastings High School"]
[30,"Hinckley Academy"]
[31,"Hind Leys College"]
[32,"Humphrey Perkins School"]
[33,"Ibstock CC"]
[34,"Ivanhoe College"]
[35,"John Ferneley College"]
[36,"Judge Meadows CC"]
[37,"Kibworth School"]
[38,"King Edward VII College"]
[39,"Leicester College"]
[40,"Leicester Grammar School"]
[41,"Leicester High School"]
[42,"Guest"]
[43,"Limehurst Academy"]
[44,"Long Field Academy"]
[45,"Longslade CC"]
[46,"Loughborough College"]
[47,"Loughborough Grammar School"]
[48,"Loughborough High School"]
[49,"Lutterworth College"]
[50,"Lutterworth High School"]
[51,"Madani High School"]
[52,"Manor High School"]
[53,"Melton Vale Post 16 Centre"]
[54,"Moat CC"]
[55,"Mount Grace High School"]
[56,"New College"]
[57,"Newbridge High School"]
[58,"Oakham School"]
[59,"Our Lady's Convent"]
[60,"Ratcliffe College"]
[61,"Rawlins Academy"]
[62,"Redmoor Academy"]
[63,"Regent College"]
[64,"Robert Smyth Academy"]
[65,"Roundhill Academy"]
[66,"Rushey Mead School"]
[67,"Shepshed College"]
[68,"Shepshed High School"]
[69,"Sir Jonathon North CC"]
[70,"Soar Valley College"]
[71,"South Charnwood High School"]
[72,"South Wigston High School"]
[73,"St Crispins School"]
[74,"St Martins Catholic Academy"]
[75,"St Pauls Catholic School"]
[76,"Stonehill High School"]
[77,"Stoneygate School"]
[78,"The Cedars Academy"]
[79,"The Heathfield Academy"]
[80,"The Lancaster School"]
[81,"The Market Bosworth School"]
[82,"The Martin High School"]
[83,"The Samworth Academy"]
[84,"Thomas Estley CC"]
[85,"UNCLAIMED"]
[86,"Uppingham CC"]
[87,"Uppingham School"]
[88,"Welbeck College"]
[89,"Welland Park Academy"]
[90,"Wigston Academy"]
[91,"William Bradford CC"]
[92,"Winstanley CC"]
[93,"Woodbrook Vale School"]
[94,"Wreake Valley Academy"]
[95,"Wyggeston & QEI College"]
[96,"Harington School"]
[97,"UNCLAIMED 1"]
[98,"UNCLAIMED 2"]
[99]
[100]
[101]
[102]
[103]
[104]
[105]
[106]
[107]
[108]
[109]
[110]
[111]
[112]
[113]
[114]
[115]
[116]
[117]
[118]
[119]
[120]
[121]
[122]
[123]
[124]
[125]
[126]
[127]
[128]
[129]
[130]
[131]
[132]
[133]
[134]
[135]
[136]
[137]
[138]
[139]
[140]
[141]
[142]
[143]
[144]
[145]
[146]
[147]
[148]