{"text_format":"1","workbook":"xlsx","n_sheets":21,"sheets":["Instructions","Event Details","Timetable","Team Declaration Sheet","Teamsheet Male","Teamsheet Female","Results Entry","Results in Event Order","Results by Age Group","Match Positions","Results Summary","Results by Club","Officials","Club Details","Change Form","Track Lane Draw","Throws & Jumps","High Jump","Timekeepers Slip","Field Draw","Sheet1"],"not_rendered":{"charts":0,"images":0,"macros":1,"external_links":1,"defined_names":77,"comments":0,"pivot_tables":0},"unopened":[],"bounds":{"document_bytes":16777216,"sheet_cells":100000,"rows_first":2000,"rows_last":500,"rows_between":2000,"halvings":0,"cell_chars":16384,"cell_head_chars":4096},"cells_cut":0,"cells_raw":0,"read":"whole","date_system":"1900"}

{"sheet":"Instructions","index":0,"n_rows":74,"n_cols":2,"rows_kept":74,"cut":false,"hidden":false,"merged":[]}
[null,{"$f":"'Event Details'!D5","v":"Heart of England League"}]
[]
[null,"Instructions"]
[]
[null,"General"]
[null,"This Spreadsheet come cleared down and ready to go.  If you require a copy with test data loaded contact Martin Smith (msmith46@talktalk.net)."]
[null,"If you enter test data to familiarise yourself with the layout, there are three macros to clear down the data ready for the new meeting. The first two macros are found in the 'Event Details' spreadsheet. Macro Button1 ('Clear Competitors Names for Teamsheet Male') will clear down the names from the male teamsheet. Macro 2 will clear down the female teamsheet."]
[null,"The third macro is also found in the 'Results Entry' spreadsheets. Clicking on the button 'Clear Results Table'- will clear down the previous meetings results.  It is recommended that you make a Back-Up copy prior to deleting the data."]
[null,"New for 2013 - Guests are allowed in the 800m and 1500m at the discretion of the Track Referee. They must wear the number sequence allocated for the U11 (not club Letter). Also, a 'Howler' has been introduced as a new event in the U11's."]
[]
[null,"Event Details"]
[null,"The first spreadsheet shows details of the Athletic Meeting. Changing the Division number changes the club details for that division. The details are taken from the 'Club Details' spreadsheet.  The field highlighted in 'Green' can be amended as required."]
[null,"To amend or delete the Club Names for clubs promoted or relegated see 'Club Details' spreadsheet.  "]
[null,"To clear the Competitors Names , click on the two macro buttons 'Clear Competitors Names from Teamsheet Male' and 'Clear Competitors Names from Female Teamsheet'."]
[]
[null,"Timetable"]
[null,"This spreadsheet shows the 'League Programme'.  Each event has been given a unique 'Event Number.' which arranges the events in time order.  These fields can be amended for any changes at the beginning of the season. Also ensure that 'Non Scoring Events (NS) are shown as separate events in the Programme and identified with 'NS' in column G. "]
[null,"The Timetable can be printed off at anytime."]
[]
[null,"Team Declaration Sheet"]
[null,"This spreadsheet is a blank Declaration Sheet for both Male and Female competitors. If any amendments are made to the 'Timetable' , please ensure that this spreadsheet is updated by changing the appropriate 'Event Number' (if required).     Ideally, the Team Declaration Sheets should be Emailed to the Results Team 2 Days before the event. "]
[]
[null,"Team Sheets Male & Teamsheet Female"]
[null,"There are two Team Sheets, one for Male and one for Female.     Scroll across to see the eight Clubs"]
[null,"Scroll along to the right to find the appropriate Club and enter the name of the 'A' and 'B'. competitor for each event.  Also enter the names of competitors in the relay teams. There is a section at the bottom for Guests."]
[null,"U11 Non Scoring and Guests -  Each athlete should wear a unique number (not letter). Remember to enter the number against the competitors name."]
[null,"If clubs have Emailed their Declaration Sheets in advance of the meeting, then the names can be 'Cut and Pasted' into the spreadsheet. ( Note. Take care to copy to the correct rows.)"]
[]
[null,"Results Entry"]
[null,"Enter all Events (including U11 Scoring & U11 Relay NS)"]
[null,"Enter the Event number In the 'green' box (cell B4) to bring up details of the event. In the 'blue area' you will see all the competitors names which have been taken from the Teamsheets."]
[null,"To enter the Result for the first competitor, enter the Club letter into the first green box,(i.e. 'C' for Bromsgrove ). For the 'B' race, enter 'CC' which will identify the 'B' runner.  A Table of the Club letters is shown at the left of the spreadsheet."]
[null,"Note: if the B Competitor does the best throw/ jump/ time, you can enter the double letter (i.e.'CC') in Event A and single letter ('C') in the Event  B. This will select the right name from the teamsheet."]
[null,"Next move right, and enter the time or distance ( i.e. '2.71' metres or '2.12.13' mins.) If a competitor did not finish, enter 'DNF' in the time box."]
[null,"Move down and enter the second competitor results.   Move to next column right and enter the time/ distance."]
[null,"Once all the results for Event A have been completed, repeat the same for Event B.  Entering the single or double letter as appropriate (i.e. \"C\" or \"CC\")."]
[null,"Once all the results have been entered, click on the button \"Save Data\".  If you wish to Amend this data at a later stage, enter the Event No. and click on the \"Edit Data\" button and the results are restored."]
[null,"To manually adjust the points for equal scores i.e joint 2nd.- see Results by Age Group."]
[]
[null,"Results in Event Order"]
[null,"If on the day you are connected to a printer, this report is useful for printing off and putting on the noticeboard. "]
[null,"There are 7 pages in the spread sheet ‘Results in Event Order’. There are 10 results per page."]
[null,"After entering the first 10 results, print page one off and the page can be stuck on the notice board."]
[null,"The clubs can then see the results and the points position"]
[]
[null,"Results by Age Group"]
[null,"This spreadsheet is automatically updated from the previous sheet. This sheet can be printed off at anytime to get the latest points position."]
[null,"In the points section on the right, a manual adjustment can be made if points need to be shared. In the green highlighted area above the points, enter for example, '-0.5' to take off half a point from one team and add '0.5' to the another team."]
[null,"Enter your club letter at cell H5 and this will highlight your club throughout the results."]
[]
[null,"Match Position"]
[null,"This spreadsheet gives a summary of the 'Match Position' at any point in time.  This is useful for the announcer who can read the information from the screen or print it off at any time."]
[]
[null,"Results Summary"]
[null,"This spreadsheet automatically calculates the Points and Position for each Age Group, and includes points added for providing Officials."]
[]
[null,"Results by Club"]
[null,"Enter a Club Letter in the Green Box (Cell B3). Enter each Club Letter in turn and it will produce the results for each Club.  Can be printed off anytime."]
[]
[null,"Adjustment for Officials"]
[null,"2 points per Official can be added up to a maximum of 10 for each Age Group i.e. U13 Females,U15 Females, U17 Females, U13 Male,U15 Male and U17 Men."]
[null,"New for 2016 - Bonus of 4 points added for providing officials of 2b and above."]
[]
[null,"Club Details by Division"]
[null,"To amend or delete the Club Names in each Division for clubs promoted or relegated, enter the details here."]
[]
[null,"Competitor Change Form"]
[null,"This spreadsheet is a blank 'Change Form'  and issued to Team Manager on the day of the event. Ideally, the Team Declaration Sheets should be Emailed to the Results Team 2 Days before the event. If any amendments are made to the 'Team Sheet' on the day, the Team Manager should use this sheet to notify the Results Team of any changes."]
[]
[null,"Track Lane Draw"]
[null,"This Spreadsheet is for the assistance of the Starter. It produces a printed list of randomly selected clubs over the 8 lanes of the track.  The random sequence can be changed by entering 1 to 8 in the yellow highlighted area."]
[]
[null,"Field Jumps and Field Throws and Timekeepers Slip"]
[null,"These three spread sheets are optional but can be used for printing 'Field Event Cards'.                          Enter the 'Event Number' from the list on the left into Cell J4 the top of the 'card' and  the events details are updated.  If you also wish to print the Competitors names, enter \"Y\" into Cell S3. This only works if the names have already been entered into the Team Declaration Sheets.                                                          Also the clubs order is different for each event as they are randomly drawn from ' Lane Draw' spread sheet. The Timekeepers recording slip can also be printed off as required."]

{"sheet":"Event Details","index":1,"n_rows":43,"n_cols":10,"rows_kept":43,"cut":false,"hidden":false,"merged":[[10,1,10,2],[10,3,10,4],[10,5,10,7]]}
[]
[]
[null,null,null,"Event Details"]
[null,null,null,null,null,null,null,null,null,"Notes"]
[null,"Event Title",null,"Heart of England League",null,null,null,null,1,"Changing the Division number (cell 'D9')"]
[null,null,null,null,null,null,null,null,null,"updates the Club Details accordingly."]
[null,"Year",null,2016,null,null,null,null,2,"Clubs promoted or relegated are "]
[null,null,null,null,null,null,null,null,null,"amended in the spreadsheet 'Club Details'."]
[null,"Division",null,2,null,null,null,null,3,"At Cell 'A17', enter the meeting"]
[null,null,null,null,null,null,null,null,null,"number i.e. 1,2 or 3."]
["Match","Date",null,"Venue",null,"Host",null,null,4,"At Cell 'C32', enter the number of"]
[1,{"$f":"VLOOKUP($A12,EventDates,C$43,FALSE)","v":"7th May 2016"},null,{"$f":"VLOOKUP($A12,EventDates,E$43,FALSE)","v":"Kettering"},null,{"$f":"VLOOKUP($A12,EventDates,F$43,FALSE)","v":"Kettering"},null,null,null,"Teams in the Division i.e. 8."]
[2,{"$f":"VLOOKUP($A13,EventDates,C$43,FALSE)","v":"5th June 2016"},null,{"$f":"VLOOKUP($A13,EventDates,E$43,FALSE)","v":"Nunnery Wood"},null,{"$f":"VLOOKUP($A13,EventDates,F$43,FALSE)","v":"Worcester"},null,null,5,"Fields highlighted in 'Green' can be "]
[3,{"$f":"VLOOKUP($A14,EventDates,C$43,FALSE)","v":"10th July 2016"},null,{"$f":"VLOOKUP($A14,EventDates,E$43,FALSE)","v":"Banbury"},null,{"$f":"VLOOKUP($A14,EventDates,F$43,FALSE)","v":"Banbury &Bicester"},null,null,null,"amended as required."]
[null,null,null,null,null,null,null,null,6]
[null,"Next meeting"]
[2,{"$f":"IF($A17=3,B14,IF($A17=2,B13,B12))","v":"5th June 2016"},null,{"$f":"IF($A17=3,D14,IF($A17=2,D13,D12))","v":"Nunnery Wood"},null,{"$f":"IF($A17=3,F14,IF($A17=2,F13,F12))","v":"Worcester"}]
[]
[]
[null,"Teams","Letter","Club Name","U11 No's",null,"Short"]
[null,null,null,null,null,null,"Name"]
[null,1,{"$f":"VLOOKUP($B22,ClubDetail,C$42,FALSE)","v":"J"},"Banbury",550,599,"Ban",null,null,"Macros"]
[null,2,"P","Bicester",800,849,"Bic"]
[null,3,"B","Dudley & S'bridge",200,249,"DASH"]
[null,4,"I","Kettering",50,99,"Kett",null,1]
[null,5,"R","Radley",500,549,"Rad"]
[null,6,"F","Tamworth",1,49,"Tam"]
[null,7,"X","Wreake Runners",400,449,"Wreake"]
[null,8,"Y","Worcester",100,149,"Worc"]
[null,9,0,0,0,0,0,null,2]
[]
[null,"Points",{"$f":"COUNTIF(C22:C30,\"?\")","v":8},"(Total Number of Teams)"]
[]
[]
[]
[]
[]
[]
[]
[]
[]
[null,{"$f":"IF($D9=1,1,IF($D9=2,8,IF($D9=3,15,IF($D$9=4,22,\" \"))))","v":8},{"$f":"IF($D9=1,2,IF($D9=2,9,IF($D9=3,16,IF($D$9=4,23,\" \"))))","v":9},{"$f":"IF($D9=1,3,IF($D9=2,10,IF($D9=3,17,IF($D$9=4,24,\" \"))))","v":10},{"$f":"IF($D9=1,4,IF($D9=2,11,IF($D9=3,18,IF($D$9=4,25,\" \"))))","v":11},{"$f":"IF($D9=1,5,IF($D9=2,12,IF($D9=3,19,IF($D$9=4,26,\" \"))))","v":12},{"$f":"IF($D9=1,6,IF($D9=2,13,IF($D9=3,20,IF($D$9=4,27,\" \"))))","v":13}]
[null,null,{"$f":"IF($D9=1,2,IF($D9=2,9,IF($D9=3,16,IF($D$9=4,23,\" \"))))","v":9},null,{"$f":"IF($D9=1,4,IF($D9=2,11,IF($D9=3,18,IF($D$9=4,25,\" \"))))","v":11},{"$f":"IF($D9=1,5,IF($D9=2,12,IF($D9=3,19,IF($D$9=4,26,\" \"))))","v":12}]

{"sheet":"Timetable","index":2,"n_rows":178,"n_cols":23,"rows_kept":178,"cut":false,"hidden":false,"merged":[[65,9,65,10]]}
[null,null,null,null,null,{"$f":"'Event Details'!D5&\" Programme\"","v":"Heart of England League Programme"},null,null,null,null,null,null,null,null,null,null,null,null,null,{"$f":"'Event Details'!D5&\" Programme by Age Group\"","v":"Heart of England League Programme by Age Group"}]
[null,null,null,null,null,null,{"$f":"\"Revised for \"&'Event Details'!D7","v":"Revised for 2016"},null,null,null,null,null,null,null,null,null,null,null,null,{"$f":"\"Revised for \"&'Event Details'!D7","v":"Revised for 2016"}]
[]
[null,null,"Event",null,null,null,"Non",null,"Event",null,null,null,null,null,null,null,"Event",null,null,null,"Event"]
[null,null,"No","Time","Event","Age","Scoring",null,"No","Time","Event","Age","Comment",null,null,null,"No","Time","Event",null,"No","Time","Event"]
[]
[null,null,"Track Events",null,null,null,null,null,"Field Events"]
[]
[null,null,1,11.45,"1500m","U13 Female","",null,2,11.45,"Howler","U11 Male","",null,null,null,null,null,"U11 Female",null,null,null,"U11 Male"]
[null,null,4,11.55,"1500m","U15 Female","",null,3,11.45,"Howler","U11 Female","",null,null,null,3,{"$f":"IF($Q10>0,VLOOKUP($Q10,EventsOrder,2,FALSE),\" \")","v":11.45},{"$f":"IF($Q10>0,VLOOKUP($Q10,EventsOrder,6,FALSE),\" \")","v":"Howler "},null,2,{"$f":"IF($U10>0,VLOOKUP($U10,EventsOrder,2,FALSE),\" \")","v":11.45},{"$f":"IF($U10>0,VLOOKUP($U10,EventsOrder,6,FALSE),\" \")","v":"Howler "}]
[null,null,7,12.05,"1500m","U17 F/Women","",null,5,12,"High Jump","U13 Male","",null,null,null,29,1.5,"600m ",null,14,12.3,"Long Jump Pit 1"]
[null,null,11,12.15,"70m hurdles","U13 Female","",null,6,12,"Long Jump","U15 Male","Pit 2",null,null,null,30,1.55,"600m NS",null,33,2,"600m "]
[null,null,12,12.2,"800m","U13 Male","",null,8,12.15,"Shot","U17 Men","",null,null,null,44,2.1,"Long Jump Pit 2",null,34,2.0499999999999998,"600m NS"]
[null,null,13,12.3,"75m hurdles","U15 Female","",null,9,12.15,"Discus","U15 Female","Match 2",null,null,null,58,3.1,"75m ",null,61,3.2,"75m "]
[null,null,15,12.35,"75m hurdles","U13 Male","",null,10,12.15,"Javelin (U17)","U17 Female","Match 1 & 3",null,null,null,59,3.15,"75m   NS",null,62,3.25,"75m NS"]
[null,null,16,12.4,"800m","U15 Male","",null,14,12.3,"Long Jump","U11 Male","Pit 1",null,null,null,81,4.5,"4 x 100m Mixed NS",null,81,4.5,"4 x 100m Mixed NS"]
[null,null,18,12.5,"800m","U17 Men","",null,17,12.55,"High Jump","U15 Female",""]
[null,null,19,1,"80m hurdles (U17)","U17 Female","",null,21,1,"Long Jump","U15 Female","Pit 2",null,null,null,null,null,"U13 Female",null,null,null,"U13 Male"]
[null,null,20,1.05,"80m hurdles","U15 Male","",null,22,1,"Shot","U15 Male","",null,null,null,1,{"$f":"IF($Q19>0,VLOOKUP($Q19,EventsOrder,2,FALSE),\" \")","v":11.45},{"$f":"IF($Q19>0,VLOOKUP($Q19,EventsOrder,6,FALSE),\" \")","v":"1500m "},null,5,{"$f":"IF($U19>0,VLOOKUP($U19,EventsOrder,2,FALSE),\" \")","v":12},{"$f":"IF($U19>0,VLOOKUP($U19,EventsOrder,6,FALSE),\" \")","v":"High Jump "}]
[null,null,25,1.1499999999999999,"800m","U13 Female","",null,23,1,"Discus","U17 Men","Match 2",null,null,null,11,12.15,"70m hurdles ",null,12,12.2,"800m "]
[null,null,26,1.25,"800m","U15 Female","",null,24,1,"Javelin","U13 Male","Match 1 & 3",null,null,null,25,1.1499999999999999,"800m ",null,15,12.35,"75m hurdles "]
[null,null,27,1.35,"100m hurdles","U17 Men","",null,31,1.4,"High Jump","U13 Female","",null,null,null,31,1.4,"High Jump ",null,24,1,"Javelin Match 1 & 3"]
[null,null,28,1.4,"800m","U17 F/Women","",null,32,1.3,"Long Jump","U17 Men","Pit1",null,null,null,35,2.1,"100m ",null,41,2.25,"100m "]
[null,null,29,1.5,"600m","U11 Female","",null,37,1.5,"Shot (U17)","U17 Female","",null,null,null,38,1.5,"Discus Match 2",null,52,2.4,"Shot "]
[null,null,30,1.55,"600m","U11 Female","NS",null,38,1.5,"Discus","U13 Female","Match 2",null,null,null,56,2.5,"Long Jump Pit 1",null,64,3.2,"Long Jump Pit 2"]
[null,null,33,2,"600m","U11 Male","",null,39,1.5,"Javelin","U15 Male","Match 1 & 3",null,null,null,63,3.35,"200m ",null,70,3.5,"200m "]
[null,null,34,2.0499999999999998,"600m","U11 Male","NS",null,44,2.1,"Long Jump","U11 Female","Pit 2",null,null,null,65,3.3,"Shot ",null,73,4.2,"1500m "]
[null,null,35,2.1,"100m","U13 Female","",null,45,2.25,"High Jump","U15 Male","",null,null,null,79,4.2,"Javelin Match 1 & 3",null,78,4.2,"Discus Match 2"]
[null,null,36,2.15,"100m","U15 Female","",null,52,2.4,"Shot","U13 Male","",null,null,null,82,4.55,"4 x 100m ",null,85,5.0999999999999996,"4 x 100m "]
[null,null,40,2.2000000000000002,"100m","U17 F/Women","",null,53,2.4,"Discus (U17)","U17 Female","Match 2"]
[null,null,41,2.25,"100m","U13 Male","",null,54,2.4,"Javelin","U15 Female","Match 1 & 3",null,null,null,null,null,"U15 Female",null,null,null,"U15 Male"]
[null,null,42,2.2999999999999998,"100m","U15 Male","",null,56,2.5,"Long Jump","U13 Female","Pit 1",null,null,null,4,{"$f":"IF($Q32>0,VLOOKUP($Q32,EventsOrder,2,FALSE),\" \")","v":11.55},{"$f":"IF($Q32>0,VLOOKUP($Q32,EventsOrder,6,FALSE),\" \")","v":"1500m "},null,6,{"$f":"IF($U32>0,VLOOKUP($U32,EventsOrder,2,FALSE),\" \")","v":12},{"$f":"IF($U32>0,VLOOKUP($U32,EventsOrder,6,FALSE),\" \")","v":"Long Jump Pit 2"}]
[null,null,43,2.35,"100m","U17 Men","",null,60,3.1,"High Jump","U17 F/Women","",null,null,null,9,12.15,"Discus Match 2",null,16,12.4,"800m "]
[null,null,50,2.4,"300m","U15 Female","",null,64,3.2,"Long Jump","U13 Male","Pit 2",null,null,null,13,12.3,"75m hurdles ",null,20,1.05,"80m hurdles "]
[null,null,51,2.4500000000000002,"300m","U17 F/Women","",null,65,3.3,"Shot","U13 Female","",null,null,null,17,12.55,"High Jump ",null,22,1,"Shot "]
[null,null,55,2.5499999999999998,"300m","U15 Male","",null,66,3.3,"Discus","U15 Male","Match 2",null,null,null,21,1,"Long Jump Pit 2",null,39,1.5,"Javelin Match 1 & 3"]
[null,null,57,3,"400m","U17 Men","",null,67,3.3,"Javelin","U17 Men","Match 1 & 3",null,null,null,26,1.25,"800m ",null,42,2.2999999999999998,"100m "]
[null,null,58,3.1,"75m","U11 Female","",null,74,4.0999999999999996,"High Jump","U17 Men","",null,null,null,36,2.15,"100m ",null,45,2.25,"High Jump "]
[null,null,59,3.15,"75m  ","U11 Female","NS",null,75,4,"Long Jump","U17 F/Women","Pit1",null,null,null,50,2.4,"300m ",null,55,2.5499999999999998,"300m "]
[null,null,61,3.2,"75m","U11 Male","",null,77,4.2,"Shot","U15 Female","",null,null,null,54,2.4,"Javelin Match 1 & 3",null,66,3.3,"Discus Match 2"]
[null,null,62,3.25,"75m","U11 Male","NS",null,78,4.2,"Discus","U13 Male","Match 2",null,null,null,68,3.4,"200m ",null,71,3.55,"200m "]
[null,null,63,3.35,"200m","U13 Female","",null,79,4.2,"Javelin","U13 Female","Match 1 & 3",null,null,null,77,4.2,"Shot ",null,76,4.3,"1500m "]
[null,null,68,3.4,"200m","U15 Female","",null,null,null,null,null,"",null,null,null,83,5,"4 x 100m ",null,86,5.15,"4 x 100m "]
[null,null,69,3.45,"200m","U17 F/Women","",null,null,"Guests - Non Scoring",null,null,""]
[null,null,70,3.5,"200m","U13 Male","",null,88,11.45,"1500m","U13 Female",null,null,null,null,null,null,"U17 F/Women",null,null,null,"U17 Men"]
[null,null,71,3.55,"200m","U15 Male","",null,89,11.55,"1500m","U15 Female",null,null,null,null,7,{"$f":"IF($Q46>0,VLOOKUP($Q46,EventsOrder,2,FALSE),\" \")","v":12.05},{"$f":"IF($Q46>0,VLOOKUP($Q46,EventsOrder,6,FALSE),\" \")","v":"1500m "},null,8,{"$f":"IF($U46>0,VLOOKUP($U46,EventsOrder,2,FALSE),\" \")","v":12.15},{"$f":"IF($U46>0,VLOOKUP($U46,EventsOrder,6,FALSE),\" \")","v":"Shot "}]
[null,null,72,4,"200m","U17 Men","",null,90,12.05,"1500m","U17 F/Women","",null,null,null,10,12.15,"Javelin (U17) Match 1 & 3",null,18,12.5,"800m "]
[null,null,73,4.2,"1500m","U13 Male","",null,91,12.2,"800m","U13 Male","",null,null,null,19,1,"80m hurdles (U17) ",null,23,1,"Discus Match 2"]
[null,null,76,4.3,"1500m","U15 Male","",null,92,12.4,"800m","U15 Male","",null,null,null,28,1.4,"800m ",null,27,1.35,"100m hurdles "]
[null,null,80,4.4000000000000004,"1500m","U17 Men","",null,93,12.5,"800m","U17 Men","",null,null,null,37,1.5,"Shot (U17) ",null,32,1.3,"Long Jump Pit1"]
[null,null,81,4.5,"4 x 100m Mixed","U11 Fem/Male","NS",null,94,1.1499999999999999,"800m","U13 Female","",null,null,null,40,2.2000000000000002,"100m ",null,43,2.35,"100m "]
[null,null,82,4.55,"4 x 100m","U13 Female","",null,95,1.25,"800m","U15 Female","",null,null,null,51,2.4500000000000002,"300m ",null,57,3,"400m "]
[null,null,83,5,"4 x 100m","U15 Female","",null,96,1.4,"800m","U17 F/Women","",null,null,null,53,2.4,"Discus (U17) Match 2",null,67,3.3,"Javelin Match 1 & 3"]
[null,null,84,5.05,"4 x 100m","U17 F/Women","",null,97,4.2,"1500m","U13 Male","",null,null,null,60,3.1,"High Jump ",null,72,4,"200m "]
[null,null,85,5.0999999999999996,"4 x 100m","U13 Male","",null,98,4.3,"1500m","U15 Male","",null,null,null,69,3.45,"200m ",null,74,4.0999999999999996,"High Jump "]
[null,null,86,5.15,"4 x 100m","U15 Male","",null,99,4.4000000000000004,"1500m","U17 Men","",null,null,null,75,4,"Long Jump Pit1",null,80,4.4000000000000004,"1500m "]
[null,null,87,5.2,"4 x 100m","U17 Men","",null,null,"","","","",null,null,null,84,5.05,"4 x 100m ",null,87,5.2,"4 x 100m "]
[]
[null,null,null,null,null,null,null,null,null,null,"No of Trials",null,null,null,null,null,null,null,"Guests - Non Scoring"]
[null,null,null,null,null,null,null,null,"Jumps",null,3,"Long Jump - 2 Pits required",null,null,null,null,null,null,"Female",null,null,null,"Male"]
[null,null,null,null,null,null,null,null,"Discus",null,3,null,null,null,null,null,88,{"$f":"IF($Q61>0,VLOOKUP($Q61,EventsOrder,2,FALSE),\" \")","v":11.45},{"$f":"IF($Q61>0,VLOOKUP($Q61,EventsOrder,6,FALSE),\" \")","v":"1500m U13 Female"},null,91,{"$f":"IF($U61>0,VLOOKUP($U61,EventsOrder,2,FALSE),\" \")","v":12.2},{"$f":"IF($U61>0,VLOOKUP($U61,EventsOrder,6,FALSE),\" \")","v":"800m U13 Male"}]
[null,null,null,null,null,null,null,null,"Javelin",null,4,null,null,null,null,null,89,11.55,"1500m U15 Female",null,92,12.4,"800m U15 Male"]
[null,null,null,null,null,null,null,null,"Shot",null,4,null,null,null,null,null,90,12.05,"1500m U17 F/Women",null,93,12.5,"800m U17 Men"]
[null,null,null,null,null,null,null,null,null,null,null,null,null,null,null,null,94,1.1499999999999999,"800m U13 Female",null,97,4.2,"1500m U13 Male"]
[null,null,null,null,null,null,null,null,null,"High Jump ",null,null,null,null,null,null,95,{"$f":"IF($Q65>0,VLOOKUP($Q65,EventsOrder,2,FALSE),\" \")","v":1.25},{"$f":"IF($Q65>0,VLOOKUP($Q65,EventsOrder,6,FALSE),\" \")","v":"800m U15 Female"},null,98,{"$f":"IF($U65>0,VLOOKUP($U65,EventsOrder,2,FALSE),\" \")","v":4.3},{"$f":"IF($U65>0,VLOOKUP($U65,EventsOrder,6,FALSE),\" \")","v":"1500m U15 Male"}]
[null,null,null,null,null,null,null,null,null,"Opening Heights",null,null,null,null,null,null,96,{"$f":"IF($Q66>0,VLOOKUP($Q66,EventsOrder,2,FALSE),\" \")","v":1.4},{"$f":"IF($Q66>0,VLOOKUP($Q66,EventsOrder,6,FALSE),\" \")","v":"800m U17 F/Women"},null,99,{"$f":"IF($U66>0,VLOOKUP($U66,EventsOrder,2,FALSE),\" \")","v":4.4000000000000004},{"$f":"IF($U66>0,VLOOKUP($U66,EventsOrder,6,FALSE),\" \")","v":"1500m U17 Men"}]
[null,null,null,null,null,null,null,null,null,"Male","Female",null,null,null,null,null,null,{"$f":"IF($Q67>0,VLOOKUP($Q67,EventsOrder,2,FALSE),\" \")","v":" "},{"$f":"IF($Q67>0,VLOOKUP($Q67,EventsOrder,6,FALSE),\" \")","v":" "},null,null,{"$f":"IF($U67>0,VLOOKUP($U67,EventsOrder,2,FALSE),\" \")","v":" "},{"$f":"IF($Q67>0,VLOOKUP($Q67,EventsOrder,6,FALSE),\" \")","v":" "}]
[null,null,null,null,null,null,null,null,"U13","1.10m","1.00m"]
[null,null,null,null,null,null,null,null,"U15","1.20m","1.10m"]
[null,null,null,null,null,null,null,null,"U17","1.30m","1.20m"]
[]
[]
[]
[null,null,"Event No's - In Order of Time"]
[]
[null,null,"Event"]
[null,null,"No","Time","Event","Age","Comment",null,"Event"]
[null,null,null,null,null,null,{"$f":"E78&\" \"&IF(J78>0,J78,\"\")","v":" "}]
[null,null,0,null,null,null,{"$f":"E79&\" \"&IF(J79>0,J79,\"\")","v":" "}]
[null,null,1,{"$f":"VLOOKUP($C80,IF(ISNA(VLOOKUP($C80,Track,1,FALSE)),Field,Track),2,FALSE)","v":11.45},{"$f":"VLOOKUP($C80,IF(ISNA(VLOOKUP($C80,Track,1,FALSE)),Field,Track),3,FALSE)","v":"1500m"},{"$f":"VLOOKUP($C80,IF(ISNA(VLOOKUP($C80,Track,1,FALSE)),Field,Track),4,FALSE)","v":"U13 Female"},{"$f":"VLOOKUP($C80,IF(ISNA(VLOOKUP($C80,Track,1,FALSE)),Field,Track),5,FALSE)","v":""},{"$f":"VLOOKUP($C80,IF(ISNA(VLOOKUP($C80,Track,1,FALSE)),Field,Track),3,FALSE)&\" \"&G80","v":"1500m "}]
[null,null,2,11.45,"Howler","U11 Male","","Howler "]
[null,null,3,11.45,"Howler","U11 Female","","Howler "]
[null,null,4,11.55,"1500m","U15 Female","","1500m "]
[null,null,5,12,"High Jump","U13 Male","","High Jump "]
[null,null,6,12,"Long Jump","U15 Male","Pit 2","Long Jump Pit 2"]
[null,null,7,12.05,"1500m","U17 F/Women","","1500m "]
[null,null,8,12.15,"Shot","U17 Men","","Shot "]
[null,null,9,12.15,"Discus","U15 Female","Match 2","Discus Match 2"]
[null,null,10,12.15,"Javelin (U17)","U17 Female","Match 1 & 3","Javelin (U17) Match 1 & 3"]
[null,null,11,12.15,"70m hurdles","U13 Female","","70m hurdles "]
[null,null,12,12.2,"800m","U13 Male","","800m "]
[null,null,13,12.3,"75m hurdles","U15 Female","","75m hurdles "]
[null,null,14,12.3,"Long Jump","U11 Male","Pit 1","Long Jump Pit 1"]
[null,null,15,12.35,"75m hurdles","U13 Male","","75m hurdles "]
[null,null,16,12.4,"800m","U15 Male","","800m "]
[null,null,17,12.55,"High Jump","U15 Female","","High Jump "]
[null,null,18,12.5,"800m","U17 Men","","800m "]
[null,null,19,1,"80m hurdles (U17)","U17 Female","","80m hurdles (U17) "]
[null,null,20,1.05,"80m hurdles","U15 Male","","80m hurdles "]
[null,null,21,1,"Long Jump","U15 Female","Pit 2","Long Jump Pit 2"]
[null,null,22,1,"Shot","U15 Male","","Shot "]
[null,null,23,1,"Discus","U17 Men","Match 2","Discus Match 2"]
[null,null,24,1,"Javelin","U13 Male","Match 1 & 3","Javelin Match 1 & 3"]
[null,null,25,1.1499999999999999,"800m","U13 Female","","800m "]
[null,null,26,1.25,"800m","U15 Female","","800m "]
[null,null,27,1.35,"100m hurdles","U17 Men","","100m hurdles "]
[null,null,28,1.4,"800m","U17 F/Women","","800m "]
[null,null,29,1.5,"600m","U11 Female","","600m "]
[null,null,30,1.55,"600m","U11 Female","NS","600m NS"]
[null,null,31,1.4,"High Jump","U13 Female","","High Jump "]
[null,null,32,1.3,"Long Jump","U17 Men","Pit1","Long Jump Pit1"]
[null,null,33,{"$f":"VLOOKUP($C112,IF(ISNA(VLOOKUP($C112,Track,1,FALSE)),Field,Track),2,FALSE)","v":2},{"$f":"VLOOKUP($C112,IF(ISNA(VLOOKUP($C112,Track,1,FALSE)),Field,Track),3,FALSE)","v":"600m"},{"$f":"VLOOKUP($C112,IF(ISNA(VLOOKUP($C112,Track,1,FALSE)),Field,Track),4,FALSE)","v":"U11 Male"},{"$f":"VLOOKUP($C112,IF(ISNA(VLOOKUP($C112,Track,1,FALSE)),Field,Track),5,FALSE)","v":""},{"$f":"VLOOKUP($C112,IF(ISNA(VLOOKUP($C112,Track,1,FALSE)),Field,Track),3,FALSE)&\" \"&G112","v":"600m "}]
[null,null,34,2.0499999999999998,"600m","U11 Male","NS","600m NS"]
[null,null,35,2.1,"100m","U13 Female","","100m "]
[null,null,36,2.15,"100m","U15 Female","","100m "]
[null,null,37,1.5,"Shot (U17)","U17 Female","","Shot (U17) "]
[null,null,38,1.5,"Discus","U13 Female","Match 2","Discus Match 2"]
[null,null,39,1.5,"Javelin","U15 Male","Match 1 & 3","Javelin Match 1 & 3"]
[null,null,40,2.2000000000000002,"100m","U17 F/Women","","100m "]
[null,null,41,2.25,"100m","U13 Male","","100m "]
[null,null,42,2.2999999999999998,"100m","U15 Male","","100m "]
[null,null,43,2.35,"100m","U17 Men","","100m "]
[null,null,44,2.1,"Long Jump","U11 Female","Pit 2","Long Jump Pit 2"]
[null,null,45,2.25,"High Jump","U15 Male","","High Jump "]
[null,null,46,{"$error":"#N/A"},{"$error":"#N/A"},{"$error":"#N/A"},{"$error":"#N/A"},{"$error":"#N/A"}]
[null,null,47,{"$error":"#N/A"},{"$error":"#N/A"},{"$error":"#N/A"},{"$error":"#N/A"},{"$error":"#N/A"}]
[null,null,48,{"$error":"#N/A"},{"$error":"#N/A"},{"$error":"#N/A"},{"$error":"#N/A"},{"$error":"#N/A"}]
[null,null,49,{"$error":"#N/A"},{"$error":"#N/A"},{"$error":"#N/A"},{"$error":"#N/A"},{"$error":"#N/A"}]
[null,null,50,2.4,"300m","U15 Female","","300m "]
[null,null,51,2.4500000000000002,"300m","U17 F/Women","","300m "]
[null,null,52,2.4,"Shot","U13 Male","","Shot "]
[null,null,53,2.4,"Discus (U17)","U17 Female","Match 2","Discus (U17) Match 2"]
[null,null,54,2.4,"Javelin","U15 Female","Match 1 & 3","Javelin Match 1 & 3"]
[null,null,55,2.5499999999999998,"300m","U15 Male","","300m "]
[null,null,56,2.5,"Long Jump","U13 Female","Pit 1","Long Jump Pit 1"]
[null,null,57,3,"400m","U17 Men","","400m "]
[null,null,58,3.1,"75m","U11 Female","","75m "]
[null,null,59,3.15,"75m  ","U11 Female","NS","75m   NS"]
[null,null,60,3.1,"High Jump","U17 F/Women","","High Jump "]
[null,null,61,3.2,"75m","U11 Male","","75m "]
[null,null,62,3.25,"75m","U11 Male","NS","75m NS"]
[null,null,63,3.35,"200m","U13 Female","","200m "]
[null,null,64,3.2,"Long Jump","U13 Male","Pit 2","Long Jump Pit 2"]
[null,null,65,{"$f":"VLOOKUP($C144,IF(ISNA(VLOOKUP($C144,Track,1,FALSE)),Field,Track),2,FALSE)","v":3.3},{"$f":"VLOOKUP($C144,IF(ISNA(VLOOKUP($C144,Track,1,FALSE)),Field,Track),3,FALSE)","v":"Shot"},{"$f":"VLOOKUP($C144,IF(ISNA(VLOOKUP($C144,Track,1,FALSE)),Field,Track),4,FALSE)","v":"U13 Female"},{"$f":"VLOOKUP($C144,IF(ISNA(VLOOKUP($C144,Track,1,FALSE)),Field,Track),5,FALSE)","v":""},{"$f":"VLOOKUP($C144,IF(ISNA(VLOOKUP($C144,Track,1,FALSE)),Field,Track),3,FALSE)&\" \"&G144","v":"Shot "}]
[null,null,66,3.3,"Discus","U15 Male","Match 2","Discus Match 2"]
[null,null,67,3.3,"Javelin","U17 Men","Match 1 & 3","Javelin Match 1 & 3"]
[null,null,68,3.4,"200m","U15 Female","","200m "]
[null,null,69,3.45,"200m","U17 F/Women","","200m "]
[null,null,70,3.5,"200m","U13 Male","","200m "]
[null,null,71,3.55,"200m","U15 Male","","200m "]
[null,null,72,4,"200m","U17 Men","","200m "]
[null,null,73,4.2,"1500m","U13 Male","","1500m "]
[null,null,74,4.0999999999999996,"High Jump","U17 Men","","High Jump "]
[null,null,75,4,"Long Jump","U17 F/Women","Pit1","Long Jump Pit1"]
[null,null,76,4.3,"1500m","U15 Male","","1500m "]
[null,null,77,4.2,"Shot","U15 Female","","Shot "]
[null,null,78,4.2,"Discus","U13 Male","Match 2","Discus Match 2"]
[null,null,79,4.2,"Javelin","U13 Female","Match 1 & 3","Javelin Match 1 & 3"]
[null,null,80,4.4000000000000004,"1500m","U17 Men","","1500m "]
[null,null,81,4.5,"4 x 100m Mixed","U11 Fem/Male","NS","4 x 100m Mixed NS"]
[null,null,82,4.55,"4 x 100m","U13 Female","","4 x 100m "]
[null,null,83,5,"4 x 100m","U15 Female","","4 x 100m "]
[null,null,84,5.05,"4 x 100m","U17 F/Women","","4 x 100m "]
[null,null,85,5.0999999999999996,"4 x 100m","U13 Male","","4 x 100m "]
[null,null,86,5.15,"4 x 100m","U15 Male","","4 x 100m "]
[null,null,{"$f":"C165+1","v":87},5.2,"4 x 100m","U17 Men","","4 x 100m "]
[null,null,{"$f":"C166+1","v":88},11.45,"1500m","U13 Female",0,{"$f":"VLOOKUP($C167,IF(ISNA(VLOOKUP($C167,Track,1,FALSE)),Field,Track),3,FALSE)&\" \"&F167","v":"1500m U13 Female"}]
[null,null,{"$f":"C167+1","v":89},11.55,"1500m","U15 Female",0,"1500m U15 Female"]
[null,null,{"$f":"C168+1","v":90},12.05,"1500m","U17 F/Women","","1500m U17 F/Women"]
[null,null,91,12.2,"800m","U13 Male","",{"$f":"VLOOKUP($C170,IF(ISNA(VLOOKUP($C170,Track,1,FALSE)),Field,Track),3,FALSE)&\" \"&F170","v":"800m U13 Male"}]
[null,null,92,12.4,"800m","U15 Male","","800m U15 Male"]
[null,null,93,12.5,"800m","U17 Men","","800m U17 Men"]
[null,null,94,1.1499999999999999,"800m","U13 Female","","800m U13 Female"]
[null,null,95,1.25,"800m","U15 Female","","800m U15 Female"]
[null,null,96,1.4,"800m","U17 F/Women","","800m U17 F/Women"]
[null,null,97,4.2,"1500m","U13 Male","","1500m U13 Male"]
[null,null,98,4.3,"1500m","U15 Male","","1500m U15 Male"]
[null,null,99,4.4000000000000004,"1500m","U17 Men","","1500m U17 Men"]

{"sheet":"Team Declaration Sheet","index":3,"n_rows":84,"n_cols":20,"rows_kept":84,"cut":false,"hidden":false,"merged":[]}
[]
[]
[null,null,{"$f":"'Event Details'!D5&\" \"&\"Declaration Sheets Male\"","v":"Heart of England League Declaration Sheets Male"},null,null,null,null,null,null,{"$f":"'Event Details'!D7","v":2016},null,null,{"$f":"'Event Details'!D$5&\" \"&\"Declaration Sheets Female\"","v":"Heart of England League Declaration Sheets Female"},null,null,null,null,null,null,{"$f":"'Event Details'!D$7","v":2016}]
[null,null,"Club",null,null,null,null,"Only 2 non scorers allowed per race",null,null,null,null,"Club",{"$f":"D4","v":0},null,null,null,"Only 2 non scorers allowed per race"]
[]
[null,"Event","Time","Events",null,null,"No","A String","No","B String",null,"Event","Time","Events",null,null,"No","A String","No","B String"]
[null,null,null,"Under 11 Male",null,null,null,null,null,null,null,null,null,"Under 11 Female"]
[null,2,{"$f":"IF($B8>0,VLOOKUP($B8,EventsOrder,2,FALSE),\" \")","v":11.45},{"$f":"IF($B8>0,VLOOKUP($B8,EventsOrder,6,FALSE),\" \")","v":"Howler "},null,null,null,null,null,null,null,3,{"$f":"IF($L8>0,VLOOKUP($L8,EventsOrder,2,FALSE),\" \")","v":11.45},{"$f":"IF($L8>0,VLOOKUP($L8,EventsOrder,6,FALSE),\" \")","v":"Howler "}]
[null,14,{"$f":"IF($B9>0,VLOOKUP($B9,EventsOrder,2,FALSE),\" \")","v":12.3},{"$f":"IF($B9>0,VLOOKUP($B9,EventsOrder,6,FALSE),\" \")","v":"Long Jump Pit 1"},null,null,null,null,null,null,null,29,{"$f":"IF($L9>0,VLOOKUP($L9,EventsOrder,2,FALSE),\" \")","v":1.5},{"$f":"IF($L9>0,VLOOKUP($L9,EventsOrder,6,FALSE),\" \")","v":"600m "}]
[null,33,{"$f":"IF($B10>0,VLOOKUP($B10,EventsOrder,2,FALSE),\" \")","v":2},{"$f":"IF($B10>0,VLOOKUP($B10,EventsOrder,6,FALSE),\" \")","v":"600m "},null,null,null,null,null,null,null,44,{"$f":"IF($L10>0,VLOOKUP($L10,EventsOrder,2,FALSE),\" \")","v":2.1},{"$f":"IF($L10>0,VLOOKUP($L10,EventsOrder,6,FALSE),\" \")","v":"Long Jump Pit 2"}]
[null,61,{"$f":"IF($B11>0,VLOOKUP($B11,EventsOrder,2,FALSE),\" \")","v":3.2},{"$f":"IF($B11>0,VLOOKUP($B11,EventsOrder,6,FALSE),\" \")","v":"75m "},null,null,null,null,null,null,null,58,{"$f":"IF($L11>0,VLOOKUP($L11,EventsOrder,2,FALSE),\" \")","v":3.1},{"$f":"IF($L11>0,VLOOKUP($L11,EventsOrder,6,FALSE),\" \")","v":"75m "}]
[null,"Non-Scoring",null,null,null,null,"No's","(enter Competitor No)","No's","(enter Competitor No)",null,"Non-Scoring",null,null,null,null,"No's","(enter Competitor No)","No's","(enter Competitor No)"]
[null,null,{"$f":"IF($B13>0,VLOOKUP($B13,EventsOrder,2,FALSE),\" \")","v":" "},{"$f":"IF($B13>0,VLOOKUP($B13,EventsOrder,6,FALSE),\" \")","v":" "},null,null,null,null,null,null,null,null,{"$f":"IF($L13>0,VLOOKUP($L13,EventsOrder,2,FALSE),\" \")","v":" "},{"$f":"IF($L13>0,VLOOKUP($L13,EventsOrder,6,FALSE),\" \")","v":" "}]
[null,34,{"$f":"IF($B14>0,VLOOKUP($B14,EventsOrder,2,FALSE),\" \")","v":2.0499999999999998},{"$f":"IF($B14>0,VLOOKUP($B14,EventsOrder,6,FALSE),\" \")","v":"600m NS"},null,null,null,null,null,null,null,30,{"$f":"IF($L14>0,VLOOKUP($L14,EventsOrder,2,FALSE),\" \")","v":1.55},{"$f":"IF($L14>0,VLOOKUP($L14,EventsOrder,6,FALSE),\" \")","v":"600m NS"}]
[null,62,{"$f":"IF($B15>0,VLOOKUP($B15,EventsOrder,2,FALSE),\" \")","v":3.25},{"$f":"IF($B15>0,VLOOKUP($B15,EventsOrder,6,FALSE),\" \")","v":"75m NS"},null,null,null,null,null,null,null,59,{"$f":"IF($L15>0,VLOOKUP($L15,EventsOrder,2,FALSE),\" \")","v":3.15},{"$f":"IF($L15>0,VLOOKUP($L15,EventsOrder,6,FALSE),\" \")","v":"75m   NS"}]
[null,null," "," ",null,null,null,null,null,null,null,81,{"$f":"IF($L16>0,VLOOKUP($L16,EventsOrder,2,FALSE),\" \")","v":4.5},{"$f":"IF($L16>0,VLOOKUP($L16,EventsOrder,6,FALSE),\" \")","v":"4 x 100m Mixed NS"},null,null,null,{"$f":"N$4","v":0}]
[null,"Event","Time","Events",null,null,"No","A String","No","B String",null,{"$f":"L16&\"R\"","v":"81R"},null,null,null,null,1,null,2]
[null,null,null,"Under 13 Male",null,null,null,null,null,null,null,{"$f":"L16&\"S\"","v":"81S"},null,null,null,null,3,null,4]
[null,5,{"$f":"IF($B19>0,VLOOKUP($B19,EventsOrder,2,FALSE),\" \")","v":12},{"$f":"IF($B19>0,VLOOKUP($B19,EventsOrder,6,FALSE),\" \")","v":"High Jump "},null,null,null,null,null,null,null,null," "," "]
[null,12,12.2,"800m ",null,null,null,null,null,null,null,"Event","Time","Events",null,null,"No","A String","No","B String"]
[null,15,12.35,"75m hurdles ",null,null,null,null,null,null,null,null,null,"Under 13 Female"]
[null,24,1,"Javelin Match 1 & 3",null,null,null,null,null,null,null,1,{"$f":"IF($L22>0,VLOOKUP($L22,EventsOrder,2,FALSE),\" \")","v":11.45},{"$f":"IF($L22>0,VLOOKUP($L22,EventsOrder,6,FALSE),\" \")","v":"1500m "}]
[null,41,2.25,"100m ",null,null,null,null,null,null,null,11,12.15,"70m hurdles "]
[null,52,2.4,"Shot ",null,null,null,null,null,null,null,25,1.1499999999999999,"800m "]
[null,64,{"$f":"IF($B25>0,VLOOKUP($B25,EventsOrder,2,FALSE),\" \")","v":3.2},{"$f":"IF($B25>0,VLOOKUP($B25,EventsOrder,6,FALSE),\" \")","v":"Long Jump Pit 2"},null,null,null,null,null,null,null,31,1.4,"High Jump "]
[null,70,3.5,"200m ",null,null,null,null,null,null,null,35,2.1,"100m "]
[null,73,4.2,"1500m ",null,null,null,null,null,null,null,38,1.5,"Discus Match 2"]
[null,78,4.2,"Discus Match 2",null,null,null,null,null,null,null,56,2.5,"Long Jump Pit 1"]
[null,85,5.0999999999999996,"4 x 100m ",null,null,null,{"$f":"D$4","v":0},null,null,null,63,3.35,"200m "]
[null,{"$f":"B29&\"R\"","v":"85R"},null,null,null,null,1,null,2,null,null,65,3.3,"Shot "]
[null,{"$f":"B29&\"S\"","v":"85S"},null,null,null,null,3,null,4,null,null,79,4.2,"Javelin Match 1 & 3"]
[null,null," "," ",null,null,null,null,null,null,null,82,4.55,"4 x 100m ",null,null,null,{"$f":"N$4","v":0}]
[null,null,null,null,null,null,null,null,null,null,null,{"$f":"L32&\"R\"","v":"82R"},null,null,null,null,1,null,2]
[null,"Event","Time","Events",null,null,"No","A String","No","B String",null,{"$f":"L32&\"S\"","v":"82S"},null,null,null,null,3,null,4]
[null,null,null,"Under 15 Male",null,null,null,null,null,null,null,null,{"$f":"IF($B35>0,VLOOKUP($B35,EventsOrder,2,FALSE),\" \")","v":" "},{"$f":"IF($B35>0,VLOOKUP($B35,EventsOrder,6,FALSE),\" \")","v":" "}]
[null,6,{"$f":"IF($B36>0,VLOOKUP($B36,EventsOrder,2,FALSE),\" \")","v":12},{"$f":"IF($B36>0,VLOOKUP($B36,EventsOrder,6,FALSE),\" \")","v":"Long Jump Pit 2"}]
[null,16,12.4,"800m ",null,null,null,null,null,null,null,"Event","Time","Events",null,null,"No","A String","No","B String"]
[null,20,1.05,"80m hurdles ",null,null,null,null,null,null,null,null,null,"Under 15 Female"]
[null,22,1,"Shot ",null,null,null,null,null,null,null,4,{"$f":"IF($L39>0,VLOOKUP($L39,EventsOrder,2,FALSE),\" \")","v":11.55},{"$f":"IF($L39>0,VLOOKUP($L39,EventsOrder,6,FALSE),\" \")","v":"1500m "}]
[null,39,1.5,"Javelin Match 1 & 3",null,null,null,null,null,null,null,9,12.15,"Discus Match 2"]
[null,42,2.2999999999999998,"100m ",null,null,null,null,null,null,null,13,12.3,"75m hurdles "]
[null,45,2.25,"High Jump ",null,null,null,null,null,null,null,17,12.55,"High Jump "]
[null,55,{"$f":"IF($B43>0,VLOOKUP($B43,EventsOrder,2,FALSE),\" \")","v":2.5499999999999998},{"$f":"IF($B43>0,VLOOKUP($B43,EventsOrder,6,FALSE),\" \")","v":"300m "},null,null,null,null,null,null,null,21,1,"Long Jump Pit 2"]
[null,66,3.3,"Discus Match 2",null,null,null,null,null,null,null,26,1.25,"800m "]
[null,71,3.55,"200m ",null,null,null,null,null,null,null,36,2.15,"100m "]
[null,76,4.3,"1500m ",null,null,null,null,null,null,null,50,2.4,"300m "]
[null,86,5.15,"4 x 100m ",null,null,null,{"$f":"D$4","v":0},null,null,null,54,2.4,"Javelin Match 1 & 3"]
[null,{"$f":"B47&\"R\"","v":"86R"},null,null,null,null,1,null,2,null,null,68,3.4,"200m "]
[null,{"$f":"B47&\"S\"","v":"86S"},null,null,null,null,3,null,4,null,null,77,4.2,"Shot "]
[null,null," "," ",null,null,null,null,null,null,null,83,5,"4 x 100m ",null,null,null,{"$f":"N$4","v":0}]
[null,null,null,null,null,null,null,null,null,null,null,{"$f":"L50&\"R\"","v":"83R"},null,null,null,null,1,null,2]
[null,"Event","Time","Events",null,null,"No","A String","No","B String",null,{"$f":"L50&\"S\"","v":"83S"},null,null,null,null,3,null,4]
[null,null,null,"Under 17 Male",null,null,null,null,null,null,null,null,{"$f":"IF($B53>0,VLOOKUP($B53,EventsOrder,2,FALSE),\" \")","v":" "},{"$f":"IF($B53>0,VLOOKUP($B53,EventsOrder,6,FALSE),\" \")","v":" "}]
[null,8,{"$f":"IF($B54>0,VLOOKUP($B54,EventsOrder,2,FALSE),\" \")","v":12.15},{"$f":"IF($B54>0,VLOOKUP($B54,EventsOrder,6,FALSE),\" \")","v":"Shot "}]
[null,18,12.5,"800m ",null,null,null,null,null,null,null,"Event","Time","Events",null,null,"No","A String","No","B String"]
[null,23,1,"Discus Match 2",null,null,null,null,null,null,null,null,null,"U17 Female / Women "]
[null,27,1.35,"100m hurdles ",null,null,null,null,null,null,null,7,{"$f":"IF($L57>0,VLOOKUP($L57,EventsOrder,2,FALSE),\" \")","v":12.05},{"$f":"IF($L57>0,VLOOKUP($L57,EventsOrder,6,FALSE),\" \")","v":"1500m "}]
[null,32,1.3,"Long Jump Pit1",null,null,null,null,null,null,null,10,12.15,"Javelin (U17) Match 1 & 3"]
[null,43,2.35,"100m ",null,null,null,null,null,null,null,19,1,"80m hurdles (U17) "]
[null,57,3,"400m ",null,null,null,null,null,null,null,28,1.4,"800m "]
[null,67,{"$f":"IF($B61>0,VLOOKUP($B61,EventsOrder,2,FALSE),\" \")","v":3.3},{"$f":"IF($B61>0,VLOOKUP($B61,EventsOrder,6,FALSE),\" \")","v":"Javelin Match 1 & 3"},null,null,null,null,null,null,null,37,1.5,"Shot (U17) "]
[null,72,4,"200m ",null,null,null,null,null,null,null,40,2.2000000000000002,"100m "]
[null,74,4.0999999999999996,"High Jump ",null,null,null,null,null,null,null,51,2.4500000000000002,"300m ",null,null,null,{"$f":"R$3","v":0}]
[null,80,4.4000000000000004,"1500m ",null,null,null,null,null,null,null,53,2.4,"Discus (U17) Match 2"]
[null,87,5.2,"4 x 100m ",null,null,null,{"$f":"D$4","v":0},null,null,null,60,3.1,"High Jump "]
[null,{"$f":"B65&\"R\"","v":"87R"},null,null,null,null,1,null,2,null,null,69,3.45,"200m "]
[null,{"$f":"B65&\"S\"","v":"87S"},null,null,null,null,3,null,4,null,null,75,4,"Long Jump Pit1"]
[null,null," "," ",null,null,null,null,null,null,null,84,5.05,"4 x 100m ",null,null,null,{"$f":"N$4","v":0}]
[null,null,null,null,null,null,null,null,null,null,null,{"$f":"L68&\"R\"","v":"84R"},null,null,null,null,1,null,2]
[null,null,null,null,null,null,null,null,null,null,null,{"$f":"L68&\"S\"","v":"84S"},null,null,null,null,3,null,4]
[null,null,{"$f":"'Event Details'!D$5&\" \"&\"Declaration Sheets - Guests\"","v":"Heart of England League Declaration Sheets - Guests"},null,null,null,null,null,null,{"$f":"'Event Details'!D$7","v":2016}]
[null,null,"Club",{"$f":"D4","v":0},null,null,null,"Only 1 non scorers allowed per race"]
[null,null,null,null,null,null,null,null,null,null,null,null,{"$f":"'Event Details'!D$5&\" \"&\"Declaration Sheets - Guests\"","v":"Heart of England League Declaration Sheets - Guests"},null,null,null,null,null,null,{"$f":"'Event Details'!N$7","v":0}]
[null,"Event","Time","Events",null,null,"No","A String",null,null,null,null,"Club",{"$f":"D4","v":0},null,null,null,"Only 1 non scorers allowed per race"]
[]
[null,null,null,"Male",null,null,null,null,null,null,null,"Event","Time","Events",null,null,"No","A String"]
[null,91,{"$f":"IF($B77>0,VLOOKUP($B77,EventsOrder,2,FALSE),\" \")","v":12.2},{"$f":"IF($B77>0,VLOOKUP($B77,EventsOrder,6,FALSE),\" \")","v":"800m U13 Male"},null,null,null,null,null,null,null,null,null," Female"]
[null,92,12.4,"800m U15 Male",null,null,null,null,null,null,null,88,{"$f":"IF($L78>0,VLOOKUP($L78,EventsOrder,2,FALSE),\" \")","v":11.45},{"$f":"IF($L78>0,VLOOKUP($L78,EventsOrder,6,FALSE),\" \")","v":"1500m U13 Female"}]
[null,93,12.5,"800m U17 Men",null,null,null,null,null,null,null,89,11.55,"1500m U15 Female"]
[null,97,4.2,"1500m U13 Male",null,null,null,null,null,null,null,90,12.05,"1500m U17 F/Women"]
[null,98,4.3,"1500m U15 Male",null,null,null,null,null,null,null,94,1.1499999999999999,"800m U13 Female"]
[null,99,4.4000000000000004,"1500m U17 Men",null,null,null,null,null,null,null,95,1.25,"800m U15 Female"]
[null,null," "," ",null,null,null,null,null,null,null,96,1.4,"800m U17 F/Women"]
[null,null," "," "]

{"sheet":"Teamsheet Male","index":4,"n_rows":89,"n_cols":55,"rows_kept":89,"cut":false,"hidden":false,"merged":[]}
[null,null,null,null,null,null,null,null,null,null,null,null,null,null,null,null,null,null,null,null,null,null,null,null,null,null,null,null,null,null,null,null,null,null,null,null,null,null,null,null,null,null,null,null,null,null,null,null,null,null,null,null,"For Test data"]
[null,null,"Heart of England League",null,null,null,null,"Club",null,"Date",null,null,"Club",null,"Date",null,null,"Club",null,"Date",null,null,"Club",null,"Date",null,null,"Club",null,"Date",null,null,"Club",null,"Date",null,null,"Club",null,"Date",null,null,"Club",null,"Date"]
[null,null,"Declaration Sheets",null,null,null,{"$f":"'Event Details'!$C$22","v":"J"},{"$f":"'Event Details'!$D$22","v":"Banbury"},null,{"$f":"'Event Details'!$B$17","v":"5th June 2016"},null,{"$f":"'Event Details'!$C$23","v":"P"},{"$f":"'Event Details'!$D$23","v":"Bicester"},null,{"$f":"'Event Details'!$B$17","v":"5th June 2016"},null,{"$f":"'Event Details'!$C$24","v":"B"},{"$f":"'Event Details'!$D$24","v":"Dudley & S'bridge"},null,{"$f":"'Event Details'!$B$17","v":"5th June 2016"},null,{"$f":"'Event Details'!$C$25","v":"I"},{"$f":"'Event Details'!$D$25","v":"Kettering"},null,{"$f":"'Event Details'!$B$17","v":"5th June 2016"},null,{"$f":"'Event Details'!$C$26","v":"R"},{"$f":"'Event Details'!$D$26","v":"Radley"},null,{"$f":"'Event Details'!$B$17","v":"5th June 2016"},null,{"$f":"'Event Details'!$C$27","v":"F"},{"$f":"'Event Details'!$D$27","v":"Tamworth"},null,{"$f":"'Event Details'!$B$17","v":"5th June 2016"},null,{"$f":"'Event Details'!$C$28","v":"X"},{"$f":"'Event Details'!$D$28","v":"Wreake Runners"},null,{"$f":"'Event Details'!$B$17","v":"5th June 2016"},null,{"$f":"'Event Details'!$C$29","v":"Y"},{"$f":"'Event Details'!$D$29","v":"Worcester"},null,{"$f":"'Event Details'!$B$17","v":"5th June 2016"}]
[null,null,"Only 2 non scorers allowed per race"]
[]
[null,"Event","Time","Events",null,null,"No","A String","No","B String",null,"No","A String","No","B String",null,"No","A String","No","B String",null,"No","A String","No","B String",null,"No","A String","No","B String",null,"No","A String","No","B String",null,"No","A String","No","B String",null,"No","A String","No","B String",null,"No","A String","No","B String",null,"No","A String","No","B String"]
[null,null,null,"Under 11 Male"]
[null,2,{"$f":"IF($B8>0,VLOOKUP($B8,EventsOrder,2,FALSE),\" \")","v":11.45},{"$f":"IF($B8>0,VLOOKUP($B8,EventsOrder,6,FALSE),\" \")","v":"Howler "},null,null,null,"Archie Street",null,"Toby Jones",null,null,"Seion Alexander","PP","Timothy Jones",null,null,"Corey Lees",null,"Reece Lees",null,null,"Alfie Frayne","II","Aaron Holloway",null,null,"Quinn Miell-Ingram",null,"Caspar Cumberland",null,null,null,null,null,null,null,"Jonty Brotherton",null,"Sam Orange",null,null,"Linus Burnage",null,"Ellis Hartland",null,null,null,null,null,null,null,{"$f":"CONCATENATE(LEFT(BA$3,3),$B8,LEFT(BA$6,1))","v":"2A"},null,{"$f":"CONCATENATE(LEFT(BA$3,3),$B8,LEFT(BC$6,1))","v":"2B"}]
[null,14,{"$f":"IF($B9>0,VLOOKUP($B9,EventsOrder,2,FALSE),\" \")","v":12.3},{"$f":"IF($B9>0,VLOOKUP($B9,EventsOrder,6,FALSE),\" \")","v":"Long Jump Pit 1"},null,null,null,"Ethan Aldous",null,"Archie Street",null,null,"Joshua Parker","PP","Seion Alexander",null,null,"Joel Harrison",null,null,null,null,"Aaron Holloway","II","Theo Crick",null,null,"Quinn Miell-Ingram",null,"Jake Edwards",null,null,"Ashley Johnson","FF",null,null,null,"Sam Orange",null,"Jonty Brotherton",null,null,"Harry Ferrett",null,"Jack Adams",null,null,null,null,null,null,null,{"$f":"CONCATENATE(LEFT(BA$3,3),$B9,LEFT(BA$6,1))","v":"14A"},null,{"$f":"CONCATENATE(LEFT(BA$3,3),$B9,LEFT(BC$6,1))","v":"14B"}]
[null,33,{"$f":"IF($B10>0,VLOOKUP($B10,EventsOrder,2,FALSE),\" \")","v":2},{"$f":"IF($B10>0,VLOOKUP($B10,EventsOrder,6,FALSE),\" \")","v":"600m "},null,null,null,"Ethan Aldous",null,"Ruben Snelson",null,null,"Timothy Jones","PP","Seion Alexander",null,null,"Corey Lees",null,"Reece Lees",null,null,"Alfie Frayne","II","Theo Crick",null,null,"Quinn Miell-Ingram",null,"Jake Edwards",null,null,"Luca Bradley","FF","Ashley Johnson",null,null,"Jonty Brotherton",null,"Theo York",null,null,"Ellis Hartland",null,"Jack Adams",null,null,null,null,null,null,null,"33A",null,"33B"]
[null,61,{"$f":"IF($B11>0,VLOOKUP($B11,EventsOrder,2,FALSE),\" \")","v":3.2},{"$f":"IF($B11>0,VLOOKUP($B11,EventsOrder,6,FALSE),\" \")","v":"75m "},null,null,null,"Ethan Aldous",null,"Leo Anderson",null,null,"Joshua Parker","PP","Timothy Jones",null,null,"Joel Harrison",null,null,null,null,"Aaron Holloway","II","Oliver McAllister",null,null,"Jake Edwards",null,"Caspar Cumberland",null,null,"Luca Bradley","FF","Ashley Johnson",null,null,"Theo York",null,"Sam Orange",null,null,"Linus Burnage",null,"Harry Ferrett"]
[null,"Non-Scoring",null,null,null,null,"No's","(enter Competitor No)","No's","(enter Competitor No)",null,"No's","(enter Competitor No)","No's","(enter Competitor No)",null,"No's","(enter Competitor No)","No's","(enter Competitor No)",null,"No's","(enter Competitor No)","No's","(enter Competitor No)",null,"No's","(enter Competitor No)","No's","(enter Competitor No)",null,"No's","(enter Competitor No)","No's","(enter Competitor No)",null,"No's","(enter Competitor No)","No's","(enter Competitor No)",null,"No's","(enter Competitor No)","No's","(enter Competitor No)",null,"No's","(enter Competitor No)","No's","(enter Competitor No)",null,"No's","(enter Competitor No)","No's","(enter Competitor No)"]
[null,null,{"$f":"IF($B13>0,VLOOKUP($B13,EventsOrder,2,FALSE),\" \")","v":" "},{"$f":"IF($B13>0,VLOOKUP($B13,EventsOrder,6,FALSE),\" \")","v":" "},null,null,null,null,null,null,null,null,null,null,null,null,null,null,null,null,null,null,null,null,null,null,null,null,null,null,null,null,null,null,null,null,null,null,null,null,null,null,null,null,null,null,null,null,null,null,null,{"$f":"$B13","v":0},{"$f":"CONCATENATE(LEFT(BA$3,3),$B13,LEFT(BA$6,1))","v":"A"},{"$f":"$B13","v":0},{"$f":"CONCATENATE(LEFT(BA$3,3),$B13,LEFT(BC$6,1))","v":"B"}]
[null,34,{"$f":"IF($B14>0,VLOOKUP($B14,EventsOrder,2,FALSE),\" \")","v":2.0499999999999998},{"$f":"IF($B14>0,VLOOKUP($B14,EventsOrder,6,FALSE),\" \")","v":"600m NS"},null,null,554,"Leo Anderson",555,"Archie Street",null,null,null,null,null,null,null,null,null,null,null,61,"Ellis Watts",null,null,null,null,null,524,"Caspar Cumberland",null,null,null,null,null,null,null,null,null,null,null,107,"Henry Adams",108,"Linus Burnage",null,null,null,null,null,null,{"$f":"$B14","v":34},"34A",{"$f":"$B14","v":34},"34B"]
[null,62,{"$f":"IF($B15>0,VLOOKUP($B15,EventsOrder,2,FALSE),\" \")","v":3.25},{"$f":"IF($B15>0,VLOOKUP($B15,EventsOrder,6,FALSE),\" \")","v":"75m NS"},null,null,556,"Toby Jones",557,"Ruben Snelson",null,null,null,null,null,null,null,null,null,null,null,58,"Theo Crick",59,"Ellis Watts",null,null,null,null,null,null,null,null,null,null,null,null,null,null,null,null,107,"Henry Adams",109,"Jack Adams",null,null,null,null,null,null,62,"62A",62,"62B"]
[null,null," "," "]
[null,"Event","Time","Events",null,null,"No","A String","No","B String",null,"No","A String","No","B String",null,"No","A String","No","B String",null,"No","A String","No","B String",null,"No","A String","No","B String",null,"No","A String","No","B String",null,"No","A String","No","B String",null,"No","A String","No","B String",null,"No","A String","No","B String",null,"No","A String","No","B String"]
[null,null,null,"Under 13 Male"]
[null,5,{"$f":"IF($B19>0,VLOOKUP($B19,EventsOrder,2,FALSE),\" \")","v":12},{"$f":"IF($B19>0,VLOOKUP($B19,EventsOrder,6,FALSE),\" \")","v":"High Jump "},null,null,null,null,null,null,null,"P","Ben Groves",null,"A String only",null,null,"Jack Compton",null,null,null,null,"Cole Sinnott",null,"A String only",null,null,"Theau Seabrook",null,"A String only",null,null,null,null,null,null,null,null,null,"A String only",null,null,"Jacob Khan",null,"A String only",null,null,null,null,null,null,null,{"$f":"CONCATENATE(LEFT(BA$3,3),$B19,LEFT(BA$6,1))","v":"5A"},null,"A String only"]
[null,12,12.2,"800m ",null,null,null,"Archie Jones",null,null,null,"P","Michael Cadle","PP","Ciaran Flynn",null,null,"John Sparry",null,null,null,null,"Ben Brooker","II","Joshua Geddes",null,null,"Rowan Miell-Ingram",null,"Roan Stillion",null,null,"Daniel Aston","FF","Kian Dickson",null,null,"Ethan Patel",null,"Euan Gibbs",null,null,"Ben Harle",null,"Riley Carpenter",null,null,null,null,null,null,null,{"$f":"CONCATENATE(LEFT(BA$3,3),$B20,LEFT(BA$6,1))","v":"12A"},null,{"$f":"CONCATENATE(LEFT(BA$3,3),$B20,LEFT(BC$6,1))","v":"12B"}]
[null,15,12.35,"75m hurdles ",null,null,null,"Christopher Charles",null,null,null,"P","Samuel Rayson","PP","Callum Hewett",null,null,null,null,null,null,null,"Oliver Laskey",null,null,null,null,"Theau Seabrook",null,"Josh Cumberland",null,null,null,null,null,null,null,null,null,null,null,null,"Alfie Robbins",null,null,null,null,null,null,null,null,null,"15A",null,"15B"]
[null,24,1,"Javelin Match 1 & 3",null,null,null,null,null,null,null,null,null,null,null,null,null,null,null,null,null,null,null,null,null,null,null,null,null,null,null,null,null,null,null,null,null,null,null,null,null,null,null,null,null,null,null,null,null,null,null,null,"24A",null,"24B"]
[null,41,2.25,"100m ",null,null,null,"Christopher Charles",null,"Archie Jones",null,"P","Ryan Simpson","PP","Michael Cadle",null,null,"Jack Compton",null,"Tom Fallon",null,null,"Max Mowforth","II","Cole Sinnott",null,null,"Samuel Rose",null,"Theau Seabrook",null,null,"Oran Au","FF","Kai Buckley",null,null,"David Seidu",null,"Mackenzie Bloxham",null,null,"Adam Dudley",null,"Harry Cunningham",null,null,null,null,null,null,null,"41A",null,"41B"]
[null,52,2.4,"Shot ",null,null,null,"Charlie Evans",null,null,null,"P","Samuel Rayson","PP","Sean Lock",null,null,"John Sparry",null,"Nathan Pearson",null,null,"Samuel Harrison","II","Ben Brooker",null,null,"Benjamin Cumberland",null,"Rowan Miell-Ingram",null,null,"Kai Buckley","FF","Daniel Aston",null,null,"David Seidu",null,"Matthew Reuben",null,null,"Alex Santafe",null,"Spike Burnage",null,null,null,null,null,null,null,"52A",null,"52B"]
[null,64,{"$f":"IF($B25>0,VLOOKUP($B25,EventsOrder,2,FALSE),\" \")","v":3.2},{"$f":"IF($B25>0,VLOOKUP($B25,EventsOrder,6,FALSE),\" \")","v":"Long Jump Pit 2"},null,null,null,"Archie Jones",null,null,null,"P","Ben Groves","PP","Samuel Rayson",null,null,"Jack Compton",null,"Nathan Pearson",null,null,"Cole Sinnott","II","Oliver Laskey",null,null,"Benjamin Cumberland",null,"Samuel Rose",null,null,"Kai Buckley","FF","Oran Au",null,null,"Euan Gibbs",null,"Matthew Reuben",null,null,"Harry Cunningham",null,"Reuben Taylor-George",null,null,null,null,null,null,null,"64A",null,"64B"]
[null,70,3.5,"200m ",null,null,null,"Christopher Charles",null,null,null,"P","Callum Hewett","PP","Ryan Simpson",null,null,"Tom Fallon",null,"Nathan Pearson",null,null,"Max Mowforth","II","Samuel Harrison",null,null,"Samuel Rose",null,"Joshua Cumberlnad",null,null,"Oran Au","FF","Kian Dickson",null,null,"David Seidu",null,"Ethan Patel",null,null,"Adam Dudley",null,"Reuben Taylor-George",null,null,null,null,null,null,null,"70A",null,"70B"]
[null,73,4.2,"1500m ",null,null,null,null,null,null,null,"P","Sean Lock","PP","Ben Groves",null,null,null,null,null,null,null,"Ollie Read",null,null,null,null,"Benjamin Cumberland",null,"Euan Stillion",null,null,null,null,null,null,null,"Mackenzie Bloxham",null,"Matthew Reuben",null,null,"Ronan Williams",null,"Hugo Robinson",null,null,null,null,null,null,null,"73A",null,"73B"]
[null,78,4.2,"Discus Match 2",null,null,null,"Charlie Evans",null,null,null,"P","Callum Hewett","PP","Ryan Simpson",null,null,"John Sparry",null,null,null,null,null,null,null,null,null,"Joshua Cumberland",null,"Roan Stillion",null,null,"Daniel Aston","FF","Kian Dickson",null,null,"Ethan Patel",null,"Euan Gibbs",null,null,"Alex Santafe",null,"Riley Carpenter",null,null,null,null,null,null,null,"78A",null,"78B"]
[null,85,5.0999999999999996,"4 x 100m ",null,null,null,{"$f":"H$3","v":"Banbury"},null,null,null,null,null,null,null,null,null,{"$f":"R$3","v":"Dudley & S'bridge"},null,null,null,null,null,null,null,null,null,null,null,null,null,null,null,null,null,null,null,null,null,null,null,null,null,null,null,null,null,{"$f":"AV$3","v":0},null,null,null,null,{"$f":"BA$3","v":0}]
[null,{"$f":"B29&\"R\"","v":"85R"},null,null,null,null,1,null,2,null,null,1,"Ben Groves",2,"Ciaran Flynn",null,1,"Jack Compton",2,"Nathan Pearson",null,1,"Cole Sinnott",2,"Oliver Laskey",null,1,"Theau Seabrrok",2,"Roan Stillion",null,1,"Daniel Aston",2,"Kian Dickson",null,1,"David Seidu",2,"Mackenzie Bloxham",null,1,"Ronan Williams",2,"Adam Dudley",null,1,null,2,null,null,1,{"$f":"CONCATENATE(LEFT(BA$3,3),$B30,LEFT(BA$6,1))","v":"85RA"},2,{"$f":"CONCATENATE(LEFT(BA$3,3),$B30,LEFT(BC$6,1))","v":"85RB"}]
[null,{"$f":"B29&\"S\"","v":"85S"},null,null,null,null,3,null,4,null,null,3,"Callum Hewett",4,"Ryan Simpson",null,3,"Tom Fallon",4,"John Sparry",null,3,"Samuel Harrison",4,"Max Mowforth",null,3,"Samuel Rose",4,"Benjanim Cumberland",null,3,"Kai Buckley",4,"Oran Au",null,3,"Euan Gibbs",4,"Ethan Patel",null,3,"Reuben Taylor-George",4,"Jacob Khan",null,3,null,4,null,null,3,"85SA",4,"85SB"]
[null,null," "," "]
[]
[null,"Event","Time","Events",null,null,"No","A String","No","B String",null,"No","A String","No","B String",null,"No","A String","No","B String",null,"No","A String","No","B String",null,"No","A String","No","B String",null,"No","A String","No","B String",null,"No","A String","No","B String",null,"No","A String","No","B String",null,"No","A String","No","B String",null,"No","A String","No","B String"]
[null,null,null,"Under 15 Male"]
[null,6,{"$f":"IF($B36>0,VLOOKUP($B36,EventsOrder,2,FALSE),\" \")","v":12},{"$f":"IF($B36>0,VLOOKUP($B36,EventsOrder,6,FALSE),\" \")","v":"Long Jump Pit 2"},null,null,null,"Will Andrews",null,null,null,"P","Jamil Welham","PP",null,null,null,"Zak Thurley",null,null,null,null,"Ethan Nelis",null,null,null,null,"Daniel Gifford",null,null,null,null,null,null,null,null,null,null,null,null,null,null,"Darian Moore",null,"Marco Miller",null,null,null,null,null,null,null,{"$f":"CONCATENATE(LEFT(BA$3,3),$B36,LEFT(BA$6,1))","v":"6A"},null,{"$f":"CONCATENATE(LEFT(BA$3,3),$B36,LEFT(BC$6,1))","v":"6B"}]
[null,16,12.4,"800m ",null,null,null,null,null,null,null,"P",null,"PP",null,null,null,"Tom Slater",null,"Adam Boon",null,null,"Dylan Bowley",null,null,null,null,null,null,null,null,null,"James Walker",null,null,null,null,null,null,null,null,null,"Sam Davey",null,"Reece Westwood",null,null,null,null,null,null,null,"16A",null,"16B"]
[null,20,1.05,"80m hurdles ",null,null,null,null,null,null,null,"P",null,"PP",null,null,null,null,null,null,null,null,"Lewis-Morgan Barton",null,null,null,null,null,null,null,null,null,null,null,null,null,null,null,null,null,null,null,null,null,null,null,null,null,null,null,null,null,"20A",null,"20B"]
[null,22,1,"Shot ",null,null,null,null,null,null,null,"P","Will Simms","PP","Samuel Worfolk",null,null,"Zak Thurley",null,"Harry Walters",null,null,"Dylan Bowley","II","Ethan Nelis",null,null,"Will Smith",null,"Cameron King",null,null,"James Walker",null,null,null,null,"Euan Jones",null,"Josh Rocks",null,null,"Andrew Jay",null,"Reece Westwood",null,null,null,null,null,null,null,"22A",null,"22B"]
[null,39,1.5,"Javelin Match 1 & 3",null,null,null,null,null,null,null,null,null,null,null,null,null,null,null,null,null,null,null,null,null,null,null,null,null,null,null,null,null,null,null,null,null,null,null,null,null,null,null,null,null,null,null,null,null,null,null,null,"39A",null,"39B"]
[null,42,2.2999999999999998,"100m ",null,null,null,"WillAndrews",null,null,null,"P","Will Simms","PP",null,null,null,"Talinder Kumar",null,"Jamie Tranter",null,null,"Dylan Mukhtar",null,null,null,null,"Daniel Gifford",null,"Richard Bungay",null,null,"James Sherriff",null,null,null,null,"Euan Jones",null,"Josh Rocks",null,null,"Marco Miller",null,"Charlie Bloomfield",null,null,null,null,null,null,null,"42A",null,"42B"]
[null,45,2.25,"High Jump ",null,null,null,null,null,null,null,"P","Jamil Welham",null,"A String only",null,null,"Tom Slater",null,null,null,null,"Lewis-Morgan Barton",null,"A String only",null,null,null,null,"A String only",null,null,null,null,"A String only",null,null,null,null,"A String only",null,null,"Andrew Jay",null,"A String only",null,null,null,null,null,null,null,{"$f":"CONCATENATE(LEFT(BA$3,3),$B42,LEFT(BA$6,1))","v":"45A"},null,"A String only"]
[null,55,{"$f":"IF($B43>0,VLOOKUP($B43,EventsOrder,2,FALSE),\" \")","v":2.5499999999999998},{"$f":"IF($B43>0,VLOOKUP($B43,EventsOrder,6,FALSE),\" \")","v":"300m "},null,null,null,"Skip Snelson",null,null,null,"P","Jamil Welham","PP",null,null,null,"Adam Boon",null,"Talinder Kumar",null,null,"Henri Codling","II","Ethan Nelis",null,null,"Cameron King",null,"Richard Bungay",null,null,"Max Kent",null,null,null,null,"Roman Watson-Quilter",null,"Lucca Watson-Quilter",null,null,"Sam Davey",null,null,null,null,null,null,null,null,null,{"$f":"CONCATENATE(LEFT(BA$3,3),$B43,LEFT(BA$6,1))","v":"55A"},null,{"$f":"CONCATENATE(LEFT(BA$3,3),$B43,LEFT(BC$6,1))","v":"55B"}]
[null,66,3.3,"Discus Match 2",null,null,null,null,null,null,null,"P","Will Simms","PP","Samuel Worfolk",null,null,"Zak Thurley",null,"Harry Walters",null,null,"Henri Codling","II","Dylan Bowley",null,null,"Will Smith",null,null,null,null,"James Sherriff","FF","Max Kent",null,null,"Roman Watson-Quilter",null,"Lucca Watson-Quilter",null,null,"Reece Westwood",null,null,null,null,null,null,null,null,null,"66A",null,"66B"]
[null,71,3.55,"200m ",null,null,null,"Will Andrews",null,null,null,"P",null,"PP",null,null,null,"Tom Slater",null,"Jamie Tranter",null,null,"Dylan Mukhtar","II","Lewis-Morgan Barton",null,null,"Daniel Gifford",null,"Richard Bungay",null,null,"James Walker",null,null,null,null,"Euan Jones",null,"Josh Rocks",null,null,"Darian Moore",null,"Andrew Jay",null,null,null,null,null,null,null,"71A",null,"71B"]
[null,76,4.3,"1500m ",null,null,null,"Skip Snelson",null,null,null,"P","Samuel Worfolk","PP",null,null,null,"Harry Walters",null,null,null,null,"Oliver Sutton",null,null,null,null,"Cameron King",null,null,null,null,"Max Kent","FF","James Sherriff",null,null,"Roman Watson-Quilter",null,"Lucca Watson-Quilter",null,null,"James Dale",null,"Josh Williams",null,null,null,null,null,null,null,"76A",null,"76B"]
[null,86,5.15,"4 x 100m ",null,null,null,{"$f":"H$3","v":"Banbury"},null,null,null,null,{"$f":"I4","v":0},null,null,null,null,{"$f":"R$3","v":"Dudley & S'bridge"},null,null,null,null,"Kettering Town Harriers",null,null,null,null,{"$f":"AB$3","v":"Radley"},null,null,null,null,{"$f":"AG$3","v":"Tamworth"},null,null,null,null,"Wreake Runners",null,null,null,null,"Worcester",null,null,null,null,{"$f":"AV$3","v":0},null,null,null,null,{"$f":"BA$3","v":0}]
[null,{"$f":"B47&\"R\"","v":"86R"},null,null,null,null,1,null,2,null,null,1,null,2,null,null,1,"Tom Slater",2,"Jamie Tranter",null,1,"Lewis-Morgan Barton",2,"Dylan Bowley",null,1,null,2,null,null,1,null,2,null,null,1,"Euan Jones",2,"Josh Rocks",null,1,"Charlie Bloomfield",2,"Andrew Jay",null,1,null,2,null,null,1,{"$f":"CONCATENATE(LEFT(BA$3,3),$B48,LEFT(BA$6,1))","v":"86RA"},2,{"$f":"CONCATENATE(LEFT(BA$3,3),$B48,LEFT(BC$6,1))","v":"86RB"}]
[null,{"$f":"B47&\"S\"","v":"86S"},null,null,null,null,3,null,4,null,null,3,null,4,null,null,3,"Talinder Kumar",4,"Adam Boon",null,3,"Dylan Mukhtar",4,"Henri-Codling",null,3,null,4,null,null,3,null,4,null,null,3,"Roman Watson-Quilter",4,"Lucca Watson-Quilter",null,3,"Marco Miller",4,"Darian Moore",null,3,null,4,null,null,3,"86SA",4,"86SB"]
[null,null," "," "]
[]
[null,"Event","Time","Events",null,null,"No","A String","No","B String",null,"No","A String","No","B String",null,"No","A String","No","B String",null,"No","A String","No","B String",null,"No","A String","No","B String",null,"No","A String","No","B String",null,"No","A String","No","B String",null,"No","A String","No","B String",null,"No","A String","No","B String",null,"No","A String","No","B String"]
[null,null,null,"Under 17 Male"]
[null,8,{"$f":"IF($B54>0,VLOOKUP($B54,EventsOrder,2,FALSE),\" \")","v":12.15},{"$f":"IF($B54>0,VLOOKUP($B54,EventsOrder,6,FALSE),\" \")","v":"Shot "},null,null,null,null,null,null,null,null,null,null,null,null,null,null,null,null,null,null,"Josh Cannell","II",null,null,null,"Harry Woodcock",null,"Rory Sear",null,null,null,null,null,null,null,"Charlie McGlinchey",null,"George Palmer",null,null,"Reiss Francis",null,"Josh Bentley",null,null,null,null,null,null,null,{"$f":"CONCATENATE(LEFT(BA$3,3),$B54,LEFT(BA$6,1))","v":"8A"},null,{"$f":"CONCATENATE(LEFT(BA$3,3),$B54,LEFT(BC$6,1))","v":"8B"}]
[null,18,12.5,"800m ",null,null,null,null,null,null,null,null,null,null,null,null,null,"Jayvana Pramolo",null,null,null,null,null,null,null,null,null,"Blake Strickland Bennett",null,"Rory Sear",null,null,null,null,null,null,null,"Charlie McGlinchey",null,"George Palmer",null,null,"Phil Capewell",null,"Jacob Harding",null,null,null,null,null,null,null,"18A",null,"18B"]
[null,23,1,"Discus Match 2",null,null,null,null,null,null,null,null,null,null,null,null,null,null,null,null,null,null,"Josh Cannell","II",null,null,null,"Harry Woodcock",null,"Sam Nelson",null,null,null,null,null,null,null,"Chris Nealon",null,null,null,null,"Phil Capewell",null,null,null,null,null,null,null,null,null,"23A",null,"23B"]
[null,27,1.35,"100m hurdles ",null,null,null,null,null,null,null,null,null,null,null,null,null,null,null,null,null,null,null,null,null,null,null,"Blake Strickland Bennett",null,"Harry New",null,null,null,null,null,null,null,null,null,null,null,null,null,null,null,null,null,null,null,null,null,null,"27A",null,"27B"]
[null,32,1.3,"Long Jump Pit1",null,null,null,"Charlie Yates",null,null,null,null,null,null,null,null,null,"Jayvana Pramolo",null,null,null,null,null,null,null,null,null,"Elliot Couse",null,"Blake Strickland Bennett",null,null,"Andrew Woods",null,null,null,null,"Charlie McGlinchey",null,null,null,null,"Ollie Gould",null,"Josh Bentley",null,null,null,null,null,null,null,"32A",null,"32B"]
[null,43,2.35,"100m ",null,null,null,"Ollie Sprio",null,"Felix Noble",null,null,null,null,null,null,null,null,null,null,null,null,"Tyrese Paris-Smith","II","Achim Loibl",null,null,"Harry New",null,"Brett Halsey",null,null,null,null,null,null,null,null,null,null,null,null,"Claudio Oliviera",null,"Reiss Francis",null,null,null,null,null,null,null,"43A",null,"43B"]
[null,57,3,"400m ",null,null,null,null,null,null,null,null,null,null,null,null,null,"Jayvana Pramolo",null,null,null,null,"Chris Owen","II","Josh Owen",null,null,"Rory Sear",null,"Sam Nelson",null,null,"Andrew Woods",null,null,null,null,"George Palmer",null,"Chris Nealon",null,null,"Sam Lowe",null,null,null,null,null,null,null,null,null,"57A",null,"57B"]
[null,67,{"$f":"IF($B61>0,VLOOKUP($B61,EventsOrder,2,FALSE),\" \")","v":3.3},{"$f":"IF($B61>0,VLOOKUP($B61,EventsOrder,6,FALSE),\" \")","v":"Javelin Match 1 & 3"},null,null,null,null,null,null,null,null,null,null,null,null,null,null,null,null,null,null,null,null,null,null,null,null,null,null,null,null,null,null,null,null,null,null,null,null,null,null,null,null,null,null,null,null,null,null,null,null,"67A",null,"67B"]
[null,72,4,"200m ",null,null,null,"Ollie Sprio",null,"Felix Noble",null,null,null,null,null,null,null,null,null,null,null,null,"Tyrese Paris-Smith","II","Achim Loibl",null,null,"Harry New",null,"Elliot Couse",null,null,null,null,null,null,null,null,null,null,null,null,"Ollie Gould",null,"Josh Bentley",null,null,null,null,null,null,null,"72A",null,"72B"]
[null,74,4.0999999999999996,"High Jump ",null,null,null,"Charlie Yates",null,"A String only",null,null,null,null,null,null,null,null,null,null,null,null,null,null,"A String only",null,null,"Brett Halsey",null,"A String only",null,null,null,null,null,null,null,null,null,"A String only",null,null,"Reiss Francis",null,"A String only",null,null,null,null,null,null,null,{"$f":"CONCATENATE(LEFT(BA$3,3),$B63,LEFT(BA$6,1))","v":"74A"},null,"A String only"]
[null,80,4.4000000000000004,"1500m ",null,null,null,"Reuben Trotter",null,null,null,null,null,null,null,null,null,null,null,null,null,null,"Josh Cannell","II","Josh Owen",null,null,null,null,null,null,null,"Andrew Woods",null,null,null,null,"Charlie McGlinchey",null,null,null,null,"Jake Cavens",null,"Phil Capewell",null,null,null,null,null,null,null,{"$f":"CONCATENATE(LEFT(BA$3,3),$B64,LEFT(BA$6,1))","v":"80A"},null,{"$f":"CONCATENATE(LEFT(BA$3,3),$B64,LEFT(BC$6,1))","v":"80B"}]
[null,87,5.2,"4 x 100m ",null,null,null,{"$f":"H$3","v":"Banbury"},null,null,null,null,{"$f":"M$3","v":"Bicester"},null,null,null,null,{"$f":"R$3","v":"Dudley & S'bridge"},null,null,null,null,"Kettering Town Harriers",null,null,null,null,{"$f":"AB$3","v":"Radley"},null,null,null,null,{"$f":"AG$3","v":"Tamworth"},null,null,null,null,"",null,null,null,null,"Worcester",null,null,null,null,{"$f":"AV$3","v":0},null,null,null,null,{"$f":"BA$3","v":0}]
[null,{"$f":"B65&\"R\"","v":"87R"},null,null,null,null,1,null,2,null,null,1,null,2,null,null,1,null,2,null,null,1,"Tyrese Paris-Smith",2,"Achim Loibl",null,1,"Harry New",2,"Brett Halsey",null,1,null,2,null,null,1,null,2,null,null,1,"Josh Bentley",2,"Reiss Francis",null,1,null,2,null,null,1,{"$f":"CONCATENATE(LEFT(BA$3,3),$B66,LEFT(BA$6,1))","v":"87RA"},2,{"$f":"CONCATENATE(LEFT(BA$3,3),$B66,LEFT(BC$6,1))","v":"87RB"}]
[null,{"$f":"B65&\"S\"","v":"87S"},null,null,null,null,3,null,4,null,null,3,null,4,null,null,3,null,4,null,null,3,"Josh Cannell",4,"Josh Owen",null,3,"Blake Strickland Bennett",4,"Sam Nelson",null,3,null,4,null,null,3,null,4,null,null,3,"Sam Lowe",4,"Ollie Gould",null,3,null,4,null,null,3,"87SA",4,"87SB"]
[null,null," "," "]
[]
[]
[]
[null,null,"Guests - Non-Scoring"]
[]
[null,"Event","Time","Events",null,null,"No","A String",null,null,null,"No","A String",null,null,null,"No","A String",null,null,null,"No","A String",null,null,null,"No","A String",null,null,null,"No","A String",null,null,null,"No","A String",null,null,null,"No","A String",null,null,null,"No","A String",null,null,null,"No","A String"]
[]
[null,null,null,"Male"]
[null,91,{"$f":"IF($B77>0,VLOOKUP($B77,EventsOrder,2,FALSE),\" \")","v":12.2},{"$f":"IF($B77>0,VLOOKUP($B77,EventsOrder,6,FALSE),\" \")","v":"800m U13 Male"},null,null,null,null,null,null,null,null,null,null,null,null,null,null,null,null,null,null,null,null,null,null,null,null,null,null,null,null,null,null,null,null,null,null,null,null,null,113,"Theo Taylor-George",null,null,null,null,null,null,null,null,{"$f":"$B77","v":91},{"$f":"CONCATENATE(LEFT(BA$3,3),$B77,LEFT(BA$6,1))","v":"91A"}]
[null,92,12.4,"800m U15 Male",null,null,null,null,null,null,null,null,null,null,null,null,null,null,null,null,null,null,null,null,null,null,null,null,null,null,null,null,null,null,null,null,null,null,null,null,null,null,null,null,null,null,null,null,null,null,null,{"$f":"$B78","v":92},"92A"]
[null,93,12.5,"800m U17 Men",null,null,null,null,null,null,null,null,null,null,null,null,null,null,null,null,null,null,null,null,null,null,null,null,null,null,null,null,null,null,null,null,null,null,null,null,null,null,null,null,null,null,null,null,null,null,null,93,"93A"]
[null,97,4.2,"1500m U13 Male",null,null,null,null,null,null,null,null,null,null,null,null,null,null,null,null,null,null,null,null,null,null,null,null,null,null,null,null,null,null,null,null,null,null,null,null,null,149,"Josh Capewell",null,null,null,null,null,null,null,null,97,"97A"]
[null,98,4.3,"1500m U15 Male",null,null,null,null,null,null,null,null,null,null,null,null,null,null,null,null,null,null,null,null,null,null,null,null,null,null,null,null,null,null,null,null,null,null,null,null,null,null,null,null,null,null,null,null,null,null,null,98,"98A"]
[null,99,4.4000000000000004,"1500m U17 Men",null,null,null,null,null,null,null,null,null,null,null,null,null,null,null,null,null,null,null,null,null,null,null,null,null,null,null,null,null,null,null,null,null,null,null,null,null,null,null,null,null,null,null,null,null,null,null,99,"99A"]
[null,null," "," "]
[null,null," "," "]
[]
[]
[]
[]
[null,{"$f":"COLUMN(B1)","v":2},3,4,5,6,7,8,9,10,11,12,13,14,15,16,17,18,19,20,21,22,23,24,25,26,27,28,29,30,31,32,33,34,35,36,37,38,39,40,41,42,43,44,45]

{"sheet":"Teamsheet Female","index":5,"n_rows":88,"n_cols":55,"rows_kept":88,"cut":false,"hidden":false,"merged":[]}
[]
[null,null,"Heart of England League",null,null,null,null,"Female",null,null,null,null,"Female",null,null,null,null,"Female",null,null,null,null,"Female",null,null,null,null,"Female",null,null,null,null,"Female",null,null,null,null,"Female",null,null,null,null,"Female"]
[null,null,"Declaration Sheets",null,null,null,{"$f":"'Event Details'!$C$22","v":"J"},{"$f":"'Event Details'!$D$22","v":"Banbury"},null,{"$f":"'Event Details'!$B$17","v":"5th June 2016"},null,{"$f":"'Event Details'!$C$23","v":"P"},{"$f":"'Event Details'!$D$23","v":"Bicester"},null,{"$f":"'Event Details'!$B$17","v":"5th June 2016"},null,{"$f":"'Event Details'!$C$24","v":"B"},{"$f":"'Event Details'!$D$24","v":"Dudley & S'bridge"},null,{"$f":"'Event Details'!$B$17","v":"5th June 2016"},null,{"$f":"'Event Details'!$C$25","v":"I"},{"$f":"'Event Details'!$D$25","v":"Kettering"},null,{"$f":"'Event Details'!$B$17","v":"5th June 2016"},null,{"$f":"'Event Details'!$C$26","v":"R"},{"$f":"'Event Details'!$D$26","v":"Radley"},null,{"$f":"'Event Details'!$B$17","v":"5th June 2016"},null,{"$f":"'Event Details'!$C$27","v":"F"},{"$f":"'Event Details'!$D$27","v":"Tamworth"},null,{"$f":"'Event Details'!$B$17","v":"5th June 2016"},null,{"$f":"'Event Details'!$C$28","v":"X"},{"$f":"'Event Details'!$D$28","v":"Wreake Runners"},null,{"$f":"'Event Details'!$B$17","v":"5th June 2016"},null,{"$f":"'Event Details'!$C$29","v":"Y"},{"$f":"'Event Details'!$D$29","v":"Worcester"},null,{"$f":"'Event Details'!$B$17","v":"5th June 2016"}]
[null,null,"Only 2 non scorers allowed per race"]
[]
[null,"Event","Time","Events",null,null,"No","A String","No","B String",null,"No","A String","No","B String",null,"No","A String","No","B String",null,"No","A String","No","B String",null,"No","A String","No","B String",null,"No","A String","No","B String",null,"No","A String","No","B String",null,"No","A String","No","B String",null,"No","A String","No","B String",null,"No","A String","No","B String"]
[null,null,null,"Under 11 Female"]
[null,3,{"$f":"IF($B8>0,VLOOKUP($B8,EventsOrder,2,FALSE),\" \")","v":11.45},{"$f":"IF($B8>0,VLOOKUP($B8,EventsOrder,6,FALSE),\" \")","v":"Howler "},null,null,null,"Eimear Moss",null,"Ellie Williams",null,null,"Imogen Cox","PP","Isla Bohannon",null,null,null,null,null,null,null,"Isabella Brockway","II","Niamh Sinnott",null,null,"Ainhara Ly",null,"Erin Bungay",null,null,null,null,null,null,null,"Isabelle Parker",null,"Harriett Lethridge",null,null,"Jasmine Stokes",null,"Posie Forrester",null,null,null,null,null,null,null,{"$f":"CONCATENATE(LEFT(BA$3,3),$B8,LEFT(BA$6,1))","v":"3A"},null,{"$f":"CONCATENATE(LEFT(BA$3,3),$B8,LEFT(BC$6,1))","v":"3B"}]
[null,29,{"$f":"IF($B9>0,VLOOKUP($B9,EventsOrder,2,FALSE),\" \")","v":1.5},{"$f":"IF($B9>0,VLOOKUP($B9,EventsOrder,6,FALSE),\" \")","v":"600m "},null,null,null,"Tilly Lainchbury",null,"Ellie Williams",null,null,"Imogen Cox","PP","Isla Bohannon",null,null,"Neve Gibbs",null,"Kiera Davis",null,null,"Niamh Sinnott","II","Isabella Brockway",null,null,"Lily Black",null,"Ainhara Ly",null,"F","Daisy Smith","FF","Madison Rose Blencowe",null,null,"Isla Cullen",null,"Sophie Dunbobbin",null,null,"Molly Davey",null,"Georgia Wharton",null,null,null,null,null,null,null,{"$f":"CONCATENATE(LEFT(BA$3,3),$B9,LEFT(BA$6,1))","v":"29A"},null,{"$f":"CONCATENATE(LEFT(BA$3,3),$B9,LEFT(BC$6,1))","v":"29B"}]
[null,44,{"$f":"IF($B10>0,VLOOKUP($B10,EventsOrder,2,FALSE),\" \")","v":2.1},{"$f":"IF($B10>0,VLOOKUP($B10,EventsOrder,6,FALSE),\" \")","v":"Long Jump Pit 2"},null,null,null,"Eimear Moss",null,"Tilly Lainchbury",null,null,"Imogen Cox","PP","Josephine Parker",null,null,"Ella Pearson",null,"Kiera Adams",null,null,"Kate Nelis","II","Isabella Brockway",null,null,"Audrey Winstone",null,"Lily Black",null,"F","Saoirse Au","FF","Angelica Ramkee",null,null,"Isla Cullen",null,"Sophie Dunbobbin",null,null,"Beth Hallam",null,"Alice Dixon",null,null,null,null,null,null,null,{"$f":"CONCATENATE(LEFT(BA$3,3),$B10,LEFT(BA$6,1))","v":"44A"},null,{"$f":"CONCATENATE(LEFT(BA$3,3),$B10,LEFT(BC$6,1))","v":"44B"}]
[null,58,{"$f":"IF($B11>0,VLOOKUP($B11,EventsOrder,2,FALSE),\" \")","v":3.1},{"$f":"IF($B11>0,VLOOKUP($B11,EventsOrder,6,FALSE),\" \")","v":"75m "},null,null,null,"Eimear Moss",null,"Ellie Williams",null,null,"Josephine Parker","PP","Isla Bohannon",null,null,"Kiera Adams",null,"Neve Gibbs",null,null,"Kate Nelis","II","Niamh Sinnott",null,null,"Audrey Winstone",null,"Lily Black",null,"F","Saoirse Au","FF","Angelica Ramkee",null,null,"Kiyomi Topham",null,"Bronte Cameron",null,null,"Molly Davey",null,"Georgia Wharton"]
[null,"Non-Scoring",null,null,null,null,"No's","(enter Competitor No)","No's","(enter Competitor No)",null,"No's","(enter Competitor No)","No's","(enter Competitor No)",null,"No's","(enter Competitor No)","No's","(enter Competitor No)",null,"No's","(enter Competitor No)","No's","(enter Competitor No)",null,"No's","(enter Competitor No)","No's","(enter Competitor No)",null,"No's","(enter Competitor No)","No's","(enter Competitor No)",null,"No's","(enter Competitor No)","No's","(enter Competitor No)",null,"No's","(enter Competitor No)","No's","(enter Competitor No)",null,"No's","(enter Competitor No)","No's","(enter Competitor No)",null,"No's","(enter Competitor No)","No's","(enter Competitor No)"]
[null,null,{"$f":"IF($B13>0,VLOOKUP($B13,EventsOrder,2,FALSE),\" \")","v":" "},{"$f":"IF($B13>0,VLOOKUP($B13,EventsOrder,6,FALSE),\" \")","v":" "},null,null,null,null,null,null,null,null,null,null,null,null,null,null,null,null,null,null,null,null,null,null,null,null,null,null,null,null,null,null,null,null,null,null,null,null,null,null,null,null,null,null,null,null,null,null,null,{"$f":"$B13","v":0},{"$f":"CONCATENATE(LEFT(BA$3,3),$B13,LEFT(BA$6,1))","v":"A"},{"$f":"$B13","v":0},{"$f":"CONCATENATE(LEFT(BA$3,3),$B13,LEFT(BC$6,1))","v":"B"}]
[null,30,{"$f":"IF($B14>0,VLOOKUP($B14,EventsOrder,2,FALSE),\" \")","v":1.55},{"$f":"IF($B14>0,VLOOKUP($B14,EventsOrder,6,FALSE),\" \")","v":"600m NS"},null,null,559,"Olivia Cook",null,null,null,null,null,null,null,null,null,null,null,null,null,null,null,null,null,null,523,"Audrey Winstone",525,"Erin Bungay",null,null,null,null,null,null,401,"Harriett Lethridge",402,"Isabelle Parker",null,110,"Posie Forrester",115,"Beth Hallam",null,null,null,null,null,null,{"$f":"$B14","v":30},{"$f":"CONCATENATE(LEFT(BA$3,3),$B14,LEFT(BA$6,1))","v":"30A"},{"$f":"$B14","v":30},{"$f":"CONCATENATE(LEFT(BA$3,3),$B14,LEFT(BC$6,1))","v":"30B"}]
[null,59,{"$f":"IF($B15>0,VLOOKUP($B15,EventsOrder,2,FALSE),\" \")","v":3.15},{"$f":"IF($B15>0,VLOOKUP($B15,EventsOrder,6,FALSE),\" \")","v":"75m   NS"},null,null,558,"Tilly Lainchbury",559,"Olivia Cook",null,null,null,null,null,null,201,"Ella Pearson",null,null,null,null,null,null,null,null,524,"Ainhara Ly",525,"Erin Bungay",null,25,"Daisy Smith",26,"Madison Rose Blencowe",null,401,"Harriett Lethridge",402,"Isabelle Parker",null,117,"Jasmine Stokes",120,"Alice Dixon",null,null,null,null,null,null,{"$f":"$B15","v":59},{"$f":"CONCATENATE(LEFT(BA$3,3),$B15,LEFT(BA$6,1))","v":"59A"},{"$f":"$B15","v":59},{"$f":"CONCATENATE(LEFT(BA$3,3),$B15,LEFT(BC$6,1))","v":"59B"}]
[null,81,{"$f":"IF($B16>0,VLOOKUP($B16,EventsOrder,2,FALSE),\" \")","v":4.5},{"$f":"IF($B16>0,VLOOKUP($B16,EventsOrder,6,FALSE),\" \")","v":"4 x 100m Mixed NS"},null,null,null,{"$f":"H$3","v":"Banbury"},null,null,null,null,{"$f":"M$3","v":"Bicester"},null,null,null,null,{"$f":"R$3","v":"Dudley & S'bridge"},null,null,null,null,{"$f":"W$3","v":"Kettering"},null,null,null,null,{"$f":"AB$3","v":"Radley"},null,null,null,null,{"$f":"AG$3","v":"Tamworth"},null,null,null,null,"Wreake Runners",null,null,null,null,{"$f":"AQ$3","v":"Worcester"},null,null,null,null,{"$f":"AV$3","v":0},null,null,null,null,{"$f":"BA$3","v":0}]
[null,{"$f":"B16&\"R\"","v":"81R"},null,null,null,null,1,"Tilly Lainchbury",2,"Ethan Aldous",null,1,"Isla Bohannon",2,"Josephine Parker",null,1,null,2,null,null,1,"Alfie Frayne",null,"Aaron Holloway",null,1,"Lily Black",2,"Audrey Winstone",null,1,"Daisy Smith",2,"Angelica Ramkee",null,1,"Kiyomi Topham",2,"Isla Cullen",null,1,"Beth Hallam",2,"Ellis Hartland",null,1,null,2,null,null,1,{"$f":"CONCATENATE(LEFT(BA$3,3),$B17,LEFT(BA$6,1))","v":"81RA"},2,{"$f":"CONCATENATE(LEFT(BC$3,3),$B17,LEFT(BC$6,1))","v":"81RB"}]
[null,{"$f":"B16&\"S\"","v":"81S"},null,null,null,null,3,"Eimear Moss",4,"Archie Street",null,3,"Seion Alexander",4,"Joshua Parker",null,3,null,4,null,null,3,"Kate Nelis",4,"Niamh Sinnott",null,3,"Jake Edwards",4,"Quinn Miell-Ingram",null,3,"Madison Rose Blencowe",4,"Saoirse Au",null,3,"Finley Venables",4,"Sam Orange",null,3,"Molly Davey",4,"Linus Burnage",null,3,null,4,null,null,3,"81SA",4,"81SB"]
[null,null," "," "]
[null,"Event","Time","Events",null,null,"No","A String","No","B String",null,"No","A String","No","B String",null,"No","A String","No","B String",null,"No","A String","No","B String",null,"No","A String","No","B String",null,"No","A String","No","B String",null,"No","A String","No","B String",null,"No","A String","No","B String",null,"No","A String","No","B String",null,"No","A String","No","B String"]
[null,null,null,"Under 13 Female"]
[null,1,{"$f":"IF($B22>0,VLOOKUP($B22,EventsOrder,2,FALSE),\" \")","v":11.45},{"$f":"IF($B22>0,VLOOKUP($B22,EventsOrder,6,FALSE),\" \")","v":"1500m "},null,null,null,"Nikola Bishop",null,null,null,null,"Georgia Usher",null,"Amelia Cox",null,null,"Kiera Avery",null,null,null,null,"Mia Brockway","II","Maddie Moxey",null,null,"Poppy Edwards",null,null,null,null,"Tegan Vickery",null,null,null,null,"Katie Parker",null,"Aoife Brotherton",null,null,"Ruby Jarman",null,"Megan Williams",null,null,null,null,null,null,null,{"$f":"CONCATENATE(LEFT(BA$3,3),$B22,LEFT(BA$6,1))","v":"1A"},null,{"$f":"CONCATENATE(LEFT(BA$3,3),$B22,LEFT(BC$6,1))","v":"1B"}]
[null,11,12.15,"70m hurdles ",null,null,null,"Tegan Armstrong",null,"Maddy Dowden",null,null,null,null,null,null,null,null,null,null,null,null,"Scarlett Maxwell-Munn","II","Imogen Nix",null,null,"Erin Mcmillan",null,"Maddison Hurley",null,null,"Niamh Kilgallen",null,null,null,null,"Flora Miskin-Young",null,"Indie King",null,null,"Lucy Marriott",null,"Amber Hopkins",null,null,null,null,null,null,null,"11A",null,{"$f":"CONCATENATE(LEFT(BA$3,3),$B23,LEFT(BC$6,1))","v":"11B"}]
[null,25,1.1499999999999999,"800m ",null,null,null,"Raegan Sellers",null,"Elizabeth Anderson",null,null,"Emilia Sims",null,"Erin Fabri",null,null,"Zara Gibbs",null,"Libby Davis",null,null,"Mia Watts","II","Imogen Nix",null,null,"Kaela Nelson",null,"Amelia Brew",null,null,"Emily Pearce","FF","Alice Mason",null,null,"Indie King",null,"Flora Miskin-Young",null,null,"Katelyn Griffiths",null,"Olivia Tonkinson",null,null,null,null,null,null,null,"25A",null,{"$f":"CONCATENATE(LEFT(BA$3,3),$B24,LEFT(BC$6,1))","v":"25B"}]
[null,31,1.4,"High Jump ",null,null,null,"Sophie Howie",null,"A String only",null,null,"Georgia Usher",null,"A String only",null,null,"Kiki Thurley",null,"A String only",null,null,"Scarlett Maxwell-Munn",null,"A String only",null,null,"Kaela Nelson",null,"A String only",null,null,"Sian Hubbard",null,"A String only",null,null,"Rebecca Cullen",null,"A String only",null,null,"Amber Hopkins",null,"A String only",null,null,null,null,null,null,null,"31A",null,"A String only"]
[null,35,2.1,"100m ",null,null,null,"Tegan Armstrong",null,"Maddy Dowden",null,null,"Erin Fabri",null,"Imogen Ansell",null,null,"Hannah Gadd",null,"Kiki Thurley",null,null,"Charlotte Cox","II","Robyn Beale",null,null,"Poppy Edwards",null,"Erin McMillian",null,null,"Niamh Kilgallen","FF","Emily Pearce",null,null,"Isobel Orencas",null,"Isabelle Wilson",null,null,"Lottie Bentley",null,"Evelyn Clarke",null,null,null,null,null,null,null,"35A",null,{"$f":"CONCATENATE(LEFT(BA$3,3),$B26,LEFT(BC$6,1))","v":"35B"}]
[null,38,1.5,"Discus Match 2",null,null,null,"Lucy Thompson",null,"Nikola Bishop",null,null,"Amber Parker",null,"Amelia Cox",null,null,"Zara Gibbs",null,"Alina Gunnard",null,null,"Charlotte Cox","II","Maddie Moxey",null,null,"Amelia Brew",null,null,null,null,"Alice Mason","FF","Emily Pearce",null,null,"Katie Parker",null,"Aoife Brotherton",null,null,"Lucy Marriott",null,"Amy Dale",null,null,null,null,null,null,null,"38A",null,"38B"]
[null,56,{"$f":"IF($B28>0,VLOOKUP($B28,EventsOrder,2,FALSE),\" \")","v":2.5},{"$f":"IF($B28>0,VLOOKUP($B28,EventsOrder,6,FALSE),\" \")","v":"Long Jump Pit 1"},null,null,null,"Tegan Armstrong",null,"Elizabeth Anderson",null,null,"Amelia Cox",null,"emilia simms",null,null,"Libby Davis",null,"Alina Gunnard",null,null,"Millie Webb","II","Robyn Beale",null,null,"Erin Mcmillan",null,"Poppy Edwards",null,null,"Sian Hubbard","FF","Niamh Kilgallen",null,null,"Isobel Orencas",null,"Flora Miskin-Young",null,null,"Katie Dudley",null,"Bethany Harris",null,null,null,null,null,null,null,"56A",null,"56B"]
[null,63,3.35,"200m ",null,null,null,"Raegan Sellers",null,"Sophie Howie",null,null,"Emilia Sims",null,"Imogen Ansell",null,null,"Hannah Gadd",null,"Libby Davis",null,null,"Millie Webb","II","Scarlett Maxwell-Munn",null,null,"Maddison Hurley",null,"Kaela Nelson",null,null,"Sian Hubbard","FF","Georgina Weal",null,null,"Isobel Orencas",null,"Rebecca Cullen",null,null,"Aimee Cochrane",null,"Jemima Hobby",null,null,null,null,null,null,null,"63A",null,"63B"]
[null,65,3.3,"Shot ",null,null,null,"Lucy Thompson",null,"Maddy Dowden",null,null,"Amber Parker",null,"Erin Fabri",null,null,"Zara Gibbs",null,"Alina Gunnard",null,null,"Charlotte Cox","II","Imogen Nix",null,null,"Amelia Brew",null,"Maddison Hurley",null,null,"Alice Mason","FF","Tegan Vickery",null,null,"Indie King",null,"Isabelle Wilson",null,null,"Ani Patrick",null,"Amber Hopkins",null,null,null,null,null,null,null,"65A",null,"65B"]
[null,79,4.2,"Javelin Match 1 & 3",null,null,null,null,null,null,null,null,null,null,null,null,null,null,null,null,null,null,null,null,null,null,null,null,null,null,null,null,null,null,null,null,null,null,null,null,null,null,null,null,null,null,null,null,null,null,null,null,"79A",null,"79B"]
[null,82,4.55,"4 x 100m ",null,null,null,"Banbury",null,null,null,null,"Bicester",null,null,null,null,{"$f":"R$3","v":"Dudley & S'bridge"},null,null,null,null,"Kettering Town Harriers",null,null,null,null,"Radley",null,null,null,null,{"$f":"AG$3","v":"Tamworth"},null,null,null,null,"Wreake Runners",null,null,null,null,"Worcester",null,null,null,null,{"$f":"AV$3","v":0},null,null,null,null,{"$f":"BA$3","v":0}]
[null,{"$f":"B32&\"R\"","v":"82R"},null,null,null,null,1,"Maddy Dowden",2,"Raegan Sellers",null,1,"Erin Fabri",2,"Emilia Simms",null,1,"Kiki Thurley",2,"Hannah Gadd",null,1,"Millie Webb",2,"Scarlett Maxwell-Munn",null,1,"Erin Mcmillan",2,"Kaela Nelson",null,1,"Niamh Kilgallen",2,"Tegan Vickery",null,1,"Isobel Orencas",2,"Flora Miskin-Young",null,1,"Lottie Bentley",2,"Aimee Cochrane",null,1,null,2,null,null,1,{"$f":"CONCATENATE(LEFT(BA$3,3),$B33,LEFT(BA$6,1))","v":"82RA"},2,{"$f":"CONCATENATE(LEFT(BC$3,3),$B33,LEFT(BC$6,1))","v":"82RB"}]
[null,{"$f":"B32&\"S\"","v":"82S"},null,null,null,null,3,"Sophie Howie",4,"Tegan Armstrong",null,3,"imogen ansell",4,"Amelia Cox",null,3,"Libby Davis",4,"Zara Gibbs",null,3,"Charlotte Cox",4,"Mia Brockway",null,3,"Poppy Edwards",4,"Maddison Hurley",null,3,"Emily Pearce",4,"Sian Hubbard",null,3,"Indie King",4,"Katie Parker",null,3,"Millie Stanley",4,"Jemima Hobby",null,3,null,4,null,null,3,"82SA",4,"82SB"]
[null,null," "," "]
[]
[null,"Event","Time","Events",null,null,"No","A String","No","B String",null,"No","A String","No","B String",null,"No","A String","No","B String",null,"No","A String","No","B String",null,"No","A String","No","B String",null,"No","A String","No","B String",null,"No","A String","No","B String",null,"No","A String","No","B String",null,"No","A String","No","B String",null,"No","A String","No","B String"]
[null,null,null,"Under 15 Female"]
[null,4,{"$f":"IF($B39>0,VLOOKUP($B39,EventsOrder,2,FALSE),\" \")","v":11.55},{"$f":"IF($B39>0,VLOOKUP($B39,EventsOrder,6,FALSE),\" \")","v":"1500m "},null,null,null,null,null,null,null,null,"Holly Hunter",null,null,null,null,"Jasmine Pramolo",null,null,null,null,"Daisy Robinson","II","Isabella Moxey",null,null,"Rachel Burton",null,"Hermione Jewel",null,null,"Eve Clawley",null,null,null,null,"Rachel Nealon",null,"Rosie Timlock",null,null,"Holly Love",null,"Lauren Matthews",null,null,null,null,null,null,null,{"$f":"CONCATENATE(LEFT(BA$3,3),$B39,LEFT(BA$6,1))","v":"4A"},null,{"$f":"CONCATENATE(LEFT(BA$3,3),$B39,LEFT(BC$6,1))","v":"4B"}]
[null,9,12.15,"Discus Match 2",null,null,null,"Elizabeth Eskender",null,"Emelina Darvell",null,null,"Molly Acton",null,null,null,null,"Grace Slater",null,"Jessica Grainger",null,null,"Matilda Braithwaite","II","Millie Toseland",null,null,"Rachel Burton",null,"Hermione Jewel",null,null,"Alice Jones",null,null,null,null,"Rachel Nealon",null,"Rosie Timlock",null,null,"Samantha Bowkett",null,"Katie Harris",null,null,null,null,null,null,null,"9A",null,{"$f":"CONCATENATE(LEFT(BA$3,3),$B40,LEFT(BC$6,1))","v":"9B"}]
[null,13,12.3,"75m hurdles ",null,null,null,"Sydney Sellers",null,null,null,null,"Holly Hunter",null,"Charotte Hewett",null,null,"Isobel Fisher",null,"Niamh Darby",null,null,"Matilda Braithwaite",null,null,null,null,"Holly Griffiths-Brown",null,"Hannah Mott",null,null,null,null,null,null,null,"Ravenn Cook",null,null,null,null,"Deanna Clarke",null,"Sarah-Jane Ollis",null,null,null,null,null,null,null,"13A",null,{"$f":"CONCATENATE(LEFT(BA$3,3),$B41,LEFT(BC$6,1))","v":"13B"}]
[null,17,12.55,"High Jump ",null,null,null,null,null,"A String only",null,null,null,null,"A String only",null,null,"Emma Shorwood",null,null,null,null,"Alex Beale",null,"A String only",null,null,"Holly Griffiths-Brown",null,"A String only",null,null,null,null,null,null,null,null,null,"A String only",null,null,"Danielle Hopkins",null,"A String only",null,null,null,null,null,null,null,"17A",null,"A String only"]
[null,21,1,"Long Jump Pit 2",null,null,null,"Emelina Darvell",null,"Elizabeth Eskender",null,null,"Lauren Garside",null,"Tia Brown",null,null,"Jessica Grainger",null,"Niamh Darby",null,null,"Blainne Conway","II","Harmony Hart",null,null,"Olivia Butler",null,"Robyn Swain",null,null,"Eve Clawley",null,null,null,null,"Poppy Tott-Buswell",null,"Sophie Thorpe",null,null,"Ellie Harrison",null,"Sarah-Jane Ollis",null,null,null,null,null,null,null,"21A",null,{"$f":"CONCATENATE(LEFT(BA$3,3),$B43,LEFT(BC$6,1))","v":"21B"}]
[null,26,1.25,"800m ",null,null,null,null,null,null,null,null,"Molly Acton",null,null,null,null,"Grace Slater",null,"Jasmine Pramolo",null,null,"Olivia Knibb",null,null,null,null,"Martha Adams",null,"Hannah Mott",null,null,"Sian Lewis",null,null,null,null,"Zena Challenger",null,"Sophie Thorpe",null,null,"Deanna Clarke",null,"Elise Blake",null,null,null,null,null,null,null,"26A",null,"26B"]
[null,36,2.15,"100m ",null,null,null,"Sydney Sellers",null,null,null,null,"Lauren Garside",null,"Charotte Hewett",null,null,"Isobel Fisher",null,"Niamh Darby",null,null,"Annabelle Clotworthy","II","Alex Beale",null,null,"Olivia Butler",null,"Robyn Swain",null,null,"Sian Lewis",null,null,null,null,"Josie Orange",null,"Poppy Tott-Buswell",null,null,"Sarah-Jane Ollis",null,null,null,null,null,null,null,null,null,"36A",null,"36B"]
[null,50,{"$f":"IF($B46>0,VLOOKUP($B46,EventsOrder,2,FALSE),\" \")","v":2.4},{"$f":"IF($B46>0,VLOOKUP($B46,EventsOrder,6,FALSE),\" \")","v":"300m "},null,null,null,"Sydney Sellers",null,"Elizabeth Eskender",null,null,"Molly Acton",null,null,null,null,"Emma Shorwood",null,"Claudia Lee",null,null,"Emily Williams","II","Blainne Conway",null,null,"Martha Adams",null,"Rachel Burton",null,null,"Sian Lewis",null,null,null,null,"Rachel Nealon",null,"Zena Challenger",null,null,"Danielle Hopkins",null,"Elise Blake",null,null,null,null,null,null,null,"50A",null,"50B"]
[null,54,2.4,"Javelin Match 1 & 3",null,null,null,null,null,null,null,null,null,null,null,null,null,null,null,null,null,null,null,null,null,null,null,null,null,null,null,null,null,null,null,null,null,null,null,null,null,null,null,null,null,null,null,null,null,null,null,null,"54A",null,"54B"]
[null,68,3.4,"200m ",null,null,null,"Emelina Darvell",null,null,null,null,"Charlotte Hewett",null,null,null,null,"Claudia Lee",null,"Grace Slater",null,null,"Ellen Smith","II","Harmony Hart",null,null,"Holly Griffiths-Brown",null,"Olivia Butler",null,null,"Eve Clawley",null,null,null,null,"Josie Orange",null,"Poppy Tott-Buswell",null,null,"Lydia Wehling",null,"Deanna Clarke",null,null,null,null,null,null,null,"68A",null,"68B"]
[null,77,4.2,"Shot ",null,null,null,"Emelina Darvell",null,"Maddison Cooper",null,null,"Lauren Garside",null,"Holly Hunter",null,null,"Jasmine Pramolo",null,"Jessica Grainger",null,null,"Matilda Braithwaite","II","Millie Toseland",null,null,"Hannah Mott",null,"Hermione Jewel",null,null,"Alice Jones",null,null,null,null,"Rosie Timlock",null,"Ravenn Cook",null,null,"Danielle Hopkins",null,"Katie Harris",null,null,null,null,null,null,null,"77A",null,"77B"]
[null,83,5,"4 x 100m ",null,null,null,null,null,null,null,null,"Bicester",null,null,null,null,{"$f":"R$3","v":"Dudley & S'bridge"},null,null,null,null,"Kettering Town Harriers",null,null,null,null,{"$f":"AB$3","v":"Radley"},null,null,null,null,{"$f":"AG$3","v":"Tamworth"},null,null,null,null,"Wreake Runners",null,null,null,null,"Worcester",null,null,null,null,{"$f":"AV$3","v":0},null,null,null,null,{"$f":"BA$3","v":0}]
[null,{"$f":"B50&\"R\"","v":"83R"},null,null,null,null,1,null,2,null,null,1,"Charlotte Hewett",2,"Lauren Garside",null,1,"Grace Slater",2,"Niamh Darby",null,1,"Annabelle Clotworthy",2,"Ellen Smith",null,1,"Holly Griffith Brown",2,"Robyn Swain",null,1,null,2,null,null,1,"Poppy Tott-Buswell",2,"Josie Orange",null,1,"Emily Kavanagh",2,"Ellie Harrison",null,1,null,2,null,null,1,{"$f":"CONCATENATE(LEFT(BA$3,3),$B51,LEFT(BA$6,1))","v":"83RA"},2,{"$f":"CONCATENATE(LEFT(BC$3,3),$B51,LEFT(BC$6,1))","v":"83RB"}]
[null,{"$f":"B50&\"S\"","v":"83S"},null,null,null,null,3,null,4,null,null,3,"Molly Acton",4,"Holly Hunter",null,3,"Jessica Grainger",4,"Emma Shorwood",null,3,"Harmony Hart",4,"Alex Beale",null,3,"Olivia Butler",4,"Rachel Burton",null,3,null,4,null,null,3,"Zena Challenger",4,"Sophie Thorpe",null,3,"Sarah-Jane Ollis",4,"Danielle Hopkins",null,3,null,4,null,null,3,"83SA",4,"83SB"]
[null,null," "," "]
[]
[null,"Event","Time","Events",null,null,"No","A String","No","B String",null,"No","A String","No","B String",null,"No","A String","No","B String",null,"No","A String","No","B String",null,"No","A String","No","B String",null,"No","A String","No","B String",null,"No","A String","No","B String",null,"No","A String","No","B String",null,"No","A String","No","B String",null,"No","A String","No","B String"]
[null,null,null,"U17 Female / Women "]
[null,7,{"$f":"IF($B57>0,VLOOKUP($B57,EventsOrder,2,FALSE),\" \")","v":12.05},{"$f":"IF($B57>0,VLOOKUP($B57,EventsOrder,6,FALSE),\" \")","v":"1500m "},null,null,null,null,null,null,null,null,null,null,null,null,null,null,null,null,null,null,"Amanda Marlow","II","Alison Moxey",null,null,"Jess Anstice U23",null,null,null,"F","Charlotte Bush","FF","Laura Lewis (Senior)",null,null,"Fern Harrison",null,null,null,null,null,null,null,null,null,null,null,null,null,null,{"$f":"CONCATENATE(LEFT(BA$3,3),$B57,LEFT(BA$6,1))","v":"7A"},null,{"$f":"CONCATENATE(LEFT(BA$3,3),$B57,LEFT(BC$6,1))","v":"7B"}]
[null,10,12.15,"Javelin (U17) Match 1 & 3",null,null,null,null,null,null,null,null,null,null,null,null,null,null,null,null,null,null,null,null,null,null,null,null,null,null,null,null,null,null,null,null,null,null,null,null,null,null,null,null,null,null,null,null,null,null,null,null,"10A",null,"10B"]
[null,19,1,"80m hurdles (U17) ",null,null,null,"Helen Dubber",null,"Paige Cooper",null,null,null,null,null,null,null,null,null,null,null,null,null,null,null,null,null,"Victoria Harte",null,"Megan Baker",null,null,null,null,null,null,null,null,null,null,null,null,"Georgia Clarke",null,"Abigail Gill",null,null,null,null,null,null,null,"19A",null,"19B"]
[null,28,1.4,"800m ",null,null,null,null,null,null,null,null,null,null,null,null,null,null,null,null,null,null,"Harriett Jolley","II","Charlotte Maywood",null,null,"Faith Brew U20",null,"Jess Anstice U23",null,null,null,null,null,null,null,"Fern Harrison",null,null,null,null,null,null,null,null,null,null,null,null,null,null,"28A",null,"28B"]
[null,37,1.5,"Shot (U17) ",null,null,null,"Paige Cooper",null,null,null,null,null,null,null,null,null,"Lauren Millward",null,"Zara Millward",null,null,"Harriett Jolley",null,"Charlotte Maywood",null,null,"Petrina Chantler-Edmond",null,"Victoria Harte",null,"F","Laura Lewis (Senior)",null,null,null,null,"Megan Luxford",null,null,null,null,"Cara Clarke",null,"Hannah Kenwright",null,null,null,null,null,null,null,"37A",null,"37B"]
[null,40,2.2000000000000002,"100m ",null,null,null,null,null,null,null,null,"U20 Emily Benfield",null,null,null,null,"Lauren Millward",null,"Zara Millward",null,null,"Niamh Monaghan","II","Niamh Ruffles",null,null,"Leah Brown",null,"Megan Baker",null,null,null,null,null,null,null,"Ella Grainger",null,"Megan Luxford",null,null,"Cara Clarke",null,"Georgia Clarke",null,null,null,null,null,null,null,"40A",null,"40B"]
[null,51,2.4500000000000002,"300m ",null,null,null,"Rebecca Scott",null,null,null,null,null,null,null,null,null,"Becky Freeman",null,null,null,null,"Niamh Monaghan","II","Harriett Jolley",null,null,"Stephanie Mott",null,"Leah Brown",null,null,null,null,null,null,null,null,null,null,null,null,null,null,null,null,null,null,null,null,null,null,"51A",null,"51B"]
[null,53,{"$f":"IF($B64>0,VLOOKUP($B64,EventsOrder,2,FALSE),\" \")","v":2.4},{"$f":"IF($B64>0,VLOOKUP($B64,EventsOrder,6,FALSE),\" \")","v":"Discus (U17) Match 2"},null,null,null,"Paige Cooper",null,"Helen Dubber",null,null,null,null,null,null,null,null,null,null,null,null,null,null,null,null,null,"Petrina Chantler-Edmond",null,"Stephanie Mott",null,null,null,null,null,null,null,"Fern Harrison",null,null,null,null,"Cara Clarke",null,null,null,null,null,null,null,null,null,"53A",null,"53B"]
[null,60,3.1,"High Jump ",null,null,null,"Rebecca Scott",null,"A String only",null,null,null,null,"A String only",null,null,null,null,null,null,null,null,null,"A String only",null,null,"Megan Baker",null,"A String only",null,null,null,null,null,null,null,null,null,"A String only",null,null,"Grace Murray",null,"A String only",null,null,null,null,null,null,null,"60A",null,"A String only"]
[null,69,3.45,"200m ",null,null,null,"Helen Dubber",null,null,null,null,"U20 Emily Benfield",null,null,null,null,"Lauren Millward",null,"Becky Freeman",null,null,"Erin Healy","II","Ellie Boulton",null,null,"Stephanie Mott",null,"Jess Anstice U23",null,null,null,null,null,null,null,"Ella Grainger",null,"Megan Luxford",null,null,"Hannah Kenwright",null,"Becky Donnelly (senior)",null,null,null,null,null,null,null,"69A",null,{"$f":"CONCATENATE(LEFT(BA$3,3),$B66,LEFT(BC$6,1))","v":"69B"}]
[null,75,4,"Long Jump Pit1",null,null,null,"Rebecca Scott",null,null,null,null,"U20 Emily Benfield",null,null,null,null,"Becky Freeman",null,null,null,null,"Ellie Boulton",null,"Niamh Monaghan",null,null,"Petrina Chantler-Edmond",null,"Leah Brown",null,null,null,null,null,null,null,"Ella Grainger",null,"Eve Cameron",null,null,"Becky Donnelly (senior)",null,"Hannah Kenwright",null,null,null,null,null,null,null,"75A",null,{"$f":"CONCATENATE(LEFT(BA$3,3),$B67,LEFT(BC$6,1))","v":"75B"}]
[null,84,5.05,"4 x 100m ",null,null,null,{"$f":"H$3","v":"Banbury"},null,null,null,null,{"$f":"M$3","v":"Bicester"},null,null,null,null,{"$f":"R$3","v":"Dudley & S'bridge"},null,null,null,null,"Kettering",null,null,null,null,"Radley",null,null,null,null,{"$f":"AG$3","v":"Tamworth"},null,null,null,null,"Wreake Runners",null,null,null,null,{"$f":"AQ$3","v":"Worcester"},null,null,null,null,{"$f":"AV$3","v":0},null,null,null,null,{"$f":"BA$3","v":0}]
[null,{"$f":"B68&\"R\"","v":"84R"},null,null,null,null,1,null,2,null,null,1,null,2,null,null,1,"Lauren Millward",2,"Zara Millward",null,1,"Niamh Monaghan",2,"Niamh Ruffles",null,1,"Stephanie Mott",2,"Megan Baker",null,1,null,2,null,null,1,"Megan Luxford",2,"Ella Grainger",null,1,"Brooke Clarke",2,"Abigail Gill",null,1,null,2,null,null,1,{"$f":"CONCATENATE(LEFT(BA$3,3),$B69,LEFT(BA$6,1))","v":"84RA"},2,{"$f":"CONCATENATE(LEFT(BC$3,3),$B69,LEFT(BC$6,1))","v":"84RB"}]
[null,{"$f":"B68&\"S\"","v":"84S"},null,null,null,null,3,null,4,null,null,3,null,4,null,null,3,"Becky Freeman",4,"Claudia Lee",null,3,"Ellie Boulton",4,"Harriett Jolley",null,3,"Petrina Chantler-Edmond",4,"Leah Brown",null,3,null,4,null,null,3,"Fern Harrison",4,null,null,3,"Hannah Kenwright",4,"Becky Donnelly (senior)",null,3,null,4,null,null,3,"84SA",4,"84SB"]
[null,null," "," "]
[]
[]
[]
[null,null,"Guests - Non-Scoring"]
[]
[null,"Event","Time","Events",null,null,"No","A String",null,null,null,"No","A String",null,null,null,"No","A String",null,null,null,"No","A String",null,null,null,"No","A String",null,null,null,"No","A String",null,null,null,"No","A String",null,null,null,"No","A String",null,null,null,"No","A String",null,null,null,"No","A String"]
[]
[null,null,null,"Female"]
[null,88,{"$f":"IF($B80>0,VLOOKUP($B80,EventsOrder,2,FALSE),\" \")","v":11.45},{"$f":"IF($B80>0,VLOOKUP($B80,EventsOrder,6,FALSE),\" \")","v":"1500m U13 Female"},null,null,null,null,null,null,null,null,null,null,null,null,null,null,null,null,null,null,null,null,null,null,null,null,null,null,null,null,null,null,null,null,405,"Isabelle Wilson",null,null,null,104,"Emma Pound",null,null,null,null,null,null,null,null,{"$f":"$B80","v":88},{"$f":"CONCATENATE(LEFT(BA$3,3),$B80,LEFT(BA$6,1))","v":"88A"}]
[null,89,11.55,"1500m U15 Female",null,null,null,null,null,null,null,null,null,null,null,null,null,null,null,null,null,null,null,null,null,null,null,null,null,null,null,null,null,null,null,null,null,null,null,null,null,null,null,null,null,null,null,null,null,null,null,89,"89A"]
[null,90,12.05,"1500m U17 F/Women",null,null,null,null,null,null,null,null,null,null,null,null,null,null,null,null,null,null,null,null,null,null,null,null,null,null,null,null,null,null,null,null,null,null,null,null,null,null,null,null,null,null,null,null,null,null,null,90,"90A"]
[null,94,1.1499999999999999,"800m U13 Female",null,null,null,null,null,null,null,802,"imogen Ansell",null,null,null,null,null,null,null,null,null,null,null,null,null,null,null,null,null,null,30,"Georgina Weal",null,null,null,403,"Rebecca Cullen",null,null,null,106,"Maya Stewart",null,null,null,null,null,null,null,null,94,{"$f":"CONCATENATE(LEFT(BA$3,3),$B83,LEFT(BA$6,1))","v":"94A"}]
[null,95,1.25,"800m U15 Female",null,null,null,null,null,null,null,null,null,null,null,null,null,null,null,null,null,null,null,null,null,null,null,null,null,null,null,null,null,null,null,null,404,"Ravenn Cook",null,null,null,null,null,null,null,null,null,null,null,null,null,95,"95A"]
[null,96,1.4,"800m U17 F/Women",null,null,null,null,null,null,null,null,null,null,null,null,null,null,null,null,null,null,null,null,null,null,null,null,null,null,null,null,null,null,null,null,null,null,null,null,null,null,null,null,null,null,null,null,null,null,null,96,"96A"]
[null,null," "," "]
[]
[null,{"$f":"COLUMN(B1)","v":2},3,4,5,6,7,8,9,10,11,12,13,14,15,16,17,18,19,20,21,22,23,24,25,26,27,28,29,30,31,32,33,34,35,36,37,38,39,40,41,42,43,44,45]

{"sheet":"Results Entry","index":6,"n_rows":305,"n_cols":88,"rows_kept":305,"cut":false,"hidden":false,"merged":[[24,62,24,69],[24,54,24,61],[25,54,26,54],[25,55,26,55],[25,56,26,56],[25,58,26,58],[25,61,26,61],[25,57,26,57],[25,60,26,60],[25,59,26,59],[25,39,26,39],[25,40,26,40],[27,6,27,13],[27,30,27,37],[27,22,27,29],[27,14,27,21],[24,46,24,53],[25,46,26,46],[25,47,26,47],[24,38,24,45],[25,48,26,48],[25,41,26,41],[25,42,26,42],[25,38,26,38],[25,51,26,51],[25,52,26,52],[25,44,26,44],[25,45,26,45],[25,43,26,43],[25,53,26,53],[25,49,26,49],[25,50,26,50]]}
[]
[null,"Event",null,"Age",null,null,null,null,null,null,null,null,null,null,null,null,null,null,null,null,null,null,null,null,null,null,null,null,null,{"$f":"'Event Details'!C32","v":8},{"$f":"AD2-1","v":7},6,5,4,3,2,1,null,null,null,null,null,null,null,null,{"$f":"BC29&BC29","v":"JJ"},"PP","BB","II","RR","FF","XX","YY"]
[null,"No","Time","Group","Event",null,null,"NS","M/F"]
[null,1,{"$f":"VLOOKUP($B$4,EventsOrder,2,FALSE)","v":11.45},{"$f":"VLOOKUP($B$4,EventsOrder,4,FALSE)","v":"U13 Female"},{"$f":"VLOOKUP($B$4,EventsOrder,3,FALSE)","v":"1500m"},null,null,{"$f":"VLOOKUP($B$4,EventsOrder,5,FALSE)","v":""},{"$f":"IF(MID(D4,5,1)=\"F\",\"F\",\"M\")","v":"F"},null,null,null,null,null,null,null,"Results Entry",null,null,{"$f":"\"Enter single or double letter for Club Letter i.e.  as \"&A10&\" or \"&A10&A10","v":"Enter single or double letter for Club Letter i.e.  as J or JJ"}]
[null,null,null,null,null,null,null,null,null,null,null,null,null,null,null,null,null,null,null,"Enter Club Letter for both SCORING and NON SCORING results."]
[null,null,null,"Names from Club Teamsheet",null,null,null,null,null,null,null,null,null,null,null,null,null,null,null,"Enter Time  as  \"2.10.5\"  for  mins  or \"12.55\" for mtrs"]
[null,null,null,null,null,null,null,null,null,null,null,null,null,null,null,null,null,"Event A",null,null,null,null,null,null,"Event B"]
["Club","Club",null,null,"U11","Event A",null,null,null,"U11","Event B",null,null,null,null," Club","Time/","U11","Name",null,null,null," Club","Time/","U11","Name"]
["Letter",null,null,null,"No.","Name",null,null,null,"No.","Name",null,null,null,null," Letter","Dist","No.",null,null,null,null," Letter","Dist","No."]
[{"$f":"'Event Details'!$C22","v":"J"},{"$f":"'Event Details'!$D22","v":"Banbury"},null,null,{"$f":"VLOOKUP($B$4,IF($I$4=\"F\",TeamSheetFemale,TeamSheetMale),AD10-1,FALSE)","v":0},{"$f":"VLOOKUP($B$4,IF($I$4=\"F\",TeamSheetFemale,TeamSheetMale),AD10,FALSE)","v":"Nikola Bishop"},null,null,null,{"$f":"VLOOKUP($B$4,IF($I$4=\"F\",TeamSheetFemale,TeamSheetMale),AD10+1,FALSE)","v":0},{"$f":"VLOOKUP($B$4,IF($I$4=\"F\",TeamSheetFemale,TeamSheetMale),AD10+2,FALSE)","v":0},null,null,null,"1st",null,null,{"$f":"IF(LEN($P10)=1,VLOOKUP(LEFT($P10,1),Result2,5,FALSE),IF(LEN($P10)=2,VLOOKUP(LEFT($P10,1),Result2,10,FALSE),\"\"))","v":""},{"$f":"IF(LEN($P10)=1,VLOOKUP(LEFT($P10,1),Result2,6,FALSE),IF(LEN($P10)=2,VLOOKUP(LEFT($P10,1),Result2,11,FALSE),\"\"))","v":""},null,null,"1st",null,null,{"$f":"IF(LEN($W10)=1,VLOOKUP(LEFT($W10,1),Result2,5,FALSE),IF(LEN($W10)=2,VLOOKUP(LEFT($W10,1),Result2,10,FALSE),\"\"))","v":""},{"$f":"IF(LEN(W10)=1,VLOOKUP(LEFT(W10,1),Result2,6,FALSE),IF(LEN(W10)=2,VLOOKUP(LEFT(W10,1),Result2,11,FALSE),\"\"))","v":""},null,null,{"$f":"AD10-1","v":6},7,{"$f":"AD10+1","v":8},{"$f":"AE10+1","v":9}]
[{"$f":"'Event Details'!$C23","v":"P"},{"$f":"'Event Details'!$D23","v":"Bicester"},null,null,0,"Georgia Usher",null,null,null,0,"Amelia Cox",null,null,null,"2nd",null,null,{"$f":"IF(LEN($P11)=1,VLOOKUP(LEFT($P11,1),Result2,5,FALSE),IF(LEN($P11)=2,VLOOKUP(LEFT($P11,1),Result2,10,FALSE),\"\"))","v":""},{"$f":"IF(LEN(P11)=1,VLOOKUP(LEFT(P11,1),Result2,6,FALSE),IF(LEN(P11)=2,VLOOKUP(LEFT(P11,1),Result2,11,FALSE),\"\"))","v":""},null,null,"2nd",null,null,{"$f":"IF(LEN($W11)=1,VLOOKUP(LEFT($W11,1),Result2,5,FALSE),IF(LEN($W11)=2,VLOOKUP(LEFT($W11,1),Result2,10,FALSE),\"\"))","v":""},{"$f":"IF(LEN(W11)=1,VLOOKUP(LEFT(W11,1),Result2,6,FALSE),IF(LEN(W11)=2,VLOOKUP(LEFT(W11,1),Result2,11,FALSE),\"\"))","v":""},null,null,{"$f":"AD11-1","v":11},12,{"$f":"AD11+1","v":13},14]
[{"$f":"'Event Details'!$C24","v":"B"},{"$f":"'Event Details'!$D24","v":"Dudley & S'bridge"},null,null,0,"Kiera Avery",null,null,null,0,0,null,null,null,"3rd",null,null,"","",null,null,"3rd",null,null,"","",null,null,16,17,18,19]
[{"$f":"'Event Details'!$C25","v":"I"},{"$f":"'Event Details'!$D25","v":"Kettering"},null,null,0,"Mia Brockway",null,null,null,"II","Maddie Moxey",null,null,null,"4th",null,null,"","",null,null,"4th",null,null,"","",null,null,21,22,23,24]
[{"$f":"'Event Details'!$C26","v":"R"},{"$f":"'Event Details'!$D26","v":"Radley"},null,null,0,"Poppy Edwards",null,null,null,0,0,null,null,null,"5th",null,null,"","",null,null,"5th",null,null,"","",null,null,26,27,28,29]
[{"$f":"'Event Details'!$C27","v":"F"},{"$f":"'Event Details'!$D27","v":"Tamworth"},null,null,0,"Tegan Vickery",null,null,null,0,0,null,null,null,"6th",null,null,"","",null,null,"6th",null,null,"","",null,null,31,32,33,34]
[{"$f":"'Event Details'!$C28","v":"X"},{"$f":"'Event Details'!$D28","v":"Wreake Runners"},null,null,0,"Katie Parker",null,null,null,0,"Aoife Brotherton",null,null,null,"7th",null,null,"","",null,null,"7th",null,null,"","",null,null,36,37,38,39]
[{"$f":"'Event Details'!$C29","v":"Y"},{"$f":"'Event Details'!$D29","v":"Worcester"},null,null,0,"Ruby Jarman",null,null,null,0,"Megan Williams",null,null,null,"8th",null,null,"","",null,null,"8th",null,null,"","",null,null,41,42,43,44]
[]
[]
[]
[]
[]
[]
[]
[null,null,null,null,null,null,null,null,null,null,null,null,null,null,null,null,null,null,null,null,null,null,null,null,null,null,null,null,null,null,null,null,null,null,null,null,null,null,"Points",null,null,null,null,null,null,null,"Time / Distance",null,null,null,null,null,null,null,"Position",null,null,null,null,null,null,null,"Placing",null,null,null,null,null,null,null,null,null,null,null,null,null,null,null,null,null,null,null,"Col No. in Team Names"]
[null,null,null,null,null,null,null,null,null,null,{"$f":"'Event Details'!D5","v":"Heart of England League"},null,null,null,"Results",null,null,null,null,null,null,null,null,null,null,null,null,null,null,null,null,null,null,null,null,null,null,null,{"$f":"'Event Details'!$D22","v":"Banbury"},{"$f":"'Event Details'!$D23","v":"Bicester"},{"$f":"'Event Details'!$D24","v":"Dudley & S'bridge"},{"$f":"'Event Details'!$D25","v":"Kettering"},{"$f":"'Event Details'!$D26","v":"Radley"},{"$f":"'Event Details'!$D27","v":"Tamworth"},{"$f":"'Event Details'!$D28","v":"Wreake Runners"},{"$f":"'Event Details'!$D29","v":"Worcester"},{"$f":"'Event Details'!$D22","v":"Banbury"},{"$f":"'Event Details'!$D23","v":"Bicester"},{"$f":"'Event Details'!$D24","v":"Dudley & S'bridge"},{"$f":"'Event Details'!$D25","v":"Kettering"},{"$f":"'Event Details'!$D26","v":"Radley"},{"$f":"'Event Details'!$D27","v":"Tamworth"},{"$f":"'Event Details'!$D28","v":"Wreake Runners"},{"$f":"'Event Details'!$D29","v":"Worcester"},{"$f":"'Event Details'!$D22","v":"Banbury"},{"$f":"'Event Details'!$D23","v":"Bicester"},{"$f":"'Event Details'!$D24","v":"Dudley & S'bridge"},{"$f":"'Event Details'!$D25","v":"Kettering"},{"$f":"'Event Details'!$D26","v":"Radley"},{"$f":"'Event Details'!$D27","v":"Tamworth"},{"$f":"'Event Details'!$D28","v":"Wreake Runners"},{"$f":"'Event Details'!$D29","v":"Worcester"},null,null,null,null,null,null,null,null,null,null,null,null,null,null,null,null,null,null,{"$f":"BC29","v":"J"},"P","B","I","R","F","X","Y"]
[null,null,null,"Division",{"$f":"'Event Details'!D9","v":2},null,null,null,"Venue",null,{"$f":"'Event Details'!F17","v":"Worcester"},null,null,null,null,null,"Date",{"$f":"'Event Details'!B17","v":"5th June 2016"},null,null,null,null,null,null,null,null,null,null,null,null,null,null,null,null,null,null,null,null,null,null,null,null,null,null,null,null,null,null,null,null,null,null,null,null,null,null,null,null,null,null,null,null,"1St","2nd","3rd","4th","5th","6th","7th","8th",null,null,null,null,null,null,null,null,null,null,7,12,17,22,27,32,37,42]
[null,"Event",null,null,null,null,"Club Letter",null,null,null,null,null,null,null,"Time / Distance",null,null,null,null,null,null,null,"U11 No's",null,null,null,null,null,null,null,"Competitor's Name"]
[null,"No","Time","Event",null,null,"1st","2nd","3rd","4th","5th","6th","7th","8th","1st","2nd","3rd","4th","5th","6th","7th","8th","1st","2nd","3rd","4th","5th","6th","7th","8th","1st","2nd","3rd","4th","5th","6th","7th","8th",{"$f":"'Event Details'!$C22","v":"J"},{"$f":"'Event Details'!$C23","v":"P"},{"$f":"'Event Details'!$C24","v":"B"},{"$f":"'Event Details'!$C25","v":"I"},{"$f":"'Event Details'!$C26","v":"R"},{"$f":"'Event Details'!$C27","v":"F"},{"$f":"'Event Details'!$C28","v":"X"},{"$f":"'Event Details'!$C29","v":"Y"},{"$f":"'Event Details'!$C22","v":"J"},{"$f":"'Event Details'!$C23","v":"P"},{"$f":"'Event Details'!$C24","v":"B"},{"$f":"'Event Details'!$C25","v":"I"},{"$f":"'Event Details'!$C26","v":"R"},{"$f":"'Event Details'!$C27","v":"F"},{"$f":"'Event Details'!$C28","v":"X"},{"$f":"'Event Details'!$C29","v":"Y"},{"$f":"'Event Details'!$C22","v":"J"},{"$f":"'Event Details'!$C23","v":"P"},{"$f":"'Event Details'!$C24","v":"B"},{"$f":"'Event Details'!$C25","v":"I"},{"$f":"'Event Details'!$C26","v":"R"},{"$f":"'Event Details'!$C27","v":"F"},{"$f":"'Event Details'!$C28","v":"X"},{"$f":"'Event Details'!$C29","v":"Y"},{"$f":"'Event Details'!C32","v":8},{"$f":"BK29-1","v":7},6,5,4,3,2,1,1,{"$f":"BS29+1","v":2},3,4,5,6,7,8,null,null,1,{"$f":"CC29+1","v":2},3,4,5,6,7,8]
[{"$f":"B30&\"A\"","v":"1A"},1,{"$f":"VLOOKUP(B30,EventsOrder,2,FALSE)","v":11.45},{"$f":"VLOOKUP(B30,EventsOrder,4,FALSE)","v":"U13 Female"},"A",{"$f":"IF(MID(D30,5,1)=\"F\",\"F\",\"M\")","v":"F"},"X","P","Y","R","F","I","J",null,"5.12.0","5.41.7","5.44.0","5.45.6","5.56.2","6.02.7","6.08.2",null,0,0,0,0,0,0,0,null,{"$f":"IF(LEN(G30)=0,\"\",VLOOKUP($B30,IF($F30=\"F\",TeamSheetFemale,TeamSheetMale),CC30,FALSE))","v":"Katie Parker"},"Georgia Usher","Ruby Jarman","Poppy Edwards","Tegan Vickery","Mia Brockway","Nikola Bishop","",{"$f":"IF(OR($F30=\"NS\",AU30=\"DNF\"),0,IF(BC30>0,$BK$29+1-BC30,0))","v":2},{"$f":"IF(OR($F30=\"NS\",AV30=\"DNF\"),0,IF(BD30>0,$BK$29+1-BD30,0))","v":7},{"$f":"IF(OR($F30=\"NS\",AW30=\"DNF\"),0,IF(BE30>0,$BK$29+1-BE30,0))","v":0},{"$f":"IF(OR($F30=\"NS\",AX30=\"DNF\"),0,IF(BF30>0,$BK$29+1-BF30,0))","v":3},{"$f":"IF(OR($F30=\"NS\",AY30=\"DNF\"),0,IF(BG30>0,$BK$29+1-BG30,0))","v":5},{"$f":"IF(OR($F30=\"NS\",AZ30=\"DNF\"),0,IF(BH30>0,$BK$29+1-BH30,0))","v":4},{"$f":"IF(OR($F30=\"NS\",BA30=\"DNF\"),0,IF(BI30>0,$BK$29+1-BI30,0))","v":8},{"$f":"IF(OR($F30=\"NS\",BB30=\"DNF\"),0,IF(BJ30>0,$BK$29+1-BJ30,0))","v":6},{"$f":"OFFSET($N30,0,BC30)","v":"6.08.2"},"5.41.7",0,"6.02.7","5.45.6","5.56.2","5.12.0","5.44.0",{"$f":"IF(ISNA(MATCH(BC$29,$BS30:$BZ30,0)),0,MATCH(BC$29,$BS30:$BZ30,0))","v":7},2,0,6,4,5,1,3,{"$f":"IF(LEN(G30)>0,VLOOKUP(LEFT(G30,1),Clubs,5,FALSE),0)","v":"Wreake"},{"$f":"IF(LEN(H30)>0,VLOOKUP(LEFT(H30,1),Clubs,5,FALSE),0)","v":"Bic"},"Worc","Rad","Tam","Kett","Ban",0,{"$f":"LEFT(G30,1)","v":"X"},"P","Y","R","F","I","J","",null,null,{"$f":"IF(LEN(G30)=0,\"\",HLOOKUP(BS30,$CC$26:$CJ$28,2,FALSE)+IF(LEN(G30)=2,2,0))","v":37},{"$f":"IF(LEN(H30)=0,\"\",HLOOKUP(BT30,$CC$26:$CJ$28,2,FALSE)+IF(LEN(H30)=2,2,0))","v":12},42,27,32,22,7,""]
[{"$f":"B30&\"B\"","v":"1B"},null,null,{"$f":"VLOOKUP(B30,EventsOrder,3,FALSE)","v":"1500m"},"B",null,"XX","YY","II","PP",null,null,null,null,"5.32.3","5.55.1","6.27.8","DNF",null,null,null,null,0,0,"II",0,null,null,null,null,{"$f":"IF(LEN(G31)=0,\"\",VLOOKUP($B30,IF($F30=\"F\",TeamSheetFemale,TeamSheetMale),CC31,FALSE))","v":"Aoife Brotherton"},"Megan Williams","Maddie Moxey","Amelia Cox","","","","",{"$f":"IF(OR($F31=\"NS\",AU31=\"DNF\"),0,IF(BC31>0,$BK$29+1-BC31,0))","v":0},0,0,6,0,0,8,7,0,"DNF",0,"6.27.8",0,0,"5.32.3","5.55.1",0,4,0,3,0,0,1,2,"Wreake","Worc","Kett","Bic",0,0,0,0,"X","Y","I","P","","","","",null,null,{"$f":"IF(LEN(G31)=0,\"\",HLOOKUP(BS31,$CC$26:$CJ$28,2,FALSE)+IF(LEN(G31)=2,2,0))","v":39},44,24,14,"","","",""]
[{"$f":"B32&\"A\"","v":"2A"},2,{"$f":"VLOOKUP(B32,EventsOrder,2,FALSE)","v":11.45},{"$f":"VLOOKUP(B32,EventsOrder,4,FALSE)","v":"U11 Male"},"A",{"$f":"IF(MID(D32,5,1)=\"F\",\"F\",\"M\")","v":"M"},"I","J","XX","PP","R","Y","BB",null,33.630000000000003,30.03,28.72,26.32,25.54,23.67,11.5,null,0,0,0,"PP",0,0,0,null,{"$f":"IF(LEN(G32)=0,\"\",VLOOKUP($B32,IF($F32=\"F\",TeamSheetFemale,TeamSheetMale),CC32,FALSE))","v":"Alfie Frayne"},"Archie Street","Sam Orange","Timothy Jones","Quinn Miell-Ingram","Linus Burnage","Reece Lees","",7,5,2,8,4,0,6,3,30.03,26.32,11.5,33.630000000000003,25.54,0,28.72,23.67,2,4,7,1,5,0,3,6,"Kett","Ban","Wreake","Bic","Rad","Worc","DASH",0,"I","J","X","P","R","Y","B","",null,null,22,{"$f":"IF(LEN(H32)=0,\"\",HLOOKUP(BT32,$CC$26:$CJ$28,2,FALSE)+IF(LEN(H32)=2,2,0))","v":7},39,14,27,42,19,""]
[{"$f":"B32&\"B\"","v":"2B"},null,null,{"$f":"VLOOKUP(B32,EventsOrder,3,FALSE)","v":"Howler"},"B",null,"P","II","X","RR","YY","JJ","B",null,23.75,21.88,20.079999999999998,15.82,15.76,13.48,10.38,null,0,"II",0,0,0,0,0,null,{"$f":"IF(LEN(G33)=0,\"\",VLOOKUP($B32,IF($F32=\"F\",TeamSheetFemale,TeamSheetMale),CC33,FALSE))","v":"Seion Alexander"},"Aaron Holloway","Jonty Brotherton","Caspar Cumberland","Ellis Hartland","Toby Jones","Corey Lees","",3,8,2,7,5,0,6,4,13.48,23.75,10.38,21.88,15.82,0,20.079999999999998,15.76,6,1,7,2,4,0,3,5,"Bic","Kett","Wreake","Rad","Worc","Ban","DASH",0,"P","I","X","R","Y","J","B","",null,null,12,24,37,29,44,9,17,""]
[{"$f":"B34&\"A\"","v":"3A"},3,{"$f":"VLOOKUP(B34,EventsOrder,2,FALSE)","v":11.45},{"$f":"VLOOKUP(B34,EventsOrder,4,FALSE)","v":"U11 Female"},"A",{"$f":"IF(MID(D34,5,1)=\"F\",\"F\",\"M\")","v":"F"},"Y","P","J","X","RR","II",null,null,23.63,21.04,17.46,12.79,10.83,10.51,null,null,0,0,0,0,0,"II",null,null,{"$f":"IF(LEN(G34)=0,\"\",VLOOKUP($B34,IF($F34=\"F\",TeamSheetFemale,TeamSheetMale),CC34,FALSE))","v":"Jasmine Stokes"},"Imogen Cox","Eimear Moss","Isabelle Parker","Erin Bungay","Niamh Sinnott","","",6,7,0,3,4,0,5,8,17.46,21.04,0,10.51,10.83,0,12.79,23.63,{"$f":"IF(ISNA(MATCH(BC$29,$BS34:$BZ34,0)),0,MATCH(BC$29,$BS34:$BZ34,0))","v":3},2,0,6,5,0,4,1,{"$f":"IF(LEN(G34)>0,VLOOKUP(LEFT(G34,1),Clubs,5,FALSE),0)","v":"Worc"},"Bic","Ban","Wreake","Rad","Kett",0,0,{"$f":"LEFT(G34,1)","v":"Y"},{"$f":"LEFT(H34,1)","v":"P"},"J","X","R","I","","",null,null,42,12,7,37,29,24,"",""]
[{"$f":"B34&\"B\"","v":"3B"},null,null,{"$f":"VLOOKUP(B34,EventsOrder,3,FALSE)","v":"Howler"},"B",null,"PP","JJ","XX","R","I",null,null,null,12.8,12.02,11,8.51,7.56,null,null,null,"PP",0,0,0,0,null,null,null,{"$f":"IF(LEN(G35)=0,\"\",VLOOKUP($B34,IF($F34=\"F\",TeamSheetFemale,TeamSheetMale),CC35,FALSE))","v":"Isla Bohannon"},"Ellie Williams","Harriett Lethridge","Ainhara Ly","Isabella Brockway","","","",7,8,0,4,5,0,6,0,{"$f":"OFFSET($N35,0,BC35)","v":12.02},{"$f":"OFFSET($N35,0,BD35)","v":12.8},{"$f":"OFFSET($N35,0,BE35)","v":0},{"$f":"OFFSET($N35,0,BF35)","v":7.56},{"$f":"OFFSET($N35,0,BG35)","v":8.51},{"$f":"OFFSET($N35,0,BH35)","v":0},{"$f":"OFFSET($N35,0,BI35)","v":11},{"$f":"OFFSET($N35,0,BJ35)","v":0},2,1,0,5,4,0,3,0,"Bic","Ban","Wreake","Rad","Kett",0,0,0,"P",{"$f":"LEFT(H35,1)","v":"J"},"X","R","I","","","",null,null,14,9,39,27,22,"","",""]
[{"$f":"B36&\"A\"","v":"4A"},4,{"$f":"VLOOKUP(B36,EventsOrder,2,FALSE)","v":11.55},{"$f":"VLOOKUP(B36,EventsOrder,4,FALSE)","v":"U15 Female"},"A",{"$f":"IF(MID(D36,5,1)=\"F\",\"F\",\"M\")","v":"F"},"F","X","Y","R","I","P",null,null,"4.58.5","5.01.2","5.13.3","5.21.6","5.40.2","6.35.7",null,null,0,0,0,0,0,0,null,null,{"$f":"IF(LEN(G36)=0,\"\",VLOOKUP($B36,IF($F36=\"F\",TeamSheetFemale,TeamSheetMale),CC36,FALSE))","v":"Eve Clawley"},"Rachel Nealon","Holly Love","Rachel Burton","Daisy Robinson","Holly Hunter","","",0,3,0,4,5,8,7,6,0,"6.35.7",0,"5.40.2","5.21.6","4.58.5","5.01.2","5.13.3",0,6,0,5,4,1,2,3,"Tam","Wreake","Worc","Rad","Kett","Bic",0,0,"F","X","Y","R","I","P","","",null,null,32,{"$f":"IF(LEN(H36)=0,\"\",HLOOKUP(BT36,$CC$26:$CJ$28,2,FALSE)+IF(LEN(H36)=2,2,0))","v":37},{"$f":"IF(LEN(I36)=0,\"\",HLOOKUP(BU36,$CC$26:$CJ$28,2,FALSE)+IF(LEN(I36)=2,2,0))","v":42},{"$f":"IF(LEN(J36)=0,\"\",HLOOKUP(BV36,$CC$26:$CJ$28,2,FALSE)+IF(LEN(J36)=2,2,0))","v":27},{"$f":"IF(LEN(K36)=0,\"\",HLOOKUP(BW36,$CC$26:$CJ$28,2,FALSE)+IF(LEN(K36)=2,2,0))","v":22},{"$f":"IF(LEN(L36)=0,\"\",HLOOKUP(BX36,$CC$26:$CJ$28,2,FALSE)+IF(LEN(L36)=2,2,0))","v":12},{"$f":"IF(LEN(M36)=0,\"\",HLOOKUP(BY36,$CC$26:$CJ$28,2,FALSE)+IF(LEN(M36)=2,2,0))","v":""},{"$f":"IF(LEN(N36)=0,\"\",HLOOKUP(BZ36,$CC$26:$CJ$28,2,FALSE)+IF(LEN(N36)=2,2,0))","v":""}]
[{"$f":"B36&\"B\"","v":"4B"},null,null,{"$f":"VLOOKUP(B36,EventsOrder,3,FALSE)","v":"1500m"},"B",null,"XX","RR","YY","II",null,null,null,null,"5.16.0","5.24.1","5.31.6","6.53.8",null,null,null,null,0,0,0,"II",null,null,null,null,{"$f":"IF(LEN(G37)=0,\"\",VLOOKUP($B36,IF($F36=\"F\",TeamSheetFemale,TeamSheetMale),CC37,FALSE))","v":"Rosie Timlock"},"Hermione Jewel","Lauren Matthews","Isabella Moxey","","","","",0,0,0,5,7,0,8,6,0,0,0,"6.53.8","5.24.1",0,"5.16.0","5.31.6",0,0,0,4,2,0,1,3,"Wreake","Rad","Worc","Kett",0,0,0,0,"X","R","Y","I","","","","",null,null,39,29,44,24,"","","",""]
[{"$f":"B38&\"A\"","v":"5A"},5,{"$f":"VLOOKUP(B38,EventsOrder,2,FALSE)","v":12},{"$f":"VLOOKUP(B38,EventsOrder,4,FALSE)","v":"U13 Male"},"A",{"$f":"IF(MID(D38,5,1)=\"F\",\"F\",\"M\")","v":"M"},"I","R","B","Y",null,null,null,null,1.35,1.3,1.2,1.1000000000000001,null,null,null,null,0,0,0,0,null,null,null,null,{"$f":"IF(LEN(G38)=0,\"\",VLOOKUP($B38,IF($F38=\"F\",TeamSheetFemale,TeamSheetMale),CC38,FALSE))","v":"Cole Sinnott"},"Theau Seabrook","Jack Compton","Jacob Khan","","","","",0,0,6,8,7,0,0,5,0,0,1.2,1.35,1.3,0,0,1.1000000000000001,0,0,3,1,2,0,0,4,"Kett","Rad","DASH","Worc",0,0,0,0,"I","R","B","Y","","","","",null,null,22,27,17,42,"","","",""]
[{"$f":"B38&\"B\"","v":"5B"},null,null,{"$f":"VLOOKUP(B38,EventsOrder,3,FALSE)","v":"High Jump"},"B",null,null,null,null,null,null,null,null,null,null,null,null,null,null,null,null,null,null,null,null,null,null,null,null,null,{"$f":"IF(LEN(G39)=0,\"\",VLOOKUP($B38,IF($F38=\"F\",TeamSheetFemale,TeamSheetMale),CC39,FALSE))","v":""},"","","","","","","",0,0,0,0,0,0,0,0,0,0,0,0,0,0,0,0,0,0,0,0,0,0,0,0,0,0,0,0,0,0,0,0,"","","","","","","","",null,null,"","","","","","","",""]
[{"$f":"B40&\"A\"","v":"6A"},6,{"$f":"VLOOKUP(B40,EventsOrder,2,FALSE)","v":12},{"$f":"VLOOKUP(B40,EventsOrder,4,FALSE)","v":"U15 Male"},"A",{"$f":"IF(MID(D40,5,1)=\"F\",\"F\",\"M\")","v":"M"},"Y","P","J","I","B","R",null,null,5.58,4.66,4.29,3.45,2.38,"NDR",null,null,0,"P",0,0,0,0,null,null,{"$f":"IF(LEN(G40)=0,\"\",VLOOKUP($B40,IF($F40=\"F\",TeamSheetFemale,TeamSheetMale),CC40,FALSE))","v":"Darian Moore"},"Jamil Welham","Will Andrews","Ethan Nelis","Zak Thurley","Daniel Gifford","","",6,7,4,5,3,0,0,8,4.29,4.66,2.38,3.45,"NDR",0,0,5.58,3,2,5,4,6,0,0,1,{"$f":"IF(LEN(G40)>0,VLOOKUP(LEFT(G40,1),Clubs,5,FALSE),0)","v":"Worc"},{"$f":"IF(LEN(H40)>0,VLOOKUP(LEFT(H40,1),Clubs,5,FALSE),0)","v":"Bic"},{"$f":"IF(LEN(I40)>0,VLOOKUP(LEFT(I40,1),Clubs,5,FALSE),0)","v":"Ban"},{"$f":"IF(LEN(J40)>0,VLOOKUP(LEFT(J40,1),Clubs,5,FALSE),0)","v":"Kett"},{"$f":"IF(LEN(K40)>0,VLOOKUP(LEFT(K40,1),Clubs,5,FALSE),0)","v":"DASH"},{"$f":"IF(LEN(L40)>0,VLOOKUP(LEFT(L40,1),Clubs,5,FALSE),0)","v":"Rad"},{"$f":"IF(LEN(M40)>0,VLOOKUP(LEFT(M40,1),Clubs,5,FALSE),0)","v":0},{"$f":"IF(LEN(N40)>0,VLOOKUP(LEFT(N40,1),Clubs,5,FALSE),0)","v":0},{"$f":"LEFT(G40,1)","v":"Y"},"P","J","I","B","R","","",null,null,42,12,7,22,17,27,"",""]
[{"$f":"B40&\"B\"","v":"6B"},null,null,{"$f":"VLOOKUP(B40,EventsOrder,3,FALSE)","v":"Long Jump"},"B",null,"YY",null,null,null,null,null,null,null,4.03,null,null,null,null,null,null,null,0,null,null,null,null,null,null,null,{"$f":"IF(LEN(G41)=0,\"\",VLOOKUP($B40,IF($F40=\"F\",TeamSheetFemale,TeamSheetMale),CC41,FALSE))","v":"Marco Miller"},"","","","","","","",0,0,0,0,0,0,0,8,0,0,0,0,{"$f":"OFFSET($N41,0,BG41)","v":0},{"$f":"OFFSET($N41,0,BH41)","v":0},{"$f":"OFFSET($N41,0,BI41)","v":0},{"$f":"OFFSET($N41,0,BJ41)","v":4.03},0,0,0,0,0,0,0,1,"Worc",0,0,0,0,0,0,0,"Y",{"$f":"LEFT(H41,1)","v":""},{"$f":"LEFT(I41,1)","v":""},{"$f":"LEFT(J41,1)","v":""},{"$f":"LEFT(K41,1)","v":""},{"$f":"LEFT(L41,1)","v":""},{"$f":"LEFT(M41,1)","v":""},{"$f":"LEFT(N41,1)","v":""},null,null,44,"","","","","","",""]
[{"$f":"B42&\"A\"","v":"7A"},7,{"$f":"VLOOKUP(B42,EventsOrder,2,FALSE)","v":12.05},{"$f":"VLOOKUP(B42,EventsOrder,4,FALSE)","v":"U17 F/Women"},"A",{"$f":"IF(MID(D42,5,1)=\"F\",\"F\",\"M\")","v":"F"},"F","X","R",null,null,null,null,null,"5.12.1","5.16.9","7.34.8",null,null,null,null,null,"F",0,0,null,null,null,null,null,{"$f":"IF(LEN(G42)=0,\"\",VLOOKUP($B42,IF($F42=\"F\",TeamSheetFemale,TeamSheetMale),CC42,FALSE))","v":"Charlotte Bush"},"Fern Harrison","Jess Anstice U23","","","","","",0,0,0,0,6,8,7,0,0,0,0,0,"7.34.8","5.12.1","5.16.9",0,0,0,0,0,3,1,2,0,"Tam","Wreake","Rad",0,0,0,0,0,"F","X","R","","","","","",null,null,32,37,27,"","","","",""]
[{"$f":"B42&\"B\"","v":"7B"},null,null,{"$f":"VLOOKUP(B42,EventsOrder,3,FALSE)","v":"1500m"},"B",null,"FF",null,null,null,null,null,null,null,"5.59.0",null,null,null,null,null,null,null,"FF",null,null,null,null,null,null,null,{"$f":"IF(LEN(G43)=0,\"\",VLOOKUP($B42,IF($F42=\"F\",TeamSheetFemale,TeamSheetMale),CC43,FALSE))","v":"Laura Lewis (Senior)"},"","","","","","","",0,0,0,0,0,8,0,0,0,0,0,0,0,"5.59.0",0,0,0,0,0,0,0,1,0,0,"Tam",0,0,0,0,0,0,0,"F","","","","","","","",null,null,34,"","","","","","",""]
[{"$f":"B44&\"A\"","v":"8A"},8,{"$f":"VLOOKUP(B44,EventsOrder,2,FALSE)","v":12.15},{"$f":"VLOOKUP(B44,EventsOrder,4,FALSE)","v":"U17 Men"},"A",{"$f":"IF(MID(D44,5,1)=\"F\",\"F\",\"M\")","v":"M"},"Y","R","X","I",null,null,null,null,8.41,8.33,7.1,6.33,null,null,null,null,0,0,0,0,null,null,null,null,{"$f":"IF(LEN(G44)=0,\"\",VLOOKUP($B44,IF($F44=\"F\",TeamSheetFemale,TeamSheetMale),CC44,FALSE))","v":"Reiss Francis"},"Harry Woodcock","Charlie McGlinchey","Josh Cannell","","","","",0,0,0,5,7,0,6,8,0,0,0,6.33,8.33,0,7.1,8.41,0,0,0,4,2,0,3,1,"Worc","Rad","Wreake","Kett",0,0,0,0,"Y","R","X","I","","","","",null,null,42,{"$f":"IF(LEN(H44)=0,\"\",HLOOKUP(BT44,$CC$26:$CJ$28,2,FALSE)+IF(LEN(H44)=2,2,0))","v":27},{"$f":"IF(LEN(I44)=0,\"\",HLOOKUP(BU44,$CC$26:$CJ$28,2,FALSE)+IF(LEN(I44)=2,2,0))","v":37},{"$f":"IF(LEN(J44)=0,\"\",HLOOKUP(BV44,$CC$26:$CJ$28,2,FALSE)+IF(LEN(J44)=2,2,0))","v":22},{"$f":"IF(LEN(K44)=0,\"\",HLOOKUP(BW44,$CC$26:$CJ$28,2,FALSE)+IF(LEN(K44)=2,2,0))","v":""},{"$f":"IF(LEN(L44)=0,\"\",HLOOKUP(BX44,$CC$26:$CJ$28,2,FALSE)+IF(LEN(L44)=2,2,0))","v":""},{"$f":"IF(LEN(M44)=0,\"\",HLOOKUP(BY44,$CC$26:$CJ$28,2,FALSE)+IF(LEN(M44)=2,2,0))","v":""},{"$f":"IF(LEN(N44)=0,\"\",HLOOKUP(BZ44,$CC$26:$CJ$28,2,FALSE)+IF(LEN(N44)=2,2,0))","v":""}]
[{"$f":"B44&\"B\"","v":"8B"},null,null,{"$f":"VLOOKUP(B44,EventsOrder,3,FALSE)","v":"Shot"},"B",null,"RR","YY",null,null,null,null,null,null,7.89,6.8,null,null,null,null,null,null,0,0,null,null,null,null,null,null,{"$f":"IF(LEN(G45)=0,\"\",VLOOKUP($B44,IF($F44=\"F\",TeamSheetFemale,TeamSheetMale),CC45,FALSE))","v":"Rory Sear"},"Josh Bentley","","","","","","",0,0,0,0,8,0,0,7,0,0,0,0,7.89,0,0,6.8,0,0,0,0,1,0,0,2,"Rad","Worc",0,0,0,0,0,0,"R","Y","","","","","","",null,null,29,44,"","","","","",""]
[{"$f":"B46&\"A\"","v":"9A"},9,{"$f":"VLOOKUP(B46,EventsOrder,2,FALSE)","v":12.15},{"$f":"VLOOKUP(B46,EventsOrder,4,FALSE)","v":"U15 Female"},"A",{"$f":"IF(MID(D46,5,1)=\"F\",\"F\",\"M\")","v":"F"},"R","I","Y","J","F","P","B","XX",24.28,18.98,16.010000000000002,15.55,14.82,12.86,11.85,10.92,0,0,0,0,0,0,0,0,{"$f":"IF(LEN(G46)=0,\"\",VLOOKUP($B46,IF($F46=\"F\",TeamSheetFemale,TeamSheetMale),CC46,FALSE))","v":"Rachel Burton"},"Matilda Braithwaite","Samantha Bowkett","Elizabeth Eskender","Alice Jones","Molly Acton","Grace Slater","Rosie Timlock",5,3,2,7,8,4,1,6,15.55,12.86,11.85,18.98,24.28,14.82,10.92,16.010000000000002,4,6,7,2,1,5,8,3,"Rad","Kett","Worc","Ban","Tam","Bic","DASH","Wreake","R","I","Y","J","F","P","B","X",null,null,27,22,42,7,32,12,17,39]
[{"$f":"B46&\"B\"","v":"9B"},null,null,{"$f":"VLOOKUP(B46,EventsOrder,3,FALSE)","v":"Discus"},"B",null,"YY","RR","II","BB","X",null,null,null,13.8,10.58,10.34,10.1,9.85,null,null,null,0,0,"II",0,0,null,null,null,{"$f":"IF(LEN(G47)=0,\"\",VLOOKUP($B46,IF($F46=\"F\",TeamSheetFemale,TeamSheetMale),CC47,FALSE))","v":"Katie Harris"},"Hermione Jewel","Millie Toseland","Jessica Grainger","Rachel Nealon","","","",0,0,5,6,7,0,4,8,0,0,10.1,10.34,10.58,0,9.85,13.8,0,0,4,3,2,0,5,1,"Worc","Rad","Kett","DASH","Wreake",0,0,0,"Y","R","I","B","X","","","",null,null,44,29,24,19,37,"","",""]
[{"$f":"B48&\"A\"","v":"10A"},10,{"$f":"VLOOKUP(B48,EventsOrder,2,FALSE)","v":12.15},{"$f":"VLOOKUP(B48,EventsOrder,4,FALSE)","v":"U17 Female"},"A",{"$f":"IF(MID(D48,5,1)=\"F\",\"F\",\"M\")","v":"F"},null,null,null,null,null,null,null,null,null,null,null,null,null,null,null,null,null,null,null,null,null,null,null,null,{"$f":"IF(LEN(G48)=0,\"\",VLOOKUP($B48,IF($F48=\"F\",TeamSheetFemale,TeamSheetMale),CC48,FALSE))","v":""},"","","","","","","",0,0,0,0,0,0,0,0,0,0,0,0,0,0,0,0,0,0,0,0,0,0,0,0,0,0,0,0,0,0,0,0,"","","","","","","","",null,null,"","","","","","","",""]
[{"$f":"B48&\"B\"","v":"10B"},null,null,{"$f":"VLOOKUP(B48,EventsOrder,3,FALSE)","v":"Javelin (U17)"},"B",null,null,null,null,null,null,null,null,null,null,null,null,null,null,null,null,null,null,null,null,null,null,null,null,null,{"$f":"IF(LEN(G49)=0,\"\",VLOOKUP($B48,IF($F48=\"F\",TeamSheetFemale,TeamSheetMale),CC49,FALSE))","v":""},"","","","","","","",0,0,0,0,0,0,0,0,0,0,0,0,0,0,0,0,0,0,0,0,0,0,0,0,0,0,0,0,0,0,0,0,"","","","","","","","",null,null,"","","","","","","",""]
[{"$f":"B50&\"A\"","v":"11A"},11,{"$f":"VLOOKUP(B50,EventsOrder,2,FALSE)","v":12.15},{"$f":"VLOOKUP(B50,EventsOrder,4,FALSE)","v":"U13 Female"},"A",{"$f":"IF(MID(D50,5,1)=\"F\",\"F\",\"M\")","v":"F"},"F","J","X","Y","R","I",null,null,11.8,11.8,12.4,12.5,14.5,14.5,null,null,0,0,0,0,0,0,null,null,{"$f":"IF(LEN(G50)=0,\"\",VLOOKUP($B50,IF($F50=\"F\",TeamSheetFemale,TeamSheetMale),CC50,FALSE))","v":"Niamh Kilgallen"},"Tegan Armstrong","Flora Miskin-Young","Lucy Marriott","Erin Mcmillan","Scarlett Maxwell-Munn","","",7,0,0,3,4,8,6,5,11.8,0,0,14.5,14.5,11.8,12.4,12.5,{"$f":"IF(ISNA(MATCH(BC$29,$BS50:$BZ50,0)),0,MATCH(BC$29,$BS50:$BZ50,0))","v":2},0,0,6,5,1,3,4,"Tam","Ban","Wreake","Worc","Rad","Kett",0,0,"F","J","X","Y","R","I","","",null,null,32,7,37,42,27,22,"",""]
[{"$f":"B50&\"B\"","v":"11B"},null,null,{"$f":"VLOOKUP(B50,EventsOrder,3,FALSE)","v":"70m hurdles"},"B",null,"JJ","XX","RR","YY",null,null,null,null,12.7,13.3,13.6,13.9,null,null,null,null,0,0,0,0,null,null,null,null,{"$f":"IF(LEN(G51)=0,\"\",VLOOKUP($B50,IF($F50=\"F\",TeamSheetFemale,TeamSheetMale),CC51,FALSE))","v":"Maddy Dowden"},"Indie King","Maddison Hurley","Amber Hopkins","","","","",8,0,0,0,6,0,7,5,12.7,0,0,0,13.6,0,13.3,13.9,1,0,0,0,3,0,2,4,"Ban","Wreake","Rad","Worc",0,0,0,0,"J","X","R","Y","","","","",null,null,9,39,29,44,"","","",""]
[{"$f":"B52&\"A\"","v":"12A"},12,{"$f":"VLOOKUP(B52,EventsOrder,2,FALSE)","v":12.2},{"$f":"VLOOKUP(B52,EventsOrder,4,FALSE)","v":"U13 Male"},"A",{"$f":"IF(MID(D52,5,1)=\"F\",\"F\",\"M\")","v":"M"},"R","Y","X","J","P","I","F","B","2.28.5","2.38.7","2.42.4","2.44.4","2.44.4","2.46.3","2.48.6","2.53.8",0,0,0,0,"P",0,0,0,{"$f":"IF(LEN(G52)=0,\"\",VLOOKUP($B52,IF($F52=\"F\",TeamSheetFemale,TeamSheetMale),CC52,FALSE))","v":"Rowan Miell-Ingram"},"Ben Harle","Ethan Patel","Archie Jones","Michael Cadle","Ben Brooker","Daniel Aston","John Sparry",5,4,1,3,8,2,6,7,"2.44.4","2.44.4","2.53.8","2.46.3","2.28.5","2.48.6","2.42.4","2.38.7",4,5,8,6,1,7,3,2,{"$f":"IF(LEN(G52)>0,VLOOKUP(LEFT(G52,1),Clubs,5,FALSE),0)","v":"Rad"},{"$f":"IF(LEN(H52)>0,VLOOKUP(LEFT(H52,1),Clubs,5,FALSE),0)","v":"Worc"},{"$f":"IF(LEN(I52)>0,VLOOKUP(LEFT(I52,1),Clubs,5,FALSE),0)","v":"Wreake"},{"$f":"IF(LEN(J52)>0,VLOOKUP(LEFT(J52,1),Clubs,5,FALSE),0)","v":"Ban"},{"$f":"IF(LEN(K52)>0,VLOOKUP(LEFT(K52,1),Clubs,5,FALSE),0)","v":"Bic"},{"$f":"IF(LEN(L52)>0,VLOOKUP(LEFT(L52,1),Clubs,5,FALSE),0)","v":"Kett"},{"$f":"IF(LEN(M52)>0,VLOOKUP(LEFT(M52,1),Clubs,5,FALSE),0)","v":"Tam"},{"$f":"IF(LEN(N52)>0,VLOOKUP(LEFT(N52,1),Clubs,5,FALSE),0)","v":"DASH"},{"$f":"LEFT(G52,1)","v":"R"},"Y","X","J","P","I","F","B",null,null,27,42,37,7,12,22,32,17]
[{"$f":"B52&\"B\"","v":"12B"},null,null,{"$f":"VLOOKUP(B52,EventsOrder,3,FALSE)","v":"800m"},"B",null,"XX","RR","YY","II","FF",null,null,null,"2.35.6","2.41.2","2.44.0","2.46.3","2.59.0",null,null,null,0,0,0,"II","FF",null,null,null,{"$f":"IF(LEN(G53)=0,\"\",VLOOKUP($B52,IF($F52=\"F\",TeamSheetFemale,TeamSheetMale),CC53,FALSE))","v":"Euan Gibbs"},"Roan Stillion","Riley Carpenter","Joshua Geddes","Kian Dickson","","","",0,0,0,5,7,4,8,6,0,0,0,"2.46.3",{"$f":"OFFSET($N53,0,BG53)","v":"2.41.2"},{"$f":"OFFSET($N53,0,BH53)","v":"2.59.0"},{"$f":"OFFSET($N53,0,BI53)","v":"2.35.6"},{"$f":"OFFSET($N53,0,BJ53)","v":"2.44.0"},0,0,0,4,2,5,1,3,"Wreake","Rad","Worc","Kett","Tam",0,0,0,"X",{"$f":"LEFT(H53,1)","v":"R"},{"$f":"LEFT(I53,1)","v":"Y"},{"$f":"LEFT(J53,1)","v":"I"},{"$f":"LEFT(K53,1)","v":"F"},{"$f":"LEFT(L53,1)","v":""},{"$f":"LEFT(M53,1)","v":""},{"$f":"LEFT(N53,1)","v":""},null,null,39,29,44,24,34,"","",""]
[{"$f":"B54&\"A\"","v":"13A"},13,{"$f":"VLOOKUP(B54,EventsOrder,2,FALSE)","v":12.3},{"$f":"VLOOKUP(B54,EventsOrder,4,FALSE)","v":"U15 Female"},"A",{"$f":"IF(MID(D54,5,1)=\"F\",\"F\",\"M\")","v":"F"},"Y","R","J","B","P","X",null,null,12.9,13,13.1,14.1,15.2,15.3,null,null,0,0,0,0,0,0,null,null,{"$f":"IF(LEN(G54)=0,\"\",VLOOKUP($B54,IF($F54=\"F\",TeamSheetFemale,TeamSheetMale),CC54,FALSE))","v":"Deanna Clarke"},"Holly Griffiths-Brown","Sydney Sellers","Isobel Fisher","Holly Hunter","Ravenn Cook","","",6,4,5,0,7,0,3,8,13.1,15.2,14.1,0,13,0,15.3,12.9,3,5,4,0,2,0,6,1,"Worc","Rad","Ban","DASH","Bic","Wreake",0,0,"Y","R","J","B","P","X","","",null,null,42,27,7,17,12,37,"",""]
[{"$f":"B54&\"B\"","v":"13B"},null,null,{"$f":"VLOOKUP(B54,EventsOrder,3,FALSE)","v":"75m hurdles"},"B",null,"YY","BB","RR","PP",null,null,null,null,13.4,14,15.5,16.3,null,null,null,null,0,0,0,0,null,null,null,null,{"$f":"IF(LEN(G55)=0,\"\",VLOOKUP($B54,IF($F54=\"F\",TeamSheetFemale,TeamSheetMale),CC55,FALSE))","v":"Sarah-Jane Ollis"},"Niamh Darby","Hannah Mott","Charotte Hewett","","","","",0,5,7,0,6,0,0,8,0,16.3,14,0,15.5,0,0,13.4,0,4,2,0,3,0,0,1,"Worc","DASH","Rad","Bic",0,0,0,0,"Y","B","R","P","","","","",null,null,44,19,29,14,"","","",""]
[{"$f":"B56&\"A\"","v":"14A"},14,{"$f":"VLOOKUP(B56,EventsOrder,2,FALSE)","v":12.3},{"$f":"VLOOKUP(B56,EventsOrder,4,FALSE)","v":"U11 Male"},"A",{"$f":"IF(MID(D56,5,1)=\"F\",\"F\",\"M\")","v":"M"},"Y","J","X","P","F","II","B","R",3.92,3.85,3.63,3.61,3.22,3.21,3.12,3.06,0,0,0,0,0,"II",0,0,{"$f":"IF(LEN(G56)=0,\"\",VLOOKUP($B56,IF($F56=\"F\",TeamSheetFemale,TeamSheetMale),CC56,FALSE))","v":"Harry Ferrett"},"Ethan Aldous","Sam Orange","Joshua Parker","Ashley Johnson","Theo Crick","Joel Harrison","Quinn Miell-Ingram",7,5,2,3,1,4,6,8,3.85,3.61,3.12,3.21,3.06,3.22,3.63,3.92,2,4,7,6,8,5,3,1,"Worc","Ban","Wreake","Bic","Tam","Kett","DASH","Rad","Y","J","X","P","F","I","B","R",null,null,42,7,37,12,32,24,17,27]
[{"$f":"B56&\"B\"","v":"14B"},null,null,{"$f":"VLOOKUP(B56,EventsOrder,3,FALSE)","v":"Long Jump"},"B",null,"JJ","I","PP","RR","YY","XX",null,null,3.79,3.01,2.92,2.91,2.76,2.58,null,null,0,0,"PP",0,0,0,null,null,{"$f":"IF(LEN(G57)=0,\"\",VLOOKUP($B56,IF($F56=\"F\",TeamSheetFemale,TeamSheetMale),CC57,FALSE))","v":"Archie Street"},"Aaron Holloway","Seion Alexander","Jake Edwards","Jack Adams","Jonty Brotherton","","",8,6,0,7,5,0,3,4,3.79,2.92,0,3.01,2.91,0,2.58,2.76,1,3,0,2,4,0,6,5,"Ban","Kett","Bic","Rad","Worc","Wreake",0,0,"J","I","P","R","Y","X","","",null,null,9,22,14,29,44,39,"",""]
[{"$f":"B58&\"A\"","v":"15A"},15,{"$f":"VLOOKUP(B58,EventsOrder,2,FALSE)","v":12.35},{"$f":"VLOOKUP(B58,EventsOrder,4,FALSE)","v":"U13 Male"},"A",{"$f":"IF(MID(D58,5,1)=\"F\",\"F\",\"M\")","v":"M"},"J","I","P","R","Y",null,null,null,12.6,14,14.5,14.6,16.899999999999999,null,null,null,0,0,"P",0,0,null,null,null,{"$f":"IF(LEN(G58)=0,\"\",VLOOKUP($B58,IF($F58=\"F\",TeamSheetFemale,TeamSheetMale),CC58,FALSE))","v":"Christopher Charles"},"Oliver Laskey","Samuel Rayson","Theau Seabrook","Alfie Robbins","","","",8,6,0,7,5,0,0,4,12.6,14.5,0,14,14.6,0,0,16.899999999999999,1,3,0,2,4,0,0,5,"Ban","Kett","Bic","Rad","Worc",0,0,0,"J","I","P","R","Y","","","",null,null,7,22,12,27,42,"","",""]
[{"$f":"B58&\"B\"","v":"15B"},null,null,{"$f":"VLOOKUP(B58,EventsOrder,3,FALSE)","v":"75m hurdles"},"B",null,"RR",null,null,null,null,null,null,null,18,null,null,null,null,null,null,null,0,null,null,null,null,null,null,null,{"$f":"IF(LEN(G59)=0,\"\",VLOOKUP($B58,IF($F58=\"F\",TeamSheetFemale,TeamSheetMale),CC59,FALSE))","v":"Josh Cumberland"},"","","","","","","",0,0,0,0,8,0,0,0,0,0,0,0,18,0,0,0,0,0,0,0,1,0,0,0,"Rad",0,0,0,0,0,0,0,"R","","","","","","","",null,null,29,"","","","","","",""]
[{"$f":"B60&\"A\"","v":"16A"},16,{"$f":"VLOOKUP(B60,EventsOrder,2,FALSE)","v":12.4},{"$f":"VLOOKUP(B60,EventsOrder,4,FALSE)","v":"U15 Male"},"A",{"$f":"IF(MID(D60,5,1)=\"F\",\"F\",\"M\")","v":"M"},"I","B","X","F","YY",null,null,null,"2.10.8","2.19.3","2.26.0","2.34.8",null,null,null,null,0,0,0,0,0,null,null,null,{"$f":"IF(LEN(G60)=0,\"\",VLOOKUP($B60,IF($F60=\"F\",TeamSheetFemale,TeamSheetMale),CC60,FALSE))","v":"Dylan Bowley"},"Tom Slater",0,"James Walker","Reece Westwood","","","",0,0,7,8,0,5,6,4,0,0,"2.19.3","2.10.8",0,"2.34.8","2.26.0",0,0,0,2,1,0,4,3,5,"Kett","DASH","Wreake","Tam","Worc",0,0,0,"I","B","X","F","Y","","","",null,null,22,{"$f":"IF(LEN(H60)=0,\"\",HLOOKUP(BT60,$CC$26:$CJ$28,2,FALSE)+IF(LEN(H60)=2,2,0))","v":17},{"$f":"IF(LEN(I60)=0,\"\",HLOOKUP(BU60,$CC$26:$CJ$28,2,FALSE)+IF(LEN(I60)=2,2,0))","v":37},{"$f":"IF(LEN(J60)=0,\"\",HLOOKUP(BV60,$CC$26:$CJ$28,2,FALSE)+IF(LEN(J60)=2,2,0))","v":32},{"$f":"IF(LEN(K60)=0,\"\",HLOOKUP(BW60,$CC$26:$CJ$28,2,FALSE)+IF(LEN(K60)=2,2,0))","v":44},{"$f":"IF(LEN(L60)=0,\"\",HLOOKUP(BX60,$CC$26:$CJ$28,2,FALSE)+IF(LEN(L60)=2,2,0))","v":""},{"$f":"IF(LEN(M60)=0,\"\",HLOOKUP(BY60,$CC$26:$CJ$28,2,FALSE)+IF(LEN(M60)=2,2,0))","v":""},{"$f":"IF(LEN(N60)=0,\"\",HLOOKUP(BZ60,$CC$26:$CJ$28,2,FALSE)+IF(LEN(N60)=2,2,0))","v":""}]
[{"$f":"B60&\"B\"","v":"16B"},null,null,{"$f":"VLOOKUP(B60,EventsOrder,3,FALSE)","v":"800m"},"B",null,"BB","YY",null,null,null,null,null,null,"2.20.5","2.50.3",null,null,null,null,null,null,0,0,null,null,null,null,null,null,{"$f":"IF(LEN(G61)=0,\"\",VLOOKUP($B60,IF($F60=\"F\",TeamSheetFemale,TeamSheetMale),CC61,FALSE))","v":"Adam Boon"},"Reece Westwood","","","","","","",0,0,8,0,0,0,0,7,0,0,"2.20.5",0,0,0,0,"2.50.3",0,0,1,0,0,0,0,2,"DASH","Worc",0,0,0,0,0,0,"B","Y","","","","","","",null,null,19,44,"","","","","",""]
[{"$f":"B62&\"A\"","v":"17A"},17,{"$f":"VLOOKUP(B62,EventsOrder,2,FALSE)","v":12.55},{"$f":"VLOOKUP(B62,EventsOrder,4,FALSE)","v":"U15 Female"},"A",{"$f":"IF(MID(D62,5,1)=\"F\",\"F\",\"M\")","v":"F"},"B","Y","R","I",null,null,null,null,1.65,1.6,1.45,1.1000000000000001,null,null,null,null,0,0,0,0,null,null,null,null,{"$f":"IF(LEN(G62)=0,\"\",VLOOKUP($B62,IF($F62=\"F\",TeamSheetFemale,TeamSheetMale),CC62,FALSE))","v":"Emma Shorwood"},"Danielle Hopkins","Holly Griffiths-Brown","Alex Beale","","","","",{"$f":"IF(OR($F62=\"NS\",AU62=\"DNF\"),0,IF(BC62>0,$BK$29+1-BC62,0))","v":0},{"$f":"IF(OR($F62=\"NS\",AV62=\"DNF\"),0,IF(BD62>0,$BK$29+1-BD62,0))","v":0},{"$f":"IF(OR($F62=\"NS\",AW62=\"DNF\"),0,IF(BE62>0,$BK$29+1-BE62,0))","v":8},{"$f":"IF(OR($F62=\"NS\",AX62=\"DNF\"),0,IF(BF62>0,$BK$29+1-BF62,0))","v":5},{"$f":"IF(OR($F62=\"NS\",AY62=\"DNF\"),0,IF(BG62>0,$BK$29+1-BG62,0))","v":6},{"$f":"IF(OR($F62=\"NS\",AZ62=\"DNF\"),0,IF(BH62>0,$BK$29+1-BH62,0))","v":0},{"$f":"IF(OR($F62=\"NS\",BA62=\"DNF\"),0,IF(BI62>0,$BK$29+1-BI62,0))","v":0},{"$f":"IF(OR($F62=\"NS\",BB62=\"DNF\"),0,IF(BJ62>0,$BK$29+1-BJ62,0))","v":7},0,0,1.65,1.1000000000000001,1.45,0,0,1.6,0,0,1,4,3,0,0,2,"DASH","Worc","Rad","Kett",0,0,0,0,"B","Y","R","I","","","","",null,null,{"$f":"IF(LEN(G62)=0,\"\",HLOOKUP(BS62,$CC$26:$CJ$28,2,FALSE)+IF(LEN(G62)=2,2,0))","v":17},42,27,22,"","","",""]
[{"$f":"B62&\"B\"","v":"17B"},null,null,{"$f":"VLOOKUP(B62,EventsOrder,3,FALSE)","v":"High Jump"},"B",null,null,null,null,null,null,null,null,null,null,null,null,null,null,null,null,null,null,null,null,null,null,null,null,null,{"$f":"IF(LEN(G63)=0,\"\",VLOOKUP($B62,IF($F62=\"F\",TeamSheetFemale,TeamSheetMale),CC63,FALSE))","v":""},"","","","","","","",0,0,0,0,0,0,0,0,0,0,0,0,0,0,0,0,0,0,0,0,0,0,0,0,0,0,0,0,0,0,0,0,"","","","","","","","",null,null,"","","","","","","",""]
[{"$f":"B64&\"A\"","v":"18A"},18,{"$f":"VLOOKUP(B64,EventsOrder,2,FALSE)","v":12.5},{"$f":"VLOOKUP(B64,EventsOrder,4,FALSE)","v":"U17 Men"},"C",{"$f":"IF(MID(D64,5,1)=\"F\",\"F\",\"M\")","v":"M"},"B","R","X","Y",null,null,null,null,"2.10.3","2.11.2","2.11.7","2.15.8",null,null,null,null,0,0,0,0,null,null,null,null,{"$f":"IF(LEN(G64)=0,\"\",VLOOKUP($B64,IF($F64=\"F\",TeamSheetFemale,TeamSheetMale),CC64,FALSE))","v":"Jayvana Pramolo"},"Blake Strickland Bennett","Charlie McGlinchey","Phil Capewell","","","","",0,0,8,0,7,0,6,5,0,0,"2.10.3",0,"2.11.2",0,"2.11.7","2.15.8",0,0,1,0,2,0,3,4,"DASH","Rad","Wreake","Worc",0,0,0,0,"B","R","X","Y","","","","",null,null,17,27,37,42,"","","",""]
[{"$f":"B64&\"B\"","v":"18B"},null,null,{"$f":"VLOOKUP(B64,EventsOrder,3,FALSE)","v":"800m"},"D",null,"XX","RR",null,null,null,null,null,null,"2.21.5","2.29.2",null,null,null,null,null,null,0,0,null,null,null,null,null,null,{"$f":"IF(LEN(G65)=0,\"\",VLOOKUP($B64,IF($F64=\"F\",TeamSheetFemale,TeamSheetMale),CC65,FALSE))","v":"George Palmer"},"Rory Sear","","","","","","",0,0,0,0,7,0,8,0,0,0,0,0,"2.29.2",0,"2.21.5",0,0,0,0,0,2,0,1,0,"Wreake","Rad",0,0,0,0,0,0,"X","R","","","","","","",null,null,39,29,"","","","","",""]
[{"$f":"B66&\"A\"","v":"19A"},19,{"$f":"VLOOKUP(B66,EventsOrder,2,FALSE)","v":1},{"$f":"VLOOKUP(B66,EventsOrder,4,FALSE)","v":"U17 Female"},"A",{"$f":"IF(MID(D66,5,1)=\"F\",\"F\",\"M\")","v":"F"},"Y","J","R",null,null,null,null,null,12.7,12.9,13.8,null,null,null,null,null,0,0,0,null,null,null,null,null,{"$f":"IF(LEN(G66)=0,\"\",VLOOKUP($B66,IF($F66=\"F\",TeamSheetFemale,TeamSheetMale),CC66,FALSE))","v":"Georgia Clarke"},"Helen Dubber","Victoria Harte","","","","","",7,0,0,0,6,0,0,8,12.9,0,0,0,13.8,0,0,12.7,{"$f":"IF(ISNA(MATCH(BC$29,$BS66:$BZ66,0)),0,MATCH(BC$29,$BS66:$BZ66,0))","v":2},0,0,0,3,0,0,1,"Worc","Ban","Rad",0,0,0,0,0,"Y","J","R","","","","","",null,null,42,{"$f":"IF(LEN(H66)=0,\"\",HLOOKUP(BT66,$CC$26:$CJ$28,2,FALSE)+IF(LEN(H66)=2,2,0))","v":7},27,"","","","",""]
[{"$f":"B66&\"B\"","v":"19B"},null,null,{"$f":"VLOOKUP(B66,EventsOrder,3,FALSE)","v":"80m hurdles (U17)"},"B",null,"RR","YY","JJ",null,null,null,null,null,14,16.100000000000001,"DNF",null,null,null,null,null,0,0,0,null,null,null,null,null,{"$f":"IF(LEN(G67)=0,\"\",VLOOKUP($B66,IF($F66=\"F\",TeamSheetFemale,TeamSheetMale),CC67,FALSE))","v":"Megan Baker"},"Abigail Gill","Paige Cooper","","","","","",0,0,0,0,8,0,0,7,{"$f":"OFFSET($N67,0,BC67)","v":"DNF"},{"$f":"OFFSET($N67,0,BD67)","v":0},{"$f":"OFFSET($N67,0,BE67)","v":0},{"$f":"OFFSET($N67,0,BF67)","v":0},14,0,0,16.100000000000001,3,0,0,0,1,0,0,2,"Rad","Worc","Ban",0,0,0,0,0,"R","Y","J","","","","","",null,null,29,44,9,"","","","",""]
[{"$f":"B68&\"A\"","v":"20A"},20,{"$f":"VLOOKUP(B68,EventsOrder,2,FALSE)","v":1.05},{"$f":"VLOOKUP(B68,EventsOrder,4,FALSE)","v":"U15 Male"},"A",{"$f":"IF(MID(D68,5,1)=\"F\",\"F\",\"M\")","v":"M"},"I",null,null,null,null,null,null,null,13.8,null,null,null,null,null,null,null,0,null,null,null,null,null,null,null,{"$f":"IF(LEN(G68)=0,\"\",VLOOKUP($B68,IF($F68=\"F\",TeamSheetFemale,TeamSheetMale),CC68,FALSE))","v":"Lewis-Morgan Barton"},"","","","","","","",0,0,0,8,0,0,0,0,0,0,0,13.8,0,0,0,0,0,0,0,1,0,0,0,0,"Kett",0,0,0,0,0,0,0,"I","","","","","","","",null,null,{"$f":"IF(LEN(G68)=0,\"\",HLOOKUP(BS68,$CC$26:$CJ$28,2,FALSE)+IF(LEN(G68)=2,2,0))","v":22},"","","","","","",""]
[{"$f":"B68&\"B\"","v":"20B"},null,null,{"$f":"VLOOKUP(B68,EventsOrder,3,FALSE)","v":"80m hurdles"},"B",null,null,null,null,null,null,null,null,null,null,null,null,null,null,null,null,null,null,null,null,null,null,null,null,null,{"$f":"IF(LEN(G69)=0,\"\",VLOOKUP($B68,IF($F68=\"F\",TeamSheetFemale,TeamSheetMale),CC69,FALSE))","v":""},"","","","","","","",0,0,0,0,0,0,0,0,0,0,0,0,0,0,0,0,0,0,0,0,0,0,0,0,0,0,0,0,0,0,0,0,"","","","","","","","",null,null,"","","","","","","",""]
[{"$f":"B70&\"A\"","v":"21A"},21,{"$f":"VLOOKUP(B70,EventsOrder,2,FALSE)","v":1},{"$f":"VLOOKUP(B70,EventsOrder,4,FALSE)","v":"U15 Female"},"C",{"$f":"IF(MID(D70,5,1)=\"F\",\"F\",\"M\")","v":"F"},"Y","I","P","BB","RR","J","X","F",4.53,4.2300000000000004,4.1500000000000004,4.07,3.97,3.97,3.83,3.78,0,0,0,0,0,0,0,0,{"$f":"IF(LEN(G70)=0,\"\",VLOOKUP($B70,IF($F70=\"F\",TeamSheetFemale,TeamSheetMale),CC70,FALSE))","v":"Ellie Harrison"},"Blainne Conway","Lauren Garside","Niamh Darby","Robyn Swain","Emelina Darvell","Poppy Tott-Buswell","Eve Clawley",3,6,5,7,4,1,2,8,3.97,4.1500000000000004,4.07,4.2300000000000004,3.97,3.78,3.83,4.53,6,3,4,2,5,8,7,1,"Worc","Kett","Bic","DASH","Rad","Ban","Wreake","Tam","Y","I","P","B","R","J","X","F",null,null,42,22,12,19,29,7,37,32]
[{"$f":"B70&\"B\"","v":"21B"},null,null,{"$f":"VLOOKUP(B70,EventsOrder,3,FALSE)","v":"Long Jump"},"D",null,"YY","JJ","B","R","XX","II","PP",null,4.2,3.89,3.87,3.66,3.45,3.32,3.03,null,0,0,0,0,0,"II",0,null,{"$f":"IF(LEN(G71)=0,\"\",VLOOKUP($B70,IF($F70=\"F\",TeamSheetFemale,TeamSheetMale),CC71,FALSE))","v":"Sarah-Jane Ollis"},"Elizabeth Eskender","Jessica Grainger","Olivia Butler","Sophie Thorpe","Harmony Hart","Tia Brown","",7,2,6,3,5,0,4,8,3.89,3.03,3.87,3.32,3.66,0,3.45,4.2,2,7,3,6,4,0,5,1,"Worc","Ban","DASH","Rad","Wreake","Kett","Bic",0,"Y","J","B","R","X","I","P","",null,null,44,9,17,27,39,24,14,""]
[{"$f":"B72&\"A\"","v":"22A"},22,{"$f":"VLOOKUP(B72,EventsOrder,2,FALSE)","v":1},{"$f":"VLOOKUP(B72,EventsOrder,4,FALSE)","v":"U15 Male"},"A",{"$f":"IF(MID(D72,5,1)=\"F\",\"F\",\"M\")","v":"M"},"R","X","Y","I","P","BB","F",null,8.61,8.43,7.98,6.76,6.4,6.04,5.7,null,0,0,0,0,"P",0,0,null,{"$f":"IF(LEN(G72)=0,\"\",VLOOKUP($B72,IF($F72=\"F\",TeamSheetFemale,TeamSheetMale),CC72,FALSE))","v":"Will Smith"},"Euan Jones","Andrew Jay","Dylan Bowley","Will Simms","Harry Walters","James Walker","",0,4,3,5,8,2,7,6,0,6.4,6.04,6.76,8.61,5.7,8.43,7.98,0,5,6,4,1,7,2,3,"Rad","Wreake","Worc","Kett","Bic","DASH","Tam",0,"R","X","Y","I","P","B","F","",null,null,27,37,42,22,12,19,32,""]
[{"$f":"B72&\"B\"","v":"22B"},null,null,{"$f":"VLOOKUP(B72,EventsOrder,3,FALSE)","v":"Shot"},"B",null,"II","XX","YY","PP","RR","B",null,null,6.4,5.99,5.75,5.69,4.07,3.83,null,null,"II",0,0,"PP",0,0,null,null,{"$f":"IF(LEN(G73)=0,\"\",VLOOKUP($B72,IF($F72=\"F\",TeamSheetFemale,TeamSheetMale),CC73,FALSE))","v":"Ethan Nelis"},"Josh Rocks","Reece Westwood","Samuel Worfolk","Cameron King","Zak Thurley","","",0,5,3,8,4,0,7,6,0,5.69,3.83,6.4,4.07,0,5.99,5.75,0,4,6,1,5,0,2,3,"Kett","Wreake","Worc","Bic","Rad","DASH",0,0,"I","X","Y","P","R","B","","",null,null,24,39,44,14,29,17,"",""]
[{"$f":"B74&\"A\"","v":"23A"},23,{"$f":"VLOOKUP(B74,EventsOrder,2,FALSE)","v":1},{"$f":"VLOOKUP(B74,EventsOrder,4,FALSE)","v":"U17 Men"},"A",{"$f":"IF(MID(D74,5,1)=\"F\",\"F\",\"M\")","v":"M"},"R","I",null,null,null,null,null,null,19.04,13.76,null,null,null,null,null,null,0,0,null,null,null,null,null,null,{"$f":"IF(LEN(G74)=0,\"\",VLOOKUP($B74,IF($F74=\"F\",TeamSheetFemale,TeamSheetMale),CC74,FALSE))","v":"Harry Woodcock"},"Josh Cannell","","","","","","",0,0,0,7,8,0,0,0,0,0,0,13.76,19.04,0,0,0,0,0,0,2,1,0,0,0,"Rad","Kett",0,0,0,0,0,0,"R","I","","","","","","",null,null,27,22,"","","","","",""]
[{"$f":"B74&\"B\"","v":"23B"},null,null,{"$f":"VLOOKUP(B74,EventsOrder,3,FALSE)","v":"Discus"},"B",null,null,null,null,null,null,null,null,null,null,null,null,null,null,null,null,null,null,null,null,null,null,null,null,null,{"$f":"IF(LEN(G75)=0,\"\",VLOOKUP($B74,IF($F74=\"F\",TeamSheetFemale,TeamSheetMale),CC75,FALSE))","v":""},"","","","","","","",0,0,0,0,0,0,0,0,0,0,0,0,0,0,0,0,0,0,0,0,0,0,0,0,0,0,0,0,0,0,0,0,"","","","","","","","",null,null,"","","","","","","",""]
[{"$f":"B76&\"A\"","v":"24A"},24,{"$f":"VLOOKUP(B76,EventsOrder,2,FALSE)","v":1},{"$f":"VLOOKUP(B76,EventsOrder,4,FALSE)","v":"U13 Male"},"A",{"$f":"IF(MID(D76,5,1)=\"F\",\"F\",\"M\")","v":"M"},null,null,null,null,null,null,null,null,null,null,null,null,null,null,null,null,null,null,null,null,null,null,null,null,{"$f":"IF(LEN(G76)=0,\"\",VLOOKUP($B76,IF($F76=\"F\",TeamSheetFemale,TeamSheetMale),CC76,FALSE))","v":""},"","","","","","","",0,0,0,0,0,0,0,0,0,0,0,0,0,0,0,0,0,0,0,0,0,0,0,0,{"$f":"IF(LEN(G76)>0,VLOOKUP(LEFT(G76,1),Clubs,5,FALSE),0)","v":0},{"$f":"IF(LEN(H76)>0,VLOOKUP(LEFT(H76,1),Clubs,5,FALSE),0)","v":0},{"$f":"IF(LEN(I76)>0,VLOOKUP(LEFT(I76,1),Clubs,5,FALSE),0)","v":0},{"$f":"IF(LEN(J76)>0,VLOOKUP(LEFT(J76,1),Clubs,5,FALSE),0)","v":0},{"$f":"IF(LEN(K76)>0,VLOOKUP(LEFT(K76,1),Clubs,5,FALSE),0)","v":0},{"$f":"IF(LEN(L76)>0,VLOOKUP(LEFT(L76,1),Clubs,5,FALSE),0)","v":0},{"$f":"IF(LEN(M76)>0,VLOOKUP(LEFT(M76,1),Clubs,5,FALSE),0)","v":0},{"$f":"IF(LEN(N76)>0,VLOOKUP(LEFT(N76,1),Clubs,5,FALSE),0)","v":0},{"$f":"LEFT(G76,1)","v":""},"","","","","","","",null,null,"","","","","","","",""]
[{"$f":"B76&\"B\"","v":"24B"},null,null,{"$f":"VLOOKUP(B76,EventsOrder,3,FALSE)","v":"Javelin"},"B",null,null,null,null,null,null,null,null,null,null,null,null,null,null,null,null,null,null,null,null,null,null,null,null,null,{"$f":"IF(LEN(G77)=0,\"\",VLOOKUP($B76,IF($F76=\"F\",TeamSheetFemale,TeamSheetMale),CC77,FALSE))","v":""},"","","","","","","",0,0,0,0,0,0,0,0,0,0,0,0,{"$f":"OFFSET($N77,0,BG77)","v":0},{"$f":"OFFSET($N77,0,BH77)","v":0},{"$f":"OFFSET($N77,0,BI77)","v":0},{"$f":"OFFSET($N77,0,BJ77)","v":0},0,0,0,0,0,0,0,0,0,0,0,0,0,0,0,0,"",{"$f":"LEFT(H77,1)","v":""},{"$f":"LEFT(I77,1)","v":""},{"$f":"LEFT(J77,1)","v":""},{"$f":"LEFT(K77,1)","v":""},{"$f":"LEFT(L77,1)","v":""},{"$f":"LEFT(M77,1)","v":""},{"$f":"LEFT(N77,1)","v":""},null,null,"","","","","","","",""]
[{"$f":"B78&\"A\"","v":"25A"},25,{"$f":"VLOOKUP(B78,EventsOrder,2,FALSE)","v":1.1499999999999999},{"$f":"VLOOKUP(B78,EventsOrder,4,FALSE)","v":"U13 Female"},"A",{"$f":"IF(MID(D78,5,1)=\"F\",\"F\",\"M\")","v":"F"},"X","Y","R","F","I","B","P","J","2.35.0","2.39.5","2.43.5","2.47.8","2.56.4","2.58.6","3.07.2","3.11.9",0,0,0,0,0,0,0,0,{"$f":"IF(LEN(G78)=0,\"\",VLOOKUP($B78,IF($F78=\"F\",TeamSheetFemale,TeamSheetMale),CC78,FALSE))","v":"Indie King"},"Katelyn Griffiths","Kaela Nelson","Emily Pearce","Mia Watts","Zara Gibbs","Emilia Sims","Raegan Sellers",1,2,3,4,6,5,8,7,"3.11.9","3.07.2","2.58.6","2.56.4","2.43.5","2.47.8","2.35.0","2.39.5",8,7,6,5,3,4,1,2,"Wreake","Worc","Rad","Tam","Kett","DASH","Bic","Ban","X","Y","R","F","I","B","P","J",null,null,37,42,27,32,22,17,12,7]
[{"$f":"B78&\"B\"","v":"25B"},null,null,{"$f":"VLOOKUP(B78,EventsOrder,3,FALSE)","v":"800m"},"B",null,"XX","YY","FF","JJ","BB","PP","RR","II","2.38.5","2.46.8","2.51.5","3.03.6","3.10.7","3.14.9","3.15.7","3.28.2",0,0,"FF",0,0,0,0,"II",{"$f":"IF(LEN(G79)=0,\"\",VLOOKUP($B78,IF($F78=\"F\",TeamSheetFemale,TeamSheetMale),CC79,FALSE))","v":"Flora Miskin-Young"},"Olivia Tonkinson","Alice Mason","Elizabeth Anderson","Libby Davis","Erin Fabri","Amelia Brew","Imogen Nix",5,3,4,1,2,6,8,7,"3.03.6","3.14.9","3.10.7","3.28.2","3.15.7","2.51.5","2.38.5","2.46.8",4,6,5,8,7,3,1,2,"Wreake","Worc","Tam","Ban","DASH","Bic","Rad","Kett","X","Y","F","J","B","P","R","I",null,null,39,44,34,9,19,14,29,24]
[{"$f":"B80&\"A\"","v":"26A"},26,{"$f":"VLOOKUP(B80,EventsOrder,2,FALSE)","v":1.25},{"$f":"VLOOKUP(B80,EventsOrder,4,FALSE)","v":"U15 Female"},"A",{"$f":"IF(MID(D80,5,1)=\"F\",\"F\",\"M\")","v":"F"},"B","R","X","Y","P","F","I",null,"2.29.4","2.30.0","2.30.6","2.31.6","2.33.7","2.41.0","2.48.8",null,0,0,0,0,0,0,0,null,{"$f":"IF(LEN(G80)=0,\"\",VLOOKUP($B80,IF($F80=\"F\",TeamSheetFemale,TeamSheetMale),CC80,FALSE))","v":"Grace Slater"},"Martha Adams","Zena Challenger","Deanna Clarke","Molly Acton","Sian Lewis","Olivia Knibb","",0,4,8,2,7,3,6,5,0,"2.33.7","2.29.4","2.48.8","2.30.0","2.41.0","2.30.6","2.31.6",0,5,1,7,2,6,3,4,"DASH","Rad","Wreake","Worc","Bic","Tam","Kett",0,"B","R","X","Y","P","F","I","",null,null,17,27,37,42,12,32,22,""]
[{"$f":"B80&\"B\"","v":"26B"},null,null,{"$f":"VLOOKUP(B80,EventsOrder,3,FALSE)","v":"800m"},"B",null,"XX","RR","YY",null,null,null,null,null,"2.42.4","2.51.9","2.52.5",null,null,null,null,null,0,0,0,null,null,null,null,null,{"$f":"IF(LEN(G81)=0,\"\",VLOOKUP($B80,IF($F80=\"F\",TeamSheetFemale,TeamSheetMale),CC81,FALSE))","v":"Sophie Thorpe"},"Hannah Mott","Elise Blake","","","","","",0,0,0,0,7,0,8,6,0,0,0,0,"2.51.9",0,"2.42.4","2.52.5",0,0,0,0,2,0,1,3,"Wreake","Rad","Worc",0,0,0,0,0,"X","R","Y","","","","","",null,null,39,29,44,"","","","",""]
[{"$f":"B82&\"A\"","v":"27A"},27,{"$f":"VLOOKUP(B82,EventsOrder,2,FALSE)","v":1.35},{"$f":"VLOOKUP(B82,EventsOrder,4,FALSE)","v":"U17 Men"},"A",{"$f":"IF(MID(D82,5,1)=\"F\",\"F\",\"M\")","v":"M"},"R",null,null,null,null,null,null,null,15.6,null,null,null,null,null,null,null,0,null,null,null,null,null,null,null,{"$f":"IF(LEN(G82)=0,\"\",VLOOKUP($B82,IF($F82=\"F\",TeamSheetFemale,TeamSheetMale),CC82,FALSE))","v":"Blake Strickland Bennett"},"","","","","","","",0,0,0,0,8,0,0,0,0,0,0,0,15.6,0,0,0,{"$f":"IF(ISNA(MATCH(BC$29,$BS82:$BZ82,0)),0,MATCH(BC$29,$BS82:$BZ82,0))","v":0},0,0,0,1,0,0,0,"Rad",0,0,0,0,0,0,0,"R","","","","","","","",null,null,27,"","","","","","",""]
[{"$f":"B82&\"B\"","v":"27B"},null,null,{"$f":"VLOOKUP(B82,EventsOrder,3,FALSE)","v":"100m hurdles"},"B",null,"RR",null,null,null,null,null,null,null,15.2,null,null,null,null,null,null,null,0,null,null,null,null,null,null,null,{"$f":"IF(LEN(G83)=0,\"\",VLOOKUP($B82,IF($F82=\"F\",TeamSheetFemale,TeamSheetMale),CC83,FALSE))","v":"Harry New"},"","","","","","","",0,0,0,0,8,0,0,0,0,0,0,0,15.2,0,0,0,0,0,0,0,1,0,0,0,"Rad",0,0,0,0,0,0,0,"R","","","","","","","",null,null,29,"","","","","","",""]
[{"$f":"B84&\"A\"","v":"28A"},28,{"$f":"VLOOKUP(B84,EventsOrder,2,FALSE)","v":1.4},{"$f":"VLOOKUP(B84,EventsOrder,4,FALSE)","v":"U17 F/Women"},"A",{"$f":"IF(MID(D84,5,1)=\"F\",\"F\",\"M\")","v":"F"},"R","I","X",null,null,null,null,null,"2.24.4","3.32.2","2.44.5",null,null,null,null,null,0,0,0,null,null,null,null,null,{"$f":"IF(LEN(G84)=0,\"\",VLOOKUP($B84,IF($F84=\"F\",TeamSheetFemale,TeamSheetMale),CC84,FALSE))","v":"Faith Brew U20"},"Harriett Jolley","Fern Harrison","","","","","",0,0,0,7,8,0,6,0,0,0,0,"3.32.2","2.24.4",0,"2.44.5",0,0,0,0,2,1,0,3,0,"Rad","Kett","Wreake",0,0,0,0,0,"R","I","X","","","","","",null,null,27,22,37,"","","","",""]
[{"$f":"B84&\"B\"","v":"28B"},null,null,{"$f":"VLOOKUP(B84,EventsOrder,3,FALSE)","v":"800m"},"B",null,"RR","II",null,null,null,null,null,null,"2.28.5","2.36.3",null,null,null,null,null,null,0,"II",null,null,null,null,null,null,{"$f":"IF(LEN(G85)=0,\"\",VLOOKUP($B84,IF($F84=\"F\",TeamSheetFemale,TeamSheetMale),CC85,FALSE))","v":"Jess Anstice U23"},"Charlotte Maywood","","","","","","",0,0,0,7,8,0,0,0,0,0,0,"2.36.3","2.28.5",0,0,0,0,0,0,2,1,0,0,0,"Rad","Kett",0,0,0,0,0,0,"R","I","","","","","","",null,null,29,24,"","","","","",""]
[{"$f":"B86&\"A\"","v":"29A"},29,{"$f":"VLOOKUP(B86,EventsOrder,2,FALSE)","v":1.5},{"$f":"VLOOKUP(B86,EventsOrder,4,FALSE)","v":"U11 Female"},"A",{"$f":"IF(MID(D86,5,1)=\"F\",\"F\",\"M\")","v":"F"},"J","X","F","P","Y","B","I","R","2.03.3","2.07.5","2.12.1","2.16.5","2.27.0","2.28.5","2.32.7","DNF",0,0,"F",0,0,0,0,0,{"$f":"IF(LEN(G86)=0,\"\",VLOOKUP($B86,IF($F86=\"F\",TeamSheetFemale,TeamSheetMale),CC86,FALSE))","v":"Tilly Lainchbury"},"Isla Cullen","Daisy Smith","Imogen Cox","Molly Davey","Neve Gibbs","Niamh Sinnott","Lily Black",8,5,3,2,0,6,7,4,"2.03.3","2.16.5","2.28.5","2.32.7","DNF","2.12.1","2.07.5","2.27.0",1,4,6,7,8,3,2,5,"Ban","Wreake","Tam","Bic","Worc","DASH","Kett","Rad","J","X","F","P","Y","B","I","R",null,null,7,37,32,12,42,17,22,27]
[{"$f":"B86&\"B\"","v":"29B"},null,null,{"$f":"VLOOKUP(B86,EventsOrder,3,FALSE)","v":"600m"},"B",null,"XX","RR","PP","FF","YY","JJ","BB","II","1.59.4","2.07.2","2.14.9","2.19.5","2.24.6","2.30.8","2.34.7","2.36.2",0,0,"PP","FF",0,0,0,"II",{"$f":"IF(LEN(G87)=0,\"\",VLOOKUP($B86,IF($F86=\"F\",TeamSheetFemale,TeamSheetMale),CC87,FALSE))","v":"Sophie Dunbobbin"},"Ainhara Ly","Isla Bohannon","Madison Rose Blencowe","Georgia Wharton","Ellie Williams","Kiera Davis","Isabella Brockway",3,6,2,1,7,5,8,4,"2.30.8","2.14.9","2.34.7","2.36.2","2.07.2","2.19.5","1.59.4","2.24.6",6,3,7,8,2,4,1,5,"Wreake","Rad","Bic","Tam","Worc","Ban","DASH","Kett","X","R","P","F","Y","J","B","I",null,null,39,29,14,34,44,9,19,24]
[{"$f":"B88&\"A\"","v":"30A"},30,{"$f":"VLOOKUP(B88,EventsOrder,2,FALSE)","v":1.55},{"$f":"VLOOKUP(B88,EventsOrder,4,FALSE)","v":"U11 Female"},"A",{"$f":"IF(MID(D88,5,1)=\"F\",\"F\",\"M\")","v":"F"},"X","J","R","XX","YY","RR",null,null,"2.01.7","2.09.1","2.16.8","2.37.1","2.37.5","2.46.2",null,null,401,559,523,402,115,525,null,null,{"$f":"IF(LEN(G88)=0,\"\",VLOOKUP($B88,IF($F88=\"F\",TeamSheetFemale,TeamSheetMale),CC88,FALSE))","v":"Harriett Lethridge"},"Olivia Cook","Audrey Winstone","Isabelle Parker","Beth Hallam","Erin Bungay","","",7,0,0,0,6,0,8,4,"2.09.1",0,0,0,"2.16.8",0,"2.01.7","2.37.5",2,0,0,0,3,0,1,5,"Wreake","Ban","Rad","Wreake","Worc","Rad",0,0,"X","J","R","X","Y","R","","",null,null,37,7,27,39,44,29,"",""]
[{"$f":"B88&\"B\"","v":"30B"},null,null,{"$f":"VLOOKUP(B88,EventsOrder,3,FALSE)","v":"600m"},"B",null,null,null,null,null,null,null,null,null,null,null,null,null,null,null,null,null,null,null,null,null,null,null,null,null,{"$f":"IF(LEN(G89)=0,\"\",VLOOKUP($B88,IF($F88=\"F\",TeamSheetFemale,TeamSheetMale),CC89,FALSE))","v":""},"","","","","","","",0,0,0,0,0,0,0,0,0,0,0,0,0,0,0,0,0,0,0,0,0,0,0,0,0,0,0,0,0,0,0,0,"","","","","","","","",null,null,"","","","","","","",""]
[{"$f":"B90&\"A\"","v":"31A"},31,{"$f":"VLOOKUP(B90,EventsOrder,2,FALSE)","v":1.4},{"$f":"VLOOKUP(B90,EventsOrder,4,FALSE)","v":"U13 Female"},"A",{"$f":"IF(MID(D90,5,1)=\"F\",\"F\",\"M\")","v":"F"},"Y","I","J","F","P","R","B",null,1.38,1.25,1.25,1.1499999999999999,1.1499999999999999,1.1000000000000001,1,null,0,0,0,0,0,0,0,null,{"$f":"IF(LEN(G90)=0,\"\",VLOOKUP($B90,IF($F90=\"F\",TeamSheetFemale,TeamSheetMale),CC90,FALSE))","v":"Amber Hopkins"},"Scarlett Maxwell-Munn","Sophie Howie","Sian Hubbard","Georgia Usher","Kaela Nelson","Kiki Thurley","",6,4,2,7,3,5,0,8,1.25,1.1499999999999999,1,1.25,1.1000000000000001,1.1499999999999999,0,1.38,3,5,7,2,6,4,0,1,"Worc","Kett","Ban","Tam","Bic","Rad","DASH",0,"Y","I","J","F","P","R","B","",null,null,{"$f":"IF(LEN(G90)=0,\"\",HLOOKUP(BS90,$CC$26:$CJ$28,2,FALSE)+IF(LEN(G90)=2,2,0))","v":42},22,7,32,12,27,17,""]
[{"$f":"B90&\"B\"","v":"31B"},null,null,{"$f":"VLOOKUP(B90,EventsOrder,3,FALSE)","v":"High Jump"},"B",null,null,null,null,null,null,null,null,null,null,null,null,null,null,null,null,null,null,null,null,null,null,null,null,null,{"$f":"IF(LEN(G91)=0,\"\",VLOOKUP($B90,IF($F90=\"F\",TeamSheetFemale,TeamSheetMale),CC91,FALSE))","v":""},"","","","","","","",0,0,0,0,0,0,0,0,0,0,0,0,0,0,0,0,0,0,0,0,0,0,0,0,0,0,0,0,0,0,0,0,"","","","","","","","",null,null,"","","","","","","",""]
[{"$f":"B92&\"A\"","v":"32A"},32,{"$f":"VLOOKUP(B92,EventsOrder,2,FALSE)","v":1.3},{"$f":"VLOOKUP(B92,EventsOrder,4,FALSE)","v":"U17 Men"},"A",{"$f":"IF(MID(D92,5,1)=\"F\",\"F\",\"M\")","v":"M"},"Y","R","B","F","X",null,null,null,6.23,5.52,4.18,4.0599999999999996,3.58,null,null,null,0,0,0,0,0,null,null,null,{"$f":"IF(LEN(G92)=0,\"\",VLOOKUP($B92,IF($F92=\"F\",TeamSheetFemale,TeamSheetMale),CC92,FALSE))","v":"Ollie Gould"},"Elliot Couse","Jayvana Pramolo","Andrew Woods","Charlie McGlinchey","","","",0,0,6,0,7,5,4,8,0,0,4.18,0,5.52,4.0599999999999996,3.58,6.23,0,0,3,0,2,4,5,1,"Worc","Rad","DASH","Tam","Wreake",0,0,0,"Y","R","B","F","X","","","",null,null,{"$f":"IF(LEN(G92)=0,\"\",HLOOKUP(BS92,$CC$26:$CJ$28,2,FALSE)+IF(LEN(G92)=2,2,0))","v":42},{"$f":"IF(LEN(H92)=0,\"\",HLOOKUP(BT92,$CC$26:$CJ$28,2,FALSE)+IF(LEN(H92)=2,2,0))","v":27},{"$f":"IF(LEN(I92)=0,\"\",HLOOKUP(BU92,$CC$26:$CJ$28,2,FALSE)+IF(LEN(I92)=2,2,0))","v":17},{"$f":"IF(LEN(J92)=0,\"\",HLOOKUP(BV92,$CC$26:$CJ$28,2,FALSE)+IF(LEN(J92)=2,2,0))","v":32},{"$f":"IF(LEN(K92)=0,\"\",HLOOKUP(BW92,$CC$26:$CJ$28,2,FALSE)+IF(LEN(K92)=2,2,0))","v":37},{"$f":"IF(LEN(L92)=0,\"\",HLOOKUP(BX92,$CC$26:$CJ$28,2,FALSE)+IF(LEN(L92)=2,2,0))","v":""},{"$f":"IF(LEN(M92)=0,\"\",HLOOKUP(BY92,$CC$26:$CJ$28,2,FALSE)+IF(LEN(M92)=2,2,0))","v":""},{"$f":"IF(LEN(N92)=0,\"\",HLOOKUP(BZ92,$CC$26:$CJ$28,2,FALSE)+IF(LEN(N92)=2,2,0))","v":""}]
[{"$f":"B92&\"B\"","v":"32B"},null,null,{"$f":"VLOOKUP(B92,EventsOrder,3,FALSE)","v":"Long Jump"},"B",null,"RR","YY",null,null,null,null,null,null,5.23,5.08,null,null,null,null,null,null,0,0,null,null,null,null,null,null,{"$f":"IF(LEN(G93)=0,\"\",VLOOKUP($B92,IF($F92=\"F\",TeamSheetFemale,TeamSheetMale),CC93,FALSE))","v":"Blake Strickland Bennett"},"Josh Bentley","","","","","","",0,0,0,0,8,0,0,7,0,0,0,0,5.23,0,0,5.08,0,0,0,0,1,0,0,2,"Rad","Worc",0,0,0,0,0,0,"R","Y","","","","","","",null,null,{"$f":"IF(LEN(G93)=0,\"\",HLOOKUP(BS93,$CC$26:$CJ$28,2,FALSE)+IF(LEN(G93)=2,2,0))","v":29},44,"","","","","",""]
[{"$f":"B94&\"A\"","v":"33A"},33,{"$f":"VLOOKUP(B94,EventsOrder,2,FALSE)","v":2},{"$f":"VLOOKUP(B94,EventsOrder,4,FALSE)","v":"U11 Male"},"C",{"$f":"IF(MID(D94,5,1)=\"F\",\"F\",\"M\")","v":"M"},"I","R","J","F","X","Y","P","B","1.50.8","1.51.8","1.55.1","2.01.5","2.03.3","2.04.7","2.05.9","2.15.0",0,0,0,0,0,0,0,0,{"$f":"IF(LEN(G94)=0,\"\",VLOOKUP($B94,IF($F94=\"F\",TeamSheetFemale,TeamSheetMale),CC94,FALSE))","v":"Alfie Frayne"},"Quinn Miell-Ingram","Ethan Aldous","Luca Bradley","Jonty Brotherton","Ellis Hartland","Timothy Jones","Corey Lees",{"$f":"IF(OR($F94=\"NS\",AU94=\"DNF\"),0,IF(BC94>0,$BK$29+1-BC94,0))","v":6},{"$f":"IF(OR($F94=\"NS\",AV94=\"DNF\"),0,IF(BD94>0,$BK$29+1-BD94,0))","v":2},{"$f":"IF(OR($F94=\"NS\",AW94=\"DNF\"),0,IF(BE94>0,$BK$29+1-BE94,0))","v":1},{"$f":"IF(OR($F94=\"NS\",AX94=\"DNF\"),0,IF(BF94>0,$BK$29+1-BF94,0))","v":8},{"$f":"IF(OR($F94=\"NS\",AY94=\"DNF\"),0,IF(BG94>0,$BK$29+1-BG94,0))","v":7},{"$f":"IF(OR($F94=\"NS\",AZ94=\"DNF\"),0,IF(BH94>0,$BK$29+1-BH94,0))","v":5},{"$f":"IF(OR($F94=\"NS\",BA94=\"DNF\"),0,IF(BI94>0,$BK$29+1-BI94,0))","v":4},{"$f":"IF(OR($F94=\"NS\",BB94=\"DNF\"),0,IF(BJ94>0,$BK$29+1-BJ94,0))","v":3},"1.55.1","2.05.9","2.15.0","1.50.8","1.51.8","2.01.5","2.03.3","2.04.7",3,7,8,1,2,4,5,6,"Kett","Rad","Ban","Tam","Wreake","Worc","Bic","DASH","I","R","J","F","X","Y","P","B",null,null,{"$f":"IF(LEN(G94)=0,\"\",HLOOKUP(BS94,$CC$26:$CJ$28,2,FALSE)+IF(LEN(G94)=2,2,0))","v":22},{"$f":"IF(LEN(H94)=0,\"\",HLOOKUP(BT94,$CC$26:$CJ$28,2,FALSE)+IF(LEN(H94)=2,2,0))","v":27},7,32,37,42,12,17]
[{"$f":"B94&\"B\"","v":"33B"},null,null,{"$f":"VLOOKUP(B94,EventsOrder,3,FALSE)","v":"600m"},"D",null,"JJ","II","RR","FF","BB","YY","PP","XX","1.58.7","2.03.4","2.08.9","2.09.1","2.11.9","2.16.9","2.18.3","2.22.6",0,"II",0,"FF",0,0,"PP",0,{"$f":"IF(LEN(G95)=0,\"\",VLOOKUP($B94,IF($F94=\"F\",TeamSheetFemale,TeamSheetMale),CC95,FALSE))","v":"Ruben Snelson"},"Theo Crick","Jake Edwards","Ashley Johnson","Reece Lees","Jack Adams","Seion Alexander","Theo York",8,2,4,7,6,5,1,3,"1.58.7","2.18.3","2.11.9","2.03.4","2.08.9","2.09.1","2.22.6","2.16.9",1,7,5,2,3,4,8,6,"Ban","Kett","Rad","Tam","DASH","Worc","Bic","Wreake","J","I","R","F","B","Y","P","X",null,null,{"$f":"IF(LEN(G95)=0,\"\",HLOOKUP(BS95,$CC$26:$CJ$28,2,FALSE)+IF(LEN(G95)=2,2,0))","v":9},24,29,34,19,44,14,39]
[{"$f":"B96&\"A\"","v":"34A"},34,{"$f":"VLOOKUP(B96,EventsOrder,2,FALSE)","v":2.0499999999999998},{"$f":"VLOOKUP(B96,EventsOrder,4,FALSE)","v":"U11 Male"},"A",{"$f":"IF(MID(D96,5,1)=\"F\",\"F\",\"M\")","v":"M"},"J","YY","JJ","RR","I","Y",null,null,"2.03.2","2.03.5","2.05.2","2.14.7","2.21.4","2.27.5",null,null,554,108,555,524,61,107,null,null,{"$f":"IF(LEN(G96)=0,\"\",VLOOKUP($B96,IF($F96=\"F\",TeamSheetFemale,TeamSheetMale),CC96,FALSE))","v":"Leo Anderson"},"Linus Burnage","Archie Street","Caspar Cumberland","Ellis Watts","Henry Adams","","",8,0,0,4,5,0,0,7,"2.03.2",0,0,"2.21.4","2.14.7",0,0,"2.03.5",1,0,0,5,4,0,0,2,"Ban","Worc","Ban","Rad","Kett","Worc",0,0,"J","Y","J","R","I","Y","","",null,null,{"$f":"IF(LEN(G96)=0,\"\",HLOOKUP(BS96,$CC$26:$CJ$28,2,FALSE)+IF(LEN(G96)=2,2,0))","v":7},44,9,29,22,42,"",""]
[{"$f":"B96&\"B\"","v":"34B"},null,null,{"$f":"VLOOKUP(B96,EventsOrder,3,FALSE)","v":"600m"},"B",null,null,null,null,null,null,null,null,null,null,null,null,null,null,null,null,null,null,null,null,null,null,null,null,null,{"$f":"IF(LEN(G97)=0,\"\",VLOOKUP($B96,IF($F96=\"F\",TeamSheetFemale,TeamSheetMale),CC97,FALSE))","v":""},"","","","","","","",0,0,0,0,0,0,0,0,0,0,0,0,0,0,0,0,0,0,0,0,0,0,0,0,0,0,0,0,0,0,0,0,"","","","","","","","",null,null,"","","","","","","",""]
[{"$f":"B98&\"A\"","v":"35A"},35,{"$f":"VLOOKUP(B98,EventsOrder,2,FALSE)","v":2.1},{"$f":"VLOOKUP(B98,EventsOrder,4,FALSE)","v":"U13 Female"},"A",{"$f":"IF(MID(D98,5,1)=\"F\",\"F\",\"M\")","v":"F"},"F","X","J","Y","I","R","P","B",14.4,14.5,14.5,14.7,14.8,15,15.3,16.399999999999999,0,0,0,0,0,0,0,0,{"$f":"IF(LEN(G98)=0,\"\",VLOOKUP($B98,IF($F98=\"F\",TeamSheetFemale,TeamSheetMale),CC98,FALSE))","v":"Niamh Kilgallen"},"Isobel Orencas","Tegan Armstrong","Lottie Bentley","Charlotte Cox","Poppy Edwards","Erin Fabri","Hannah Gadd",6,2,1,4,3,8,7,5,14.5,15.3,16.399999999999999,14.8,15,14.4,14.5,14.7,{"$f":"IF(ISNA(MATCH(BC$29,$BS98:$BZ98,0)),0,MATCH(BC$29,$BS98:$BZ98,0))","v":3},7,8,5,6,1,2,4,"Tam","Wreake","Ban","Worc","Kett","Rad","Bic","DASH","F","X","J","Y","I","R","P","B",null,null,32,37,7,42,22,27,12,17]
[{"$f":"B98&\"B\"","v":"35B"},null,null,{"$f":"VLOOKUP(B98,EventsOrder,3,FALSE)","v":"100m"},"B",null,"YY","JJ","RR","FF","II","XX","PP",null,14.8,15.3,15.4,15.7,16,16.2,16.8,null,0,0,0,"FF","II",0,0,null,{"$f":"IF(LEN(G99)=0,\"\",VLOOKUP($B98,IF($F98=\"F\",TeamSheetFemale,TeamSheetMale),CC99,FALSE))","v":"Evelyn Clarke"},"Maddy Dowden","Erin McMillian","Emily Pearce","Robyn Beale","Isabelle Wilson","Imogen Ansell","",7,2,0,4,6,5,3,8,{"$f":"OFFSET($N99,0,BC99)","v":15.3},{"$f":"OFFSET($N99,0,BD99)","v":16.8},{"$f":"OFFSET($N99,0,BE99)","v":0},{"$f":"OFFSET($N99,0,BF99)","v":16},15.4,15.7,16.2,14.8,2,7,0,5,3,4,6,1,"Worc","Ban","Rad","Tam","Kett","Wreake","Bic",0,"Y","J","R","F","I","X","P","",null,null,44,9,29,34,24,39,14,""]
[{"$f":"B100&\"A\"","v":"36A"},36,{"$f":"VLOOKUP(B100,EventsOrder,2,FALSE)","v":2.15},{"$f":"VLOOKUP(B100,EventsOrder,4,FALSE)","v":"U15 Female"},"C",{"$f":"IF(MID(D100,5,1)=\"F\",\"F\",\"M\")","v":"F"},"X","Y","I","B","J","R","F","P",13.4,13.5,13.5,13.8,13.8,14.1,14.1,14.5,0,0,0,0,0,0,0,0,{"$f":"IF(LEN(G100)=0,\"\",VLOOKUP($B100,IF($F100=\"F\",TeamSheetFemale,TeamSheetMale),CC100,FALSE))","v":"Josie Orange"},"Sarah-Jane Ollis","Annabelle Clotworthy","Isobel Fisher","Sydney Sellers","Olivia Butler","Sian Lewis","Lauren Garside",4,1,5,6,3,2,8,7,13.8,14.5,13.8,13.5,14.1,14.1,13.4,13.5,5,8,4,3,6,7,1,2,"Wreake","Worc","Kett","DASH","Ban","Rad","Tam","Bic","X","Y","I","B","J","R","F","P",null,null,37,42,22,17,7,27,32,12]
[{"$f":"B100&\"B\"","v":"36B"},null,null,{"$f":"VLOOKUP(B100,EventsOrder,3,FALSE)","v":"100m"},"D",null,"II","XX","BB","RR","PP",null,null,null,13.7,13.7,14.2,14.6,14.9,null,null,null,"II",0,0,0,0,null,null,null,{"$f":"IF(LEN(G101)=0,\"\",VLOOKUP($B100,IF($F100=\"F\",TeamSheetFemale,TeamSheetMale),CC101,FALSE))","v":"Alex Beale"},"Poppy Tott-Buswell","Niamh Darby","Robyn Swain","Charotte Hewett","","","",0,4,6,8,5,0,7,0,0,14.9,14.2,13.7,14.6,0,13.7,0,0,5,3,1,4,0,2,0,"Kett","Wreake","DASH","Rad","Bic",0,0,0,"I","X","B","R","P","","","",null,null,24,39,19,29,14,"","",""]
[{"$f":"B102&\"A\"","v":"37A"},37,{"$f":"VLOOKUP(B102,EventsOrder,2,FALSE)","v":1.5},{"$f":"VLOOKUP(B102,EventsOrder,4,FALSE)","v":"U17 Female"},"A",{"$f":"IF(MID(D102,5,1)=\"F\",\"F\",\"M\")","v":"F"},"R","Y","J","X","B","F","I",null,10.87,9.58,8.5299999999999994,7.02,6.78,6.58,5.38,null,0,0,0,0,0,"F",0,null,{"$f":"IF(LEN(G102)=0,\"\",VLOOKUP($B102,IF($F102=\"F\",TeamSheetFemale,TeamSheetMale),CC102,FALSE))","v":"Petrina Chantler-Edmond"},"Cara Clarke","Paige Cooper","Megan Luxford","Lauren Millward","Laura Lewis (Senior)","Harriett Jolley","",6,0,4,2,8,3,5,7,8.5299999999999994,0,6.78,5.38,10.87,6.58,7.02,9.58,3,0,5,7,1,6,4,2,"Rad","Worc","Ban","Wreake","DASH","Tam","Kett",0,"R","Y","J","X","B","F","I","",null,null,27,42,7,37,17,32,22,""]
[{"$f":"B102&\"B\"","v":"37B"},null,null,{"$f":"VLOOKUP(B102,EventsOrder,3,FALSE)","v":"Shot (U17)"},"B",null,"RR","YY","II",null,null,null,null,null,9.92,8.4499999999999993,4.6900000000000004,null,null,null,null,null,0,0,0,null,null,null,null,null,{"$f":"IF(LEN(G103)=0,\"\",VLOOKUP($B102,IF($F102=\"F\",TeamSheetFemale,TeamSheetMale),CC103,FALSE))","v":"Victoria Harte"},"Hannah Kenwright","Charlotte Maywood","","","","","",0,0,0,6,8,0,0,7,0,0,0,4.6900000000000004,9.92,0,0,8.4499999999999993,0,0,0,3,1,0,0,2,"Rad","Worc","Kett",0,0,0,0,0,"R","Y","I","","","","","",null,null,29,44,24,"","","","",""]
[{"$f":"B104&\"A\"","v":"38A"},38,{"$f":"VLOOKUP(B104,EventsOrder,2,FALSE)","v":1.5},{"$f":"VLOOKUP(B104,EventsOrder,4,FALSE)","v":"U13 Female"},"A",{"$f":"IF(MID(D104,5,1)=\"F\",\"F\",\"M\")","v":"F"},"Y","J","X","I","B","P","R","F",18.38,15.34,15.05,14.06,13.65,12.54,12.31,11.2,0,0,0,0,0,0,0,0,{"$f":"IF(LEN(G104)=0,\"\",VLOOKUP($B104,IF($F104=\"F\",TeamSheetFemale,TeamSheetMale),CC104,FALSE))","v":"Lucy Marriott"},"Lucy Thompson","Katie Parker","Charlotte Cox","Zara Gibbs","Amber Parker","Amelia Brew","Alice Mason",7,3,4,5,2,1,6,8,15.34,12.54,13.65,14.06,12.31,11.2,15.05,18.38,2,6,5,4,7,8,3,1,"Worc","Ban","Wreake","Kett","DASH","Bic","Rad","Tam","Y","J","X","I","B","P","R","F",null,null,42,7,37,22,17,12,27,32]
[{"$f":"B104&\"B\"","v":"38B"},null,null,{"$f":"VLOOKUP(B104,EventsOrder,3,FALSE)","v":"Discus"},"B",null,"BB","XX","YY","JJ","PP","II","FF",null,12.03,10.59,10.4,10.27,9.83,8.6999999999999993,5.18,null,0,0,0,0,0,"II","FF",null,{"$f":"IF(LEN(G105)=0,\"\",VLOOKUP($B104,IF($F104=\"F\",TeamSheetFemale,TeamSheetMale),CC105,FALSE))","v":"Alina Gunnard"},"Aoife Brotherton","Amy Dale","Nikola Bishop","Amelia Cox","Maddie Moxey","Emily Pearce","",5,4,8,3,0,2,7,6,10.27,9.83,12.03,8.6999999999999993,0,5.18,10.59,10.4,4,5,1,6,0,7,2,3,"DASH","Wreake","Worc","Ban","Bic","Kett","Tam",0,"B","X","Y","J","P","I","F","",null,null,19,39,44,9,14,24,34,""]
[{"$f":"B106&\"A\"","v":"39A"},39,{"$f":"VLOOKUP(B106,EventsOrder,2,FALSE)","v":1.5},{"$f":"VLOOKUP(B106,EventsOrder,4,FALSE)","v":"U15 Male"},"A",{"$f":"IF(MID(D106,5,1)=\"F\",\"F\",\"M\")","v":"M"},null,null,null,null,null,null,null,null,null,null,null,null,null,null,null,null,null,null,null,null,null,null,null,null,{"$f":"IF(LEN(G106)=0,\"\",VLOOKUP($B106,IF($F106=\"F\",TeamSheetFemale,TeamSheetMale),CC106,FALSE))","v":""},"","","","","","","",0,0,0,0,0,0,0,0,0,0,0,0,0,0,0,0,0,0,0,0,0,0,0,0,0,0,0,0,0,0,0,0,"","","","","","","","",null,null,"","","","","","","",""]
[{"$f":"B106&\"B\"","v":"39B"},null,null,{"$f":"VLOOKUP(B106,EventsOrder,3,FALSE)","v":"Javelin"},"B",null,null,null,null,null,null,null,null,null,null,null,null,null,null,null,null,null,null,null,null,null,null,null,null,null,{"$f":"IF(LEN(G107)=0,\"\",VLOOKUP($B106,IF($F106=\"F\",TeamSheetFemale,TeamSheetMale),CC107,FALSE))","v":""},"","","","","","","",0,0,0,0,0,0,0,0,0,0,0,0,0,0,0,0,0,0,0,0,0,0,0,0,0,0,0,0,0,0,0,0,"","","","","","","","",null,null,"","","","","","","",""]
[{"$f":"B108&\"A\"","v":"40A"},40,{"$f":"VLOOKUP(B108,EventsOrder,2,FALSE)","v":2.2000000000000002},{"$f":"VLOOKUP(B108,EventsOrder,4,FALSE)","v":"U17 F/Women"},"A",{"$f":"IF(MID(D108,5,1)=\"F\",\"F\",\"M\")","v":"F"},"Y","R","X","B","P","I",null,null,13,13.3,13.5,13.7,14,14.1,null,null,0,0,0,0,0,0,null,null,{"$f":"IF(LEN(G108)=0,\"\",VLOOKUP($B108,IF($F108=\"F\",TeamSheetFemale,TeamSheetMale),CC108,FALSE))","v":"Cara Clarke"},"Leah Brown","Ella Grainger","Lauren Millward","U20 Emily Benfield","Niamh Monaghan","","",0,4,5,3,7,0,6,8,0,14,13.7,14.1,13.3,0,13.5,13,0,5,4,6,2,0,3,1,"Worc","Rad","Wreake","DASH","Bic","Kett",0,0,"Y","R","X","B","P","I","","",null,null,42,27,37,17,12,22,"",""]
[{"$f":"B108&\"B\"","v":"40B"},null,null,{"$f":"VLOOKUP(B108,EventsOrder,3,FALSE)","v":"100m"},"B",null,"YY","BB","RR","XX","II",null,null,null,13.1,13.7,13.9,14,14.3,null,null,null,0,0,0,0,"II",null,null,null,{"$f":"IF(LEN(G109)=0,\"\",VLOOKUP($B108,IF($F108=\"F\",TeamSheetFemale,TeamSheetMale),CC109,FALSE))","v":"Georgia Clarke"},"Zara Millward","Megan Baker","Megan Luxford","Niamh Ruffles","","","",0,0,7,4,6,0,5,8,0,0,13.7,14.3,13.9,0,14,13.1,0,0,2,5,3,0,4,1,"Worc","DASH","Rad","Wreake","Kett",0,0,0,"Y","B","R","X","I","","","",null,null,44,19,29,39,24,"","",""]
[{"$f":"B110&\"A\"","v":"41A"},41,{"$f":"VLOOKUP(B110,EventsOrder,2,FALSE)","v":2.25},{"$f":"VLOOKUP(B110,EventsOrder,4,FALSE)","v":"U13 Male"},"A",{"$f":"IF(MID(D110,5,1)=\"F\",\"F\",\"M\")","v":"M"},"I","X","J","B","Y","P","R","F",13.2,13.5,13.7,13.7,14,14.5,14.9,15.2,0,0,0,0,0,"P",0,0,{"$f":"IF(LEN(G110)=0,\"\",VLOOKUP($B110,IF($F110=\"F\",TeamSheetFemale,TeamSheetMale),CC110,FALSE))","v":"Max Mowforth"},"David Seidu","Christopher Charles","Jack Compton","Adam Dudley","Ryan Simpson","Samuel Rose","Oran Au",6,3,5,8,2,1,7,4,13.7,14.5,13.7,13.2,14.9,15.2,13.5,14,3,6,4,1,7,8,2,5,"Kett","Wreake","Ban","DASH","Worc","Bic","Rad","Tam","I","X","J","B","Y","P","R","F",null,null,22,37,7,17,42,12,27,32]
[{"$f":"B110&\"B\"","v":"41B"},null,null,{"$f":"VLOOKUP(B110,EventsOrder,3,FALSE)","v":"100m"},"B",null,"II","BB","JJ","FF","RR","YY","PP","XX",14.1,14.4,14.4,14.8,14.8,14.9,15.4,16.5,"II",0,0,"FF",0,0,"PP",0,{"$f":"IF(LEN(G111)=0,\"\",VLOOKUP($B110,IF($F110=\"F\",TeamSheetFemale,TeamSheetMale),CC111,FALSE))","v":"Cole Sinnott"},"Tom Fallon","Archie Jones","Kai Buckley","Theau Seabrook","Harry Cunningham","Michael Cadle","Mackenzie Bloxham",6,2,7,8,4,5,1,3,14.4,15.4,14.4,14.1,14.8,14.8,16.5,14.9,3,7,2,1,5,4,8,6,"Kett","DASH","Ban","Tam","Rad","Worc","Bic","Wreake","I","B","J","F","R","Y","P","X",null,null,24,19,9,34,29,44,14,39]
[{"$f":"B112&\"A\"","v":"42A"},42,{"$f":"VLOOKUP(B112,EventsOrder,2,FALSE)","v":2.2999999999999998},{"$f":"VLOOKUP(B112,EventsOrder,4,FALSE)","v":"U15 Male"},"A",{"$f":"IF(MID(D112,5,1)=\"F\",\"F\",\"M\")","v":"M"},"X","R","I","J","Y","B","F","P",12.2,12.4,12.4,12.5,12.6,13.3,13.5,14,0,0,0,0,0,0,0,"P",{"$f":"IF(LEN(G112)=0,\"\",VLOOKUP($B112,IF($F112=\"F\",TeamSheetFemale,TeamSheetMale),CC112,FALSE))","v":"Euan Jones"},"Daniel Gifford","Dylan Mukhtar","WillAndrews","Marco Miller","Talinder Kumar","James Sherriff","Will Simms",5,1,3,6,7,2,8,4,12.5,14,13.3,12.4,12.4,13.5,12.2,12.6,4,8,6,3,2,7,1,5,"Wreake","Rad","Kett","Ban","Worc","DASH","Tam","Bic","X","R","I","J","Y","B","F","P",null,null,37,27,22,7,42,17,32,12]
[{"$f":"B112&\"B\"","v":"42B"},null,null,{"$f":"VLOOKUP(B112,EventsOrder,3,FALSE)","v":"100m"},"B",null,"XX","YY","RR",null,null,null,null,null,13.4,13.5,16,null,null,null,null,null,0,0,0,null,null,null,null,null,{"$f":"IF(LEN(G113)=0,\"\",VLOOKUP($B112,IF($F112=\"F\",TeamSheetFemale,TeamSheetMale),CC113,FALSE))","v":"Josh Rocks"},"Charlie Bloomfield","Richard Bungay","","","","","",0,0,0,0,6,0,8,7,0,0,0,0,16,0,13.4,13.5,0,0,0,0,3,0,1,2,"Wreake","Worc","Rad",0,0,0,0,0,"X","Y","R","","","","","",null,null,39,44,29,"","","","",""]
[{"$f":"B114&\"A\"","v":"43A"},43,{"$f":"VLOOKUP(B114,EventsOrder,2,FALSE)","v":2.35},{"$f":"VLOOKUP(B114,EventsOrder,4,FALSE)","v":"U17 Men"},"A",{"$f":"IF(MID(D114,5,1)=\"F\",\"F\",\"M\")","v":"M"},"J","Y","R","I",null,null,null,null,11.7,11.7,11.8,12,null,null,null,null,0,0,0,0,null,null,null,null,{"$f":"IF(LEN(G114)=0,\"\",VLOOKUP($B114,IF($F114=\"F\",TeamSheetFemale,TeamSheetMale),CC114,FALSE))","v":"Ollie Sprio"},"Claudio Oliviera","Harry New","Tyrese Paris-Smith","","","","",8,0,0,5,6,0,0,7,11.7,0,0,12,11.8,0,0,11.7,{"$f":"IF(ISNA(MATCH(BC$29,$BS114:$BZ114,0)),0,MATCH(BC$29,$BS114:$BZ114,0))","v":1},0,0,4,3,0,0,2,"Ban","Worc","Rad","Kett",0,0,0,0,"J","Y","R","I","","","","",null,null,7,42,27,22,"","","",""]
[{"$f":"B114&\"B\"","v":"43B"},null,null,{"$f":"VLOOKUP(B114,EventsOrder,3,FALSE)","v":"100m"},"B",null,"YY","II","JJ","RR",null,null,null,null,11.8,12.2,12.8,12.8,null,null,null,null,0,"II",0,0,null,null,null,null,{"$f":"IF(LEN(G115)=0,\"\",VLOOKUP($B114,IF($F114=\"F\",TeamSheetFemale,TeamSheetMale),CC115,FALSE))","v":"Reiss Francis"},"Achim Loibl","Felix Noble","Brett Halsey","","","","",6,0,0,7,5,0,0,8,12.8,0,0,12.2,12.8,0,0,11.8,3,0,0,2,4,0,0,1,"Worc","Kett","Ban","Rad",0,0,0,0,"Y","I","J","R","","","","",null,null,44,24,9,29,"","","",""]
[{"$f":"B116&\"A\"","v":"44A"},44,{"$f":"VLOOKUP(B116,EventsOrder,2,FALSE)","v":2.1},{"$f":"VLOOKUP(B116,EventsOrder,4,FALSE)","v":"U11 Female"},"A",{"$f":"IF(MID(D116,5,1)=\"F\",\"F\",\"M\")","v":"F"},"RR","J","F","XX","P","YY","I","B",3.36,3.3,3.26,3.21,3.19,2.89,2.7,2.4300000000000002,0,0,"F",0,0,0,0,0,{"$f":"IF(LEN(G116)=0,\"\",VLOOKUP($B116,IF($F116=\"F\",TeamSheetFemale,TeamSheetMale),CC116,FALSE))","v":"Lily Black"},"Eimear Moss","Saoirse Au","Sophie Dunbobbin","Imogen Cox","Alice Dixon","Kate Nelis","Ella Pearson",7,4,1,2,8,6,5,3,3.3,3.19,2.4300000000000002,2.7,3.36,3.26,3.21,2.89,2,5,8,7,1,3,4,6,"Rad","Ban","Tam","Wreake","Bic","Worc","Kett","DASH","R","J","F","X","P","Y","I","B",null,null,29,7,32,39,12,44,22,17]
[{"$f":"B116&\"B\"","v":"44B"},null,null,{"$f":"VLOOKUP(B116,EventsOrder,3,FALSE)","v":"Long Jump"},"B",null,"PP","R","FF","JJ","X","II","Y","BB",3.11,3.05,3.05,2.95,2.91,2.44,2.33,2.2599999999999998,"PP",0,"FF",0,0,"II",0,0,{"$f":"IF(LEN(G117)=0,\"\",VLOOKUP($B116,IF($F116=\"F\",TeamSheetFemale,TeamSheetMale),CC117,FALSE))","v":"Josephine Parker"},"Audrey Winstone","Angelica Ramkee","Tilly Lainchbury","Isla Cullen","Isabella Brockway","Beth Hallam","Kiera Adams",5,8,1,3,7,6,4,2,2.95,3.11,2.2599999999999998,2.44,3.05,3.05,2.91,2.33,4,1,8,6,2,3,5,7,"Bic","Rad","Tam","Ban","Wreake","Kett","Worc","DASH","P","R","F","J","X","I","Y","B",null,null,14,27,34,9,37,24,42,19]
[{"$f":"B118&\"A\"","v":"45A"},45,{"$f":"VLOOKUP(B118,EventsOrder,2,FALSE)","v":2.25},{"$f":"VLOOKUP(B118,EventsOrder,4,FALSE)","v":"U15 Male"},"A",{"$f":"IF(MID(D118,5,1)=\"F\",\"F\",\"M\")","v":"M"},"I","Y","B","P",null,null,null,null,1.6,1.57,1.51,1.4,null,null,null,null,0,0,0,"P",null,null,null,null,{"$f":"IF(LEN(G118)=0,\"\",VLOOKUP($B118,IF($F118=\"F\",TeamSheetFemale,TeamSheetMale),CC118,FALSE))","v":"Lewis-Morgan Barton"},"Andrew Jay","Tom Slater","Jamil Welham","","","","",0,5,6,8,0,0,0,7,0,1.4,1.51,1.6,0,0,0,1.57,0,4,3,1,0,0,0,2,"Kett","Worc","DASH","Bic",0,0,0,0,"I","Y","B","P","","","","",null,null,22,42,17,12,"","","",""]
[{"$f":"B118&\"B\"","v":"45B"},null,null,{"$f":"VLOOKUP(B118,EventsOrder,3,FALSE)","v":"High Jump"},"B",null,null,null,null,null,null,null,null,null,null,null,null,null,null,null,null,null,null,null,null,null,null,null,null,null,{"$f":"IF(LEN(G119)=0,\"\",VLOOKUP($B118,IF($F118=\"F\",TeamSheetFemale,TeamSheetMale),CC119,FALSE))","v":""},"","","","","","","",0,0,0,0,0,0,0,0,0,0,0,0,0,0,0,0,0,0,0,0,0,0,0,0,0,0,0,0,0,0,0,0,"","","","","","","","",null,null,"","","","","","","",""]
[{"$f":"B120&\"A\"","v":"46A"},46,{"$f":"VLOOKUP(B120,EventsOrder,2,FALSE)","v":{"$error":"#N/A"}},{"$f":"VLOOKUP(B120,EventsOrder,4,FALSE)","v":{"$error":"#N/A"}},"A",{"$f":"IF(MID(D120,5,1)=\"F\",\"F\",\"M\")","v":{"$error":"#N/A"}},null,null,null,null,null,null,null,null,null,null,null,null,null,null,null,null,null,null,null,null,null,null,null,null,{"$f":"IF(LEN(G120)=0,\"\",VLOOKUP($B120,IF($F120=\"F\",TeamSheetFemale,TeamSheetMale),CC120,FALSE))","v":""},"","","","","","","",{"$error":"#N/A"},{"$error":"#N/A"},{"$error":"#N/A"},{"$error":"#N/A"},{"$error":"#N/A"},{"$error":"#N/A"},{"$error":"#N/A"},{"$error":"#N/A"},0,0,0,0,0,0,0,0,0,0,0,0,0,0,0,0,0,0,0,0,0,0,0,0,"","","","","","","","",null,null,"","","","","","","",""]
[{"$f":"B120&\"B\"","v":"46B"},null,null,{"$f":"VLOOKUP(B120,EventsOrder,3,FALSE)","v":{"$error":"#N/A"}},"B",null,null,null,null,null,null,null,null,null,null,null,null,null,null,null,null,null,null,null,null,null,null,null,null,null,{"$f":"IF(LEN(G121)=0,\"\",VLOOKUP($B120,IF($F120=\"F\",TeamSheetFemale,TeamSheetMale),CC121,FALSE))","v":""},"","","","","","","",0,0,0,0,0,0,0,0,0,0,0,0,0,0,0,0,0,0,0,0,0,0,0,0,0,0,0,0,0,0,0,0,"","","","","","","","",null,null,"","","","","","","",""]
[{"$f":"B122&\"A\"","v":"47A"},47,{"$f":"VLOOKUP(B122,EventsOrder,2,FALSE)","v":{"$error":"#N/A"}},{"$f":"VLOOKUP(B122,EventsOrder,4,FALSE)","v":{"$error":"#N/A"}},"A",{"$f":"IF(MID(D122,5,1)=\"F\",\"F\",\"M\")","v":{"$error":"#N/A"}},null,null,null,null,null,null,null,null,null,null,null,null,null,null,null,null,null,null,null,null,null,null,null,null,{"$f":"IF(LEN(G122)=0,\"\",VLOOKUP($B122,IF($F122=\"F\",TeamSheetFemale,TeamSheetMale),CC122,FALSE))","v":""},"","","","","","","",{"$error":"#N/A"},{"$error":"#N/A"},{"$error":"#N/A"},{"$error":"#N/A"},{"$error":"#N/A"},{"$error":"#N/A"},{"$error":"#N/A"},{"$error":"#N/A"},0,0,0,0,0,0,0,0,0,0,0,0,0,0,0,0,0,0,0,0,0,0,0,0,"","","","","","","","",null,null,"","","","","","","",""]
[{"$f":"B122&\"B\"","v":"47B"},null,null,{"$f":"VLOOKUP(B122,EventsOrder,3,FALSE)","v":{"$error":"#N/A"}},"B",null,null,null,null,null,null,null,null,null,null,null,null,null,null,null,null,null,null,null,null,null,null,null,null,null,{"$f":"IF(LEN(G123)=0,\"\",VLOOKUP($B122,IF($F122=\"F\",TeamSheetFemale,TeamSheetMale),CC123,FALSE))","v":""},"","","","","","","",0,0,0,0,0,0,0,0,0,0,0,0,0,0,0,0,0,0,0,0,0,0,0,0,0,0,0,0,0,0,0,0,"","","","","","","","",null,null,"","","","","","","",""]
[{"$f":"B124&\"A\"","v":"48A"},48,{"$f":"VLOOKUP(B124,EventsOrder,2,FALSE)","v":{"$error":"#N/A"}},{"$f":"VLOOKUP(B124,EventsOrder,4,FALSE)","v":{"$error":"#N/A"}},"A",{"$f":"IF(MID(D124,5,1)=\"F\",\"F\",\"M\")","v":{"$error":"#N/A"}},null,null,null,null,null,null,null,null,null,null,null,null,null,null,null,null,null,null,null,null,null,null,null,null,{"$f":"IF(LEN(G124)=0,\"\",VLOOKUP($B124,IF($F124=\"F\",TeamSheetFemale,TeamSheetMale),CC124,FALSE))","v":""},"","","","","","","",{"$error":"#N/A"},{"$error":"#N/A"},{"$error":"#N/A"},{"$error":"#N/A"},{"$error":"#N/A"},{"$error":"#N/A"},{"$error":"#N/A"},{"$error":"#N/A"},0,0,0,0,0,0,0,0,0,0,0,0,0,0,0,0,{"$f":"IF(LEN(G124)>0,VLOOKUP(LEFT(G124,1),Clubs,5,FALSE),0)","v":0},{"$f":"IF(LEN(H124)>0,VLOOKUP(LEFT(H124,1),Clubs,5,FALSE),0)","v":0},{"$f":"IF(LEN(I124)>0,VLOOKUP(LEFT(I124,1),Clubs,5,FALSE),0)","v":0},{"$f":"IF(LEN(J124)>0,VLOOKUP(LEFT(J124,1),Clubs,5,FALSE),0)","v":0},{"$f":"IF(LEN(K124)>0,VLOOKUP(LEFT(K124,1),Clubs,5,FALSE),0)","v":0},{"$f":"IF(LEN(L124)>0,VLOOKUP(LEFT(L124,1),Clubs,5,FALSE),0)","v":0},{"$f":"IF(LEN(M124)>0,VLOOKUP(LEFT(M124,1),Clubs,5,FALSE),0)","v":0},{"$f":"IF(LEN(N124)>0,VLOOKUP(LEFT(N124,1),Clubs,5,FALSE),0)","v":0},{"$f":"LEFT(G124,1)","v":""},"","","","","","","",null,null,"","","","","","","",""]
[{"$f":"B124&\"B\"","v":"48B"},null,null,{"$f":"VLOOKUP(B124,EventsOrder,3,FALSE)","v":{"$error":"#N/A"}},"B",null,null,null,null,null,null,null,null,null,null,null,null,null,null,null,null,null,null,null,null,null,null,null,null,null,{"$f":"IF(LEN(G125)=0,\"\",VLOOKUP($B124,IF($F124=\"F\",TeamSheetFemale,TeamSheetMale),CC125,FALSE))","v":""},"","","","","","","",0,0,0,0,0,0,0,0,0,0,0,0,{"$f":"OFFSET($N125,0,BG125)","v":0},{"$f":"OFFSET($N125,0,BH125)","v":0},{"$f":"OFFSET($N125,0,BI125)","v":0},{"$f":"OFFSET($N125,0,BJ125)","v":0},0,0,0,0,0,0,0,0,0,0,0,0,0,0,0,0,"",{"$f":"LEFT(H125,1)","v":""},{"$f":"LEFT(I125,1)","v":""},{"$f":"LEFT(J125,1)","v":""},{"$f":"LEFT(K125,1)","v":""},{"$f":"LEFT(L125,1)","v":""},{"$f":"LEFT(M125,1)","v":""},{"$f":"LEFT(N125,1)","v":""},null,null,"","","","","","","",""]
[{"$f":"B126&\"A\"","v":"49A"},49,{"$f":"VLOOKUP(B126,EventsOrder,2,FALSE)","v":{"$error":"#N/A"}},{"$f":"VLOOKUP(B126,EventsOrder,4,FALSE)","v":{"$error":"#N/A"}},"A",{"$f":"IF(MID(D126,5,1)=\"F\",\"F\",\"M\")","v":{"$error":"#N/A"}},null,null,null,null,null,null,null,null,null,null,null,null,null,null,null,null,null,null,null,null,null,null,null,null,{"$f":"IF(LEN(G126)=0,\"\",VLOOKUP($B126,IF($F126=\"F\",TeamSheetFemale,TeamSheetMale),CC126,FALSE))","v":""},"","","","","","","",{"$f":"IF(OR($F126=\"NS\",AU126=\"DNF\"),0,IF(BC126>0,$BK$29+1-BC126,0))","v":{"$error":"#N/A"}},{"$f":"IF(OR($F126=\"NS\",AV126=\"DNF\"),0,IF(BD126>0,$BK$29+1-BD126,0))","v":{"$error":"#N/A"}},{"$f":"IF(OR($F126=\"NS\",AW126=\"DNF\"),0,IF(BE126>0,$BK$29+1-BE126,0))","v":{"$error":"#N/A"}},{"$f":"IF(OR($F126=\"NS\",AX126=\"DNF\"),0,IF(BF126>0,$BK$29+1-BF126,0))","v":{"$error":"#N/A"}},{"$f":"IF(OR($F126=\"NS\",AY126=\"DNF\"),0,IF(BG126>0,$BK$29+1-BG126,0))","v":{"$error":"#N/A"}},{"$f":"IF(OR($F126=\"NS\",AZ126=\"DNF\"),0,IF(BH126>0,$BK$29+1-BH126,0))","v":{"$error":"#N/A"}},{"$f":"IF(OR($F126=\"NS\",BA126=\"DNF\"),0,IF(BI126>0,$BK$29+1-BI126,0))","v":{"$error":"#N/A"}},{"$f":"IF(OR($F126=\"NS\",BB126=\"DNF\"),0,IF(BJ126>0,$BK$29+1-BJ126,0))","v":{"$error":"#N/A"}},0,0,0,0,0,0,0,0,0,0,0,0,0,0,0,0,0,0,0,0,0,0,0,0,"","","","","","","","",null,null,"","","","","","","",""]
[{"$f":"B126&\"B\"","v":"49B"},null,null,{"$f":"VLOOKUP(B126,EventsOrder,3,FALSE)","v":{"$error":"#N/A"}},"B",null,null,null,null,null,null,null,null,null,null,null,null,null,null,null,null,null,null,null,null,null,null,null,null,null,{"$f":"IF(LEN(G127)=0,\"\",VLOOKUP($B126,IF($F126=\"F\",TeamSheetFemale,TeamSheetMale),CC127,FALSE))","v":""},"","","","","","","",0,0,0,0,0,0,0,0,0,0,0,0,0,0,0,0,0,0,0,0,0,0,0,0,0,0,0,0,0,0,0,0,"","","","","","","","",null,null,"","","","","","","",""]
[{"$f":"B128&\"A\"","v":"50A"},50,{"$f":"VLOOKUP(B128,EventsOrder,2,FALSE)","v":2.4},{"$f":"VLOOKUP(B128,EventsOrder,4,FALSE)","v":"U15 Female"},"A",{"$f":"IF(MID(D128,5,1)=\"F\",\"F\",\"M\")","v":"F"},"B","Y","I","P","R","F","X","J",43.1,43.2,43.9,46.5,47.2,47.5,49.8,49.9,0,0,0,0,0,0,0,0,{"$f":"IF(LEN(G128)=0,\"\",VLOOKUP($B128,IF($F128=\"F\",TeamSheetFemale,TeamSheetMale),CC128,FALSE))","v":"Emma Shorwood"},"Danielle Hopkins","Emily Williams","Molly Acton","Martha Adams","Sian Lewis","Rachel Nealon","Sydney Sellers",1,5,8,6,4,3,2,7,49.9,46.5,43.1,43.9,47.2,47.5,49.8,43.2,8,4,1,3,5,6,7,2,"DASH","Worc","Kett","Bic","Rad","Tam","Wreake","Ban","B","Y","I","P","R","F","X","J",null,null,{"$f":"IF(LEN(G128)=0,\"\",HLOOKUP(BS128,$CC$26:$CJ$28,2,FALSE)+IF(LEN(G128)=2,2,0))","v":17},42,22,12,27,32,37,7]
[{"$f":"B128&\"B\"","v":"50B"},null,null,{"$f":"VLOOKUP(B128,EventsOrder,3,FALSE)","v":"300m"},"B",null,"XX","BB","RR","II","YY","JJ",null,null,43.9,46.4,47.7,48.8,49.7,51.6,null,null,0,0,0,"II",0,0,null,null,{"$f":"IF(LEN(G129)=0,\"\",VLOOKUP($B128,IF($F128=\"F\",TeamSheetFemale,TeamSheetMale),CC129,FALSE))","v":"Zena Challenger"},"Claudia Lee","Rachel Burton","Blainne Conway","Elise Blake","Elizabeth Eskender","","",3,0,7,5,6,0,8,4,51.6,0,46.4,48.8,47.7,0,43.9,49.7,6,0,2,4,3,0,1,5,"Wreake","DASH","Rad","Kett","Worc","Ban",0,0,"X","B","R","I","Y","J","","",null,null,39,19,29,24,44,9,"",""]
[{"$f":"B130&\"A\"","v":"51A"},51,{"$f":"VLOOKUP(B130,EventsOrder,2,FALSE)","v":2.4500000000000002},{"$f":"VLOOKUP(B130,EventsOrder,4,FALSE)","v":"U17 F/Women"},"A",{"$f":"IF(MID(D130,5,1)=\"F\",\"F\",\"M\")","v":"F"},"R","I","J",null,null,null,null,null,45.4,46.3,46.4,null,null,null,null,null,0,0,0,null,null,null,null,null,{"$f":"IF(LEN(G130)=0,\"\",VLOOKUP($B130,IF($F130=\"F\",TeamSheetFemale,TeamSheetMale),CC130,FALSE))","v":"Stephanie Mott"},"Niamh Monaghan","Rebecca Scott","","","","","",6,0,0,7,8,0,0,0,46.4,0,0,46.3,45.4,0,0,0,{"$f":"IF(ISNA(MATCH(BC$29,$BS130:$BZ130,0)),0,MATCH(BC$29,$BS130:$BZ130,0))","v":3},0,0,2,1,0,0,0,"Rad","Kett","Ban",0,0,0,0,0,"R","I","J","","","","","",null,null,27,22,7,"","","","",""]
[{"$f":"B130&\"B\"","v":"51B"},null,null,{"$f":"VLOOKUP(B130,EventsOrder,3,FALSE)","v":"300m"},"B",null,"II","RR",null,null,null,null,null,null,45.3,46.2,null,null,null,null,null,null,"II",0,null,null,null,null,null,null,{"$f":"IF(LEN(G131)=0,\"\",VLOOKUP($B130,IF($F130=\"F\",TeamSheetFemale,TeamSheetMale),CC131,FALSE))","v":"Harriett Jolley"},"Leah Brown","","","","","","",0,0,0,8,7,0,0,0,{"$f":"OFFSET($N131,0,BC131)","v":0},{"$f":"OFFSET($N131,0,BD131)","v":0},{"$f":"OFFSET($N131,0,BE131)","v":0},{"$f":"OFFSET($N131,0,BF131)","v":45.3},46.2,0,0,0,0,0,0,1,2,0,0,0,"Kett","Rad",0,0,0,0,0,0,"I","R","","","","","","",null,null,24,29,"","","","","",""]
[{"$f":"B132&\"A\"","v":"52A"},52,{"$f":"VLOOKUP(B132,EventsOrder,2,FALSE)","v":2.4},{"$f":"VLOOKUP(B132,EventsOrder,4,FALSE)","v":"U13 Male"},"A",{"$f":"IF(MID(D132,5,1)=\"F\",\"F\",\"M\")","v":"M"},"I","Y","F","XX","B","P","R",null,7.48,5.78,5,4.9400000000000004,4.78,4.6399999999999997,4.41,null,0,0,0,0,0,"P",0,null,{"$f":"IF(LEN(G132)=0,\"\",VLOOKUP($B132,IF($F132=\"F\",TeamSheetFemale,TeamSheetMale),CC132,FALSE))","v":"Samuel Harrison"},"Alex Santafe","Kai Buckley","Matthew Reuben","John Sparry","Samuel Rayson","Benjamin Cumberland","",0,3,4,8,2,6,5,7,0,4.6399999999999997,4.78,7.48,4.41,5,4.9400000000000004,5.78,0,6,5,1,7,3,4,2,"Kett","Worc","Tam","Wreake","DASH","Bic","Rad",0,"I","Y","F","X","B","P","R","",null,null,22,42,32,39,17,12,27,""]
[{"$f":"B132&\"B\"","v":"52B"},null,null,{"$f":"VLOOKUP(B132,EventsOrder,3,FALSE)","v":"Shot"},"B",null,"YY","FF","RR","PP","X","BB","II",null,5.78,4.3899999999999997,4.22,3.82,3.69,3.67,2.71,null,0,"FF",0,"PP",0,0,"II",null,{"$f":"IF(LEN(G133)=0,\"\",VLOOKUP($B132,IF($F132=\"F\",TeamSheetFemale,TeamSheetMale),CC133,FALSE))","v":"Spike Burnage"},"Daniel Aston","Rowan Miell-Ingram","Sean Lock","David Seidu","Nathan Pearson","Ben Brooker","",0,5,3,2,6,7,4,8,0,3.82,3.67,2.71,4.22,4.3899999999999997,3.69,5.78,0,4,6,7,3,2,5,1,"Worc","Tam","Rad","Bic","Wreake","DASH","Kett",0,"Y","F","R","P","X","B","I","",null,null,44,34,29,14,37,19,24,""]
[{"$f":"B134&\"A\"","v":"53A"},53,{"$f":"VLOOKUP(B134,EventsOrder,2,FALSE)","v":2.4},{"$f":"VLOOKUP(B134,EventsOrder,4,FALSE)","v":"U17 Female"},"A",{"$f":"IF(MID(D134,5,1)=\"F\",\"F\",\"M\")","v":"F"},"R","J","Y","X",null,null,null,null,22.76,17.940000000000001,13.99,10.54,null,null,null,null,0,0,0,0,null,null,null,null,{"$f":"IF(LEN(G134)=0,\"\",VLOOKUP($B134,IF($F134=\"F\",TeamSheetFemale,TeamSheetMale),CC134,FALSE))","v":"Petrina Chantler-Edmond"},"Paige Cooper","Cara Clarke","Fern Harrison","","","","",7,0,0,0,8,0,5,6,17.940000000000001,0,0,0,22.76,0,10.54,13.99,2,0,0,0,1,0,4,3,"Rad","Ban","Worc","Wreake",0,0,0,0,"R","J","Y","X","","","","",null,null,27,7,42,37,"","","",""]
[{"$f":"B134&\"B\"","v":"53B"},null,null,{"$f":"VLOOKUP(B134,EventsOrder,3,FALSE)","v":"Discus (U17)"},"B",null,"RR","JJ",null,null,null,null,null,null,12.75,11.65,null,null,null,null,null,null,0,0,null,null,null,null,null,null,{"$f":"IF(LEN(G135)=0,\"\",VLOOKUP($B134,IF($F134=\"F\",TeamSheetFemale,TeamSheetMale),CC135,FALSE))","v":"Stephanie Mott"},"Helen Dubber","","","","","","",7,0,0,0,8,0,0,0,11.65,0,0,0,12.75,0,0,0,2,0,0,0,1,0,0,0,"Rad","Ban",0,0,0,0,0,0,"R","J","","","","","","",null,null,29,9,"","","","","",""]
[{"$f":"B136&\"A\"","v":"54A"},54,{"$f":"VLOOKUP(B136,EventsOrder,2,FALSE)","v":2.4},{"$f":"VLOOKUP(B136,EventsOrder,4,FALSE)","v":"U15 Female"},"A",{"$f":"IF(MID(D136,5,1)=\"F\",\"F\",\"M\")","v":"F"},null,null,null,null,null,null,null,null,null,null,null,null,null,null,null,null,null,null,null,null,null,null,null,null,{"$f":"IF(LEN(G136)=0,\"\",VLOOKUP($B136,IF($F136=\"F\",TeamSheetFemale,TeamSheetMale),CC136,FALSE))","v":""},"","","","","","","",0,0,0,0,0,0,0,0,0,0,0,0,0,0,0,0,0,0,0,0,0,0,0,0,0,0,0,0,0,0,0,0,"","","","","","","","",null,null,"","","","","","","",""]
[{"$f":"B136&\"B\"","v":"54B"},null,null,{"$f":"VLOOKUP(B136,EventsOrder,3,FALSE)","v":"Javelin"},"B",null,null,null,null,null,null,null,null,null,null,null,null,null,null,null,null,null,null,null,null,null,null,null,null,null,{"$f":"IF(LEN(G137)=0,\"\",VLOOKUP($B136,IF($F136=\"F\",TeamSheetFemale,TeamSheetMale),CC137,FALSE))","v":""},"","","","","","","",0,0,0,0,0,0,0,0,0,0,0,0,0,0,0,0,0,0,0,0,0,0,0,0,0,0,0,0,0,0,0,0,"","","","","","","","",null,null,"","","","","","","",""]
[{"$f":"B138&\"A\"","v":"55A"},55,{"$f":"VLOOKUP(B138,EventsOrder,2,FALSE)","v":2.5499999999999998},{"$f":"VLOOKUP(B138,EventsOrder,4,FALSE)","v":"U15 Male"},"A",{"$f":"IF(MID(D138,5,1)=\"F\",\"F\",\"M\")","v":"M"},"P","I","F","B","X","J","Y","R",40.5,41,42.8,43.5,46,46.7,47.2,54.3,"P",0,0,0,0,0,0,0,{"$f":"IF(LEN(G138)=0,\"\",VLOOKUP($B138,IF($F138=\"F\",TeamSheetFemale,TeamSheetMale),CC138,FALSE))","v":"Jamil Welham"},"Henri Codling","Max Kent","Adam Boon","Roman Watson-Quilter","Skip Snelson","Sam Davey","Cameron King",3,8,5,7,1,6,4,2,46.7,40.5,43.5,41,54.3,42.8,46,47.2,6,1,4,2,8,3,5,7,"Bic","Kett","Tam","DASH","Wreake","Ban","Worc","Rad","P","I","F","B","X","J","Y","R",null,null,12,22,32,17,37,7,42,27]
[{"$f":"B138&\"B\"","v":"55B"},null,null,{"$f":"VLOOKUP(B138,EventsOrder,3,FALSE)","v":"300m"},"B",null,"II","BB","XX","RR",null,null,null,null,44.7,44.7,49.3,57.7,null,null,null,null,"II",0,0,0,null,null,null,null,{"$f":"IF(LEN(G139)=0,\"\",VLOOKUP($B138,IF($F138=\"F\",TeamSheetFemale,TeamSheetMale),CC139,FALSE))","v":"Ethan Nelis"},"Talinder Kumar","Lucca Watson-Quilter","Richard Bungay","","","","",0,0,7,8,5,0,6,0,0,0,44.7,44.7,57.7,0,49.3,0,0,0,2,1,4,0,3,0,"Kett","DASH","Wreake","Rad",0,0,0,0,"I","B","X","R","","","","",null,null,24,19,39,29,"","","",""]
[{"$f":"B140&\"A\"","v":"56A"},56,{"$f":"VLOOKUP(B140,EventsOrder,2,FALSE)","v":2.5},{"$f":"VLOOKUP(B140,EventsOrder,4,FALSE)","v":"U13 Female"},"A",{"$f":"IF(MID(D140,5,1)=\"F\",\"F\",\"M\")","v":"F"},"J","I","XX","R","F","P","BB","Y",4.18,3.77,3.73,3.65,3.6,3.41,3.35,3.01,0,0,0,0,0,0,0,0,{"$f":"IF(LEN(G140)=0,\"\",VLOOKUP($B140,IF($F140=\"F\",TeamSheetFemale,TeamSheetMale),CC140,FALSE))","v":"Tegan Armstrong"},"Millie Webb","Flora Miskin-Young","Erin Mcmillan","Sian Hubbard","Amelia Cox","Alina Gunnard","Katie Dudley",8,3,2,7,5,4,6,1,4.18,3.41,3.35,3.77,3.65,3.6,3.73,3.01,1,6,7,2,4,5,3,8,"Ban","Kett","Wreake","Rad","Tam","Bic","DASH","Worc","J","I","X","R","F","P","B","Y",null,null,7,22,39,27,32,12,19,42]
[{"$f":"B140&\"B\"","v":"56B"},null,null,{"$f":"VLOOKUP(B140,EventsOrder,3,FALSE)","v":"Long Jump"},"B",null,"X","FF","JJ","II","RR","PP","B","YY",3.63,3.56,3.55,3.55,3.52,3.29,3.11,2.44,0,"FF",0,"II",0,0,0,0,{"$f":"IF(LEN(G141)=0,\"\",VLOOKUP($B140,IF($F140=\"F\",TeamSheetFemale,TeamSheetMale),CC141,FALSE))","v":"Isobel Orencas"},"Niamh Kilgallen","Elizabeth Anderson","Robyn Beale","Poppy Edwards","emilia simms","Libby Davis","Bethany Harris",6,3,2,5,4,7,8,1,3.55,3.29,3.11,3.55,3.52,3.56,3.63,2.44,3,6,7,4,5,2,1,8,"Wreake","Tam","Ban","Kett","Rad","Bic","DASH","Worc","X","F","J","I","R","P","B","Y",null,null,37,34,9,24,29,14,17,44]
[{"$f":"B142&\"A\"","v":"57A"},57,{"$f":"VLOOKUP(B142,EventsOrder,2,FALSE)","v":3},{"$f":"VLOOKUP(B142,EventsOrder,4,FALSE)","v":"U17 Men"},"A",{"$f":"IF(MID(D142,5,1)=\"F\",\"F\",\"M\")","v":"M"},"Y","R","F","B","X",null,null,null,53.6,57,57.3,58.1,62.4,null,null,null,0,0,0,0,0,null,null,null,{"$f":"IF(LEN(G142)=0,\"\",VLOOKUP($B142,IF($F142=\"F\",TeamSheetFemale,TeamSheetMale),CC142,FALSE))","v":"Sam Lowe"},"Rory Sear","Andrew Woods","Jayvana Pramolo","George Palmer","","","",0,0,5,0,7,6,4,8,0,0,58.1,0,57,57.3,62.4,53.6,0,0,4,0,2,3,5,1,"Worc","Rad","Tam","DASH","Wreake",0,0,0,"Y","R","F","B","X","","","",null,null,42,{"$f":"IF(LEN(H142)=0,\"\",HLOOKUP(BT142,$CC$26:$CJ$28,2,FALSE)+IF(LEN(H142)=2,2,0))","v":27},{"$f":"IF(LEN(I142)=0,\"\",HLOOKUP(BU142,$CC$26:$CJ$28,2,FALSE)+IF(LEN(I142)=2,2,0))","v":32},{"$f":"IF(LEN(J142)=0,\"\",HLOOKUP(BV142,$CC$26:$CJ$28,2,FALSE)+IF(LEN(J142)=2,2,0))","v":17},{"$f":"IF(LEN(K142)=0,\"\",HLOOKUP(BW142,$CC$26:$CJ$28,2,FALSE)+IF(LEN(K142)=2,2,0))","v":37},{"$f":"IF(LEN(L142)=0,\"\",HLOOKUP(BX142,$CC$26:$CJ$28,2,FALSE)+IF(LEN(L142)=2,2,0))","v":""},{"$f":"IF(LEN(M142)=0,\"\",HLOOKUP(BY142,$CC$26:$CJ$28,2,FALSE)+IF(LEN(M142)=2,2,0))","v":""},{"$f":"IF(LEN(N142)=0,\"\",HLOOKUP(BZ142,$CC$26:$CJ$28,2,FALSE)+IF(LEN(N142)=2,2,0))","v":""}]
[{"$f":"B142&\"B\"","v":"57B"},null,null,{"$f":"VLOOKUP(B142,EventsOrder,3,FALSE)","v":"400m"},"B",null,"RR",null,null,null,null,null,null,null,56.9,null,null,null,null,null,null,null,0,null,null,null,null,null,null,null,{"$f":"IF(LEN(G143)=0,\"\",VLOOKUP($B142,IF($F142=\"F\",TeamSheetFemale,TeamSheetMale),CC143,FALSE))","v":"Sam Nelson"},"","","","","","","",0,0,0,0,8,0,0,0,0,0,0,0,56.9,0,0,0,0,0,0,0,1,0,0,0,"Rad",0,0,0,0,0,0,0,"R","","","","","","","",null,null,29,"","","","","","",""]
[{"$f":"B144&\"A\"","v":"58A"},58,{"$f":"VLOOKUP(B144,EventsOrder,2,FALSE)","v":3.1},{"$f":"VLOOKUP(B144,EventsOrder,4,FALSE)","v":"U11 Female"},"A",{"$f":"IF(MID(D144,5,1)=\"F\",\"F\",\"M\")","v":"F"},"X","P","I","F","J","R","Y","B",11.5,11.6,11.7,11.7,11.9,12.2,13,14.4,0,0,0,"F",0,0,0,0,{"$f":"IF(LEN(G144)=0,\"\",VLOOKUP($B144,IF($F144=\"F\",TeamSheetFemale,TeamSheetMale),CC144,FALSE))","v":"Kiyomi Topham"},"Josephine Parker","Kate Nelis","Saoirse Au","Eimear Moss","Audrey Winstone","Molly Davey","Kiera Adams",4,7,1,6,3,5,8,2,11.9,11.6,14.4,11.7,12.2,11.7,11.5,13,5,2,8,3,6,4,1,7,"Wreake","Bic","Kett","Tam","Ban","Rad","Worc","DASH","X","P","I","F","J","R","Y","B",null,null,37,12,22,32,7,27,42,17]
[{"$f":"B144&\"B\"","v":"58B"},null,null,{"$f":"VLOOKUP(B144,EventsOrder,3,FALSE)","v":"75m"},"B",null,"PP","RR","XX","II","JJ","FF","BB","YY",11.7,12.5,12.5,12.9,12.9,13,13.3,13.4,"PP",0,0,"II",0,"FF",0,0,{"$f":"IF(LEN(G145)=0,\"\",VLOOKUP($B144,IF($F144=\"F\",TeamSheetFemale,TeamSheetMale),CC145,FALSE))","v":"Isla Bohannon"},"Lily Black","Bronte Cameron","Niamh Sinnott","Ellie Williams","Angelica Ramkee","Neve Gibbs","Georgia Wharton",4,8,2,5,7,3,6,1,12.9,11.7,13.3,12.9,12.5,13,12.5,13.4,5,1,7,4,2,6,3,8,"Bic","Rad","Wreake","Kett","Ban","Tam","DASH","Worc","P","R","X","I","J","F","B","Y",null,null,14,29,39,24,9,34,19,44]
[{"$f":"B146&\"A\"","v":"59A"},59,{"$f":"VLOOKUP(B146,EventsOrder,2,FALSE)","v":3.15},{"$f":"VLOOKUP(B146,EventsOrder,4,FALSE)","v":"U11 Female"},"A",{"$f":"IF(MID(D146,5,1)=\"F\",\"F\",\"M\")","v":"F"},"FF","J","X","RR","Y",null,null,null,12.5,12.7,12.7,14.3,14.5,null,null,null,26,558,401,525,117,null,null,null,{"$f":"IF(LEN(G146)=0,\"\",VLOOKUP($B146,IF($F146=\"F\",TeamSheetFemale,TeamSheetMale),CC146,FALSE))","v":"Madison Rose Blencowe"},"Tilly Lainchbury","Harriett Lethridge","Erin Bungay","Jasmine Stokes","","","",7,0,0,0,5,8,6,4,12.7,0,0,0,14.3,12.5,12.7,14.5,{"$f":"IF(ISNA(MATCH(BC$29,$BS146:$BZ146,0)),0,MATCH(BC$29,$BS146:$BZ146,0))","v":2},0,0,0,4,1,3,5,"Tam","Ban","Wreake","Rad","Worc",0,0,0,"F","J","X","R","Y","","","",null,null,34,7,37,29,42,"","",""]
[{"$f":"B146&\"B\"","v":"59B"},null,null,{"$f":"VLOOKUP(B146,EventsOrder,3,FALSE)","v":"75m  "},"B",null,"R","JJ","F","YY","XX","B",null,null,12.3,12.5,12.9,13.5,14,14.8,null,null,524,559,25,120,402,201,null,null,{"$f":"IF(LEN(G147)=0,\"\",VLOOKUP($B146,IF($F146=\"F\",TeamSheetFemale,TeamSheetMale),CC147,FALSE))","v":"Ainhara Ly"},"Olivia Cook","Daisy Smith","Alice Dixon","Isabelle Parker","Ella Pearson","","",7,0,3,0,8,6,4,5,12.5,0,14.8,0,12.3,12.9,14,13.5,2,0,6,0,1,3,5,4,"Rad","Ban","Tam","Worc","Wreake","DASH",0,0,"R","J","F","Y","X","B","","",null,null,27,9,32,44,39,17,"",""]
[{"$f":"B148&\"A\"","v":"60A"},60,{"$f":"VLOOKUP(B148,EventsOrder,2,FALSE)","v":3.1},{"$f":"VLOOKUP(B148,EventsOrder,4,FALSE)","v":"U17 F/Women"},"A",{"$f":"IF(MID(D148,5,1)=\"F\",\"F\",\"M\")","v":"F"},"J","Y","R",null,null,null,null,null,1.45,1.35,1.35,null,null,null,null,null,0,0,0,null,null,null,null,null,{"$f":"IF(LEN(G148)=0,\"\",VLOOKUP($B148,IF($F148=\"F\",TeamSheetFemale,TeamSheetMale),CC148,FALSE))","v":"Rebecca Scott"},"Grace Murray","Megan Baker","","","","","",8,0,0,0,6,0,0,7,1.45,0,0,0,1.35,0,0,1.35,1,0,0,0,3,0,0,2,"Ban","Worc","Rad",0,0,0,0,0,"J","Y","R","","","","","",null,null,7,42,27,"","","","",""]
[{"$f":"B148&\"B\"","v":"60B"},null,null,{"$f":"VLOOKUP(B148,EventsOrder,3,FALSE)","v":"High Jump"},"B",null,null,null,null,null,null,null,null,null,null,null,null,null,null,null,null,null,null,null,null,null,null,null,null,null,{"$f":"IF(LEN(G149)=0,\"\",VLOOKUP($B148,IF($F148=\"F\",TeamSheetFemale,TeamSheetMale),CC149,FALSE))","v":""},"","","","","","","",0,0,0,0,0,0,0,0,0,0,0,0,0,0,0,0,0,0,0,0,0,0,0,0,0,0,0,0,0,0,0,0,"","","","","","","","",null,null,"","","","","","","",""]
[{"$f":"B150&\"A\"","v":"61A"},61,{"$f":"VLOOKUP(B150,EventsOrder,2,FALSE)","v":3.2},{"$f":"VLOOKUP(B150,EventsOrder,4,FALSE)","v":"U11 Male"},"A",{"$f":"IF(MID(D150,5,1)=\"F\",\"F\",\"M\")","v":"M"},"P","J","B","F","I","Y","R","X",11.2,11.4,11.7,11.8,12,12.4,12.6,13.4,0,0,0,0,0,0,0,0,{"$f":"IF(LEN(G150)=0,\"\",VLOOKUP($B150,IF($F150=\"F\",TeamSheetFemale,TeamSheetMale),CC150,FALSE))","v":"Joshua Parker"},"Ethan Aldous","Joel Harrison","Luca Bradley","Aaron Holloway","Linus Burnage","Jake Edwards","Theo York",7,8,6,4,2,5,1,3,11.4,11.2,11.7,12,12.6,11.8,13.4,12.4,2,1,3,5,7,4,8,6,"Bic","Ban","DASH","Tam","Kett","Worc","Rad","Wreake","P","J","B","F","I","Y","R","X",null,null,12,7,17,32,22,42,27,37]
[{"$f":"B150&\"B\"","v":"61B"},null,null,{"$f":"VLOOKUP(B150,EventsOrder,3,FALSE)","v":"75m"},"B",null,"JJ","FF","YY","XX","PP","II","RR",null,11.3,11.7,11.9,11.9,12,12.2,13.7,null,0,"FF",0,0,"PP","II",0,null,{"$f":"IF(LEN(G151)=0,\"\",VLOOKUP($B150,IF($F150=\"F\",TeamSheetFemale,TeamSheetMale),CC151,FALSE))","v":"Leo Anderson"},"Ashley Johnson","Harry Ferrett","Sam Orange","Timothy Jones","Oliver McAllister","Caspar Cumberland","",8,4,0,3,2,7,5,6,11.3,12,0,12.2,13.7,11.7,11.9,11.9,1,5,0,6,7,2,4,3,"Ban","Tam","Worc","Wreake","Bic","Kett","Rad",0,"J","F","Y","X","P","I","R","",null,null,9,34,44,39,14,24,29,""]
[{"$f":"B152&\"A\"","v":"62A"},62,{"$f":"VLOOKUP(B152,EventsOrder,2,FALSE)","v":3.25},{"$f":"VLOOKUP(B152,EventsOrder,4,FALSE)","v":"U11 Male"},"A",{"$f":"IF(MID(D152,5,1)=\"F\",\"F\",\"M\")","v":"M"},"I","JJ","YY","JJ","II","YY",null,null,12,12.5,12.6,12.6,12.8,13.9,null,null,58,557,109,557,59,109,null,null,{"$f":"IF(LEN(G152)=0,\"\",VLOOKUP($B152,IF($F152=\"F\",TeamSheetFemale,TeamSheetMale),CC152,FALSE))","v":"Theo Crick"},"Ruben Snelson","Jack Adams","Ruben Snelson","Ellis Watts","Jack Adams","","",7,0,0,8,0,0,0,6,12.5,0,0,12,0,0,0,12.6,2,0,0,1,0,0,0,3,"Kett","Ban","Worc","Ban","Kett","Worc",0,0,"I","J","Y","J","I","Y","","",null,null,22,9,44,9,24,44,"",""]
[{"$f":"B152&\"B\"","v":"62B"},null,null,{"$f":"VLOOKUP(B152,EventsOrder,3,FALSE)","v":"75m"},"B",null,null,null,null,null,null,null,null,null,null,null,null,null,null,null,null,null,null,null,null,null,null,null,null,null,{"$f":"IF(LEN(G153)=0,\"\",VLOOKUP($B152,IF($F152=\"F\",TeamSheetFemale,TeamSheetMale),CC153,FALSE))","v":""},"","","","","","","",0,0,0,0,0,0,0,0,0,0,0,0,0,0,0,0,0,0,0,0,0,0,0,0,0,0,0,0,0,0,0,0,"","","","","","","","",null,null,"","","","","","","",""]
[{"$f":"B154&\"A\"","v":"63A"},63,{"$f":"VLOOKUP(B154,EventsOrder,2,FALSE)","v":3.35},{"$f":"VLOOKUP(B154,EventsOrder,4,FALSE)","v":"U13 Female"},"A",{"$f":"IF(MID(D154,5,1)=\"F\",\"F\",\"M\")","v":"F"},"Y","X","I","J","R","P","F","B",30.1,30.2,30.6,31.4,32.5,34,34.4,34.6,0,0,0,0,0,0,0,0,{"$f":"IF(LEN(G154)=0,\"\",VLOOKUP($B154,IF($F154=\"F\",TeamSheetFemale,TeamSheetMale),CC154,FALSE))","v":"Aimee Cochrane"},"Isobel Orencas","Millie Webb","Raegan Sellers","Maddison Hurley","Emilia Sims","Sian Hubbard","Hannah Gadd",5,3,1,6,4,2,7,8,31.4,34,34.6,30.6,32.5,34.4,30.2,30.1,4,6,8,3,5,7,2,1,"Worc","Wreake","Kett","Ban","Rad","Bic","Tam","DASH","Y","X","I","J","R","P","F","B",null,null,42,37,22,7,27,12,32,17]
[{"$f":"B154&\"B\"","v":"63B"},null,null,{"$f":"VLOOKUP(B154,EventsOrder,3,FALSE)","v":"200m"},"B",null,"YY","II","RR","JJ","XX","PP","FF",null,30.5,31.1,31.7,31.8,33,34.200000000000003,34.299999999999997,null,0,"II",0,0,0,0,"FF",null,{"$f":"IF(LEN(G155)=0,\"\",VLOOKUP($B154,IF($F154=\"F\",TeamSheetFemale,TeamSheetMale),CC155,FALSE))","v":"Jemima Hobby"},"Scarlett Maxwell-Munn","Kaela Nelson","Sophie Howie","Rebecca Cullen","Imogen Ansell","Georgina Weal","",5,3,0,7,6,2,4,8,31.8,34.200000000000003,0,31.1,31.7,34.299999999999997,33,30.5,4,6,0,2,3,7,5,1,"Worc","Kett","Rad","Ban","Wreake","Bic","Tam",0,"Y","I","R","J","X","P","F","",null,null,44,24,29,9,39,14,34,""]
[{"$f":"B156&\"A\"","v":"64A"},64,{"$f":"VLOOKUP(B156,EventsOrder,2,FALSE)","v":3.2},{"$f":"VLOOKUP(B156,EventsOrder,4,FALSE)","v":"U13 Male"},"A",{"$f":"IF(MID(D156,5,1)=\"F\",\"F\",\"M\")","v":"M"},"RR","B","F","I","P","YY","J","XX",4.22,4.13,4.03,3.98,3.97,3.89,3.7,3.69,0,0,0,0,"P",0,0,0,{"$f":"IF(LEN(G156)=0,\"\",VLOOKUP($B156,IF($F156=\"F\",TeamSheetFemale,TeamSheetMale),CC156,FALSE))","v":"Samuel Rose"},"Jack Compton","Kai Buckley","Cole Sinnott","Ben Groves","Reuben Taylor-George","Archie Jones","Matthew Reuben",2,4,7,5,8,6,1,3,3.7,3.97,4.13,3.98,4.22,4.03,3.69,3.89,7,5,2,4,1,3,8,6,"Rad","DASH","Tam","Kett","Bic","Worc","Ban","Wreake","R","B","F","I","P","Y","J","X",null,null,29,17,32,22,12,44,7,39]
[{"$f":"B156&\"B\"","v":"64B"},null,null,{"$f":"VLOOKUP(B156,EventsOrder,3,FALSE)","v":"Long Jump"},"B",null,"PP","Y","BB","R","FF","X",null,null,3.87,3.78,3.72,3.68,3.53,3.44,null,null,"PP",0,0,0,"FF",0,null,null,{"$f":"IF(LEN(G157)=0,\"\",VLOOKUP($B156,IF($F156=\"F\",TeamSheetFemale,TeamSheetMale),CC157,FALSE))","v":"Samuel Rayson"},"Harry Cunningham","Nathan Pearson","Benjamin Cumberland","Oran Au","Euan Gibbs","","",0,8,6,0,5,4,3,7,0,3.87,3.72,0,3.68,3.53,3.44,3.78,0,1,3,0,4,5,6,2,"Bic","Worc","DASH","Rad","Tam","Wreake",0,0,"P","Y","B","R","F","X","","",null,null,14,42,19,27,34,37,"",""]
[{"$f":"B158&\"A\"","v":"65A"},65,{"$f":"VLOOKUP(B158,EventsOrder,2,FALSE)","v":3.3},{"$f":"VLOOKUP(B158,EventsOrder,4,FALSE)","v":"U13 Female"},"A",{"$f":"IF(MID(D158,5,1)=\"F\",\"F\",\"M\")","v":"F"},"YY","P","JJ","I","B","F","XX","RR",6.35,6.34,6.1,5.58,5.57,5.57,5.15,4.2,0,0,0,0,0,0,0,0,{"$f":"IF(LEN(G158)=0,\"\",VLOOKUP($B158,IF($F158=\"F\",TeamSheetFemale,TeamSheetMale),CC158,FALSE))","v":"Amber Hopkins"},"Amber Parker","Maddy Dowden","Charlotte Cox","Zara Gibbs","Alice Mason","Isabelle Wilson","Maddison Hurley",{"$f":"IF(OR($F158=\"NS\",AU158=\"DNF\"),0,IF(BC158>0,$BK$29+1-BC158,0))","v":6},{"$f":"IF(OR($F158=\"NS\",AV158=\"DNF\"),0,IF(BD158>0,$BK$29+1-BD158,0))","v":7},{"$f":"IF(OR($F158=\"NS\",AW158=\"DNF\"),0,IF(BE158>0,$BK$29+1-BE158,0))","v":4},{"$f":"IF(OR($F158=\"NS\",AX158=\"DNF\"),0,IF(BF158>0,$BK$29+1-BF158,0))","v":5},{"$f":"IF(OR($F158=\"NS\",AY158=\"DNF\"),0,IF(BG158>0,$BK$29+1-BG158,0))","v":1},{"$f":"IF(OR($F158=\"NS\",AZ158=\"DNF\"),0,IF(BH158>0,$BK$29+1-BH158,0))","v":3},{"$f":"IF(OR($F158=\"NS\",BA158=\"DNF\"),0,IF(BI158>0,$BK$29+1-BI158,0))","v":2},{"$f":"IF(OR($F158=\"NS\",BB158=\"DNF\"),0,IF(BJ158>0,$BK$29+1-BJ158,0))","v":8},6.1,6.34,5.57,5.58,4.2,5.57,5.15,6.35,3,2,5,4,8,6,7,1,"Worc","Bic","Ban","Kett","DASH","Tam","Wreake","Rad","Y","P","J","I","B","F","X","R",null,null,44,12,9,22,17,32,39,29]
[{"$f":"B158&\"B\"","v":"65B"},null,null,{"$f":"VLOOKUP(B158,EventsOrder,3,FALSE)","v":"Shot"},"B",null,"Y","J","X","PP","BB","R","FF","II",6.07,5.5,5.0599999999999996,4.5199999999999996,4.45,4.0599999999999996,3.33,2.85,0,0,0,0,0,0,"FF","II",{"$f":"IF(LEN(G159)=0,\"\",VLOOKUP($B158,IF($F158=\"F\",TeamSheetFemale,TeamSheetMale),CC159,FALSE))","v":"Ani Patrick"},"Lucy Thompson","Indie King","Erin Fabri","Alina Gunnard","Amelia Brew","Tegan Vickery","Imogen Nix",7,5,4,1,3,2,6,8,5.5,4.5199999999999996,4.45,2.85,4.0599999999999996,3.33,5.0599999999999996,6.07,2,4,5,8,6,7,3,1,"Worc","Ban","Wreake","Bic","DASH","Rad","Tam","Kett","Y","J","X","P","B","R","F","I",null,null,42,7,37,14,19,27,34,24]
[{"$f":"B160&\"A\"","v":"66A"},66,{"$f":"VLOOKUP(B160,EventsOrder,2,FALSE)","v":3.3},{"$f":"VLOOKUP(B160,EventsOrder,4,FALSE)","v":"U15 Male"},"A",{"$f":"IF(MID(D160,5,1)=\"F\",\"F\",\"M\")","v":"M"},"R","P","I","BB","Y","X","F",null,27.54,17.68,16.36,13.87,13.4,12.61,11.57,null,0,"P",0,0,0,0,0,null,{"$f":"IF(LEN(G160)=0,\"\",VLOOKUP($B160,IF($F160=\"F\",TeamSheetFemale,TeamSheetMale),CC160,FALSE))","v":"Will Smith"},"Will Simms","Henri Codling","Harry Walters","Reece Westwood","Roman Watson-Quilter","James Sherriff","",0,7,5,6,8,2,3,4,0,17.68,13.87,16.36,27.54,11.57,12.61,13.4,0,2,4,3,1,7,6,5,"Rad","Bic","Kett","DASH","Worc","Wreake","Tam",0,"R","P","I","B","Y","X","F","",null,null,{"$f":"IF(LEN(G160)=0,\"\",HLOOKUP(BS160,$CC$26:$CJ$28,2,FALSE)+IF(LEN(G160)=2,2,0))","v":27},12,22,19,42,37,32,""]
[{"$f":"B160&\"B\"","v":"66B"},null,null,{"$f":"VLOOKUP(B160,EventsOrder,3,FALSE)","v":"Discus"},"B",null,"II","PP","FF","XX","B",null,null,null,14.79,14.57,11.41,11.23,9.75,null,null,null,"II","PP","FF",0,0,null,null,null,{"$f":"IF(LEN(G161)=0,\"\",VLOOKUP($B160,IF($F160=\"F\",TeamSheetFemale,TeamSheetMale),CC161,FALSE))","v":"Dylan Bowley"},"Samuel Worfolk","Max Kent","Lucca Watson-Quilter","Zak Thurley","","","",0,7,4,8,0,6,5,0,0,14.57,9.75,14.79,0,11.41,11.23,0,0,2,5,1,0,3,4,0,"Kett","Bic","Tam","Wreake","DASH",0,0,0,"I","P","F","X","B","","","",null,null,24,14,34,39,17,"","",""]
[{"$f":"B162&\"A\"","v":"67A"},67,{"$f":"VLOOKUP(B162,EventsOrder,2,FALSE)","v":3.3},{"$f":"VLOOKUP(B162,EventsOrder,4,FALSE)","v":"U17 Men"},"A",{"$f":"IF(MID(D162,5,1)=\"F\",\"F\",\"M\")","v":"M"},null,null,null,null,null,null,null,null,null,null,null,null,null,null,null,null,null,null,null,null,null,null,null,null,{"$f":"IF(LEN(G162)=0,\"\",VLOOKUP($B162,IF($F162=\"F\",TeamSheetFemale,TeamSheetMale),CC162,FALSE))","v":""},"","","","","","","",0,0,0,0,0,0,0,0,0,0,0,0,0,0,0,0,{"$f":"IF(ISNA(MATCH(BC$29,$BS162:$BZ162,0)),0,MATCH(BC$29,$BS162:$BZ162,0))","v":0},0,0,0,0,0,0,0,0,0,0,0,0,0,0,0,"","","","","","","","",null,null,"","","","","","","",""]
[{"$f":"B162&\"B\"","v":"67B"},null,null,{"$f":"VLOOKUP(B162,EventsOrder,3,FALSE)","v":"Javelin"},"B",null,null,null,null,null,null,null,null,null,null,null,null,null,null,null,null,null,null,null,null,null,null,null,null,null,{"$f":"IF(LEN(G163)=0,\"\",VLOOKUP($B162,IF($F162=\"F\",TeamSheetFemale,TeamSheetMale),CC163,FALSE))","v":""},"","","","","","","",0,0,0,0,0,0,0,0,{"$f":"OFFSET($N163,0,BC163)","v":0},{"$f":"OFFSET($N163,0,BD163)","v":0},{"$f":"OFFSET($N163,0,BE163)","v":0},{"$f":"OFFSET($N163,0,BF163)","v":0},0,0,0,0,0,0,0,0,0,0,0,0,0,0,0,0,0,0,0,0,"","","","","","","","",null,null,"","","","","","","",""]
[{"$f":"B164&\"A\"","v":"68A"},68,{"$f":"VLOOKUP(B164,EventsOrder,2,FALSE)","v":3.4},{"$f":"VLOOKUP(B164,EventsOrder,4,FALSE)","v":"U15 Female"},"A",{"$f":"IF(MID(D164,5,1)=\"F\",\"F\",\"M\")","v":"F"},"X","I","F","R","Y","B","P","J",27.4,27.5,27.9,28.1,28.4,28.7,31,32,0,0,0,0,0,0,0,0,{"$f":"IF(LEN(G164)=0,\"\",VLOOKUP($B164,IF($F164=\"F\",TeamSheetFemale,TeamSheetMale),CC164,FALSE))","v":"Josie Orange"},"Ellen Smith","Eve Clawley","Holly Griffiths-Brown","Lydia Wehling","Claudia Lee","Charlotte Hewett","Emelina Darvell",1,2,3,7,5,6,8,4,32,31,28.7,27.5,28.1,27.9,27.4,28.4,8,7,6,2,4,3,1,5,"Wreake","Kett","Tam","Rad","Worc","DASH","Bic","Ban","X","I","F","R","Y","B","P","J",null,null,37,22,32,27,42,17,12,7]
[{"$f":"B164&\"B\"","v":"68B"},null,null,{"$f":"VLOOKUP(B164,EventsOrder,3,FALSE)","v":"200m"},"B",null,"BB","YY","XX","II","RR",null,null,null,28.3,28.4,28.6,29.2,29.8,null,null,null,0,0,0,"II",0,null,null,null,{"$f":"IF(LEN(G165)=0,\"\",VLOOKUP($B164,IF($F164=\"F\",TeamSheetFemale,TeamSheetMale),CC165,FALSE))","v":"Grace Slater"},"Deanna Clarke","Poppy Tott-Buswell","Harmony Hart","Olivia Butler","","","",0,0,8,5,4,0,6,7,0,0,28.3,29.2,29.8,0,28.6,28.4,0,0,1,4,5,0,3,2,"DASH","Worc","Wreake","Kett","Rad",0,0,0,"B","Y","X","I","R","","","",null,null,19,44,39,24,29,"","",""]
[{"$f":"B166&\"A\"","v":"69A"},69,{"$f":"VLOOKUP(B166,EventsOrder,2,FALSE)","v":3.45},{"$f":"VLOOKUP(B166,EventsOrder,4,FALSE)","v":"U17 F/Women"},"A",{"$f":"IF(MID(D166,5,1)=\"F\",\"F\",\"M\")","v":"F"},"I","Y","R","X","B","J","P",null,26.1,26.8,28.2,28.5,28.8,29.9,31,null,0,0,0,0,0,0,0,null,{"$f":"IF(LEN(G166)=0,\"\",VLOOKUP($B166,IF($F166=\"F\",TeamSheetFemale,TeamSheetMale),CC166,FALSE))","v":"Erin Healy"},"Hannah Kenwright","Stephanie Mott","Ella Grainger","Lauren Millward","Helen Dubber","U20 Emily Benfield","",3,2,4,8,6,0,5,7,29.9,31,28.8,26.1,28.2,0,28.5,26.8,6,7,5,1,3,0,4,2,"Kett","Worc","Rad","Wreake","DASH","Ban","Bic",0,"I","Y","R","X","B","J","P","",null,null,22,42,27,37,17,7,12,""]
[{"$f":"B166&\"B\"","v":"69B"},null,null,{"$f":"VLOOKUP(B166,EventsOrder,3,FALSE)","v":"200m"},"B",null,"II","RR","XX","YY",null,null,null,null,27.7,28.3,29.6,30.2,null,null,null,null,"II",0,0,0,null,null,null,null,{"$f":"IF(LEN(G167)=0,\"\",VLOOKUP($B166,IF($F166=\"F\",TeamSheetFemale,TeamSheetMale),CC167,FALSE))","v":"Ellie Boulton"},"Jess Anstice U23","Megan Luxford","Becky Donnelly (senior)","","","","",0,0,0,8,7,0,6,5,0,0,0,27.7,28.3,0,29.6,30.2,0,0,0,1,2,0,3,4,"Kett","Rad","Wreake","Worc",0,0,0,0,"I","R","X","Y","","","","",null,null,24,29,39,44,"","","",""]
[{"$f":"B168&\"A\"","v":"70A"},70,{"$f":"VLOOKUP(B168,EventsOrder,2,FALSE)","v":3.5},{"$f":"VLOOKUP(B168,EventsOrder,4,FALSE)","v":"U13 Male"},"A",{"$f":"IF(MID(D168,5,1)=\"F\",\"F\",\"M\")","v":"M"},"I","X","J","Y","F","P","R","B",27.2,27.6,28.5,29.6,29.7,30,30.4,30.5,0,0,0,0,0,"P",0,0,{"$f":"IF(LEN(G168)=0,\"\",VLOOKUP($B168,IF($F168=\"F\",TeamSheetFemale,TeamSheetMale),CC168,FALSE))","v":"Max Mowforth"},"David Seidu","Christopher Charles","Adam Dudley","Oran Au","Callum Hewett","Samuel Rose","Tom Fallon",6,3,1,8,2,4,7,5,28.5,30,30.5,27.2,30.4,29.7,27.6,29.6,3,6,8,1,7,5,2,4,"Kett","Wreake","Ban","Worc","Tam","Bic","Rad","DASH","I","X","J","Y","F","P","R","B",null,null,22,37,7,42,32,12,27,17]
[{"$f":"B168&\"B\"","v":"70B"},null,null,{"$f":"VLOOKUP(B168,EventsOrder,3,FALSE)","v":"200m"},"B",null,"II","YY","XX","BB","PP","FF","RR",null,27.5,30.1,32,32.4,32.9,33.6,33.9,null,"II",0,0,0,"PP","FF",0,null,{"$f":"IF(LEN(G169)=0,\"\",VLOOKUP($B168,IF($F168=\"F\",TeamSheetFemale,TeamSheetMale),CC169,FALSE))","v":"Samuel Harrison"},"Reuben Taylor-George","Ethan Patel","Nathan Pearson","Ryan Simpson","Kian Dickson","Joshua Cumberlnad","",0,4,5,8,2,3,6,7,0,32.9,32.4,27.5,33.9,33.6,32,30.1,0,5,4,1,7,6,3,2,"Kett","Worc","Wreake","DASH","Bic","Tam","Rad",0,"I","Y","X","B","P","F","R","",null,null,24,44,39,19,14,34,29,""]
[{"$f":"B170&\"A\"","v":"71A"},71,{"$f":"VLOOKUP(B170,EventsOrder,2,FALSE)","v":3.55},{"$f":"VLOOKUP(B170,EventsOrder,4,FALSE)","v":"U15 Male"},"A",{"$f":"IF(MID(D170,5,1)=\"F\",\"F\",\"M\")","v":"M"},"Y","X","B","I","R","J","F",null,24.2,24.9,25.2,25.3,26.1,26.6,30.6,null,0,0,0,0,0,0,0,null,{"$f":"IF(LEN(G170)=0,\"\",VLOOKUP($B170,IF($F170=\"F\",TeamSheetFemale,TeamSheetMale),CC170,FALSE))","v":"Darian Moore"},"Euan Jones","Tom Slater","Dylan Mukhtar","Daniel Gifford","Will Andrews","James Walker","",3,0,6,5,4,2,7,8,26.6,0,25.2,25.3,26.1,30.6,24.9,24.2,6,0,3,4,5,7,2,1,"Worc","Wreake","DASH","Kett","Rad","Ban","Tam",0,"Y","X","B","I","R","J","F","",null,null,42,37,17,22,27,7,32,""]
[{"$f":"B170&\"B\"","v":"71B"},null,null,{"$f":"VLOOKUP(B170,EventsOrder,3,FALSE)","v":"200m"},"B",null,"II","YY","XX","RR",null,null,null,null,"NTR","NTR","NTR","NTR",null,null,null,null,"II",0,0,0,null,null,null,null,{"$f":"IF(LEN(G171)=0,\"\",VLOOKUP($B170,IF($F170=\"F\",TeamSheetFemale,TeamSheetMale),CC171,FALSE))","v":"Lewis-Morgan Barton"},"Andrew Jay","Josh Rocks","Richard Bungay","","","","",0,0,0,8,5,0,6,7,0,0,0,"NTR","NTR",0,"NTR","NTR",0,0,0,1,4,0,3,2,"Kett","Worc","Wreake","Rad",0,0,0,0,"I","Y","X","R","","","","",null,null,24,44,39,29,"","","",""]
[{"$f":"B172&\"A\"","v":"72A"},72,{"$f":"VLOOKUP(B172,EventsOrder,2,FALSE)","v":4},{"$f":"VLOOKUP(B172,EventsOrder,4,FALSE)","v":"U17 Men"},"A",{"$f":"IF(MID(D172,5,1)=\"F\",\"F\",\"M\")","v":"M"},"Y","R","J","I",null,null,null,null,23,23,23.1,24.6,null,null,null,null,0,0,0,0,null,null,null,null,{"$f":"IF(LEN(G172)=0,\"\",VLOOKUP($B172,IF($F172=\"F\",TeamSheetFemale,TeamSheetMale),CC172,FALSE))","v":"Ollie Gould"},"Harry New","Ollie Sprio","Tyrese Paris-Smith","","","","",6,0,0,5,7,0,0,8,23.1,0,0,24.6,23,0,0,23,3,0,0,4,2,0,0,1,"Worc","Rad","Ban","Kett",0,0,0,0,"Y","R","J","I","","","","",null,null,42,27,7,22,"","","",""]
[{"$f":"B172&\"B\"","v":"72B"},null,null,{"$f":"VLOOKUP(B172,EventsOrder,3,FALSE)","v":"200m"},"B",null,"RR","YY","II","JJ",null,null,null,null,23.6,23.9,24.2,24.7,null,null,null,null,0,0,"II",0,null,null,null,null,{"$f":"IF(LEN(G173)=0,\"\",VLOOKUP($B172,IF($F172=\"F\",TeamSheetFemale,TeamSheetMale),CC173,FALSE))","v":"Elliot Couse"},"Josh Bentley","Achim Loibl","Felix Noble","","","","",5,0,0,6,8,0,0,7,24.7,0,0,24.2,23.6,0,0,23.9,4,0,0,3,1,0,0,2,"Rad","Worc","Kett","Ban",0,0,0,0,"R","Y","I","J","","","","",null,null,29,44,24,9,"","","",""]
[{"$f":"B174&\"A\"","v":"73A"},73,{"$f":"VLOOKUP(B174,EventsOrder,2,FALSE)","v":4.2},{"$f":"VLOOKUP(B174,EventsOrder,4,FALSE)","v":"U13 Male"},"A",{"$f":"IF(MID(D174,5,1)=\"F\",\"F\",\"M\")","v":"M"},"R","I","P","Y","X",null,null,null,"4.58.8","5.04.5","5.24.4","5.26.0","5.29.7",null,null,null,0,0,"P",0,0,null,null,null,{"$f":"IF(LEN(G174)=0,\"\",VLOOKUP($B174,IF($F174=\"F\",TeamSheetFemale,TeamSheetMale),CC174,FALSE))","v":"Benjamin Cumberland"},"Ollie Read","Sean Lock","Ronan Williams","Mackenzie Bloxham","","","",0,6,0,7,8,0,4,5,0,"5.24.4",0,"5.04.5","4.58.8",0,"5.29.7","5.26.0",0,3,0,2,1,0,5,4,"Rad","Kett","Bic","Worc","Wreake",0,0,0,"R","I","P","Y","X","","","",null,null,27,{"$f":"IF(LEN(H174)=0,\"\",HLOOKUP(BT174,$CC$26:$CJ$28,2,FALSE)+IF(LEN(H174)=2,2,0))","v":22},{"$f":"IF(LEN(I174)=0,\"\",HLOOKUP(BU174,$CC$26:$CJ$28,2,FALSE)+IF(LEN(I174)=2,2,0))","v":12},{"$f":"IF(LEN(J174)=0,\"\",HLOOKUP(BV174,$CC$26:$CJ$28,2,FALSE)+IF(LEN(J174)=2,2,0))","v":42},{"$f":"IF(LEN(K174)=0,\"\",HLOOKUP(BW174,$CC$26:$CJ$28,2,FALSE)+IF(LEN(K174)=2,2,0))","v":37},{"$f":"IF(LEN(L174)=0,\"\",HLOOKUP(BX174,$CC$26:$CJ$28,2,FALSE)+IF(LEN(L174)=2,2,0))","v":""},{"$f":"IF(LEN(M174)=0,\"\",HLOOKUP(BY174,$CC$26:$CJ$28,2,FALSE)+IF(LEN(M174)=2,2,0))","v":""},{"$f":"IF(LEN(N174)=0,\"\",HLOOKUP(BZ174,$CC$26:$CJ$28,2,FALSE)+IF(LEN(N174)=2,2,0))","v":""}]
[{"$f":"B174&\"B\"","v":"73B"},null,null,{"$f":"VLOOKUP(B174,EventsOrder,3,FALSE)","v":"1500m"},"B",null,"XX","YY","RR","PP",null,null,null,null,"5.33.3","5.37.6","5.45.2","6.33.9",null,null,null,null,0,0,0,"PP",null,null,null,null,{"$f":"IF(LEN(G175)=0,\"\",VLOOKUP($B174,IF($F174=\"F\",TeamSheetFemale,TeamSheetMale),CC175,FALSE))","v":"Matthew Reuben"},"Hugo Robinson","Euan Stillion","Ben Groves","","","","",0,5,0,0,6,0,8,7,0,"6.33.9",0,0,"5.45.2",0,"5.33.3","5.37.6",0,4,0,0,3,0,1,2,"Wreake","Worc","Rad","Bic",0,0,0,0,"X","Y","R","P","","","","",null,null,39,44,29,14,"","","",""]
[{"$f":"B176&\"A\"","v":"74A"},74,{"$f":"VLOOKUP(B176,EventsOrder,2,FALSE)","v":4.0999999999999996},{"$f":"VLOOKUP(B176,EventsOrder,4,FALSE)","v":"U17 Men"},"A",{"$f":"IF(MID(D176,5,1)=\"F\",\"F\",\"M\")","v":"M"},"Y","R",null,null,null,null,null,null,1.7,1.49,null,null,null,null,null,null,0,0,null,null,null,null,null,null,{"$f":"IF(LEN(G176)=0,\"\",VLOOKUP($B176,IF($F176=\"F\",TeamSheetFemale,TeamSheetMale),CC176,FALSE))","v":"Reiss Francis"},"Brett Halsey","","","","","","",0,0,0,0,7,0,0,8,{"$f":"OFFSET($N176,0,BC176)","v":0},0,0,0,1.49,0,0,1.7,0,0,0,0,2,0,0,1,"Worc","Rad",0,0,0,0,0,0,"Y","R","","","","","","",null,null,42,27,"","","","","",""]
[{"$f":"B176&\"B\"","v":"74B"},null,null,{"$f":"VLOOKUP(B176,EventsOrder,3,FALSE)","v":"High Jump"},"B",null,null,null,null,null,null,null,null,null,null,null,null,null,null,null,null,null,null,null,null,null,null,null,null,null,{"$f":"IF(LEN(G177)=0,\"\",VLOOKUP($B176,IF($F176=\"F\",TeamSheetFemale,TeamSheetMale),CC177,FALSE))","v":""},"","","","","","","",0,0,0,0,0,0,0,0,0,0,0,0,0,0,0,0,0,0,0,0,0,0,0,0,0,0,0,0,0,0,0,0,"","","","","","","","",null,null,"","","","","","","",""]
[{"$f":"B178&\"A\"","v":"75A"},75,{"$f":"VLOOKUP(B178,EventsOrder,2,FALSE)","v":4},{"$f":"VLOOKUP(B178,EventsOrder,4,FALSE)","v":"U17 F/Women"},"A",{"$f":"IF(MID(D178,5,1)=\"F\",\"F\",\"M\")","v":"F"},"J","Y","R","X","P","I",null,null,4.8,4.62,4.58,4.3099999999999996,4.2300000000000004,4.1100000000000003,null,null,0,0,0,0,0,0,null,null,{"$f":"IF(LEN(G178)=0,\"\",VLOOKUP($B178,IF($F178=\"F\",TeamSheetFemale,TeamSheetMale),CC178,FALSE))","v":"Rebecca Scott"},"Becky Donnelly (senior)","Petrina Chantler-Edmond","Ella Grainger","U20 Emily Benfield","Ellie Boulton","","",8,4,0,3,6,0,5,7,4.8,4.2300000000000004,0,4.1100000000000003,4.58,0,4.3099999999999996,4.62,{"$f":"IF(ISNA(MATCH(BC$29,$BS178:$BZ178,0)),0,MATCH(BC$29,$BS178:$BZ178,0))","v":1},5,0,6,3,0,4,2,"Ban","Worc","Rad","Wreake","Bic","Kett",0,0,"J","Y","R","X","P","I","","",null,null,7,42,27,37,12,22,"",""]
[{"$f":"B178&\"B\"","v":"75B"},null,null,{"$f":"VLOOKUP(B178,EventsOrder,3,FALSE)","v":"Long Jump"},"B",null,"RR","II","YY","XX",null,null,null,null,4.1399999999999997,3.86,3.68,2.54,null,null,null,null,0,0,0,0,null,null,null,null,{"$f":"IF(LEN(G179)=0,\"\",VLOOKUP($B178,IF($F178=\"F\",TeamSheetFemale,TeamSheetMale),CC179,FALSE))","v":"Leah Brown"},"Niamh Monaghan","Hannah Kenwright","Eve Cameron","","","","",0,0,0,7,8,0,5,6,0,0,0,3.86,4.1399999999999997,0,2.54,3.68,0,0,0,2,1,0,4,3,"Rad","Kett","Worc","Wreake",0,0,0,0,"R","I","Y","X","","","","",null,null,29,24,44,39,"","","",""]
[{"$f":"B180&\"A\"","v":"76A"},76,{"$f":"VLOOKUP(B180,EventsOrder,2,FALSE)","v":4.3},{"$f":"VLOOKUP(B180,EventsOrder,4,FALSE)","v":"U15 Male"},"A",{"$f":"IF(MID(D180,5,1)=\"F\",\"F\",\"M\")","v":"M"},"B","F","Y","J","X","P","R",null,"4.42.7","4.46.3","4.47.4","4.51.1","5.00.7","5.25.9","NTR",null,0,0,0,0,0,"P",0,null,{"$f":"IF(LEN(G180)=0,\"\",VLOOKUP($B180,IF($F180=\"F\",TeamSheetFemale,TeamSheetMale),CC180,FALSE))","v":"Harry Walters"},"Max Kent","James Dale","Skip Snelson","Roman Watson-Quilter","Samuel Worfolk","Cameron King","",5,3,8,0,2,7,4,6,"4.51.1","5.25.9","4.42.7",0,"NTR","4.46.3","5.00.7","4.47.4",4,6,1,0,7,2,5,3,"DASH","Tam","Worc","Ban","Wreake","Bic","Rad",0,"B","F","Y","J","X","P","R","",null,null,17,32,42,7,37,12,27,""]
[{"$f":"B180&\"B\"","v":"76B"},null,null,{"$f":"VLOOKUP(B180,EventsOrder,3,FALSE)","v":"1500m"},"B",null,"FF","XX",null,null,null,null,null,null,"4.46.8","5.06.2",null,null,null,null,null,null,"FF",0,null,null,null,null,null,null,{"$f":"IF(LEN(G181)=0,\"\",VLOOKUP($B180,IF($F180=\"F\",TeamSheetFemale,TeamSheetMale),CC181,FALSE))","v":"James Sherriff"},"Lucca Watson-Quilter","","","","","","",0,0,0,0,0,8,7,0,0,0,0,0,0,"4.46.8","5.06.2",0,0,0,0,0,0,1,2,0,"Tam","Wreake",0,0,0,0,0,0,"F","X","","","","","","",null,null,34,39,"","","","","",""]
[{"$f":"B182&\"A\"","v":"77A"},77,{"$f":"VLOOKUP(B182,EventsOrder,2,FALSE)","v":4.2},{"$f":"VLOOKUP(B182,EventsOrder,4,FALSE)","v":"U15 Female"},"A",{"$f":"IF(MID(D182,5,1)=\"F\",\"F\",\"M\")","v":"F"},"Y","F","P","J","II","RR","B","X",9.35,7.67,7.57,6.71,6.41,5.41,4.8099999999999996,4.62,0,0,0,0,"II",0,0,0,{"$f":"IF(LEN(G182)=0,\"\",VLOOKUP($B182,IF($F182=\"F\",TeamSheetFemale,TeamSheetMale),CC182,FALSE))","v":"Danielle Hopkins"},"Alice Jones","Lauren Garside","Emelina Darvell","Millie Toseland","Hermione Jewel","Jasmine Pramolo","Rosie Timlock",5,6,2,4,3,7,1,8,6.71,7.57,4.8099999999999996,6.41,5.41,7.67,4.62,9.35,4,3,7,5,6,2,8,1,"Worc","Tam","Bic","Ban","Kett","Rad","DASH","Wreake","Y","F","P","J","I","R","B","X",null,null,42,32,12,7,24,29,17,37]
[{"$f":"B182&\"B\"","v":"77B"},null,null,{"$f":"VLOOKUP(B182,EventsOrder,3,FALSE)","v":"Shot"},"B",null,"YY","I","PP","R","XX",null,null,null,8.0299999999999994,5.51,5.0599999999999996,4.97,3.38,null,null,null,0,0,0,0,0,null,null,null,{"$f":"IF(LEN(G183)=0,\"\",VLOOKUP($B182,IF($F182=\"F\",TeamSheetFemale,TeamSheetMale),CC183,FALSE))","v":"Katie Harris"},"Matilda Braithwaite","Holly Hunter","Hannah Mott","Ravenn Cook","","","",0,6,0,7,5,0,4,8,0,5.0599999999999996,0,5.51,4.97,0,3.38,8.0299999999999994,0,3,0,2,4,0,5,1,"Worc","Kett","Bic","Rad","Wreake",0,0,0,"Y","I","P","R","X","","","",null,null,44,22,14,27,39,"","",""]
[{"$f":"B184&\"A\"","v":"78A"},78,{"$f":"VLOOKUP(B184,EventsOrder,2,FALSE)","v":4.2},{"$f":"VLOOKUP(B184,EventsOrder,4,FALSE)","v":"U13 Male"},"A",{"$f":"IF(MID(D184,5,1)=\"F\",\"F\",\"M\")","v":"M"},"YY","RR","XX","P","F","B",null,null,14.17,12.05,11.83,10.79,10.19,9.83,null,null,0,0,0,"P",0,0,null,null,{"$f":"IF(LEN(G184)=0,\"\",VLOOKUP($B184,IF($F184=\"F\",TeamSheetFemale,TeamSheetMale),CC184,FALSE))","v":"Riley Carpenter"},"Roan Stillion","Euan Gibbs","Callum Hewett","Daniel Aston","John Sparry","","",0,5,3,0,7,4,6,8,0,10.79,9.83,0,12.05,10.19,11.83,14.17,0,4,6,0,2,5,3,1,"Worc","Rad","Wreake","Bic","Tam","DASH",0,0,"Y","R","X","P","F","B","","",null,null,44,29,39,12,32,17,"",""]
[{"$f":"B184&\"B\"","v":"78B"},null,null,{"$f":"VLOOKUP(B184,EventsOrder,3,FALSE)","v":"Discus"},"B",null,"Y","FF","PP","R","X",null,null,null,13.67,10.17,9.8699999999999992,8.7899999999999991,8.18,null,null,null,0,"FF","PP",0,0,null,null,null,{"$f":"IF(LEN(G185)=0,\"\",VLOOKUP($B184,IF($F184=\"F\",TeamSheetFemale,TeamSheetMale),CC185,FALSE))","v":"Alex Santafe"},"Kian Dickson","Ryan Simpson","Joshua Cumberland","Ethan Patel","","","",0,6,0,0,5,7,4,8,0,9.8699999999999992,0,0,8.7899999999999991,10.17,8.18,13.67,0,3,0,0,4,2,5,1,"Worc","Tam","Bic","Rad","Wreake",0,0,0,"Y","F","P","R","X","","","",null,null,42,34,14,27,37,"","",""]
[{"$f":"B186&\"A\"","v":"79A"},79,{"$f":"VLOOKUP(B186,EventsOrder,2,FALSE)","v":4.2},{"$f":"VLOOKUP(B186,EventsOrder,4,FALSE)","v":"U13 Female"},"A",{"$f":"IF(MID(D186,5,1)=\"F\",\"F\",\"M\")","v":"F"},null,null,null,null,null,null,null,null,null,null,null,null,null,null,null,null,null,null,null,null,null,null,null,null,{"$f":"IF(LEN(G186)=0,\"\",VLOOKUP($B186,IF($F186=\"F\",TeamSheetFemale,TeamSheetMale),CC186,FALSE))","v":""},"","","","","","","",0,0,0,0,0,0,0,0,0,0,0,0,0,0,0,0,0,0,0,0,0,0,0,0,0,0,0,0,0,0,0,0,"","","","","","","","",null,null,"","","","","","","",""]
[{"$f":"B186&\"B\"","v":"79B"},null,null,{"$f":"VLOOKUP(B186,EventsOrder,3,FALSE)","v":"Javelin"},"B",null,null,null,null,null,null,null,null,null,null,null,null,null,null,null,null,null,null,null,null,null,null,null,null,null,{"$f":"IF(LEN(G187)=0,\"\",VLOOKUP($B186,IF($F186=\"F\",TeamSheetFemale,TeamSheetMale),CC187,FALSE))","v":""},"","","","","","","",0,0,0,0,0,0,0,0,0,0,0,0,0,0,0,0,0,0,0,0,0,0,0,0,0,0,0,0,0,0,0,0,"","","","","","","","",null,null,"","","","","","","",""]
[{"$f":"B188&\"A\"","v":"80A"},80,{"$f":"VLOOKUP(B188,EventsOrder,2,FALSE)","v":4.4000000000000004},{"$f":"VLOOKUP(B188,EventsOrder,4,FALSE)","v":"U17 Men"},"A",{"$f":"IF(MID(D188,5,1)=\"F\",\"F\",\"M\")","v":"M"},"Y","X","I","F",null,null,null,null,"4.25.8","4.30.2","4.43.8","4.44.7",null,null,null,null,0,0,0,0,null,null,null,null,{"$f":"IF(LEN(G188)=0,\"\",VLOOKUP($B188,IF($F188=\"F\",TeamSheetFemale,TeamSheetMale),CC188,FALSE))","v":"Jake Cavens"},"Charlie McGlinchey","Josh Cannell","Andrew Woods","","","","",0,0,0,6,0,5,7,8,0,0,0,"4.43.8",0,"4.44.7","4.30.2","4.25.8",0,0,0,3,0,4,2,1,{"$f":"IF(LEN(G188)>0,VLOOKUP(LEFT(G188,1),Clubs,5,FALSE),0)","v":"Worc"},{"$f":"IF(LEN(H188)>0,VLOOKUP(LEFT(H188,1),Clubs,5,FALSE),0)","v":"Wreake"},{"$f":"IF(LEN(I188)>0,VLOOKUP(LEFT(I188,1),Clubs,5,FALSE),0)","v":"Kett"},{"$f":"IF(LEN(J188)>0,VLOOKUP(LEFT(J188,1),Clubs,5,FALSE),0)","v":"Tam"},{"$f":"IF(LEN(K188)>0,VLOOKUP(LEFT(K188,1),Clubs,5,FALSE),0)","v":0},{"$f":"IF(LEN(L188)>0,VLOOKUP(LEFT(L188,1),Clubs,5,FALSE),0)","v":0},{"$f":"IF(LEN(M188)>0,VLOOKUP(LEFT(M188,1),Clubs,5,FALSE),0)","v":0},{"$f":"IF(LEN(N188)>0,VLOOKUP(LEFT(N188,1),Clubs,5,FALSE),0)","v":0},{"$f":"LEFT(G188,1)","v":"Y"},"X","I","F","","","","",null,null,42,37,22,32,"","","",""]
[{"$f":"B188&\"B\"","v":"80B"},null,null,{"$f":"VLOOKUP(B188,EventsOrder,3,FALSE)","v":"1500m"},"B",null,"YY",null,null,null,null,null,null,null,"4.39.8",null,null,null,null,null,null,null,0,null,null,null,null,null,null,null,{"$f":"IF(LEN(G189)=0,\"\",VLOOKUP($B188,IF($F188=\"F\",TeamSheetFemale,TeamSheetMale),CC189,FALSE))","v":"Phil Capewell"},"","","","","","","",0,0,0,0,0,0,0,8,0,0,0,0,{"$f":"OFFSET($N189,0,BG189)","v":0},{"$f":"OFFSET($N189,0,BH189)","v":0},{"$f":"OFFSET($N189,0,BI189)","v":0},{"$f":"OFFSET($N189,0,BJ189)","v":"4.39.8"},0,0,0,0,0,0,0,1,"Worc",0,0,0,0,0,0,0,"Y",{"$f":"LEFT(H189,1)","v":""},{"$f":"LEFT(I189,1)","v":""},{"$f":"LEFT(J189,1)","v":""},{"$f":"LEFT(K189,1)","v":""},{"$f":"LEFT(L189,1)","v":""},{"$f":"LEFT(M189,1)","v":""},{"$f":"LEFT(N189,1)","v":""},null,null,44,"","","","","","",""]
[{"$f":"B190&\"A\"","v":"81A"},81,{"$f":"VLOOKUP(B190,EventsOrder,2,FALSE)","v":4.5},{"$f":"VLOOKUP(B190,EventsOrder,4,FALSE)","v":"U11 Fem/Male"},"A",{"$f":"IF(MID(D190,5,1)=\"F\",\"F\",\"M\")","v":"F"},"P","J","I","X","R","F","Y","B",62,63,66.8,67.3,67.8,68.400000000000006,70.2,72.900000000000006,0,0,0,0,0,0,0,0,{"$f":"IF(LEN(G190)=0,\"\",VLOOKUP($B190,IF($F190=\"F\",TeamSheetFemale,TeamSheetMale),CC190,FALSE))","v":"Bicester"},"Banbury","Kettering","Wreake Runners","Radley","Tamworth","Worcester","Dudley & S'bridge",{"$f":"IF(OR($F190=\"NS\",AU190=\"DNF\"),0,IF(BC190>0,$BK$29+1-BC190,0))","v":7},{"$f":"IF(OR($F190=\"NS\",AV190=\"DNF\"),0,IF(BD190>0,$BK$29+1-BD190,0))","v":8},{"$f":"IF(OR($F190=\"NS\",AW190=\"DNF\"),0,IF(BE190>0,$BK$29+1-BE190,0))","v":1},{"$f":"IF(OR($F190=\"NS\",AX190=\"DNF\"),0,IF(BF190>0,$BK$29+1-BF190,0))","v":6},{"$f":"IF(OR($F190=\"NS\",AY190=\"DNF\"),0,IF(BG190>0,$BK$29+1-BG190,0))","v":4},{"$f":"IF(OR($F190=\"NS\",AZ190=\"DNF\"),0,IF(BH190>0,$BK$29+1-BH190,0))","v":3},{"$f":"IF(OR($F190=\"NS\",BA190=\"DNF\"),0,IF(BI190>0,$BK$29+1-BI190,0))","v":5},{"$f":"IF(OR($F190=\"NS\",BB190=\"DNF\"),0,IF(BJ190>0,$BK$29+1-BJ190,0))","v":2},63,62,72.900000000000006,66.8,67.8,68.400000000000006,67.3,70.2,2,1,8,3,5,6,4,7,"Bic","Ban","Kett","Wreake","Rad","Tam","Worc","DASH","P","J","I","X","R","F","Y","B",null,null,12,7,22,37,27,32,42,17]
[{"$f":"B190&\"B\"","v":"81B"},null,null,{"$f":"VLOOKUP(B190,EventsOrder,3,FALSE)","v":"4 x 100m Mixed"},"B",null,null,null,null,null,null,null,null,null,null,null,null,null,null,null,null,null,null,null,null,null,null,null,null,null,{"$f":"IF(LEN(G191)=0,\"\",VLOOKUP($B190,IF($F190=\"F\",TeamSheetFemale,TeamSheetMale),CC191,FALSE))","v":""},"","","","","","","",0,0,0,0,0,0,0,0,0,0,0,0,0,0,0,0,0,0,0,0,0,0,0,0,0,0,0,0,0,0,0,0,"","","","","","","","",null,null,"","","","","","","",""]
[{"$f":"B192&\"A\"","v":"82A"},82,{"$f":"VLOOKUP(B192,EventsOrder,2,FALSE)","v":4.55},{"$f":"VLOOKUP(B192,EventsOrder,4,FALSE)","v":"U13 Female"},"A",{"$f":"IF(MID(D192,5,1)=\"F\",\"F\",\"M\")","v":"F"},"X","J","Y","R","F","P","I","B",58.2,60.4,60.6,61.6,62,64,64.599999999999994,68.5,0,0,0,0,0,0,0,0,{"$f":"IF(LEN(G192)=0,\"\",VLOOKUP($B192,IF($F192=\"F\",TeamSheetFemale,TeamSheetMale),CC192,FALSE))","v":"Wreake Runners"},"Banbury","Worcester","Radley","Tamworth","Bicester","Kettering Town Harriers","Dudley & S'bridge",7,3,1,2,5,4,8,6,60.4,64,68.5,64.599999999999994,61.6,62,58.2,60.6,2,6,8,7,4,5,1,3,"Wreake","Ban","Worc","Rad","Tam","Bic","Kett","DASH","X","J","Y","R","F","P","I","B",null,null,{"$f":"IF(LEN(G192)=0,\"\",HLOOKUP(BS192,$CC$26:$CJ$28,2,FALSE)+IF(LEN(G192)=2,2,0))","v":37},7,42,27,32,12,22,17]
[{"$f":"B192&\"B\"","v":"82B"},null,null,{"$f":"VLOOKUP(B192,EventsOrder,3,FALSE)","v":"4 x 100m"},"B",null,null,null,null,null,null,null,null,null,null,null,null,null,null,null,null,null,null,null,null,null,null,null,null,null,{"$f":"IF(LEN(G193)=0,\"\",VLOOKUP($B192,IF($F192=\"F\",TeamSheetFemale,TeamSheetMale),CC193,FALSE))","v":""},"","","","","","","",0,0,0,0,0,0,0,0,0,0,0,0,0,0,0,0,0,0,0,0,0,0,0,0,0,0,0,0,0,0,0,0,"","","","","","","","",null,null,"","","","","","","",""]
[{"$f":"B194&\"A\"","v":"83A"},83,{"$f":"VLOOKUP(B194,EventsOrder,2,FALSE)","v":5},{"$f":"VLOOKUP(B194,EventsOrder,4,FALSE)","v":"U15 Female"},"A",{"$f":"IF(MID(D194,5,1)=\"F\",\"F\",\"M\")","v":"F"},"Y","I","B","X","R","P",null,null,52.2,54,54.1,55.6,56.8,58.5,null,null,0,0,0,0,0,0,null,null,{"$f":"IF(LEN(G194)=0,\"\",VLOOKUP($B194,IF($F194=\"F\",TeamSheetFemale,TeamSheetMale),CC194,FALSE))","v":"Worcester"},"Kettering Town Harriers","Dudley & S'bridge","Wreake Runners","Radley","Bicester","","",0,3,6,7,4,0,5,8,0,58.5,54.1,54,56.8,0,55.6,52.2,{"$f":"IF(ISNA(MATCH(BC$29,$BS194:$BZ194,0)),0,MATCH(BC$29,$BS194:$BZ194,0))","v":0},6,3,2,5,0,4,1,"Worc","Kett","DASH","Wreake","Rad","Bic",0,0,"Y","I","B","X","R","P","","",null,null,42,22,17,37,27,12,"",""]
[{"$f":"B194&\"B\"","v":"83B"},null,null,{"$f":"VLOOKUP(B194,EventsOrder,3,FALSE)","v":"4 x 100m"},"B",null,null,null,null,null,null,null,null,null,null,null,null,null,null,null,null,null,null,null,null,null,null,null,null,null,{"$f":"IF(LEN(G195)=0,\"\",VLOOKUP($B194,IF($F194=\"F\",TeamSheetFemale,TeamSheetMale),CC195,FALSE))","v":""},"","","","","","","",0,0,0,0,0,0,0,0,{"$f":"OFFSET($N195,0,BC195)","v":0},{"$f":"OFFSET($N195,0,BD195)","v":0},{"$f":"OFFSET($N195,0,BE195)","v":0},{"$f":"OFFSET($N195,0,BF195)","v":0},0,0,0,0,0,0,0,0,0,0,0,0,0,0,0,0,0,0,0,0,"","","","","","","","",null,null,"","","","","","","",""]
[{"$f":"B196&\"A\"","v":"84A"},84,{"$f":"VLOOKUP(B196,EventsOrder,2,FALSE)","v":5.05},{"$f":"VLOOKUP(B196,EventsOrder,4,FALSE)","v":"U17 F/Women"},"A",{"$f":"IF(MID(D196,5,1)=\"F\",\"F\",\"M\")","v":"F"},"Y","R","I","X",null,null,null,null,53.4,54,56.3,56.3,null,null,null,null,0,0,0,0,null,null,null,null,{"$f":"IF(LEN(G196)=0,\"\",VLOOKUP($B196,IF($F196=\"F\",TeamSheetFemale,TeamSheetMale),CC196,FALSE))","v":"Worcester"},"Radley","Kettering","Wreake Runners","","","","",0,0,0,6,7,0,5,8,0,0,0,56.3,54,0,56.3,53.4,0,0,0,3,2,0,4,1,"Worc","Rad","Kett","Wreake",0,0,0,0,"Y","R","I","X","","","","",null,null,42,27,22,37,"","","",""]
[{"$f":"B196&\"B\"","v":"84B"},null,null,{"$f":"VLOOKUP(B196,EventsOrder,3,FALSE)","v":"4 x 100m"},"B",null,null,null,null,null,null,null,null,null,null,null,null,null,null,null,null,null,null,null,null,null,null,null,null,null,{"$f":"IF(LEN(G197)=0,\"\",VLOOKUP($B196,IF($F196=\"F\",TeamSheetFemale,TeamSheetMale),CC197,FALSE))","v":""},"","","","","","","",0,0,0,0,0,0,0,0,0,0,0,0,0,0,0,0,0,0,0,0,0,0,0,0,0,0,0,0,0,0,0,0,"","","","","","","","",null,null,"","","","","","","",""]
[{"$f":"B198&\"A\"","v":"85A"},85,{"$f":"VLOOKUP(B198,EventsOrder,2,FALSE)","v":5.0999999999999996},{"$f":"VLOOKUP(B198,EventsOrder,4,FALSE)","v":"U13 Male"},"A",{"$f":"IF(MID(D198,5,1)=\"F\",\"F\",\"M\")","v":"M"},"I","Y","R","P","F","X",null,null,53.7,57.5,58.2,60.1,61.1,64,null,null,0,0,0,0,0,0,null,null,{"$f":"IF(LEN(G198)=0,\"\",VLOOKUP($B198,IF($F198=\"F\",TeamSheetFemale,TeamSheetMale),CC198,FALSE))","v":0},0,0,0,0,0,"","",0,5,0,8,6,4,3,7,0,60.1,0,53.7,58.2,61.1,64,57.5,0,4,0,1,3,5,6,2,"Kett","Worc","Rad","Bic","Tam","Wreake",0,0,"I","Y","R","P","F","X","","",null,null,22,42,27,12,32,37,"",""]
[{"$f":"B198&\"B\"","v":"85B"},null,null,{"$f":"VLOOKUP(B198,EventsOrder,3,FALSE)","v":"4 x 100m"},"B",null,null,null,null,null,null,null,null,null,null,null,null,null,null,null,null,null,null,null,null,null,null,null,null,null,{"$f":"IF(LEN(G199)=0,\"\",VLOOKUP($B198,IF($F198=\"F\",TeamSheetFemale,TeamSheetMale),CC199,FALSE))","v":""},"","","","","","","",0,0,0,0,0,0,0,0,0,0,0,0,0,0,0,0,0,0,0,0,0,0,0,0,0,0,0,0,0,0,0,0,"","","","","","","","",null,null,"","","","","","","",""]
[{"$f":"B200&\"A\"","v":"86A"},86,{"$f":"VLOOKUP(B200,EventsOrder,2,FALSE)","v":5.15},{"$f":"VLOOKUP(B200,EventsOrder,4,FALSE)","v":"U15 Male"},"A",{"$f":"IF(MID(D200,5,1)=\"F\",\"F\",\"M\")","v":"M"},"Y","I","B","X",null,null,null,null,51.2,53,53.3,55,null,null,null,null,0,0,0,0,null,null,null,null,{"$f":"IF(LEN(G200)=0,\"\",VLOOKUP($B200,IF($F200=\"F\",TeamSheetFemale,TeamSheetMale),CC200,FALSE))","v":"Worcester"},"Kettering Town Harriers","Dudley & S'bridge","Wreake Runners","","","","",0,0,6,7,0,0,5,8,0,0,53.3,53,0,0,55,51.2,0,0,3,2,0,0,4,1,"Worc","Kett","DASH","Wreake",0,0,0,0,"Y","I","B","X","","","","",null,null,42,22,17,37,"","","",""]
[{"$f":"B200&\"B\"","v":"86B"},null,null,{"$f":"VLOOKUP(B200,EventsOrder,3,FALSE)","v":"4 x 100m"},"B",null,null,null,null,null,null,null,null,null,null,null,null,null,null,null,null,null,null,null,null,null,null,null,null,null,{"$f":"IF(LEN(G201)=0,\"\",VLOOKUP($B200,IF($F200=\"F\",TeamSheetFemale,TeamSheetMale),CC201,FALSE))","v":""},"","","","","","","",0,0,0,0,0,0,0,0,0,0,0,0,0,0,0,0,0,0,0,0,0,0,0,0,0,0,0,0,0,0,0,0,"","","","","","","","",null,null,"","","","","","","",""]
[{"$f":"B202&\"A\"","v":"87A"},87,{"$f":"VLOOKUP(B202,EventsOrder,2,FALSE)","v":5.2},{"$f":"VLOOKUP(B202,EventsOrder,4,FALSE)","v":"U17 Men"},"A",{"$f":"IF(MID(D202,5,1)=\"F\",\"F\",\"M\")","v":"M"},"Y","R",null,null,null,null,null,null,44.7,46.9,null,null,null,null,null,null,0,0,null,null,null,null,null,null,{"$f":"IF(LEN(G202)=0,\"\",VLOOKUP($B202,IF($F202=\"F\",TeamSheetFemale,TeamSheetMale),CC202,FALSE))","v":"Worcester"},"Radley","","","","","","",0,0,0,0,7,0,0,8,0,0,0,0,46.9,0,0,44.7,0,0,0,0,2,0,0,1,"Worc","Rad",0,0,0,0,0,0,"Y","R","","","","","","",null,null,42,27,"","","","","",""]
[{"$f":"B202&\"B\"","v":"87B"},null,null,{"$f":"VLOOKUP(B202,EventsOrder,3,FALSE)","v":"4 x 100m"},"B",null,null,null,null,null,null,null,null,null,null,null,null,null,null,null,null,null,null,null,null,null,null,null,null,null,{"$f":"IF(LEN(G203)=0,\"\",VLOOKUP($B202,IF($F202=\"F\",TeamSheetFemale,TeamSheetMale),CC203,FALSE))","v":""},"","","","","","","",0,0,0,0,0,0,0,0,0,0,0,0,0,0,0,0,0,0,0,0,0,0,0,0,0,0,0,0,0,0,0,0,"","","","","","","","",null,null,"","","","","","","",""]
[{"$f":"B204&\"A\"","v":"88A"},88,{"$f":"VLOOKUP(B204,EventsOrder,2,FALSE)","v":11.45},{"$f":"VLOOKUP(B204,EventsOrder,4,FALSE)","v":"U13 Female"},"A",{"$f":"IF(MID(D204,5,1)=\"F\",\"F\",\"M\")","v":"F"},"X","Y",null,null,null,null,null,null,"5.52.0","6.12.7",null,null,null,null,null,null,405,104,null,null,null,null,null,null,{"$f":"IF(LEN(G204)=0,\"\",VLOOKUP($B204,IF($F204=\"F\",TeamSheetFemale,TeamSheetMale),CC204,FALSE))","v":"Isabelle Wilson"},{"$f":"IF(LEN(H204)=0,\"\",VLOOKUP($B204,IF($F204=\"F\",TeamSheetFemale,TeamSheetMale),CD204,FALSE))","v":"Emma Pound"},{"$f":"IF(LEN(I204)=0,\"\",VLOOKUP($B204,IF($F204=\"F\",TeamSheetFemale,TeamSheetMale),CE204,FALSE))","v":""},{"$f":"IF(LEN(J204)=0,\"\",VLOOKUP($B204,IF($F204=\"F\",TeamSheetFemale,TeamSheetMale),CF204,FALSE))","v":""},{"$f":"IF(LEN(K204)=0,\"\",VLOOKUP($B204,IF($F204=\"F\",TeamSheetFemale,TeamSheetMale),CG204,FALSE))","v":""},{"$f":"IF(LEN(L204)=0,\"\",VLOOKUP($B204,IF($F204=\"F\",TeamSheetFemale,TeamSheetMale),CH204,FALSE))","v":""},{"$f":"IF(LEN(M204)=0,\"\",VLOOKUP($B204,IF($F204=\"F\",TeamSheetFemale,TeamSheetMale),CI204,FALSE))","v":""},{"$f":"IF(LEN(N204)=0,\"\",VLOOKUP($B204,IF($F204=\"F\",TeamSheetFemale,TeamSheetMale),CJ204,FALSE))","v":""},0,0,0,0,0,0,8,7,0,0,0,0,0,0,"5.52.0","6.12.7",0,0,0,0,0,0,1,2,"Wreake","Worc",0,0,0,0,0,0,"X","Y","","","","","","",null,null,37,42,"","","","","",""]
[{"$f":"B204&\"B\"","v":"88B"},null,null,{"$f":"VLOOKUP(B204,EventsOrder,3,FALSE)","v":"1500m"},"B",null,null,null,null,null,null,null,null,null,null,null,null,null,null,null,null,null,null,null,null,null,null,null,null,null,{"$f":"IF(LEN(G205)=0,\"\",VLOOKUP($B204,IF($F204=\"F\",TeamSheetFemale,TeamSheetMale),CC205,FALSE))","v":""},{"$f":"IF(LEN(H205)=0,\"\",VLOOKUP($B204,IF($F204=\"F\",TeamSheetFemale,TeamSheetMale),CD205,FALSE))","v":""},{"$f":"IF(LEN(I205)=0,\"\",VLOOKUP($B204,IF($F204=\"F\",TeamSheetFemale,TeamSheetMale),CE205,FALSE))","v":""},{"$f":"IF(LEN(J205)=0,\"\",VLOOKUP($B204,IF($F204=\"F\",TeamSheetFemale,TeamSheetMale),CF205,FALSE))","v":""},{"$f":"IF(LEN(K205)=0,\"\",VLOOKUP($B204,IF($F204=\"F\",TeamSheetFemale,TeamSheetMale),CG205,FALSE))","v":""},{"$f":"IF(LEN(L205)=0,\"\",VLOOKUP($B204,IF($F204=\"F\",TeamSheetFemale,TeamSheetMale),CH205,FALSE))","v":""},{"$f":"IF(LEN(M205)=0,\"\",VLOOKUP($B204,IF($F204=\"F\",TeamSheetFemale,TeamSheetMale),CI205,FALSE))","v":""},{"$f":"IF(LEN(N205)=0,\"\",VLOOKUP($B204,IF($F204=\"F\",TeamSheetFemale,TeamSheetMale),CJ205,FALSE))","v":""},0,0,0,0,0,0,0,0,0,0,0,0,0,0,0,0,0,0,0,0,0,0,0,0,0,0,0,0,0,0,0,0,"","","","","","","","",null,null,"","","","","","","",""]
[{"$f":"B206&\"A\"","v":"89A"},89,{"$f":"VLOOKUP(B206,EventsOrder,2,FALSE)","v":11.55},{"$f":"VLOOKUP(B206,EventsOrder,4,FALSE)","v":"U15 Female"},"A",{"$f":"IF(MID(D206,5,1)=\"F\",\"F\",\"M\")","v":"F"},null,null,null,null,null,null,null,null,null,null,null,null,null,null,null,null,null,null,null,null,null,null,null,null,{"$f":"IF(LEN(G206)=0,\"\",VLOOKUP($B206,IF($F206=\"F\",TeamSheetFemale,TeamSheetMale),CC206,FALSE))","v":""},{"$f":"IF(LEN(H206)=0,\"\",VLOOKUP($B206,IF($F206=\"F\",TeamSheetFemale,TeamSheetMale),CD206,FALSE))","v":""},{"$f":"IF(LEN(I206)=0,\"\",VLOOKUP($B206,IF($F206=\"F\",TeamSheetFemale,TeamSheetMale),CE206,FALSE))","v":""},{"$f":"IF(LEN(J206)=0,\"\",VLOOKUP($B206,IF($F206=\"F\",TeamSheetFemale,TeamSheetMale),CF206,FALSE))","v":""},{"$f":"IF(LEN(K206)=0,\"\",VLOOKUP($B206,IF($F206=\"F\",TeamSheetFemale,TeamSheetMale),CG206,FALSE))","v":""},{"$f":"IF(LEN(L206)=0,\"\",VLOOKUP($B206,IF($F206=\"F\",TeamSheetFemale,TeamSheetMale),CH206,FALSE))","v":""},{"$f":"IF(LEN(M206)=0,\"\",VLOOKUP($B206,IF($F206=\"F\",TeamSheetFemale,TeamSheetMale),CI206,FALSE))","v":""},{"$f":"IF(LEN(N206)=0,\"\",VLOOKUP($B206,IF($F206=\"F\",TeamSheetFemale,TeamSheetMale),CJ206,FALSE))","v":""},0,0,0,0,0,0,0,0,0,0,0,0,0,0,0,0,0,0,0,0,0,0,0,0,0,0,0,0,0,0,0,0,"","","","","","","","",null,null,"",{"$f":"IF(LEN(H206)=0,\"\",HLOOKUP(BT206,$CC$26:$CJ$28,2,FALSE)+IF(LEN(H206)=2,2,0))","v":""},{"$f":"IF(LEN(I206)=0,\"\",HLOOKUP(BU206,$CC$26:$CJ$28,2,FALSE)+IF(LEN(I206)=2,2,0))","v":""},{"$f":"IF(LEN(J206)=0,\"\",HLOOKUP(BV206,$CC$26:$CJ$28,2,FALSE)+IF(LEN(J206)=2,2,0))","v":""},{"$f":"IF(LEN(K206)=0,\"\",HLOOKUP(BW206,$CC$26:$CJ$28,2,FALSE)+IF(LEN(K206)=2,2,0))","v":""},{"$f":"IF(LEN(L206)=0,\"\",HLOOKUP(BX206,$CC$26:$CJ$28,2,FALSE)+IF(LEN(L206)=2,2,0))","v":""},{"$f":"IF(LEN(M206)=0,\"\",HLOOKUP(BY206,$CC$26:$CJ$28,2,FALSE)+IF(LEN(M206)=2,2,0))","v":""},{"$f":"IF(LEN(N206)=0,\"\",HLOOKUP(BZ206,$CC$26:$CJ$28,2,FALSE)+IF(LEN(N206)=2,2,0))","v":""}]
[{"$f":"B206&\"B\"","v":"89B"},null,null,{"$f":"VLOOKUP(B206,EventsOrder,3,FALSE)","v":"1500m"},"B",null,null,null,null,null,null,null,null,null,null,null,null,null,null,null,null,null,null,null,null,null,null,null,null,null,{"$f":"IF(LEN(G207)=0,\"\",VLOOKUP($B206,IF($F206=\"F\",TeamSheetFemale,TeamSheetMale),CC207,FALSE))","v":""},{"$f":"IF(LEN(H207)=0,\"\",VLOOKUP($B206,IF($F206=\"F\",TeamSheetFemale,TeamSheetMale),CD207,FALSE))","v":""},{"$f":"IF(LEN(I207)=0,\"\",VLOOKUP($B206,IF($F206=\"F\",TeamSheetFemale,TeamSheetMale),CE207,FALSE))","v":""},{"$f":"IF(LEN(J207)=0,\"\",VLOOKUP($B206,IF($F206=\"F\",TeamSheetFemale,TeamSheetMale),CF207,FALSE))","v":""},{"$f":"IF(LEN(K207)=0,\"\",VLOOKUP($B206,IF($F206=\"F\",TeamSheetFemale,TeamSheetMale),CG207,FALSE))","v":""},{"$f":"IF(LEN(L207)=0,\"\",VLOOKUP($B206,IF($F206=\"F\",TeamSheetFemale,TeamSheetMale),CH207,FALSE))","v":""},{"$f":"IF(LEN(M207)=0,\"\",VLOOKUP($B206,IF($F206=\"F\",TeamSheetFemale,TeamSheetMale),CI207,FALSE))","v":""},{"$f":"IF(LEN(N207)=0,\"\",VLOOKUP($B206,IF($F206=\"F\",TeamSheetFemale,TeamSheetMale),CJ207,FALSE))","v":""},0,0,0,0,0,0,0,0,0,0,0,0,0,0,0,0,0,0,0,0,0,0,0,0,0,0,0,0,0,0,0,0,"","","","","","","","",null,null,"","","","","","","",""]
[{"$f":"B208&\"A\"","v":"90A"},90,{"$f":"VLOOKUP(B208,EventsOrder,2,FALSE)","v":12.05},{"$f":"VLOOKUP(B208,EventsOrder,4,FALSE)","v":"U17 F/Women"},"A",{"$f":"IF(MID(D208,5,1)=\"F\",\"F\",\"M\")","v":"F"},null,null,null,null,null,null,null,null,null,null,null,null,null,null,null,null,null,null,null,null,null,null,null,null,{"$f":"IF(LEN(G208)=0,\"\",VLOOKUP($B208,IF($F208=\"F\",TeamSheetFemale,TeamSheetMale),CC208,FALSE))","v":""},{"$f":"IF(LEN(H208)=0,\"\",VLOOKUP($B208,IF($F208=\"F\",TeamSheetFemale,TeamSheetMale),CD208,FALSE))","v":""},{"$f":"IF(LEN(I208)=0,\"\",VLOOKUP($B208,IF($F208=\"F\",TeamSheetFemale,TeamSheetMale),CE208,FALSE))","v":""},{"$f":"IF(LEN(J208)=0,\"\",VLOOKUP($B208,IF($F208=\"F\",TeamSheetFemale,TeamSheetMale),CF208,FALSE))","v":""},{"$f":"IF(LEN(K208)=0,\"\",VLOOKUP($B208,IF($F208=\"F\",TeamSheetFemale,TeamSheetMale),CG208,FALSE))","v":""},{"$f":"IF(LEN(L208)=0,\"\",VLOOKUP($B208,IF($F208=\"F\",TeamSheetFemale,TeamSheetMale),CH208,FALSE))","v":""},{"$f":"IF(LEN(M208)=0,\"\",VLOOKUP($B208,IF($F208=\"F\",TeamSheetFemale,TeamSheetMale),CI208,FALSE))","v":""},{"$f":"IF(LEN(N208)=0,\"\",VLOOKUP($B208,IF($F208=\"F\",TeamSheetFemale,TeamSheetMale),CJ208,FALSE))","v":""},0,0,0,0,0,0,0,0,0,0,0,0,0,0,0,0,0,0,0,0,0,0,0,0,{"$f":"IF(LEN(G208)>0,VLOOKUP(LEFT(G208,1),Clubs,5,FALSE),0)","v":0},{"$f":"IF(LEN(H208)>0,VLOOKUP(LEFT(H208,1),Clubs,5,FALSE),0)","v":0},{"$f":"IF(LEN(I208)>0,VLOOKUP(LEFT(I208,1),Clubs,5,FALSE),0)","v":0},{"$f":"IF(LEN(J208)>0,VLOOKUP(LEFT(J208,1),Clubs,5,FALSE),0)","v":0},{"$f":"IF(LEN(K208)>0,VLOOKUP(LEFT(K208,1),Clubs,5,FALSE),0)","v":0},{"$f":"IF(LEN(L208)>0,VLOOKUP(LEFT(L208,1),Clubs,5,FALSE),0)","v":0},{"$f":"IF(LEN(M208)>0,VLOOKUP(LEFT(M208,1),Clubs,5,FALSE),0)","v":0},{"$f":"IF(LEN(N208)>0,VLOOKUP(LEFT(N208,1),Clubs,5,FALSE),0)","v":0},{"$f":"LEFT(G208,1)","v":""},"","","","","","","",null,null,"","","","","","","",""]
[{"$f":"B208&\"B\"","v":"90B"},null,null,{"$f":"VLOOKUP(B208,EventsOrder,3,FALSE)","v":"1500m"},"B",null,null,null,null,null,null,null,null,null,null,null,null,null,null,null,null,null,null,null,null,null,null,null,null,null,{"$f":"IF(LEN(G209)=0,\"\",VLOOKUP($B208,IF($F208=\"F\",TeamSheetFemale,TeamSheetMale),CC209,FALSE))","v":""},{"$f":"IF(LEN(H209)=0,\"\",VLOOKUP($B208,IF($F208=\"F\",TeamSheetFemale,TeamSheetMale),CD209,FALSE))","v":""},{"$f":"IF(LEN(I209)=0,\"\",VLOOKUP($B208,IF($F208=\"F\",TeamSheetFemale,TeamSheetMale),CE209,FALSE))","v":""},{"$f":"IF(LEN(J209)=0,\"\",VLOOKUP($B208,IF($F208=\"F\",TeamSheetFemale,TeamSheetMale),CF209,FALSE))","v":""},{"$f":"IF(LEN(K209)=0,\"\",VLOOKUP($B208,IF($F208=\"F\",TeamSheetFemale,TeamSheetMale),CG209,FALSE))","v":""},{"$f":"IF(LEN(L209)=0,\"\",VLOOKUP($B208,IF($F208=\"F\",TeamSheetFemale,TeamSheetMale),CH209,FALSE))","v":""},{"$f":"IF(LEN(M209)=0,\"\",VLOOKUP($B208,IF($F208=\"F\",TeamSheetFemale,TeamSheetMale),CI209,FALSE))","v":""},{"$f":"IF(LEN(N209)=0,\"\",VLOOKUP($B208,IF($F208=\"F\",TeamSheetFemale,TeamSheetMale),CJ209,FALSE))","v":""},0,0,0,0,0,0,0,0,0,0,0,0,{"$f":"OFFSET($N209,0,BG209)","v":0},{"$f":"OFFSET($N209,0,BH209)","v":0},{"$f":"OFFSET($N209,0,BI209)","v":0},{"$f":"OFFSET($N209,0,BJ209)","v":0},0,0,0,0,0,0,0,0,0,0,0,0,0,0,0,0,"",{"$f":"LEFT(H209,1)","v":""},{"$f":"LEFT(I209,1)","v":""},{"$f":"LEFT(J209,1)","v":""},{"$f":"LEFT(K209,1)","v":""},{"$f":"LEFT(L209,1)","v":""},{"$f":"LEFT(M209,1)","v":""},{"$f":"LEFT(N209,1)","v":""},null,null,"","","","","","","",""]
[{"$f":"B210&\"A\"","v":"91A"},91,{"$f":"VLOOKUP(B210,EventsOrder,2,FALSE)","v":12.2},{"$f":"VLOOKUP(B210,EventsOrder,4,FALSE)","v":"U13 Male"},"A",{"$f":"IF(MID(D210,5,1)=\"F\",\"F\",\"M\")","v":"M"},"Y",null,null,null,null,null,null,null,"2.56.3",null,null,null,null,null,null,null,113,null,null,null,null,null,null,null,{"$f":"IF(LEN(G210)=0,\"\",VLOOKUP($B210,IF($F210=\"F\",TeamSheetFemale,TeamSheetMale),CC210,FALSE))","v":"Theo Taylor-George"},"","","","","","","",{"$f":"IF(OR($F210=\"NS\",AU210=\"DNF\"),0,IF(BC210>0,$BK$29+1-BC210,0))","v":0},{"$f":"IF(OR($F210=\"NS\",AV210=\"DNF\"),0,IF(BD210>0,$BK$29+1-BD210,0))","v":0},{"$f":"IF(OR($F210=\"NS\",AW210=\"DNF\"),0,IF(BE210>0,$BK$29+1-BE210,0))","v":0},{"$f":"IF(OR($F210=\"NS\",AX210=\"DNF\"),0,IF(BF210>0,$BK$29+1-BF210,0))","v":0},{"$f":"IF(OR($F210=\"NS\",AY210=\"DNF\"),0,IF(BG210>0,$BK$29+1-BG210,0))","v":0},{"$f":"IF(OR($F210=\"NS\",AZ210=\"DNF\"),0,IF(BH210>0,$BK$29+1-BH210,0))","v":0},{"$f":"IF(OR($F210=\"NS\",BA210=\"DNF\"),0,IF(BI210>0,$BK$29+1-BI210,0))","v":0},{"$f":"IF(OR($F210=\"NS\",BB210=\"DNF\"),0,IF(BJ210>0,$BK$29+1-BJ210,0))","v":8},0,0,0,0,0,0,0,"2.56.3",0,0,0,0,0,0,0,1,"Worc",0,0,0,0,0,0,0,"Y","","","","","","","",null,null,42,"","","","","","",""]
[{"$f":"B210&\"B\"","v":"91B"},null,null,{"$f":"VLOOKUP(B210,EventsOrder,3,FALSE)","v":"800m"},"B",null,null,null,null,null,null,null,null,null,null,null,null,null,null,null,null,null,null,null,null,null,null,null,null,null,{"$f":"IF(LEN(G211)=0,\"\",VLOOKUP($B210,IF($F210=\"F\",TeamSheetFemale,TeamSheetMale),CC211,FALSE))","v":""},"","","","","","","",0,0,0,0,0,0,0,0,0,0,0,0,0,0,0,0,0,0,0,0,0,0,0,0,0,0,0,0,0,0,0,0,"","","","","","","","",null,null,"","","","","","","",""]
[{"$f":"B212&\"A\"","v":"92A"},92,{"$f":"VLOOKUP(B212,EventsOrder,2,FALSE)","v":12.4},{"$f":"VLOOKUP(B212,EventsOrder,4,FALSE)","v":"U15 Male"},"A",{"$f":"IF(MID(D212,5,1)=\"F\",\"F\",\"M\")","v":"M"},null,null,null,null,null,null,null,null,null,null,null,null,null,null,null,null,null,null,null,null,null,null,null,null,{"$f":"IF(LEN(G212)=0,\"\",VLOOKUP($B212,IF($F212=\"F\",TeamSheetFemale,TeamSheetMale),CC212,FALSE))","v":""},"","","","","","","",0,0,0,0,0,0,0,0,0,0,0,0,0,0,0,0,0,0,0,0,0,0,0,0,0,0,0,0,0,0,0,0,"","","","","","","","",null,null,{"$f":"IF(LEN(G212)=0,\"\",HLOOKUP(BS212,$CC$26:$CJ$28,2,FALSE)+IF(LEN(G212)=2,2,0))","v":""},"","","","","","",""]
[{"$f":"B212&\"B\"","v":"92B"},null,null,{"$f":"VLOOKUP(B212,EventsOrder,3,FALSE)","v":"800m"},"B",null,null,null,null,null,null,null,null,null,null,null,null,null,null,null,null,null,null,null,null,null,null,null,null,null,{"$f":"IF(LEN(G213)=0,\"\",VLOOKUP($B212,IF($F212=\"F\",TeamSheetFemale,TeamSheetMale),CC213,FALSE))","v":""},"","","","","","","",0,0,0,0,0,0,0,0,0,0,0,0,0,0,0,0,0,0,0,0,0,0,0,0,0,0,0,0,0,0,0,0,"","","","","","","","",null,null,"","","","","","","",""]
[{"$f":"B214&\"A\"","v":"93A"},93,{"$f":"VLOOKUP(B214,EventsOrder,2,FALSE)","v":12.5},{"$f":"VLOOKUP(B214,EventsOrder,4,FALSE)","v":"U17 Men"},"A",{"$f":"IF(MID(D214,5,1)=\"F\",\"F\",\"M\")","v":"M"},null,null,null,null,null,null,null,null,null,null,null,null,null,null,null,null,null,null,null,null,null,null,null,null,{"$f":"IF(LEN(G214)=0,\"\",VLOOKUP($B214,IF($F214=\"F\",TeamSheetFemale,TeamSheetMale),CC214,FALSE))","v":""},"","","","","","","",0,0,0,0,0,0,0,0,0,0,0,0,0,0,0,0,0,0,0,0,0,0,0,0,0,0,0,0,0,0,0,0,"","","","","","","","",null,null,"","","","","","","",""]
[{"$f":"B214&\"B\"","v":"93B"},null,null,{"$f":"VLOOKUP(B214,EventsOrder,3,FALSE)","v":"800m"},"B",null,null,null,null,null,null,null,null,null,null,null,null,null,null,null,null,null,null,null,null,null,null,null,null,null,{"$f":"IF(LEN(G215)=0,\"\",VLOOKUP($B214,IF($F214=\"F\",TeamSheetFemale,TeamSheetMale),CC215,FALSE))","v":""},"","","","","","","",0,0,0,0,0,0,0,0,{"$f":"OFFSET($N215,0,BC215)","v":0},{"$f":"OFFSET($N215,0,BD215)","v":0},{"$f":"OFFSET($N215,0,BE215)","v":0},{"$f":"OFFSET($N215,0,BF215)","v":0},0,0,0,0,0,0,0,0,0,0,0,0,0,0,0,0,0,0,0,0,"","","","","","","","",null,null,"","","","","","","",""]
[{"$f":"B216&\"A\"","v":"94A"},94,{"$f":"VLOOKUP(B216,EventsOrder,2,FALSE)","v":1.1499999999999999},{"$f":"VLOOKUP(B216,EventsOrder,4,FALSE)","v":"U13 Female"},"A",{"$f":"IF(MID(D216,5,1)=\"F\",\"F\",\"M\")","v":"F"},"X","Y","F","P",null,null,null,null,"2.44.1","3.01.2","3.04.5","3.11.1",null,null,null,null,403,106,30,802,null,null,null,null,{"$f":"IF(LEN(G216)=0,\"\",VLOOKUP($B216,IF($F216=\"F\",TeamSheetFemale,TeamSheetMale),CC216,FALSE))","v":"Rebecca Cullen"},"Maya Stewart","Georgina Weal","imogen Ansell","","","","",0,5,0,0,0,6,8,7,0,"3.11.1",0,0,0,"3.04.5","2.44.1","3.01.2",0,4,0,0,0,3,1,2,"Wreake","Worc","Tam","Bic",0,0,0,0,"X","Y","F","P","","","","",null,null,37,42,32,12,"","","",""]
[{"$f":"B216&\"B\"","v":"94B"},null,null,{"$f":"VLOOKUP(B216,EventsOrder,3,FALSE)","v":"800m"},"B",null,null,null,null,null,null,null,null,null,null,null,null,null,null,null,null,null,null,null,null,null,null,null,null,null,{"$f":"IF(LEN(G217)=0,\"\",VLOOKUP($B216,IF($F216=\"F\",TeamSheetFemale,TeamSheetMale),CC217,FALSE))","v":""},"","","","","","","",0,0,0,0,0,0,0,0,0,0,0,0,0,0,0,0,0,0,0,0,0,0,0,0,0,0,0,0,0,0,0,0,"","","","","","","","",null,null,"","","","","","","",""]
[{"$f":"B218&\"A\"","v":"95A"},95,{"$f":"VLOOKUP(B218,EventsOrder,2,FALSE)","v":1.25},{"$f":"VLOOKUP(B218,EventsOrder,4,FALSE)","v":"U15 Female"},"A",{"$f":"IF(MID(D218,5,1)=\"F\",\"F\",\"M\")","v":"F"},"X",null,null,null,null,null,null,null,"2.51.5",null,null,null,null,null,null,null,404,null,null,null,null,null,null,null,{"$f":"IF(LEN(G218)=0,\"\",VLOOKUP($B218,IF($F218=\"F\",TeamSheetFemale,TeamSheetMale),CC218,FALSE))","v":"Ravenn Cook"},"","","","","","","",0,0,0,0,0,0,8,0,0,0,0,0,0,0,"2.51.5",0,0,0,0,0,0,0,1,0,"Wreake",0,0,0,0,0,0,0,"X","","","","","","","",null,null,37,"","","","","","",""]
[{"$f":"B218&\"B\"","v":"95B"},null,null,{"$f":"VLOOKUP(B218,EventsOrder,3,FALSE)","v":"800m"},"B",null,null,null,null,null,null,null,null,null,null,null,null,null,null,null,null,null,null,null,null,null,null,null,null,null,{"$f":"IF(LEN(G219)=0,\"\",VLOOKUP($B218,IF($F218=\"F\",TeamSheetFemale,TeamSheetMale),CC219,FALSE))","v":""},"","","","","","","",0,0,0,0,0,0,0,0,0,0,0,0,0,0,0,0,0,0,0,0,0,0,0,0,0,0,0,0,0,0,0,0,"","","","","","","","",null,null,"","","","","","","",""]
[{"$f":"B220&\"A\"","v":"96A"},96,{"$f":"VLOOKUP(B220,EventsOrder,2,FALSE)","v":1.4},{"$f":"VLOOKUP(B220,EventsOrder,4,FALSE)","v":"U17 F/Women"},"A",{"$f":"IF(MID(D220,5,1)=\"F\",\"F\",\"M\")","v":"F"},null,null,null,null,null,null,null,null,null,null,null,null,null,null,null,null,null,null,null,null,null,null,null,null,{"$f":"IF(LEN(G220)=0,\"\",VLOOKUP($B220,IF($F220=\"F\",TeamSheetFemale,TeamSheetMale),CC220,FALSE))","v":""},"","","","","","","",0,0,0,0,0,0,0,0,0,0,0,0,0,0,0,0,0,0,0,0,0,0,0,0,0,0,0,0,0,0,0,0,"","","","","","","","",null,null,"","","","","","","",""]
[{"$f":"B220&\"B\"","v":"96B"},null,null,{"$f":"VLOOKUP(B220,EventsOrder,3,FALSE)","v":"800m"},"B",null,null,null,null,null,null,null,null,null,null,null,null,null,null,null,null,null,null,null,null,null,null,null,null,null,{"$f":"IF(LEN(G221)=0,\"\",VLOOKUP($B220,IF($F220=\"F\",TeamSheetFemale,TeamSheetMale),CC221,FALSE))","v":""},"","","","","","","",0,0,0,0,0,0,0,0,0,0,0,0,0,0,0,0,0,0,0,0,0,0,0,0,0,0,0,0,0,0,0,0,"","","","","","","","",null,null,"","","","","","","",""]
[{"$f":"B222&\"A\"","v":"97A"},97,{"$f":"VLOOKUP(B222,EventsOrder,2,FALSE)","v":4.2},{"$f":"VLOOKUP(B222,EventsOrder,4,FALSE)","v":"U13 Male"},"A",{"$f":"IF(MID(D222,5,1)=\"F\",\"F\",\"M\")","v":"M"},"Y",null,null,null,null,null,null,null,"5.59.2",null,null,null,null,null,null,null,149,null,null,null,null,null,null,null,{"$f":"IF(LEN(G222)=0,\"\",VLOOKUP($B222,IF($F222=\"F\",TeamSheetFemale,TeamSheetMale),CC222,FALSE))","v":"Josh Capewell"},"","","","","","","",0,0,0,0,0,0,0,8,0,0,0,0,0,0,0,"5.59.2",0,0,0,0,0,0,0,1,"Worc",0,0,0,0,0,0,0,"Y","","","","","","","",null,null,42,"","","","","","",""]
[{"$f":"B222&\"B\"","v":"97B"},null,null,{"$f":"VLOOKUP(B222,EventsOrder,3,FALSE)","v":"1500m"},"B",null,null,null,null,null,null,null,null,null,null,null,null,null,null,null,null,null,null,null,null,null,null,null,null,null,{"$f":"IF(LEN(G223)=0,\"\",VLOOKUP($B222,IF($F222=\"F\",TeamSheetFemale,TeamSheetMale),CC223,FALSE))","v":""},"","","","","","","",0,0,0,0,0,0,0,0,0,0,0,0,0,0,0,0,0,0,0,0,0,0,0,{"$f":"IF(ISNA(MATCH(BJ$29,$BS223:$BZ223,0)),0,MATCH(BJ$29,$BS223:$BZ223,0))","v":0},0,0,0,0,0,0,0,0,"","","","","","","","",null,null,"","","","","","","",""]
[{"$f":"B224&\"A\"","v":"98A"},98,{"$f":"VLOOKUP(B224,EventsOrder,2,FALSE)","v":4.3},{"$f":"VLOOKUP(B224,EventsOrder,4,FALSE)","v":"U15 Male"},"A",{"$f":"IF(MID(D224,5,1)=\"F\",\"F\",\"M\")","v":"M"},null,null,null,null,null,null,null,null,null,null,null,null,null,null,null,null,null,null,null,null,null,null,null,null,{"$f":"IF(LEN(G224)=0,\"\",VLOOKUP($B224,IF($F224=\"F\",TeamSheetFemale,TeamSheetMale),CC224,FALSE))","v":""},"","","","","","","",0,0,0,0,0,0,0,0,0,0,0,0,0,0,0,0,{"$f":"IF(ISNA(MATCH(BC$29,$BS224:$BZ224,0)),0,MATCH(BC$29,$BS224:$BZ224,0))","v":0},0,0,0,0,0,0,{"$f":"IF(ISNA(MATCH(BJ$29,$BS224:$BZ224,0)),0,MATCH(BJ$29,$BS224:$BZ224,0))","v":0},0,0,0,0,0,0,0,0,"","","","","","","","",null,null,"","","","","","","",""]
[{"$f":"B224&\"B\"","v":"98B"},null,null,{"$f":"VLOOKUP(B224,EventsOrder,3,FALSE)","v":"1500m"},"B",null,null,null,null,null,null,null,null,null,null,null,null,null,null,null,null,null,null,null,null,null,null,null,null,null,{"$f":"IF(LEN(G225)=0,\"\",VLOOKUP($B224,IF($F224=\"F\",TeamSheetFemale,TeamSheetMale),CC225,FALSE))","v":""},"","","","","","","",0,0,0,0,0,0,0,0,0,0,0,0,0,0,0,0,0,0,0,0,0,0,0,{"$f":"IF(ISNA(MATCH(BJ$29,$BS225:$BZ225,0)),0,MATCH(BJ$29,$BS225:$BZ225,0))","v":0},0,0,0,0,0,0,0,0,"","","","","","","","",null,null,"","","","","","","",""]
[{"$f":"B226&\"A\"","v":"99A"},99,{"$f":"VLOOKUP(B226,EventsOrder,2,FALSE)","v":4.4000000000000004},{"$f":"VLOOKUP(B226,EventsOrder,4,FALSE)","v":"U17 Men"},"A",{"$f":"IF(MID(D226,5,1)=\"F\",\"F\",\"M\")","v":"M"},null,null,null,null,null,null,null,null,null,null,null,null,null,null,null,null,null,null,null,null,null,null,null,null,{"$f":"IF(LEN(G226)=0,\"\",VLOOKUP($B226,IF($F226=\"F\",TeamSheetFemale,TeamSheetMale),CC226,FALSE))","v":""},"","","","","","","",0,0,0,0,0,0,0,0,0,0,0,0,0,0,0,0,0,0,0,0,0,0,0,{"$f":"IF(ISNA(MATCH(BJ$29,$BS226:$BZ226,0)),0,MATCH(BJ$29,$BS226:$BZ226,0))","v":0},0,0,0,0,0,0,0,0,"","","","","","","","",null,null,"",{"$f":"IF(LEN(H226)=0,\"\",HLOOKUP(BT226,$CC$26:$CJ$28,2,FALSE)+IF(LEN(H226)=2,2,0))","v":""},"","","","","",""]
[{"$f":"B226&\"B\"","v":"99B"},null,null,{"$f":"VLOOKUP(B226,EventsOrder,3,FALSE)","v":"1500m"},"B",null,null,null,null,null,null,null,null,null,null,null,null,null,null,null,null,null,null,null,null,null,null,null,null,null,{"$f":"IF(LEN(G227)=0,\"\",VLOOKUP($B226,IF($F226=\"F\",TeamSheetFemale,TeamSheetMale),CC227,FALSE))","v":""},"","","","","","","",0,0,0,0,0,0,0,0,0,0,0,0,0,0,0,0,0,0,0,0,0,0,0,{"$f":"IF(ISNA(MATCH(BJ$29,$BS227:$BZ227,0)),0,MATCH(BJ$29,$BS227:$BZ227,0))","v":0},0,0,0,0,0,0,0,0,"","","","","","","","",null,null,"","","","","","","",""]
[{"$f":"B228&\"A\"","v":"100A"},100,{"$f":"VLOOKUP(B228,EventsOrder,2,FALSE)","v":{"$error":"#N/A"}},{"$f":"VLOOKUP(B228,EventsOrder,4,FALSE)","v":{"$error":"#N/A"}},"A",{"$f":"IF(MID(D228,5,1)=\"F\",\"F\",\"M\")","v":{"$error":"#N/A"}},null,null,null,null,null,null,null,null,null,null,null,null,null,null,null,null,null,null,null,null,null,null,null,null,{"$f":"IF(LEN(G228)=0,\"\",VLOOKUP($B228,IF($F228=\"F\",TeamSheetFemale,TeamSheetMale),CC228,FALSE))","v":""},"","","","","","","",{"$error":"#N/A"},{"$error":"#N/A"},{"$error":"#N/A"},{"$error":"#N/A"},{"$error":"#N/A"},{"$error":"#N/A"},{"$error":"#N/A"},{"$error":"#N/A"},0,0,0,0,0,0,0,0,0,0,0,0,0,0,0,0,0,0,0,0,0,0,0,0,"","","","","","","","",null,null,"","","","","","","",""]
[{"$f":"B228&\"B\"","v":"100B"},null,null,{"$f":"VLOOKUP(B228,EventsOrder,3,FALSE)","v":{"$error":"#N/A"}},"B",null,null,null,null,null,null,null,null,null,null,null,null,null,null,null,null,null,null,null,null,null,null,null,null,null,{"$f":"IF(LEN(G229)=0,\"\",VLOOKUP($B228,IF($F228=\"F\",TeamSheetFemale,TeamSheetMale),CC229,FALSE))","v":""},"","","","","","","",0,0,0,0,0,0,0,0,0,0,0,0,0,0,0,0,0,0,0,0,0,0,0,0,0,0,0,0,0,0,0,0,"","","","","","","","",null,null,"","","","","","","",""]
[{"$f":"B230&\"A\"","v":"0A"},0,{"$f":"VLOOKUP(B230,EventsOrder,2,FALSE)","v":0},{"$f":"VLOOKUP(B230,EventsOrder,4,FALSE)","v":0},"A",null,null,null,null,null,null,null,null,null,null,null,null,null,null,null,null,null,null,null,null,null,null,null,null,null,{"$f":"IF(LEN(G230)=0,\"\",VLOOKUP($B230,IF($F230=\"F\",TeamSheetFemale,TeamSheetMale),CC230,FALSE))","v":""},"","","","","","","",0,0,0,0,0,0,0,0,0,0,0,0,0,0,0,0,{"$f":"IF(ISNA(MATCH(BC$29,$BS230:$BZ230,0)),0,MATCH(BC$29,$BS230:$BZ230,0))","v":0},0,0,0,0,0,0,0,0,0,0,0,0,0,0,0,"","","","","","","","",null,null,"","","","","","","",""]
[{"$f":"B230&\"B\"","v":"0B"},null,null,{"$f":"VLOOKUP(B230,EventsOrder,3,FALSE)","v":0},"B",null,null,null,null,null,null,null,null,null,null,null,null,null,null,null,null,null,null,null,null,null,null,null,null,null,{"$f":"IF(LEN(G231)=0,\"\",VLOOKUP($B230,IF($F230=\"F\",TeamSheetFemale,TeamSheetMale),CC231,FALSE))","v":""},"","","","","","","",0,0,0,0,0,0,0,0,0,0,0,0,0,0,0,0,0,0,0,0,0,0,0,0,0,0,0,0,0,0,0,0,"","","","","","","","",null,null,"","","","","","","",""]
[{"$f":"B232&\"A\"","v":"0A"},0,{"$f":"VLOOKUP(B232,EventsOrder,2,FALSE)","v":0},{"$f":"VLOOKUP(B232,EventsOrder,4,FALSE)","v":0},"A",null,null,null,null,null,null,null,null,null,null,null,null,null,null,null,null,null,null,null,null,null,null,null,null,null,{"$f":"IF(LEN(G232)=0,\"\",VLOOKUP($B232,IF($F232=\"F\",TeamSheetFemale,TeamSheetMale),CC232,FALSE))","v":""},"","","","","","","",0,0,0,0,0,0,0,0,0,0,0,0,0,0,0,0,0,0,0,0,0,0,0,0,0,0,0,0,0,0,0,0,"","","","","","","","",null,null,"","","","","","","",""]
[{"$f":"B232&\"B\"","v":"0B"},null,null,{"$f":"VLOOKUP(B232,EventsOrder,3,FALSE)","v":0},"B",null,null,null,null,null,null,null,null,null,null,null,null,null,null,null,null,null,null,null,null,null,null,null,null,null,{"$f":"IF(LEN(G233)=0,\"\",VLOOKUP($B232,IF($F232=\"F\",TeamSheetFemale,TeamSheetMale),CC233,FALSE))","v":""},"","","","","","","",0,0,0,0,0,0,0,0,0,0,0,0,0,0,0,0,0,0,0,0,0,0,0,0,0,0,0,0,0,0,0,0,"","","","","","","","",null,null,"","","","","","","",""]
[{"$f":"B234&\"A\"","v":"0A"},0,{"$f":"VLOOKUP(B234,EventsOrder,2,FALSE)","v":0},{"$f":"VLOOKUP(B234,EventsOrder,4,FALSE)","v":0},"A",null,null,null,null,null,null,null,null,null,null,null,null,null,null,null,null,null,null,null,null,null,null,null,null,null,{"$f":"IF(LEN(G234)=0,\"\",VLOOKUP($B234,IF($F234=\"F\",TeamSheetFemale,TeamSheetMale),CC234,FALSE))","v":""},"","","","","","","",0,0,0,0,0,0,0,0,0,0,0,0,0,0,0,0,0,0,0,0,0,0,0,0,0,0,0,0,0,0,0,0,"","","","","","","","",null,null,"","","","","","","",""]
[{"$f":"B234&\"B\"","v":"0B"},null,null,{"$f":"VLOOKUP(B234,EventsOrder,3,FALSE)","v":0},"B",null,null,null,null,null,null,null,null,null,null,null,null,null,null,null,null,null,null,null,null,null,null,null,null,null,{"$f":"IF(LEN(G235)=0,\"\",VLOOKUP($B234,IF($F234=\"F\",TeamSheetFemale,TeamSheetMale),CC235,FALSE))","v":""},"","","","","","","",0,0,0,0,0,0,0,0,0,0,0,0,0,0,0,0,0,0,0,0,0,0,0,0,0,0,0,0,0,0,0,0,"","","","","","","","",null,null,"","","","","","","",""]
[{"$f":"B236&\"A\"","v":"0A"},0,{"$f":"VLOOKUP(B236,EventsOrder,2,FALSE)","v":0},{"$f":"VLOOKUP(B236,EventsOrder,4,FALSE)","v":0},"A",null,null,null,null,null,null,null,null,null,null,null,null,null,null,null,null,null,null,null,null,null,null,null,null,null,{"$f":"IF(LEN(G236)=0,\"\",VLOOKUP($B236,IF($F236=\"F\",TeamSheetFemale,TeamSheetMale),CC236,FALSE))","v":""},"","","","","","","",0,0,0,0,0,0,0,0,0,0,0,0,0,0,0,0,0,0,0,0,0,0,0,0,0,0,0,0,0,0,0,0,"","","","","","","","",null,null,"","","","","","","",""]
[{"$f":"B236&\"B\"","v":"0B"},null,null,{"$f":"VLOOKUP(B236,EventsOrder,3,FALSE)","v":0},"B",null,null,null,null,null,null,null,null,null,null,null,null,null,null,null,null,null,null,null,null,null,null,null,null,null,{"$f":"IF(LEN(G237)=0,\"\",VLOOKUP($B236,IF($F236=\"F\",TeamSheetFemale,TeamSheetMale),CC237,FALSE))","v":""},"","","","","","","",0,0,0,0,0,0,0,0,0,0,0,0,0,0,0,0,0,0,0,0,0,0,0,0,0,0,0,0,0,0,0,0,"","","","","","","","",null,null,"","","","","","","",""]
[{"$f":"B238&\"A\"","v":"0A"},0,{"$f":"VLOOKUP(B238,EventsOrder,2,FALSE)","v":0},{"$f":"VLOOKUP(B238,EventsOrder,4,FALSE)","v":0},"A",null,null,null,null,null,null,null,null,null,null,null,null,null,null,null,null,null,null,null,null,null,null,null,null,null,{"$f":"IF(LEN(G238)=0,\"\",VLOOKUP($B238,IF($F238=\"F\",TeamSheetFemale,TeamSheetMale),CC238,FALSE))","v":""},"","","","","","","",0,0,0,0,0,0,0,0,0,0,0,0,0,0,0,0,0,0,0,0,0,0,0,0,0,0,0,0,0,0,0,0,"","","","","","","","",null,null,"","","","","","","",""]
[{"$f":"B238&\"B\"","v":"0B"},null,null,{"$f":"VLOOKUP(B238,EventsOrder,3,FALSE)","v":0},"B",null,null,null,null,null,null,null,null,null,null,null,null,null,null,null,null,null,null,null,null,null,null,null,null,null,{"$f":"IF(LEN(G239)=0,\"\",VLOOKUP($B238,IF($F238=\"F\",TeamSheetFemale,TeamSheetMale),CC239,FALSE))","v":""},"","","","","","","",0,0,0,0,0,0,0,0,0,0,0,0,0,0,0,0,0,0,0,0,0,0,0,0,0,0,0,0,0,0,0,0,"","","","","","","","",null,null,"","","","","","","",""]
[{"$f":"B240&\"A\"","v":"0A"},0,{"$f":"VLOOKUP(B240,EventsOrder,2,FALSE)","v":0},{"$f":"VLOOKUP(B240,EventsOrder,4,FALSE)","v":0},"A",null,null,null,null,null,null,null,null,null,null,null,null,null,null,null,null,null,null,null,null,null,null,null,null,null,{"$f":"IF(LEN(G240)=0,\"\",VLOOKUP($B240,IF($F240=\"F\",TeamSheetFemale,TeamSheetMale),CC240,FALSE))","v":""},"","","","","","","",0,0,0,0,0,0,0,0,0,0,0,0,0,0,0,0,0,0,0,0,0,0,0,0,0,0,0,0,0,0,0,0,"","","","","","","","",null,null,"",{"$f":"IF(LEN(H240)=0,\"\",HLOOKUP(BT240,$CC$26:$CJ$28,2,FALSE)+IF(LEN(H240)=2,2,0))","v":""},"","","","","",""]
[{"$f":"B240&\"B\"","v":"0B"},null,null,{"$f":"VLOOKUP(B240,EventsOrder,3,FALSE)","v":0},"B",null,null,null,null,null,null,null,null,null,null,null,null,null,null,null,null,null,null,null,null,null,null,null,null,null,{"$f":"IF(LEN(G241)=0,\"\",VLOOKUP($B240,IF($F240=\"F\",TeamSheetFemale,TeamSheetMale),CC241,FALSE))","v":""},"","","","","","","",0,0,0,0,0,0,0,0,0,0,0,0,0,0,0,0,0,0,0,0,0,0,0,0,0,0,0,0,0,0,0,0,"","","","","","","","",null,null,"","","","","","","",""]
[]
[]
[]
[]
[]
[]
[]
[]
[]
[]
[]
[]
[]
[]
[]
[]
[]
[]
[]
[]
[]
[]
[]
[]
[]
[]
[]
[]
[]
[]
[]
[]
[]
[null,null,null,null,null,null,null,null,null,null,null,null,null,null,null,null,null,null,null,null,null,null,null,null,null,null,null,null,null,null,null,null,null,null,null,null,null,null,null,null,null,null,null,null,null,null,null,null,null,null,null,null,null,null,null,null,null,null,null,null,null,null,null,null,null,null,null,null,null,null,null,null,null,null,null,null,null,null,null,null,{"$f":"IF(LEN(BS275)=0,\"\",HLOOKUP(BS275,$CC$26:$CJ$28,2,FALSE)+2)","v":""},"","","","","","",""]
[]
[]
[]
[]
[]
[]
[]
[]
[]
[]
[]
[]
[]
[]
[]
[]
[]
[]
[]
[]
[]
[]
[]
[]
[]
[]
[]
[]
[null,null,null,null,null,null,null,null,null,null,null,null,null,null,null,null,null,null,null,null,null,null,null,null,null,null,null,null,null,null,{"$f":"IF(LEN(G304)=0,\"\",VLOOKUP($B304,TeamNames,CC304,FALSE))","v":""},"","","","","","",""]
[null,null,null,null,null,null,null,null,null,null,null,null,null,null,null,null,null,null,null,null,null,null,null,null,null,null,null,null,null,null,{"$f":"IF(LEN(G305)=0,\"\",VLOOKUP($B304,TeamNames,CC305,FALSE))","v":""},"","","","","","",""]

{"sheet":"Results in Event Order","index":7,"n_rows":383,"n_cols":37,"rows_kept":383,"cut":false,"hidden":false,"merged":[[339,16,339,17],[339,18,339,19],[339,20,339,21],[337,25,338,25],[337,26,338,26],[337,27,338,27],[337,28,338,28],[337,29,338,29],[339,6,339,7],[339,8,339,9],[339,10,339,11],[339,12,339,13],[339,14,339,15],[292,18,292,19],[292,20,292,21],[337,1,338,1],[337,22,338,22],[337,23,338,23],[337,24,338,24],[292,6,292,7],[292,8,292,9],[292,10,292,11],[292,12,292,13],[292,14,292,15],[292,16,292,17],[290,1,291,1],[290,22,291,22],[290,23,291,23],[243,25,244,25],[243,26,244,26],[243,27,244,27],[243,28,244,28],[243,29,244,29],[245,6,245,7],[245,8,245,9],[245,10,245,11],[245,12,245,13],[245,14,245,15],[290,24,291,24],[290,25,291,25],[290,26,291,26],[290,27,291,27],[290,28,291,28],[290,29,291,29],[245,16,245,17],[245,18,245,19],[245,20,245,21],[198,18,198,19],[198,20,198,21],[243,1,244,1],[243,22,244,22],[243,23,244,23],[243,24,244,24],[198,6,198,7],[198,8,198,9],[198,10,198,11],[198,12,198,13],[198,14,198,15],[198,16,198,17],[196,1,197,1],[196,22,197,22],[196,23,197,23],[149,25,150,25],[149,26,150,26],[149,27,150,27],[149,28,150,28],[149,29,150,29],[151,6,151,7],[151,8,151,9],[151,10,151,11],[151,12,151,13],[151,14,151,15],[196,24,197,24],[196,25,197,25],[196,26,197,26],[196,27,197,27],[196,28,197,28],[196,29,197,29],[151,16,151,17],[151,18,151,19],[151,20,151,21],[104,18,104,19],[104,20,104,21],[149,1,150,1],[149,22,150,22],[149,23,150,23],[149,24,150,24],[104,6,104,7],[104,8,104,9],[104,10,104,11],[104,12,104,13],[104,14,104,15],[104,16,104,17],[102,1,103,1],[102,22,103,22],[102,23,103,23],[55,25,56,25],[55,26,56,26],[55,27,56,27],[55,28,56,28],[55,29,56,29],[57,6,57,7],[57,8,57,9],[57,10,57,11],[57,12,57,13],[57,14,57,15],[102,24,103,24],[102,25,103,25],[102,26,103,26],[102,27,103,27],[102,28,103,28],[102,29,103,29],[57,16,57,17],[57,18,57,19],[57,20,57,21],[7,1,8,1],[7,22,8,22],[7,23,8,23],[7,24,8,24],[7,25,8,25],[9,18,9,19],[9,20,9,21],[55,1,56,1],[55,22,56,22],[55,23,56,23],[55,24,56,24],[6,6,6,7],[6,8,6,9],[6,10,6,11],[6,12,6,13],[6,14,6,15],[6,16,6,17],[6,18,6,19],[7,29,8,29],[9,6,9,7],[9,8,9,9],[9,10,9,11],[9,12,9,13],[9,14,9,15],[9,16,9,17],[6,20,6,21],[7,26,8,26],[7,27,8,27],[7,28,8,28],[4,1,5,1],[4,22,5,22],[4,23,5,23],[4,24,5,24],[4,25,5,25],[4,26,5,26],[4,27,5,27],[4,28,5,28],[4,29,5,29]]}
[null,null,null,"Non-Scoring",null,null,31,63,{"$f":"G1+1","v":32},{"$f":"H1+1","v":64},{"$f":"I1+1","v":33},65,34,66,35,67,36,68,37,69,38,70,{"$f":"'Event Details'!C30","v":0},{"$f":"W1-1","v":-1},-2,-3,-4,-5,-6,-7]
[null,null,null,null,null,null,3,15,{"$f":"G2+2","v":5},{"$f":"H2+1","v":16},{"$f":"I2+2","v":7},17,{"$f":"K2+2","v":9},18,{"$f":"M2+2","v":11},19,{"$f":"O2+2","v":13},20,{"$f":"Q2+2","v":15},21,{"$f":"S2+2","v":17},22,39,40,41,42,43,44,45,46]
[null,null,null,"Scoring",null,null,31,15,32,16,33,17,34,18,35,19,36,20,37,21,38,22,{"$f":"'Event Details'!C32","v":8},{"$f":"W3-1","v":7},6,5,4,3,2,1]
[null,null,null,null,null,null,63,31,64,32,65,"33",66,34,67,"35",68,36,69,37,70,"38",39,40,41,42,43,44,45,46]
[null,"Event No",null,null,null,null,null,null,null,null,{"$f":"CONCATENATE('Event Details'!D$5,\" \",\"Results in Events Order\")","v":"Heart of England League Results in Events Order"},null,null,null,null,null,null,null,null,null,null,null,{"$f":"W8","v":"Banbury"},{"$f":"X8","v":"Bicester"},"Dudley & S'bridge","Kettering","Radley","Tamworth","Wreake Runners","Worcester"]
[null,null,null,"Division",{"$f":"'Event Details'!D$9","v":2},null,null,null,null,null,"Venue",{"$f":"'Event Details'!F$17","v":"Worcester"},null,null,null,null,"Date",{"$f":"'Event Details'!B$17","v":"5th June 2016"}]
[null,null,"Time","Event",null,"NS","First",null,"Second",null,"Third",null,"Fourth",null,"Fifth",null,"Sixth",null,"Seventh",null,"Eighth",null,{"$f":"W10","v":"J"},{"$f":"X10","v":"P"},"B","I","R","F","X","Y"]
[null,"Event No",null,null,null,null,null,null,null,null,{"$f":"CONCATENATE('Event Details'!D$5,\" \",\"Results in Event Order\")","v":"Heart of England League Results in Event Order"},null,null,null,null,null,null,null,null,null,null,null,{"$f":"'Event Details'!$D22","v":"Banbury"},{"$f":"'Event Details'!D23","v":"Bicester"},{"$f":"'Event Details'!D24","v":"Dudley & S'bridge"},{"$f":"'Event Details'!D25","v":"Kettering"},{"$f":"'Event Details'!D26","v":"Radley"},{"$f":"'Event Details'!D27","v":"Tamworth"},{"$f":"'Event Details'!D28","v":"Wreake Runners"},{"$f":"'Event Details'!D29","v":"Worcester"}]
[null,null,null,"Division",{"$f":"'Event Details'!D$9","v":2},null,null,null,null,null,"Venue",{"$f":"'Event Details'!F$17","v":"Worcester"},null,null,null,null,"Date",{"$f":"'Event Details'!B$17","v":"5th June 2016"}]
[null,null,"Time","Event",null,"NS","First",null,"Second",null,"Third",null,"Fourth",null,"Fifth",null,"Sixth",null,"Seventh",null,"Eighth",null,{"$f":"'Event Details'!C22","v":"J"},{"$f":"'Event Details'!C23","v":"P"},{"$f":"'Event Details'!C24","v":"B"},{"$f":"'Event Details'!C25","v":"I"},{"$f":"'Event Details'!C26","v":"R"},{"$f":"'Event Details'!C27","v":"F"},{"$f":"'Event Details'!C28","v":"X"},{"$f":"'Event Details'!C29","v":"Y"}]
[{"$f":"B12&\"A\"","v":"1A"},null,null,{"$f":"VLOOKUP(B12,EventsOrder,4,FALSE)","v":"U13 Female"},"A",null,{"$f":"VLOOKUP($A11,Results3,G$3,FALSE)","v":"Katie Parker"},null,{"$f":"VLOOKUP($A11,Results3,I$3,FALSE)","v":"Georgia Usher"},null,{"$f":"VLOOKUP($A11,Results3,K$3,FALSE)","v":"Ruby Jarman"},null,{"$f":"VLOOKUP($A11,Results3,M$3,FALSE)","v":"Poppy Edwards"},null,{"$f":"VLOOKUP($A11,Results3,O$3,FALSE)","v":"Tegan Vickery"},null,{"$f":"VLOOKUP($A11,Results3,Q$3,FALSE)","v":"Mia Brockway"},null,{"$f":"VLOOKUP($A11,Results3,S$3,FALSE)","v":"Nikola Bishop"},null,{"$f":"VLOOKUP($A11,Results3,U$3,FALSE)","v":""},null,null,null,null,null,null,null,null,null,{"$f":"IF(LEN(G11)>1,1,0)","v":1}]
[{"$f":"B12&\"A\"","v":"1A"},1,{"$f":"VLOOKUP(B12,EventsOrder,2,FALSE)","v":11.45},null,null,null,{"$f":"VLOOKUP($A12,Results3,G$4,FALSE)","v":"Wreake"},{"$f":"VLOOKUP($A12,Results3,H$3,FALSE)","v":"5.12.0"},{"$f":"VLOOKUP($A12,Results3,I$4,FALSE)","v":"Bic"},{"$f":"VLOOKUP($A12,Results3,J$3,FALSE)","v":"5.41.7"},{"$f":"VLOOKUP($A12,Results3,K$4,FALSE)","v":"Worc"},{"$f":"VLOOKUP($A12,Results3,L$3,FALSE)","v":"5.44.0"},{"$f":"VLOOKUP($A12,Results3,M$4,FALSE)","v":"Rad"},{"$f":"VLOOKUP($A12,Results3,N$3,FALSE)","v":"5.45.6"},{"$f":"VLOOKUP($A12,Results3,O$4,FALSE)","v":"Tam"},{"$f":"VLOOKUP($A12,Results3,P$3,FALSE)","v":"5.56.2"},{"$f":"VLOOKUP($A12,Results3,Q$4,FALSE)","v":"Kett"},{"$f":"VLOOKUP($A12,Results3,R$3,FALSE)","v":"6.02.7"},{"$f":"VLOOKUP($A12,Results3,S$4,FALSE)","v":"Ban"},{"$f":"VLOOKUP($A12,Results3,T$3,FALSE)","v":"6.08.2"},{"$f":"VLOOKUP($A12,Results3,U$4,FALSE)","v":0},{"$f":"VLOOKUP($A12,Results3,V$3,FALSE)","v":0},{"$f":"VLOOKUP($A12,Results3,W$4,FALSE)","v":2},{"$f":"VLOOKUP($A12,Results3,X$4,FALSE)","v":7},0,3,5,4,8,6]
[{"$f":"B12&\"B\"","v":"1B"},null,null,{"$f":"VLOOKUP(B12,EventsOrder,3,FALSE)","v":"1500m"},"B",null,{"$f":"VLOOKUP($A13,Results3,G$3,FALSE)","v":"Aoife Brotherton"},null,{"$f":"VLOOKUP($A13,Results3,I$3,FALSE)","v":"Megan Williams"},null,{"$f":"VLOOKUP($A13,Results3,K$3,FALSE)","v":"Maddie Moxey"},null,{"$f":"VLOOKUP($A13,Results3,M$3,FALSE)","v":"Amelia Cox"},null,{"$f":"VLOOKUP($A13,Results3,O$3,FALSE)","v":""},null,{"$f":"VLOOKUP($A13,Results3,Q$3,FALSE)","v":""},null,{"$f":"VLOOKUP($A13,Results3,S$3,FALSE)","v":""},null,{"$f":"VLOOKUP($A13,Results3,U$3,FALSE)","v":""}]
[{"$f":"B12&\"B\"","v":"1B"},null,null,null,null,null,{"$f":"VLOOKUP($A14,Results3,G$4,FALSE)","v":"Wreake"},{"$f":"VLOOKUP($A14,Results3,H$3,FALSE)","v":"5.32.3"},{"$f":"VLOOKUP($A14,Results3,I$4,FALSE)","v":"Worc"},{"$f":"VLOOKUP($A14,Results3,J$3,FALSE)","v":"5.55.1"},{"$f":"VLOOKUP($A14,Results3,K$4,FALSE)","v":"Kett"},{"$f":"VLOOKUP($A14,Results3,L$3,FALSE)","v":"6.27.8"},{"$f":"VLOOKUP($A14,Results3,M$4,FALSE)","v":"Bic"},{"$f":"VLOOKUP($A14,Results3,N$3,FALSE)","v":"DNF"},{"$f":"VLOOKUP($A14,Results3,O$4,FALSE)","v":0},{"$f":"VLOOKUP($A14,Results3,P$3,FALSE)","v":0},{"$f":"VLOOKUP($A14,Results3,Q$4,FALSE)","v":0},{"$f":"VLOOKUP($A14,Results3,R$3,FALSE)","v":0},{"$f":"VLOOKUP($A14,Results3,S$4,FALSE)","v":0},{"$f":"VLOOKUP($A14,Results3,T$3,FALSE)","v":0},{"$f":"VLOOKUP($A14,Results3,U$4,FALSE)","v":0},{"$f":"VLOOKUP($A14,Results3,V$3,FALSE)","v":0},{"$f":"VLOOKUP($A14,Results3,W$4,FALSE)","v":0},0,0,6,0,0,8,7]
[{"$f":"B16&\"A\"","v":"4A"},null,null,{"$f":"VLOOKUP(B16,EventsOrder,4,FALSE)","v":"U15 Female"},"A",null,{"$f":"VLOOKUP($A15,Results3,G$3,FALSE)","v":"Eve Clawley"},null,{"$f":"VLOOKUP($A15,Results3,I$3,FALSE)","v":"Rachel Nealon"},null,{"$f":"VLOOKUP($A15,Results3,K$3,FALSE)","v":"Holly Love"},null,{"$f":"VLOOKUP($A15,Results3,M$3,FALSE)","v":"Rachel Burton"},null,{"$f":"VLOOKUP($A15,Results3,O$3,FALSE)","v":"Daisy Robinson"},null,{"$f":"VLOOKUP($A15,Results3,Q$3,FALSE)","v":"Holly Hunter"},null,{"$f":"VLOOKUP($A15,Results3,S$3,FALSE)","v":""},null,{"$f":"VLOOKUP($A15,Results3,U$3,FALSE)","v":""},null,null,null,null,null,null,null,null,null,{"$f":"IF(LEN(G15)>1,1,0)","v":1}]
[{"$f":"B16&\"A\"","v":"4A"},4,{"$f":"VLOOKUP(B16,EventsOrder,2,FALSE)","v":11.55},null,null,null,{"$f":"VLOOKUP($A16,Results3,G$4,FALSE)","v":"Tam"},{"$f":"VLOOKUP($A16,Results3,H$3,FALSE)","v":"4.58.5"},{"$f":"VLOOKUP($A16,Results3,I$4,FALSE)","v":"Wreake"},{"$f":"VLOOKUP($A16,Results3,J$3,FALSE)","v":"5.01.2"},{"$f":"VLOOKUP($A16,Results3,K$4,FALSE)","v":"Worc"},{"$f":"VLOOKUP($A16,Results3,L$3,FALSE)","v":"5.13.3"},{"$f":"VLOOKUP($A16,Results3,M$4,FALSE)","v":"Rad"},{"$f":"VLOOKUP($A16,Results3,N$3,FALSE)","v":"5.21.6"},{"$f":"VLOOKUP($A16,Results3,O$4,FALSE)","v":"Kett"},{"$f":"VLOOKUP($A16,Results3,P$3,FALSE)","v":"5.40.2"},{"$f":"VLOOKUP($A16,Results3,Q$4,FALSE)","v":"Bic"},{"$f":"VLOOKUP($A16,Results3,R$3,FALSE)","v":"6.35.7"},{"$f":"VLOOKUP($A16,Results3,S$4,FALSE)","v":0},{"$f":"VLOOKUP($A16,Results3,T$3,FALSE)","v":0},{"$f":"VLOOKUP($A16,Results3,U$4,FALSE)","v":0},{"$f":"VLOOKUP($A16,Results3,V$3,FALSE)","v":0},{"$f":"VLOOKUP($A16,Results3,W$4,FALSE)","v":0},{"$f":"VLOOKUP($A16,Results3,X$4,FALSE)","v":3},0,4,5,8,7,6]
[{"$f":"B16&\"B\"","v":"4B"},null,null,{"$f":"VLOOKUP(B16,EventsOrder,3,FALSE)","v":"1500m"},"B",null,{"$f":"VLOOKUP($A17,Results3,G$3,FALSE)","v":"Rosie Timlock"},null,{"$f":"VLOOKUP($A17,Results3,I$3,FALSE)","v":"Hermione Jewel"},null,{"$f":"VLOOKUP($A17,Results3,K$3,FALSE)","v":"Lauren Matthews"},null,{"$f":"VLOOKUP($A17,Results3,M$3,FALSE)","v":"Isabella Moxey"},null,{"$f":"VLOOKUP($A17,Results3,O$3,FALSE)","v":""},null,{"$f":"VLOOKUP($A17,Results3,Q$3,FALSE)","v":""},null,{"$f":"VLOOKUP($A17,Results3,S$3,FALSE)","v":""},null,{"$f":"VLOOKUP($A17,Results3,U$3,FALSE)","v":""}]
[{"$f":"B16&\"B\"","v":"4B"},null,null,null,null,null,{"$f":"VLOOKUP($A18,Results3,G$4,FALSE)","v":"Wreake"},{"$f":"VLOOKUP($A18,Results3,H$3,FALSE)","v":"5.16.0"},{"$f":"VLOOKUP($A18,Results3,I$4,FALSE)","v":"Rad"},{"$f":"VLOOKUP($A18,Results3,J$3,FALSE)","v":"5.24.1"},{"$f":"VLOOKUP($A18,Results3,K$4,FALSE)","v":"Worc"},{"$f":"VLOOKUP($A18,Results3,L$3,FALSE)","v":"5.31.6"},{"$f":"VLOOKUP($A18,Results3,M$4,FALSE)","v":"Kett"},{"$f":"VLOOKUP($A18,Results3,N$3,FALSE)","v":"6.53.8"},{"$f":"VLOOKUP($A18,Results3,O$4,FALSE)","v":0},{"$f":"VLOOKUP($A18,Results3,P$3,FALSE)","v":0},{"$f":"VLOOKUP($A18,Results3,Q$4,FALSE)","v":0},{"$f":"VLOOKUP($A18,Results3,R$3,FALSE)","v":0},{"$f":"VLOOKUP($A18,Results3,S$4,FALSE)","v":0},{"$f":"VLOOKUP($A18,Results3,T$3,FALSE)","v":0},{"$f":"VLOOKUP($A18,Results3,U$4,FALSE)","v":0},{"$f":"VLOOKUP($A18,Results3,V$3,FALSE)","v":0},{"$f":"VLOOKUP($A18,Results3,W$4,FALSE)","v":0},0,0,5,7,0,8,6]
[{"$f":"B20&\"A\"","v":"5A"},null,null,{"$f":"VLOOKUP(B20,EventsOrder,4,FALSE)","v":"U13 Male"},"A",null,{"$f":"VLOOKUP($A19,Results3,G$3,FALSE)","v":"Cole Sinnott"},null,{"$f":"VLOOKUP($A19,Results3,I$3,FALSE)","v":"Theau Seabrook"},null,{"$f":"VLOOKUP($A19,Results3,K$3,FALSE)","v":"Jack Compton"},null,{"$f":"VLOOKUP($A19,Results3,M$3,FALSE)","v":"Jacob Khan"},null,{"$f":"VLOOKUP($A19,Results3,O$3,FALSE)","v":""},null,{"$f":"VLOOKUP($A19,Results3,Q$3,FALSE)","v":""},null,{"$f":"VLOOKUP($A19,Results3,S$3,FALSE)","v":""},null,{"$f":"VLOOKUP($A19,Results3,U$3,FALSE)","v":""},null,null,null,null,null,null,null,null,null,{"$f":"IF(LEN(G19)>1,1,0)","v":1}]
[{"$f":"B20&\"A\"","v":"5A"},5,{"$f":"VLOOKUP(B20,EventsOrder,2,FALSE)","v":12},null,null,null,{"$f":"VLOOKUP($A20,Results3,G$4,FALSE)","v":"Kett"},{"$f":"VLOOKUP($A20,Results3,H$3,FALSE)","v":1.35},{"$f":"VLOOKUP($A20,Results3,I$4,FALSE)","v":"Rad"},{"$f":"VLOOKUP($A20,Results3,J$3,FALSE)","v":1.3},{"$f":"VLOOKUP($A20,Results3,K$4,FALSE)","v":"DASH"},{"$f":"VLOOKUP($A20,Results3,L$3,FALSE)","v":1.2},{"$f":"VLOOKUP($A20,Results3,M$4,FALSE)","v":"Worc"},{"$f":"VLOOKUP($A20,Results3,N$3,FALSE)","v":1.1000000000000001},{"$f":"VLOOKUP($A20,Results3,O$4,FALSE)","v":0},{"$f":"VLOOKUP($A20,Results3,P$3,FALSE)","v":0},{"$f":"VLOOKUP($A20,Results3,Q$4,FALSE)","v":0},{"$f":"VLOOKUP($A20,Results3,R$3,FALSE)","v":0},{"$f":"VLOOKUP($A20,Results3,S$4,FALSE)","v":0},{"$f":"VLOOKUP($A20,Results3,T$3,FALSE)","v":0},{"$f":"VLOOKUP($A20,Results3,U$4,FALSE)","v":0},{"$f":"VLOOKUP($A20,Results3,V$3,FALSE)","v":0},{"$f":"VLOOKUP($A20,Results3,W$4,FALSE)","v":0},{"$f":"VLOOKUP($A20,Results3,X$4,FALSE)","v":0},6,8,7,0,0,5]
[{"$f":"B20&\"B\"","v":"5B"},null,null,{"$f":"VLOOKUP(B20,EventsOrder,3,FALSE)","v":"High Jump"},"B",null,{"$f":"VLOOKUP($A21,Results3,G$3,FALSE)","v":""},null,{"$f":"VLOOKUP($A21,Results3,I$3,FALSE)","v":""},null,{"$f":"VLOOKUP($A21,Results3,K$3,FALSE)","v":""},null,{"$f":"VLOOKUP($A21,Results3,M$3,FALSE)","v":""},null,{"$f":"VLOOKUP($A21,Results3,O$3,FALSE)","v":""},null,{"$f":"VLOOKUP($A21,Results3,Q$3,FALSE)","v":""},null,{"$f":"VLOOKUP($A21,Results3,S$3,FALSE)","v":""},null,{"$f":"VLOOKUP($A21,Results3,U$3,FALSE)","v":""}]
[{"$f":"B20&\"B\"","v":"5B"},null,null,null,null,null,{"$f":"VLOOKUP($A22,Results3,G$4,FALSE)","v":0},{"$f":"VLOOKUP($A22,Results3,H$3,FALSE)","v":0},{"$f":"VLOOKUP($A22,Results3,I$4,FALSE)","v":0},{"$f":"VLOOKUP($A22,Results3,J$3,FALSE)","v":0},{"$f":"VLOOKUP($A22,Results3,K$4,FALSE)","v":0},{"$f":"VLOOKUP($A22,Results3,L$3,FALSE)","v":0},{"$f":"VLOOKUP($A22,Results3,M$4,FALSE)","v":0},{"$f":"VLOOKUP($A22,Results3,N$3,FALSE)","v":0},{"$f":"VLOOKUP($A22,Results3,O$4,FALSE)","v":0},{"$f":"VLOOKUP($A22,Results3,P$3,FALSE)","v":0},{"$f":"VLOOKUP($A22,Results3,Q$4,FALSE)","v":0},{"$f":"VLOOKUP($A22,Results3,R$3,FALSE)","v":0},{"$f":"VLOOKUP($A22,Results3,S$4,FALSE)","v":0},{"$f":"VLOOKUP($A22,Results3,T$3,FALSE)","v":0},{"$f":"VLOOKUP($A22,Results3,U$4,FALSE)","v":0},{"$f":"VLOOKUP($A22,Results3,V$3,FALSE)","v":0},{"$f":"VLOOKUP($A22,Results3,W$4,FALSE)","v":0},0,0,0,0,0,0,0]
[{"$f":"B24&\"A\"","v":"6A"},null,null,{"$f":"VLOOKUP(B24,EventsOrder,4,FALSE)","v":"U15 Male"},"A",null,{"$f":"VLOOKUP($A23,Results3,G$3,FALSE)","v":"Darian Moore"},null,{"$f":"VLOOKUP($A23,Results3,I$3,FALSE)","v":"Jamil Welham"},null,{"$f":"VLOOKUP($A23,Results3,K$3,FALSE)","v":"Will Andrews"},null,{"$f":"VLOOKUP($A23,Results3,M$3,FALSE)","v":"Ethan Nelis"},null,{"$f":"VLOOKUP($A23,Results3,O$3,FALSE)","v":"Zak Thurley"},null,{"$f":"VLOOKUP($A23,Results3,Q$3,FALSE)","v":"Daniel Gifford"},null,{"$f":"VLOOKUP($A23,Results3,S$3,FALSE)","v":""},null,{"$f":"VLOOKUP($A23,Results3,U$3,FALSE)","v":""},null,null,null,null,null,null,null,null,null,{"$f":"IF(LEN(G23)>1,1,0)","v":1}]
[{"$f":"B24&\"A\"","v":"6A"},6,{"$f":"VLOOKUP(B24,EventsOrder,2,FALSE)","v":12},null,null,null,{"$f":"VLOOKUP($A24,Results3,G$4,FALSE)","v":"Worc"},{"$f":"VLOOKUP($A24,Results3,H$3,FALSE)","v":5.58},{"$f":"VLOOKUP($A24,Results3,I$4,FALSE)","v":"Bic"},{"$f":"VLOOKUP($A24,Results3,J$3,FALSE)","v":4.66},{"$f":"VLOOKUP($A24,Results3,K$4,FALSE)","v":"Ban"},{"$f":"VLOOKUP($A24,Results3,L$3,FALSE)","v":4.29},{"$f":"VLOOKUP($A24,Results3,M$4,FALSE)","v":"Kett"},{"$f":"VLOOKUP($A24,Results3,N$3,FALSE)","v":3.45},{"$f":"VLOOKUP($A24,Results3,O$4,FALSE)","v":"DASH"},{"$f":"VLOOKUP($A24,Results3,P$3,FALSE)","v":2.38},{"$f":"VLOOKUP($A24,Results3,Q$4,FALSE)","v":"Rad"},{"$f":"VLOOKUP($A24,Results3,R$3,FALSE)","v":"NDR"},{"$f":"VLOOKUP($A24,Results3,S$4,FALSE)","v":0},{"$f":"VLOOKUP($A24,Results3,T$3,FALSE)","v":0},{"$f":"VLOOKUP($A24,Results3,U$4,FALSE)","v":0},{"$f":"VLOOKUP($A24,Results3,V$3,FALSE)","v":0},{"$f":"VLOOKUP($A24,Results3,W$4,FALSE)","v":6},{"$f":"VLOOKUP($A24,Results3,X$4,FALSE)","v":7},4,5,3,0,0,8]
[{"$f":"B24&\"B\"","v":"6B"},null,null,{"$f":"VLOOKUP(B24,EventsOrder,3,FALSE)","v":"Long Jump"},"B",null,{"$f":"VLOOKUP($A25,Results3,G$3,FALSE)","v":"Marco Miller"},null,{"$f":"VLOOKUP($A25,Results3,I$3,FALSE)","v":""},null,{"$f":"VLOOKUP($A25,Results3,K$3,FALSE)","v":""},null,{"$f":"VLOOKUP($A25,Results3,M$3,FALSE)","v":""},null,{"$f":"VLOOKUP($A25,Results3,O$3,FALSE)","v":""},null,{"$f":"VLOOKUP($A25,Results3,Q$3,FALSE)","v":""},null,{"$f":"VLOOKUP($A25,Results3,S$3,FALSE)","v":""},null,{"$f":"VLOOKUP($A25,Results3,U$3,FALSE)","v":""},null,null,null,null,null,null,null,null,null,{"$f":"IF(LEN(G25)>1,1,0)","v":1}]
[{"$f":"B24&\"B\"","v":"6B"},null,null,null,null,null,{"$f":"VLOOKUP($A26,Results3,G$4,FALSE)","v":"Worc"},{"$f":"VLOOKUP($A26,Results3,H$3,FALSE)","v":4.03},{"$f":"VLOOKUP($A26,Results3,I$4,FALSE)","v":0},{"$f":"VLOOKUP($A26,Results3,J$3,FALSE)","v":0},{"$f":"VLOOKUP($A26,Results3,K$4,FALSE)","v":0},{"$f":"VLOOKUP($A26,Results3,L$3,FALSE)","v":0},{"$f":"VLOOKUP($A26,Results3,M$4,FALSE)","v":0},{"$f":"VLOOKUP($A26,Results3,N$3,FALSE)","v":0},{"$f":"VLOOKUP($A26,Results3,O$4,FALSE)","v":0},{"$f":"VLOOKUP($A26,Results3,P$3,FALSE)","v":0},{"$f":"VLOOKUP($A26,Results3,Q$4,FALSE)","v":0},{"$f":"VLOOKUP($A26,Results3,R$3,FALSE)","v":0},{"$f":"VLOOKUP($A26,Results3,S$4,FALSE)","v":0},{"$f":"VLOOKUP($A26,Results3,T$3,FALSE)","v":0},{"$f":"VLOOKUP($A26,Results3,U$4,FALSE)","v":0},{"$f":"VLOOKUP($A26,Results3,V$3,FALSE)","v":0},{"$f":"VLOOKUP($A26,Results3,W$4,FALSE)","v":0},0,0,0,0,0,0,8]
[{"$f":"B28&\"A\"","v":"7A"},null,null,{"$f":"VLOOKUP(B28,EventsOrder,4,FALSE)","v":"U17 F/Women"},"A",null,{"$f":"VLOOKUP($A27,Results3,G$3,FALSE)","v":"Charlotte Bush"},null,{"$f":"VLOOKUP($A27,Results3,I$3,FALSE)","v":"Fern Harrison"},null,{"$f":"VLOOKUP($A27,Results3,K$3,FALSE)","v":"Jess Anstice U23"},null,{"$f":"VLOOKUP($A27,Results3,M$3,FALSE)","v":""},null,{"$f":"VLOOKUP($A27,Results3,O$3,FALSE)","v":""},null,{"$f":"VLOOKUP($A27,Results3,Q$3,FALSE)","v":""},null,{"$f":"VLOOKUP($A27,Results3,S$3,FALSE)","v":""},null,{"$f":"VLOOKUP($A27,Results3,U$3,FALSE)","v":""}]
[{"$f":"B28&\"A\"","v":"7A"},7,{"$f":"VLOOKUP(B28,EventsOrder,2,FALSE)","v":12.05},null,null,null,{"$f":"VLOOKUP($A28,Results3,G$4,FALSE)","v":"Tam"},{"$f":"VLOOKUP($A28,Results3,H$3,FALSE)","v":"5.12.1"},{"$f":"VLOOKUP($A28,Results3,I$4,FALSE)","v":"Wreake"},{"$f":"VLOOKUP($A28,Results3,J$3,FALSE)","v":"5.16.9"},{"$f":"VLOOKUP($A28,Results3,K$4,FALSE)","v":"Rad"},{"$f":"VLOOKUP($A28,Results3,L$3,FALSE)","v":"7.34.8"},{"$f":"VLOOKUP($A28,Results3,M$4,FALSE)","v":0},{"$f":"VLOOKUP($A28,Results3,N$3,FALSE)","v":0},{"$f":"VLOOKUP($A28,Results3,O$4,FALSE)","v":0},{"$f":"VLOOKUP($A28,Results3,P$3,FALSE)","v":0},{"$f":"VLOOKUP($A28,Results3,Q$4,FALSE)","v":0},{"$f":"VLOOKUP($A28,Results3,R$3,FALSE)","v":0},{"$f":"VLOOKUP($A28,Results3,S$4,FALSE)","v":0},{"$f":"VLOOKUP($A28,Results3,T$3,FALSE)","v":0},{"$f":"VLOOKUP($A28,Results3,U$4,FALSE)","v":0},{"$f":"VLOOKUP($A28,Results3,V$3,FALSE)","v":0},{"$f":"VLOOKUP($A28,Results3,W$4,FALSE)","v":0},{"$f":"VLOOKUP($A28,Results3,X$4,FALSE)","v":0},0,0,6,8,7,0,{"$f":"IF(LEN(G28)>1,1,0)","v":1}]
[{"$f":"B28&\"B\"","v":"7B"},null,null,{"$f":"VLOOKUP(B28,EventsOrder,3,FALSE)","v":"1500m"},"B",null,{"$f":"VLOOKUP($A29,Results3,G$3,FALSE)","v":"Laura Lewis (Senior)"},null,{"$f":"VLOOKUP($A29,Results3,I$3,FALSE)","v":""},null,{"$f":"VLOOKUP($A29,Results3,K$3,FALSE)","v":""},null,{"$f":"VLOOKUP($A29,Results3,M$3,FALSE)","v":""},null,{"$f":"VLOOKUP($A29,Results3,O$3,FALSE)","v":""},null,{"$f":"VLOOKUP($A29,Results3,Q$3,FALSE)","v":""},null,{"$f":"VLOOKUP($A29,Results3,S$3,FALSE)","v":""},null,{"$f":"VLOOKUP($A29,Results3,U$3,FALSE)","v":""}]
[{"$f":"B28&\"B\"","v":"7B"},null,null,null,null,null,{"$f":"VLOOKUP($A30,Results3,G$4,FALSE)","v":"Tam"},{"$f":"VLOOKUP($A30,Results3,H$3,FALSE)","v":"5.59.0"},{"$f":"VLOOKUP($A30,Results3,I$4,FALSE)","v":0},{"$f":"VLOOKUP($A30,Results3,J$3,FALSE)","v":0},{"$f":"VLOOKUP($A30,Results3,K$4,FALSE)","v":0},{"$f":"VLOOKUP($A30,Results3,L$3,FALSE)","v":0},{"$f":"VLOOKUP($A30,Results3,M$4,FALSE)","v":0},{"$f":"VLOOKUP($A30,Results3,N$3,FALSE)","v":0},{"$f":"VLOOKUP($A30,Results3,O$4,FALSE)","v":0},{"$f":"VLOOKUP($A30,Results3,P$3,FALSE)","v":0},{"$f":"VLOOKUP($A30,Results3,Q$4,FALSE)","v":0},{"$f":"VLOOKUP($A30,Results3,R$3,FALSE)","v":0},{"$f":"VLOOKUP($A30,Results3,S$4,FALSE)","v":0},{"$f":"VLOOKUP($A30,Results3,T$3,FALSE)","v":0},{"$f":"VLOOKUP($A30,Results3,U$4,FALSE)","v":0},{"$f":"VLOOKUP($A30,Results3,V$3,FALSE)","v":0},{"$f":"VLOOKUP($A30,Results3,W$4,FALSE)","v":0},0,0,0,0,8,0,0]
[{"$f":"B32&\"A\"","v":"8A"},null,null,{"$f":"VLOOKUP(B32,EventsOrder,4,FALSE)","v":"U17 Men"},"A",null,{"$f":"VLOOKUP($A31,Results3,G$3,FALSE)","v":"Reiss Francis"},null,{"$f":"VLOOKUP($A31,Results3,I$3,FALSE)","v":"Harry Woodcock"},null,{"$f":"VLOOKUP($A31,Results3,K$3,FALSE)","v":"Charlie McGlinchey"},null,{"$f":"VLOOKUP($A31,Results3,M$3,FALSE)","v":"Josh Cannell"},null,{"$f":"VLOOKUP($A31,Results3,O$3,FALSE)","v":""},null,{"$f":"VLOOKUP($A31,Results3,Q$3,FALSE)","v":""},null,{"$f":"VLOOKUP($A31,Results3,S$3,FALSE)","v":""},null,{"$f":"VLOOKUP($A31,Results3,U$3,FALSE)","v":""}]
[{"$f":"B32&\"A\"","v":"8A"},8,{"$f":"VLOOKUP(B32,EventsOrder,2,FALSE)","v":12.15},null,null,null,{"$f":"VLOOKUP($A32,Results3,G$4,FALSE)","v":"Worc"},{"$f":"VLOOKUP($A32,Results3,H$3,FALSE)","v":8.41},{"$f":"VLOOKUP($A32,Results3,I$4,FALSE)","v":"Rad"},{"$f":"VLOOKUP($A32,Results3,J$3,FALSE)","v":8.33},{"$f":"VLOOKUP($A32,Results3,K$4,FALSE)","v":"Wreake"},{"$f":"VLOOKUP($A32,Results3,L$3,FALSE)","v":7.1},{"$f":"VLOOKUP($A32,Results3,M$4,FALSE)","v":"Kett"},{"$f":"VLOOKUP($A32,Results3,N$3,FALSE)","v":6.33},{"$f":"VLOOKUP($A32,Results3,O$4,FALSE)","v":0},{"$f":"VLOOKUP($A32,Results3,P$3,FALSE)","v":0},{"$f":"VLOOKUP($A32,Results3,Q$4,FALSE)","v":0},{"$f":"VLOOKUP($A32,Results3,R$3,FALSE)","v":0},{"$f":"VLOOKUP($A32,Results3,S$4,FALSE)","v":0},{"$f":"VLOOKUP($A32,Results3,T$3,FALSE)","v":0},{"$f":"VLOOKUP($A32,Results3,U$4,FALSE)","v":0},{"$f":"VLOOKUP($A32,Results3,V$3,FALSE)","v":0},{"$f":"VLOOKUP($A32,Results3,W$4,FALSE)","v":0},{"$f":"VLOOKUP($A32,Results3,X$4,FALSE)","v":0},0,5,7,0,6,8]
[{"$f":"B32&\"B\"","v":"8B"},null,null,{"$f":"VLOOKUP(B32,EventsOrder,3,FALSE)","v":"Shot"},"B",null,{"$f":"VLOOKUP($A33,Results3,G$3,FALSE)","v":"Rory Sear"},null,{"$f":"VLOOKUP($A33,Results3,I$3,FALSE)","v":"Josh Bentley"},null,{"$f":"VLOOKUP($A33,Results3,K$3,FALSE)","v":""},null,{"$f":"VLOOKUP($A33,Results3,M$3,FALSE)","v":""},null,{"$f":"VLOOKUP($A33,Results3,O$3,FALSE)","v":""},null,{"$f":"VLOOKUP($A33,Results3,Q$3,FALSE)","v":""},null,{"$f":"VLOOKUP($A33,Results3,S$3,FALSE)","v":""},null,{"$f":"VLOOKUP($A33,Results3,U$3,FALSE)","v":""}]
[{"$f":"B32&\"B\"","v":"8B"},null,null,null,null,null,{"$f":"VLOOKUP($A34,Results3,G$4,FALSE)","v":"Rad"},{"$f":"VLOOKUP($A34,Results3,H$3,FALSE)","v":7.89},{"$f":"VLOOKUP($A34,Results3,I$4,FALSE)","v":"Worc"},{"$f":"VLOOKUP($A34,Results3,J$3,FALSE)","v":6.8},{"$f":"VLOOKUP($A34,Results3,K$4,FALSE)","v":0},{"$f":"VLOOKUP($A34,Results3,L$3,FALSE)","v":0},{"$f":"VLOOKUP($A34,Results3,M$4,FALSE)","v":0},{"$f":"VLOOKUP($A34,Results3,N$3,FALSE)","v":0},{"$f":"VLOOKUP($A34,Results3,O$4,FALSE)","v":0},{"$f":"VLOOKUP($A34,Results3,P$3,FALSE)","v":0},{"$f":"VLOOKUP($A34,Results3,Q$4,FALSE)","v":0},{"$f":"VLOOKUP($A34,Results3,R$3,FALSE)","v":0},{"$f":"VLOOKUP($A34,Results3,S$4,FALSE)","v":0},{"$f":"VLOOKUP($A34,Results3,T$3,FALSE)","v":0},{"$f":"VLOOKUP($A34,Results3,U$4,FALSE)","v":0},{"$f":"VLOOKUP($A34,Results3,V$3,FALSE)","v":0},{"$f":"VLOOKUP($A34,Results3,W$4,FALSE)","v":0},0,0,0,8,0,0,7,{"$f":"IF(LEN(G34)>1,1,0)","v":1}]
[{"$f":"B36&\"A\"","v":"9A"},null,null,{"$f":"VLOOKUP(B36,EventsOrder,4,FALSE)","v":"U15 Female"},"A",null,{"$f":"VLOOKUP($A35,Results3,G$3,FALSE)","v":"Rachel Burton"},null,{"$f":"VLOOKUP($A35,Results3,I$3,FALSE)","v":"Matilda Braithwaite"},null,{"$f":"VLOOKUP($A35,Results3,K$3,FALSE)","v":"Samantha Bowkett"},null,{"$f":"VLOOKUP($A35,Results3,M$3,FALSE)","v":"Elizabeth Eskender"},null,{"$f":"VLOOKUP($A35,Results3,O$3,FALSE)","v":"Alice Jones"},null,{"$f":"VLOOKUP($A35,Results3,Q$3,FALSE)","v":"Molly Acton"},null,{"$f":"VLOOKUP($A35,Results3,S$3,FALSE)","v":"Grace Slater"},null,{"$f":"VLOOKUP($A35,Results3,U$3,FALSE)","v":"Rosie Timlock"}]
[{"$f":"B36&\"A\"","v":"9A"},9,{"$f":"VLOOKUP(B36,EventsOrder,2,FALSE)","v":12.15},null,null,null,{"$f":"VLOOKUP($A36,Results3,G$4,FALSE)","v":"Rad"},{"$f":"VLOOKUP($A36,Results3,H$3,FALSE)","v":24.28},{"$f":"VLOOKUP($A36,Results3,I$4,FALSE)","v":"Kett"},{"$f":"VLOOKUP($A36,Results3,J$3,FALSE)","v":18.98},{"$f":"VLOOKUP($A36,Results3,K$4,FALSE)","v":"Worc"},{"$f":"VLOOKUP($A36,Results3,L$3,FALSE)","v":16.010000000000002},{"$f":"VLOOKUP($A36,Results3,M$4,FALSE)","v":"Ban"},{"$f":"VLOOKUP($A36,Results3,N$3,FALSE)","v":15.55},{"$f":"VLOOKUP($A36,Results3,O$4,FALSE)","v":"Tam"},{"$f":"VLOOKUP($A36,Results3,P$3,FALSE)","v":14.82},{"$f":"VLOOKUP($A36,Results3,Q$4,FALSE)","v":"Bic"},{"$f":"VLOOKUP($A36,Results3,R$3,FALSE)","v":12.86},{"$f":"VLOOKUP($A36,Results3,S$4,FALSE)","v":"DASH"},{"$f":"VLOOKUP($A36,Results3,T$3,FALSE)","v":11.85},{"$f":"VLOOKUP($A36,Results3,U$4,FALSE)","v":"Wreake"},{"$f":"VLOOKUP($A36,Results3,V$3,FALSE)","v":10.92},{"$f":"VLOOKUP($A36,Results3,W$4,FALSE)","v":5},{"$f":"VLOOKUP($A36,Results3,X$4,FALSE)","v":3},2,7,8,4,1,6]
[{"$f":"B36&\"B\"","v":"9B"},null,null,{"$f":"VLOOKUP(B36,EventsOrder,3,FALSE)","v":"Discus"},"B",null,{"$f":"VLOOKUP($A37,Results3,G$3,FALSE)","v":"Katie Harris"},null,{"$f":"VLOOKUP($A37,Results3,I$3,FALSE)","v":"Hermione Jewel"},null,{"$f":"VLOOKUP($A37,Results3,K$3,FALSE)","v":"Millie Toseland"},null,{"$f":"VLOOKUP($A37,Results3,M$3,FALSE)","v":"Jessica Grainger"},null,{"$f":"VLOOKUP($A37,Results3,O$3,FALSE)","v":"Rachel Nealon"},null,{"$f":"VLOOKUP($A37,Results3,Q$3,FALSE)","v":""},null,{"$f":"VLOOKUP($A37,Results3,S$3,FALSE)","v":""},null,{"$f":"VLOOKUP($A37,Results3,U$3,FALSE)","v":""}]
[{"$f":"B36&\"B\"","v":"9B"},null,null,null,null,null,{"$f":"VLOOKUP($A38,Results3,G$4,FALSE)","v":"Worc"},{"$f":"VLOOKUP($A38,Results3,H$3,FALSE)","v":13.8},{"$f":"VLOOKUP($A38,Results3,I$4,FALSE)","v":"Rad"},{"$f":"VLOOKUP($A38,Results3,J$3,FALSE)","v":10.58},{"$f":"VLOOKUP($A38,Results3,K$4,FALSE)","v":"Kett"},{"$f":"VLOOKUP($A38,Results3,L$3,FALSE)","v":10.34},{"$f":"VLOOKUP($A38,Results3,M$4,FALSE)","v":"DASH"},{"$f":"VLOOKUP($A38,Results3,N$3,FALSE)","v":10.1},{"$f":"VLOOKUP($A38,Results3,O$4,FALSE)","v":"Wreake"},{"$f":"VLOOKUP($A38,Results3,P$3,FALSE)","v":9.85},{"$f":"VLOOKUP($A38,Results3,Q$4,FALSE)","v":0},{"$f":"VLOOKUP($A38,Results3,R$3,FALSE)","v":0},{"$f":"VLOOKUP($A38,Results3,S$4,FALSE)","v":0},{"$f":"VLOOKUP($A38,Results3,T$3,FALSE)","v":0},{"$f":"VLOOKUP($A38,Results3,U$4,FALSE)","v":0},{"$f":"VLOOKUP($A38,Results3,V$3,FALSE)","v":0},{"$f":"VLOOKUP($A38,Results3,W$4,FALSE)","v":0},0,5,6,7,0,4,8]
[{"$f":"B40&\"A\"","v":"10A"},null,null,{"$f":"VLOOKUP(B40,EventsOrder,4,FALSE)","v":"U17 Female"},"A",null,{"$f":"VLOOKUP($A39,Results3,G$3,FALSE)","v":""},null,{"$f":"VLOOKUP($A39,Results3,I$3,FALSE)","v":""},null,{"$f":"VLOOKUP($A39,Results3,K$3,FALSE)","v":""},null,{"$f":"VLOOKUP($A39,Results3,M$3,FALSE)","v":""},null,{"$f":"VLOOKUP($A39,Results3,O$3,FALSE)","v":""},null,{"$f":"VLOOKUP($A39,Results3,Q$3,FALSE)","v":""},null,{"$f":"VLOOKUP($A39,Results3,S$3,FALSE)","v":""},null,{"$f":"VLOOKUP($A39,Results3,U$3,FALSE)","v":""}]
[{"$f":"B40&\"A\"","v":"10A"},10,{"$f":"VLOOKUP(B40,EventsOrder,2,FALSE)","v":12.15},null,null,null,{"$f":"VLOOKUP($A40,Results3,G$4,FALSE)","v":0},{"$f":"VLOOKUP($A40,Results3,H$3,FALSE)","v":0},{"$f":"VLOOKUP($A40,Results3,I$4,FALSE)","v":0},{"$f":"VLOOKUP($A40,Results3,J$3,FALSE)","v":0},{"$f":"VLOOKUP($A40,Results3,K$4,FALSE)","v":0},{"$f":"VLOOKUP($A40,Results3,L$3,FALSE)","v":0},{"$f":"VLOOKUP($A40,Results3,M$4,FALSE)","v":0},{"$f":"VLOOKUP($A40,Results3,N$3,FALSE)","v":0},{"$f":"VLOOKUP($A40,Results3,O$4,FALSE)","v":0},{"$f":"VLOOKUP($A40,Results3,P$3,FALSE)","v":0},{"$f":"VLOOKUP($A40,Results3,Q$4,FALSE)","v":0},{"$f":"VLOOKUP($A40,Results3,R$3,FALSE)","v":0},{"$f":"VLOOKUP($A40,Results3,S$4,FALSE)","v":0},{"$f":"VLOOKUP($A40,Results3,T$3,FALSE)","v":0},{"$f":"VLOOKUP($A40,Results3,U$4,FALSE)","v":0},{"$f":"VLOOKUP($A40,Results3,V$3,FALSE)","v":0},{"$f":"VLOOKUP($A40,Results3,W$4,FALSE)","v":0},{"$f":"VLOOKUP($A40,Results3,X$4,FALSE)","v":0},0,0,0,0,0,0,{"$f":"IF(LEN(G40)>1,1,0)","v":0}]
[{"$f":"B40&\"B\"","v":"10B"},null,null,{"$f":"VLOOKUP(B40,EventsOrder,3,FALSE)","v":"Javelin (U17)"},"B",null,{"$f":"VLOOKUP($A41,Results3,G$3,FALSE)","v":""},null,{"$f":"VLOOKUP($A41,Results3,I$3,FALSE)","v":""},null,{"$f":"VLOOKUP($A41,Results3,K$3,FALSE)","v":""},null,{"$f":"VLOOKUP($A41,Results3,M$3,FALSE)","v":""},null,{"$f":"VLOOKUP($A41,Results3,O$3,FALSE)","v":""},null,{"$f":"VLOOKUP($A41,Results3,Q$3,FALSE)","v":""},null,{"$f":"VLOOKUP($A41,Results3,S$3,FALSE)","v":""},null,{"$f":"VLOOKUP($A41,Results3,U$3,FALSE)","v":""}]
[{"$f":"B40&\"B\"","v":"10B"},null,null,null,null,null,{"$f":"VLOOKUP($A42,Results3,G$4,FALSE)","v":0},{"$f":"VLOOKUP($A42,Results3,H$3,FALSE)","v":0},{"$f":"VLOOKUP($A42,Results3,I$4,FALSE)","v":0},{"$f":"VLOOKUP($A42,Results3,J$3,FALSE)","v":0},{"$f":"VLOOKUP($A42,Results3,K$4,FALSE)","v":0},{"$f":"VLOOKUP($A42,Results3,L$3,FALSE)","v":0},{"$f":"VLOOKUP($A42,Results3,M$4,FALSE)","v":0},{"$f":"VLOOKUP($A42,Results3,N$3,FALSE)","v":0},{"$f":"VLOOKUP($A42,Results3,O$4,FALSE)","v":0},{"$f":"VLOOKUP($A42,Results3,P$3,FALSE)","v":0},{"$f":"VLOOKUP($A42,Results3,Q$4,FALSE)","v":0},{"$f":"VLOOKUP($A42,Results3,R$3,FALSE)","v":0},{"$f":"VLOOKUP($A42,Results3,S$4,FALSE)","v":0},{"$f":"VLOOKUP($A42,Results3,T$3,FALSE)","v":0},{"$f":"VLOOKUP($A42,Results3,U$4,FALSE)","v":0},{"$f":"VLOOKUP($A42,Results3,V$3,FALSE)","v":0},{"$f":"VLOOKUP($A42,Results3,W$4,FALSE)","v":0},0,0,0,0,0,0,0]
[{"$f":"B44&\"A\"","v":"11A"},null,null,{"$f":"VLOOKUP(B44,EventsOrder,4,FALSE)","v":"U13 Female"},"A",null,{"$f":"VLOOKUP($A43,Results3,G$3,FALSE)","v":"Niamh Kilgallen"},null,{"$f":"VLOOKUP($A43,Results3,I$3,FALSE)","v":"Tegan Armstrong"},null,{"$f":"VLOOKUP($A43,Results3,K$3,FALSE)","v":"Flora Miskin-Young"},null,{"$f":"VLOOKUP($A43,Results3,M$3,FALSE)","v":"Lucy Marriott"},null,{"$f":"VLOOKUP($A43,Results3,O$3,FALSE)","v":"Erin Mcmillan"},null,{"$f":"VLOOKUP($A43,Results3,Q$3,FALSE)","v":"Scarlett Maxwell-Munn"},null,{"$f":"VLOOKUP($A43,Results3,S$3,FALSE)","v":""},null,{"$f":"VLOOKUP($A43,Results3,U$3,FALSE)","v":""}]
[{"$f":"B44&\"A\"","v":"11A"},11,{"$f":"VLOOKUP(B44,EventsOrder,2,FALSE)","v":12.15},null,null,null,{"$f":"VLOOKUP($A44,Results3,G$4,FALSE)","v":"Tam"},{"$f":"VLOOKUP($A44,Results3,H$3,FALSE)","v":11.8},{"$f":"VLOOKUP($A44,Results3,I$4,FALSE)","v":"Ban"},{"$f":"VLOOKUP($A44,Results3,J$3,FALSE)","v":11.8},{"$f":"VLOOKUP($A44,Results3,K$4,FALSE)","v":"Wreake"},{"$f":"VLOOKUP($A44,Results3,L$3,FALSE)","v":12.4},{"$f":"VLOOKUP($A44,Results3,M$4,FALSE)","v":"Worc"},{"$f":"VLOOKUP($A44,Results3,N$3,FALSE)","v":12.5},{"$f":"VLOOKUP($A44,Results3,O$4,FALSE)","v":"Rad"},{"$f":"VLOOKUP($A44,Results3,P$3,FALSE)","v":14.5},{"$f":"VLOOKUP($A44,Results3,Q$4,FALSE)","v":"Kett"},{"$f":"VLOOKUP($A44,Results3,R$3,FALSE)","v":14.5},{"$f":"VLOOKUP($A44,Results3,S$4,FALSE)","v":0},{"$f":"VLOOKUP($A44,Results3,T$3,FALSE)","v":0},{"$f":"VLOOKUP($A44,Results3,U$4,FALSE)","v":0},{"$f":"VLOOKUP($A44,Results3,V$3,FALSE)","v":0},{"$f":"VLOOKUP($A44,Results3,W$4,FALSE)","v":7},{"$f":"VLOOKUP($A44,Results3,X$4,FALSE)","v":0},0,3,4,8,6,5]
[{"$f":"B44&\"B\"","v":"11B"},null,null,{"$f":"VLOOKUP(B44,EventsOrder,3,FALSE)","v":"70m hurdles"},"B",null,{"$f":"VLOOKUP($A45,Results3,G$3,FALSE)","v":"Maddy Dowden"},null,{"$f":"VLOOKUP($A45,Results3,I$3,FALSE)","v":"Indie King"},null,{"$f":"VLOOKUP($A45,Results3,K$3,FALSE)","v":"Maddison Hurley"},null,{"$f":"VLOOKUP($A45,Results3,M$3,FALSE)","v":"Amber Hopkins"},null,{"$f":"VLOOKUP($A45,Results3,O$3,FALSE)","v":""},null,{"$f":"VLOOKUP($A45,Results3,Q$3,FALSE)","v":""},null,{"$f":"VLOOKUP($A45,Results3,S$3,FALSE)","v":""},null,{"$f":"VLOOKUP($A45,Results3,U$3,FALSE)","v":""}]
[{"$f":"B44&\"B\"","v":"11B"},null,null,null,null,null,{"$f":"VLOOKUP($A46,Results3,G$4,FALSE)","v":"Ban"},{"$f":"VLOOKUP($A46,Results3,H$3,FALSE)","v":12.7},{"$f":"VLOOKUP($A46,Results3,I$4,FALSE)","v":"Wreake"},{"$f":"VLOOKUP($A46,Results3,J$3,FALSE)","v":13.3},{"$f":"VLOOKUP($A46,Results3,K$4,FALSE)","v":"Rad"},{"$f":"VLOOKUP($A46,Results3,L$3,FALSE)","v":13.6},{"$f":"VLOOKUP($A46,Results3,M$4,FALSE)","v":"Worc"},{"$f":"VLOOKUP($A46,Results3,N$3,FALSE)","v":13.9},{"$f":"VLOOKUP($A46,Results3,O$4,FALSE)","v":0},{"$f":"VLOOKUP($A46,Results3,P$3,FALSE)","v":0},{"$f":"VLOOKUP($A46,Results3,Q$4,FALSE)","v":0},{"$f":"VLOOKUP($A46,Results3,R$3,FALSE)","v":0},{"$f":"VLOOKUP($A46,Results3,S$4,FALSE)","v":0},{"$f":"VLOOKUP($A46,Results3,T$3,FALSE)","v":0},{"$f":"VLOOKUP($A46,Results3,U$4,FALSE)","v":0},{"$f":"VLOOKUP($A46,Results3,V$3,FALSE)","v":0},{"$f":"VLOOKUP($A46,Results3,W$4,FALSE)","v":8},0,0,0,6,0,7,5,{"$f":"IF(LEN(G46)>1,1,0)","v":1}]
[{"$f":"B48&\"A\"","v":"12A"},null,null,{"$f":"VLOOKUP(B48,EventsOrder,4,FALSE)","v":"U13 Male"},"A",null,{"$f":"VLOOKUP($A47,Results3,G$3,FALSE)","v":"Rowan Miell-Ingram"},null,{"$f":"VLOOKUP($A47,Results3,I$3,FALSE)","v":"Ben Harle"},null,{"$f":"VLOOKUP($A47,Results3,K$3,FALSE)","v":"Ethan Patel"},null,{"$f":"VLOOKUP($A47,Results3,M$3,FALSE)","v":"Archie Jones"},null,{"$f":"VLOOKUP($A47,Results3,O$3,FALSE)","v":"Michael Cadle"},null,{"$f":"VLOOKUP($A47,Results3,Q$3,FALSE)","v":"Ben Brooker"},null,{"$f":"VLOOKUP($A47,Results3,S$3,FALSE)","v":"Daniel Aston"},null,{"$f":"VLOOKUP($A47,Results3,U$3,FALSE)","v":"John Sparry"}]
[{"$f":"B48&\"A\"","v":"12A"},12,{"$f":"VLOOKUP(B48,EventsOrder,2,FALSE)","v":12.2},null,null,null,{"$f":"VLOOKUP($A48,Results3,G$4,FALSE)","v":"Rad"},{"$f":"VLOOKUP($A48,Results3,H$3,FALSE)","v":"2.28.5"},{"$f":"VLOOKUP($A48,Results3,I$4,FALSE)","v":"Worc"},{"$f":"VLOOKUP($A48,Results3,J$3,FALSE)","v":"2.38.7"},{"$f":"VLOOKUP($A48,Results3,K$4,FALSE)","v":"Wreake"},{"$f":"VLOOKUP($A48,Results3,L$3,FALSE)","v":"2.42.4"},{"$f":"VLOOKUP($A48,Results3,M$4,FALSE)","v":"Ban"},{"$f":"VLOOKUP($A48,Results3,N$3,FALSE)","v":"2.44.4"},{"$f":"VLOOKUP($A48,Results3,O$4,FALSE)","v":"Bic"},{"$f":"VLOOKUP($A48,Results3,P$3,FALSE)","v":"2.44.4"},{"$f":"VLOOKUP($A48,Results3,Q$4,FALSE)","v":"Kett"},{"$f":"VLOOKUP($A48,Results3,R$3,FALSE)","v":"2.46.3"},{"$f":"VLOOKUP($A48,Results3,S$4,FALSE)","v":"Tam"},{"$f":"VLOOKUP($A48,Results3,T$3,FALSE)","v":"2.48.6"},{"$f":"VLOOKUP($A48,Results3,U$4,FALSE)","v":"DASH"},{"$f":"VLOOKUP($A48,Results3,V$3,FALSE)","v":"2.53.8"},{"$f":"VLOOKUP($A48,Results3,W$4,FALSE)","v":5},{"$f":"VLOOKUP($A48,Results3,X$4,FALSE)","v":4},1,3,8,2,6,7]
[{"$f":"B48&\"B\"","v":"12B"},null,null,{"$f":"VLOOKUP(B48,EventsOrder,3,FALSE)","v":"800m"},"B",null,{"$f":"VLOOKUP($A49,Results3,G$3,FALSE)","v":"Euan Gibbs"},null,{"$f":"VLOOKUP($A49,Results3,I$3,FALSE)","v":"Roan Stillion"},null,{"$f":"VLOOKUP($A49,Results3,K$3,FALSE)","v":"Riley Carpenter"},null,{"$f":"VLOOKUP($A49,Results3,M$3,FALSE)","v":"Joshua Geddes"},null,{"$f":"VLOOKUP($A49,Results3,O$3,FALSE)","v":"Kian Dickson"},null,{"$f":"VLOOKUP($A49,Results3,Q$3,FALSE)","v":""},null,{"$f":"VLOOKUP($A49,Results3,S$3,FALSE)","v":""},null,{"$f":"VLOOKUP($A49,Results3,U$3,FALSE)","v":""},null,null,null,null,null,null,null,null,null,{"$f":"IF(LEN(G49)>1,1,0)","v":1}]
[{"$f":"B48&\"B\"","v":"12B"},null,null,null,null,null,{"$f":"VLOOKUP($A50,Results3,G$4,FALSE)","v":"Wreake"},{"$f":"VLOOKUP($A50,Results3,H$3,FALSE)","v":"2.35.6"},{"$f":"VLOOKUP($A50,Results3,I$4,FALSE)","v":"Rad"},{"$f":"VLOOKUP($A50,Results3,J$3,FALSE)","v":"2.41.2"},{"$f":"VLOOKUP($A50,Results3,K$4,FALSE)","v":"Worc"},{"$f":"VLOOKUP($A50,Results3,L$3,FALSE)","v":"2.44.0"},{"$f":"VLOOKUP($A50,Results3,M$4,FALSE)","v":"Kett"},{"$f":"VLOOKUP($A50,Results3,N$3,FALSE)","v":"2.46.3"},{"$f":"VLOOKUP($A50,Results3,O$4,FALSE)","v":"Tam"},{"$f":"VLOOKUP($A50,Results3,P$3,FALSE)","v":"2.59.0"},{"$f":"VLOOKUP($A50,Results3,Q$4,FALSE)","v":0},{"$f":"VLOOKUP($A50,Results3,R$3,FALSE)","v":0},{"$f":"VLOOKUP($A50,Results3,S$4,FALSE)","v":0},{"$f":"VLOOKUP($A50,Results3,T$3,FALSE)","v":0},{"$f":"VLOOKUP($A50,Results3,U$4,FALSE)","v":0},{"$f":"VLOOKUP($A50,Results3,V$3,FALSE)","v":0},{"$f":"VLOOKUP($A50,Results3,W$4,FALSE)","v":0},0,0,5,7,4,8,6]
[{"$f":"B47&\"B\"","v":"B"}]
[null,null,null,null,null,null,null,null,null,null,null,null,null,null,null,null,null,null,null,null,"Officials Points",null,{"$f":"Officials!C$20","v":14},{"$f":"Officials!D$20","v":14},{"$f":"Officials!E$20","v":10},{"$f":"Officials!F$20","v":8},{"$f":"Officials!G$20","v":14},{"$f":"Officials!H$20","v":6},{"$f":"Officials!I$20","v":8},{"$f":"Officials!J$20","v":14}]
[null,{"$f":"COUNTIF(B11:B51,\">0\")","v":10},null,null,null,null,null,null,null,null,null,null,null,null,null,null,null,null,null,null,"Total Points",null,{"$f":"SUM(W11:W52)","v":47},{"$f":"SUM(X11:X52)","v":38},28,68,102,52,84,112,{"$f":"SUM(AE11:AE51)","v":9}]
[null,null,null,null,null,null,null,null,null,null,null,null,null,null,null,null,null,null,null,null,"Match Position",null,{"$f":"RANK(W53,$W53:$AD53)","v":6},{"$f":"RANK(X53,$W53:$AD53)","v":7},8,4,2,5,3,1]
[]
[null,"Event No",null,null,null,null,null,null,null,null,{"$f":"K8","v":"Heart of England League Results in Event Order"},null,null,null,null,null,null,null,null,null,null,null,{"$f":"W$8","v":"Banbury"},{"$f":"X$8","v":"Bicester"},"Dudley & S'bridge","Kettering","Radley","Tamworth","Wreake Runners","Worcester"]
[null,null,null,"Division",{"$f":"E9","v":2},null,null,null,null,null,"Venue",{"$f":"L9","v":"Worcester"},null,null,null,null,"Date",{"$f":"R9","v":"5th June 2016"}]
[null,null,"Time","Event",null,null,"First",null,"Second",null,"Third",null,"Fourth",null,"Fifth",null,"Sixth",null,"Seventh",null,"Eighth",null,{"$f":"W$10","v":"J"},{"$f":"X$10","v":"P"},"B","I","R","F","X","Y"]
[{"$f":"B60&\"A\"","v":"13A"},null,null,{"$f":"VLOOKUP(B60,EventsOrder,4,FALSE)","v":"U15 Female"},"A",null,{"$f":"VLOOKUP($A59,Results3,G$3,FALSE)","v":"Deanna Clarke"},null,{"$f":"VLOOKUP($A59,Results3,I$3,FALSE)","v":"Holly Griffiths-Brown"},null,{"$f":"VLOOKUP($A59,Results3,K$3,FALSE)","v":"Sydney Sellers"},null,{"$f":"VLOOKUP($A59,Results3,M$3,FALSE)","v":"Isobel Fisher"},null,{"$f":"VLOOKUP($A59,Results3,O$3,FALSE)","v":"Holly Hunter"},null,{"$f":"VLOOKUP($A59,Results3,Q$3,FALSE)","v":"Ravenn Cook"},null,{"$f":"VLOOKUP($A59,Results3,S$3,FALSE)","v":""},null,{"$f":"VLOOKUP($A59,Results3,U$3,FALSE)","v":""},null,null,null,null,null,null,null,null,null,{"$f":"IF(LEN(G59)>1,1,0)","v":1}]
[{"$f":"B60&\"A\"","v":"13A"},13,{"$f":"VLOOKUP(B60,EventsOrder,2,FALSE)","v":12.3},null,null,null,{"$f":"VLOOKUP($A60,Results3,G$4,FALSE)","v":"Worc"},{"$f":"VLOOKUP($A60,Results3,H$3,FALSE)","v":12.9},{"$f":"VLOOKUP($A60,Results3,I$4,FALSE)","v":"Rad"},{"$f":"VLOOKUP($A60,Results3,J$3,FALSE)","v":13},{"$f":"VLOOKUP($A60,Results3,K$4,FALSE)","v":"Ban"},{"$f":"VLOOKUP($A60,Results3,L$3,FALSE)","v":13.1},{"$f":"VLOOKUP($A60,Results3,M$4,FALSE)","v":"DASH"},{"$f":"VLOOKUP($A60,Results3,N$3,FALSE)","v":14.1},{"$f":"VLOOKUP($A60,Results3,O$4,FALSE)","v":"Bic"},{"$f":"VLOOKUP($A60,Results3,P$3,FALSE)","v":15.2},{"$f":"VLOOKUP($A60,Results3,Q$4,FALSE)","v":"Wreake"},{"$f":"VLOOKUP($A60,Results3,R$3,FALSE)","v":15.3},{"$f":"VLOOKUP($A60,Results3,S$4,FALSE)","v":0},{"$f":"VLOOKUP($A60,Results3,T$3,FALSE)","v":0},{"$f":"VLOOKUP($A60,Results3,U$4,FALSE)","v":0},{"$f":"VLOOKUP($A60,Results3,V$3,FALSE)","v":0},{"$f":"VLOOKUP($A60,Results3,W$4,FALSE)","v":6},{"$f":"VLOOKUP($A60,Results3,X$4,FALSE)","v":4},5,0,7,0,3,8]
[{"$f":"B60&\"B\"","v":"13B"},null,null,{"$f":"VLOOKUP(B60,EventsOrder,3,FALSE)","v":"75m hurdles"},"B",null,{"$f":"VLOOKUP($A61,Results3,G$3,FALSE)","v":"Sarah-Jane Ollis"},null,{"$f":"VLOOKUP($A61,Results3,I$3,FALSE)","v":"Niamh Darby"},null,{"$f":"VLOOKUP($A61,Results3,K$3,FALSE)","v":"Hannah Mott"},null,{"$f":"VLOOKUP($A61,Results3,M$3,FALSE)","v":"Charotte Hewett"},null,{"$f":"VLOOKUP($A61,Results3,O$3,FALSE)","v":""},null,{"$f":"VLOOKUP($A61,Results3,Q$3,FALSE)","v":""},null,{"$f":"VLOOKUP($A61,Results3,S$3,FALSE)","v":""},null,{"$f":"VLOOKUP($A61,Results3,U$3,FALSE)","v":""}]
[{"$f":"B60&\"B\"","v":"13B"},null,null,null,null,null,{"$f":"VLOOKUP($A62,Results3,G$4,FALSE)","v":"Worc"},{"$f":"VLOOKUP($A62,Results3,H$3,FALSE)","v":13.4},{"$f":"VLOOKUP($A62,Results3,I$4,FALSE)","v":"DASH"},{"$f":"VLOOKUP($A62,Results3,J$3,FALSE)","v":14},{"$f":"VLOOKUP($A62,Results3,K$4,FALSE)","v":"Rad"},{"$f":"VLOOKUP($A62,Results3,L$3,FALSE)","v":15.5},{"$f":"VLOOKUP($A62,Results3,M$4,FALSE)","v":"Bic"},{"$f":"VLOOKUP($A62,Results3,N$3,FALSE)","v":16.3},{"$f":"VLOOKUP($A62,Results3,O$4,FALSE)","v":0},{"$f":"VLOOKUP($A62,Results3,P$3,FALSE)","v":0},{"$f":"VLOOKUP($A62,Results3,Q$4,FALSE)","v":0},{"$f":"VLOOKUP($A62,Results3,R$3,FALSE)","v":0},{"$f":"VLOOKUP($A62,Results3,S$4,FALSE)","v":0},{"$f":"VLOOKUP($A62,Results3,T$3,FALSE)","v":0},{"$f":"VLOOKUP($A62,Results3,U$4,FALSE)","v":0},{"$f":"VLOOKUP($A62,Results3,V$3,FALSE)","v":0},{"$f":"VLOOKUP($A62,Results3,W$4,FALSE)","v":0},5,7,0,6,0,0,8]
[{"$f":"B64&\"A\"","v":"15A"},null,null,{"$f":"VLOOKUP(B64,EventsOrder,4,FALSE)","v":"U13 Male"},"A",null,{"$f":"VLOOKUP($A63,Results3,G$3,FALSE)","v":"Christopher Charles"},null,{"$f":"VLOOKUP($A63,Results3,I$3,FALSE)","v":"Oliver Laskey"},null,{"$f":"VLOOKUP($A63,Results3,K$3,FALSE)","v":"Samuel Rayson"},null,{"$f":"VLOOKUP($A63,Results3,M$3,FALSE)","v":"Theau Seabrook"},null,{"$f":"VLOOKUP($A63,Results3,O$3,FALSE)","v":"Alfie Robbins"},null,{"$f":"VLOOKUP($A63,Results3,Q$3,FALSE)","v":""},null,{"$f":"VLOOKUP($A63,Results3,S$3,FALSE)","v":""},null,{"$f":"VLOOKUP($A63,Results3,U$3,FALSE)","v":""},null,null,null,null,null,null,null,null,null,{"$f":"IF(LEN(G63)>1,1,0)","v":1}]
[{"$f":"B64&\"A\"","v":"15A"},15,{"$f":"VLOOKUP(B64,EventsOrder,2,FALSE)","v":12.35},null,null,null,{"$f":"VLOOKUP($A64,Results3,G$4,FALSE)","v":"Ban"},{"$f":"VLOOKUP($A64,Results3,H$3,FALSE)","v":12.6},{"$f":"VLOOKUP($A64,Results3,I$4,FALSE)","v":"Kett"},{"$f":"VLOOKUP($A64,Results3,J$3,FALSE)","v":14},{"$f":"VLOOKUP($A64,Results3,K$4,FALSE)","v":"Bic"},{"$f":"VLOOKUP($A64,Results3,L$3,FALSE)","v":14.5},{"$f":"VLOOKUP($A64,Results3,M$4,FALSE)","v":"Rad"},{"$f":"VLOOKUP($A64,Results3,N$3,FALSE)","v":14.6},{"$f":"VLOOKUP($A64,Results3,O$4,FALSE)","v":"Worc"},{"$f":"VLOOKUP($A64,Results3,P$3,FALSE)","v":16.899999999999999},{"$f":"VLOOKUP($A64,Results3,Q$4,FALSE)","v":0},{"$f":"VLOOKUP($A64,Results3,R$3,FALSE)","v":0},{"$f":"VLOOKUP($A64,Results3,S$4,FALSE)","v":0},{"$f":"VLOOKUP($A64,Results3,T$3,FALSE)","v":0},{"$f":"VLOOKUP($A64,Results3,U$4,FALSE)","v":0},{"$f":"VLOOKUP($A64,Results3,V$3,FALSE)","v":0},{"$f":"VLOOKUP($A64,Results3,W$4,FALSE)","v":8},{"$f":"VLOOKUP($A64,Results3,X$4,FALSE)","v":6},0,7,5,0,0,4]
[{"$f":"B64&\"B\"","v":"15B"},null,null,{"$f":"VLOOKUP(B64,EventsOrder,3,FALSE)","v":"75m hurdles"},"B",null,{"$f":"VLOOKUP($A65,Results3,G$3,FALSE)","v":"Josh Cumberland"},null,{"$f":"VLOOKUP($A65,Results3,I$3,FALSE)","v":""},null,{"$f":"VLOOKUP($A65,Results3,K$3,FALSE)","v":""},null,{"$f":"VLOOKUP($A65,Results3,M$3,FALSE)","v":""},null,{"$f":"VLOOKUP($A65,Results3,O$3,FALSE)","v":""},null,{"$f":"VLOOKUP($A65,Results3,Q$3,FALSE)","v":""},null,{"$f":"VLOOKUP($A65,Results3,S$3,FALSE)","v":""},null,{"$f":"VLOOKUP($A65,Results3,U$3,FALSE)","v":""}]
[{"$f":"B64&\"B\"","v":"15B"},null,null,null,null,null,{"$f":"VLOOKUP($A66,Results3,G$4,FALSE)","v":"Rad"},{"$f":"VLOOKUP($A66,Results3,H$3,FALSE)","v":18},{"$f":"VLOOKUP($A66,Results3,I$4,FALSE)","v":0},{"$f":"VLOOKUP($A66,Results3,J$3,FALSE)","v":0},{"$f":"VLOOKUP($A66,Results3,K$4,FALSE)","v":0},{"$f":"VLOOKUP($A66,Results3,L$3,FALSE)","v":0},{"$f":"VLOOKUP($A66,Results3,M$4,FALSE)","v":0},{"$f":"VLOOKUP($A66,Results3,N$3,FALSE)","v":0},{"$f":"VLOOKUP($A66,Results3,O$4,FALSE)","v":0},{"$f":"VLOOKUP($A66,Results3,P$3,FALSE)","v":0},{"$f":"VLOOKUP($A66,Results3,Q$4,FALSE)","v":0},{"$f":"VLOOKUP($A66,Results3,R$3,FALSE)","v":0},{"$f":"VLOOKUP($A66,Results3,S$4,FALSE)","v":0},{"$f":"VLOOKUP($A66,Results3,T$3,FALSE)","v":0},{"$f":"VLOOKUP($A66,Results3,U$4,FALSE)","v":0},{"$f":"VLOOKUP($A66,Results3,V$3,FALSE)","v":0},{"$f":"VLOOKUP($A66,Results3,W$4,FALSE)","v":0},0,0,0,8,0,0,0]
[{"$f":"B68&\"A\"","v":"16A"},null,null,{"$f":"VLOOKUP(B68,EventsOrder,4,FALSE)","v":"U15 Male"},"A",null,{"$f":"VLOOKUP($A67,Results3,G$3,FALSE)","v":"Dylan Bowley"},null,{"$f":"VLOOKUP($A67,Results3,I$3,FALSE)","v":"Tom Slater"},null,{"$f":"VLOOKUP($A67,Results3,K$3,FALSE)","v":0},null,{"$f":"VLOOKUP($A67,Results3,M$3,FALSE)","v":"James Walker"},null,{"$f":"VLOOKUP($A67,Results3,O$3,FALSE)","v":"Reece Westwood"},null,{"$f":"VLOOKUP($A67,Results3,Q$3,FALSE)","v":""},null,{"$f":"VLOOKUP($A67,Results3,S$3,FALSE)","v":""},null,{"$f":"VLOOKUP($A67,Results3,U$3,FALSE)","v":""},null,null,null,null,null,null,null,null,null,{"$f":"IF(LEN(G67)>1,1,0)","v":1}]
[{"$f":"B68&\"A\"","v":"16A"},16,{"$f":"VLOOKUP(B68,EventsOrder,2,FALSE)","v":12.4},null,null,null,{"$f":"VLOOKUP($A68,Results3,G$4,FALSE)","v":"Kett"},{"$f":"VLOOKUP($A68,Results3,H$3,FALSE)","v":"2.10.8"},{"$f":"VLOOKUP($A68,Results3,I$4,FALSE)","v":"DASH"},{"$f":"VLOOKUP($A68,Results3,J$3,FALSE)","v":"2.19.3"},{"$f":"VLOOKUP($A68,Results3,K$4,FALSE)","v":"Wreake"},{"$f":"VLOOKUP($A68,Results3,L$3,FALSE)","v":"2.26.0"},{"$f":"VLOOKUP($A68,Results3,M$4,FALSE)","v":"Tam"},{"$f":"VLOOKUP($A68,Results3,N$3,FALSE)","v":"2.34.8"},{"$f":"VLOOKUP($A68,Results3,O$4,FALSE)","v":"Worc"},{"$f":"VLOOKUP($A68,Results3,P$3,FALSE)","v":0},{"$f":"VLOOKUP($A68,Results3,Q$4,FALSE)","v":0},{"$f":"VLOOKUP($A68,Results3,R$3,FALSE)","v":0},{"$f":"VLOOKUP($A68,Results3,S$4,FALSE)","v":0},{"$f":"VLOOKUP($A68,Results3,T$3,FALSE)","v":0},{"$f":"VLOOKUP($A68,Results3,U$4,FALSE)","v":0},{"$f":"VLOOKUP($A68,Results3,V$3,FALSE)","v":0},{"$f":"VLOOKUP($A68,Results3,W$4,FALSE)","v":0},{"$f":"VLOOKUP($A68,Results3,X$4,FALSE)","v":0},7,8,0,5,6,4]
[{"$f":"B68&\"B\"","v":"16B"},null,null,{"$f":"VLOOKUP(B68,EventsOrder,3,FALSE)","v":"800m"},"B",null,{"$f":"VLOOKUP($A69,Results3,G$3,FALSE)","v":"Adam Boon"},null,{"$f":"VLOOKUP($A69,Results3,I$3,FALSE)","v":"Reece Westwood"},null,{"$f":"VLOOKUP($A69,Results3,K$3,FALSE)","v":""},null,{"$f":"VLOOKUP($A69,Results3,M$3,FALSE)","v":""},null,{"$f":"VLOOKUP($A69,Results3,O$3,FALSE)","v":""},null,{"$f":"VLOOKUP($A69,Results3,Q$3,FALSE)","v":""},null,{"$f":"VLOOKUP($A69,Results3,S$3,FALSE)","v":""},null,{"$f":"VLOOKUP($A69,Results3,U$3,FALSE)","v":""}]
[{"$f":"B68&\"B\"","v":"16B"},null,null,null,null,null,{"$f":"VLOOKUP($A70,Results3,G$4,FALSE)","v":"DASH"},{"$f":"VLOOKUP($A70,Results3,H$3,FALSE)","v":"2.20.5"},{"$f":"VLOOKUP($A70,Results3,I$4,FALSE)","v":"Worc"},{"$f":"VLOOKUP($A70,Results3,J$3,FALSE)","v":"2.50.3"},{"$f":"VLOOKUP($A70,Results3,K$4,FALSE)","v":0},{"$f":"VLOOKUP($A70,Results3,L$3,FALSE)","v":0},{"$f":"VLOOKUP($A70,Results3,M$4,FALSE)","v":0},{"$f":"VLOOKUP($A70,Results3,N$3,FALSE)","v":0},{"$f":"VLOOKUP($A70,Results3,O$4,FALSE)","v":0},{"$f":"VLOOKUP($A70,Results3,P$3,FALSE)","v":0},{"$f":"VLOOKUP($A70,Results3,Q$4,FALSE)","v":0},{"$f":"VLOOKUP($A70,Results3,R$3,FALSE)","v":0},{"$f":"VLOOKUP($A70,Results3,S$4,FALSE)","v":0},{"$f":"VLOOKUP($A70,Results3,T$3,FALSE)","v":0},{"$f":"VLOOKUP($A70,Results3,U$4,FALSE)","v":0},{"$f":"VLOOKUP($A70,Results3,V$3,FALSE)","v":0},{"$f":"VLOOKUP($A70,Results3,W$4,FALSE)","v":0},0,8,0,0,0,0,7]
[{"$f":"B72&\"A\"","v":"17A"},null,null,{"$f":"VLOOKUP(B72,EventsOrder,4,FALSE)","v":"U15 Female"},"A",null,{"$f":"VLOOKUP($A71,Results3,G$3,FALSE)","v":"Emma Shorwood"},null,{"$f":"VLOOKUP($A71,Results3,I$3,FALSE)","v":"Danielle Hopkins"},null,{"$f":"VLOOKUP($A71,Results3,K$3,FALSE)","v":"Holly Griffiths-Brown"},null,{"$f":"VLOOKUP($A71,Results3,M$3,FALSE)","v":"Alex Beale"},null,{"$f":"VLOOKUP($A71,Results3,O$3,FALSE)","v":""},null,{"$f":"VLOOKUP($A71,Results3,Q$3,FALSE)","v":""},null,{"$f":"VLOOKUP($A71,Results3,S$3,FALSE)","v":""},null,{"$f":"VLOOKUP($A71,Results3,U$3,FALSE)","v":""},null,null,null,null,null,null,null,null,null,{"$f":"IF(LEN(G71)>1,1,0)","v":1}]
[{"$f":"B72&\"A\"","v":"17A"},17,{"$f":"VLOOKUP(B72,EventsOrder,2,FALSE)","v":12.55},null,null,null,{"$f":"VLOOKUP($A72,Results3,G$4,FALSE)","v":"DASH"},{"$f":"VLOOKUP($A72,Results3,H$3,FALSE)","v":1.65},{"$f":"VLOOKUP($A72,Results3,I$4,FALSE)","v":"Worc"},{"$f":"VLOOKUP($A72,Results3,J$3,FALSE)","v":1.6},{"$f":"VLOOKUP($A72,Results3,K$4,FALSE)","v":"Rad"},{"$f":"VLOOKUP($A72,Results3,L$3,FALSE)","v":1.45},{"$f":"VLOOKUP($A72,Results3,M$4,FALSE)","v":"Kett"},{"$f":"VLOOKUP($A72,Results3,N$3,FALSE)","v":1.1000000000000001},{"$f":"VLOOKUP($A72,Results3,O$4,FALSE)","v":0},{"$f":"VLOOKUP($A72,Results3,P$3,FALSE)","v":0},{"$f":"VLOOKUP($A72,Results3,Q$4,FALSE)","v":0},{"$f":"VLOOKUP($A72,Results3,R$3,FALSE)","v":0},{"$f":"VLOOKUP($A72,Results3,S$4,FALSE)","v":0},{"$f":"VLOOKUP($A72,Results3,T$3,FALSE)","v":0},{"$f":"VLOOKUP($A72,Results3,U$4,FALSE)","v":0},{"$f":"VLOOKUP($A72,Results3,V$3,FALSE)","v":0},{"$f":"VLOOKUP($A72,Results3,W$4,FALSE)","v":0},{"$f":"VLOOKUP($A72,Results3,X$4,FALSE)","v":0},8,5,6,0,0,7]
[{"$f":"B72&\"B\"","v":"17B"},null,null,{"$f":"VLOOKUP(B72,EventsOrder,3,FALSE)","v":"High Jump"},"B",null,{"$f":"VLOOKUP($A73,Results3,G$3,FALSE)","v":""},null,{"$f":"VLOOKUP($A73,Results3,I$3,FALSE)","v":""},null,{"$f":"VLOOKUP($A73,Results3,K$3,FALSE)","v":""},null,{"$f":"VLOOKUP($A73,Results3,M$3,FALSE)","v":""},null,{"$f":"VLOOKUP($A73,Results3,O$3,FALSE)","v":""},null,{"$f":"VLOOKUP($A73,Results3,Q$3,FALSE)","v":""},null,{"$f":"VLOOKUP($A73,Results3,S$3,FALSE)","v":""},null,{"$f":"VLOOKUP($A73,Results3,U$3,FALSE)","v":""}]
[{"$f":"B72&\"B\"","v":"17B"},null,null,null,null,null,{"$f":"VLOOKUP($A74,Results3,G$4,FALSE)","v":0},{"$f":"VLOOKUP($A74,Results3,H$3,FALSE)","v":0},{"$f":"VLOOKUP($A74,Results3,I$4,FALSE)","v":0},{"$f":"VLOOKUP($A74,Results3,J$3,FALSE)","v":0},{"$f":"VLOOKUP($A74,Results3,K$4,FALSE)","v":0},{"$f":"VLOOKUP($A74,Results3,L$3,FALSE)","v":0},{"$f":"VLOOKUP($A74,Results3,M$4,FALSE)","v":0},{"$f":"VLOOKUP($A74,Results3,N$3,FALSE)","v":0},{"$f":"VLOOKUP($A74,Results3,O$4,FALSE)","v":0},{"$f":"VLOOKUP($A74,Results3,P$3,FALSE)","v":0},{"$f":"VLOOKUP($A74,Results3,Q$4,FALSE)","v":0},{"$f":"VLOOKUP($A74,Results3,R$3,FALSE)","v":0},{"$f":"VLOOKUP($A74,Results3,S$4,FALSE)","v":0},{"$f":"VLOOKUP($A74,Results3,T$3,FALSE)","v":0},{"$f":"VLOOKUP($A74,Results3,U$4,FALSE)","v":0},{"$f":"VLOOKUP($A74,Results3,V$3,FALSE)","v":0},{"$f":"VLOOKUP($A74,Results3,W$4,FALSE)","v":0},0,0,0,0,0,0,0]
[{"$f":"B76&\"A\"","v":"18A"},null,null,{"$f":"VLOOKUP(B76,EventsOrder,4,FALSE)","v":"U17 Men"},"A",null,{"$f":"VLOOKUP($A75,Results3,G$3,FALSE)","v":"Jayvana Pramolo"},null,{"$f":"VLOOKUP($A75,Results3,I$3,FALSE)","v":"Blake Strickland Bennett"},null,{"$f":"VLOOKUP($A75,Results3,K$3,FALSE)","v":"Charlie McGlinchey"},null,{"$f":"VLOOKUP($A75,Results3,M$3,FALSE)","v":"Phil Capewell"},null,{"$f":"VLOOKUP($A75,Results3,O$3,FALSE)","v":""},null,{"$f":"VLOOKUP($A75,Results3,Q$3,FALSE)","v":""},null,{"$f":"VLOOKUP($A75,Results3,S$3,FALSE)","v":""},null,{"$f":"VLOOKUP($A75,Results3,U$3,FALSE)","v":""}]
[{"$f":"B76&\"A\"","v":"18A"},18,{"$f":"VLOOKUP(B76,EventsOrder,2,FALSE)","v":12.5},null,null,null,{"$f":"VLOOKUP($A76,Results3,G$4,FALSE)","v":"DASH"},{"$f":"VLOOKUP($A76,Results3,H$3,FALSE)","v":"2.10.3"},{"$f":"VLOOKUP($A76,Results3,I$4,FALSE)","v":"Rad"},{"$f":"VLOOKUP($A76,Results3,J$3,FALSE)","v":"2.11.2"},{"$f":"VLOOKUP($A76,Results3,K$4,FALSE)","v":"Wreake"},{"$f":"VLOOKUP($A76,Results3,L$3,FALSE)","v":"2.11.7"},{"$f":"VLOOKUP($A76,Results3,M$4,FALSE)","v":"Worc"},{"$f":"VLOOKUP($A76,Results3,N$3,FALSE)","v":"2.15.8"},{"$f":"VLOOKUP($A76,Results3,O$4,FALSE)","v":0},{"$f":"VLOOKUP($A76,Results3,P$3,FALSE)","v":0},{"$f":"VLOOKUP($A76,Results3,Q$4,FALSE)","v":0},{"$f":"VLOOKUP($A76,Results3,R$3,FALSE)","v":0},{"$f":"VLOOKUP($A76,Results3,S$4,FALSE)","v":0},{"$f":"VLOOKUP($A76,Results3,T$3,FALSE)","v":0},{"$f":"VLOOKUP($A76,Results3,U$4,FALSE)","v":0},{"$f":"VLOOKUP($A76,Results3,V$3,FALSE)","v":0},{"$f":"VLOOKUP($A76,Results3,W$4,FALSE)","v":0},{"$f":"VLOOKUP($A76,Results3,X$4,FALSE)","v":0},8,0,7,0,6,5,{"$f":"IF(LEN(G76)>1,1,0)","v":1}]
[{"$f":"B76&\"B\"","v":"18B"},null,null,{"$f":"VLOOKUP(B76,EventsOrder,3,FALSE)","v":"800m"},"B",null,{"$f":"VLOOKUP($A77,Results3,G$3,FALSE)","v":"George Palmer"},null,{"$f":"VLOOKUP($A77,Results3,I$3,FALSE)","v":"Rory Sear"},null,{"$f":"VLOOKUP($A77,Results3,K$3,FALSE)","v":""},null,{"$f":"VLOOKUP($A77,Results3,M$3,FALSE)","v":""},null,{"$f":"VLOOKUP($A77,Results3,O$3,FALSE)","v":""},null,{"$f":"VLOOKUP($A77,Results3,Q$3,FALSE)","v":""},null,{"$f":"VLOOKUP($A77,Results3,S$3,FALSE)","v":""},null,{"$f":"VLOOKUP($A77,Results3,U$3,FALSE)","v":""}]
[{"$f":"B76&\"B\"","v":"18B"},null,null,null,null,null,{"$f":"VLOOKUP($A78,Results3,G$4,FALSE)","v":"Wreake"},{"$f":"VLOOKUP($A78,Results3,H$3,FALSE)","v":"2.21.5"},{"$f":"VLOOKUP($A78,Results3,I$4,FALSE)","v":"Rad"},{"$f":"VLOOKUP($A78,Results3,J$3,FALSE)","v":"2.29.2"},{"$f":"VLOOKUP($A78,Results3,K$4,FALSE)","v":0},{"$f":"VLOOKUP($A78,Results3,L$3,FALSE)","v":0},{"$f":"VLOOKUP($A78,Results3,M$4,FALSE)","v":0},{"$f":"VLOOKUP($A78,Results3,N$3,FALSE)","v":0},{"$f":"VLOOKUP($A78,Results3,O$4,FALSE)","v":0},{"$f":"VLOOKUP($A78,Results3,P$3,FALSE)","v":0},{"$f":"VLOOKUP($A78,Results3,Q$4,FALSE)","v":0},{"$f":"VLOOKUP($A78,Results3,R$3,FALSE)","v":0},{"$f":"VLOOKUP($A78,Results3,S$4,FALSE)","v":0},{"$f":"VLOOKUP($A78,Results3,T$3,FALSE)","v":0},{"$f":"VLOOKUP($A78,Results3,U$4,FALSE)","v":0},{"$f":"VLOOKUP($A78,Results3,V$3,FALSE)","v":0},{"$f":"VLOOKUP($A78,Results3,W$4,FALSE)","v":0},0,0,0,7,0,8,0]
[{"$f":"B80&\"A\"","v":"19A"},null,null,{"$f":"VLOOKUP(B80,EventsOrder,4,FALSE)","v":"U17 Female"},"A",null,{"$f":"VLOOKUP($A79,Results3,G$3,FALSE)","v":"Georgia Clarke"},null,{"$f":"VLOOKUP($A79,Results3,I$3,FALSE)","v":"Helen Dubber"},null,{"$f":"VLOOKUP($A79,Results3,K$3,FALSE)","v":"Victoria Harte"},null,{"$f":"VLOOKUP($A79,Results3,M$3,FALSE)","v":""},null,{"$f":"VLOOKUP($A79,Results3,O$3,FALSE)","v":""},null,{"$f":"VLOOKUP($A79,Results3,Q$3,FALSE)","v":""},null,{"$f":"VLOOKUP($A79,Results3,S$3,FALSE)","v":""},null,{"$f":"VLOOKUP($A79,Results3,U$3,FALSE)","v":""}]
[{"$f":"B80&\"A\"","v":"19A"},19,{"$f":"VLOOKUP(B80,EventsOrder,2,FALSE)","v":1},null,null,null,{"$f":"VLOOKUP($A80,Results3,G$4,FALSE)","v":"Worc"},{"$f":"VLOOKUP($A80,Results3,H$3,FALSE)","v":12.7},{"$f":"VLOOKUP($A80,Results3,I$4,FALSE)","v":"Ban"},{"$f":"VLOOKUP($A80,Results3,J$3,FALSE)","v":12.9},{"$f":"VLOOKUP($A80,Results3,K$4,FALSE)","v":"Rad"},{"$f":"VLOOKUP($A80,Results3,L$3,FALSE)","v":13.8},{"$f":"VLOOKUP($A80,Results3,M$4,FALSE)","v":0},{"$f":"VLOOKUP($A80,Results3,N$3,FALSE)","v":0},{"$f":"VLOOKUP($A80,Results3,O$4,FALSE)","v":0},{"$f":"VLOOKUP($A80,Results3,P$3,FALSE)","v":0},{"$f":"VLOOKUP($A80,Results3,Q$4,FALSE)","v":0},{"$f":"VLOOKUP($A80,Results3,R$3,FALSE)","v":0},{"$f":"VLOOKUP($A80,Results3,S$4,FALSE)","v":0},{"$f":"VLOOKUP($A80,Results3,T$3,FALSE)","v":0},{"$f":"VLOOKUP($A80,Results3,U$4,FALSE)","v":0},{"$f":"VLOOKUP($A80,Results3,V$3,FALSE)","v":0},{"$f":"VLOOKUP($A80,Results3,W$4,FALSE)","v":7},{"$f":"VLOOKUP($A80,Results3,X$4,FALSE)","v":0},0,0,6,0,0,8]
[{"$f":"B80&\"B\"","v":"19B"},null,null,{"$f":"VLOOKUP(B80,EventsOrder,3,FALSE)","v":"80m hurdles (U17)"},"B",null,{"$f":"VLOOKUP($A81,Results3,G$3,FALSE)","v":"Megan Baker"},null,{"$f":"VLOOKUP($A81,Results3,I$3,FALSE)","v":"Abigail Gill"},null,{"$f":"VLOOKUP($A81,Results3,K$3,FALSE)","v":"Paige Cooper"},null,{"$f":"VLOOKUP($A81,Results3,M$3,FALSE)","v":""},null,{"$f":"VLOOKUP($A81,Results3,O$3,FALSE)","v":""},null,{"$f":"VLOOKUP($A81,Results3,Q$3,FALSE)","v":""},null,{"$f":"VLOOKUP($A81,Results3,S$3,FALSE)","v":""},null,{"$f":"VLOOKUP($A81,Results3,U$3,FALSE)","v":""}]
[{"$f":"B80&\"B\"","v":"19B"},null,null,null,null,null,{"$f":"VLOOKUP($A82,Results3,G$4,FALSE)","v":"Rad"},{"$f":"VLOOKUP($A82,Results3,H$3,FALSE)","v":14},{"$f":"VLOOKUP($A82,Results3,I$4,FALSE)","v":"Worc"},{"$f":"VLOOKUP($A82,Results3,J$3,FALSE)","v":16.100000000000001},{"$f":"VLOOKUP($A82,Results3,K$4,FALSE)","v":"Ban"},{"$f":"VLOOKUP($A82,Results3,L$3,FALSE)","v":"DNF"},{"$f":"VLOOKUP($A82,Results3,M$4,FALSE)","v":0},{"$f":"VLOOKUP($A82,Results3,N$3,FALSE)","v":0},{"$f":"VLOOKUP($A82,Results3,O$4,FALSE)","v":0},{"$f":"VLOOKUP($A82,Results3,P$3,FALSE)","v":0},{"$f":"VLOOKUP($A82,Results3,Q$4,FALSE)","v":0},{"$f":"VLOOKUP($A82,Results3,R$3,FALSE)","v":0},{"$f":"VLOOKUP($A82,Results3,S$4,FALSE)","v":0},{"$f":"VLOOKUP($A82,Results3,T$3,FALSE)","v":0},{"$f":"VLOOKUP($A82,Results3,U$4,FALSE)","v":0},{"$f":"VLOOKUP($A82,Results3,V$3,FALSE)","v":0},{"$f":"VLOOKUP($A82,Results3,W$4,FALSE)","v":0},0,0,0,8,0,0,7,{"$f":"IF(LEN(G82)>1,1,0)","v":1}]
[{"$f":"B84&\"A\"","v":"20A"},null,null,{"$f":"VLOOKUP(B84,EventsOrder,4,FALSE)","v":"U15 Male"},"A",null,{"$f":"VLOOKUP($A83,Results3,G$3,FALSE)","v":"Lewis-Morgan Barton"},null,{"$f":"VLOOKUP($A83,Results3,I$3,FALSE)","v":""},null,{"$f":"VLOOKUP($A83,Results3,K$3,FALSE)","v":""},null,{"$f":"VLOOKUP($A83,Results3,M$3,FALSE)","v":""},null,{"$f":"VLOOKUP($A83,Results3,O$3,FALSE)","v":""},null,{"$f":"VLOOKUP($A83,Results3,Q$3,FALSE)","v":""},null,{"$f":"VLOOKUP($A83,Results3,S$3,FALSE)","v":""},null,{"$f":"VLOOKUP($A83,Results3,U$3,FALSE)","v":""}]
[{"$f":"B84&\"A\"","v":"20A"},20,{"$f":"VLOOKUP(B84,EventsOrder,2,FALSE)","v":1.05},null,null,null,{"$f":"VLOOKUP($A84,Results3,G$4,FALSE)","v":"Kett"},{"$f":"VLOOKUP($A84,Results3,H$3,FALSE)","v":13.8},{"$f":"VLOOKUP($A84,Results3,I$4,FALSE)","v":0},{"$f":"VLOOKUP($A84,Results3,J$3,FALSE)","v":0},{"$f":"VLOOKUP($A84,Results3,K$4,FALSE)","v":0},{"$f":"VLOOKUP($A84,Results3,L$3,FALSE)","v":0},{"$f":"VLOOKUP($A84,Results3,M$4,FALSE)","v":0},{"$f":"VLOOKUP($A84,Results3,N$3,FALSE)","v":0},{"$f":"VLOOKUP($A84,Results3,O$4,FALSE)","v":0},{"$f":"VLOOKUP($A84,Results3,P$3,FALSE)","v":0},{"$f":"VLOOKUP($A84,Results3,Q$4,FALSE)","v":0},{"$f":"VLOOKUP($A84,Results3,R$3,FALSE)","v":0},{"$f":"VLOOKUP($A84,Results3,S$4,FALSE)","v":0},{"$f":"VLOOKUP($A84,Results3,T$3,FALSE)","v":0},{"$f":"VLOOKUP($A84,Results3,U$4,FALSE)","v":0},{"$f":"VLOOKUP($A84,Results3,V$3,FALSE)","v":0},{"$f":"VLOOKUP($A84,Results3,W$4,FALSE)","v":0},{"$f":"VLOOKUP($A84,Results3,X$4,FALSE)","v":0},0,8,0,0,0,0]
[{"$f":"B84&\"B\"","v":"20B"},null,null,{"$f":"VLOOKUP(B84,EventsOrder,3,FALSE)","v":"80m hurdles"},"B",null,{"$f":"VLOOKUP($A85,Results3,G$3,FALSE)","v":""},null,{"$f":"VLOOKUP($A85,Results3,I$3,FALSE)","v":""},null,{"$f":"VLOOKUP($A85,Results3,K$3,FALSE)","v":""},null,{"$f":"VLOOKUP($A85,Results3,M$3,FALSE)","v":""},null,{"$f":"VLOOKUP($A85,Results3,O$3,FALSE)","v":""},null,{"$f":"VLOOKUP($A85,Results3,Q$3,FALSE)","v":""},null,{"$f":"VLOOKUP($A85,Results3,S$3,FALSE)","v":""},null,{"$f":"VLOOKUP($A85,Results3,U$3,FALSE)","v":""}]
[{"$f":"B84&\"B\"","v":"20B"},null,null,null,null,null,{"$f":"VLOOKUP($A86,Results3,G$4,FALSE)","v":0},{"$f":"VLOOKUP($A86,Results3,H$3,FALSE)","v":0},{"$f":"VLOOKUP($A86,Results3,I$4,FALSE)","v":0},{"$f":"VLOOKUP($A86,Results3,J$3,FALSE)","v":0},{"$f":"VLOOKUP($A86,Results3,K$4,FALSE)","v":0},{"$f":"VLOOKUP($A86,Results3,L$3,FALSE)","v":0},{"$f":"VLOOKUP($A86,Results3,M$4,FALSE)","v":0},{"$f":"VLOOKUP($A86,Results3,N$3,FALSE)","v":0},{"$f":"VLOOKUP($A86,Results3,O$4,FALSE)","v":0},{"$f":"VLOOKUP($A86,Results3,P$3,FALSE)","v":0},{"$f":"VLOOKUP($A86,Results3,Q$4,FALSE)","v":0},{"$f":"VLOOKUP($A86,Results3,R$3,FALSE)","v":0},{"$f":"VLOOKUP($A86,Results3,S$4,FALSE)","v":0},{"$f":"VLOOKUP($A86,Results3,T$3,FALSE)","v":0},{"$f":"VLOOKUP($A86,Results3,U$4,FALSE)","v":0},{"$f":"VLOOKUP($A86,Results3,V$3,FALSE)","v":0},{"$f":"VLOOKUP($A86,Results3,W$4,FALSE)","v":0},0,0,0,0,0,0,0]
[{"$f":"B88&\"A\"","v":"21A"},null,null,{"$f":"VLOOKUP(B88,EventsOrder,4,FALSE)","v":"U15 Female"},"A",null,{"$f":"VLOOKUP($A87,Results3,G$3,FALSE)","v":"Ellie Harrison"},null,{"$f":"VLOOKUP($A87,Results3,I$3,FALSE)","v":"Blainne Conway"},null,{"$f":"VLOOKUP($A87,Results3,K$3,FALSE)","v":"Lauren Garside"},null,{"$f":"VLOOKUP($A87,Results3,M$3,FALSE)","v":"Niamh Darby"},null,{"$f":"VLOOKUP($A87,Results3,O$3,FALSE)","v":"Robyn Swain"},null,{"$f":"VLOOKUP($A87,Results3,Q$3,FALSE)","v":"Emelina Darvell"},null,{"$f":"VLOOKUP($A87,Results3,S$3,FALSE)","v":"Poppy Tott-Buswell"},null,{"$f":"VLOOKUP($A87,Results3,U$3,FALSE)","v":"Eve Clawley"}]
[{"$f":"B88&\"A\"","v":"21A"},21,{"$f":"VLOOKUP(B88,EventsOrder,2,FALSE)","v":1},null,null,null,{"$f":"VLOOKUP($A88,Results3,G$4,FALSE)","v":"Worc"},{"$f":"VLOOKUP($A88,Results3,H$3,FALSE)","v":4.53},{"$f":"VLOOKUP($A88,Results3,I$4,FALSE)","v":"Kett"},{"$f":"VLOOKUP($A88,Results3,J$3,FALSE)","v":4.2300000000000004},{"$f":"VLOOKUP($A88,Results3,K$4,FALSE)","v":"Bic"},{"$f":"VLOOKUP($A88,Results3,L$3,FALSE)","v":4.1500000000000004},{"$f":"VLOOKUP($A88,Results3,M$4,FALSE)","v":"DASH"},{"$f":"VLOOKUP($A88,Results3,N$3,FALSE)","v":4.07},{"$f":"VLOOKUP($A88,Results3,O$4,FALSE)","v":"Rad"},{"$f":"VLOOKUP($A88,Results3,P$3,FALSE)","v":3.97},{"$f":"VLOOKUP($A88,Results3,Q$4,FALSE)","v":"Ban"},{"$f":"VLOOKUP($A88,Results3,R$3,FALSE)","v":3.97},{"$f":"VLOOKUP($A88,Results3,S$4,FALSE)","v":"Wreake"},{"$f":"VLOOKUP($A88,Results3,T$3,FALSE)","v":3.83},{"$f":"VLOOKUP($A88,Results3,U$4,FALSE)","v":"Tam"},{"$f":"VLOOKUP($A88,Results3,V$3,FALSE)","v":3.78},{"$f":"VLOOKUP($A88,Results3,W$4,FALSE)","v":3},{"$f":"VLOOKUP($A88,Results3,X$4,FALSE)","v":6},5,7,4,1,2,8,{"$f":"IF(LEN(G88)>1,1,0)","v":1}]
[{"$f":"B88&\"B\"","v":"21B"},null,null,{"$f":"VLOOKUP(B88,EventsOrder,3,FALSE)","v":"Long Jump"},"B",null,{"$f":"VLOOKUP($A89,Results3,G$3,FALSE)","v":"Sarah-Jane Ollis"},null,{"$f":"VLOOKUP($A89,Results3,I$3,FALSE)","v":"Elizabeth Eskender"},null,{"$f":"VLOOKUP($A89,Results3,K$3,FALSE)","v":"Jessica Grainger"},null,{"$f":"VLOOKUP($A89,Results3,M$3,FALSE)","v":"Olivia Butler"},null,{"$f":"VLOOKUP($A89,Results3,O$3,FALSE)","v":"Sophie Thorpe"},null,{"$f":"VLOOKUP($A89,Results3,Q$3,FALSE)","v":"Harmony Hart"},null,{"$f":"VLOOKUP($A89,Results3,S$3,FALSE)","v":"Tia Brown"},null,{"$f":"VLOOKUP($A89,Results3,U$3,FALSE)","v":""}]
[{"$f":"B88&\"B\"","v":"21B"},null,null,null,null,null,{"$f":"VLOOKUP($A90,Results3,G$4,FALSE)","v":"Worc"},{"$f":"VLOOKUP($A90,Results3,H$3,FALSE)","v":4.2},{"$f":"VLOOKUP($A90,Results3,I$4,FALSE)","v":"Ban"},{"$f":"VLOOKUP($A90,Results3,J$3,FALSE)","v":3.89},{"$f":"VLOOKUP($A90,Results3,K$4,FALSE)","v":"DASH"},{"$f":"VLOOKUP($A90,Results3,L$3,FALSE)","v":3.87},{"$f":"VLOOKUP($A90,Results3,M$4,FALSE)","v":"Rad"},{"$f":"VLOOKUP($A90,Results3,N$3,FALSE)","v":3.66},{"$f":"VLOOKUP($A90,Results3,O$4,FALSE)","v":"Wreake"},{"$f":"VLOOKUP($A90,Results3,P$3,FALSE)","v":3.45},{"$f":"VLOOKUP($A90,Results3,Q$4,FALSE)","v":"Kett"},{"$f":"VLOOKUP($A90,Results3,R$3,FALSE)","v":3.32},{"$f":"VLOOKUP($A90,Results3,S$4,FALSE)","v":"Bic"},{"$f":"VLOOKUP($A90,Results3,T$3,FALSE)","v":3.03},{"$f":"VLOOKUP($A90,Results3,U$4,FALSE)","v":0},{"$f":"VLOOKUP($A90,Results3,V$3,FALSE)","v":0},{"$f":"VLOOKUP($A90,Results3,W$4,FALSE)","v":7},2,6,3,5,0,4,8]
[{"$f":"B92&\"A\"","v":"22A"},null,null,{"$f":"VLOOKUP(B92,EventsOrder,4,FALSE)","v":"U15 Male"},"A",null,{"$f":"VLOOKUP($A91,Results3,G$3,FALSE)","v":"Will Smith"},null,{"$f":"VLOOKUP($A91,Results3,I$3,FALSE)","v":"Euan Jones"},null,{"$f":"VLOOKUP($A91,Results3,K$3,FALSE)","v":"Andrew Jay"},null,{"$f":"VLOOKUP($A91,Results3,M$3,FALSE)","v":"Dylan Bowley"},null,{"$f":"VLOOKUP($A91,Results3,O$3,FALSE)","v":"Will Simms"},null,{"$f":"VLOOKUP($A91,Results3,Q$3,FALSE)","v":"Harry Walters"},null,{"$f":"VLOOKUP($A91,Results3,S$3,FALSE)","v":"James Walker"},null,{"$f":"VLOOKUP($A91,Results3,U$3,FALSE)","v":""}]
[{"$f":"B92&\"A\"","v":"22A"},22,{"$f":"VLOOKUP(B92,EventsOrder,2,FALSE)","v":1},null,null,null,{"$f":"VLOOKUP($A92,Results3,G$4,FALSE)","v":"Rad"},{"$f":"VLOOKUP($A92,Results3,H$3,FALSE)","v":8.61},{"$f":"VLOOKUP($A92,Results3,I$4,FALSE)","v":"Wreake"},{"$f":"VLOOKUP($A92,Results3,J$3,FALSE)","v":8.43},{"$f":"VLOOKUP($A92,Results3,K$4,FALSE)","v":"Worc"},{"$f":"VLOOKUP($A92,Results3,L$3,FALSE)","v":7.98},{"$f":"VLOOKUP($A92,Results3,M$4,FALSE)","v":"Kett"},{"$f":"VLOOKUP($A92,Results3,N$3,FALSE)","v":6.76},{"$f":"VLOOKUP($A92,Results3,O$4,FALSE)","v":"Bic"},{"$f":"VLOOKUP($A92,Results3,P$3,FALSE)","v":6.4},{"$f":"VLOOKUP($A92,Results3,Q$4,FALSE)","v":"DASH"},{"$f":"VLOOKUP($A92,Results3,R$3,FALSE)","v":6.04},{"$f":"VLOOKUP($A92,Results3,S$4,FALSE)","v":"Tam"},{"$f":"VLOOKUP($A92,Results3,T$3,FALSE)","v":5.7},{"$f":"VLOOKUP($A92,Results3,U$4,FALSE)","v":0},{"$f":"VLOOKUP($A92,Results3,V$3,FALSE)","v":0},{"$f":"VLOOKUP($A92,Results3,W$4,FALSE)","v":0},{"$f":"VLOOKUP($A92,Results3,X$4,FALSE)","v":4},3,5,8,2,7,6]
[{"$f":"B92&\"B\"","v":"22B"},null,null,{"$f":"VLOOKUP(B92,EventsOrder,3,FALSE)","v":"Shot"},"B",null,{"$f":"VLOOKUP($A93,Results3,G$3,FALSE)","v":"Ethan Nelis"},null,{"$f":"VLOOKUP($A93,Results3,I$3,FALSE)","v":"Josh Rocks"},null,{"$f":"VLOOKUP($A93,Results3,K$3,FALSE)","v":"Reece Westwood"},null,{"$f":"VLOOKUP($A93,Results3,M$3,FALSE)","v":"Samuel Worfolk"},null,{"$f":"VLOOKUP($A93,Results3,O$3,FALSE)","v":"Cameron King"},null,{"$f":"VLOOKUP($A93,Results3,Q$3,FALSE)","v":"Zak Thurley"},null,{"$f":"VLOOKUP($A93,Results3,S$3,FALSE)","v":""},null,{"$f":"VLOOKUP($A93,Results3,U$3,FALSE)","v":""}]
[{"$f":"B92&\"B\"","v":"22B"},null,null,null,null,null,{"$f":"VLOOKUP($A94,Results3,G$4,FALSE)","v":"Kett"},{"$f":"VLOOKUP($A94,Results3,H$3,FALSE)","v":6.4},{"$f":"VLOOKUP($A94,Results3,I$4,FALSE)","v":"Wreake"},{"$f":"VLOOKUP($A94,Results3,J$3,FALSE)","v":5.99},{"$f":"VLOOKUP($A94,Results3,K$4,FALSE)","v":"Worc"},{"$f":"VLOOKUP($A94,Results3,L$3,FALSE)","v":5.75},{"$f":"VLOOKUP($A94,Results3,M$4,FALSE)","v":"Bic"},{"$f":"VLOOKUP($A94,Results3,N$3,FALSE)","v":5.69},{"$f":"VLOOKUP($A94,Results3,O$4,FALSE)","v":"Rad"},{"$f":"VLOOKUP($A94,Results3,P$3,FALSE)","v":4.07},{"$f":"VLOOKUP($A94,Results3,Q$4,FALSE)","v":"DASH"},{"$f":"VLOOKUP($A94,Results3,R$3,FALSE)","v":3.83},{"$f":"VLOOKUP($A94,Results3,S$4,FALSE)","v":0},{"$f":"VLOOKUP($A94,Results3,T$3,FALSE)","v":0},{"$f":"VLOOKUP($A94,Results3,U$4,FALSE)","v":0},{"$f":"VLOOKUP($A94,Results3,V$3,FALSE)","v":0},{"$f":"VLOOKUP($A94,Results3,W$4,FALSE)","v":0},5,3,8,4,0,7,6,{"$f":"IF(LEN(G94)>1,1,0)","v":1}]
[{"$f":"B96&\"A\"","v":"23A"},null,null,{"$f":"VLOOKUP(B96,EventsOrder,4,FALSE)","v":"U17 Men"},"A",null,{"$f":"VLOOKUP($A95,Results3,G$3,FALSE)","v":"Harry Woodcock"},null,{"$f":"VLOOKUP($A95,Results3,I$3,FALSE)","v":"Josh Cannell"},null,{"$f":"VLOOKUP($A95,Results3,K$3,FALSE)","v":""},null,{"$f":"VLOOKUP($A95,Results3,M$3,FALSE)","v":""},null,{"$f":"VLOOKUP($A95,Results3,O$3,FALSE)","v":""},null,{"$f":"VLOOKUP($A95,Results3,Q$3,FALSE)","v":""},null,{"$f":"VLOOKUP($A95,Results3,S$3,FALSE)","v":""},null,{"$f":"VLOOKUP($A95,Results3,U$3,FALSE)","v":""}]
[{"$f":"B96&\"A\"","v":"23A"},23,{"$f":"VLOOKUP(B96,EventsOrder,2,FALSE)","v":1},null,null,null,{"$f":"VLOOKUP($A96,Results3,G$4,FALSE)","v":"Rad"},{"$f":"VLOOKUP($A96,Results3,H$3,FALSE)","v":19.04},{"$f":"VLOOKUP($A96,Results3,I$4,FALSE)","v":"Kett"},{"$f":"VLOOKUP($A96,Results3,J$3,FALSE)","v":13.76},{"$f":"VLOOKUP($A96,Results3,K$4,FALSE)","v":0},{"$f":"VLOOKUP($A96,Results3,L$3,FALSE)","v":0},{"$f":"VLOOKUP($A96,Results3,M$4,FALSE)","v":0},{"$f":"VLOOKUP($A96,Results3,N$3,FALSE)","v":0},{"$f":"VLOOKUP($A96,Results3,O$4,FALSE)","v":0},{"$f":"VLOOKUP($A96,Results3,P$3,FALSE)","v":0},{"$f":"VLOOKUP($A96,Results3,Q$4,FALSE)","v":0},{"$f":"VLOOKUP($A96,Results3,R$3,FALSE)","v":0},{"$f":"VLOOKUP($A96,Results3,S$4,FALSE)","v":0},{"$f":"VLOOKUP($A96,Results3,T$3,FALSE)","v":0},{"$f":"VLOOKUP($A96,Results3,U$4,FALSE)","v":0},{"$f":"VLOOKUP($A96,Results3,V$3,FALSE)","v":0},{"$f":"VLOOKUP($A96,Results3,W$4,FALSE)","v":0},{"$f":"VLOOKUP($A96,Results3,X$4,FALSE)","v":0},0,7,8,0,0,0]
[{"$f":"B96&\"B\"","v":"23B"},null,null,{"$f":"VLOOKUP(B96,EventsOrder,3,FALSE)","v":"Discus"},"B",null,{"$f":"VLOOKUP($A97,Results3,G$3,FALSE)","v":""},null,{"$f":"VLOOKUP($A97,Results3,I$3,FALSE)","v":""},null,{"$f":"VLOOKUP($A97,Results3,K$3,FALSE)","v":""},null,{"$f":"VLOOKUP($A97,Results3,M$3,FALSE)","v":""},null,{"$f":"VLOOKUP($A97,Results3,O$3,FALSE)","v":""},null,{"$f":"VLOOKUP($A97,Results3,Q$3,FALSE)","v":""},null,{"$f":"VLOOKUP($A97,Results3,S$3,FALSE)","v":""},null,{"$f":"VLOOKUP($A97,Results3,U$3,FALSE)","v":""}]
[{"$f":"B96&\"B\"","v":"23B"},null,null,null,null,null,{"$f":"VLOOKUP($A98,Results3,G$4,FALSE)","v":0},{"$f":"VLOOKUP($A98,Results3,H$3,FALSE)","v":0},{"$f":"VLOOKUP($A98,Results3,I$4,FALSE)","v":0},{"$f":"VLOOKUP($A98,Results3,J$3,FALSE)","v":0},{"$f":"VLOOKUP($A98,Results3,K$4,FALSE)","v":0},{"$f":"VLOOKUP($A98,Results3,L$3,FALSE)","v":0},{"$f":"VLOOKUP($A98,Results3,M$4,FALSE)","v":0},{"$f":"VLOOKUP($A98,Results3,N$3,FALSE)","v":0},{"$f":"VLOOKUP($A98,Results3,O$4,FALSE)","v":0},{"$f":"VLOOKUP($A98,Results3,P$3,FALSE)","v":0},{"$f":"VLOOKUP($A98,Results3,Q$4,FALSE)","v":0},{"$f":"VLOOKUP($A98,Results3,R$3,FALSE)","v":0},{"$f":"VLOOKUP($A98,Results3,S$4,FALSE)","v":0},{"$f":"VLOOKUP($A98,Results3,T$3,FALSE)","v":0},{"$f":"VLOOKUP($A98,Results3,U$4,FALSE)","v":0},{"$f":"VLOOKUP($A98,Results3,V$3,FALSE)","v":0},{"$f":"VLOOKUP($A98,Results3,W$4,FALSE)","v":0},0,0,0,0,0,0,0]
[]
[null,{"$f":"COUNTIF(B60:B99,\">0\")","v":10},null,null,null,null,null,null,null,null,null,null,null,null,null,null,null,null,null,null,"Total Points",null,{"$f":"SUM(W59:W99)+W53","v":78},{"$f":"SUM(X59:X99)+X53","v":70},88,126,191,60,127,198,{"$f":"SUM(AE59:AE98)","v":8},{"$f":"SUM(AF99:AF99)","v":0},0,0,0,0,0]
[null,null,null,null,null,null,null,null,null,null,null,null,null,null,null,null,null,null,null,null,"Match Position",null,{"$f":"RANK(W100,$W100:$AD100)","v":6},7,5,4,2,8,3,1]
[]
[null,"Event No",null,null,null,null,null,null,null,null,{"$f":"K8","v":"Heart of England League Results in Event Order"},null,null,null,null,null,null,null,null,null,null,null,{"$f":"W$8","v":"Banbury"},{"$f":"X$8","v":"Bicester"},"Dudley & S'bridge","Kettering","Radley","Tamworth","Wreake Runners","Worcester"]
[null,null,null,"Division",{"$f":"'Event Details'!D$9","v":2},null,null,null,null,null,"Venue",{"$f":"'Event Details'!F$17","v":"Worcester"},null,null,null,null,"Date",{"$f":"'Event Details'!B$17","v":"5th June 2016"}]
[null,null,"Time","Event",null,"NS","First",null,"Second",null,"Third",null,"Fourth",null,"Fifth",null,"Sixth",null,"Seventh",null,"Eighth",null,{"$f":"W$10","v":"J"},{"$f":"X$10","v":"P"},"B","I","R","F","X","Y"]
[{"$f":"B107&\"A\"","v":"24A"},null,null,{"$f":"VLOOKUP(B107,EventsOrder,4,FALSE)","v":"U13 Male"},"A",null,{"$f":"VLOOKUP($A106,Results3,G$3,FALSE)","v":""},null,{"$f":"VLOOKUP($A106,Results3,I$3,FALSE)","v":""},null,{"$f":"VLOOKUP($A106,Results3,K$3,FALSE)","v":""},null,{"$f":"VLOOKUP($A106,Results3,M$3,FALSE)","v":""},null,{"$f":"VLOOKUP($A106,Results3,O$3,FALSE)","v":""},null,{"$f":"VLOOKUP($A106,Results3,Q$3,FALSE)","v":""},null,{"$f":"VLOOKUP($A106,Results3,S$3,FALSE)","v":""},null,{"$f":"VLOOKUP($A106,Results3,U$3,FALSE)","v":""},null,null,null,null,null,null,null,null,null,{"$f":"IF(LEN(G106)>1,1,0)","v":0}]
[{"$f":"B107&\"A\"","v":"24A"},24,{"$f":"VLOOKUP(B107,EventsOrder,2,FALSE)","v":1},null,null,null,{"$f":"VLOOKUP($A107,Results3,G$4,FALSE)","v":0},{"$f":"VLOOKUP($A107,Results3,H$3,FALSE)","v":0},{"$f":"VLOOKUP($A107,Results3,I$4,FALSE)","v":0},{"$f":"VLOOKUP($A107,Results3,J$3,FALSE)","v":0},{"$f":"VLOOKUP($A107,Results3,K$4,FALSE)","v":0},{"$f":"VLOOKUP($A107,Results3,L$3,FALSE)","v":0},{"$f":"VLOOKUP($A107,Results3,M$4,FALSE)","v":0},{"$f":"VLOOKUP($A107,Results3,N$3,FALSE)","v":0},{"$f":"VLOOKUP($A107,Results3,O$4,FALSE)","v":0},{"$f":"VLOOKUP($A107,Results3,P$3,FALSE)","v":0},{"$f":"VLOOKUP($A107,Results3,Q$4,FALSE)","v":0},{"$f":"VLOOKUP($A107,Results3,R$3,FALSE)","v":0},{"$f":"VLOOKUP($A107,Results3,S$4,FALSE)","v":0},{"$f":"VLOOKUP($A107,Results3,T$3,FALSE)","v":0},{"$f":"VLOOKUP($A107,Results3,U$4,FALSE)","v":0},{"$f":"VLOOKUP($A107,Results3,V$3,FALSE)","v":0},{"$f":"VLOOKUP($A107,Results3,W$4,FALSE)","v":0},{"$f":"VLOOKUP($A107,Results3,X$4,FALSE)","v":0},0,0,0,0,0,0]
[{"$f":"B107&\"B\"","v":"24B"},null,null,{"$f":"VLOOKUP(B107,EventsOrder,3,FALSE)","v":"Javelin"},"B",null,{"$f":"VLOOKUP($A108,Results3,G$3,FALSE)","v":""},null,{"$f":"VLOOKUP($A108,Results3,I$3,FALSE)","v":""},null,{"$f":"VLOOKUP($A108,Results3,K$3,FALSE)","v":""},null,{"$f":"VLOOKUP($A108,Results3,M$3,FALSE)","v":""},null,{"$f":"VLOOKUP($A108,Results3,O$3,FALSE)","v":""},null,{"$f":"VLOOKUP($A108,Results3,Q$3,FALSE)","v":""},null,{"$f":"VLOOKUP($A108,Results3,S$3,FALSE)","v":""},null,{"$f":"VLOOKUP($A108,Results3,U$3,FALSE)","v":""}]
[{"$f":"B107&\"B\"","v":"24B"},null,null,null,null,null,{"$f":"VLOOKUP($A109,Results3,G$4,FALSE)","v":0},{"$f":"VLOOKUP($A109,Results3,H$3,FALSE)","v":0},{"$f":"VLOOKUP($A109,Results3,I$4,FALSE)","v":0},{"$f":"VLOOKUP($A109,Results3,J$3,FALSE)","v":0},{"$f":"VLOOKUP($A109,Results3,K$4,FALSE)","v":0},{"$f":"VLOOKUP($A109,Results3,L$3,FALSE)","v":0},{"$f":"VLOOKUP($A109,Results3,M$4,FALSE)","v":0},{"$f":"VLOOKUP($A109,Results3,N$3,FALSE)","v":0},{"$f":"VLOOKUP($A109,Results3,O$4,FALSE)","v":0},{"$f":"VLOOKUP($A109,Results3,P$3,FALSE)","v":0},{"$f":"VLOOKUP($A109,Results3,Q$4,FALSE)","v":0},{"$f":"VLOOKUP($A109,Results3,R$3,FALSE)","v":0},{"$f":"VLOOKUP($A109,Results3,S$4,FALSE)","v":0},{"$f":"VLOOKUP($A109,Results3,T$3,FALSE)","v":0},{"$f":"VLOOKUP($A109,Results3,U$4,FALSE)","v":0},{"$f":"VLOOKUP($A109,Results3,V$3,FALSE)","v":0},{"$f":"VLOOKUP($A109,Results3,W$4,FALSE)","v":0},0,0,0,0,0,0,0]
[{"$f":"B111&\"A\"","v":"25A"},null,null,{"$f":"VLOOKUP(B111,EventsOrder,4,FALSE)","v":"U13 Female"},"A",null,{"$f":"VLOOKUP($A110,Results3,G$3,FALSE)","v":"Indie King"},null,{"$f":"VLOOKUP($A110,Results3,I$3,FALSE)","v":"Katelyn Griffiths"},null,{"$f":"VLOOKUP($A110,Results3,K$3,FALSE)","v":"Kaela Nelson"},null,{"$f":"VLOOKUP($A110,Results3,M$3,FALSE)","v":"Emily Pearce"},null,{"$f":"VLOOKUP($A110,Results3,O$3,FALSE)","v":"Mia Watts"},null,{"$f":"VLOOKUP($A110,Results3,Q$3,FALSE)","v":"Zara Gibbs"},null,{"$f":"VLOOKUP($A110,Results3,S$3,FALSE)","v":"Emilia Sims"},null,{"$f":"VLOOKUP($A110,Results3,U$3,FALSE)","v":"Raegan Sellers"},null,null,null,null,null,null,null,null,null,{"$f":"IF(LEN(G110)>1,1,0)","v":1}]
[{"$f":"B111&\"A\"","v":"25A"},25,{"$f":"VLOOKUP(B111,EventsOrder,2,FALSE)","v":1.1499999999999999},null,null,null,{"$f":"VLOOKUP($A111,Results3,G$4,FALSE)","v":"Wreake"},{"$f":"VLOOKUP($A111,Results3,H$3,FALSE)","v":"2.35.0"},{"$f":"VLOOKUP($A111,Results3,I$4,FALSE)","v":"Worc"},{"$f":"VLOOKUP($A111,Results3,J$3,FALSE)","v":"2.39.5"},{"$f":"VLOOKUP($A111,Results3,K$4,FALSE)","v":"Rad"},{"$f":"VLOOKUP($A111,Results3,L$3,FALSE)","v":"2.43.5"},{"$f":"VLOOKUP($A111,Results3,M$4,FALSE)","v":"Tam"},{"$f":"VLOOKUP($A111,Results3,N$3,FALSE)","v":"2.47.8"},{"$f":"VLOOKUP($A111,Results3,O$4,FALSE)","v":"Kett"},{"$f":"VLOOKUP($A111,Results3,P$3,FALSE)","v":"2.56.4"},{"$f":"VLOOKUP($A111,Results3,Q$4,FALSE)","v":"DASH"},{"$f":"VLOOKUP($A111,Results3,R$3,FALSE)","v":"2.58.6"},{"$f":"VLOOKUP($A111,Results3,S$4,FALSE)","v":"Bic"},{"$f":"VLOOKUP($A111,Results3,T$3,FALSE)","v":"3.07.2"},{"$f":"VLOOKUP($A111,Results3,U$4,FALSE)","v":"Ban"},{"$f":"VLOOKUP($A111,Results3,V$3,FALSE)","v":"3.11.9"},{"$f":"VLOOKUP($A111,Results3,W$4,FALSE)","v":1},{"$f":"VLOOKUP($A111,Results3,X$4,FALSE)","v":2},3,4,6,5,8,7]
[{"$f":"B111&\"B\"","v":"25B"},null,null,{"$f":"VLOOKUP(B111,EventsOrder,3,FALSE)","v":"800m"},"B",null,{"$f":"VLOOKUP($A112,Results3,G$3,FALSE)","v":"Flora Miskin-Young"},null,{"$f":"VLOOKUP($A112,Results3,I$3,FALSE)","v":"Olivia Tonkinson"},null,{"$f":"VLOOKUP($A112,Results3,K$3,FALSE)","v":"Alice Mason"},null,{"$f":"VLOOKUP($A112,Results3,M$3,FALSE)","v":"Elizabeth Anderson"},null,{"$f":"VLOOKUP($A112,Results3,O$3,FALSE)","v":"Libby Davis"},null,{"$f":"VLOOKUP($A112,Results3,Q$3,FALSE)","v":"Erin Fabri"},null,{"$f":"VLOOKUP($A112,Results3,S$3,FALSE)","v":"Amelia Brew"},null,{"$f":"VLOOKUP($A112,Results3,U$3,FALSE)","v":"Imogen Nix"}]
[{"$f":"B111&\"B\"","v":"25B"},null,null,null,null,null,{"$f":"VLOOKUP($A113,Results3,G$4,FALSE)","v":"Wreake"},{"$f":"VLOOKUP($A113,Results3,H$3,FALSE)","v":"2.38.5"},{"$f":"VLOOKUP($A113,Results3,I$4,FALSE)","v":"Worc"},{"$f":"VLOOKUP($A113,Results3,J$3,FALSE)","v":"2.46.8"},{"$f":"VLOOKUP($A113,Results3,K$4,FALSE)","v":"Tam"},{"$f":"VLOOKUP($A113,Results3,L$3,FALSE)","v":"2.51.5"},{"$f":"VLOOKUP($A113,Results3,M$4,FALSE)","v":"Ban"},{"$f":"VLOOKUP($A113,Results3,N$3,FALSE)","v":"3.03.6"},{"$f":"VLOOKUP($A113,Results3,O$4,FALSE)","v":"DASH"},{"$f":"VLOOKUP($A113,Results3,P$3,FALSE)","v":"3.10.7"},{"$f":"VLOOKUP($A113,Results3,Q$4,FALSE)","v":"Bic"},{"$f":"VLOOKUP($A113,Results3,R$3,FALSE)","v":"3.14.9"},{"$f":"VLOOKUP($A113,Results3,S$4,FALSE)","v":"Rad"},{"$f":"VLOOKUP($A113,Results3,T$3,FALSE)","v":"3.15.7"},{"$f":"VLOOKUP($A113,Results3,U$4,FALSE)","v":"Kett"},{"$f":"VLOOKUP($A113,Results3,V$3,FALSE)","v":"3.28.2"},{"$f":"VLOOKUP($A113,Results3,W$4,FALSE)","v":5},3,4,1,2,6,8,7]
[{"$f":"B115&\"A\"","v":"26A"},null,null,{"$f":"VLOOKUP(B115,EventsOrder,4,FALSE)","v":"U15 Female"},"A",null,{"$f":"VLOOKUP($A114,Results3,G$3,FALSE)","v":"Grace Slater"},null,{"$f":"VLOOKUP($A114,Results3,I$3,FALSE)","v":"Martha Adams"},null,{"$f":"VLOOKUP($A114,Results3,K$3,FALSE)","v":"Zena Challenger"},null,{"$f":"VLOOKUP($A114,Results3,M$3,FALSE)","v":"Deanna Clarke"},null,{"$f":"VLOOKUP($A114,Results3,O$3,FALSE)","v":"Molly Acton"},null,{"$f":"VLOOKUP($A114,Results3,Q$3,FALSE)","v":"Sian Lewis"},null,{"$f":"VLOOKUP($A114,Results3,S$3,FALSE)","v":"Olivia Knibb"},null,{"$f":"VLOOKUP($A114,Results3,U$3,FALSE)","v":""},null,null,null,null,null,null,null,null,null,{"$f":"IF(LEN(G114)>1,1,0)","v":1}]
[{"$f":"B115&\"A\"","v":"26A"},26,{"$f":"VLOOKUP(B115,EventsOrder,2,FALSE)","v":1.25},null,null,null,{"$f":"VLOOKUP($A115,Results3,G$4,FALSE)","v":"DASH"},{"$f":"VLOOKUP($A115,Results3,H$3,FALSE)","v":"2.29.4"},{"$f":"VLOOKUP($A115,Results3,I$4,FALSE)","v":"Rad"},{"$f":"VLOOKUP($A115,Results3,J$3,FALSE)","v":"2.30.0"},{"$f":"VLOOKUP($A115,Results3,K$4,FALSE)","v":"Wreake"},{"$f":"VLOOKUP($A115,Results3,L$3,FALSE)","v":"2.30.6"},{"$f":"VLOOKUP($A115,Results3,M$4,FALSE)","v":"Worc"},{"$f":"VLOOKUP($A115,Results3,N$3,FALSE)","v":"2.31.6"},{"$f":"VLOOKUP($A115,Results3,O$4,FALSE)","v":"Bic"},{"$f":"VLOOKUP($A115,Results3,P$3,FALSE)","v":"2.33.7"},{"$f":"VLOOKUP($A115,Results3,Q$4,FALSE)","v":"Tam"},{"$f":"VLOOKUP($A115,Results3,R$3,FALSE)","v":"2.41.0"},{"$f":"VLOOKUP($A115,Results3,S$4,FALSE)","v":"Kett"},{"$f":"VLOOKUP($A115,Results3,T$3,FALSE)","v":"2.48.8"},{"$f":"VLOOKUP($A115,Results3,U$4,FALSE)","v":0},{"$f":"VLOOKUP($A115,Results3,V$3,FALSE)","v":0},{"$f":"VLOOKUP($A115,Results3,W$4,FALSE)","v":0},{"$f":"VLOOKUP($A115,Results3,X$4,FALSE)","v":4},8,2,7,3,6,5]
[{"$f":"B115&\"B\"","v":"26B"},null,null,{"$f":"VLOOKUP(B115,EventsOrder,3,FALSE)","v":"800m"},"B",null,{"$f":"VLOOKUP($A116,Results3,G$3,FALSE)","v":"Sophie Thorpe"},null,{"$f":"VLOOKUP($A116,Results3,I$3,FALSE)","v":"Hannah Mott"},null,{"$f":"VLOOKUP($A116,Results3,K$3,FALSE)","v":"Elise Blake"},null,{"$f":"VLOOKUP($A116,Results3,M$3,FALSE)","v":""},null,{"$f":"VLOOKUP($A116,Results3,O$3,FALSE)","v":""},null,{"$f":"VLOOKUP($A116,Results3,Q$3,FALSE)","v":""},null,{"$f":"VLOOKUP($A116,Results3,S$3,FALSE)","v":""},null,{"$f":"VLOOKUP($A116,Results3,U$3,FALSE)","v":""}]
[{"$f":"B115&\"B\"","v":"26B"},null,null,null,null,null,{"$f":"VLOOKUP($A117,Results3,G$4,FALSE)","v":"Wreake"},{"$f":"VLOOKUP($A117,Results3,H$3,FALSE)","v":"2.42.4"},{"$f":"VLOOKUP($A117,Results3,I$4,FALSE)","v":"Rad"},{"$f":"VLOOKUP($A117,Results3,J$3,FALSE)","v":"2.51.9"},{"$f":"VLOOKUP($A117,Results3,K$4,FALSE)","v":"Worc"},{"$f":"VLOOKUP($A117,Results3,L$3,FALSE)","v":"2.52.5"},{"$f":"VLOOKUP($A117,Results3,M$4,FALSE)","v":0},{"$f":"VLOOKUP($A117,Results3,N$3,FALSE)","v":0},{"$f":"VLOOKUP($A117,Results3,O$4,FALSE)","v":0},{"$f":"VLOOKUP($A117,Results3,P$3,FALSE)","v":0},{"$f":"VLOOKUP($A117,Results3,Q$4,FALSE)","v":0},{"$f":"VLOOKUP($A117,Results3,R$3,FALSE)","v":0},{"$f":"VLOOKUP($A117,Results3,S$4,FALSE)","v":0},{"$f":"VLOOKUP($A117,Results3,T$3,FALSE)","v":0},{"$f":"VLOOKUP($A117,Results3,U$4,FALSE)","v":0},{"$f":"VLOOKUP($A117,Results3,V$3,FALSE)","v":0},{"$f":"VLOOKUP($A117,Results3,W$4,FALSE)","v":0},0,0,0,7,0,8,6]
[{"$f":"B119&\"A\"","v":"27A"},null,null,{"$f":"VLOOKUP(B119,EventsOrder,4,FALSE)","v":"U17 Men"},"A",null,{"$f":"VLOOKUP($A118,Results3,G$3,FALSE)","v":"Blake Strickland Bennett"},null,{"$f":"VLOOKUP($A118,Results3,I$3,FALSE)","v":""},null,{"$f":"VLOOKUP($A118,Results3,K$3,FALSE)","v":""},null,{"$f":"VLOOKUP($A118,Results3,M$3,FALSE)","v":""},null,{"$f":"VLOOKUP($A118,Results3,O$3,FALSE)","v":""},null,{"$f":"VLOOKUP($A118,Results3,Q$3,FALSE)","v":""},null,{"$f":"VLOOKUP($A118,Results3,S$3,FALSE)","v":""},null,{"$f":"VLOOKUP($A118,Results3,U$3,FALSE)","v":""},null,null,null,null,null,null,null,null,null,{"$f":"IF(LEN(G118)>1,1,0)","v":1}]
[{"$f":"B119&\"A\"","v":"27A"},27,{"$f":"VLOOKUP(B119,EventsOrder,2,FALSE)","v":1.35},null,null,null,{"$f":"VLOOKUP($A119,Results3,G$4,FALSE)","v":"Rad"},{"$f":"VLOOKUP($A119,Results3,H$3,FALSE)","v":15.6},{"$f":"VLOOKUP($A119,Results3,I$4,FALSE)","v":0},{"$f":"VLOOKUP($A119,Results3,J$3,FALSE)","v":0},{"$f":"VLOOKUP($A119,Results3,K$4,FALSE)","v":0},{"$f":"VLOOKUP($A119,Results3,L$3,FALSE)","v":0},{"$f":"VLOOKUP($A119,Results3,M$4,FALSE)","v":0},{"$f":"VLOOKUP($A119,Results3,N$3,FALSE)","v":0},{"$f":"VLOOKUP($A119,Results3,O$4,FALSE)","v":0},{"$f":"VLOOKUP($A119,Results3,P$3,FALSE)","v":0},{"$f":"VLOOKUP($A119,Results3,Q$4,FALSE)","v":0},{"$f":"VLOOKUP($A119,Results3,R$3,FALSE)","v":0},{"$f":"VLOOKUP($A119,Results3,S$4,FALSE)","v":0},{"$f":"VLOOKUP($A119,Results3,T$3,FALSE)","v":0},{"$f":"VLOOKUP($A119,Results3,U$4,FALSE)","v":0},{"$f":"VLOOKUP($A119,Results3,V$3,FALSE)","v":0},{"$f":"VLOOKUP($A119,Results3,W$4,FALSE)","v":0},{"$f":"VLOOKUP($A119,Results3,X$4,FALSE)","v":0},0,0,8,0,0,0]
[{"$f":"B119&\"B\"","v":"27B"},null,null,{"$f":"VLOOKUP(B119,EventsOrder,3,FALSE)","v":"100m hurdles"},"B",null,{"$f":"VLOOKUP($A120,Results3,G$3,FALSE)","v":"Harry New"},null,{"$f":"VLOOKUP($A120,Results3,I$3,FALSE)","v":""},null,{"$f":"VLOOKUP($A120,Results3,K$3,FALSE)","v":""},null,{"$f":"VLOOKUP($A120,Results3,M$3,FALSE)","v":""},null,{"$f":"VLOOKUP($A120,Results3,O$3,FALSE)","v":""},null,{"$f":"VLOOKUP($A120,Results3,Q$3,FALSE)","v":""},null,{"$f":"VLOOKUP($A120,Results3,S$3,FALSE)","v":""},null,{"$f":"VLOOKUP($A120,Results3,U$3,FALSE)","v":""}]
[{"$f":"B119&\"B\"","v":"27B"},null,null,null,null,null,{"$f":"VLOOKUP($A121,Results3,G$4,FALSE)","v":"Rad"},{"$f":"VLOOKUP($A121,Results3,H$3,FALSE)","v":15.2},{"$f":"VLOOKUP($A121,Results3,I$4,FALSE)","v":0},{"$f":"VLOOKUP($A121,Results3,J$3,FALSE)","v":0},{"$f":"VLOOKUP($A121,Results3,K$4,FALSE)","v":0},{"$f":"VLOOKUP($A121,Results3,L$3,FALSE)","v":0},{"$f":"VLOOKUP($A121,Results3,M$4,FALSE)","v":0},{"$f":"VLOOKUP($A121,Results3,N$3,FALSE)","v":0},{"$f":"VLOOKUP($A121,Results3,O$4,FALSE)","v":0},{"$f":"VLOOKUP($A121,Results3,P$3,FALSE)","v":0},{"$f":"VLOOKUP($A121,Results3,Q$4,FALSE)","v":0},{"$f":"VLOOKUP($A121,Results3,R$3,FALSE)","v":0},{"$f":"VLOOKUP($A121,Results3,S$4,FALSE)","v":0},{"$f":"VLOOKUP($A121,Results3,T$3,FALSE)","v":0},{"$f":"VLOOKUP($A121,Results3,U$4,FALSE)","v":0},{"$f":"VLOOKUP($A121,Results3,V$3,FALSE)","v":0},{"$f":"VLOOKUP($A121,Results3,W$4,FALSE)","v":0},0,0,0,8,0,0,0]
[{"$f":"B123&\"A\"","v":"28A"},null,null,{"$f":"VLOOKUP(B123,EventsOrder,4,FALSE)","v":"U17 F/Women"},"A",null,{"$f":"VLOOKUP($A122,Results3,G$3,FALSE)","v":"Faith Brew U20"},null,{"$f":"VLOOKUP($A122,Results3,I$3,FALSE)","v":"Harriett Jolley"},null,{"$f":"VLOOKUP($A122,Results3,K$3,FALSE)","v":"Fern Harrison"},null,{"$f":"VLOOKUP($A122,Results3,M$3,FALSE)","v":""},null,{"$f":"VLOOKUP($A122,Results3,O$3,FALSE)","v":""},null,{"$f":"VLOOKUP($A122,Results3,Q$3,FALSE)","v":""},null,{"$f":"VLOOKUP($A122,Results3,S$3,FALSE)","v":""},null,{"$f":"VLOOKUP($A122,Results3,U$3,FALSE)","v":""},null,null,null,null,null,null,null,null,null,{"$f":"IF(LEN(G122)>1,1,0)","v":1}]
[{"$f":"B123&\"A\"","v":"28A"},28,{"$f":"VLOOKUP(B123,EventsOrder,2,FALSE)","v":1.4},null,null,null,{"$f":"VLOOKUP($A123,Results3,G$4,FALSE)","v":"Rad"},{"$f":"VLOOKUP($A123,Results3,H$3,FALSE)","v":"2.24.4"},{"$f":"VLOOKUP($A123,Results3,I$4,FALSE)","v":"Kett"},{"$f":"VLOOKUP($A123,Results3,J$3,FALSE)","v":"3.32.2"},{"$f":"VLOOKUP($A123,Results3,K$4,FALSE)","v":"Wreake"},{"$f":"VLOOKUP($A123,Results3,L$3,FALSE)","v":"2.44.5"},{"$f":"VLOOKUP($A123,Results3,M$4,FALSE)","v":0},{"$f":"VLOOKUP($A123,Results3,N$3,FALSE)","v":0},{"$f":"VLOOKUP($A123,Results3,O$4,FALSE)","v":0},{"$f":"VLOOKUP($A123,Results3,P$3,FALSE)","v":0},{"$f":"VLOOKUP($A123,Results3,Q$4,FALSE)","v":0},{"$f":"VLOOKUP($A123,Results3,R$3,FALSE)","v":0},{"$f":"VLOOKUP($A123,Results3,S$4,FALSE)","v":0},{"$f":"VLOOKUP($A123,Results3,T$3,FALSE)","v":0},{"$f":"VLOOKUP($A123,Results3,U$4,FALSE)","v":0},{"$f":"VLOOKUP($A123,Results3,V$3,FALSE)","v":0},{"$f":"VLOOKUP($A123,Results3,W$4,FALSE)","v":0},{"$f":"VLOOKUP($A123,Results3,X$4,FALSE)","v":0},0,7,8,0,6,0]
[{"$f":"B123&\"B\"","v":"28B"},null,null,{"$f":"VLOOKUP(B123,EventsOrder,3,FALSE)","v":"800m"},"B",null,{"$f":"VLOOKUP($A124,Results3,G$3,FALSE)","v":"Jess Anstice U23"},null,{"$f":"VLOOKUP($A124,Results3,I$3,FALSE)","v":"Charlotte Maywood"},null,{"$f":"VLOOKUP($A124,Results3,K$3,FALSE)","v":""},null,{"$f":"VLOOKUP($A124,Results3,M$3,FALSE)","v":""},null,{"$f":"VLOOKUP($A124,Results3,O$3,FALSE)","v":""},null,{"$f":"VLOOKUP($A124,Results3,Q$3,FALSE)","v":""},null,{"$f":"VLOOKUP($A124,Results3,S$3,FALSE)","v":""},null,{"$f":"VLOOKUP($A124,Results3,U$3,FALSE)","v":""}]
[{"$f":"B123&\"B\"","v":"28B"},null,null,null,null,null,{"$f":"VLOOKUP($A125,Results3,G$4,FALSE)","v":"Rad"},{"$f":"VLOOKUP($A125,Results3,H$3,FALSE)","v":"2.28.5"},{"$f":"VLOOKUP($A125,Results3,I$4,FALSE)","v":"Kett"},{"$f":"VLOOKUP($A125,Results3,J$3,FALSE)","v":"2.36.3"},{"$f":"VLOOKUP($A125,Results3,K$4,FALSE)","v":0},{"$f":"VLOOKUP($A125,Results3,L$3,FALSE)","v":0},{"$f":"VLOOKUP($A125,Results3,M$4,FALSE)","v":0},{"$f":"VLOOKUP($A125,Results3,N$3,FALSE)","v":0},{"$f":"VLOOKUP($A125,Results3,O$4,FALSE)","v":0},{"$f":"VLOOKUP($A125,Results3,P$3,FALSE)","v":0},{"$f":"VLOOKUP($A125,Results3,Q$4,FALSE)","v":0},{"$f":"VLOOKUP($A125,Results3,R$3,FALSE)","v":0},{"$f":"VLOOKUP($A125,Results3,S$4,FALSE)","v":0},{"$f":"VLOOKUP($A125,Results3,T$3,FALSE)","v":0},{"$f":"VLOOKUP($A125,Results3,U$4,FALSE)","v":0},{"$f":"VLOOKUP($A125,Results3,V$3,FALSE)","v":0},{"$f":"VLOOKUP($A125,Results3,W$4,FALSE)","v":0},0,0,7,8,0,0,0]
[{"$f":"B127&\"A\"","v":"31A"},null,null,{"$f":"VLOOKUP(B127,EventsOrder,4,FALSE)","v":"U13 Female"},"A",null,{"$f":"VLOOKUP($A126,Results3,G$3,FALSE)","v":"Amber Hopkins"},null,{"$f":"VLOOKUP($A126,Results3,I$3,FALSE)","v":"Scarlett Maxwell-Munn"},null,{"$f":"VLOOKUP($A126,Results3,K$3,FALSE)","v":"Sophie Howie"},null,{"$f":"VLOOKUP($A126,Results3,M$3,FALSE)","v":"Sian Hubbard"},null,{"$f":"VLOOKUP($A126,Results3,O$3,FALSE)","v":"Georgia Usher"},null,{"$f":"VLOOKUP($A126,Results3,Q$3,FALSE)","v":"Kaela Nelson"},null,{"$f":"VLOOKUP($A126,Results3,S$3,FALSE)","v":"Kiki Thurley"},null,{"$f":"VLOOKUP($A126,Results3,U$3,FALSE)","v":""},null,null,null,null,null,null,null,null,null,{"$f":"IF(LEN(G126)>1,1,0)","v":1}]
[{"$f":"B127&\"A\"","v":"31A"},31,{"$f":"VLOOKUP(B127,EventsOrder,2,FALSE)","v":1.4},null,null,null,{"$f":"VLOOKUP($A127,Results3,G$4,FALSE)","v":"Worc"},{"$f":"VLOOKUP($A127,Results3,H$3,FALSE)","v":1.38},{"$f":"VLOOKUP($A127,Results3,I$4,FALSE)","v":"Kett"},{"$f":"VLOOKUP($A127,Results3,J$3,FALSE)","v":1.25},{"$f":"VLOOKUP($A127,Results3,K$4,FALSE)","v":"Ban"},{"$f":"VLOOKUP($A127,Results3,L$3,FALSE)","v":1.25},{"$f":"VLOOKUP($A127,Results3,M$4,FALSE)","v":"Tam"},{"$f":"VLOOKUP($A127,Results3,N$3,FALSE)","v":1.1499999999999999},{"$f":"VLOOKUP($A127,Results3,O$4,FALSE)","v":"Bic"},{"$f":"VLOOKUP($A127,Results3,P$3,FALSE)","v":1.1499999999999999},{"$f":"VLOOKUP($A127,Results3,Q$4,FALSE)","v":"Rad"},{"$f":"VLOOKUP($A127,Results3,R$3,FALSE)","v":1.1000000000000001},{"$f":"VLOOKUP($A127,Results3,S$4,FALSE)","v":"DASH"},{"$f":"VLOOKUP($A127,Results3,T$3,FALSE)","v":1},{"$f":"VLOOKUP($A127,Results3,U$4,FALSE)","v":0},{"$f":"VLOOKUP($A127,Results3,V$3,FALSE)","v":0},{"$f":"VLOOKUP($A127,Results3,W$4,FALSE)","v":6},{"$f":"VLOOKUP($A127,Results3,X$4,FALSE)","v":4},2,7,3,5,0,8]
[{"$f":"B127&\"B\"","v":"31B"},null,null,{"$f":"VLOOKUP(B127,EventsOrder,3,FALSE)","v":"High Jump"},"B",null,{"$f":"VLOOKUP($A128,Results3,G$3,FALSE)","v":""},null,{"$f":"VLOOKUP($A128,Results3,I$3,FALSE)","v":""},null,{"$f":"VLOOKUP($A128,Results3,K$3,FALSE)","v":""},null,{"$f":"VLOOKUP($A128,Results3,M$3,FALSE)","v":""},null,{"$f":"VLOOKUP($A128,Results3,O$3,FALSE)","v":""},null,{"$f":"VLOOKUP($A128,Results3,Q$3,FALSE)","v":""},null,{"$f":"VLOOKUP($A128,Results3,S$3,FALSE)","v":""},null,{"$f":"VLOOKUP($A128,Results3,U$3,FALSE)","v":""}]
[{"$f":"B127&\"B\"","v":"31B"},null,null,null,null,null,{"$f":"VLOOKUP($A129,Results3,G$4,FALSE)","v":0},{"$f":"VLOOKUP($A129,Results3,H$3,FALSE)","v":0},{"$f":"VLOOKUP($A129,Results3,I$4,FALSE)","v":0},{"$f":"VLOOKUP($A129,Results3,J$3,FALSE)","v":0},{"$f":"VLOOKUP($A129,Results3,K$4,FALSE)","v":0},{"$f":"VLOOKUP($A129,Results3,L$3,FALSE)","v":0},{"$f":"VLOOKUP($A129,Results3,M$4,FALSE)","v":0},{"$f":"VLOOKUP($A129,Results3,N$3,FALSE)","v":0},{"$f":"VLOOKUP($A129,Results3,O$4,FALSE)","v":0},{"$f":"VLOOKUP($A129,Results3,P$3,FALSE)","v":0},{"$f":"VLOOKUP($A129,Results3,Q$4,FALSE)","v":0},{"$f":"VLOOKUP($A129,Results3,R$3,FALSE)","v":0},{"$f":"VLOOKUP($A129,Results3,S$4,FALSE)","v":0},{"$f":"VLOOKUP($A129,Results3,T$3,FALSE)","v":0},{"$f":"VLOOKUP($A129,Results3,U$4,FALSE)","v":0},{"$f":"VLOOKUP($A129,Results3,V$3,FALSE)","v":0},{"$f":"VLOOKUP($A129,Results3,W$4,FALSE)","v":0},0,0,0,0,0,0,0]
[{"$f":"B131&\"A\"","v":"32A"},null,null,{"$f":"VLOOKUP(B131,EventsOrder,4,FALSE)","v":"U17 Men"},"A",null,{"$f":"VLOOKUP($A130,Results3,G$3,FALSE)","v":"Ollie Gould"},null,{"$f":"VLOOKUP($A130,Results3,I$3,FALSE)","v":"Elliot Couse"},null,{"$f":"VLOOKUP($A130,Results3,K$3,FALSE)","v":"Jayvana Pramolo"},null,{"$f":"VLOOKUP($A130,Results3,M$3,FALSE)","v":"Andrew Woods"},null,{"$f":"VLOOKUP($A130,Results3,O$3,FALSE)","v":"Charlie McGlinchey"},null,{"$f":"VLOOKUP($A130,Results3,Q$3,FALSE)","v":""},null,{"$f":"VLOOKUP($A130,Results3,S$3,FALSE)","v":""},null,{"$f":"VLOOKUP($A130,Results3,U$3,FALSE)","v":""},null,null,null,null,null,null,null,null,null,{"$f":"IF(LEN(G130)>1,1,0)","v":1}]
[{"$f":"B131&\"A\"","v":"32A"},32,{"$f":"VLOOKUP(B131,EventsOrder,2,FALSE)","v":1.3},null,null,null,{"$f":"VLOOKUP($A131,Results3,G$4,FALSE)","v":"Worc"},{"$f":"VLOOKUP($A131,Results3,H$3,FALSE)","v":6.23},{"$f":"VLOOKUP($A131,Results3,I$4,FALSE)","v":"Rad"},{"$f":"VLOOKUP($A131,Results3,J$3,FALSE)","v":5.52},{"$f":"VLOOKUP($A131,Results3,K$4,FALSE)","v":"DASH"},{"$f":"VLOOKUP($A131,Results3,L$3,FALSE)","v":4.18},{"$f":"VLOOKUP($A131,Results3,M$4,FALSE)","v":"Tam"},{"$f":"VLOOKUP($A131,Results3,N$3,FALSE)","v":4.0599999999999996},{"$f":"VLOOKUP($A131,Results3,O$4,FALSE)","v":"Wreake"},{"$f":"VLOOKUP($A131,Results3,P$3,FALSE)","v":3.58},{"$f":"VLOOKUP($A131,Results3,Q$4,FALSE)","v":0},{"$f":"VLOOKUP($A131,Results3,R$3,FALSE)","v":0},{"$f":"VLOOKUP($A131,Results3,S$4,FALSE)","v":0},{"$f":"VLOOKUP($A131,Results3,T$3,FALSE)","v":0},{"$f":"VLOOKUP($A131,Results3,U$4,FALSE)","v":0},{"$f":"VLOOKUP($A131,Results3,V$3,FALSE)","v":0},{"$f":"VLOOKUP($A131,Results3,W$4,FALSE)","v":0},{"$f":"VLOOKUP($A131,Results3,X$4,FALSE)","v":0},6,0,7,5,4,8]
[{"$f":"B131&\"B\"","v":"32B"},null,null,{"$f":"VLOOKUP(B131,EventsOrder,3,FALSE)","v":"Long Jump"},"B",null,{"$f":"VLOOKUP($A132,Results3,G$3,FALSE)","v":"Blake Strickland Bennett"},null,{"$f":"VLOOKUP($A132,Results3,I$3,FALSE)","v":"Josh Bentley"},null,{"$f":"VLOOKUP($A132,Results3,K$3,FALSE)","v":""},null,{"$f":"VLOOKUP($A132,Results3,M$3,FALSE)","v":""},null,{"$f":"VLOOKUP($A132,Results3,O$3,FALSE)","v":""},null,{"$f":"VLOOKUP($A132,Results3,Q$3,FALSE)","v":""},null,{"$f":"VLOOKUP($A132,Results3,S$3,FALSE)","v":""},null,{"$f":"VLOOKUP($A132,Results3,U$3,FALSE)","v":""}]
[{"$f":"B131&\"B\"","v":"32B"},null,null,null,null,null,{"$f":"VLOOKUP($A133,Results3,G$4,FALSE)","v":"Rad"},{"$f":"VLOOKUP($A133,Results3,H$3,FALSE)","v":5.23},{"$f":"VLOOKUP($A133,Results3,I$4,FALSE)","v":"Worc"},{"$f":"VLOOKUP($A133,Results3,J$3,FALSE)","v":5.08},{"$f":"VLOOKUP($A133,Results3,K$4,FALSE)","v":0},{"$f":"VLOOKUP($A133,Results3,L$3,FALSE)","v":0},{"$f":"VLOOKUP($A133,Results3,M$4,FALSE)","v":0},{"$f":"VLOOKUP($A133,Results3,N$3,FALSE)","v":0},{"$f":"VLOOKUP($A133,Results3,O$4,FALSE)","v":0},{"$f":"VLOOKUP($A133,Results3,P$3,FALSE)","v":0},{"$f":"VLOOKUP($A133,Results3,Q$4,FALSE)","v":0},{"$f":"VLOOKUP($A133,Results3,R$3,FALSE)","v":0},{"$f":"VLOOKUP($A133,Results3,S$4,FALSE)","v":0},{"$f":"VLOOKUP($A133,Results3,T$3,FALSE)","v":0},{"$f":"VLOOKUP($A133,Results3,U$4,FALSE)","v":0},{"$f":"VLOOKUP($A133,Results3,V$3,FALSE)","v":0},{"$f":"VLOOKUP($A133,Results3,W$4,FALSE)","v":0},0,0,0,8,0,0,7]
[{"$f":"B135&\"A\"","v":"35A"},null,null,{"$f":"VLOOKUP(B135,EventsOrder,4,FALSE)","v":"U13 Female"},"A",null,{"$f":"VLOOKUP($A134,Results3,G$3,FALSE)","v":"Niamh Kilgallen"},null,{"$f":"VLOOKUP($A134,Results3,I$3,FALSE)","v":"Isobel Orencas"},null,{"$f":"VLOOKUP($A134,Results3,K$3,FALSE)","v":"Tegan Armstrong"},null,{"$f":"VLOOKUP($A134,Results3,M$3,FALSE)","v":"Lottie Bentley"},null,{"$f":"VLOOKUP($A134,Results3,O$3,FALSE)","v":"Charlotte Cox"},null,{"$f":"VLOOKUP($A134,Results3,Q$3,FALSE)","v":"Poppy Edwards"},null,{"$f":"VLOOKUP($A134,Results3,S$3,FALSE)","v":"Erin Fabri"},null,{"$f":"VLOOKUP($A134,Results3,U$3,FALSE)","v":"Hannah Gadd"},null,null,null,null,null,null,null,null,null,{"$f":"IF(LEN(G134)>1,1,0)","v":1}]
[{"$f":"B135&\"A\"","v":"35A"},35,{"$f":"VLOOKUP(B135,EventsOrder,2,FALSE)","v":2.1},null,null,null,{"$f":"VLOOKUP($A135,Results3,G$4,FALSE)","v":"Tam"},{"$f":"VLOOKUP($A135,Results3,H$3,FALSE)","v":14.4},{"$f":"VLOOKUP($A135,Results3,I$4,FALSE)","v":"Wreake"},{"$f":"VLOOKUP($A135,Results3,J$3,FALSE)","v":14.5},{"$f":"VLOOKUP($A135,Results3,K$4,FALSE)","v":"Ban"},{"$f":"VLOOKUP($A135,Results3,L$3,FALSE)","v":14.5},{"$f":"VLOOKUP($A135,Results3,M$4,FALSE)","v":"Worc"},{"$f":"VLOOKUP($A135,Results3,N$3,FALSE)","v":14.7},{"$f":"VLOOKUP($A135,Results3,O$4,FALSE)","v":"Kett"},{"$f":"VLOOKUP($A135,Results3,P$3,FALSE)","v":14.8},{"$f":"VLOOKUP($A135,Results3,Q$4,FALSE)","v":"Rad"},{"$f":"VLOOKUP($A135,Results3,R$3,FALSE)","v":15},{"$f":"VLOOKUP($A135,Results3,S$4,FALSE)","v":"Bic"},{"$f":"VLOOKUP($A135,Results3,T$3,FALSE)","v":15.3},{"$f":"VLOOKUP($A135,Results3,U$4,FALSE)","v":"DASH"},{"$f":"VLOOKUP($A135,Results3,V$3,FALSE)","v":16.399999999999999},{"$f":"VLOOKUP($A135,Results3,W$4,FALSE)","v":6},{"$f":"VLOOKUP($A135,Results3,X$4,FALSE)","v":2},1,4,3,8,7,5]
[{"$f":"B135&\"B\"","v":"35B"},null,null,{"$f":"VLOOKUP(B135,EventsOrder,3,FALSE)","v":"100m"},"B",null,{"$f":"VLOOKUP($A136,Results3,G$3,FALSE)","v":"Evelyn Clarke"},null,{"$f":"VLOOKUP($A136,Results3,I$3,FALSE)","v":"Maddy Dowden"},null,{"$f":"VLOOKUP($A136,Results3,K$3,FALSE)","v":"Erin McMillian"},null,{"$f":"VLOOKUP($A136,Results3,M$3,FALSE)","v":"Emily Pearce"},null,{"$f":"VLOOKUP($A136,Results3,O$3,FALSE)","v":"Robyn Beale"},null,{"$f":"VLOOKUP($A136,Results3,Q$3,FALSE)","v":"Isabelle Wilson"},null,{"$f":"VLOOKUP($A136,Results3,S$3,FALSE)","v":"Imogen Ansell"},null,{"$f":"VLOOKUP($A136,Results3,U$3,FALSE)","v":""}]
[{"$f":"B135&\"B\"","v":"35B"},null,null,null,null,null,{"$f":"VLOOKUP($A137,Results3,G$4,FALSE)","v":"Worc"},{"$f":"VLOOKUP($A137,Results3,H$3,FALSE)","v":14.8},{"$f":"VLOOKUP($A137,Results3,I$4,FALSE)","v":"Ban"},{"$f":"VLOOKUP($A137,Results3,J$3,FALSE)","v":15.3},{"$f":"VLOOKUP($A137,Results3,K$4,FALSE)","v":"Rad"},{"$f":"VLOOKUP($A137,Results3,L$3,FALSE)","v":15.4},{"$f":"VLOOKUP($A137,Results3,M$4,FALSE)","v":"Tam"},{"$f":"VLOOKUP($A137,Results3,N$3,FALSE)","v":15.7},{"$f":"VLOOKUP($A137,Results3,O$4,FALSE)","v":"Kett"},{"$f":"VLOOKUP($A137,Results3,P$3,FALSE)","v":16},{"$f":"VLOOKUP($A137,Results3,Q$4,FALSE)","v":"Wreake"},{"$f":"VLOOKUP($A137,Results3,R$3,FALSE)","v":16.2},{"$f":"VLOOKUP($A137,Results3,S$4,FALSE)","v":"Bic"},{"$f":"VLOOKUP($A137,Results3,T$3,FALSE)","v":16.8},{"$f":"VLOOKUP($A137,Results3,U$4,FALSE)","v":0},{"$f":"VLOOKUP($A137,Results3,V$3,FALSE)","v":0},{"$f":"VLOOKUP($A137,Results3,W$4,FALSE)","v":7},2,0,4,6,5,3,8]
[{"$f":"B139&\"A\"","v":"36A"},null,null,{"$f":"VLOOKUP(B139,EventsOrder,4,FALSE)","v":"U15 Female"},"A",null,{"$f":"VLOOKUP($A138,Results3,G$3,FALSE)","v":"Josie Orange"},null,{"$f":"VLOOKUP($A138,Results3,I$3,FALSE)","v":"Sarah-Jane Ollis"},null,{"$f":"VLOOKUP($A138,Results3,K$3,FALSE)","v":"Annabelle Clotworthy"},null,{"$f":"VLOOKUP($A138,Results3,M$3,FALSE)","v":"Isobel Fisher"},null,{"$f":"VLOOKUP($A138,Results3,O$3,FALSE)","v":"Sydney Sellers"},null,{"$f":"VLOOKUP($A138,Results3,Q$3,FALSE)","v":"Olivia Butler"},null,{"$f":"VLOOKUP($A138,Results3,S$3,FALSE)","v":"Sian Lewis"},null,{"$f":"VLOOKUP($A138,Results3,U$3,FALSE)","v":"Lauren Garside"},null,null,null,null,null,null,null,null,null,{"$f":"IF(LEN(G138)>1,1,0)","v":1}]
[{"$f":"B139&\"A\"","v":"36A"},36,{"$f":"VLOOKUP(B139,EventsOrder,2,FALSE)","v":2.15},null,null,null,{"$f":"VLOOKUP($A139,Results3,G$4,FALSE)","v":"Wreake"},{"$f":"VLOOKUP($A139,Results3,H$3,FALSE)","v":13.4},{"$f":"VLOOKUP($A139,Results3,I$4,FALSE)","v":"Worc"},{"$f":"VLOOKUP($A139,Results3,J$3,FALSE)","v":13.5},{"$f":"VLOOKUP($A139,Results3,K$4,FALSE)","v":"Kett"},{"$f":"VLOOKUP($A139,Results3,L$3,FALSE)","v":13.5},{"$f":"VLOOKUP($A139,Results3,M$4,FALSE)","v":"DASH"},{"$f":"VLOOKUP($A139,Results3,N$3,FALSE)","v":13.8},{"$f":"VLOOKUP($A139,Results3,O$4,FALSE)","v":"Ban"},{"$f":"VLOOKUP($A139,Results3,P$3,FALSE)","v":13.8},{"$f":"VLOOKUP($A139,Results3,Q$4,FALSE)","v":"Rad"},{"$f":"VLOOKUP($A139,Results3,R$3,FALSE)","v":14.1},{"$f":"VLOOKUP($A139,Results3,S$4,FALSE)","v":"Tam"},{"$f":"VLOOKUP($A139,Results3,T$3,FALSE)","v":14.1},{"$f":"VLOOKUP($A139,Results3,U$4,FALSE)","v":"Bic"},{"$f":"VLOOKUP($A139,Results3,V$3,FALSE)","v":14.5},{"$f":"VLOOKUP($A139,Results3,W$4,FALSE)","v":4},{"$f":"VLOOKUP($A139,Results3,X$4,FALSE)","v":1},5,6,3,2,8,7]
[{"$f":"B139&\"B\"","v":"36B"},null,null,{"$f":"VLOOKUP(B139,EventsOrder,3,FALSE)","v":"100m"},"B",null,{"$f":"VLOOKUP($A140,Results3,G$3,FALSE)","v":"Alex Beale"},null,{"$f":"VLOOKUP($A140,Results3,I$3,FALSE)","v":"Poppy Tott-Buswell"},null,{"$f":"VLOOKUP($A140,Results3,K$3,FALSE)","v":"Niamh Darby"},null,{"$f":"VLOOKUP($A140,Results3,M$3,FALSE)","v":"Robyn Swain"},null,{"$f":"VLOOKUP($A140,Results3,O$3,FALSE)","v":"Charotte Hewett"},null,{"$f":"VLOOKUP($A140,Results3,Q$3,FALSE)","v":""},null,{"$f":"VLOOKUP($A140,Results3,S$3,FALSE)","v":""},null,{"$f":"VLOOKUP($A140,Results3,U$3,FALSE)","v":""}]
[{"$f":"B139&\"B\"","v":"36B"},null,null,null,null,null,{"$f":"VLOOKUP($A141,Results3,G$4,FALSE)","v":"Kett"},{"$f":"VLOOKUP($A141,Results3,H$3,FALSE)","v":13.7},{"$f":"VLOOKUP($A141,Results3,I$4,FALSE)","v":"Wreake"},{"$f":"VLOOKUP($A141,Results3,J$3,FALSE)","v":13.7},{"$f":"VLOOKUP($A141,Results3,K$4,FALSE)","v":"DASH"},{"$f":"VLOOKUP($A141,Results3,L$3,FALSE)","v":14.2},{"$f":"VLOOKUP($A141,Results3,M$4,FALSE)","v":"Rad"},{"$f":"VLOOKUP($A141,Results3,N$3,FALSE)","v":14.6},{"$f":"VLOOKUP($A141,Results3,O$4,FALSE)","v":"Bic"},{"$f":"VLOOKUP($A141,Results3,P$3,FALSE)","v":14.9},{"$f":"VLOOKUP($A141,Results3,Q$4,FALSE)","v":0},{"$f":"VLOOKUP($A141,Results3,R$3,FALSE)","v":0},{"$f":"VLOOKUP($A141,Results3,S$4,FALSE)","v":0},{"$f":"VLOOKUP($A141,Results3,T$3,FALSE)","v":0},{"$f":"VLOOKUP($A141,Results3,U$4,FALSE)","v":0},{"$f":"VLOOKUP($A141,Results3,V$3,FALSE)","v":0},{"$f":"VLOOKUP($A141,Results3,W$4,FALSE)","v":0},4,6,8,5,0,7,0]
[{"$f":"B143&\"A\"","v":"37A"},null,null,{"$f":"VLOOKUP(B143,EventsOrder,4,FALSE)","v":"U17 Female"},"A",null,{"$f":"VLOOKUP($A142,Results3,G$3,FALSE)","v":"Petrina Chantler-Edmond"},null,{"$f":"VLOOKUP($A142,Results3,I$3,FALSE)","v":"Cara Clarke"},null,{"$f":"VLOOKUP($A142,Results3,K$3,FALSE)","v":"Paige Cooper"},null,{"$f":"VLOOKUP($A142,Results3,M$3,FALSE)","v":"Megan Luxford"},null,{"$f":"VLOOKUP($A142,Results3,O$3,FALSE)","v":"Lauren Millward"},null,{"$f":"VLOOKUP($A142,Results3,Q$3,FALSE)","v":"Laura Lewis (Senior)"},null,{"$f":"VLOOKUP($A142,Results3,S$3,FALSE)","v":"Harriett Jolley"},null,{"$f":"VLOOKUP($A142,Results3,U$3,FALSE)","v":""},null,null,null,null,null,null,null,null,null,{"$f":"IF(LEN(G142)>1,1,0)","v":1}]
[{"$f":"B143&\"A\"","v":"37A"},37,{"$f":"VLOOKUP(B143,EventsOrder,2,FALSE)","v":1.5},null,null,null,{"$f":"VLOOKUP($A143,Results3,G$4,FALSE)","v":"Rad"},{"$f":"VLOOKUP($A143,Results3,H$3,FALSE)","v":10.87},{"$f":"VLOOKUP($A143,Results3,I$4,FALSE)","v":"Worc"},{"$f":"VLOOKUP($A143,Results3,J$3,FALSE)","v":9.58},{"$f":"VLOOKUP($A143,Results3,K$4,FALSE)","v":"Ban"},{"$f":"VLOOKUP($A143,Results3,L$3,FALSE)","v":8.5299999999999994},{"$f":"VLOOKUP($A143,Results3,M$4,FALSE)","v":"Wreake"},{"$f":"VLOOKUP($A143,Results3,N$3,FALSE)","v":7.02},{"$f":"VLOOKUP($A143,Results3,O$4,FALSE)","v":"DASH"},{"$f":"VLOOKUP($A143,Results3,P$3,FALSE)","v":6.78},{"$f":"VLOOKUP($A143,Results3,Q$4,FALSE)","v":"Tam"},{"$f":"VLOOKUP($A143,Results3,R$3,FALSE)","v":6.58},{"$f":"VLOOKUP($A143,Results3,S$4,FALSE)","v":"Kett"},{"$f":"VLOOKUP($A143,Results3,T$3,FALSE)","v":5.38},{"$f":"VLOOKUP($A143,Results3,U$4,FALSE)","v":0},{"$f":"VLOOKUP($A143,Results3,V$3,FALSE)","v":0},{"$f":"VLOOKUP($A143,Results3,W$4,FALSE)","v":6},{"$f":"VLOOKUP($A143,Results3,X$4,FALSE)","v":0},4,2,8,3,5,7]
[{"$f":"B143&\"B\"","v":"37B"},null,null,{"$f":"VLOOKUP(B143,EventsOrder,3,FALSE)","v":"Shot (U17)"},"B",null,{"$f":"VLOOKUP($A144,Results3,G$3,FALSE)","v":"Victoria Harte"},null,{"$f":"VLOOKUP($A144,Results3,I$3,FALSE)","v":"Hannah Kenwright"},null,{"$f":"VLOOKUP($A144,Results3,K$3,FALSE)","v":"Charlotte Maywood"},null,{"$f":"VLOOKUP($A144,Results3,M$3,FALSE)","v":""},null,{"$f":"VLOOKUP($A144,Results3,O$3,FALSE)","v":""},null,{"$f":"VLOOKUP($A144,Results3,Q$3,FALSE)","v":""},null,{"$f":"VLOOKUP($A144,Results3,S$3,FALSE)","v":""},null,{"$f":"VLOOKUP($A144,Results3,U$3,FALSE)","v":""}]
[{"$f":"B143&\"B\"","v":"37B"},null,null,null,null,null,{"$f":"VLOOKUP($A145,Results3,G$4,FALSE)","v":"Rad"},{"$f":"VLOOKUP($A145,Results3,H$3,FALSE)","v":9.92},{"$f":"VLOOKUP($A145,Results3,I$4,FALSE)","v":"Worc"},{"$f":"VLOOKUP($A145,Results3,J$3,FALSE)","v":8.4499999999999993},{"$f":"VLOOKUP($A145,Results3,K$4,FALSE)","v":"Kett"},{"$f":"VLOOKUP($A145,Results3,L$3,FALSE)","v":4.6900000000000004},{"$f":"VLOOKUP($A145,Results3,M$4,FALSE)","v":0},{"$f":"VLOOKUP($A145,Results3,N$3,FALSE)","v":0},{"$f":"VLOOKUP($A145,Results3,O$4,FALSE)","v":0},{"$f":"VLOOKUP($A145,Results3,P$3,FALSE)","v":0},{"$f":"VLOOKUP($A145,Results3,Q$4,FALSE)","v":0},{"$f":"VLOOKUP($A145,Results3,R$3,FALSE)","v":0},{"$f":"VLOOKUP($A145,Results3,S$4,FALSE)","v":0},{"$f":"VLOOKUP($A145,Results3,T$3,FALSE)","v":0},{"$f":"VLOOKUP($A145,Results3,U$4,FALSE)","v":0},{"$f":"VLOOKUP($A145,Results3,V$3,FALSE)","v":0},{"$f":"VLOOKUP($A145,Results3,W$4,FALSE)","v":0},0,0,6,8,0,0,7]
[null,null,null,null,null,null,null,null,null,null,null,null,null,null,null,null,null,null,null,null,"Officials Points",null,{"$f":"Officials!C$20","v":14},{"$f":"Officials!D$20","v":14},{"$f":"Officials!E$20","v":10},{"$f":"Officials!F$20","v":8},{"$f":"Officials!G$20","v":14},{"$f":"Officials!H$20","v":6},{"$f":"Officials!I$20","v":8},{"$f":"Officials!J$20","v":14}]
[null,{"$f":"COUNTIF(B107:B146,\">0\")","v":10},null,null,null,null,null,null,null,null,null,null,null,null,null,null,null,null,null,null,"Total Points",null,{"$f":"SUM(W106:W146)+W100","v":127},{"$f":"SUM(X106:X146)+X100","v":106},137,192,310,108,205,294,{"$f":"SUM(AE106:AE145)","v":9}]
[null,null,null,null,null,null,null,null,null,null,null,null,null,null,null,null,null,null,null,null,"Match Position",null,{"$f":"RANK(W147,$W147:$AD147)","v":6},8,5,4,1,7,3,2]
[]
[null,"Event No",null,null,null,null,null,null,null,null,{"$f":"K103","v":"Heart of England League Results in Event Order"},null,null,null,null,null,null,null,null,null,null,null,{"$f":"W$8","v":"Banbury"},{"$f":"X$8","v":"Bicester"},"Dudley & S'bridge","Kettering","Radley","Tamworth","Wreake Runners","Worcester"]
[null,null,null,"Division",{"$f":"E104","v":2},null,null,null,null,null,"Venue",{"$f":"L104","v":"Worcester"},null,null,null,null,"Date",{"$f":"R104","v":"5th June 2016"}]
[null,null,"Time","Event",null,null,"First",null,"Second",null,"Third",null,"Fourth",null,"Fifth",null,"Sixth",null,"Seventh",null,"Eighth",null,{"$f":"W$10","v":"J"},{"$f":"X$10","v":"P"},"B","I","R","F","X","Y"]
[{"$f":"B154&\"A\"","v":"38A"},null,null,{"$f":"VLOOKUP(B154,EventsOrder,4,FALSE)","v":"U13 Female"},"A",null,{"$f":"VLOOKUP($A153,Results3,G$3,FALSE)","v":"Lucy Marriott"},null,{"$f":"VLOOKUP($A153,Results3,I$3,FALSE)","v":"Lucy Thompson"},null,{"$f":"VLOOKUP($A153,Results3,K$3,FALSE)","v":"Katie Parker"},null,{"$f":"VLOOKUP($A153,Results3,M$3,FALSE)","v":"Charlotte Cox"},null,{"$f":"VLOOKUP($A153,Results3,O$3,FALSE)","v":"Zara Gibbs"},null,{"$f":"VLOOKUP($A153,Results3,Q$3,FALSE)","v":"Amber Parker"},null,{"$f":"VLOOKUP($A153,Results3,S$3,FALSE)","v":"Amelia Brew"},null,{"$f":"VLOOKUP($A153,Results3,U$3,FALSE)","v":"Alice Mason"},null,null,null,null,null,null,null,null,null,{"$f":"IF(LEN(G153)>1,1,0)","v":1}]
[{"$f":"B154&\"A\"","v":"38A"},38,{"$f":"VLOOKUP(B154,EventsOrder,2,FALSE)","v":1.5},null,null,null,{"$f":"VLOOKUP($A154,Results3,G$4,FALSE)","v":"Worc"},{"$f":"VLOOKUP($A154,Results3,H$3,FALSE)","v":18.38},{"$f":"VLOOKUP($A154,Results3,I$4,FALSE)","v":"Ban"},{"$f":"VLOOKUP($A154,Results3,J$3,FALSE)","v":15.34},{"$f":"VLOOKUP($A154,Results3,K$4,FALSE)","v":"Wreake"},{"$f":"VLOOKUP($A154,Results3,L$3,FALSE)","v":15.05},{"$f":"VLOOKUP($A154,Results3,M$4,FALSE)","v":"Kett"},{"$f":"VLOOKUP($A154,Results3,N$3,FALSE)","v":14.06},{"$f":"VLOOKUP($A154,Results3,O$4,FALSE)","v":"DASH"},{"$f":"VLOOKUP($A154,Results3,P$3,FALSE)","v":13.65},{"$f":"VLOOKUP($A154,Results3,Q$4,FALSE)","v":"Bic"},{"$f":"VLOOKUP($A154,Results3,R$3,FALSE)","v":12.54},{"$f":"VLOOKUP($A154,Results3,S$4,FALSE)","v":"Rad"},{"$f":"VLOOKUP($A154,Results3,T$3,FALSE)","v":12.31},{"$f":"VLOOKUP($A154,Results3,U$4,FALSE)","v":"Tam"},{"$f":"VLOOKUP($A154,Results3,V$3,FALSE)","v":11.2},{"$f":"VLOOKUP($A154,Results3,W$4,FALSE)","v":7},{"$f":"VLOOKUP($A154,Results3,X$4,FALSE)","v":3},4,5,2,1,6,8]
[{"$f":"B154&\"B\"","v":"38B"},null,null,{"$f":"VLOOKUP(B154,EventsOrder,3,FALSE)","v":"Discus"},"B",null,{"$f":"VLOOKUP($A155,Results3,G$3,FALSE)","v":"Alina Gunnard"},null,{"$f":"VLOOKUP($A155,Results3,I$3,FALSE)","v":"Aoife Brotherton"},null,{"$f":"VLOOKUP($A155,Results3,K$3,FALSE)","v":"Amy Dale"},null,{"$f":"VLOOKUP($A155,Results3,M$3,FALSE)","v":"Nikola Bishop"},null,{"$f":"VLOOKUP($A155,Results3,O$3,FALSE)","v":"Amelia Cox"},null,{"$f":"VLOOKUP($A155,Results3,Q$3,FALSE)","v":"Maddie Moxey"},null,{"$f":"VLOOKUP($A155,Results3,S$3,FALSE)","v":"Emily Pearce"},null,{"$f":"VLOOKUP($A155,Results3,U$3,FALSE)","v":""}]
[{"$f":"B154&\"B\"","v":"38B"},null,null,null,null,null,{"$f":"VLOOKUP($A156,Results3,G$4,FALSE)","v":"DASH"},{"$f":"VLOOKUP($A156,Results3,H$3,FALSE)","v":12.03},{"$f":"VLOOKUP($A156,Results3,I$4,FALSE)","v":"Wreake"},{"$f":"VLOOKUP($A156,Results3,J$3,FALSE)","v":10.59},{"$f":"VLOOKUP($A156,Results3,K$4,FALSE)","v":"Worc"},{"$f":"VLOOKUP($A156,Results3,L$3,FALSE)","v":10.4},{"$f":"VLOOKUP($A156,Results3,M$4,FALSE)","v":"Ban"},{"$f":"VLOOKUP($A156,Results3,N$3,FALSE)","v":10.27},{"$f":"VLOOKUP($A156,Results3,O$4,FALSE)","v":"Bic"},{"$f":"VLOOKUP($A156,Results3,P$3,FALSE)","v":9.83},{"$f":"VLOOKUP($A156,Results3,Q$4,FALSE)","v":"Kett"},{"$f":"VLOOKUP($A156,Results3,R$3,FALSE)","v":8.6999999999999993},{"$f":"VLOOKUP($A156,Results3,S$4,FALSE)","v":"Tam"},{"$f":"VLOOKUP($A156,Results3,T$3,FALSE)","v":5.18},{"$f":"VLOOKUP($A156,Results3,U$4,FALSE)","v":0},{"$f":"VLOOKUP($A156,Results3,V$3,FALSE)","v":0},{"$f":"VLOOKUP($A156,Results3,W$4,FALSE)","v":5},4,8,3,0,2,7,6]
[{"$f":"B158&\"A\"","v":"39A"},null,null,{"$f":"VLOOKUP(B158,EventsOrder,4,FALSE)","v":"U15 Male"},"A",null,{"$f":"VLOOKUP($A157,Results3,G$3,FALSE)","v":""},null,{"$f":"VLOOKUP($A157,Results3,I$3,FALSE)","v":""},null,{"$f":"VLOOKUP($A157,Results3,K$3,FALSE)","v":""},null,{"$f":"VLOOKUP($A157,Results3,M$3,FALSE)","v":""},null,{"$f":"VLOOKUP($A157,Results3,O$3,FALSE)","v":""},null,{"$f":"VLOOKUP($A157,Results3,Q$3,FALSE)","v":""},null,{"$f":"VLOOKUP($A157,Results3,S$3,FALSE)","v":""},null,{"$f":"VLOOKUP($A157,Results3,U$3,FALSE)","v":""},null,null,null,null,null,null,null,null,null,{"$f":"IF(LEN(G157)>1,1,0)","v":0}]
[{"$f":"B158&\"A\"","v":"39A"},39,{"$f":"VLOOKUP(B158,EventsOrder,2,FALSE)","v":1.5},null,null,null,{"$f":"VLOOKUP($A158,Results3,G$4,FALSE)","v":0},{"$f":"VLOOKUP($A158,Results3,H$3,FALSE)","v":0},{"$f":"VLOOKUP($A158,Results3,I$4,FALSE)","v":0},{"$f":"VLOOKUP($A158,Results3,J$3,FALSE)","v":0},{"$f":"VLOOKUP($A158,Results3,K$4,FALSE)","v":0},{"$f":"VLOOKUP($A158,Results3,L$3,FALSE)","v":0},{"$f":"VLOOKUP($A158,Results3,M$4,FALSE)","v":0},{"$f":"VLOOKUP($A158,Results3,N$3,FALSE)","v":0},{"$f":"VLOOKUP($A158,Results3,O$4,FALSE)","v":0},{"$f":"VLOOKUP($A158,Results3,P$3,FALSE)","v":0},{"$f":"VLOOKUP($A158,Results3,Q$4,FALSE)","v":0},{"$f":"VLOOKUP($A158,Results3,R$3,FALSE)","v":0},{"$f":"VLOOKUP($A158,Results3,S$4,FALSE)","v":0},{"$f":"VLOOKUP($A158,Results3,T$3,FALSE)","v":0},{"$f":"VLOOKUP($A158,Results3,U$4,FALSE)","v":0},{"$f":"VLOOKUP($A158,Results3,V$3,FALSE)","v":0},{"$f":"VLOOKUP($A158,Results3,W$4,FALSE)","v":0},{"$f":"VLOOKUP($A158,Results3,X$4,FALSE)","v":0},0,0,0,0,0,0]
[{"$f":"B158&\"B\"","v":"39B"},null,null,{"$f":"VLOOKUP(B158,EventsOrder,3,FALSE)","v":"Javelin"},"B",null,{"$f":"VLOOKUP($A159,Results3,G$3,FALSE)","v":""},null,{"$f":"VLOOKUP($A159,Results3,I$3,FALSE)","v":""},null,{"$f":"VLOOKUP($A159,Results3,K$3,FALSE)","v":""},null,{"$f":"VLOOKUP($A159,Results3,M$3,FALSE)","v":""},null,{"$f":"VLOOKUP($A159,Results3,O$3,FALSE)","v":""},null,{"$f":"VLOOKUP($A159,Results3,Q$3,FALSE)","v":""},null,{"$f":"VLOOKUP($A159,Results3,S$3,FALSE)","v":""},null,{"$f":"VLOOKUP($A159,Results3,U$3,FALSE)","v":""}]
[{"$f":"B158&\"B\"","v":"39B"},null,null,null,null,null,{"$f":"VLOOKUP($A160,Results3,G$4,FALSE)","v":0},{"$f":"VLOOKUP($A160,Results3,H$3,FALSE)","v":0},{"$f":"VLOOKUP($A160,Results3,I$4,FALSE)","v":0},{"$f":"VLOOKUP($A160,Results3,J$3,FALSE)","v":0},{"$f":"VLOOKUP($A160,Results3,K$4,FALSE)","v":0},{"$f":"VLOOKUP($A160,Results3,L$3,FALSE)","v":0},{"$f":"VLOOKUP($A160,Results3,M$4,FALSE)","v":0},{"$f":"VLOOKUP($A160,Results3,N$3,FALSE)","v":0},{"$f":"VLOOKUP($A160,Results3,O$4,FALSE)","v":0},{"$f":"VLOOKUP($A160,Results3,P$3,FALSE)","v":0},{"$f":"VLOOKUP($A160,Results3,Q$4,FALSE)","v":0},{"$f":"VLOOKUP($A160,Results3,R$3,FALSE)","v":0},{"$f":"VLOOKUP($A160,Results3,S$4,FALSE)","v":0},{"$f":"VLOOKUP($A160,Results3,T$3,FALSE)","v":0},{"$f":"VLOOKUP($A160,Results3,U$4,FALSE)","v":0},{"$f":"VLOOKUP($A160,Results3,V$3,FALSE)","v":0},{"$f":"VLOOKUP($A160,Results3,W$4,FALSE)","v":0},0,0,0,0,0,0,0]
[{"$f":"B162&\"A\"","v":"40A"},null,null,{"$f":"VLOOKUP(B162,EventsOrder,4,FALSE)","v":"U17 F/Women"},"A",null,{"$f":"VLOOKUP($A161,Results3,G$3,FALSE)","v":"Cara Clarke"},null,{"$f":"VLOOKUP($A161,Results3,I$3,FALSE)","v":"Leah Brown"},null,{"$f":"VLOOKUP($A161,Results3,K$3,FALSE)","v":"Ella Grainger"},null,{"$f":"VLOOKUP($A161,Results3,M$3,FALSE)","v":"Lauren Millward"},null,{"$f":"VLOOKUP($A161,Results3,O$3,FALSE)","v":"U20 Emily Benfield"},null,{"$f":"VLOOKUP($A161,Results3,Q$3,FALSE)","v":"Niamh Monaghan"},null,{"$f":"VLOOKUP($A161,Results3,S$3,FALSE)","v":""},null,{"$f":"VLOOKUP($A161,Results3,U$3,FALSE)","v":""},null,null,null,null,null,null,null,null,null,{"$f":"IF(LEN(G161)>1,1,0)","v":1}]
[{"$f":"B162&\"A\"","v":"40A"},40,{"$f":"VLOOKUP(B162,EventsOrder,2,FALSE)","v":2.2000000000000002},null,null,null,{"$f":"VLOOKUP($A162,Results3,G$4,FALSE)","v":"Worc"},{"$f":"VLOOKUP($A162,Results3,H$3,FALSE)","v":13},{"$f":"VLOOKUP($A162,Results3,I$4,FALSE)","v":"Rad"},{"$f":"VLOOKUP($A162,Results3,J$3,FALSE)","v":13.3},{"$f":"VLOOKUP($A162,Results3,K$4,FALSE)","v":"Wreake"},{"$f":"VLOOKUP($A162,Results3,L$3,FALSE)","v":13.5},{"$f":"VLOOKUP($A162,Results3,M$4,FALSE)","v":"DASH"},{"$f":"VLOOKUP($A162,Results3,N$3,FALSE)","v":13.7},{"$f":"VLOOKUP($A162,Results3,O$4,FALSE)","v":"Bic"},{"$f":"VLOOKUP($A162,Results3,P$3,FALSE)","v":14},{"$f":"VLOOKUP($A162,Results3,Q$4,FALSE)","v":"Kett"},{"$f":"VLOOKUP($A162,Results3,R$3,FALSE)","v":14.1},{"$f":"VLOOKUP($A162,Results3,S$4,FALSE)","v":0},{"$f":"VLOOKUP($A162,Results3,T$3,FALSE)","v":0},{"$f":"VLOOKUP($A162,Results3,U$4,FALSE)","v":0},{"$f":"VLOOKUP($A162,Results3,V$3,FALSE)","v":0},{"$f":"VLOOKUP($A162,Results3,W$4,FALSE)","v":0},{"$f":"VLOOKUP($A162,Results3,X$4,FALSE)","v":4},5,3,7,0,6,8]
[{"$f":"B162&\"B\"","v":"40B"},null,null,{"$f":"VLOOKUP(B162,EventsOrder,3,FALSE)","v":"100m"},"B",null,{"$f":"VLOOKUP($A163,Results3,G$3,FALSE)","v":"Georgia Clarke"},null,{"$f":"VLOOKUP($A163,Results3,I$3,FALSE)","v":"Zara Millward"},null,{"$f":"VLOOKUP($A163,Results3,K$3,FALSE)","v":"Megan Baker"},null,{"$f":"VLOOKUP($A163,Results3,M$3,FALSE)","v":"Megan Luxford"},null,{"$f":"VLOOKUP($A163,Results3,O$3,FALSE)","v":"Niamh Ruffles"},null,{"$f":"VLOOKUP($A163,Results3,Q$3,FALSE)","v":""},null,{"$f":"VLOOKUP($A163,Results3,S$3,FALSE)","v":""},null,{"$f":"VLOOKUP($A163,Results3,U$3,FALSE)","v":""}]
[{"$f":"B162&\"B\"","v":"40B"},null,null,null,null,null,{"$f":"VLOOKUP($A164,Results3,G$4,FALSE)","v":"Worc"},{"$f":"VLOOKUP($A164,Results3,H$3,FALSE)","v":13.1},{"$f":"VLOOKUP($A164,Results3,I$4,FALSE)","v":"DASH"},{"$f":"VLOOKUP($A164,Results3,J$3,FALSE)","v":13.7},{"$f":"VLOOKUP($A164,Results3,K$4,FALSE)","v":"Rad"},{"$f":"VLOOKUP($A164,Results3,L$3,FALSE)","v":13.9},{"$f":"VLOOKUP($A164,Results3,M$4,FALSE)","v":"Wreake"},{"$f":"VLOOKUP($A164,Results3,N$3,FALSE)","v":14},{"$f":"VLOOKUP($A164,Results3,O$4,FALSE)","v":"Kett"},{"$f":"VLOOKUP($A164,Results3,P$3,FALSE)","v":14.3},{"$f":"VLOOKUP($A164,Results3,Q$4,FALSE)","v":0},{"$f":"VLOOKUP($A164,Results3,R$3,FALSE)","v":0},{"$f":"VLOOKUP($A164,Results3,S$4,FALSE)","v":0},{"$f":"VLOOKUP($A164,Results3,T$3,FALSE)","v":0},{"$f":"VLOOKUP($A164,Results3,U$4,FALSE)","v":0},{"$f":"VLOOKUP($A164,Results3,V$3,FALSE)","v":0},{"$f":"VLOOKUP($A164,Results3,W$4,FALSE)","v":0},0,7,4,6,0,5,8]
[{"$f":"B166&\"A\"","v":"41A"},null,null,{"$f":"VLOOKUP(B166,EventsOrder,4,FALSE)","v":"U13 Male"},"A",null,{"$f":"VLOOKUP($A165,Results3,G$3,FALSE)","v":"Max Mowforth"},null,{"$f":"VLOOKUP($A165,Results3,I$3,FALSE)","v":"David Seidu"},null,{"$f":"VLOOKUP($A165,Results3,K$3,FALSE)","v":"Christopher Charles"},null,{"$f":"VLOOKUP($A165,Results3,M$3,FALSE)","v":"Jack Compton"},null,{"$f":"VLOOKUP($A165,Results3,O$3,FALSE)","v":"Adam Dudley"},null,{"$f":"VLOOKUP($A165,Results3,Q$3,FALSE)","v":"Ryan Simpson"},null,{"$f":"VLOOKUP($A165,Results3,S$3,FALSE)","v":"Samuel Rose"},null,{"$f":"VLOOKUP($A165,Results3,U$3,FALSE)","v":"Oran Au"},null,null,null,null,null,null,null,null,null,{"$f":"IF(LEN(G165)>1,1,0)","v":1}]
[{"$f":"B166&\"A\"","v":"41A"},41,{"$f":"VLOOKUP(B166,EventsOrder,2,FALSE)","v":2.25},null,null,null,{"$f":"VLOOKUP($A166,Results3,G$4,FALSE)","v":"Kett"},{"$f":"VLOOKUP($A166,Results3,H$3,FALSE)","v":13.2},{"$f":"VLOOKUP($A166,Results3,I$4,FALSE)","v":"Wreake"},{"$f":"VLOOKUP($A166,Results3,J$3,FALSE)","v":13.5},{"$f":"VLOOKUP($A166,Results3,K$4,FALSE)","v":"Ban"},{"$f":"VLOOKUP($A166,Results3,L$3,FALSE)","v":13.7},{"$f":"VLOOKUP($A166,Results3,M$4,FALSE)","v":"DASH"},{"$f":"VLOOKUP($A166,Results3,N$3,FALSE)","v":13.7},{"$f":"VLOOKUP($A166,Results3,O$4,FALSE)","v":"Worc"},{"$f":"VLOOKUP($A166,Results3,P$3,FALSE)","v":14},{"$f":"VLOOKUP($A166,Results3,Q$4,FALSE)","v":"Bic"},{"$f":"VLOOKUP($A166,Results3,R$3,FALSE)","v":14.5},{"$f":"VLOOKUP($A166,Results3,S$4,FALSE)","v":"Rad"},{"$f":"VLOOKUP($A166,Results3,T$3,FALSE)","v":14.9},{"$f":"VLOOKUP($A166,Results3,U$4,FALSE)","v":"Tam"},{"$f":"VLOOKUP($A166,Results3,V$3,FALSE)","v":15.2},{"$f":"VLOOKUP($A166,Results3,W$4,FALSE)","v":6},{"$f":"VLOOKUP($A166,Results3,X$4,FALSE)","v":3},5,8,2,1,7,4]
[{"$f":"B166&\"B\"","v":"41B"},null,null,{"$f":"VLOOKUP(B166,EventsOrder,3,FALSE)","v":"100m"},"B",null,{"$f":"VLOOKUP($A167,Results3,G$3,FALSE)","v":"Cole Sinnott"},null,{"$f":"VLOOKUP($A167,Results3,I$3,FALSE)","v":"Tom Fallon"},null,{"$f":"VLOOKUP($A167,Results3,K$3,FALSE)","v":"Archie Jones"},null,{"$f":"VLOOKUP($A167,Results3,M$3,FALSE)","v":"Kai Buckley"},null,{"$f":"VLOOKUP($A167,Results3,O$3,FALSE)","v":"Theau Seabrook"},null,{"$f":"VLOOKUP($A167,Results3,Q$3,FALSE)","v":"Harry Cunningham"},null,{"$f":"VLOOKUP($A167,Results3,S$3,FALSE)","v":"Michael Cadle"},null,{"$f":"VLOOKUP($A167,Results3,U$3,FALSE)","v":"Mackenzie Bloxham"}]
[{"$f":"B166&\"B\"","v":"41B"},null,null,null,null,null,{"$f":"VLOOKUP($A168,Results3,G$4,FALSE)","v":"Kett"},{"$f":"VLOOKUP($A168,Results3,H$3,FALSE)","v":14.1},{"$f":"VLOOKUP($A168,Results3,I$4,FALSE)","v":"DASH"},{"$f":"VLOOKUP($A168,Results3,J$3,FALSE)","v":14.4},{"$f":"VLOOKUP($A168,Results3,K$4,FALSE)","v":"Ban"},{"$f":"VLOOKUP($A168,Results3,L$3,FALSE)","v":14.4},{"$f":"VLOOKUP($A168,Results3,M$4,FALSE)","v":"Tam"},{"$f":"VLOOKUP($A168,Results3,N$3,FALSE)","v":14.8},{"$f":"VLOOKUP($A168,Results3,O$4,FALSE)","v":"Rad"},{"$f":"VLOOKUP($A168,Results3,P$3,FALSE)","v":14.8},{"$f":"VLOOKUP($A168,Results3,Q$4,FALSE)","v":"Worc"},{"$f":"VLOOKUP($A168,Results3,R$3,FALSE)","v":14.9},{"$f":"VLOOKUP($A168,Results3,S$4,FALSE)","v":"Bic"},{"$f":"VLOOKUP($A168,Results3,T$3,FALSE)","v":15.4},{"$f":"VLOOKUP($A168,Results3,U$4,FALSE)","v":"Wreake"},{"$f":"VLOOKUP($A168,Results3,V$3,FALSE)","v":16.5},{"$f":"VLOOKUP($A168,Results3,W$4,FALSE)","v":6},2,7,8,4,5,1,3]
[{"$f":"B170&\"A\"","v":"42A"},null,null,{"$f":"VLOOKUP(B170,EventsOrder,4,FALSE)","v":"U15 Male"},"A",null,{"$f":"VLOOKUP($A169,Results3,G$3,FALSE)","v":"Euan Jones"},null,{"$f":"VLOOKUP($A169,Results3,I$3,FALSE)","v":"Daniel Gifford"},null,{"$f":"VLOOKUP($A169,Results3,K$3,FALSE)","v":"Dylan Mukhtar"},null,{"$f":"VLOOKUP($A169,Results3,M$3,FALSE)","v":"WillAndrews"},null,{"$f":"VLOOKUP($A169,Results3,O$3,FALSE)","v":"Marco Miller"},null,{"$f":"VLOOKUP($A169,Results3,Q$3,FALSE)","v":"Talinder Kumar"},null,{"$f":"VLOOKUP($A169,Results3,S$3,FALSE)","v":"James Sherriff"},null,{"$f":"VLOOKUP($A169,Results3,U$3,FALSE)","v":"Will Simms"},null,null,null,null,null,null,null,null,null,{"$f":"IF(LEN(G169)>1,1,0)","v":1}]
[{"$f":"B170&\"A\"","v":"42A"},42,{"$f":"VLOOKUP(B170,EventsOrder,2,FALSE)","v":2.2999999999999998},null,null,null,{"$f":"VLOOKUP($A170,Results3,G$4,FALSE)","v":"Wreake"},{"$f":"VLOOKUP($A170,Results3,H$3,FALSE)","v":12.2},{"$f":"VLOOKUP($A170,Results3,I$4,FALSE)","v":"Rad"},{"$f":"VLOOKUP($A170,Results3,J$3,FALSE)","v":12.4},{"$f":"VLOOKUP($A170,Results3,K$4,FALSE)","v":"Kett"},{"$f":"VLOOKUP($A170,Results3,L$3,FALSE)","v":12.4},{"$f":"VLOOKUP($A170,Results3,M$4,FALSE)","v":"Ban"},{"$f":"VLOOKUP($A170,Results3,N$3,FALSE)","v":12.5},{"$f":"VLOOKUP($A170,Results3,O$4,FALSE)","v":"Worc"},{"$f":"VLOOKUP($A170,Results3,P$3,FALSE)","v":12.6},{"$f":"VLOOKUP($A170,Results3,Q$4,FALSE)","v":"DASH"},{"$f":"VLOOKUP($A170,Results3,R$3,FALSE)","v":13.3},{"$f":"VLOOKUP($A170,Results3,S$4,FALSE)","v":"Tam"},{"$f":"VLOOKUP($A170,Results3,T$3,FALSE)","v":13.5},{"$f":"VLOOKUP($A170,Results3,U$4,FALSE)","v":"Bic"},{"$f":"VLOOKUP($A170,Results3,V$3,FALSE)","v":14},{"$f":"VLOOKUP($A170,Results3,W$4,FALSE)","v":5},{"$f":"VLOOKUP($A170,Results3,X$4,FALSE)","v":1},3,6,7,2,8,4]
[{"$f":"B170&\"B\"","v":"42B"},null,null,{"$f":"VLOOKUP(B170,EventsOrder,3,FALSE)","v":"100m"},"B",null,{"$f":"VLOOKUP($A171,Results3,G$3,FALSE)","v":"Josh Rocks"},null,{"$f":"VLOOKUP($A171,Results3,I$3,FALSE)","v":"Charlie Bloomfield"},null,{"$f":"VLOOKUP($A171,Results3,K$3,FALSE)","v":"Richard Bungay"},null,{"$f":"VLOOKUP($A171,Results3,M$3,FALSE)","v":""},null,{"$f":"VLOOKUP($A171,Results3,O$3,FALSE)","v":""},null,{"$f":"VLOOKUP($A171,Results3,Q$3,FALSE)","v":""},null,{"$f":"VLOOKUP($A171,Results3,S$3,FALSE)","v":""},null,{"$f":"VLOOKUP($A171,Results3,U$3,FALSE)","v":""}]
[{"$f":"B170&\"B\"","v":"42B"},null,null,null,null,null,{"$f":"VLOOKUP($A172,Results3,G$4,FALSE)","v":"Wreake"},{"$f":"VLOOKUP($A172,Results3,H$3,FALSE)","v":13.4},{"$f":"VLOOKUP($A172,Results3,I$4,FALSE)","v":"Worc"},{"$f":"VLOOKUP($A172,Results3,J$3,FALSE)","v":13.5},{"$f":"VLOOKUP($A172,Results3,K$4,FALSE)","v":"Rad"},{"$f":"VLOOKUP($A172,Results3,L$3,FALSE)","v":16},{"$f":"VLOOKUP($A172,Results3,M$4,FALSE)","v":0},{"$f":"VLOOKUP($A172,Results3,N$3,FALSE)","v":0},{"$f":"VLOOKUP($A172,Results3,O$4,FALSE)","v":0},{"$f":"VLOOKUP($A172,Results3,P$3,FALSE)","v":0},{"$f":"VLOOKUP($A172,Results3,Q$4,FALSE)","v":0},{"$f":"VLOOKUP($A172,Results3,R$3,FALSE)","v":0},{"$f":"VLOOKUP($A172,Results3,S$4,FALSE)","v":0},{"$f":"VLOOKUP($A172,Results3,T$3,FALSE)","v":0},{"$f":"VLOOKUP($A172,Results3,U$4,FALSE)","v":0},{"$f":"VLOOKUP($A172,Results3,V$3,FALSE)","v":0},{"$f":"VLOOKUP($A172,Results3,W$4,FALSE)","v":0},0,0,0,6,0,8,7]
[{"$f":"B174&\"A\"","v":"43A"},null,null,{"$f":"VLOOKUP(B174,EventsOrder,4,FALSE)","v":"U17 Men"},"A",null,{"$f":"VLOOKUP($A173,Results3,G$3,FALSE)","v":"Ollie Sprio"},null,{"$f":"VLOOKUP($A173,Results3,I$3,FALSE)","v":"Claudio Oliviera"},null,{"$f":"VLOOKUP($A173,Results3,K$3,FALSE)","v":"Harry New"},null,{"$f":"VLOOKUP($A173,Results3,M$3,FALSE)","v":"Tyrese Paris-Smith"},null,{"$f":"VLOOKUP($A173,Results3,O$3,FALSE)","v":""},null,{"$f":"VLOOKUP($A173,Results3,Q$3,FALSE)","v":""},null,{"$f":"VLOOKUP($A173,Results3,S$3,FALSE)","v":""},null,{"$f":"VLOOKUP($A173,Results3,U$3,FALSE)","v":""},null,null,null,null,null,null,null,null,null,{"$f":"IF(LEN(G173)>1,1,0)","v":1}]
[{"$f":"B174&\"A\"","v":"43A"},43,{"$f":"VLOOKUP(B174,EventsOrder,2,FALSE)","v":2.35},null,null,null,{"$f":"VLOOKUP($A174,Results3,G$4,FALSE)","v":"Ban"},{"$f":"VLOOKUP($A174,Results3,H$3,FALSE)","v":11.7},{"$f":"VLOOKUP($A174,Results3,I$4,FALSE)","v":"Worc"},{"$f":"VLOOKUP($A174,Results3,J$3,FALSE)","v":11.7},{"$f":"VLOOKUP($A174,Results3,K$4,FALSE)","v":"Rad"},{"$f":"VLOOKUP($A174,Results3,L$3,FALSE)","v":11.8},{"$f":"VLOOKUP($A174,Results3,M$4,FALSE)","v":"Kett"},{"$f":"VLOOKUP($A174,Results3,N$3,FALSE)","v":12},{"$f":"VLOOKUP($A174,Results3,O$4,FALSE)","v":0},{"$f":"VLOOKUP($A174,Results3,P$3,FALSE)","v":0},{"$f":"VLOOKUP($A174,Results3,Q$4,FALSE)","v":0},{"$f":"VLOOKUP($A174,Results3,R$3,FALSE)","v":0},{"$f":"VLOOKUP($A174,Results3,S$4,FALSE)","v":0},{"$f":"VLOOKUP($A174,Results3,T$3,FALSE)","v":0},{"$f":"VLOOKUP($A174,Results3,U$4,FALSE)","v":0},{"$f":"VLOOKUP($A174,Results3,V$3,FALSE)","v":0},{"$f":"VLOOKUP($A174,Results3,W$4,FALSE)","v":8},{"$f":"VLOOKUP($A174,Results3,X$4,FALSE)","v":0},0,5,6,0,0,7]
[{"$f":"B174&\"B\"","v":"43B"},null,null,{"$f":"VLOOKUP(B174,EventsOrder,3,FALSE)","v":"100m"},"B",null,{"$f":"VLOOKUP($A175,Results3,G$3,FALSE)","v":"Reiss Francis"},null,{"$f":"VLOOKUP($A175,Results3,I$3,FALSE)","v":"Achim Loibl"},null,{"$f":"VLOOKUP($A175,Results3,K$3,FALSE)","v":"Felix Noble"},null,{"$f":"VLOOKUP($A175,Results3,M$3,FALSE)","v":"Brett Halsey"},null,{"$f":"VLOOKUP($A175,Results3,O$3,FALSE)","v":""},null,{"$f":"VLOOKUP($A175,Results3,Q$3,FALSE)","v":""},null,{"$f":"VLOOKUP($A175,Results3,S$3,FALSE)","v":""},null,{"$f":"VLOOKUP($A175,Results3,U$3,FALSE)","v":""}]
[{"$f":"B174&\"B\"","v":"43B"},null,null,null,null,null,{"$f":"VLOOKUP($A176,Results3,G$4,FALSE)","v":"Worc"},{"$f":"VLOOKUP($A176,Results3,H$3,FALSE)","v":11.8},{"$f":"VLOOKUP($A176,Results3,I$4,FALSE)","v":"Kett"},{"$f":"VLOOKUP($A176,Results3,J$3,FALSE)","v":12.2},{"$f":"VLOOKUP($A176,Results3,K$4,FALSE)","v":"Ban"},{"$f":"VLOOKUP($A176,Results3,L$3,FALSE)","v":12.8},{"$f":"VLOOKUP($A176,Results3,M$4,FALSE)","v":"Rad"},{"$f":"VLOOKUP($A176,Results3,N$3,FALSE)","v":12.8},{"$f":"VLOOKUP($A176,Results3,O$4,FALSE)","v":0},{"$f":"VLOOKUP($A176,Results3,P$3,FALSE)","v":0},{"$f":"VLOOKUP($A176,Results3,Q$4,FALSE)","v":0},{"$f":"VLOOKUP($A176,Results3,R$3,FALSE)","v":0},{"$f":"VLOOKUP($A176,Results3,S$4,FALSE)","v":0},{"$f":"VLOOKUP($A176,Results3,T$3,FALSE)","v":0},{"$f":"VLOOKUP($A176,Results3,U$4,FALSE)","v":0},{"$f":"VLOOKUP($A176,Results3,V$3,FALSE)","v":0},{"$f":"VLOOKUP($A176,Results3,W$4,FALSE)","v":6},0,0,7,5,0,0,8]
[{"$f":"B178&\"A\"","v":"45A"},null,null,{"$f":"VLOOKUP(B178,EventsOrder,4,FALSE)","v":"U15 Male"},"A",null,{"$f":"VLOOKUP($A177,Results3,G$3,FALSE)","v":"Lewis-Morgan Barton"},null,{"$f":"VLOOKUP($A177,Results3,I$3,FALSE)","v":"Andrew Jay"},null,{"$f":"VLOOKUP($A177,Results3,K$3,FALSE)","v":"Tom Slater"},null,{"$f":"VLOOKUP($A177,Results3,M$3,FALSE)","v":"Jamil Welham"},null,{"$f":"VLOOKUP($A177,Results3,O$3,FALSE)","v":""},null,{"$f":"VLOOKUP($A177,Results3,Q$3,FALSE)","v":""},null,{"$f":"VLOOKUP($A177,Results3,S$3,FALSE)","v":""},null,{"$f":"VLOOKUP($A177,Results3,U$3,FALSE)","v":""},null,null,null,null,null,null,null,null,null,{"$f":"IF(LEN(G177)>1,1,0)","v":1}]
[{"$f":"B178&\"A\"","v":"45A"},45,{"$f":"VLOOKUP(B178,EventsOrder,2,FALSE)","v":2.25},null,null,null,{"$f":"VLOOKUP($A178,Results3,G$4,FALSE)","v":"Kett"},{"$f":"VLOOKUP($A178,Results3,H$3,FALSE)","v":1.6},{"$f":"VLOOKUP($A178,Results3,I$4,FALSE)","v":"Worc"},{"$f":"VLOOKUP($A178,Results3,J$3,FALSE)","v":1.57},{"$f":"VLOOKUP($A178,Results3,K$4,FALSE)","v":"DASH"},{"$f":"VLOOKUP($A178,Results3,L$3,FALSE)","v":1.51},{"$f":"VLOOKUP($A178,Results3,M$4,FALSE)","v":"Bic"},{"$f":"VLOOKUP($A178,Results3,N$3,FALSE)","v":1.4},{"$f":"VLOOKUP($A178,Results3,O$4,FALSE)","v":0},{"$f":"VLOOKUP($A178,Results3,P$3,FALSE)","v":0},{"$f":"VLOOKUP($A178,Results3,Q$4,FALSE)","v":0},{"$f":"VLOOKUP($A178,Results3,R$3,FALSE)","v":0},{"$f":"VLOOKUP($A178,Results3,S$4,FALSE)","v":0},{"$f":"VLOOKUP($A178,Results3,T$3,FALSE)","v":0},{"$f":"VLOOKUP($A178,Results3,U$4,FALSE)","v":0},{"$f":"VLOOKUP($A178,Results3,V$3,FALSE)","v":0},{"$f":"VLOOKUP($A178,Results3,W$4,FALSE)","v":0},{"$f":"VLOOKUP($A178,Results3,X$4,FALSE)","v":5},6,8,0,0,0,7]
[{"$f":"B178&\"B\"","v":"45B"},null,null,{"$f":"VLOOKUP(B178,EventsOrder,3,FALSE)","v":"High Jump"},"B",null,{"$f":"VLOOKUP($A179,Results3,G$3,FALSE)","v":""},null,{"$f":"VLOOKUP($A179,Results3,I$3,FALSE)","v":""},null,{"$f":"VLOOKUP($A179,Results3,K$3,FALSE)","v":""},null,{"$f":"VLOOKUP($A179,Results3,M$3,FALSE)","v":""},null,{"$f":"VLOOKUP($A179,Results3,O$3,FALSE)","v":""},null,{"$f":"VLOOKUP($A179,Results3,Q$3,FALSE)","v":""},null,{"$f":"VLOOKUP($A179,Results3,S$3,FALSE)","v":""},null,{"$f":"VLOOKUP($A179,Results3,U$3,FALSE)","v":""}]
[{"$f":"B178&\"B\"","v":"45B"},null,null,null,null,null,{"$f":"VLOOKUP($A180,Results3,G$4,FALSE)","v":0},{"$f":"VLOOKUP($A180,Results3,H$3,FALSE)","v":0},{"$f":"VLOOKUP($A180,Results3,I$4,FALSE)","v":0},{"$f":"VLOOKUP($A180,Results3,J$3,FALSE)","v":0},{"$f":"VLOOKUP($A180,Results3,K$4,FALSE)","v":0},{"$f":"VLOOKUP($A180,Results3,L$3,FALSE)","v":0},{"$f":"VLOOKUP($A180,Results3,M$4,FALSE)","v":0},{"$f":"VLOOKUP($A180,Results3,N$3,FALSE)","v":0},{"$f":"VLOOKUP($A180,Results3,O$4,FALSE)","v":0},{"$f":"VLOOKUP($A180,Results3,P$3,FALSE)","v":0},{"$f":"VLOOKUP($A180,Results3,Q$4,FALSE)","v":0},{"$f":"VLOOKUP($A180,Results3,R$3,FALSE)","v":0},{"$f":"VLOOKUP($A180,Results3,S$4,FALSE)","v":0},{"$f":"VLOOKUP($A180,Results3,T$3,FALSE)","v":0},{"$f":"VLOOKUP($A180,Results3,U$4,FALSE)","v":0},{"$f":"VLOOKUP($A180,Results3,V$3,FALSE)","v":0},{"$f":"VLOOKUP($A180,Results3,W$4,FALSE)","v":0},0,0,0,0,0,0,0]
[{"$f":"B182&\"A\"","v":"50A"},null,null,{"$f":"VLOOKUP(B182,EventsOrder,4,FALSE)","v":"U15 Female"},"A",null,{"$f":"VLOOKUP($A181,Results3,G$3,FALSE)","v":"Emma Shorwood"},null,{"$f":"VLOOKUP($A181,Results3,I$3,FALSE)","v":"Danielle Hopkins"},null,{"$f":"VLOOKUP($A181,Results3,K$3,FALSE)","v":"Emily Williams"},null,{"$f":"VLOOKUP($A181,Results3,M$3,FALSE)","v":"Molly Acton"},null,{"$f":"VLOOKUP($A181,Results3,O$3,FALSE)","v":"Martha Adams"},null,{"$f":"VLOOKUP($A181,Results3,Q$3,FALSE)","v":"Sian Lewis"},null,{"$f":"VLOOKUP($A181,Results3,S$3,FALSE)","v":"Rachel Nealon"},null,{"$f":"VLOOKUP($A181,Results3,U$3,FALSE)","v":"Sydney Sellers"},null,null,null,null,null,null,null,null,null,{"$f":"IF(LEN(G181)>1,1,0)","v":1}]
[{"$f":"B182&\"A\"","v":"50A"},50,{"$f":"VLOOKUP(B182,EventsOrder,2,FALSE)","v":2.4},null,null,null,{"$f":"VLOOKUP($A182,Results3,G$4,FALSE)","v":"DASH"},{"$f":"VLOOKUP($A182,Results3,H$3,FALSE)","v":43.1},{"$f":"VLOOKUP($A182,Results3,I$4,FALSE)","v":"Worc"},{"$f":"VLOOKUP($A182,Results3,J$3,FALSE)","v":43.2},{"$f":"VLOOKUP($A182,Results3,K$4,FALSE)","v":"Kett"},{"$f":"VLOOKUP($A182,Results3,L$3,FALSE)","v":43.9},{"$f":"VLOOKUP($A182,Results3,M$4,FALSE)","v":"Bic"},{"$f":"VLOOKUP($A182,Results3,N$3,FALSE)","v":46.5},{"$f":"VLOOKUP($A182,Results3,O$4,FALSE)","v":"Rad"},{"$f":"VLOOKUP($A182,Results3,P$3,FALSE)","v":47.2},{"$f":"VLOOKUP($A182,Results3,Q$4,FALSE)","v":"Tam"},{"$f":"VLOOKUP($A182,Results3,R$3,FALSE)","v":47.5},{"$f":"VLOOKUP($A182,Results3,S$4,FALSE)","v":"Wreake"},{"$f":"VLOOKUP($A182,Results3,T$3,FALSE)","v":49.8},{"$f":"VLOOKUP($A182,Results3,U$4,FALSE)","v":"Ban"},{"$f":"VLOOKUP($A182,Results3,V$3,FALSE)","v":49.9},{"$f":"VLOOKUP($A182,Results3,W$4,FALSE)","v":1},{"$f":"VLOOKUP($A182,Results3,X$4,FALSE)","v":5},8,6,4,3,2,7]
[{"$f":"B182&\"B\"","v":"50B"},null,null,{"$f":"VLOOKUP(B182,EventsOrder,3,FALSE)","v":"300m"},"B",null,{"$f":"VLOOKUP($A183,Results3,G$3,FALSE)","v":"Zena Challenger"},null,{"$f":"VLOOKUP($A183,Results3,I$3,FALSE)","v":"Claudia Lee"},null,{"$f":"VLOOKUP($A183,Results3,K$3,FALSE)","v":"Rachel Burton"},null,{"$f":"VLOOKUP($A183,Results3,M$3,FALSE)","v":"Blainne Conway"},null,{"$f":"VLOOKUP($A183,Results3,O$3,FALSE)","v":"Elise Blake"},null,{"$f":"VLOOKUP($A183,Results3,Q$3,FALSE)","v":"Elizabeth Eskender"},null,{"$f":"VLOOKUP($A183,Results3,S$3,FALSE)","v":""},null,{"$f":"VLOOKUP($A183,Results3,U$3,FALSE)","v":""}]
[{"$f":"B182&\"B\"","v":"50B"},null,null,null,null,null,{"$f":"VLOOKUP($A184,Results3,G$4,FALSE)","v":"Wreake"},{"$f":"VLOOKUP($A184,Results3,H$3,FALSE)","v":43.9},{"$f":"VLOOKUP($A184,Results3,I$4,FALSE)","v":"DASH"},{"$f":"VLOOKUP($A184,Results3,J$3,FALSE)","v":46.4},{"$f":"VLOOKUP($A184,Results3,K$4,FALSE)","v":"Rad"},{"$f":"VLOOKUP($A184,Results3,L$3,FALSE)","v":47.7},{"$f":"VLOOKUP($A184,Results3,M$4,FALSE)","v":"Kett"},{"$f":"VLOOKUP($A184,Results3,N$3,FALSE)","v":48.8},{"$f":"VLOOKUP($A184,Results3,O$4,FALSE)","v":"Worc"},{"$f":"VLOOKUP($A184,Results3,P$3,FALSE)","v":49.7},{"$f":"VLOOKUP($A184,Results3,Q$4,FALSE)","v":"Ban"},{"$f":"VLOOKUP($A184,Results3,R$3,FALSE)","v":51.6},{"$f":"VLOOKUP($A184,Results3,S$4,FALSE)","v":0},{"$f":"VLOOKUP($A184,Results3,T$3,FALSE)","v":0},{"$f":"VLOOKUP($A184,Results3,U$4,FALSE)","v":0},{"$f":"VLOOKUP($A184,Results3,V$3,FALSE)","v":0},{"$f":"VLOOKUP($A184,Results3,W$4,FALSE)","v":3},0,7,5,6,0,8,4]
[{"$f":"B186&\"A\"","v":"51A"},null,null,{"$f":"VLOOKUP(B186,EventsOrder,4,FALSE)","v":"U17 F/Women"},"A",null,{"$f":"VLOOKUP($A185,Results3,G$3,FALSE)","v":"Stephanie Mott"},null,{"$f":"VLOOKUP($A185,Results3,I$3,FALSE)","v":"Niamh Monaghan"},null,{"$f":"VLOOKUP($A185,Results3,K$3,FALSE)","v":"Rebecca Scott"},null,{"$f":"VLOOKUP($A185,Results3,M$3,FALSE)","v":""},null,{"$f":"VLOOKUP($A185,Results3,O$3,FALSE)","v":""},null,{"$f":"VLOOKUP($A185,Results3,Q$3,FALSE)","v":""},null,{"$f":"VLOOKUP($A185,Results3,S$3,FALSE)","v":""},null,{"$f":"VLOOKUP($A185,Results3,U$3,FALSE)","v":""},null,null,null,null,null,null,null,null,null,{"$f":"IF(LEN(G185)>1,1,0)","v":1}]
[{"$f":"B186&\"A\"","v":"51A"},51,{"$f":"VLOOKUP(B186,EventsOrder,2,FALSE)","v":2.4500000000000002},null,null,null,{"$f":"VLOOKUP($A186,Results3,G$4,FALSE)","v":"Rad"},{"$f":"VLOOKUP($A186,Results3,H$3,FALSE)","v":45.4},{"$f":"VLOOKUP($A186,Results3,I$4,FALSE)","v":"Kett"},{"$f":"VLOOKUP($A186,Results3,J$3,FALSE)","v":46.3},{"$f":"VLOOKUP($A186,Results3,K$4,FALSE)","v":"Ban"},{"$f":"VLOOKUP($A186,Results3,L$3,FALSE)","v":46.4},{"$f":"VLOOKUP($A186,Results3,M$4,FALSE)","v":0},{"$f":"VLOOKUP($A186,Results3,N$3,FALSE)","v":0},{"$f":"VLOOKUP($A186,Results3,O$4,FALSE)","v":0},{"$f":"VLOOKUP($A186,Results3,P$3,FALSE)","v":0},{"$f":"VLOOKUP($A186,Results3,Q$4,FALSE)","v":0},{"$f":"VLOOKUP($A186,Results3,R$3,FALSE)","v":0},{"$f":"VLOOKUP($A186,Results3,S$4,FALSE)","v":0},{"$f":"VLOOKUP($A186,Results3,T$3,FALSE)","v":0},{"$f":"VLOOKUP($A186,Results3,U$4,FALSE)","v":0},{"$f":"VLOOKUP($A186,Results3,V$3,FALSE)","v":0},{"$f":"VLOOKUP($A186,Results3,W$4,FALSE)","v":6},{"$f":"VLOOKUP($A186,Results3,X$4,FALSE)","v":0},0,7,8,0,0,0]
[{"$f":"B186&\"B\"","v":"51B"},null,null,{"$f":"VLOOKUP(B186,EventsOrder,3,FALSE)","v":"300m"},"B",null,{"$f":"VLOOKUP($A187,Results3,G$3,FALSE)","v":"Harriett Jolley"},null,{"$f":"VLOOKUP($A187,Results3,I$3,FALSE)","v":"Leah Brown"},null,{"$f":"VLOOKUP($A187,Results3,K$3,FALSE)","v":""},null,{"$f":"VLOOKUP($A187,Results3,M$3,FALSE)","v":""},null,{"$f":"VLOOKUP($A187,Results3,O$3,FALSE)","v":""},null,{"$f":"VLOOKUP($A187,Results3,Q$3,FALSE)","v":""},null,{"$f":"VLOOKUP($A187,Results3,S$3,FALSE)","v":""},null,{"$f":"VLOOKUP($A187,Results3,U$3,FALSE)","v":""}]
[{"$f":"B186&\"B\"","v":"51B"},null,null,null,null,null,{"$f":"VLOOKUP($A188,Results3,G$4,FALSE)","v":"Kett"},{"$f":"VLOOKUP($A188,Results3,H$3,FALSE)","v":45.3},{"$f":"VLOOKUP($A188,Results3,I$4,FALSE)","v":"Rad"},{"$f":"VLOOKUP($A188,Results3,J$3,FALSE)","v":46.2},{"$f":"VLOOKUP($A188,Results3,K$4,FALSE)","v":0},{"$f":"VLOOKUP($A188,Results3,L$3,FALSE)","v":0},{"$f":"VLOOKUP($A188,Results3,M$4,FALSE)","v":0},{"$f":"VLOOKUP($A188,Results3,N$3,FALSE)","v":0},{"$f":"VLOOKUP($A188,Results3,O$4,FALSE)","v":0},{"$f":"VLOOKUP($A188,Results3,P$3,FALSE)","v":0},{"$f":"VLOOKUP($A188,Results3,Q$4,FALSE)","v":0},{"$f":"VLOOKUP($A188,Results3,R$3,FALSE)","v":0},{"$f":"VLOOKUP($A188,Results3,S$4,FALSE)","v":0},{"$f":"VLOOKUP($A188,Results3,T$3,FALSE)","v":0},{"$f":"VLOOKUP($A188,Results3,U$4,FALSE)","v":0},{"$f":"VLOOKUP($A188,Results3,V$3,FALSE)","v":0},{"$f":"VLOOKUP($A188,Results3,W$4,FALSE)","v":0},0,0,8,7,0,0,0]
[{"$f":"B190&\"A\"","v":"52A"},null,null,{"$f":"VLOOKUP(B190,EventsOrder,4,FALSE)","v":"U13 Male"},"A",null,{"$f":"VLOOKUP($A189,Results3,G$3,FALSE)","v":"Samuel Harrison"},null,{"$f":"VLOOKUP($A189,Results3,I$3,FALSE)","v":"Alex Santafe"},null,{"$f":"VLOOKUP($A189,Results3,K$3,FALSE)","v":"Kai Buckley"},null,{"$f":"VLOOKUP($A189,Results3,M$3,FALSE)","v":"Matthew Reuben"},null,{"$f":"VLOOKUP($A189,Results3,O$3,FALSE)","v":"John Sparry"},null,{"$f":"VLOOKUP($A189,Results3,Q$3,FALSE)","v":"Samuel Rayson"},null,{"$f":"VLOOKUP($A189,Results3,S$3,FALSE)","v":"Benjamin Cumberland"},null,{"$f":"VLOOKUP($A189,Results3,U$3,FALSE)","v":""},null,null,null,null,null,null,null,null,null,{"$f":"IF(LEN(G189)>1,1,0)","v":1}]
[{"$f":"B190&\"A\"","v":"52A"},52,{"$f":"VLOOKUP(B190,EventsOrder,2,FALSE)","v":2.4},null,null,null,{"$f":"VLOOKUP($A190,Results3,G$4,FALSE)","v":"Kett"},{"$f":"VLOOKUP($A190,Results3,H$3,FALSE)","v":7.48},{"$f":"VLOOKUP($A190,Results3,I$4,FALSE)","v":"Worc"},{"$f":"VLOOKUP($A190,Results3,J$3,FALSE)","v":5.78},{"$f":"VLOOKUP($A190,Results3,K$4,FALSE)","v":"Tam"},{"$f":"VLOOKUP($A190,Results3,L$3,FALSE)","v":5},{"$f":"VLOOKUP($A190,Results3,M$4,FALSE)","v":"Wreake"},{"$f":"VLOOKUP($A190,Results3,N$3,FALSE)","v":4.9400000000000004},{"$f":"VLOOKUP($A190,Results3,O$4,FALSE)","v":"DASH"},{"$f":"VLOOKUP($A190,Results3,P$3,FALSE)","v":4.78},{"$f":"VLOOKUP($A190,Results3,Q$4,FALSE)","v":"Bic"},{"$f":"VLOOKUP($A190,Results3,R$3,FALSE)","v":4.6399999999999997},{"$f":"VLOOKUP($A190,Results3,S$4,FALSE)","v":"Rad"},{"$f":"VLOOKUP($A190,Results3,T$3,FALSE)","v":4.41},{"$f":"VLOOKUP($A190,Results3,U$4,FALSE)","v":0},{"$f":"VLOOKUP($A190,Results3,V$3,FALSE)","v":0},{"$f":"VLOOKUP($A190,Results3,W$4,FALSE)","v":0},{"$f":"VLOOKUP($A190,Results3,X$4,FALSE)","v":3},4,8,2,6,5,7]
[{"$f":"B190&\"B\"","v":"52B"},null,null,{"$f":"VLOOKUP(B190,EventsOrder,3,FALSE)","v":"Shot"},"B",null,{"$f":"VLOOKUP($A191,Results3,G$3,FALSE)","v":"Spike Burnage"},null,{"$f":"VLOOKUP($A191,Results3,I$3,FALSE)","v":"Daniel Aston"},null,{"$f":"VLOOKUP($A191,Results3,K$3,FALSE)","v":"Rowan Miell-Ingram"},null,{"$f":"VLOOKUP($A191,Results3,M$3,FALSE)","v":"Sean Lock"},null,{"$f":"VLOOKUP($A191,Results3,O$3,FALSE)","v":"David Seidu"},null,{"$f":"VLOOKUP($A191,Results3,Q$3,FALSE)","v":"Nathan Pearson"},null,{"$f":"VLOOKUP($A191,Results3,S$3,FALSE)","v":"Ben Brooker"},null,{"$f":"VLOOKUP($A191,Results3,U$3,FALSE)","v":""}]
[{"$f":"B190&\"B\"","v":"52B"},null,null,null,null,null,{"$f":"VLOOKUP($A192,Results3,G$4,FALSE)","v":"Worc"},{"$f":"VLOOKUP($A192,Results3,H$3,FALSE)","v":5.78},{"$f":"VLOOKUP($A192,Results3,I$4,FALSE)","v":"Tam"},{"$f":"VLOOKUP($A192,Results3,J$3,FALSE)","v":4.3899999999999997},{"$f":"VLOOKUP($A192,Results3,K$4,FALSE)","v":"Rad"},{"$f":"VLOOKUP($A192,Results3,L$3,FALSE)","v":4.22},{"$f":"VLOOKUP($A192,Results3,M$4,FALSE)","v":"Bic"},{"$f":"VLOOKUP($A192,Results3,N$3,FALSE)","v":3.82},{"$f":"VLOOKUP($A192,Results3,O$4,FALSE)","v":"Wreake"},{"$f":"VLOOKUP($A192,Results3,P$3,FALSE)","v":3.69},{"$f":"VLOOKUP($A192,Results3,Q$4,FALSE)","v":"DASH"},{"$f":"VLOOKUP($A192,Results3,R$3,FALSE)","v":3.67},{"$f":"VLOOKUP($A192,Results3,S$4,FALSE)","v":"Kett"},{"$f":"VLOOKUP($A192,Results3,T$3,FALSE)","v":2.71},{"$f":"VLOOKUP($A192,Results3,U$4,FALSE)","v":0},{"$f":"VLOOKUP($A192,Results3,V$3,FALSE)","v":0},{"$f":"VLOOKUP($A192,Results3,W$4,FALSE)","v":0},5,3,2,6,7,4,8]
[null,null,null,null,null,null,null,null,null,null,null,null,null,null,null,null,null,null,null,null,"Officials Points",null,{"$f":"Officials!C$20","v":14},{"$f":"Officials!D$20","v":14},{"$f":"Officials!E$20","v":10},{"$f":"Officials!F$20","v":8},{"$f":"Officials!G$20","v":14},{"$f":"Officials!H$20","v":6},{"$f":"Officials!I$20","v":8},{"$f":"Officials!J$20","v":14}]
[null,{"$f":"COUNTIF(B153:B193,\">0\")","v":10},null,null,null,null,null,null,null,null,null,null,null,null,null,null,null,null,null,null,"Total Points",null,{"$f":"SUM(W153:W193)+W147","v":194},{"$f":"SUM(X153:X193)+X147","v":155},214,293,402,141,280,404,{"$f":"SUM(AE153:AE192)","v":9}]
[null,null,null,null,null,null,null,null,null,null,null,null,null,null,null,null,null,null,null,null,"Match Position",null,{"$f":"RANK(W194,$W194:$AD194)","v":6},7,5,3,2,8,4,1]
[]
[null,"Event No",null,null,null,null,null,null,null,null,{"$f":"K8","v":"Heart of England League Results in Event Order"},null,null,null,null,null,null,null,null,null,null,null,{"$f":"W$8","v":"Banbury"},{"$f":"X$8","v":"Bicester"},"Dudley & S'bridge","Kettering","Radley","Tamworth","Wreake Runners","Worcester"]
[null,null,null,"Division",{"$f":"'Event Details'!D$9","v":2},null,null,null,null,null,"Venue",{"$f":"'Event Details'!F$17","v":"Worcester"},null,null,null,null,"Date",{"$f":"'Event Details'!B$17","v":"5th June 2016"}]
[null,null,"Time","Event",null,"NS","First",null,"Second",null,"Third",null,"Fourth",null,"Fifth",null,"Sixth",null,"Seventh",null,"Eighth",null,{"$f":"W$10","v":"J"},{"$f":"X$10","v":"P"},"B","I","R","F","X","Y"]
[{"$f":"B201&\"A\"","v":"53A"},null,null,{"$f":"VLOOKUP(B201,EventsOrder,4,FALSE)","v":"U17 Female"},"A",null,{"$f":"VLOOKUP($A200,Results3,G$3,FALSE)","v":"Petrina Chantler-Edmond"},null,{"$f":"VLOOKUP($A200,Results3,I$3,FALSE)","v":"Paige Cooper"},null,{"$f":"VLOOKUP($A200,Results3,K$3,FALSE)","v":"Cara Clarke"},null,{"$f":"VLOOKUP($A200,Results3,M$3,FALSE)","v":"Fern Harrison"},null,{"$f":"VLOOKUP($A200,Results3,O$3,FALSE)","v":""},null,{"$f":"VLOOKUP($A200,Results3,Q$3,FALSE)","v":""},null,{"$f":"VLOOKUP($A200,Results3,S$3,FALSE)","v":""},null,{"$f":"VLOOKUP($A200,Results3,U$3,FALSE)","v":""},null,null,null,null,null,null,null,null,null,{"$f":"IF(LEN(G200)>1,1,0)","v":1}]
[{"$f":"B201&\"A\"","v":"53A"},53,{"$f":"VLOOKUP(B201,EventsOrder,2,FALSE)","v":2.4},null,null,null,{"$f":"VLOOKUP($A201,Results3,G$4,FALSE)","v":"Rad"},{"$f":"VLOOKUP($A201,Results3,H$3,FALSE)","v":22.76},{"$f":"VLOOKUP($A201,Results3,I$4,FALSE)","v":"Ban"},{"$f":"VLOOKUP($A201,Results3,J$3,FALSE)","v":17.940000000000001},{"$f":"VLOOKUP($A201,Results3,K$4,FALSE)","v":"Worc"},{"$f":"VLOOKUP($A201,Results3,L$3,FALSE)","v":13.99},{"$f":"VLOOKUP($A201,Results3,M$4,FALSE)","v":"Wreake"},{"$f":"VLOOKUP($A201,Results3,N$3,FALSE)","v":10.54},{"$f":"VLOOKUP($A201,Results3,O$4,FALSE)","v":0},{"$f":"VLOOKUP($A201,Results3,P$3,FALSE)","v":0},{"$f":"VLOOKUP($A201,Results3,Q$4,FALSE)","v":0},{"$f":"VLOOKUP($A201,Results3,R$3,FALSE)","v":0},{"$f":"VLOOKUP($A201,Results3,S$4,FALSE)","v":0},{"$f":"VLOOKUP($A201,Results3,T$3,FALSE)","v":0},{"$f":"VLOOKUP($A201,Results3,U$4,FALSE)","v":0},{"$f":"VLOOKUP($A201,Results3,V$3,FALSE)","v":0},{"$f":"VLOOKUP($A201,Results3,W$4,FALSE)","v":7},{"$f":"VLOOKUP($A201,Results3,X$4,FALSE)","v":0},0,0,8,0,5,6]
[{"$f":"B201&\"B\"","v":"53B"},null,null,{"$f":"VLOOKUP(B201,EventsOrder,3,FALSE)","v":"Discus (U17)"},"B",null,{"$f":"VLOOKUP($A202,Results3,G$3,FALSE)","v":"Stephanie Mott"},null,{"$f":"VLOOKUP($A202,Results3,I$3,FALSE)","v":"Helen Dubber"},null,{"$f":"VLOOKUP($A202,Results3,K$3,FALSE)","v":""},null,{"$f":"VLOOKUP($A202,Results3,M$3,FALSE)","v":""},null,{"$f":"VLOOKUP($A202,Results3,O$3,FALSE)","v":""},null,{"$f":"VLOOKUP($A202,Results3,Q$3,FALSE)","v":""},null,{"$f":"VLOOKUP($A202,Results3,S$3,FALSE)","v":""},null,{"$f":"VLOOKUP($A202,Results3,U$3,FALSE)","v":""}]
[{"$f":"B201&\"B\"","v":"53B"},null,null,null,null,null,{"$f":"VLOOKUP($A203,Results3,G$4,FALSE)","v":"Rad"},{"$f":"VLOOKUP($A203,Results3,H$3,FALSE)","v":12.75},{"$f":"VLOOKUP($A203,Results3,I$4,FALSE)","v":"Ban"},{"$f":"VLOOKUP($A203,Results3,J$3,FALSE)","v":11.65},{"$f":"VLOOKUP($A203,Results3,K$4,FALSE)","v":0},{"$f":"VLOOKUP($A203,Results3,L$3,FALSE)","v":0},{"$f":"VLOOKUP($A203,Results3,M$4,FALSE)","v":0},{"$f":"VLOOKUP($A203,Results3,N$3,FALSE)","v":0},{"$f":"VLOOKUP($A203,Results3,O$4,FALSE)","v":0},{"$f":"VLOOKUP($A203,Results3,P$3,FALSE)","v":0},{"$f":"VLOOKUP($A203,Results3,Q$4,FALSE)","v":0},{"$f":"VLOOKUP($A203,Results3,R$3,FALSE)","v":0},{"$f":"VLOOKUP($A203,Results3,S$4,FALSE)","v":0},{"$f":"VLOOKUP($A203,Results3,T$3,FALSE)","v":0},{"$f":"VLOOKUP($A203,Results3,U$4,FALSE)","v":0},{"$f":"VLOOKUP($A203,Results3,V$3,FALSE)","v":0},{"$f":"VLOOKUP($A203,Results3,W$4,FALSE)","v":7},0,0,0,8,0,0,0]
[{"$f":"B205&\"A\"","v":"54A"},null,null,{"$f":"VLOOKUP(B205,EventsOrder,4,FALSE)","v":"U15 Female"},"A",null,{"$f":"VLOOKUP($A204,Results3,G$3,FALSE)","v":""},null,{"$f":"VLOOKUP($A204,Results3,I$3,FALSE)","v":""},null,{"$f":"VLOOKUP($A204,Results3,K$3,FALSE)","v":""},null,{"$f":"VLOOKUP($A204,Results3,M$3,FALSE)","v":""},null,{"$f":"VLOOKUP($A204,Results3,O$3,FALSE)","v":""},null,{"$f":"VLOOKUP($A204,Results3,Q$3,FALSE)","v":""},null,{"$f":"VLOOKUP($A204,Results3,S$3,FALSE)","v":""},null,{"$f":"VLOOKUP($A204,Results3,U$3,FALSE)","v":""},null,null,null,null,null,null,null,null,null,{"$f":"IF(LEN(G204)>1,1,0)","v":0}]
[{"$f":"B205&\"A\"","v":"54A"},54,{"$f":"VLOOKUP(B205,EventsOrder,2,FALSE)","v":2.4},null,null,null,{"$f":"VLOOKUP($A205,Results3,G$4,FALSE)","v":0},{"$f":"VLOOKUP($A205,Results3,H$3,FALSE)","v":0},{"$f":"VLOOKUP($A205,Results3,I$4,FALSE)","v":0},{"$f":"VLOOKUP($A205,Results3,J$3,FALSE)","v":0},{"$f":"VLOOKUP($A205,Results3,K$4,FALSE)","v":0},{"$f":"VLOOKUP($A205,Results3,L$3,FALSE)","v":0},{"$f":"VLOOKUP($A205,Results3,M$4,FALSE)","v":0},{"$f":"VLOOKUP($A205,Results3,N$3,FALSE)","v":0},{"$f":"VLOOKUP($A205,Results3,O$4,FALSE)","v":0},{"$f":"VLOOKUP($A205,Results3,P$3,FALSE)","v":0},{"$f":"VLOOKUP($A205,Results3,Q$4,FALSE)","v":0},{"$f":"VLOOKUP($A205,Results3,R$3,FALSE)","v":0},{"$f":"VLOOKUP($A205,Results3,S$4,FALSE)","v":0},{"$f":"VLOOKUP($A205,Results3,T$3,FALSE)","v":0},{"$f":"VLOOKUP($A205,Results3,U$4,FALSE)","v":0},{"$f":"VLOOKUP($A205,Results3,V$3,FALSE)","v":0},{"$f":"VLOOKUP($A205,Results3,W$4,FALSE)","v":0},{"$f":"VLOOKUP($A205,Results3,X$4,FALSE)","v":0},0,0,0,0,0,0]
[{"$f":"B205&\"B\"","v":"54B"},null,null,{"$f":"VLOOKUP(B205,EventsOrder,3,FALSE)","v":"Javelin"},"B",null,{"$f":"VLOOKUP($A206,Results3,G$3,FALSE)","v":""},null,{"$f":"VLOOKUP($A206,Results3,I$3,FALSE)","v":""},null,{"$f":"VLOOKUP($A206,Results3,K$3,FALSE)","v":""},null,{"$f":"VLOOKUP($A206,Results3,M$3,FALSE)","v":""},null,{"$f":"VLOOKUP($A206,Results3,O$3,FALSE)","v":""},null,{"$f":"VLOOKUP($A206,Results3,Q$3,FALSE)","v":""},null,{"$f":"VLOOKUP($A206,Results3,S$3,FALSE)","v":""},null,{"$f":"VLOOKUP($A206,Results3,U$3,FALSE)","v":""}]
[{"$f":"B205&\"B\"","v":"54B"},null,null,null,null,null,{"$f":"VLOOKUP($A207,Results3,G$4,FALSE)","v":0},{"$f":"VLOOKUP($A207,Results3,H$3,FALSE)","v":0},{"$f":"VLOOKUP($A207,Results3,I$4,FALSE)","v":0},{"$f":"VLOOKUP($A207,Results3,J$3,FALSE)","v":0},{"$f":"VLOOKUP($A207,Results3,K$4,FALSE)","v":0},{"$f":"VLOOKUP($A207,Results3,L$3,FALSE)","v":0},{"$f":"VLOOKUP($A207,Results3,M$4,FALSE)","v":0},{"$f":"VLOOKUP($A207,Results3,N$3,FALSE)","v":0},{"$f":"VLOOKUP($A207,Results3,O$4,FALSE)","v":0},{"$f":"VLOOKUP($A207,Results3,P$3,FALSE)","v":0},{"$f":"VLOOKUP($A207,Results3,Q$4,FALSE)","v":0},{"$f":"VLOOKUP($A207,Results3,R$3,FALSE)","v":0},{"$f":"VLOOKUP($A207,Results3,S$4,FALSE)","v":0},{"$f":"VLOOKUP($A207,Results3,T$3,FALSE)","v":0},{"$f":"VLOOKUP($A207,Results3,U$4,FALSE)","v":0},{"$f":"VLOOKUP($A207,Results3,V$3,FALSE)","v":0},{"$f":"VLOOKUP($A207,Results3,W$4,FALSE)","v":0},0,0,0,0,0,0,0]
[{"$f":"B209&\"A\"","v":"55A"},null,null,{"$f":"VLOOKUP(B209,EventsOrder,4,FALSE)","v":"U15 Male"},"A",null,{"$f":"VLOOKUP($A208,Results3,G$3,FALSE)","v":"Jamil Welham"},null,{"$f":"VLOOKUP($A208,Results3,I$3,FALSE)","v":"Henri Codling"},null,{"$f":"VLOOKUP($A208,Results3,K$3,FALSE)","v":"Max Kent"},null,{"$f":"VLOOKUP($A208,Results3,M$3,FALSE)","v":"Adam Boon"},null,{"$f":"VLOOKUP($A208,Results3,O$3,FALSE)","v":"Roman Watson-Quilter"},null,{"$f":"VLOOKUP($A208,Results3,Q$3,FALSE)","v":"Skip Snelson"},null,{"$f":"VLOOKUP($A208,Results3,S$3,FALSE)","v":"Sam Davey"},null,{"$f":"VLOOKUP($A208,Results3,U$3,FALSE)","v":"Cameron King"},null,null,null,null,null,null,null,null,null,{"$f":"IF(LEN(G208)>1,1,0)","v":1}]
[{"$f":"B209&\"A\"","v":"55A"},55,{"$f":"VLOOKUP(B209,EventsOrder,2,FALSE)","v":2.5499999999999998},null,null,null,{"$f":"VLOOKUP($A209,Results3,G$4,FALSE)","v":"Bic"},{"$f":"VLOOKUP($A209,Results3,H$3,FALSE)","v":40.5},{"$f":"VLOOKUP($A209,Results3,I$4,FALSE)","v":"Kett"},{"$f":"VLOOKUP($A209,Results3,J$3,FALSE)","v":41},{"$f":"VLOOKUP($A209,Results3,K$4,FALSE)","v":"Tam"},{"$f":"VLOOKUP($A209,Results3,L$3,FALSE)","v":42.8},{"$f":"VLOOKUP($A209,Results3,M$4,FALSE)","v":"DASH"},{"$f":"VLOOKUP($A209,Results3,N$3,FALSE)","v":43.5},{"$f":"VLOOKUP($A209,Results3,O$4,FALSE)","v":"Wreake"},{"$f":"VLOOKUP($A209,Results3,P$3,FALSE)","v":46},{"$f":"VLOOKUP($A209,Results3,Q$4,FALSE)","v":"Ban"},{"$f":"VLOOKUP($A209,Results3,R$3,FALSE)","v":46.7},{"$f":"VLOOKUP($A209,Results3,S$4,FALSE)","v":"Worc"},{"$f":"VLOOKUP($A209,Results3,T$3,FALSE)","v":47.2},{"$f":"VLOOKUP($A209,Results3,U$4,FALSE)","v":"Rad"},{"$f":"VLOOKUP($A209,Results3,V$3,FALSE)","v":54.3},{"$f":"VLOOKUP($A209,Results3,W$4,FALSE)","v":3},{"$f":"VLOOKUP($A209,Results3,X$4,FALSE)","v":8},5,7,1,6,4,2]
[{"$f":"B209&\"B\"","v":"55B"},null,null,{"$f":"VLOOKUP(B209,EventsOrder,3,FALSE)","v":"300m"},"B",null,{"$f":"VLOOKUP($A210,Results3,G$3,FALSE)","v":"Ethan Nelis"},null,{"$f":"VLOOKUP($A210,Results3,I$3,FALSE)","v":"Talinder Kumar"},null,{"$f":"VLOOKUP($A210,Results3,K$3,FALSE)","v":"Lucca Watson-Quilter"},null,{"$f":"VLOOKUP($A210,Results3,M$3,FALSE)","v":"Richard Bungay"},null,{"$f":"VLOOKUP($A210,Results3,O$3,FALSE)","v":""},null,{"$f":"VLOOKUP($A210,Results3,Q$3,FALSE)","v":""},null,{"$f":"VLOOKUP($A210,Results3,S$3,FALSE)","v":""},null,{"$f":"VLOOKUP($A210,Results3,U$3,FALSE)","v":""}]
[{"$f":"B209&\"B\"","v":"55B"},null,null,null,null,null,{"$f":"VLOOKUP($A211,Results3,G$4,FALSE)","v":"Kett"},{"$f":"VLOOKUP($A211,Results3,H$3,FALSE)","v":44.7},{"$f":"VLOOKUP($A211,Results3,I$4,FALSE)","v":"DASH"},{"$f":"VLOOKUP($A211,Results3,J$3,FALSE)","v":44.7},{"$f":"VLOOKUP($A211,Results3,K$4,FALSE)","v":"Wreake"},{"$f":"VLOOKUP($A211,Results3,L$3,FALSE)","v":49.3},{"$f":"VLOOKUP($A211,Results3,M$4,FALSE)","v":"Rad"},{"$f":"VLOOKUP($A211,Results3,N$3,FALSE)","v":57.7},{"$f":"VLOOKUP($A211,Results3,O$4,FALSE)","v":0},{"$f":"VLOOKUP($A211,Results3,P$3,FALSE)","v":0},{"$f":"VLOOKUP($A211,Results3,Q$4,FALSE)","v":0},{"$f":"VLOOKUP($A211,Results3,R$3,FALSE)","v":0},{"$f":"VLOOKUP($A211,Results3,S$4,FALSE)","v":0},{"$f":"VLOOKUP($A211,Results3,T$3,FALSE)","v":0},{"$f":"VLOOKUP($A211,Results3,U$4,FALSE)","v":0},{"$f":"VLOOKUP($A211,Results3,V$3,FALSE)","v":0},{"$f":"VLOOKUP($A211,Results3,W$4,FALSE)","v":0},0,7,8,5,0,6,0]
[{"$f":"B213&\"A\"","v":"56A"},null,null,{"$f":"VLOOKUP(B213,EventsOrder,4,FALSE)","v":"U13 Female"},"A",null,{"$f":"VLOOKUP($A212,Results3,G$3,FALSE)","v":"Tegan Armstrong"},null,{"$f":"VLOOKUP($A212,Results3,I$3,FALSE)","v":"Millie Webb"},null,{"$f":"VLOOKUP($A212,Results3,K$3,FALSE)","v":"Flora Miskin-Young"},null,{"$f":"VLOOKUP($A212,Results3,M$3,FALSE)","v":"Erin Mcmillan"},null,{"$f":"VLOOKUP($A212,Results3,O$3,FALSE)","v":"Sian Hubbard"},null,{"$f":"VLOOKUP($A212,Results3,Q$3,FALSE)","v":"Amelia Cox"},null,{"$f":"VLOOKUP($A212,Results3,S$3,FALSE)","v":"Alina Gunnard"},null,{"$f":"VLOOKUP($A212,Results3,U$3,FALSE)","v":"Katie Dudley"},null,null,null,null,null,null,null,null,null,{"$f":"IF(LEN(G212)>1,1,0)","v":1}]
[{"$f":"B213&\"A\"","v":"56A"},56,{"$f":"VLOOKUP(B213,EventsOrder,2,FALSE)","v":2.5},null,null,null,{"$f":"VLOOKUP($A213,Results3,G$4,FALSE)","v":"Ban"},{"$f":"VLOOKUP($A213,Results3,H$3,FALSE)","v":4.18},{"$f":"VLOOKUP($A213,Results3,I$4,FALSE)","v":"Kett"},{"$f":"VLOOKUP($A213,Results3,J$3,FALSE)","v":3.77},{"$f":"VLOOKUP($A213,Results3,K$4,FALSE)","v":"Wreake"},{"$f":"VLOOKUP($A213,Results3,L$3,FALSE)","v":3.73},{"$f":"VLOOKUP($A213,Results3,M$4,FALSE)","v":"Rad"},{"$f":"VLOOKUP($A213,Results3,N$3,FALSE)","v":3.65},{"$f":"VLOOKUP($A213,Results3,O$4,FALSE)","v":"Tam"},{"$f":"VLOOKUP($A213,Results3,P$3,FALSE)","v":3.6},{"$f":"VLOOKUP($A213,Results3,Q$4,FALSE)","v":"Bic"},{"$f":"VLOOKUP($A213,Results3,R$3,FALSE)","v":3.41},{"$f":"VLOOKUP($A213,Results3,S$4,FALSE)","v":"DASH"},{"$f":"VLOOKUP($A213,Results3,T$3,FALSE)","v":3.35},{"$f":"VLOOKUP($A213,Results3,U$4,FALSE)","v":"Worc"},{"$f":"VLOOKUP($A213,Results3,V$3,FALSE)","v":3.01},{"$f":"VLOOKUP($A213,Results3,W$4,FALSE)","v":8},{"$f":"VLOOKUP($A213,Results3,X$4,FALSE)","v":3},2,7,5,4,6,1]
[{"$f":"B213&\"B\"","v":"56B"},null,null,{"$f":"VLOOKUP(B213,EventsOrder,3,FALSE)","v":"Long Jump"},"B",null,{"$f":"VLOOKUP($A214,Results3,G$3,FALSE)","v":"Isobel Orencas"},null,{"$f":"VLOOKUP($A214,Results3,I$3,FALSE)","v":"Niamh Kilgallen"},null,{"$f":"VLOOKUP($A214,Results3,K$3,FALSE)","v":"Elizabeth Anderson"},null,{"$f":"VLOOKUP($A214,Results3,M$3,FALSE)","v":"Robyn Beale"},null,{"$f":"VLOOKUP($A214,Results3,O$3,FALSE)","v":"Poppy Edwards"},null,{"$f":"VLOOKUP($A214,Results3,Q$3,FALSE)","v":"emilia simms"},null,{"$f":"VLOOKUP($A214,Results3,S$3,FALSE)","v":"Libby Davis"},null,{"$f":"VLOOKUP($A214,Results3,U$3,FALSE)","v":"Bethany Harris"}]
[{"$f":"B213&\"B\"","v":"56B"},null,null,null,null,null,{"$f":"VLOOKUP($A215,Results3,G$4,FALSE)","v":"Wreake"},{"$f":"VLOOKUP($A215,Results3,H$3,FALSE)","v":3.63},{"$f":"VLOOKUP($A215,Results3,I$4,FALSE)","v":"Tam"},{"$f":"VLOOKUP($A215,Results3,J$3,FALSE)","v":3.56},{"$f":"VLOOKUP($A215,Results3,K$4,FALSE)","v":"Ban"},{"$f":"VLOOKUP($A215,Results3,L$3,FALSE)","v":3.55},{"$f":"VLOOKUP($A215,Results3,M$4,FALSE)","v":"Kett"},{"$f":"VLOOKUP($A215,Results3,N$3,FALSE)","v":3.55},{"$f":"VLOOKUP($A215,Results3,O$4,FALSE)","v":"Rad"},{"$f":"VLOOKUP($A215,Results3,P$3,FALSE)","v":3.52},{"$f":"VLOOKUP($A215,Results3,Q$4,FALSE)","v":"Bic"},{"$f":"VLOOKUP($A215,Results3,R$3,FALSE)","v":3.29},{"$f":"VLOOKUP($A215,Results3,S$4,FALSE)","v":"DASH"},{"$f":"VLOOKUP($A215,Results3,T$3,FALSE)","v":3.11},{"$f":"VLOOKUP($A215,Results3,U$4,FALSE)","v":"Worc"},{"$f":"VLOOKUP($A215,Results3,V$3,FALSE)","v":2.44},{"$f":"VLOOKUP($A215,Results3,W$4,FALSE)","v":6},3,2,5,4,7,8,1]
[{"$f":"B217&\"A\"","v":"57A"},null,null,{"$f":"VLOOKUP(B217,EventsOrder,4,FALSE)","v":"U17 Men"},"A",null,{"$f":"VLOOKUP($A216,Results3,G$3,FALSE)","v":"Sam Lowe"},null,{"$f":"VLOOKUP($A216,Results3,I$3,FALSE)","v":"Rory Sear"},null,{"$f":"VLOOKUP($A216,Results3,K$3,FALSE)","v":"Andrew Woods"},null,{"$f":"VLOOKUP($A216,Results3,M$3,FALSE)","v":"Jayvana Pramolo"},null,{"$f":"VLOOKUP($A216,Results3,O$3,FALSE)","v":"George Palmer"},null,{"$f":"VLOOKUP($A216,Results3,Q$3,FALSE)","v":""},null,{"$f":"VLOOKUP($A216,Results3,S$3,FALSE)","v":""},null,{"$f":"VLOOKUP($A216,Results3,U$3,FALSE)","v":""},null,null,null,null,null,null,null,null,null,{"$f":"IF(LEN(G216)>1,1,0)","v":1}]
[{"$f":"B217&\"A\"","v":"57A"},57,{"$f":"VLOOKUP(B217,EventsOrder,2,FALSE)","v":3},null,null,null,{"$f":"VLOOKUP($A217,Results3,G$4,FALSE)","v":"Worc"},{"$f":"VLOOKUP($A217,Results3,H$3,FALSE)","v":53.6},{"$f":"VLOOKUP($A217,Results3,I$4,FALSE)","v":"Rad"},{"$f":"VLOOKUP($A217,Results3,J$3,FALSE)","v":57},{"$f":"VLOOKUP($A217,Results3,K$4,FALSE)","v":"Tam"},{"$f":"VLOOKUP($A217,Results3,L$3,FALSE)","v":57.3},{"$f":"VLOOKUP($A217,Results3,M$4,FALSE)","v":"DASH"},{"$f":"VLOOKUP($A217,Results3,N$3,FALSE)","v":58.1},{"$f":"VLOOKUP($A217,Results3,O$4,FALSE)","v":"Wreake"},{"$f":"VLOOKUP($A217,Results3,P$3,FALSE)","v":62.4},{"$f":"VLOOKUP($A217,Results3,Q$4,FALSE)","v":0},{"$f":"VLOOKUP($A217,Results3,R$3,FALSE)","v":0},{"$f":"VLOOKUP($A217,Results3,S$4,FALSE)","v":0},{"$f":"VLOOKUP($A217,Results3,T$3,FALSE)","v":0},{"$f":"VLOOKUP($A217,Results3,U$4,FALSE)","v":0},{"$f":"VLOOKUP($A217,Results3,V$3,FALSE)","v":0},{"$f":"VLOOKUP($A217,Results3,W$4,FALSE)","v":0},{"$f":"VLOOKUP($A217,Results3,X$4,FALSE)","v":0},5,0,7,6,4,8]
[{"$f":"B217&\"B\"","v":"57B"},null,null,{"$f":"VLOOKUP(B217,EventsOrder,3,FALSE)","v":"400m"},"B",null,{"$f":"VLOOKUP($A218,Results3,G$3,FALSE)","v":"Sam Nelson"},null,{"$f":"VLOOKUP($A218,Results3,I$3,FALSE)","v":""},null,{"$f":"VLOOKUP($A218,Results3,K$3,FALSE)","v":""},null,{"$f":"VLOOKUP($A218,Results3,M$3,FALSE)","v":""},null,{"$f":"VLOOKUP($A218,Results3,O$3,FALSE)","v":""},null,{"$f":"VLOOKUP($A218,Results3,Q$3,FALSE)","v":""},null,{"$f":"VLOOKUP($A218,Results3,S$3,FALSE)","v":""},null,{"$f":"VLOOKUP($A218,Results3,U$3,FALSE)","v":""}]
[{"$f":"B217&\"B\"","v":"57B"},null,null,null,null,null,{"$f":"VLOOKUP($A219,Results3,G$4,FALSE)","v":"Rad"},{"$f":"VLOOKUP($A219,Results3,H$3,FALSE)","v":56.9},{"$f":"VLOOKUP($A219,Results3,I$4,FALSE)","v":0},{"$f":"VLOOKUP($A219,Results3,J$3,FALSE)","v":0},{"$f":"VLOOKUP($A219,Results3,K$4,FALSE)","v":0},{"$f":"VLOOKUP($A219,Results3,L$3,FALSE)","v":0},{"$f":"VLOOKUP($A219,Results3,M$4,FALSE)","v":0},{"$f":"VLOOKUP($A219,Results3,N$3,FALSE)","v":0},{"$f":"VLOOKUP($A219,Results3,O$4,FALSE)","v":0},{"$f":"VLOOKUP($A219,Results3,P$3,FALSE)","v":0},{"$f":"VLOOKUP($A219,Results3,Q$4,FALSE)","v":0},{"$f":"VLOOKUP($A219,Results3,R$3,FALSE)","v":0},{"$f":"VLOOKUP($A219,Results3,S$4,FALSE)","v":0},{"$f":"VLOOKUP($A219,Results3,T$3,FALSE)","v":0},{"$f":"VLOOKUP($A219,Results3,U$4,FALSE)","v":0},{"$f":"VLOOKUP($A219,Results3,V$3,FALSE)","v":0},{"$f":"VLOOKUP($A219,Results3,W$4,FALSE)","v":0},0,0,0,8,0,0,0]
[{"$f":"B221&\"A\"","v":"60A"},null,null,{"$f":"VLOOKUP(B221,EventsOrder,4,FALSE)","v":"U17 F/Women"},"A",null,{"$f":"VLOOKUP($A220,Results3,G$3,FALSE)","v":"Rebecca Scott"},null,{"$f":"VLOOKUP($A220,Results3,I$3,FALSE)","v":"Grace Murray"},null,{"$f":"VLOOKUP($A220,Results3,K$3,FALSE)","v":"Megan Baker"},null,{"$f":"VLOOKUP($A220,Results3,M$3,FALSE)","v":""},null,{"$f":"VLOOKUP($A220,Results3,O$3,FALSE)","v":""},null,{"$f":"VLOOKUP($A220,Results3,Q$3,FALSE)","v":""},null,{"$f":"VLOOKUP($A220,Results3,S$3,FALSE)","v":""},null,{"$f":"VLOOKUP($A220,Results3,U$3,FALSE)","v":""},null,null,null,null,null,null,null,null,null,{"$f":"IF(LEN(G220)>1,1,0)","v":1}]
[{"$f":"B221&\"A\"","v":"60A"},60,{"$f":"VLOOKUP(B221,EventsOrder,2,FALSE)","v":3.1},null,null,null,{"$f":"VLOOKUP($A221,Results3,G$4,FALSE)","v":"Ban"},{"$f":"VLOOKUP($A221,Results3,H$3,FALSE)","v":1.45},{"$f":"VLOOKUP($A221,Results3,I$4,FALSE)","v":"Worc"},{"$f":"VLOOKUP($A221,Results3,J$3,FALSE)","v":1.35},{"$f":"VLOOKUP($A221,Results3,K$4,FALSE)","v":"Rad"},{"$f":"VLOOKUP($A221,Results3,L$3,FALSE)","v":1.35},{"$f":"VLOOKUP($A221,Results3,M$4,FALSE)","v":0},{"$f":"VLOOKUP($A221,Results3,N$3,FALSE)","v":0},{"$f":"VLOOKUP($A221,Results3,O$4,FALSE)","v":0},{"$f":"VLOOKUP($A221,Results3,P$3,FALSE)","v":0},{"$f":"VLOOKUP($A221,Results3,Q$4,FALSE)","v":0},{"$f":"VLOOKUP($A221,Results3,R$3,FALSE)","v":0},{"$f":"VLOOKUP($A221,Results3,S$4,FALSE)","v":0},{"$f":"VLOOKUP($A221,Results3,T$3,FALSE)","v":0},{"$f":"VLOOKUP($A221,Results3,U$4,FALSE)","v":0},{"$f":"VLOOKUP($A221,Results3,V$3,FALSE)","v":0},{"$f":"VLOOKUP($A221,Results3,W$4,FALSE)","v":8},{"$f":"VLOOKUP($A221,Results3,X$4,FALSE)","v":0},0,0,6,0,0,7]
[{"$f":"B221&\"B\"","v":"60B"},null,null,{"$f":"VLOOKUP(B221,EventsOrder,3,FALSE)","v":"High Jump"},"B",null,{"$f":"VLOOKUP($A222,Results3,G$3,FALSE)","v":""},null,{"$f":"VLOOKUP($A222,Results3,I$3,FALSE)","v":""},null,{"$f":"VLOOKUP($A222,Results3,K$3,FALSE)","v":""},null,{"$f":"VLOOKUP($A222,Results3,M$3,FALSE)","v":""},null,{"$f":"VLOOKUP($A222,Results3,O$3,FALSE)","v":""},null,{"$f":"VLOOKUP($A222,Results3,Q$3,FALSE)","v":""},null,{"$f":"VLOOKUP($A222,Results3,S$3,FALSE)","v":""},null,{"$f":"VLOOKUP($A222,Results3,U$3,FALSE)","v":""}]
[{"$f":"B221&\"B\"","v":"60B"},null,null,null,null,null,{"$f":"VLOOKUP($A223,Results3,G$4,FALSE)","v":0},{"$f":"VLOOKUP($A223,Results3,H$3,FALSE)","v":0},{"$f":"VLOOKUP($A223,Results3,I$4,FALSE)","v":0},{"$f":"VLOOKUP($A223,Results3,J$3,FALSE)","v":0},{"$f":"VLOOKUP($A223,Results3,K$4,FALSE)","v":0},{"$f":"VLOOKUP($A223,Results3,L$3,FALSE)","v":0},{"$f":"VLOOKUP($A223,Results3,M$4,FALSE)","v":0},{"$f":"VLOOKUP($A223,Results3,N$3,FALSE)","v":0},{"$f":"VLOOKUP($A223,Results3,O$4,FALSE)","v":0},{"$f":"VLOOKUP($A223,Results3,P$3,FALSE)","v":0},{"$f":"VLOOKUP($A223,Results3,Q$4,FALSE)","v":0},{"$f":"VLOOKUP($A223,Results3,R$3,FALSE)","v":0},{"$f":"VLOOKUP($A223,Results3,S$4,FALSE)","v":0},{"$f":"VLOOKUP($A223,Results3,T$3,FALSE)","v":0},{"$f":"VLOOKUP($A223,Results3,U$4,FALSE)","v":0},{"$f":"VLOOKUP($A223,Results3,V$3,FALSE)","v":0},{"$f":"VLOOKUP($A223,Results3,W$4,FALSE)","v":0},0,0,0,0,0,0,0]
[{"$f":"B225&\"A\"","v":"63A"},null,null,{"$f":"VLOOKUP(B225,EventsOrder,4,FALSE)","v":"U13 Female"},"A",null,{"$f":"VLOOKUP($A224,Results3,G$3,FALSE)","v":"Aimee Cochrane"},null,{"$f":"VLOOKUP($A224,Results3,I$3,FALSE)","v":"Isobel Orencas"},null,{"$f":"VLOOKUP($A224,Results3,K$3,FALSE)","v":"Millie Webb"},null,{"$f":"VLOOKUP($A224,Results3,M$3,FALSE)","v":"Raegan Sellers"},null,{"$f":"VLOOKUP($A224,Results3,O$3,FALSE)","v":"Maddison Hurley"},null,{"$f":"VLOOKUP($A224,Results3,Q$3,FALSE)","v":"Emilia Sims"},null,{"$f":"VLOOKUP($A224,Results3,S$3,FALSE)","v":"Sian Hubbard"},null,{"$f":"VLOOKUP($A224,Results3,U$3,FALSE)","v":"Hannah Gadd"},null,null,null,null,null,null,null,null,null,{"$f":"IF(LEN(G224)>1,1,0)","v":1}]
[{"$f":"B225&\"A\"","v":"63A"},63,{"$f":"VLOOKUP(B225,EventsOrder,2,FALSE)","v":3.35},null,null,null,{"$f":"VLOOKUP($A225,Results3,G$4,FALSE)","v":"Worc"},{"$f":"VLOOKUP($A225,Results3,H$3,FALSE)","v":30.1},{"$f":"VLOOKUP($A225,Results3,I$4,FALSE)","v":"Wreake"},{"$f":"VLOOKUP($A225,Results3,J$3,FALSE)","v":30.2},{"$f":"VLOOKUP($A225,Results3,K$4,FALSE)","v":"Kett"},{"$f":"VLOOKUP($A225,Results3,L$3,FALSE)","v":30.6},{"$f":"VLOOKUP($A225,Results3,M$4,FALSE)","v":"Ban"},{"$f":"VLOOKUP($A225,Results3,N$3,FALSE)","v":31.4},{"$f":"VLOOKUP($A225,Results3,O$4,FALSE)","v":"Rad"},{"$f":"VLOOKUP($A225,Results3,P$3,FALSE)","v":32.5},{"$f":"VLOOKUP($A225,Results3,Q$4,FALSE)","v":"Bic"},{"$f":"VLOOKUP($A225,Results3,R$3,FALSE)","v":34},{"$f":"VLOOKUP($A225,Results3,S$4,FALSE)","v":"Tam"},{"$f":"VLOOKUP($A225,Results3,T$3,FALSE)","v":34.4},{"$f":"VLOOKUP($A225,Results3,U$4,FALSE)","v":"DASH"},{"$f":"VLOOKUP($A225,Results3,V$3,FALSE)","v":34.6},{"$f":"VLOOKUP($A225,Results3,W$4,FALSE)","v":5},{"$f":"VLOOKUP($A225,Results3,X$4,FALSE)","v":3},1,6,4,2,7,8]
[{"$f":"B225&\"B\"","v":"63B"},null,null,{"$f":"VLOOKUP(B225,EventsOrder,3,FALSE)","v":"200m"},"B",null,{"$f":"VLOOKUP($A226,Results3,G$3,FALSE)","v":"Jemima Hobby"},null,{"$f":"VLOOKUP($A226,Results3,I$3,FALSE)","v":"Scarlett Maxwell-Munn"},null,{"$f":"VLOOKUP($A226,Results3,K$3,FALSE)","v":"Kaela Nelson"},null,{"$f":"VLOOKUP($A226,Results3,M$3,FALSE)","v":"Sophie Howie"},null,{"$f":"VLOOKUP($A226,Results3,O$3,FALSE)","v":"Rebecca Cullen"},null,{"$f":"VLOOKUP($A226,Results3,Q$3,FALSE)","v":"Imogen Ansell"},null,{"$f":"VLOOKUP($A226,Results3,S$3,FALSE)","v":"Georgina Weal"},null,{"$f":"VLOOKUP($A226,Results3,U$3,FALSE)","v":""}]
[{"$f":"B225&\"B\"","v":"63B"},null,null,null,null,null,{"$f":"VLOOKUP($A227,Results3,G$4,FALSE)","v":"Worc"},{"$f":"VLOOKUP($A227,Results3,H$3,FALSE)","v":30.5},{"$f":"VLOOKUP($A227,Results3,I$4,FALSE)","v":"Kett"},{"$f":"VLOOKUP($A227,Results3,J$3,FALSE)","v":31.1},{"$f":"VLOOKUP($A227,Results3,K$4,FALSE)","v":"Rad"},{"$f":"VLOOKUP($A227,Results3,L$3,FALSE)","v":31.7},{"$f":"VLOOKUP($A227,Results3,M$4,FALSE)","v":"Ban"},{"$f":"VLOOKUP($A227,Results3,N$3,FALSE)","v":31.8},{"$f":"VLOOKUP($A227,Results3,O$4,FALSE)","v":"Wreake"},{"$f":"VLOOKUP($A227,Results3,P$3,FALSE)","v":33},{"$f":"VLOOKUP($A227,Results3,Q$4,FALSE)","v":"Bic"},{"$f":"VLOOKUP($A227,Results3,R$3,FALSE)","v":34.200000000000003},{"$f":"VLOOKUP($A227,Results3,S$4,FALSE)","v":"Tam"},{"$f":"VLOOKUP($A227,Results3,T$3,FALSE)","v":34.299999999999997},{"$f":"VLOOKUP($A227,Results3,U$4,FALSE)","v":0},{"$f":"VLOOKUP($A227,Results3,V$3,FALSE)","v":0},{"$f":"VLOOKUP($A227,Results3,W$4,FALSE)","v":5},3,0,7,6,2,4,8]
[{"$f":"B229&\"A\"","v":"64A"},null,null,{"$f":"VLOOKUP(B229,EventsOrder,4,FALSE)","v":"U13 Male"},"A",null,{"$f":"VLOOKUP($A228,Results3,G$3,FALSE)","v":"Samuel Rose"},null,{"$f":"VLOOKUP($A228,Results3,I$3,FALSE)","v":"Jack Compton"},null,{"$f":"VLOOKUP($A228,Results3,K$3,FALSE)","v":"Kai Buckley"},null,{"$f":"VLOOKUP($A228,Results3,M$3,FALSE)","v":"Cole Sinnott"},null,{"$f":"VLOOKUP($A228,Results3,O$3,FALSE)","v":"Ben Groves"},null,{"$f":"VLOOKUP($A228,Results3,Q$3,FALSE)","v":"Reuben Taylor-George"},null,{"$f":"VLOOKUP($A228,Results3,S$3,FALSE)","v":"Archie Jones"},null,{"$f":"VLOOKUP($A228,Results3,U$3,FALSE)","v":"Matthew Reuben"},null,null,null,null,null,null,null,null,null,{"$f":"IF(LEN(G228)>1,1,0)","v":1}]
[{"$f":"B229&\"A\"","v":"64A"},64,{"$f":"VLOOKUP(B229,EventsOrder,2,FALSE)","v":3.2},null,null,null,{"$f":"VLOOKUP($A229,Results3,G$4,FALSE)","v":"Rad"},{"$f":"VLOOKUP($A229,Results3,H$3,FALSE)","v":4.22},{"$f":"VLOOKUP($A229,Results3,I$4,FALSE)","v":"DASH"},{"$f":"VLOOKUP($A229,Results3,J$3,FALSE)","v":4.13},{"$f":"VLOOKUP($A229,Results3,K$4,FALSE)","v":"Tam"},{"$f":"VLOOKUP($A229,Results3,L$3,FALSE)","v":4.03},{"$f":"VLOOKUP($A229,Results3,M$4,FALSE)","v":"Kett"},{"$f":"VLOOKUP($A229,Results3,N$3,FALSE)","v":3.98},{"$f":"VLOOKUP($A229,Results3,O$4,FALSE)","v":"Bic"},{"$f":"VLOOKUP($A229,Results3,P$3,FALSE)","v":3.97},{"$f":"VLOOKUP($A229,Results3,Q$4,FALSE)","v":"Worc"},{"$f":"VLOOKUP($A229,Results3,R$3,FALSE)","v":3.89},{"$f":"VLOOKUP($A229,Results3,S$4,FALSE)","v":"Ban"},{"$f":"VLOOKUP($A229,Results3,T$3,FALSE)","v":3.7},{"$f":"VLOOKUP($A229,Results3,U$4,FALSE)","v":"Wreake"},{"$f":"VLOOKUP($A229,Results3,V$3,FALSE)","v":3.69},{"$f":"VLOOKUP($A229,Results3,W$4,FALSE)","v":2},{"$f":"VLOOKUP($A229,Results3,X$4,FALSE)","v":4},7,5,8,6,1,3]
[{"$f":"B229&\"B\"","v":"64B"},null,null,{"$f":"VLOOKUP(B229,EventsOrder,3,FALSE)","v":"Long Jump"},"B",null,{"$f":"VLOOKUP($A230,Results3,G$3,FALSE)","v":"Samuel Rayson"},null,{"$f":"VLOOKUP($A230,Results3,I$3,FALSE)","v":"Harry Cunningham"},null,{"$f":"VLOOKUP($A230,Results3,K$3,FALSE)","v":"Nathan Pearson"},null,{"$f":"VLOOKUP($A230,Results3,M$3,FALSE)","v":"Benjamin Cumberland"},null,{"$f":"VLOOKUP($A230,Results3,O$3,FALSE)","v":"Oran Au"},null,{"$f":"VLOOKUP($A230,Results3,Q$3,FALSE)","v":"Euan Gibbs"},null,{"$f":"VLOOKUP($A230,Results3,S$3,FALSE)","v":""},null,{"$f":"VLOOKUP($A230,Results3,U$3,FALSE)","v":""}]
[{"$f":"B229&\"B\"","v":"64B"},null,null,null,null,null,{"$f":"VLOOKUP($A231,Results3,G$4,FALSE)","v":"Bic"},{"$f":"VLOOKUP($A231,Results3,H$3,FALSE)","v":3.87},{"$f":"VLOOKUP($A231,Results3,I$4,FALSE)","v":"Worc"},{"$f":"VLOOKUP($A231,Results3,J$3,FALSE)","v":3.78},{"$f":"VLOOKUP($A231,Results3,K$4,FALSE)","v":"DASH"},{"$f":"VLOOKUP($A231,Results3,L$3,FALSE)","v":3.72},{"$f":"VLOOKUP($A231,Results3,M$4,FALSE)","v":"Rad"},{"$f":"VLOOKUP($A231,Results3,N$3,FALSE)","v":3.68},{"$f":"VLOOKUP($A231,Results3,O$4,FALSE)","v":"Tam"},{"$f":"VLOOKUP($A231,Results3,P$3,FALSE)","v":3.53},{"$f":"VLOOKUP($A231,Results3,Q$4,FALSE)","v":"Wreake"},{"$f":"VLOOKUP($A231,Results3,R$3,FALSE)","v":3.44},{"$f":"VLOOKUP($A231,Results3,S$4,FALSE)","v":0},{"$f":"VLOOKUP($A231,Results3,T$3,FALSE)","v":0},{"$f":"VLOOKUP($A231,Results3,U$4,FALSE)","v":0},{"$f":"VLOOKUP($A231,Results3,V$3,FALSE)","v":0},{"$f":"VLOOKUP($A231,Results3,W$4,FALSE)","v":0},8,6,0,5,4,3,7]
[{"$f":"B233&\"A\"","v":"65A"},null,null,{"$f":"VLOOKUP(B233,EventsOrder,4,FALSE)","v":"U13 Female"},"A",null,{"$f":"VLOOKUP($A232,Results3,G$3,FALSE)","v":"Amber Hopkins"},null,{"$f":"VLOOKUP($A232,Results3,I$3,FALSE)","v":"Amber Parker"},null,{"$f":"VLOOKUP($A232,Results3,K$3,FALSE)","v":"Maddy Dowden"},null,{"$f":"VLOOKUP($A232,Results3,M$3,FALSE)","v":"Charlotte Cox"},null,{"$f":"VLOOKUP($A232,Results3,O$3,FALSE)","v":"Zara Gibbs"},null,{"$f":"VLOOKUP($A232,Results3,Q$3,FALSE)","v":"Alice Mason"},null,{"$f":"VLOOKUP($A232,Results3,S$3,FALSE)","v":"Isabelle Wilson"},null,{"$f":"VLOOKUP($A232,Results3,U$3,FALSE)","v":"Maddison Hurley"},null,null,null,null,null,null,null,null,null,{"$f":"IF(LEN(G232)>1,1,0)","v":1}]
[{"$f":"B233&\"A\"","v":"65A"},65,{"$f":"VLOOKUP(B233,EventsOrder,2,FALSE)","v":3.3},null,null,null,{"$f":"VLOOKUP($A233,Results3,G$4,FALSE)","v":"Worc"},{"$f":"VLOOKUP($A233,Results3,H$3,FALSE)","v":6.35},{"$f":"VLOOKUP($A233,Results3,I$4,FALSE)","v":"Bic"},{"$f":"VLOOKUP($A233,Results3,J$3,FALSE)","v":6.34},{"$f":"VLOOKUP($A233,Results3,K$4,FALSE)","v":"Ban"},{"$f":"VLOOKUP($A233,Results3,L$3,FALSE)","v":6.1},{"$f":"VLOOKUP($A233,Results3,M$4,FALSE)","v":"Kett"},{"$f":"VLOOKUP($A233,Results3,N$3,FALSE)","v":5.58},{"$f":"VLOOKUP($A233,Results3,O$4,FALSE)","v":"DASH"},{"$f":"VLOOKUP($A233,Results3,P$3,FALSE)","v":5.57},{"$f":"VLOOKUP($A233,Results3,Q$4,FALSE)","v":"Tam"},{"$f":"VLOOKUP($A233,Results3,R$3,FALSE)","v":5.57},{"$f":"VLOOKUP($A233,Results3,S$4,FALSE)","v":"Wreake"},{"$f":"VLOOKUP($A233,Results3,T$3,FALSE)","v":5.15},{"$f":"VLOOKUP($A233,Results3,U$4,FALSE)","v":"Rad"},{"$f":"VLOOKUP($A233,Results3,V$3,FALSE)","v":4.2},{"$f":"VLOOKUP($A233,Results3,W$4,FALSE)","v":6},{"$f":"VLOOKUP($A233,Results3,X$4,FALSE)","v":7},4,5,1,3,2,8]
[{"$f":"B233&\"B\"","v":"65B"},null,null,{"$f":"VLOOKUP(B233,EventsOrder,3,FALSE)","v":"Shot"},"B",null,{"$f":"VLOOKUP($A234,Results3,G$3,FALSE)","v":"Ani Patrick"},null,{"$f":"VLOOKUP($A234,Results3,I$3,FALSE)","v":"Lucy Thompson"},null,{"$f":"VLOOKUP($A234,Results3,K$3,FALSE)","v":"Indie King"},null,{"$f":"VLOOKUP($A234,Results3,M$3,FALSE)","v":"Erin Fabri"},null,{"$f":"VLOOKUP($A234,Results3,O$3,FALSE)","v":"Alina Gunnard"},null,{"$f":"VLOOKUP($A234,Results3,Q$3,FALSE)","v":"Amelia Brew"},null,{"$f":"VLOOKUP($A234,Results3,S$3,FALSE)","v":"Tegan Vickery"},null,{"$f":"VLOOKUP($A234,Results3,U$3,FALSE)","v":"Imogen Nix"}]
[{"$f":"B233&\"B\"","v":"65B"},null,null,null,null,null,{"$f":"VLOOKUP($A235,Results3,G$4,FALSE)","v":"Worc"},{"$f":"VLOOKUP($A235,Results3,H$3,FALSE)","v":6.07},{"$f":"VLOOKUP($A235,Results3,I$4,FALSE)","v":"Ban"},{"$f":"VLOOKUP($A235,Results3,J$3,FALSE)","v":5.5},{"$f":"VLOOKUP($A235,Results3,K$4,FALSE)","v":"Wreake"},{"$f":"VLOOKUP($A235,Results3,L$3,FALSE)","v":5.0599999999999996},{"$f":"VLOOKUP($A235,Results3,M$4,FALSE)","v":"Bic"},{"$f":"VLOOKUP($A235,Results3,N$3,FALSE)","v":4.5199999999999996},{"$f":"VLOOKUP($A235,Results3,O$4,FALSE)","v":"DASH"},{"$f":"VLOOKUP($A235,Results3,P$3,FALSE)","v":4.45},{"$f":"VLOOKUP($A235,Results3,Q$4,FALSE)","v":"Rad"},{"$f":"VLOOKUP($A235,Results3,R$3,FALSE)","v":4.0599999999999996},{"$f":"VLOOKUP($A235,Results3,S$4,FALSE)","v":"Tam"},{"$f":"VLOOKUP($A235,Results3,T$3,FALSE)","v":3.33},{"$f":"VLOOKUP($A235,Results3,U$4,FALSE)","v":"Kett"},{"$f":"VLOOKUP($A235,Results3,V$3,FALSE)","v":2.85},{"$f":"VLOOKUP($A235,Results3,W$4,FALSE)","v":7},5,4,1,3,2,6,8]
[{"$f":"B237&\"A\"","v":"66A"},null,null,{"$f":"VLOOKUP(B237,EventsOrder,4,FALSE)","v":"U15 Male"},"A",null,{"$f":"VLOOKUP($A236,Results3,G$3,FALSE)","v":"Will Smith"},null,{"$f":"VLOOKUP($A236,Results3,I$3,FALSE)","v":"Will Simms"},null,{"$f":"VLOOKUP($A236,Results3,K$3,FALSE)","v":"Henri Codling"},null,{"$f":"VLOOKUP($A236,Results3,M$3,FALSE)","v":"Harry Walters"},null,{"$f":"VLOOKUP($A236,Results3,O$3,FALSE)","v":"Reece Westwood"},null,{"$f":"VLOOKUP($A236,Results3,Q$3,FALSE)","v":"Roman Watson-Quilter"},null,{"$f":"VLOOKUP($A236,Results3,S$3,FALSE)","v":"James Sherriff"},null,{"$f":"VLOOKUP($A236,Results3,U$3,FALSE)","v":""},null,null,null,null,null,null,null,null,null,{"$f":"IF(LEN(G236)>1,1,0)","v":1}]
[{"$f":"B237&\"A\"","v":"66A"},66,{"$f":"VLOOKUP(B237,EventsOrder,2,FALSE)","v":3.3},null,null,null,{"$f":"VLOOKUP($A237,Results3,G$4,FALSE)","v":"Rad"},{"$f":"VLOOKUP($A237,Results3,H$3,FALSE)","v":27.54},{"$f":"VLOOKUP($A237,Results3,I$4,FALSE)","v":"Bic"},{"$f":"VLOOKUP($A237,Results3,J$3,FALSE)","v":17.68},{"$f":"VLOOKUP($A237,Results3,K$4,FALSE)","v":"Kett"},{"$f":"VLOOKUP($A237,Results3,L$3,FALSE)","v":16.36},{"$f":"VLOOKUP($A237,Results3,M$4,FALSE)","v":"DASH"},{"$f":"VLOOKUP($A237,Results3,N$3,FALSE)","v":13.87},{"$f":"VLOOKUP($A237,Results3,O$4,FALSE)","v":"Worc"},{"$f":"VLOOKUP($A237,Results3,P$3,FALSE)","v":13.4},{"$f":"VLOOKUP($A237,Results3,Q$4,FALSE)","v":"Wreake"},{"$f":"VLOOKUP($A237,Results3,R$3,FALSE)","v":12.61},{"$f":"VLOOKUP($A237,Results3,S$4,FALSE)","v":"Tam"},{"$f":"VLOOKUP($A237,Results3,T$3,FALSE)","v":11.57},{"$f":"VLOOKUP($A237,Results3,U$4,FALSE)","v":0},{"$f":"VLOOKUP($A237,Results3,V$3,FALSE)","v":0},{"$f":"VLOOKUP($A237,Results3,W$4,FALSE)","v":0},{"$f":"VLOOKUP($A237,Results3,X$4,FALSE)","v":7},5,6,8,2,3,4]
[{"$f":"B237&\"B\"","v":"66B"},null,null,{"$f":"VLOOKUP(B237,EventsOrder,3,FALSE)","v":"Discus"},"B",null,{"$f":"VLOOKUP($A238,Results3,G$3,FALSE)","v":"Dylan Bowley"},null,{"$f":"VLOOKUP($A238,Results3,I$3,FALSE)","v":"Samuel Worfolk"},null,{"$f":"VLOOKUP($A238,Results3,K$3,FALSE)","v":"Max Kent"},null,{"$f":"VLOOKUP($A238,Results3,M$3,FALSE)","v":"Lucca Watson-Quilter"},null,{"$f":"VLOOKUP($A238,Results3,O$3,FALSE)","v":"Zak Thurley"},null,{"$f":"VLOOKUP($A238,Results3,Q$3,FALSE)","v":""},null,{"$f":"VLOOKUP($A238,Results3,S$3,FALSE)","v":""},null,{"$f":"VLOOKUP($A238,Results3,U$3,FALSE)","v":""}]
[{"$f":"B237&\"B\"","v":"66B"},null,null,null,null,null,{"$f":"VLOOKUP($A239,Results3,G$4,FALSE)","v":"Kett"},{"$f":"VLOOKUP($A239,Results3,H$3,FALSE)","v":14.79},{"$f":"VLOOKUP($A239,Results3,I$4,FALSE)","v":"Bic"},{"$f":"VLOOKUP($A239,Results3,J$3,FALSE)","v":14.57},{"$f":"VLOOKUP($A239,Results3,K$4,FALSE)","v":"Tam"},{"$f":"VLOOKUP($A239,Results3,L$3,FALSE)","v":11.41},{"$f":"VLOOKUP($A239,Results3,M$4,FALSE)","v":"Wreake"},{"$f":"VLOOKUP($A239,Results3,N$3,FALSE)","v":11.23},{"$f":"VLOOKUP($A239,Results3,O$4,FALSE)","v":"DASH"},{"$f":"VLOOKUP($A239,Results3,P$3,FALSE)","v":9.75},{"$f":"VLOOKUP($A239,Results3,Q$4,FALSE)","v":0},{"$f":"VLOOKUP($A239,Results3,R$3,FALSE)","v":0},{"$f":"VLOOKUP($A239,Results3,S$4,FALSE)","v":0},{"$f":"VLOOKUP($A239,Results3,T$3,FALSE)","v":0},{"$f":"VLOOKUP($A239,Results3,U$4,FALSE)","v":0},{"$f":"VLOOKUP($A239,Results3,V$3,FALSE)","v":0},{"$f":"VLOOKUP($A239,Results3,W$4,FALSE)","v":0},7,4,8,0,6,5,0]
[null,null,null,null,null,null,null,null,null,null,null,null,null,null,null,null,null,null,null,null,"Officials Points",null,{"$f":"Officials!C$20","v":14},{"$f":"Officials!D$20","v":14},{"$f":"Officials!E$20","v":10},{"$f":"Officials!F$20","v":8},{"$f":"Officials!G$20","v":14},{"$f":"Officials!H$20","v":6},{"$f":"Officials!I$20","v":8},{"$f":"Officials!J$20","v":14}]
[null,{"$f":"COUNTIF(B200:B240,\">0\")","v":10},null,null,null,null,null,null,null,null,null,null,null,null,null,null,null,null,null,null,"Total Points",null,{"$f":"SUM(W200:W240)+W194","v":272},{"$f":"SUM(X200:X240)+X194","v":227},276,366,503,197,352,489,{"$f":"SUM(AE200:AE239)","v":9}]
[null,null,null,null,null,null,null,null,null,null,null,null,null,null,null,null,null,null,null,null,"Match Position",null,{"$f":"RANK(W241,$W241:$AD241)","v":6},7,5,3,1,8,4,2]
[]
[null,"Event No",null,null,null,null,null,null,null,null,{"$f":"K197","v":"Heart of England League Results in Event Order"},null,null,null,null,null,null,null,null,null,null,null,{"$f":"W$8","v":"Banbury"},{"$f":"X$8","v":"Bicester"},"Dudley & S'bridge","Kettering","Radley","Tamworth","Wreake Runners","Worcester"]
[null,null,null,"Division",{"$f":"E198","v":2},null,null,null,null,null,"Venue",{"$f":"L198","v":"Worcester"},null,null,null,null,"Date",{"$f":"R198","v":"5th June 2016"}]
[null,null,"Time","Event",null,null,"First",null,"Second",null,"Third",null,"Fourth",null,"Fifth",null,"Sixth",null,"Seventh",null,"Eighth",null,{"$f":"W$10","v":"J"},{"$f":"X$10","v":"P"},"B","I","R","F","X","Y"]
[{"$f":"B248&\"A\"","v":"67A"},null,null,{"$f":"VLOOKUP(B248,EventsOrder,4,FALSE)","v":"U17 Men"},"A",null,{"$f":"VLOOKUP($A247,Results3,G$3,FALSE)","v":""},null,{"$f":"VLOOKUP($A247,Results3,I$3,FALSE)","v":""},null,{"$f":"VLOOKUP($A247,Results3,K$3,FALSE)","v":""},null,{"$f":"VLOOKUP($A247,Results3,M$3,FALSE)","v":""},null,{"$f":"VLOOKUP($A247,Results3,O$3,FALSE)","v":""},null,{"$f":"VLOOKUP($A247,Results3,Q$3,FALSE)","v":""},null,{"$f":"VLOOKUP($A247,Results3,S$3,FALSE)","v":""},null,{"$f":"VLOOKUP($A247,Results3,U$3,FALSE)","v":""},null,null,null,null,null,null,null,null,null,{"$f":"IF(LEN(G247)>1,1,0)","v":0}]
[{"$f":"B248&\"A\"","v":"67A"},67,{"$f":"VLOOKUP(B248,EventsOrder,2,FALSE)","v":3.3},null,null,null,{"$f":"VLOOKUP($A248,Results3,G$4,FALSE)","v":0},{"$f":"VLOOKUP($A248,Results3,H$3,FALSE)","v":0},{"$f":"VLOOKUP($A248,Results3,I$4,FALSE)","v":0},{"$f":"VLOOKUP($A248,Results3,J$3,FALSE)","v":0},{"$f":"VLOOKUP($A248,Results3,K$4,FALSE)","v":0},{"$f":"VLOOKUP($A248,Results3,L$3,FALSE)","v":0},{"$f":"VLOOKUP($A248,Results3,M$4,FALSE)","v":0},{"$f":"VLOOKUP($A248,Results3,N$3,FALSE)","v":0},{"$f":"VLOOKUP($A248,Results3,O$4,FALSE)","v":0},{"$f":"VLOOKUP($A248,Results3,P$3,FALSE)","v":0},{"$f":"VLOOKUP($A248,Results3,Q$4,FALSE)","v":0},{"$f":"VLOOKUP($A248,Results3,R$3,FALSE)","v":0},{"$f":"VLOOKUP($A248,Results3,S$4,FALSE)","v":0},{"$f":"VLOOKUP($A248,Results3,T$3,FALSE)","v":0},{"$f":"VLOOKUP($A248,Results3,U$4,FALSE)","v":0},{"$f":"VLOOKUP($A248,Results3,V$3,FALSE)","v":0},{"$f":"VLOOKUP($A248,Results3,W$4,FALSE)","v":0},{"$f":"VLOOKUP($A248,Results3,X$4,FALSE)","v":0},0,0,0,0,0,0]
[{"$f":"B248&\"B\"","v":"67B"},null,null,{"$f":"VLOOKUP(B248,EventsOrder,3,FALSE)","v":"Javelin"},"B",null,{"$f":"VLOOKUP($A249,Results3,G$3,FALSE)","v":""},null,{"$f":"VLOOKUP($A249,Results3,I$3,FALSE)","v":""},null,{"$f":"VLOOKUP($A249,Results3,K$3,FALSE)","v":""},null,{"$f":"VLOOKUP($A249,Results3,M$3,FALSE)","v":""},null,{"$f":"VLOOKUP($A249,Results3,O$3,FALSE)","v":""},null,{"$f":"VLOOKUP($A249,Results3,Q$3,FALSE)","v":""},null,{"$f":"VLOOKUP($A249,Results3,S$3,FALSE)","v":""},null,{"$f":"VLOOKUP($A249,Results3,U$3,FALSE)","v":""}]
[{"$f":"B248&\"B\"","v":"67B"},null,null,null,null,null,{"$f":"VLOOKUP($A250,Results3,G$4,FALSE)","v":0},{"$f":"VLOOKUP($A250,Results3,H$3,FALSE)","v":0},{"$f":"VLOOKUP($A250,Results3,I$4,FALSE)","v":0},{"$f":"VLOOKUP($A250,Results3,J$3,FALSE)","v":0},{"$f":"VLOOKUP($A250,Results3,K$4,FALSE)","v":0},{"$f":"VLOOKUP($A250,Results3,L$3,FALSE)","v":0},{"$f":"VLOOKUP($A250,Results3,M$4,FALSE)","v":0},{"$f":"VLOOKUP($A250,Results3,N$3,FALSE)","v":0},{"$f":"VLOOKUP($A250,Results3,O$4,FALSE)","v":0},{"$f":"VLOOKUP($A250,Results3,P$3,FALSE)","v":0},{"$f":"VLOOKUP($A250,Results3,Q$4,FALSE)","v":0},{"$f":"VLOOKUP($A250,Results3,R$3,FALSE)","v":0},{"$f":"VLOOKUP($A250,Results3,S$4,FALSE)","v":0},{"$f":"VLOOKUP($A250,Results3,T$3,FALSE)","v":0},{"$f":"VLOOKUP($A250,Results3,U$4,FALSE)","v":0},{"$f":"VLOOKUP($A250,Results3,V$3,FALSE)","v":0},{"$f":"VLOOKUP($A250,Results3,W$4,FALSE)","v":0},0,0,0,0,0,0,0]
[{"$f":"B252&\"A\"","v":"68A"},null,null,{"$f":"VLOOKUP(B252,EventsOrder,4,FALSE)","v":"U15 Female"},"A",null,{"$f":"VLOOKUP($A251,Results3,G$3,FALSE)","v":"Josie Orange"},null,{"$f":"VLOOKUP($A251,Results3,I$3,FALSE)","v":"Ellen Smith"},null,{"$f":"VLOOKUP($A251,Results3,K$3,FALSE)","v":"Eve Clawley"},null,{"$f":"VLOOKUP($A251,Results3,M$3,FALSE)","v":"Holly Griffiths-Brown"},null,{"$f":"VLOOKUP($A251,Results3,O$3,FALSE)","v":"Lydia Wehling"},null,{"$f":"VLOOKUP($A251,Results3,Q$3,FALSE)","v":"Claudia Lee"},null,{"$f":"VLOOKUP($A251,Results3,S$3,FALSE)","v":"Charlotte Hewett"},null,{"$f":"VLOOKUP($A251,Results3,U$3,FALSE)","v":"Emelina Darvell"},null,null,null,null,null,null,null,null,null,{"$f":"IF(LEN(G251)>1,1,0)","v":1}]
[{"$f":"B252&\"A\"","v":"68A"},68,{"$f":"VLOOKUP(B252,EventsOrder,2,FALSE)","v":3.4},null,null,null,{"$f":"VLOOKUP($A252,Results3,G$4,FALSE)","v":"Wreake"},{"$f":"VLOOKUP($A252,Results3,H$3,FALSE)","v":27.4},{"$f":"VLOOKUP($A252,Results3,I$4,FALSE)","v":"Kett"},{"$f":"VLOOKUP($A252,Results3,J$3,FALSE)","v":27.5},{"$f":"VLOOKUP($A252,Results3,K$4,FALSE)","v":"Tam"},{"$f":"VLOOKUP($A252,Results3,L$3,FALSE)","v":27.9},{"$f":"VLOOKUP($A252,Results3,M$4,FALSE)","v":"Rad"},{"$f":"VLOOKUP($A252,Results3,N$3,FALSE)","v":28.1},{"$f":"VLOOKUP($A252,Results3,O$4,FALSE)","v":"Worc"},{"$f":"VLOOKUP($A252,Results3,P$3,FALSE)","v":28.4},{"$f":"VLOOKUP($A252,Results3,Q$4,FALSE)","v":"DASH"},{"$f":"VLOOKUP($A252,Results3,R$3,FALSE)","v":28.7},{"$f":"VLOOKUP($A252,Results3,S$4,FALSE)","v":"Bic"},{"$f":"VLOOKUP($A252,Results3,T$3,FALSE)","v":31},{"$f":"VLOOKUP($A252,Results3,U$4,FALSE)","v":"Ban"},{"$f":"VLOOKUP($A252,Results3,V$3,FALSE)","v":32},{"$f":"VLOOKUP($A252,Results3,W$4,FALSE)","v":1},{"$f":"VLOOKUP($A252,Results3,X$4,FALSE)","v":2},3,7,5,6,8,4]
[{"$f":"B252&\"B\"","v":"68B"},null,null,{"$f":"VLOOKUP(B252,EventsOrder,3,FALSE)","v":"200m"},"B",null,{"$f":"VLOOKUP($A253,Results3,G$3,FALSE)","v":"Grace Slater"},null,{"$f":"VLOOKUP($A253,Results3,I$3,FALSE)","v":"Deanna Clarke"},null,{"$f":"VLOOKUP($A253,Results3,K$3,FALSE)","v":"Poppy Tott-Buswell"},null,{"$f":"VLOOKUP($A253,Results3,M$3,FALSE)","v":"Harmony Hart"},null,{"$f":"VLOOKUP($A253,Results3,O$3,FALSE)","v":"Olivia Butler"},null,{"$f":"VLOOKUP($A253,Results3,Q$3,FALSE)","v":""},null,{"$f":"VLOOKUP($A253,Results3,S$3,FALSE)","v":""},null,{"$f":"VLOOKUP($A253,Results3,U$3,FALSE)","v":""}]
[{"$f":"B252&\"B\"","v":"68B"},null,null,null,null,null,{"$f":"VLOOKUP($A254,Results3,G$4,FALSE)","v":"DASH"},{"$f":"VLOOKUP($A254,Results3,H$3,FALSE)","v":28.3},{"$f":"VLOOKUP($A254,Results3,I$4,FALSE)","v":"Worc"},{"$f":"VLOOKUP($A254,Results3,J$3,FALSE)","v":28.4},{"$f":"VLOOKUP($A254,Results3,K$4,FALSE)","v":"Wreake"},{"$f":"VLOOKUP($A254,Results3,L$3,FALSE)","v":28.6},{"$f":"VLOOKUP($A254,Results3,M$4,FALSE)","v":"Kett"},{"$f":"VLOOKUP($A254,Results3,N$3,FALSE)","v":29.2},{"$f":"VLOOKUP($A254,Results3,O$4,FALSE)","v":"Rad"},{"$f":"VLOOKUP($A254,Results3,P$3,FALSE)","v":29.8},{"$f":"VLOOKUP($A254,Results3,Q$4,FALSE)","v":0},{"$f":"VLOOKUP($A254,Results3,R$3,FALSE)","v":0},{"$f":"VLOOKUP($A254,Results3,S$4,FALSE)","v":0},{"$f":"VLOOKUP($A254,Results3,T$3,FALSE)","v":0},{"$f":"VLOOKUP($A254,Results3,U$4,FALSE)","v":0},{"$f":"VLOOKUP($A254,Results3,V$3,FALSE)","v":0},{"$f":"VLOOKUP($A254,Results3,W$4,FALSE)","v":0},0,8,5,4,0,6,7]
[{"$f":"B256&\"A\"","v":"69A"},null,null,{"$f":"VLOOKUP(B256,EventsOrder,4,FALSE)","v":"U17 F/Women"},"A",null,{"$f":"VLOOKUP($A255,Results3,G$3,FALSE)","v":"Erin Healy"},null,{"$f":"VLOOKUP($A255,Results3,I$3,FALSE)","v":"Hannah Kenwright"},null,{"$f":"VLOOKUP($A255,Results3,K$3,FALSE)","v":"Stephanie Mott"},null,{"$f":"VLOOKUP($A255,Results3,M$3,FALSE)","v":"Ella Grainger"},null,{"$f":"VLOOKUP($A255,Results3,O$3,FALSE)","v":"Lauren Millward"},null,{"$f":"VLOOKUP($A255,Results3,Q$3,FALSE)","v":"Helen Dubber"},null,{"$f":"VLOOKUP($A255,Results3,S$3,FALSE)","v":"U20 Emily Benfield"},null,{"$f":"VLOOKUP($A255,Results3,U$3,FALSE)","v":""},null,null,null,null,null,null,null,null,null,{"$f":"IF(LEN(G255)>1,1,0)","v":1}]
[{"$f":"B256&\"A\"","v":"69A"},69,{"$f":"VLOOKUP(B256,EventsOrder,2,FALSE)","v":3.45},null,null,null,{"$f":"VLOOKUP($A256,Results3,G$4,FALSE)","v":"Kett"},{"$f":"VLOOKUP($A256,Results3,H$3,FALSE)","v":26.1},{"$f":"VLOOKUP($A256,Results3,I$4,FALSE)","v":"Worc"},{"$f":"VLOOKUP($A256,Results3,J$3,FALSE)","v":26.8},{"$f":"VLOOKUP($A256,Results3,K$4,FALSE)","v":"Rad"},{"$f":"VLOOKUP($A256,Results3,L$3,FALSE)","v":28.2},{"$f":"VLOOKUP($A256,Results3,M$4,FALSE)","v":"Wreake"},{"$f":"VLOOKUP($A256,Results3,N$3,FALSE)","v":28.5},{"$f":"VLOOKUP($A256,Results3,O$4,FALSE)","v":"DASH"},{"$f":"VLOOKUP($A256,Results3,P$3,FALSE)","v":28.8},{"$f":"VLOOKUP($A256,Results3,Q$4,FALSE)","v":"Ban"},{"$f":"VLOOKUP($A256,Results3,R$3,FALSE)","v":29.9},{"$f":"VLOOKUP($A256,Results3,S$4,FALSE)","v":"Bic"},{"$f":"VLOOKUP($A256,Results3,T$3,FALSE)","v":31},{"$f":"VLOOKUP($A256,Results3,U$4,FALSE)","v":0},{"$f":"VLOOKUP($A256,Results3,V$3,FALSE)","v":0},{"$f":"VLOOKUP($A256,Results3,W$4,FALSE)","v":3},{"$f":"VLOOKUP($A256,Results3,X$4,FALSE)","v":2},4,8,6,0,5,7]
[{"$f":"B256&\"B\"","v":"69B"},null,null,{"$f":"VLOOKUP(B256,EventsOrder,3,FALSE)","v":"200m"},"B",null,{"$f":"VLOOKUP($A257,Results3,G$3,FALSE)","v":"Ellie Boulton"},null,{"$f":"VLOOKUP($A257,Results3,I$3,FALSE)","v":"Jess Anstice U23"},null,{"$f":"VLOOKUP($A257,Results3,K$3,FALSE)","v":"Megan Luxford"},null,{"$f":"VLOOKUP($A257,Results3,M$3,FALSE)","v":"Becky Donnelly (senior)"},null,{"$f":"VLOOKUP($A257,Results3,O$3,FALSE)","v":""},null,{"$f":"VLOOKUP($A257,Results3,Q$3,FALSE)","v":""},null,{"$f":"VLOOKUP($A257,Results3,S$3,FALSE)","v":""},null,{"$f":"VLOOKUP($A257,Results3,U$3,FALSE)","v":""}]
[{"$f":"B256&\"B\"","v":"69B"},null,null,null,null,null,{"$f":"VLOOKUP($A258,Results3,G$4,FALSE)","v":"Kett"},{"$f":"VLOOKUP($A258,Results3,H$3,FALSE)","v":27.7},{"$f":"VLOOKUP($A258,Results3,I$4,FALSE)","v":"Rad"},{"$f":"VLOOKUP($A258,Results3,J$3,FALSE)","v":28.3},{"$f":"VLOOKUP($A258,Results3,K$4,FALSE)","v":"Wreake"},{"$f":"VLOOKUP($A258,Results3,L$3,FALSE)","v":29.6},{"$f":"VLOOKUP($A258,Results3,M$4,FALSE)","v":"Worc"},{"$f":"VLOOKUP($A258,Results3,N$3,FALSE)","v":30.2},{"$f":"VLOOKUP($A258,Results3,O$4,FALSE)","v":0},{"$f":"VLOOKUP($A258,Results3,P$3,FALSE)","v":0},{"$f":"VLOOKUP($A258,Results3,Q$4,FALSE)","v":0},{"$f":"VLOOKUP($A258,Results3,R$3,FALSE)","v":0},{"$f":"VLOOKUP($A258,Results3,S$4,FALSE)","v":0},{"$f":"VLOOKUP($A258,Results3,T$3,FALSE)","v":0},{"$f":"VLOOKUP($A258,Results3,U$4,FALSE)","v":0},{"$f":"VLOOKUP($A258,Results3,V$3,FALSE)","v":0},{"$f":"VLOOKUP($A258,Results3,W$4,FALSE)","v":0},0,0,8,7,0,6,5]
[{"$f":"B260&\"A\"","v":"70A"},null,null,{"$f":"VLOOKUP(B260,EventsOrder,4,FALSE)","v":"U13 Male"},"A",null,{"$f":"VLOOKUP($A259,Results3,G$3,FALSE)","v":"Max Mowforth"},null,{"$f":"VLOOKUP($A259,Results3,I$3,FALSE)","v":"David Seidu"},null,{"$f":"VLOOKUP($A259,Results3,K$3,FALSE)","v":"Christopher Charles"},null,{"$f":"VLOOKUP($A259,Results3,M$3,FALSE)","v":"Adam Dudley"},null,{"$f":"VLOOKUP($A259,Results3,O$3,FALSE)","v":"Oran Au"},null,{"$f":"VLOOKUP($A259,Results3,Q$3,FALSE)","v":"Callum Hewett"},null,{"$f":"VLOOKUP($A259,Results3,S$3,FALSE)","v":"Samuel Rose"},null,{"$f":"VLOOKUP($A259,Results3,U$3,FALSE)","v":"Tom Fallon"},null,null,null,null,null,null,null,null,null,{"$f":"IF(LEN(G259)>1,1,0)","v":1}]
[{"$f":"B260&\"A\"","v":"70A"},70,{"$f":"VLOOKUP(B260,EventsOrder,2,FALSE)","v":3.5},null,null,null,{"$f":"VLOOKUP($A260,Results3,G$4,FALSE)","v":"Kett"},{"$f":"VLOOKUP($A260,Results3,H$3,FALSE)","v":27.2},{"$f":"VLOOKUP($A260,Results3,I$4,FALSE)","v":"Wreake"},{"$f":"VLOOKUP($A260,Results3,J$3,FALSE)","v":27.6},{"$f":"VLOOKUP($A260,Results3,K$4,FALSE)","v":"Ban"},{"$f":"VLOOKUP($A260,Results3,L$3,FALSE)","v":28.5},{"$f":"VLOOKUP($A260,Results3,M$4,FALSE)","v":"Worc"},{"$f":"VLOOKUP($A260,Results3,N$3,FALSE)","v":29.6},{"$f":"VLOOKUP($A260,Results3,O$4,FALSE)","v":"Tam"},{"$f":"VLOOKUP($A260,Results3,P$3,FALSE)","v":29.7},{"$f":"VLOOKUP($A260,Results3,Q$4,FALSE)","v":"Bic"},{"$f":"VLOOKUP($A260,Results3,R$3,FALSE)","v":30},{"$f":"VLOOKUP($A260,Results3,S$4,FALSE)","v":"Rad"},{"$f":"VLOOKUP($A260,Results3,T$3,FALSE)","v":30.4},{"$f":"VLOOKUP($A260,Results3,U$4,FALSE)","v":"DASH"},{"$f":"VLOOKUP($A260,Results3,V$3,FALSE)","v":30.5},{"$f":"VLOOKUP($A260,Results3,W$4,FALSE)","v":6},{"$f":"VLOOKUP($A260,Results3,X$4,FALSE)","v":3},1,8,2,4,7,5]
[{"$f":"B260&\"B\"","v":"70B"},null,null,{"$f":"VLOOKUP(B260,EventsOrder,3,FALSE)","v":"200m"},"B",null,{"$f":"VLOOKUP($A261,Results3,G$3,FALSE)","v":"Samuel Harrison"},null,{"$f":"VLOOKUP($A261,Results3,I$3,FALSE)","v":"Reuben Taylor-George"},null,{"$f":"VLOOKUP($A261,Results3,K$3,FALSE)","v":"Ethan Patel"},null,{"$f":"VLOOKUP($A261,Results3,M$3,FALSE)","v":"Nathan Pearson"},null,{"$f":"VLOOKUP($A261,Results3,O$3,FALSE)","v":"Ryan Simpson"},null,{"$f":"VLOOKUP($A261,Results3,Q$3,FALSE)","v":"Kian Dickson"},null,{"$f":"VLOOKUP($A261,Results3,S$3,FALSE)","v":"Joshua Cumberlnad"},null,{"$f":"VLOOKUP($A261,Results3,U$3,FALSE)","v":""}]
[{"$f":"B260&\"B\"","v":"70B"},null,null,null,null,null,{"$f":"VLOOKUP($A262,Results3,G$4,FALSE)","v":"Kett"},{"$f":"VLOOKUP($A262,Results3,H$3,FALSE)","v":27.5},{"$f":"VLOOKUP($A262,Results3,I$4,FALSE)","v":"Worc"},{"$f":"VLOOKUP($A262,Results3,J$3,FALSE)","v":30.1},{"$f":"VLOOKUP($A262,Results3,K$4,FALSE)","v":"Wreake"},{"$f":"VLOOKUP($A262,Results3,L$3,FALSE)","v":32},{"$f":"VLOOKUP($A262,Results3,M$4,FALSE)","v":"DASH"},{"$f":"VLOOKUP($A262,Results3,N$3,FALSE)","v":32.4},{"$f":"VLOOKUP($A262,Results3,O$4,FALSE)","v":"Bic"},{"$f":"VLOOKUP($A262,Results3,P$3,FALSE)","v":32.9},{"$f":"VLOOKUP($A262,Results3,Q$4,FALSE)","v":"Tam"},{"$f":"VLOOKUP($A262,Results3,R$3,FALSE)","v":33.6},{"$f":"VLOOKUP($A262,Results3,S$4,FALSE)","v":"Rad"},{"$f":"VLOOKUP($A262,Results3,T$3,FALSE)","v":33.9},{"$f":"VLOOKUP($A262,Results3,U$4,FALSE)","v":0},{"$f":"VLOOKUP($A262,Results3,V$3,FALSE)","v":0},{"$f":"VLOOKUP($A262,Results3,W$4,FALSE)","v":0},4,5,8,2,3,6,7]
[{"$f":"B264&\"A\"","v":"71A"},null,null,{"$f":"VLOOKUP(B264,EventsOrder,4,FALSE)","v":"U15 Male"},"A",null,{"$f":"VLOOKUP($A263,Results3,G$3,FALSE)","v":"Darian Moore"},null,{"$f":"VLOOKUP($A263,Results3,I$3,FALSE)","v":"Euan Jones"},null,{"$f":"VLOOKUP($A263,Results3,K$3,FALSE)","v":"Tom Slater"},null,{"$f":"VLOOKUP($A263,Results3,M$3,FALSE)","v":"Dylan Mukhtar"},null,{"$f":"VLOOKUP($A263,Results3,O$3,FALSE)","v":"Daniel Gifford"},null,{"$f":"VLOOKUP($A263,Results3,Q$3,FALSE)","v":"Will Andrews"},null,{"$f":"VLOOKUP($A263,Results3,S$3,FALSE)","v":"James Walker"},null,{"$f":"VLOOKUP($A263,Results3,U$3,FALSE)","v":""},null,null,null,null,null,null,null,null,null,{"$f":"IF(LEN(G263)>1,1,0)","v":1}]
[{"$f":"B264&\"A\"","v":"71A"},71,{"$f":"VLOOKUP(B264,EventsOrder,2,FALSE)","v":3.55},null,null,null,{"$f":"VLOOKUP($A264,Results3,G$4,FALSE)","v":"Worc"},{"$f":"VLOOKUP($A264,Results3,H$3,FALSE)","v":24.2},{"$f":"VLOOKUP($A264,Results3,I$4,FALSE)","v":"Wreake"},{"$f":"VLOOKUP($A264,Results3,J$3,FALSE)","v":24.9},{"$f":"VLOOKUP($A264,Results3,K$4,FALSE)","v":"DASH"},{"$f":"VLOOKUP($A264,Results3,L$3,FALSE)","v":25.2},{"$f":"VLOOKUP($A264,Results3,M$4,FALSE)","v":"Kett"},{"$f":"VLOOKUP($A264,Results3,N$3,FALSE)","v":25.3},{"$f":"VLOOKUP($A264,Results3,O$4,FALSE)","v":"Rad"},{"$f":"VLOOKUP($A264,Results3,P$3,FALSE)","v":26.1},{"$f":"VLOOKUP($A264,Results3,Q$4,FALSE)","v":"Ban"},{"$f":"VLOOKUP($A264,Results3,R$3,FALSE)","v":26.6},{"$f":"VLOOKUP($A264,Results3,S$4,FALSE)","v":"Tam"},{"$f":"VLOOKUP($A264,Results3,T$3,FALSE)","v":30.6},{"$f":"VLOOKUP($A264,Results3,U$4,FALSE)","v":0},{"$f":"VLOOKUP($A264,Results3,V$3,FALSE)","v":0},{"$f":"VLOOKUP($A264,Results3,W$4,FALSE)","v":3},{"$f":"VLOOKUP($A264,Results3,X$4,FALSE)","v":0},6,5,4,2,7,8]
[{"$f":"B264&\"B\"","v":"71B"},null,null,{"$f":"VLOOKUP(B264,EventsOrder,3,FALSE)","v":"200m"},"B",null,{"$f":"VLOOKUP($A265,Results3,G$3,FALSE)","v":"Lewis-Morgan Barton"},null,{"$f":"VLOOKUP($A265,Results3,I$3,FALSE)","v":"Andrew Jay"},null,{"$f":"VLOOKUP($A265,Results3,K$3,FALSE)","v":"Josh Rocks"},null,{"$f":"VLOOKUP($A265,Results3,M$3,FALSE)","v":"Richard Bungay"},null,{"$f":"VLOOKUP($A265,Results3,O$3,FALSE)","v":""},null,{"$f":"VLOOKUP($A265,Results3,Q$3,FALSE)","v":""},null,{"$f":"VLOOKUP($A265,Results3,S$3,FALSE)","v":""},null,{"$f":"VLOOKUP($A265,Results3,U$3,FALSE)","v":""}]
[{"$f":"B264&\"B\"","v":"71B"},null,null,null,null,null,{"$f":"VLOOKUP($A266,Results3,G$4,FALSE)","v":"Kett"},{"$f":"VLOOKUP($A266,Results3,H$3,FALSE)","v":"NTR"},{"$f":"VLOOKUP($A266,Results3,I$4,FALSE)","v":"Worc"},{"$f":"VLOOKUP($A266,Results3,J$3,FALSE)","v":"NTR"},{"$f":"VLOOKUP($A266,Results3,K$4,FALSE)","v":"Wreake"},{"$f":"VLOOKUP($A266,Results3,L$3,FALSE)","v":"NTR"},{"$f":"VLOOKUP($A266,Results3,M$4,FALSE)","v":"Rad"},{"$f":"VLOOKUP($A266,Results3,N$3,FALSE)","v":"NTR"},{"$f":"VLOOKUP($A266,Results3,O$4,FALSE)","v":0},{"$f":"VLOOKUP($A266,Results3,P$3,FALSE)","v":0},{"$f":"VLOOKUP($A266,Results3,Q$4,FALSE)","v":0},{"$f":"VLOOKUP($A266,Results3,R$3,FALSE)","v":0},{"$f":"VLOOKUP($A266,Results3,S$4,FALSE)","v":0},{"$f":"VLOOKUP($A266,Results3,T$3,FALSE)","v":0},{"$f":"VLOOKUP($A266,Results3,U$4,FALSE)","v":0},{"$f":"VLOOKUP($A266,Results3,V$3,FALSE)","v":0},{"$f":"VLOOKUP($A266,Results3,W$4,FALSE)","v":0},0,0,8,5,0,6,7]
[{"$f":"B268&\"A\"","v":"72A"},null,null,{"$f":"VLOOKUP(B268,EventsOrder,4,FALSE)","v":"U17 Men"},"A",null,{"$f":"VLOOKUP($A267,Results3,G$3,FALSE)","v":"Ollie Gould"},null,{"$f":"VLOOKUP($A267,Results3,I$3,FALSE)","v":"Harry New"},null,{"$f":"VLOOKUP($A267,Results3,K$3,FALSE)","v":"Ollie Sprio"},null,{"$f":"VLOOKUP($A267,Results3,M$3,FALSE)","v":"Tyrese Paris-Smith"},null,{"$f":"VLOOKUP($A267,Results3,O$3,FALSE)","v":""},null,{"$f":"VLOOKUP($A267,Results3,Q$3,FALSE)","v":""},null,{"$f":"VLOOKUP($A267,Results3,S$3,FALSE)","v":""},null,{"$f":"VLOOKUP($A267,Results3,U$3,FALSE)","v":""},null,null,null,null,null,null,null,null,null,{"$f":"IF(LEN(G267)>1,1,0)","v":1}]
[{"$f":"B268&\"A\"","v":"72A"},72,{"$f":"VLOOKUP(B268,EventsOrder,2,FALSE)","v":4},null,null,null,{"$f":"VLOOKUP($A268,Results3,G$4,FALSE)","v":"Worc"},{"$f":"VLOOKUP($A268,Results3,H$3,FALSE)","v":23},{"$f":"VLOOKUP($A268,Results3,I$4,FALSE)","v":"Rad"},{"$f":"VLOOKUP($A268,Results3,J$3,FALSE)","v":23},{"$f":"VLOOKUP($A268,Results3,K$4,FALSE)","v":"Ban"},{"$f":"VLOOKUP($A268,Results3,L$3,FALSE)","v":23.1},{"$f":"VLOOKUP($A268,Results3,M$4,FALSE)","v":"Kett"},{"$f":"VLOOKUP($A268,Results3,N$3,FALSE)","v":24.6},{"$f":"VLOOKUP($A268,Results3,O$4,FALSE)","v":0},{"$f":"VLOOKUP($A268,Results3,P$3,FALSE)","v":0},{"$f":"VLOOKUP($A268,Results3,Q$4,FALSE)","v":0},{"$f":"VLOOKUP($A268,Results3,R$3,FALSE)","v":0},{"$f":"VLOOKUP($A268,Results3,S$4,FALSE)","v":0},{"$f":"VLOOKUP($A268,Results3,T$3,FALSE)","v":0},{"$f":"VLOOKUP($A268,Results3,U$4,FALSE)","v":0},{"$f":"VLOOKUP($A268,Results3,V$3,FALSE)","v":0},{"$f":"VLOOKUP($A268,Results3,W$4,FALSE)","v":6},{"$f":"VLOOKUP($A268,Results3,X$4,FALSE)","v":0},0,5,7,0,0,8]
[{"$f":"B268&\"B\"","v":"72B"},null,null,{"$f":"VLOOKUP(B268,EventsOrder,3,FALSE)","v":"200m"},"B",null,{"$f":"VLOOKUP($A269,Results3,G$3,FALSE)","v":"Elliot Couse"},null,{"$f":"VLOOKUP($A269,Results3,I$3,FALSE)","v":"Josh Bentley"},null,{"$f":"VLOOKUP($A269,Results3,K$3,FALSE)","v":"Achim Loibl"},null,{"$f":"VLOOKUP($A269,Results3,M$3,FALSE)","v":"Felix Noble"},null,{"$f":"VLOOKUP($A269,Results3,O$3,FALSE)","v":""},null,{"$f":"VLOOKUP($A269,Results3,Q$3,FALSE)","v":""},null,{"$f":"VLOOKUP($A269,Results3,S$3,FALSE)","v":""},null,{"$f":"VLOOKUP($A269,Results3,U$3,FALSE)","v":""}]
[{"$f":"B268&\"B\"","v":"72B"},null,null,null,null,null,{"$f":"VLOOKUP($A270,Results3,G$4,FALSE)","v":"Rad"},{"$f":"VLOOKUP($A270,Results3,H$3,FALSE)","v":23.6},{"$f":"VLOOKUP($A270,Results3,I$4,FALSE)","v":"Worc"},{"$f":"VLOOKUP($A270,Results3,J$3,FALSE)","v":23.9},{"$f":"VLOOKUP($A270,Results3,K$4,FALSE)","v":"Kett"},{"$f":"VLOOKUP($A270,Results3,L$3,FALSE)","v":24.2},{"$f":"VLOOKUP($A270,Results3,M$4,FALSE)","v":"Ban"},{"$f":"VLOOKUP($A270,Results3,N$3,FALSE)","v":24.7},{"$f":"VLOOKUP($A270,Results3,O$4,FALSE)","v":0},{"$f":"VLOOKUP($A270,Results3,P$3,FALSE)","v":0},{"$f":"VLOOKUP($A270,Results3,Q$4,FALSE)","v":0},{"$f":"VLOOKUP($A270,Results3,R$3,FALSE)","v":0},{"$f":"VLOOKUP($A270,Results3,S$4,FALSE)","v":0},{"$f":"VLOOKUP($A270,Results3,T$3,FALSE)","v":0},{"$f":"VLOOKUP($A270,Results3,U$4,FALSE)","v":0},{"$f":"VLOOKUP($A270,Results3,V$3,FALSE)","v":0},{"$f":"VLOOKUP($A270,Results3,W$4,FALSE)","v":5},0,0,6,8,0,0,7]
[{"$f":"B272&\"A\"","v":"73A"},null,null,{"$f":"VLOOKUP(B272,EventsOrder,4,FALSE)","v":"U13 Male"},"A",null,{"$f":"VLOOKUP($A271,Results3,G$3,FALSE)","v":"Benjamin Cumberland"},null,{"$f":"VLOOKUP($A271,Results3,I$3,FALSE)","v":"Ollie Read"},null,{"$f":"VLOOKUP($A271,Results3,K$3,FALSE)","v":"Sean Lock"},null,{"$f":"VLOOKUP($A271,Results3,M$3,FALSE)","v":"Ronan Williams"},null,{"$f":"VLOOKUP($A271,Results3,O$3,FALSE)","v":"Mackenzie Bloxham"},null,{"$f":"VLOOKUP($A271,Results3,Q$3,FALSE)","v":""},null,{"$f":"VLOOKUP($A271,Results3,S$3,FALSE)","v":""},null,{"$f":"VLOOKUP($A271,Results3,U$3,FALSE)","v":""},null,null,null,null,null,null,null,null,null,{"$f":"IF(LEN(G271)>1,1,0)","v":1}]
[{"$f":"B272&\"A\"","v":"73A"},73,{"$f":"VLOOKUP(B272,EventsOrder,2,FALSE)","v":4.2},null,null,null,{"$f":"VLOOKUP($A272,Results3,G$4,FALSE)","v":"Rad"},{"$f":"VLOOKUP($A272,Results3,H$3,FALSE)","v":"4.58.8"},{"$f":"VLOOKUP($A272,Results3,I$4,FALSE)","v":"Kett"},{"$f":"VLOOKUP($A272,Results3,J$3,FALSE)","v":"5.04.5"},{"$f":"VLOOKUP($A272,Results3,K$4,FALSE)","v":"Bic"},{"$f":"VLOOKUP($A272,Results3,L$3,FALSE)","v":"5.24.4"},{"$f":"VLOOKUP($A272,Results3,M$4,FALSE)","v":"Worc"},{"$f":"VLOOKUP($A272,Results3,N$3,FALSE)","v":"5.26.0"},{"$f":"VLOOKUP($A272,Results3,O$4,FALSE)","v":"Wreake"},{"$f":"VLOOKUP($A272,Results3,P$3,FALSE)","v":"5.29.7"},{"$f":"VLOOKUP($A272,Results3,Q$4,FALSE)","v":0},{"$f":"VLOOKUP($A272,Results3,R$3,FALSE)","v":0},{"$f":"VLOOKUP($A272,Results3,S$4,FALSE)","v":0},{"$f":"VLOOKUP($A272,Results3,T$3,FALSE)","v":0},{"$f":"VLOOKUP($A272,Results3,U$4,FALSE)","v":0},{"$f":"VLOOKUP($A272,Results3,V$3,FALSE)","v":0},{"$f":"VLOOKUP($A272,Results3,W$4,FALSE)","v":0},{"$f":"VLOOKUP($A272,Results3,X$4,FALSE)","v":6},0,7,8,0,4,5]
[{"$f":"B272&\"B\"","v":"73B"},null,null,{"$f":"VLOOKUP(B272,EventsOrder,3,FALSE)","v":"1500m"},"B",null,{"$f":"VLOOKUP($A273,Results3,G$3,FALSE)","v":"Matthew Reuben"},null,{"$f":"VLOOKUP($A273,Results3,I$3,FALSE)","v":"Hugo Robinson"},null,{"$f":"VLOOKUP($A273,Results3,K$3,FALSE)","v":"Euan Stillion"},null,{"$f":"VLOOKUP($A273,Results3,M$3,FALSE)","v":"Ben Groves"},null,{"$f":"VLOOKUP($A273,Results3,O$3,FALSE)","v":""},null,{"$f":"VLOOKUP($A273,Results3,Q$3,FALSE)","v":""},null,{"$f":"VLOOKUP($A273,Results3,S$3,FALSE)","v":""},null,{"$f":"VLOOKUP($A273,Results3,U$3,FALSE)","v":""}]
[{"$f":"B272&\"B\"","v":"73B"},null,null,null,null,null,{"$f":"VLOOKUP($A274,Results3,G$4,FALSE)","v":"Wreake"},{"$f":"VLOOKUP($A274,Results3,H$3,FALSE)","v":"5.33.3"},{"$f":"VLOOKUP($A274,Results3,I$4,FALSE)","v":"Worc"},{"$f":"VLOOKUP($A274,Results3,J$3,FALSE)","v":"5.37.6"},{"$f":"VLOOKUP($A274,Results3,K$4,FALSE)","v":"Rad"},{"$f":"VLOOKUP($A274,Results3,L$3,FALSE)","v":"5.45.2"},{"$f":"VLOOKUP($A274,Results3,M$4,FALSE)","v":"Bic"},{"$f":"VLOOKUP($A274,Results3,N$3,FALSE)","v":"6.33.9"},{"$f":"VLOOKUP($A274,Results3,O$4,FALSE)","v":0},{"$f":"VLOOKUP($A274,Results3,P$3,FALSE)","v":0},{"$f":"VLOOKUP($A274,Results3,Q$4,FALSE)","v":0},{"$f":"VLOOKUP($A274,Results3,R$3,FALSE)","v":0},{"$f":"VLOOKUP($A274,Results3,S$4,FALSE)","v":0},{"$f":"VLOOKUP($A274,Results3,T$3,FALSE)","v":0},{"$f":"VLOOKUP($A274,Results3,U$4,FALSE)","v":0},{"$f":"VLOOKUP($A274,Results3,V$3,FALSE)","v":0},{"$f":"VLOOKUP($A274,Results3,W$4,FALSE)","v":0},5,0,0,6,0,8,7]
[{"$f":"B276&\"A\"","v":"74A"},null,null,{"$f":"VLOOKUP(B276,EventsOrder,4,FALSE)","v":"U17 Men"},"A",null,{"$f":"VLOOKUP($A275,Results3,G$3,FALSE)","v":"Reiss Francis"},null,{"$f":"VLOOKUP($A275,Results3,I$3,FALSE)","v":"Brett Halsey"},null,{"$f":"VLOOKUP($A275,Results3,K$3,FALSE)","v":""},null,{"$f":"VLOOKUP($A275,Results3,M$3,FALSE)","v":""},null,{"$f":"VLOOKUP($A275,Results3,O$3,FALSE)","v":""},null,{"$f":"VLOOKUP($A275,Results3,Q$3,FALSE)","v":""},null,{"$f":"VLOOKUP($A275,Results3,S$3,FALSE)","v":""},null,{"$f":"VLOOKUP($A275,Results3,U$3,FALSE)","v":""},null,null,null,null,null,null,null,null,null,{"$f":"IF(LEN(G275)>1,1,0)","v":1}]
[{"$f":"B276&\"A\"","v":"74A"},74,{"$f":"VLOOKUP(B276,EventsOrder,2,FALSE)","v":4.0999999999999996},null,null,null,{"$f":"VLOOKUP($A276,Results3,G$4,FALSE)","v":"Worc"},{"$f":"VLOOKUP($A276,Results3,H$3,FALSE)","v":1.7},{"$f":"VLOOKUP($A276,Results3,I$4,FALSE)","v":"Rad"},{"$f":"VLOOKUP($A276,Results3,J$3,FALSE)","v":1.49},{"$f":"VLOOKUP($A276,Results3,K$4,FALSE)","v":0},{"$f":"VLOOKUP($A276,Results3,L$3,FALSE)","v":0},{"$f":"VLOOKUP($A276,Results3,M$4,FALSE)","v":0},{"$f":"VLOOKUP($A276,Results3,N$3,FALSE)","v":0},{"$f":"VLOOKUP($A276,Results3,O$4,FALSE)","v":0},{"$f":"VLOOKUP($A276,Results3,P$3,FALSE)","v":0},{"$f":"VLOOKUP($A276,Results3,Q$4,FALSE)","v":0},{"$f":"VLOOKUP($A276,Results3,R$3,FALSE)","v":0},{"$f":"VLOOKUP($A276,Results3,S$4,FALSE)","v":0},{"$f":"VLOOKUP($A276,Results3,T$3,FALSE)","v":0},{"$f":"VLOOKUP($A276,Results3,U$4,FALSE)","v":0},{"$f":"VLOOKUP($A276,Results3,V$3,FALSE)","v":0},{"$f":"VLOOKUP($A276,Results3,W$4,FALSE)","v":0},{"$f":"VLOOKUP($A276,Results3,X$4,FALSE)","v":0},0,0,7,0,0,8]
[{"$f":"B276&\"B\"","v":"74B"},null,null,{"$f":"VLOOKUP(B276,EventsOrder,3,FALSE)","v":"High Jump"},"B",null,{"$f":"VLOOKUP($A277,Results3,G$3,FALSE)","v":""},null,{"$f":"VLOOKUP($A277,Results3,I$3,FALSE)","v":""},null,{"$f":"VLOOKUP($A277,Results3,K$3,FALSE)","v":""},null,{"$f":"VLOOKUP($A277,Results3,M$3,FALSE)","v":""},null,{"$f":"VLOOKUP($A277,Results3,O$3,FALSE)","v":""},null,{"$f":"VLOOKUP($A277,Results3,Q$3,FALSE)","v":""},null,{"$f":"VLOOKUP($A277,Results3,S$3,FALSE)","v":""},null,{"$f":"VLOOKUP($A277,Results3,U$3,FALSE)","v":""}]
[{"$f":"B276&\"B\"","v":"74B"},null,null,null,null,null,{"$f":"VLOOKUP($A278,Results3,G$4,FALSE)","v":0},{"$f":"VLOOKUP($A278,Results3,H$3,FALSE)","v":0},{"$f":"VLOOKUP($A278,Results3,I$4,FALSE)","v":0},{"$f":"VLOOKUP($A278,Results3,J$3,FALSE)","v":0},{"$f":"VLOOKUP($A278,Results3,K$4,FALSE)","v":0},{"$f":"VLOOKUP($A278,Results3,L$3,FALSE)","v":0},{"$f":"VLOOKUP($A278,Results3,M$4,FALSE)","v":0},{"$f":"VLOOKUP($A278,Results3,N$3,FALSE)","v":0},{"$f":"VLOOKUP($A278,Results3,O$4,FALSE)","v":0},{"$f":"VLOOKUP($A278,Results3,P$3,FALSE)","v":0},{"$f":"VLOOKUP($A278,Results3,Q$4,FALSE)","v":0},{"$f":"VLOOKUP($A278,Results3,R$3,FALSE)","v":0},{"$f":"VLOOKUP($A278,Results3,S$4,FALSE)","v":0},{"$f":"VLOOKUP($A278,Results3,T$3,FALSE)","v":0},{"$f":"VLOOKUP($A278,Results3,U$4,FALSE)","v":0},{"$f":"VLOOKUP($A278,Results3,V$3,FALSE)","v":0},{"$f":"VLOOKUP($A278,Results3,W$4,FALSE)","v":0},0,0,0,0,0,0,0]
[{"$f":"B280&\"A\"","v":"75A"},null,null,{"$f":"VLOOKUP(B280,EventsOrder,4,FALSE)","v":"U17 F/Women"},"A",null,{"$f":"VLOOKUP($A279,Results3,G$3,FALSE)","v":"Rebecca Scott"},null,{"$f":"VLOOKUP($A279,Results3,I$3,FALSE)","v":"Becky Donnelly (senior)"},null,{"$f":"VLOOKUP($A279,Results3,K$3,FALSE)","v":"Petrina Chantler-Edmond"},null,{"$f":"VLOOKUP($A279,Results3,M$3,FALSE)","v":"Ella Grainger"},null,{"$f":"VLOOKUP($A279,Results3,O$3,FALSE)","v":"U20 Emily Benfield"},null,{"$f":"VLOOKUP($A279,Results3,Q$3,FALSE)","v":"Ellie Boulton"},null,{"$f":"VLOOKUP($A279,Results3,S$3,FALSE)","v":""},null,{"$f":"VLOOKUP($A279,Results3,U$3,FALSE)","v":""},null,null,null,null,null,null,null,null,null,{"$f":"IF(LEN(G279)>1,1,0)","v":1}]
[{"$f":"B280&\"A\"","v":"75A"},75,{"$f":"VLOOKUP(B280,EventsOrder,2,FALSE)","v":4},null,null,null,{"$f":"VLOOKUP($A280,Results3,G$4,FALSE)","v":"Ban"},{"$f":"VLOOKUP($A280,Results3,H$3,FALSE)","v":4.8},{"$f":"VLOOKUP($A280,Results3,I$4,FALSE)","v":"Worc"},{"$f":"VLOOKUP($A280,Results3,J$3,FALSE)","v":4.62},{"$f":"VLOOKUP($A280,Results3,K$4,FALSE)","v":"Rad"},{"$f":"VLOOKUP($A280,Results3,L$3,FALSE)","v":4.58},{"$f":"VLOOKUP($A280,Results3,M$4,FALSE)","v":"Wreake"},{"$f":"VLOOKUP($A280,Results3,N$3,FALSE)","v":4.3099999999999996},{"$f":"VLOOKUP($A280,Results3,O$4,FALSE)","v":"Bic"},{"$f":"VLOOKUP($A280,Results3,P$3,FALSE)","v":4.2300000000000004},{"$f":"VLOOKUP($A280,Results3,Q$4,FALSE)","v":"Kett"},{"$f":"VLOOKUP($A280,Results3,R$3,FALSE)","v":4.1100000000000003},{"$f":"VLOOKUP($A280,Results3,S$4,FALSE)","v":0},{"$f":"VLOOKUP($A280,Results3,T$3,FALSE)","v":0},{"$f":"VLOOKUP($A280,Results3,U$4,FALSE)","v":0},{"$f":"VLOOKUP($A280,Results3,V$3,FALSE)","v":0},{"$f":"VLOOKUP($A280,Results3,W$4,FALSE)","v":8},{"$f":"VLOOKUP($A280,Results3,X$4,FALSE)","v":4},0,3,6,0,5,7]
[{"$f":"B280&\"B\"","v":"75B"},null,null,{"$f":"VLOOKUP(B280,EventsOrder,3,FALSE)","v":"Long Jump"},"B",null,{"$f":"VLOOKUP($A281,Results3,G$3,FALSE)","v":"Leah Brown"},null,{"$f":"VLOOKUP($A281,Results3,I$3,FALSE)","v":"Niamh Monaghan"},null,{"$f":"VLOOKUP($A281,Results3,K$3,FALSE)","v":"Hannah Kenwright"},null,{"$f":"VLOOKUP($A281,Results3,M$3,FALSE)","v":"Eve Cameron"},null,{"$f":"VLOOKUP($A281,Results3,O$3,FALSE)","v":""},null,{"$f":"VLOOKUP($A281,Results3,Q$3,FALSE)","v":""},null,{"$f":"VLOOKUP($A281,Results3,S$3,FALSE)","v":""},null,{"$f":"VLOOKUP($A281,Results3,U$3,FALSE)","v":""}]
[{"$f":"B280&\"B\"","v":"75B"},null,null,null,null,null,{"$f":"VLOOKUP($A282,Results3,G$4,FALSE)","v":"Rad"},{"$f":"VLOOKUP($A282,Results3,H$3,FALSE)","v":4.1399999999999997},{"$f":"VLOOKUP($A282,Results3,I$4,FALSE)","v":"Kett"},{"$f":"VLOOKUP($A282,Results3,J$3,FALSE)","v":3.86},{"$f":"VLOOKUP($A282,Results3,K$4,FALSE)","v":"Worc"},{"$f":"VLOOKUP($A282,Results3,L$3,FALSE)","v":3.68},{"$f":"VLOOKUP($A282,Results3,M$4,FALSE)","v":"Wreake"},{"$f":"VLOOKUP($A282,Results3,N$3,FALSE)","v":2.54},{"$f":"VLOOKUP($A282,Results3,O$4,FALSE)","v":0},{"$f":"VLOOKUP($A282,Results3,P$3,FALSE)","v":0},{"$f":"VLOOKUP($A282,Results3,Q$4,FALSE)","v":0},{"$f":"VLOOKUP($A282,Results3,R$3,FALSE)","v":0},{"$f":"VLOOKUP($A282,Results3,S$4,FALSE)","v":0},{"$f":"VLOOKUP($A282,Results3,T$3,FALSE)","v":0},{"$f":"VLOOKUP($A282,Results3,U$4,FALSE)","v":0},{"$f":"VLOOKUP($A282,Results3,V$3,FALSE)","v":0},{"$f":"VLOOKUP($A282,Results3,W$4,FALSE)","v":0},0,0,7,8,0,5,6]
[{"$f":"B284&\"A\"","v":"76A"},null,null,{"$f":"VLOOKUP(B284,EventsOrder,4,FALSE)","v":"U15 Male"},"A",null,{"$f":"VLOOKUP($A283,Results3,G$3,FALSE)","v":"Harry Walters"},null,{"$f":"VLOOKUP($A283,Results3,I$3,FALSE)","v":"Max Kent"},null,{"$f":"VLOOKUP($A283,Results3,K$3,FALSE)","v":"James Dale"},null,{"$f":"VLOOKUP($A283,Results3,M$3,FALSE)","v":"Skip Snelson"},null,{"$f":"VLOOKUP($A283,Results3,O$3,FALSE)","v":"Roman Watson-Quilter"},null,{"$f":"VLOOKUP($A283,Results3,Q$3,FALSE)","v":"Samuel Worfolk"},null,{"$f":"VLOOKUP($A283,Results3,S$3,FALSE)","v":"Cameron King"},null,{"$f":"VLOOKUP($A283,Results3,U$3,FALSE)","v":""},null,null,null,null,null,null,null,null,null,{"$f":"IF(LEN(G283)>1,1,0)","v":1}]
[{"$f":"B284&\"A\"","v":"76A"},76,{"$f":"VLOOKUP(B284,EventsOrder,2,FALSE)","v":4.3},null,null,null,{"$f":"VLOOKUP($A284,Results3,G$4,FALSE)","v":"DASH"},{"$f":"VLOOKUP($A284,Results3,H$3,FALSE)","v":"4.42.7"},{"$f":"VLOOKUP($A284,Results3,I$4,FALSE)","v":"Tam"},{"$f":"VLOOKUP($A284,Results3,J$3,FALSE)","v":"4.46.3"},{"$f":"VLOOKUP($A284,Results3,K$4,FALSE)","v":"Worc"},{"$f":"VLOOKUP($A284,Results3,L$3,FALSE)","v":"4.47.4"},{"$f":"VLOOKUP($A284,Results3,M$4,FALSE)","v":"Ban"},{"$f":"VLOOKUP($A284,Results3,N$3,FALSE)","v":"4.51.1"},{"$f":"VLOOKUP($A284,Results3,O$4,FALSE)","v":"Wreake"},{"$f":"VLOOKUP($A284,Results3,P$3,FALSE)","v":"5.00.7"},{"$f":"VLOOKUP($A284,Results3,Q$4,FALSE)","v":"Bic"},{"$f":"VLOOKUP($A284,Results3,R$3,FALSE)","v":"5.25.9"},{"$f":"VLOOKUP($A284,Results3,S$4,FALSE)","v":"Rad"},{"$f":"VLOOKUP($A284,Results3,T$3,FALSE)","v":"NTR"},{"$f":"VLOOKUP($A284,Results3,U$4,FALSE)","v":0},{"$f":"VLOOKUP($A284,Results3,V$3,FALSE)","v":0},{"$f":"VLOOKUP($A284,Results3,W$4,FALSE)","v":5},{"$f":"VLOOKUP($A284,Results3,X$4,FALSE)","v":3},8,0,2,7,4,6]
[{"$f":"B284&\"B\"","v":"76B"},null,null,{"$f":"VLOOKUP(B284,EventsOrder,3,FALSE)","v":"1500m"},"B",null,{"$f":"VLOOKUP($A285,Results3,G$3,FALSE)","v":"James Sherriff"},null,{"$f":"VLOOKUP($A285,Results3,I$3,FALSE)","v":"Lucca Watson-Quilter"},null,{"$f":"VLOOKUP($A285,Results3,K$3,FALSE)","v":""},null,{"$f":"VLOOKUP($A285,Results3,M$3,FALSE)","v":""},null,{"$f":"VLOOKUP($A285,Results3,O$3,FALSE)","v":""},null,{"$f":"VLOOKUP($A285,Results3,Q$3,FALSE)","v":""},null,{"$f":"VLOOKUP($A285,Results3,S$3,FALSE)","v":""},null,{"$f":"VLOOKUP($A285,Results3,U$3,FALSE)","v":""}]
[{"$f":"B284&\"B\"","v":"76B"},null,null,null,null,null,{"$f":"VLOOKUP($A286,Results3,G$4,FALSE)","v":"Tam"},{"$f":"VLOOKUP($A286,Results3,H$3,FALSE)","v":"4.46.8"},{"$f":"VLOOKUP($A286,Results3,I$4,FALSE)","v":"Wreake"},{"$f":"VLOOKUP($A286,Results3,J$3,FALSE)","v":"5.06.2"},{"$f":"VLOOKUP($A286,Results3,K$4,FALSE)","v":0},{"$f":"VLOOKUP($A286,Results3,L$3,FALSE)","v":0},{"$f":"VLOOKUP($A286,Results3,M$4,FALSE)","v":0},{"$f":"VLOOKUP($A286,Results3,N$3,FALSE)","v":0},{"$f":"VLOOKUP($A286,Results3,O$4,FALSE)","v":0},{"$f":"VLOOKUP($A286,Results3,P$3,FALSE)","v":0},{"$f":"VLOOKUP($A286,Results3,Q$4,FALSE)","v":0},{"$f":"VLOOKUP($A286,Results3,R$3,FALSE)","v":0},{"$f":"VLOOKUP($A286,Results3,S$4,FALSE)","v":0},{"$f":"VLOOKUP($A286,Results3,T$3,FALSE)","v":0},{"$f":"VLOOKUP($A286,Results3,U$4,FALSE)","v":0},{"$f":"VLOOKUP($A286,Results3,V$3,FALSE)","v":0},{"$f":"VLOOKUP($A286,Results3,W$4,FALSE)","v":0},0,0,0,0,8,7,0]
[null,null,null,null,null,null,null,null,null,null,null,null,null,null,null,null,null,null,null,null,"Officials Points",null,{"$f":"Officials!C$20","v":14},{"$f":"Officials!D$20","v":14},{"$f":"Officials!E$20","v":10},{"$f":"Officials!F$20","v":8},{"$f":"Officials!G$20","v":14},{"$f":"Officials!H$20","v":6},{"$f":"Officials!I$20","v":8},{"$f":"Officials!J$20","v":14}]
[null,{"$f":"COUNTIF(B247:B287,\">0\")","v":10},null,null,null,null,null,null,null,null,null,null,null,null,null,null,null,null,null,null,"Total Points",null,{"$f":"SUM(W247:W287)+W241","v":323},{"$f":"SUM(X247:X287)+X241","v":270},321,459,604,233,444,607,{"$f":"SUM(AE247:AE286)","v":9}]
[null,null,null,null,null,null,null,null,null,null,null,null,null,null,null,null,null,null,null,null,"Match Position",null,{"$f":"RANK(W288,$W288:$AD288)","v":5},7,6,3,2,8,4,1]
[]
[null,"Event No",null,null,null,null,null,null,null,null,{"$f":"K8","v":"Heart of England League Results in Event Order"},null,null,null,null,null,null,null,null,null,null,null,{"$f":"W$8","v":"Banbury"},{"$f":"X$8","v":"Bicester"},"Dudley & S'bridge","Kettering","Radley","Tamworth","Wreake Runners","Worcester"]
[null,null,null,"Division",{"$f":"'Event Details'!D$9","v":2},null,null,null,null,null,"Venue",{"$f":"'Event Details'!F$17","v":"Worcester"},null,null,null,null,"Date",{"$f":"'Event Details'!B$17","v":"5th June 2016"}]
[null,null,"Time","Event",null,"NS","First",null,"Second",null,"Third",null,"Fourth",null,"Fifth",null,"Sixth",null,"Seventh",null,"Eighth",null,{"$f":"W$10","v":"J"},{"$f":"X$10","v":"P"},"B","I","R","F","X","Y"]
[{"$f":"B295&\"A\"","v":"77A"},null,null,{"$f":"VLOOKUP(B295,EventsOrder,4,FALSE)","v":"U15 Female"},"A",null,{"$f":"VLOOKUP($A294,Results3,G$3,FALSE)","v":"Danielle Hopkins"},null,{"$f":"VLOOKUP($A294,Results3,I$3,FALSE)","v":"Alice Jones"},null,{"$f":"VLOOKUP($A294,Results3,K$3,FALSE)","v":"Lauren Garside"},null,{"$f":"VLOOKUP($A294,Results3,M$3,FALSE)","v":"Emelina Darvell"},null,{"$f":"VLOOKUP($A294,Results3,O$3,FALSE)","v":"Millie Toseland"},null,{"$f":"VLOOKUP($A294,Results3,Q$3,FALSE)","v":"Hermione Jewel"},null,{"$f":"VLOOKUP($A294,Results3,S$3,FALSE)","v":"Jasmine Pramolo"},null,{"$f":"VLOOKUP($A294,Results3,U$3,FALSE)","v":"Rosie Timlock"},null,null,null,null,null,null,null,null,null,{"$f":"IF(LEN(G294)>1,1,0)","v":1}]
[{"$f":"B295&\"A\"","v":"77A"},77,{"$f":"VLOOKUP(B295,EventsOrder,2,FALSE)","v":4.2},null,null,null,{"$f":"VLOOKUP($A295,Results3,G$4,FALSE)","v":"Worc"},{"$f":"VLOOKUP($A295,Results3,H$3,FALSE)","v":9.35},{"$f":"VLOOKUP($A295,Results3,I$4,FALSE)","v":"Tam"},{"$f":"VLOOKUP($A295,Results3,J$3,FALSE)","v":7.67},{"$f":"VLOOKUP($A295,Results3,K$4,FALSE)","v":"Bic"},{"$f":"VLOOKUP($A295,Results3,L$3,FALSE)","v":7.57},{"$f":"VLOOKUP($A295,Results3,M$4,FALSE)","v":"Ban"},{"$f":"VLOOKUP($A295,Results3,N$3,FALSE)","v":6.71},{"$f":"VLOOKUP($A295,Results3,O$4,FALSE)","v":"Kett"},{"$f":"VLOOKUP($A295,Results3,P$3,FALSE)","v":6.41},{"$f":"VLOOKUP($A295,Results3,Q$4,FALSE)","v":"Rad"},{"$f":"VLOOKUP($A295,Results3,R$3,FALSE)","v":5.41},{"$f":"VLOOKUP($A295,Results3,S$4,FALSE)","v":"DASH"},{"$f":"VLOOKUP($A295,Results3,T$3,FALSE)","v":4.8099999999999996},{"$f":"VLOOKUP($A295,Results3,U$4,FALSE)","v":"Wreake"},{"$f":"VLOOKUP($A295,Results3,V$3,FALSE)","v":4.62},{"$f":"VLOOKUP($A295,Results3,W$4,FALSE)","v":5},{"$f":"VLOOKUP($A295,Results3,X$4,FALSE)","v":6},2,4,3,7,1,8]
[{"$f":"B295&\"B\"","v":"77B"},null,null,{"$f":"VLOOKUP(B295,EventsOrder,3,FALSE)","v":"Shot"},"B",null,{"$f":"VLOOKUP($A296,Results3,G$3,FALSE)","v":"Katie Harris"},null,{"$f":"VLOOKUP($A296,Results3,I$3,FALSE)","v":"Matilda Braithwaite"},null,{"$f":"VLOOKUP($A296,Results3,K$3,FALSE)","v":"Holly Hunter"},null,{"$f":"VLOOKUP($A296,Results3,M$3,FALSE)","v":"Hannah Mott"},null,{"$f":"VLOOKUP($A296,Results3,O$3,FALSE)","v":"Ravenn Cook"},null,{"$f":"VLOOKUP($A296,Results3,Q$3,FALSE)","v":""},null,{"$f":"VLOOKUP($A296,Results3,S$3,FALSE)","v":""},null,{"$f":"VLOOKUP($A296,Results3,U$3,FALSE)","v":""}]
[{"$f":"B295&\"B\"","v":"77B"},null,null,null,null,null,{"$f":"VLOOKUP($A297,Results3,G$4,FALSE)","v":"Worc"},{"$f":"VLOOKUP($A297,Results3,H$3,FALSE)","v":8.0299999999999994},{"$f":"VLOOKUP($A297,Results3,I$4,FALSE)","v":"Kett"},{"$f":"VLOOKUP($A297,Results3,J$3,FALSE)","v":5.51},{"$f":"VLOOKUP($A297,Results3,K$4,FALSE)","v":"Bic"},{"$f":"VLOOKUP($A297,Results3,L$3,FALSE)","v":5.0599999999999996},{"$f":"VLOOKUP($A297,Results3,M$4,FALSE)","v":"Rad"},{"$f":"VLOOKUP($A297,Results3,N$3,FALSE)","v":4.97},{"$f":"VLOOKUP($A297,Results3,O$4,FALSE)","v":"Wreake"},{"$f":"VLOOKUP($A297,Results3,P$3,FALSE)","v":3.38},{"$f":"VLOOKUP($A297,Results3,Q$4,FALSE)","v":0},{"$f":"VLOOKUP($A297,Results3,R$3,FALSE)","v":0},{"$f":"VLOOKUP($A297,Results3,S$4,FALSE)","v":0},{"$f":"VLOOKUP($A297,Results3,T$3,FALSE)","v":0},{"$f":"VLOOKUP($A297,Results3,U$4,FALSE)","v":0},{"$f":"VLOOKUP($A297,Results3,V$3,FALSE)","v":0},{"$f":"VLOOKUP($A297,Results3,W$4,FALSE)","v":0},6,0,7,5,0,4,8]
[{"$f":"B299&\"A\"","v":"78A"},null,null,{"$f":"VLOOKUP(B299,EventsOrder,4,FALSE)","v":"U13 Male"},"A",null,{"$f":"VLOOKUP($A298,Results3,G$3,FALSE)","v":"Riley Carpenter"},null,{"$f":"VLOOKUP($A298,Results3,I$3,FALSE)","v":"Roan Stillion"},null,{"$f":"VLOOKUP($A298,Results3,K$3,FALSE)","v":"Euan Gibbs"},null,{"$f":"VLOOKUP($A298,Results3,M$3,FALSE)","v":"Callum Hewett"},null,{"$f":"VLOOKUP($A298,Results3,O$3,FALSE)","v":"Daniel Aston"},null,{"$f":"VLOOKUP($A298,Results3,Q$3,FALSE)","v":"John Sparry"},null,{"$f":"VLOOKUP($A298,Results3,S$3,FALSE)","v":""},null,{"$f":"VLOOKUP($A298,Results3,U$3,FALSE)","v":""},null,null,null,null,null,null,null,null,null,{"$f":"IF(LEN(G298)>1,1,0)","v":1}]
[{"$f":"B299&\"A\"","v":"78A"},78,{"$f":"VLOOKUP(B299,EventsOrder,2,FALSE)","v":4.2},null,null,null,{"$f":"VLOOKUP($A299,Results3,G$4,FALSE)","v":"Worc"},{"$f":"VLOOKUP($A299,Results3,H$3,FALSE)","v":14.17},{"$f":"VLOOKUP($A299,Results3,I$4,FALSE)","v":"Rad"},{"$f":"VLOOKUP($A299,Results3,J$3,FALSE)","v":12.05},{"$f":"VLOOKUP($A299,Results3,K$4,FALSE)","v":"Wreake"},{"$f":"VLOOKUP($A299,Results3,L$3,FALSE)","v":11.83},{"$f":"VLOOKUP($A299,Results3,M$4,FALSE)","v":"Bic"},{"$f":"VLOOKUP($A299,Results3,N$3,FALSE)","v":10.79},{"$f":"VLOOKUP($A299,Results3,O$4,FALSE)","v":"Tam"},{"$f":"VLOOKUP($A299,Results3,P$3,FALSE)","v":10.19},{"$f":"VLOOKUP($A299,Results3,Q$4,FALSE)","v":"DASH"},{"$f":"VLOOKUP($A299,Results3,R$3,FALSE)","v":9.83},{"$f":"VLOOKUP($A299,Results3,S$4,FALSE)","v":0},{"$f":"VLOOKUP($A299,Results3,T$3,FALSE)","v":0},{"$f":"VLOOKUP($A299,Results3,U$4,FALSE)","v":0},{"$f":"VLOOKUP($A299,Results3,V$3,FALSE)","v":0},{"$f":"VLOOKUP($A299,Results3,W$4,FALSE)","v":0},{"$f":"VLOOKUP($A299,Results3,X$4,FALSE)","v":5},3,0,7,4,6,8]
[{"$f":"B299&\"B\"","v":"78B"},null,null,{"$f":"VLOOKUP(B299,EventsOrder,3,FALSE)","v":"Discus"},"B","NS",{"$f":"VLOOKUP($A300,Results3,G$3,FALSE)","v":"Alex Santafe"},null,{"$f":"VLOOKUP($A300,Results3,I$3,FALSE)","v":"Kian Dickson"},null,{"$f":"VLOOKUP($A300,Results3,K$3,FALSE)","v":"Ryan Simpson"},null,{"$f":"VLOOKUP($A300,Results3,M$3,FALSE)","v":"Joshua Cumberland"},null,{"$f":"VLOOKUP($A300,Results3,O$3,FALSE)","v":"Ethan Patel"},null,{"$f":"VLOOKUP($A300,Results3,Q$3,FALSE)","v":""},null,{"$f":"VLOOKUP($A300,Results3,S$3,FALSE)","v":""},null,{"$f":"VLOOKUP($A300,Results3,U$3,FALSE)","v":""}]
[{"$f":"B299&\"B\"","v":"78B"},null,null,null,null,null,{"$f":"VLOOKUP($A301,Results3,G$4,FALSE)","v":"Worc"},{"$f":"VLOOKUP($A301,Results3,H$3,FALSE)","v":13.67},{"$f":"VLOOKUP($A301,Results3,I$4,FALSE)","v":"Tam"},{"$f":"VLOOKUP($A301,Results3,J$3,FALSE)","v":10.17},{"$f":"VLOOKUP($A301,Results3,K$4,FALSE)","v":"Bic"},{"$f":"VLOOKUP($A301,Results3,L$3,FALSE)","v":9.8699999999999992},{"$f":"VLOOKUP($A301,Results3,M$4,FALSE)","v":"Rad"},{"$f":"VLOOKUP($A301,Results3,N$3,FALSE)","v":8.7899999999999991},{"$f":"VLOOKUP($A301,Results3,O$4,FALSE)","v":"Wreake"},{"$f":"VLOOKUP($A301,Results3,P$3,FALSE)","v":8.18},{"$f":"VLOOKUP($A301,Results3,Q$4,FALSE)","v":0},{"$f":"VLOOKUP($A301,Results3,R$3,FALSE)","v":0},{"$f":"VLOOKUP($A301,Results3,S$4,FALSE)","v":0},{"$f":"VLOOKUP($A301,Results3,T$3,FALSE)","v":0},{"$f":"VLOOKUP($A301,Results3,U$4,FALSE)","v":0},{"$f":"VLOOKUP($A301,Results3,V$3,FALSE)","v":0},{"$f":"VLOOKUP($A301,Results3,W$4,FALSE)","v":0},6,0,0,5,7,4,8]
[{"$f":"B303&\"A\"","v":"79A"},null,null,{"$f":"VLOOKUP(B303,EventsOrder,4,FALSE)","v":"U13 Female"},"A",null,{"$f":"VLOOKUP($A302,Results3,G$3,FALSE)","v":""},null,{"$f":"VLOOKUP($A302,Results3,I$3,FALSE)","v":""},null,{"$f":"VLOOKUP($A302,Results3,K$3,FALSE)","v":""},null,{"$f":"VLOOKUP($A302,Results3,M$3,FALSE)","v":""},null,{"$f":"VLOOKUP($A302,Results3,O$3,FALSE)","v":""},null,{"$f":"VLOOKUP($A302,Results3,Q$3,FALSE)","v":""},null,{"$f":"VLOOKUP($A302,Results3,S$3,FALSE)","v":""},null,{"$f":"VLOOKUP($A302,Results3,U$3,FALSE)","v":""},null,null,null,null,null,null,null,null,null,{"$f":"IF(LEN(G302)>1,1,0)","v":0}]
[{"$f":"B303&\"A\"","v":"79A"},79,{"$f":"VLOOKUP(B303,EventsOrder,2,FALSE)","v":4.2},null,null,null,{"$f":"VLOOKUP($A303,Results3,G$4,FALSE)","v":0},{"$f":"VLOOKUP($A303,Results3,H$3,FALSE)","v":0},{"$f":"VLOOKUP($A303,Results3,I$4,FALSE)","v":0},{"$f":"VLOOKUP($A303,Results3,J$3,FALSE)","v":0},{"$f":"VLOOKUP($A303,Results3,K$4,FALSE)","v":0},{"$f":"VLOOKUP($A303,Results3,L$3,FALSE)","v":0},{"$f":"VLOOKUP($A303,Results3,M$4,FALSE)","v":0},{"$f":"VLOOKUP($A303,Results3,N$3,FALSE)","v":0},{"$f":"VLOOKUP($A303,Results3,O$4,FALSE)","v":0},{"$f":"VLOOKUP($A303,Results3,P$3,FALSE)","v":0},{"$f":"VLOOKUP($A303,Results3,Q$4,FALSE)","v":0},{"$f":"VLOOKUP($A303,Results3,R$3,FALSE)","v":0},{"$f":"VLOOKUP($A303,Results3,S$4,FALSE)","v":0},{"$f":"VLOOKUP($A303,Results3,T$3,FALSE)","v":0},{"$f":"VLOOKUP($A303,Results3,U$4,FALSE)","v":0},{"$f":"VLOOKUP($A303,Results3,V$3,FALSE)","v":0},{"$f":"VLOOKUP($A303,Results3,W$4,FALSE)","v":0},{"$f":"VLOOKUP($A303,Results3,X$4,FALSE)","v":0},0,0,0,0,0,0]
[{"$f":"B303&\"B\"","v":"79B"},null,null,{"$f":"VLOOKUP(B303,EventsOrder,3,FALSE)","v":"Javelin"},"B",null,{"$f":"VLOOKUP($A304,Results3,G$3,FALSE)","v":""},null,{"$f":"VLOOKUP($A304,Results3,I$3,FALSE)","v":""},null,{"$f":"VLOOKUP($A304,Results3,K$3,FALSE)","v":""},null,{"$f":"VLOOKUP($A304,Results3,M$3,FALSE)","v":""},null,{"$f":"VLOOKUP($A304,Results3,O$3,FALSE)","v":""},null,{"$f":"VLOOKUP($A304,Results3,Q$3,FALSE)","v":""},null,{"$f":"VLOOKUP($A304,Results3,S$3,FALSE)","v":""},null,{"$f":"VLOOKUP($A304,Results3,U$3,FALSE)","v":""}]
[{"$f":"B303&\"B\"","v":"79B"},null,null,null,null,null,{"$f":"VLOOKUP($A305,Results3,G$4,FALSE)","v":0},{"$f":"VLOOKUP($A305,Results3,H$3,FALSE)","v":0},{"$f":"VLOOKUP($A305,Results3,I$4,FALSE)","v":0},{"$f":"VLOOKUP($A305,Results3,J$3,FALSE)","v":0},{"$f":"VLOOKUP($A305,Results3,K$4,FALSE)","v":0},{"$f":"VLOOKUP($A305,Results3,L$3,FALSE)","v":0},{"$f":"VLOOKUP($A305,Results3,M$4,FALSE)","v":0},{"$f":"VLOOKUP($A305,Results3,N$3,FALSE)","v":0},{"$f":"VLOOKUP($A305,Results3,O$4,FALSE)","v":0},{"$f":"VLOOKUP($A305,Results3,P$3,FALSE)","v":0},{"$f":"VLOOKUP($A305,Results3,Q$4,FALSE)","v":0},{"$f":"VLOOKUP($A305,Results3,R$3,FALSE)","v":0},{"$f":"VLOOKUP($A305,Results3,S$4,FALSE)","v":0},{"$f":"VLOOKUP($A305,Results3,T$3,FALSE)","v":0},{"$f":"VLOOKUP($A305,Results3,U$4,FALSE)","v":0},{"$f":"VLOOKUP($A305,Results3,V$3,FALSE)","v":0},{"$f":"VLOOKUP($A305,Results3,W$4,FALSE)","v":0},0,0,0,0,0,0,0]
[{"$f":"B307&\"A\"","v":"80A"},null,null,{"$f":"VLOOKUP(B307,EventsOrder,4,FALSE)","v":"U17 Men"},"A",null,{"$f":"VLOOKUP($A306,Results3,G$3,FALSE)","v":"Jake Cavens"},null,{"$f":"VLOOKUP($A306,Results3,I$3,FALSE)","v":"Charlie McGlinchey"},null,{"$f":"VLOOKUP($A306,Results3,K$3,FALSE)","v":"Josh Cannell"},null,{"$f":"VLOOKUP($A306,Results3,M$3,FALSE)","v":"Andrew Woods"},null,{"$f":"VLOOKUP($A306,Results3,O$3,FALSE)","v":""},null,{"$f":"VLOOKUP($A306,Results3,Q$3,FALSE)","v":""},null,{"$f":"VLOOKUP($A306,Results3,S$3,FALSE)","v":""},null,{"$f":"VLOOKUP($A306,Results3,U$3,FALSE)","v":""},null,null,null,null,null,null,null,null,null,{"$f":"IF(LEN(G306)>1,1,0)","v":1}]
[{"$f":"B307&\"A\"","v":"80A"},80,{"$f":"VLOOKUP(B307,EventsOrder,2,FALSE)","v":4.4000000000000004},null,null,null,{"$f":"VLOOKUP($A307,Results3,G$4,FALSE)","v":"Worc"},{"$f":"VLOOKUP($A307,Results3,H$3,FALSE)","v":"4.25.8"},{"$f":"VLOOKUP($A307,Results3,I$4,FALSE)","v":"Wreake"},{"$f":"VLOOKUP($A307,Results3,J$3,FALSE)","v":"4.30.2"},{"$f":"VLOOKUP($A307,Results3,K$4,FALSE)","v":"Kett"},{"$f":"VLOOKUP($A307,Results3,L$3,FALSE)","v":"4.43.8"},{"$f":"VLOOKUP($A307,Results3,M$4,FALSE)","v":"Tam"},{"$f":"VLOOKUP($A307,Results3,N$3,FALSE)","v":"4.44.7"},{"$f":"VLOOKUP($A307,Results3,O$4,FALSE)","v":0},{"$f":"VLOOKUP($A307,Results3,P$3,FALSE)","v":0},{"$f":"VLOOKUP($A307,Results3,Q$4,FALSE)","v":0},{"$f":"VLOOKUP($A307,Results3,R$3,FALSE)","v":0},{"$f":"VLOOKUP($A307,Results3,S$4,FALSE)","v":0},{"$f":"VLOOKUP($A307,Results3,T$3,FALSE)","v":0},{"$f":"VLOOKUP($A307,Results3,U$4,FALSE)","v":0},{"$f":"VLOOKUP($A307,Results3,V$3,FALSE)","v":0},{"$f":"VLOOKUP($A307,Results3,W$4,FALSE)","v":0},{"$f":"VLOOKUP($A307,Results3,X$4,FALSE)","v":0},0,6,0,5,7,8]
[{"$f":"B307&\"B\"","v":"80B"},null,null,{"$f":"VLOOKUP(B307,EventsOrder,3,FALSE)","v":"1500m"},"B",null,{"$f":"VLOOKUP($A308,Results3,G$3,FALSE)","v":"Phil Capewell"},null,{"$f":"VLOOKUP($A308,Results3,I$3,FALSE)","v":""},null,{"$f":"VLOOKUP($A308,Results3,K$3,FALSE)","v":""},null,{"$f":"VLOOKUP($A308,Results3,M$3,FALSE)","v":""},null,{"$f":"VLOOKUP($A308,Results3,O$3,FALSE)","v":""},null,{"$f":"VLOOKUP($A308,Results3,Q$3,FALSE)","v":""},null,{"$f":"VLOOKUP($A308,Results3,S$3,FALSE)","v":""},null,{"$f":"VLOOKUP($A308,Results3,U$3,FALSE)","v":""}]
[{"$f":"B307&\"B\"","v":"80B"},null,null,null,null,null,{"$f":"VLOOKUP($A309,Results3,G$4,FALSE)","v":"Worc"},{"$f":"VLOOKUP($A309,Results3,H$3,FALSE)","v":"4.39.8"},{"$f":"VLOOKUP($A309,Results3,I$4,FALSE)","v":0},{"$f":"VLOOKUP($A309,Results3,J$3,FALSE)","v":0},{"$f":"VLOOKUP($A309,Results3,K$4,FALSE)","v":0},{"$f":"VLOOKUP($A309,Results3,L$3,FALSE)","v":0},{"$f":"VLOOKUP($A309,Results3,M$4,FALSE)","v":0},{"$f":"VLOOKUP($A309,Results3,N$3,FALSE)","v":0},{"$f":"VLOOKUP($A309,Results3,O$4,FALSE)","v":0},{"$f":"VLOOKUP($A309,Results3,P$3,FALSE)","v":0},{"$f":"VLOOKUP($A309,Results3,Q$4,FALSE)","v":0},{"$f":"VLOOKUP($A309,Results3,R$3,FALSE)","v":0},{"$f":"VLOOKUP($A309,Results3,S$4,FALSE)","v":0},{"$f":"VLOOKUP($A309,Results3,T$3,FALSE)","v":0},{"$f":"VLOOKUP($A309,Results3,U$4,FALSE)","v":0},{"$f":"VLOOKUP($A309,Results3,V$3,FALSE)","v":0},{"$f":"VLOOKUP($A309,Results3,W$4,FALSE)","v":0},0,0,0,0,0,0,8]
[{"$f":"B311&\"A\"","v":"82A"},null,null,{"$f":"VLOOKUP(B311,EventsOrder,4,FALSE)","v":"U13 Female"},"A",null,{"$f":"VLOOKUP($A310,Results3,G$3,FALSE)","v":"Wreake Runners"},null,{"$f":"VLOOKUP($A310,Results3,I$3,FALSE)","v":"Banbury"},null,{"$f":"VLOOKUP($A310,Results3,K$3,FALSE)","v":"Worcester"},null,{"$f":"VLOOKUP($A310,Results3,M$3,FALSE)","v":"Radley"},null,{"$f":"VLOOKUP($A310,Results3,O$3,FALSE)","v":"Tamworth"},null,{"$f":"VLOOKUP($A310,Results3,Q$3,FALSE)","v":"Bicester"},null,{"$f":"VLOOKUP($A310,Results3,S$3,FALSE)","v":"Kettering Town Harriers"},null,{"$f":"VLOOKUP($A310,Results3,U$3,FALSE)","v":"Dudley & S'bridge"},null,null,null,null,null,null,null,null,null,{"$f":"IF(LEN(G310)>1,1,0)","v":1}]
[{"$f":"B311&\"A\"","v":"82A"},82,{"$f":"VLOOKUP(B311,EventsOrder,2,FALSE)","v":4.55},null,null,null,{"$f":"VLOOKUP($A311,Results3,G$4,FALSE)","v":"Wreake"},{"$f":"VLOOKUP($A311,Results3,H$3,FALSE)","v":58.2},{"$f":"VLOOKUP($A311,Results3,I$4,FALSE)","v":"Ban"},{"$f":"VLOOKUP($A311,Results3,J$3,FALSE)","v":60.4},{"$f":"VLOOKUP($A311,Results3,K$4,FALSE)","v":"Worc"},{"$f":"VLOOKUP($A311,Results3,L$3,FALSE)","v":60.6},{"$f":"VLOOKUP($A311,Results3,M$4,FALSE)","v":"Rad"},{"$f":"VLOOKUP($A311,Results3,N$3,FALSE)","v":61.6},{"$f":"VLOOKUP($A311,Results3,O$4,FALSE)","v":"Tam"},{"$f":"VLOOKUP($A311,Results3,P$3,FALSE)","v":62},{"$f":"VLOOKUP($A311,Results3,Q$4,FALSE)","v":"Bic"},{"$f":"VLOOKUP($A311,Results3,R$3,FALSE)","v":64},{"$f":"VLOOKUP($A311,Results3,S$4,FALSE)","v":"Kett"},{"$f":"VLOOKUP($A311,Results3,T$3,FALSE)","v":64.599999999999994},{"$f":"VLOOKUP($A311,Results3,U$4,FALSE)","v":"DASH"},{"$f":"VLOOKUP($A311,Results3,V$3,FALSE)","v":68.5},{"$f":"VLOOKUP($A311,Results3,W$4,FALSE)","v":7},{"$f":"VLOOKUP($A311,Results3,X$4,FALSE)","v":3},1,2,5,4,8,6]
[{"$f":"B311&\"B\"","v":"82B"},null,null,{"$f":"VLOOKUP(B311,EventsOrder,3,FALSE)","v":"4 x 100m"},"B",null,{"$f":"VLOOKUP($A312,Results3,G$3,FALSE)","v":""},null,{"$f":"VLOOKUP($A312,Results3,I$3,FALSE)","v":""},null,{"$f":"VLOOKUP($A312,Results3,K$3,FALSE)","v":""},null,{"$f":"VLOOKUP($A312,Results3,M$3,FALSE)","v":""},null,{"$f":"VLOOKUP($A312,Results3,O$3,FALSE)","v":""},null,{"$f":"VLOOKUP($A312,Results3,Q$3,FALSE)","v":""},null,{"$f":"VLOOKUP($A312,Results3,S$3,FALSE)","v":""},null,{"$f":"VLOOKUP($A312,Results3,U$3,FALSE)","v":""}]
[{"$f":"B311&\"B\"","v":"82B"},null,null,null,null,null,{"$f":"VLOOKUP($A313,Results3,G$4,FALSE)","v":0},{"$f":"VLOOKUP($A313,Results3,H$3,FALSE)","v":0},{"$f":"VLOOKUP($A313,Results3,I$4,FALSE)","v":0},{"$f":"VLOOKUP($A313,Results3,J$3,FALSE)","v":0},{"$f":"VLOOKUP($A313,Results3,K$4,FALSE)","v":0},{"$f":"VLOOKUP($A313,Results3,L$3,FALSE)","v":0},{"$f":"VLOOKUP($A313,Results3,M$4,FALSE)","v":0},{"$f":"VLOOKUP($A313,Results3,N$3,FALSE)","v":0},{"$f":"VLOOKUP($A313,Results3,O$4,FALSE)","v":0},{"$f":"VLOOKUP($A313,Results3,P$3,FALSE)","v":0},{"$f":"VLOOKUP($A313,Results3,Q$4,FALSE)","v":0},{"$f":"VLOOKUP($A313,Results3,R$3,FALSE)","v":0},{"$f":"VLOOKUP($A313,Results3,S$4,FALSE)","v":0},{"$f":"VLOOKUP($A313,Results3,T$3,FALSE)","v":0},{"$f":"VLOOKUP($A313,Results3,U$4,FALSE)","v":0},{"$f":"VLOOKUP($A313,Results3,V$3,FALSE)","v":0},{"$f":"VLOOKUP($A313,Results3,W$4,FALSE)","v":0},0,0,0,0,0,0,0]
[{"$f":"B315&\"A\"","v":"83A"},null,null,{"$f":"VLOOKUP(B315,EventsOrder,4,FALSE)","v":"U15 Female"},"A",null,{"$f":"VLOOKUP($A314,Results3,G$3,FALSE)","v":"Worcester"},null,{"$f":"VLOOKUP($A314,Results3,I$3,FALSE)","v":"Kettering Town Harriers"},null,{"$f":"VLOOKUP($A314,Results3,K$3,FALSE)","v":"Dudley & S'bridge"},null,{"$f":"VLOOKUP($A314,Results3,M$3,FALSE)","v":"Wreake Runners"},null,{"$f":"VLOOKUP($A314,Results3,O$3,FALSE)","v":"Radley"},null,{"$f":"VLOOKUP($A314,Results3,Q$3,FALSE)","v":"Bicester"},null,{"$f":"VLOOKUP($A314,Results3,S$3,FALSE)","v":""},null,{"$f":"VLOOKUP($A314,Results3,U$3,FALSE)","v":""},null,null,null,null,null,null,null,null,null,{"$f":"IF(LEN(G314)>1,1,0)","v":1}]
[{"$f":"B315&\"A\"","v":"83A"},83,{"$f":"VLOOKUP(B315,EventsOrder,2,FALSE)","v":5},null,null,null,{"$f":"VLOOKUP($A315,Results3,G$4,FALSE)","v":"Worc"},{"$f":"VLOOKUP($A315,Results3,H$3,FALSE)","v":52.2},{"$f":"VLOOKUP($A315,Results3,I$4,FALSE)","v":"Kett"},{"$f":"VLOOKUP($A315,Results3,J$3,FALSE)","v":54},{"$f":"VLOOKUP($A315,Results3,K$4,FALSE)","v":"DASH"},{"$f":"VLOOKUP($A315,Results3,L$3,FALSE)","v":54.1},{"$f":"VLOOKUP($A315,Results3,M$4,FALSE)","v":"Wreake"},{"$f":"VLOOKUP($A315,Results3,N$3,FALSE)","v":55.6},{"$f":"VLOOKUP($A315,Results3,O$4,FALSE)","v":"Rad"},{"$f":"VLOOKUP($A315,Results3,P$3,FALSE)","v":56.8},{"$f":"VLOOKUP($A315,Results3,Q$4,FALSE)","v":"Bic"},{"$f":"VLOOKUP($A315,Results3,R$3,FALSE)","v":58.5},{"$f":"VLOOKUP($A315,Results3,S$4,FALSE)","v":0},{"$f":"VLOOKUP($A315,Results3,T$3,FALSE)","v":0},{"$f":"VLOOKUP($A315,Results3,U$4,FALSE)","v":0},{"$f":"VLOOKUP($A315,Results3,V$3,FALSE)","v":0},{"$f":"VLOOKUP($A315,Results3,W$4,FALSE)","v":0},{"$f":"VLOOKUP($A315,Results3,X$4,FALSE)","v":3},6,7,4,0,5,8]
[{"$f":"B315&\"B\"","v":"83B"},null,null,{"$f":"VLOOKUP(B315,EventsOrder,3,FALSE)","v":"4 x 100m"},"B",null,{"$f":"VLOOKUP($A316,Results3,G$3,FALSE)","v":""},null,{"$f":"VLOOKUP($A316,Results3,I$3,FALSE)","v":""},null,{"$f":"VLOOKUP($A316,Results3,K$3,FALSE)","v":""},null,{"$f":"VLOOKUP($A316,Results3,M$3,FALSE)","v":""},null,{"$f":"VLOOKUP($A316,Results3,O$3,FALSE)","v":""},null,{"$f":"VLOOKUP($A316,Results3,Q$3,FALSE)","v":""},null,{"$f":"VLOOKUP($A316,Results3,S$3,FALSE)","v":""},null,{"$f":"VLOOKUP($A316,Results3,U$3,FALSE)","v":""}]
[{"$f":"B315&\"B\"","v":"83B"},null,null,null,null,null,{"$f":"VLOOKUP($A317,Results3,G$4,FALSE)","v":0},{"$f":"VLOOKUP($A317,Results3,H$3,FALSE)","v":0},{"$f":"VLOOKUP($A317,Results3,I$4,FALSE)","v":0},{"$f":"VLOOKUP($A317,Results3,J$3,FALSE)","v":0},{"$f":"VLOOKUP($A317,Results3,K$4,FALSE)","v":0},{"$f":"VLOOKUP($A317,Results3,L$3,FALSE)","v":0},{"$f":"VLOOKUP($A317,Results3,M$4,FALSE)","v":0},{"$f":"VLOOKUP($A317,Results3,N$3,FALSE)","v":0},{"$f":"VLOOKUP($A317,Results3,O$4,FALSE)","v":0},{"$f":"VLOOKUP($A317,Results3,P$3,FALSE)","v":0},{"$f":"VLOOKUP($A317,Results3,Q$4,FALSE)","v":0},{"$f":"VLOOKUP($A317,Results3,R$3,FALSE)","v":0},{"$f":"VLOOKUP($A317,Results3,S$4,FALSE)","v":0},{"$f":"VLOOKUP($A317,Results3,T$3,FALSE)","v":0},{"$f":"VLOOKUP($A317,Results3,U$4,FALSE)","v":0},{"$f":"VLOOKUP($A317,Results3,V$3,FALSE)","v":0},{"$f":"VLOOKUP($A317,Results3,W$4,FALSE)","v":0},0,0,0,0,0,0,0]
[{"$f":"B319&\"A\"","v":"84A"},null,null,{"$f":"VLOOKUP(B319,EventsOrder,4,FALSE)","v":"U17 F/Women"},"A",null,{"$f":"VLOOKUP($A318,Results3,G$3,FALSE)","v":"Worcester"},null,{"$f":"VLOOKUP($A318,Results3,I$3,FALSE)","v":"Radley"},null,{"$f":"VLOOKUP($A318,Results3,K$3,FALSE)","v":"Kettering"},null,{"$f":"VLOOKUP($A318,Results3,M$3,FALSE)","v":"Wreake Runners"},null,{"$f":"VLOOKUP($A318,Results3,O$3,FALSE)","v":""},null,{"$f":"VLOOKUP($A318,Results3,Q$3,FALSE)","v":""},null,{"$f":"VLOOKUP($A318,Results3,S$3,FALSE)","v":""},null,{"$f":"VLOOKUP($A318,Results3,U$3,FALSE)","v":""},null,null,null,null,null,null,null,null,null,{"$f":"IF(LEN(G318)>1,1,0)","v":1}]
[{"$f":"B319&\"A\"","v":"84A"},84,{"$f":"VLOOKUP(B319,EventsOrder,2,FALSE)","v":5.05},null,null,null,{"$f":"VLOOKUP($A319,Results3,G$4,FALSE)","v":"Worc"},{"$f":"VLOOKUP($A319,Results3,H$3,FALSE)","v":53.4},{"$f":"VLOOKUP($A319,Results3,I$4,FALSE)","v":"Rad"},{"$f":"VLOOKUP($A319,Results3,J$3,FALSE)","v":54},{"$f":"VLOOKUP($A319,Results3,K$4,FALSE)","v":"Kett"},{"$f":"VLOOKUP($A319,Results3,L$3,FALSE)","v":56.3},{"$f":"VLOOKUP($A319,Results3,M$4,FALSE)","v":"Wreake"},{"$f":"VLOOKUP($A319,Results3,N$3,FALSE)","v":56.3},{"$f":"VLOOKUP($A319,Results3,O$4,FALSE)","v":0},{"$f":"VLOOKUP($A319,Results3,P$3,FALSE)","v":0},{"$f":"VLOOKUP($A319,Results3,Q$4,FALSE)","v":0},{"$f":"VLOOKUP($A319,Results3,R$3,FALSE)","v":0},{"$f":"VLOOKUP($A319,Results3,S$4,FALSE)","v":0},{"$f":"VLOOKUP($A319,Results3,T$3,FALSE)","v":0},{"$f":"VLOOKUP($A319,Results3,U$4,FALSE)","v":0},{"$f":"VLOOKUP($A319,Results3,V$3,FALSE)","v":0},{"$f":"VLOOKUP($A319,Results3,W$4,FALSE)","v":0},{"$f":"VLOOKUP($A319,Results3,X$4,FALSE)","v":0},0,6,7,0,5,8]
[{"$f":"B319&\"B\"","v":"84B"},null,null,{"$f":"VLOOKUP(B319,EventsOrder,3,FALSE)","v":"4 x 100m"},"B",null,{"$f":"VLOOKUP($A320,Results3,G$3,FALSE)","v":""},null,{"$f":"VLOOKUP($A320,Results3,I$3,FALSE)","v":""},null,{"$f":"VLOOKUP($A320,Results3,K$3,FALSE)","v":""},null,{"$f":"VLOOKUP($A320,Results3,M$3,FALSE)","v":""},null,{"$f":"VLOOKUP($A320,Results3,O$3,FALSE)","v":""},null,{"$f":"VLOOKUP($A320,Results3,Q$3,FALSE)","v":""},null,{"$f":"VLOOKUP($A320,Results3,S$3,FALSE)","v":""},null,{"$f":"VLOOKUP($A320,Results3,U$3,FALSE)","v":""}]
[{"$f":"B319&\"B\"","v":"84B"},null,null,null,null,null,{"$f":"VLOOKUP($A321,Results3,G$4,FALSE)","v":0},{"$f":"VLOOKUP($A321,Results3,H$3,FALSE)","v":0},{"$f":"VLOOKUP($A321,Results3,I$4,FALSE)","v":0},{"$f":"VLOOKUP($A321,Results3,J$3,FALSE)","v":0},{"$f":"VLOOKUP($A321,Results3,K$4,FALSE)","v":0},{"$f":"VLOOKUP($A321,Results3,L$3,FALSE)","v":0},{"$f":"VLOOKUP($A321,Results3,M$4,FALSE)","v":0},{"$f":"VLOOKUP($A321,Results3,N$3,FALSE)","v":0},{"$f":"VLOOKUP($A321,Results3,O$4,FALSE)","v":0},{"$f":"VLOOKUP($A321,Results3,P$3,FALSE)","v":0},{"$f":"VLOOKUP($A321,Results3,Q$4,FALSE)","v":0},{"$f":"VLOOKUP($A321,Results3,R$3,FALSE)","v":0},{"$f":"VLOOKUP($A321,Results3,S$4,FALSE)","v":0},{"$f":"VLOOKUP($A321,Results3,T$3,FALSE)","v":0},{"$f":"VLOOKUP($A321,Results3,U$4,FALSE)","v":0},{"$f":"VLOOKUP($A321,Results3,V$3,FALSE)","v":0},{"$f":"VLOOKUP($A321,Results3,W$4,FALSE)","v":0},0,0,0,0,0,0,0]
[{"$f":"B323&\"A\"","v":"85A"},null,null,{"$f":"VLOOKUP(B323,EventsOrder,4,FALSE)","v":"U13 Male"},"A",null,{"$f":"VLOOKUP($A322,Results3,G$3,FALSE)","v":0},null,{"$f":"VLOOKUP($A322,Results3,I$3,FALSE)","v":0},null,{"$f":"VLOOKUP($A322,Results3,K$3,FALSE)","v":0},null,{"$f":"VLOOKUP($A322,Results3,M$3,FALSE)","v":0},null,{"$f":"VLOOKUP($A322,Results3,O$3,FALSE)","v":0},null,{"$f":"VLOOKUP($A322,Results3,Q$3,FALSE)","v":0},null,{"$f":"VLOOKUP($A322,Results3,S$3,FALSE)","v":""},null,{"$f":"VLOOKUP($A322,Results3,U$3,FALSE)","v":""},null,null,null,null,null,null,null,null,null,{"$f":"IF(LEN(G322)>1,1,0)","v":0}]
[{"$f":"B323&\"A\"","v":"85A"},85,{"$f":"VLOOKUP(B323,EventsOrder,2,FALSE)","v":5.0999999999999996},null,null,null,{"$f":"VLOOKUP($A323,Results3,G$4,FALSE)","v":"Kett"},{"$f":"VLOOKUP($A323,Results3,H$3,FALSE)","v":53.7},{"$f":"VLOOKUP($A323,Results3,I$4,FALSE)","v":"Worc"},{"$f":"VLOOKUP($A323,Results3,J$3,FALSE)","v":57.5},{"$f":"VLOOKUP($A323,Results3,K$4,FALSE)","v":"Rad"},{"$f":"VLOOKUP($A323,Results3,L$3,FALSE)","v":58.2},{"$f":"VLOOKUP($A323,Results3,M$4,FALSE)","v":"Bic"},{"$f":"VLOOKUP($A323,Results3,N$3,FALSE)","v":60.1},{"$f":"VLOOKUP($A323,Results3,O$4,FALSE)","v":"Tam"},{"$f":"VLOOKUP($A323,Results3,P$3,FALSE)","v":61.1},{"$f":"VLOOKUP($A323,Results3,Q$4,FALSE)","v":"Wreake"},{"$f":"VLOOKUP($A323,Results3,R$3,FALSE)","v":64},{"$f":"VLOOKUP($A323,Results3,S$4,FALSE)","v":0},{"$f":"VLOOKUP($A323,Results3,T$3,FALSE)","v":0},{"$f":"VLOOKUP($A323,Results3,U$4,FALSE)","v":0},{"$f":"VLOOKUP($A323,Results3,V$3,FALSE)","v":0},{"$f":"VLOOKUP($A323,Results3,W$4,FALSE)","v":0},{"$f":"VLOOKUP($A323,Results3,X$4,FALSE)","v":5},0,8,6,4,3,7]
[{"$f":"B323&\"B\"","v":"85B"},null,null,{"$f":"VLOOKUP(B323,EventsOrder,3,FALSE)","v":"4 x 100m"},"B",null,{"$f":"VLOOKUP($A324,Results3,G$3,FALSE)","v":""},null,{"$f":"VLOOKUP($A324,Results3,I$3,FALSE)","v":""},null,{"$f":"VLOOKUP($A324,Results3,K$3,FALSE)","v":""},null,{"$f":"VLOOKUP($A324,Results3,M$3,FALSE)","v":""},null,{"$f":"VLOOKUP($A324,Results3,O$3,FALSE)","v":""},null,{"$f":"VLOOKUP($A324,Results3,Q$3,FALSE)","v":""},null,{"$f":"VLOOKUP($A324,Results3,S$3,FALSE)","v":""},null,{"$f":"VLOOKUP($A324,Results3,U$3,FALSE)","v":""}]
[{"$f":"B323&\"B\"","v":"85B"},null,null,null,null,null,{"$f":"VLOOKUP($A325,Results3,G$4,FALSE)","v":0},{"$f":"VLOOKUP($A325,Results3,H$3,FALSE)","v":0},{"$f":"VLOOKUP($A325,Results3,I$4,FALSE)","v":0},{"$f":"VLOOKUP($A325,Results3,J$3,FALSE)","v":0},{"$f":"VLOOKUP($A325,Results3,K$4,FALSE)","v":0},{"$f":"VLOOKUP($A325,Results3,L$3,FALSE)","v":0},{"$f":"VLOOKUP($A325,Results3,M$4,FALSE)","v":0},{"$f":"VLOOKUP($A325,Results3,N$3,FALSE)","v":0},{"$f":"VLOOKUP($A325,Results3,O$4,FALSE)","v":0},{"$f":"VLOOKUP($A325,Results3,P$3,FALSE)","v":0},{"$f":"VLOOKUP($A325,Results3,Q$4,FALSE)","v":0},{"$f":"VLOOKUP($A325,Results3,R$3,FALSE)","v":0},{"$f":"VLOOKUP($A325,Results3,S$4,FALSE)","v":0},{"$f":"VLOOKUP($A325,Results3,T$3,FALSE)","v":0},{"$f":"VLOOKUP($A325,Results3,U$4,FALSE)","v":0},{"$f":"VLOOKUP($A325,Results3,V$3,FALSE)","v":0},{"$f":"VLOOKUP($A325,Results3,W$4,FALSE)","v":0},0,0,0,0,0,0,0]
[{"$f":"B327&\"A\"","v":"86A"},null,null,{"$f":"VLOOKUP(B327,EventsOrder,4,FALSE)","v":"U15 Male"},"A",null,{"$f":"VLOOKUP($A326,Results3,G$3,FALSE)","v":"Worcester"},null,{"$f":"VLOOKUP($A326,Results3,I$3,FALSE)","v":"Kettering Town Harriers"},null,{"$f":"VLOOKUP($A326,Results3,K$3,FALSE)","v":"Dudley & S'bridge"},null,{"$f":"VLOOKUP($A326,Results3,M$3,FALSE)","v":"Wreake Runners"},null,{"$f":"VLOOKUP($A326,Results3,O$3,FALSE)","v":""},null,{"$f":"VLOOKUP($A326,Results3,Q$3,FALSE)","v":""},null,{"$f":"VLOOKUP($A326,Results3,S$3,FALSE)","v":""},null,{"$f":"VLOOKUP($A326,Results3,U$3,FALSE)","v":""},null,null,null,null,null,null,null,null,null,{"$f":"IF(LEN(G326)>1,1,0)","v":1}]
[{"$f":"B327&\"A\"","v":"86A"},86,{"$f":"VLOOKUP(B327,EventsOrder,2,FALSE)","v":5.15},null,null,null,{"$f":"VLOOKUP($A327,Results3,G$4,FALSE)","v":"Worc"},{"$f":"VLOOKUP($A327,Results3,H$3,FALSE)","v":51.2},{"$f":"VLOOKUP($A327,Results3,I$4,FALSE)","v":"Kett"},{"$f":"VLOOKUP($A327,Results3,J$3,FALSE)","v":53},{"$f":"VLOOKUP($A327,Results3,K$4,FALSE)","v":"DASH"},{"$f":"VLOOKUP($A327,Results3,L$3,FALSE)","v":53.3},{"$f":"VLOOKUP($A327,Results3,M$4,FALSE)","v":"Wreake"},{"$f":"VLOOKUP($A327,Results3,N$3,FALSE)","v":55},{"$f":"VLOOKUP($A327,Results3,O$4,FALSE)","v":0},{"$f":"VLOOKUP($A327,Results3,P$3,FALSE)","v":0},{"$f":"VLOOKUP($A327,Results3,Q$4,FALSE)","v":0},{"$f":"VLOOKUP($A327,Results3,R$3,FALSE)","v":0},{"$f":"VLOOKUP($A327,Results3,S$4,FALSE)","v":0},{"$f":"VLOOKUP($A327,Results3,T$3,FALSE)","v":0},{"$f":"VLOOKUP($A327,Results3,U$4,FALSE)","v":0},{"$f":"VLOOKUP($A327,Results3,V$3,FALSE)","v":0},{"$f":"VLOOKUP($A327,Results3,W$4,FALSE)","v":0},{"$f":"VLOOKUP($A327,Results3,X$4,FALSE)","v":0},6,7,0,0,5,8]
[{"$f":"B327&\"B\"","v":"86B"},null,null,{"$f":"VLOOKUP(B327,EventsOrder,3,FALSE)","v":"4 x 100m"},"B",null,{"$f":"VLOOKUP($A328,Results3,G$3,FALSE)","v":""},null,{"$f":"VLOOKUP($A328,Results3,I$3,FALSE)","v":""},null,{"$f":"VLOOKUP($A328,Results3,K$3,FALSE)","v":""},null,{"$f":"VLOOKUP($A328,Results3,M$3,FALSE)","v":""},null,{"$f":"VLOOKUP($A328,Results3,O$3,FALSE)","v":""},null,{"$f":"VLOOKUP($A328,Results3,Q$3,FALSE)","v":""},null,{"$f":"VLOOKUP($A328,Results3,S$3,FALSE)","v":""},null,{"$f":"VLOOKUP($A328,Results3,U$3,FALSE)","v":""}]
[{"$f":"B327&\"B\"","v":"86B"},null,null,null,null,null,{"$f":"VLOOKUP($A329,Results3,G$4,FALSE)","v":0},{"$f":"VLOOKUP($A329,Results3,H$3,FALSE)","v":0},{"$f":"VLOOKUP($A329,Results3,I$4,FALSE)","v":0},{"$f":"VLOOKUP($A329,Results3,J$3,FALSE)","v":0},{"$f":"VLOOKUP($A329,Results3,K$4,FALSE)","v":0},{"$f":"VLOOKUP($A329,Results3,L$3,FALSE)","v":0},{"$f":"VLOOKUP($A329,Results3,M$4,FALSE)","v":0},{"$f":"VLOOKUP($A329,Results3,N$3,FALSE)","v":0},{"$f":"VLOOKUP($A329,Results3,O$4,FALSE)","v":0},{"$f":"VLOOKUP($A329,Results3,P$3,FALSE)","v":0},{"$f":"VLOOKUP($A329,Results3,Q$4,FALSE)","v":0},{"$f":"VLOOKUP($A329,Results3,R$3,FALSE)","v":0},{"$f":"VLOOKUP($A329,Results3,S$4,FALSE)","v":0},{"$f":"VLOOKUP($A329,Results3,T$3,FALSE)","v":0},{"$f":"VLOOKUP($A329,Results3,U$4,FALSE)","v":0},{"$f":"VLOOKUP($A329,Results3,V$3,FALSE)","v":0},{"$f":"VLOOKUP($A329,Results3,W$4,FALSE)","v":0},0,0,0,0,0,0,0]
[{"$f":"B331&\"A\"","v":"87A"},null,null,{"$f":"VLOOKUP(B331,EventsOrder,4,FALSE)","v":"U17 Men"},"A",null,{"$f":"VLOOKUP($A330,Results3,G$3,FALSE)","v":"Worcester"},null,{"$f":"VLOOKUP($A330,Results3,I$3,FALSE)","v":"Radley"},null,{"$f":"VLOOKUP($A330,Results3,K$3,FALSE)","v":""},null,{"$f":"VLOOKUP($A330,Results3,M$3,FALSE)","v":""},null,{"$f":"VLOOKUP($A330,Results3,O$3,FALSE)","v":""},null,{"$f":"VLOOKUP($A330,Results3,Q$3,FALSE)","v":""},null,{"$f":"VLOOKUP($A330,Results3,S$3,FALSE)","v":""},null,{"$f":"VLOOKUP($A330,Results3,U$3,FALSE)","v":""},null,null,null,null,null,null,null,null,null,{"$f":"IF(LEN(G330)>1,1,0)","v":1}]
[{"$f":"B331&\"A\"","v":"87A"},87,{"$f":"VLOOKUP(B331,EventsOrder,2,FALSE)","v":5.2},null,null,null,{"$f":"VLOOKUP($A331,Results3,G$4,FALSE)","v":"Worc"},{"$f":"VLOOKUP($A331,Results3,H$3,FALSE)","v":44.7},{"$f":"VLOOKUP($A331,Results3,I$4,FALSE)","v":"Rad"},{"$f":"VLOOKUP($A331,Results3,J$3,FALSE)","v":46.9},{"$f":"VLOOKUP($A331,Results3,K$4,FALSE)","v":0},{"$f":"VLOOKUP($A331,Results3,L$3,FALSE)","v":0},{"$f":"VLOOKUP($A331,Results3,M$4,FALSE)","v":0},{"$f":"VLOOKUP($A331,Results3,N$3,FALSE)","v":0},{"$f":"VLOOKUP($A331,Results3,O$4,FALSE)","v":0},{"$f":"VLOOKUP($A331,Results3,P$3,FALSE)","v":0},{"$f":"VLOOKUP($A331,Results3,Q$4,FALSE)","v":0},{"$f":"VLOOKUP($A331,Results3,R$3,FALSE)","v":0},{"$f":"VLOOKUP($A331,Results3,S$4,FALSE)","v":0},{"$f":"VLOOKUP($A331,Results3,T$3,FALSE)","v":0},{"$f":"VLOOKUP($A331,Results3,U$4,FALSE)","v":0},{"$f":"VLOOKUP($A331,Results3,V$3,FALSE)","v":0},{"$f":"VLOOKUP($A331,Results3,W$4,FALSE)","v":0},{"$f":"VLOOKUP($A331,Results3,X$4,FALSE)","v":0},0,0,7,0,0,8]
[{"$f":"B331&\"B\"","v":"87B"},null,null,{"$f":"VLOOKUP(B331,EventsOrder,3,FALSE)","v":"4 x 100m"},"B",null,{"$f":"VLOOKUP($A332,Results3,G$3,FALSE)","v":""},null,{"$f":"VLOOKUP($A332,Results3,I$3,FALSE)","v":""},null,{"$f":"VLOOKUP($A332,Results3,K$3,FALSE)","v":""},null,{"$f":"VLOOKUP($A332,Results3,M$3,FALSE)","v":""},null,{"$f":"VLOOKUP($A332,Results3,O$3,FALSE)","v":""},null,{"$f":"VLOOKUP($A332,Results3,Q$3,FALSE)","v":""},null,{"$f":"VLOOKUP($A332,Results3,S$3,FALSE)","v":""},null,{"$f":"VLOOKUP($A332,Results3,U$3,FALSE)","v":""}]
[{"$f":"B331&\"B\"","v":"87B"},null,null,null,null,null,{"$f":"VLOOKUP($A333,Results3,G$4,FALSE)","v":0},{"$f":"VLOOKUP($A333,Results3,H$3,FALSE)","v":0},{"$f":"VLOOKUP($A333,Results3,I$4,FALSE)","v":0},{"$f":"VLOOKUP($A333,Results3,J$3,FALSE)","v":0},{"$f":"VLOOKUP($A333,Results3,K$4,FALSE)","v":0},{"$f":"VLOOKUP($A333,Results3,L$3,FALSE)","v":0},{"$f":"VLOOKUP($A333,Results3,M$4,FALSE)","v":0},{"$f":"VLOOKUP($A333,Results3,N$3,FALSE)","v":0},{"$f":"VLOOKUP($A333,Results3,O$4,FALSE)","v":0},{"$f":"VLOOKUP($A333,Results3,P$3,FALSE)","v":0},{"$f":"VLOOKUP($A333,Results3,Q$4,FALSE)","v":0},{"$f":"VLOOKUP($A333,Results3,R$3,FALSE)","v":0},{"$f":"VLOOKUP($A333,Results3,S$4,FALSE)","v":0},{"$f":"VLOOKUP($A333,Results3,T$3,FALSE)","v":0},{"$f":"VLOOKUP($A333,Results3,U$4,FALSE)","v":0},{"$f":"VLOOKUP($A333,Results3,V$3,FALSE)","v":0},{"$f":"VLOOKUP($A333,Results3,W$4,FALSE)","v":0},0,0,0,0,0,0,0]
[null,null,null,null,null,null,null,null,null,null,null,null,null,null,null,null,null,null,null,null,"Officials Points",null,{"$f":"Officials!C$20","v":14},{"$f":"Officials!D$20","v":14},{"$f":"Officials!E$20","v":10},{"$f":"Officials!F$20","v":8},{"$f":"Officials!G$20","v":14},{"$f":"Officials!H$20","v":6},{"$f":"Officials!I$20","v":8},{"$f":"Officials!J$20","v":14}]
[null,{"$f":"COUNTIF(B295:B334,\">0\")","v":10},null,null,null,null,null,null,null,null,null,null,null,null,null,null,null,null,null,null,"Total Points",null,{"$f":"SUM(W294:W334)+W288","v":349},{"$f":"SUM(X294:X334)+X288","v":318},349,514,667,270,500,{"$f":"SUM(AD294:AD334)+AD288","v":714},{"$f":"SUM(AE294:AE333)","v":8}]
[null,null,null,null,null,null,null,null,null,null,null,null,null,null,null,null,null,null,null,null,"Match Position",null,{"$f":"RANK(W335,$W335:$AD335)","v":5},7,5,3,2,8,4,1]
[]
[null,"Event No",null,null,null,null,null,null,null,null,{"$f":"K291","v":"Heart of England League Results in Event Order"},null,null,null,null,null,null,null,null,null,null,null,{"$f":"W$8","v":"Banbury"},{"$f":"X$8","v":"Bicester"},"Dudley & S'bridge","Kettering","Radley","Tamworth","Wreake Runners","Worcester"]
[null,null,null,"Division",{"$f":"E292","v":2},null,null,null,null,null,"Venue",{"$f":"L292","v":"Worcester"},null,null,null,null,"Date",{"$f":"R292","v":"5th June 2016"}]
[null,null,"Time","Event",null,null,"First",null,"Second",null,"Third",null,"Fourth",null,"Fifth",null,"Sixth",null,"Seventh",null,"Eighth",null,{"$f":"W$10","v":"J"},{"$f":"X$10","v":"P"},"B","I","R","F","X","Y"]
[{"$f":"B342&\"A\"","v":"0A"},null,null,{"$f":"VLOOKUP(B342,EventsOrder,4,FALSE)","v":0},"A",null,{"$f":"VLOOKUP($A341,Results3,G$3,FALSE)","v":""},null,{"$f":"VLOOKUP($A341,Results3,I$3,FALSE)","v":""},null,{"$f":"VLOOKUP($A341,Results3,K$3,FALSE)","v":""},null,{"$f":"VLOOKUP($A341,Results3,M$3,FALSE)","v":""},null,{"$f":"VLOOKUP($A341,Results3,O$3,FALSE)","v":""},null,{"$f":"VLOOKUP($A341,Results3,Q$3,FALSE)","v":""},null,{"$f":"VLOOKUP($A341,Results3,S$3,FALSE)","v":""},null,{"$f":"VLOOKUP($A341,Results3,U$3,FALSE)","v":""},null,null,null,null,null,null,null,null,null,{"$f":"IF(LEN(G341)>1,1,0)","v":0}]
[{"$f":"B342&\"A\"","v":"0A"},0,{"$f":"VLOOKUP(B342,EventsOrder,2,FALSE)","v":0},null,null,null,{"$f":"VLOOKUP($A342,Results3,G$4,FALSE)","v":0},{"$f":"VLOOKUP($A342,Results3,H$3,FALSE)","v":0},{"$f":"VLOOKUP($A342,Results3,I$4,FALSE)","v":0},{"$f":"VLOOKUP($A342,Results3,J$3,FALSE)","v":0},{"$f":"VLOOKUP($A342,Results3,K$4,FALSE)","v":0},{"$f":"VLOOKUP($A342,Results3,L$3,FALSE)","v":0},{"$f":"VLOOKUP($A342,Results3,M$4,FALSE)","v":0},{"$f":"VLOOKUP($A342,Results3,N$3,FALSE)","v":0},{"$f":"VLOOKUP($A342,Results3,O$4,FALSE)","v":0},{"$f":"VLOOKUP($A342,Results3,P$3,FALSE)","v":0},{"$f":"VLOOKUP($A342,Results3,Q$4,FALSE)","v":0},{"$f":"VLOOKUP($A342,Results3,R$3,FALSE)","v":0},{"$f":"VLOOKUP($A342,Results3,S$4,FALSE)","v":0},{"$f":"VLOOKUP($A342,Results3,T$3,FALSE)","v":0},{"$f":"VLOOKUP($A342,Results3,U$4,FALSE)","v":0},{"$f":"VLOOKUP($A342,Results3,V$3,FALSE)","v":0},{"$f":"VLOOKUP($A342,Results3,W$4,FALSE)","v":0},{"$f":"VLOOKUP($A342,Results3,X$4,FALSE)","v":0},0,0,0,0,0,0]
[{"$f":"B342&\"B\"","v":"0B"},null,null,{"$f":"VLOOKUP(B342,EventsOrder,3,FALSE)","v":0},"B",null,{"$f":"VLOOKUP($A343,Results3,G$3,FALSE)","v":""},null,{"$f":"VLOOKUP($A343,Results3,I$3,FALSE)","v":""},null,{"$f":"VLOOKUP($A343,Results3,K$3,FALSE)","v":""},null,{"$f":"VLOOKUP($A343,Results3,M$3,FALSE)","v":""},null,{"$f":"VLOOKUP($A343,Results3,O$3,FALSE)","v":""},null,{"$f":"VLOOKUP($A343,Results3,Q$3,FALSE)","v":""},null,{"$f":"VLOOKUP($A343,Results3,S$3,FALSE)","v":""},null,{"$f":"VLOOKUP($A343,Results3,U$3,FALSE)","v":""}]
[{"$f":"B342&\"B\"","v":"0B"},null,null,null,null,null,{"$f":"VLOOKUP($A344,Results3,G$4,FALSE)","v":0},{"$f":"VLOOKUP($A344,Results3,H$3,FALSE)","v":0},{"$f":"VLOOKUP($A344,Results3,I$4,FALSE)","v":0},{"$f":"VLOOKUP($A344,Results3,J$3,FALSE)","v":0},{"$f":"VLOOKUP($A344,Results3,K$4,FALSE)","v":0},{"$f":"VLOOKUP($A344,Results3,L$3,FALSE)","v":0},{"$f":"VLOOKUP($A344,Results3,M$4,FALSE)","v":0},{"$f":"VLOOKUP($A344,Results3,N$3,FALSE)","v":0},{"$f":"VLOOKUP($A344,Results3,O$4,FALSE)","v":0},{"$f":"VLOOKUP($A344,Results3,P$3,FALSE)","v":0},{"$f":"VLOOKUP($A344,Results3,Q$4,FALSE)","v":0},{"$f":"VLOOKUP($A344,Results3,R$3,FALSE)","v":0},{"$f":"VLOOKUP($A344,Results3,S$4,FALSE)","v":0},{"$f":"VLOOKUP($A344,Results3,T$3,FALSE)","v":0},{"$f":"VLOOKUP($A344,Results3,U$4,FALSE)","v":0},{"$f":"VLOOKUP($A344,Results3,V$3,FALSE)","v":0},{"$f":"VLOOKUP($A344,Results3,W$4,FALSE)","v":0},0,0,0,0,0,0,0]
[{"$f":"B346&\"A\"","v":"0A"},null,null,{"$f":"VLOOKUP(B346,EventsOrder,4,FALSE)","v":0},"A",null,{"$f":"VLOOKUP($A345,Results3,G$3,FALSE)","v":""},null,{"$f":"VLOOKUP($A345,Results3,I$3,FALSE)","v":""},null,{"$f":"VLOOKUP($A345,Results3,K$3,FALSE)","v":""},null,{"$f":"VLOOKUP($A345,Results3,M$3,FALSE)","v":""},null,{"$f":"VLOOKUP($A345,Results3,O$3,FALSE)","v":""},null,{"$f":"VLOOKUP($A345,Results3,Q$3,FALSE)","v":""},null,{"$f":"VLOOKUP($A345,Results3,S$3,FALSE)","v":""},null,{"$f":"VLOOKUP($A345,Results3,U$3,FALSE)","v":""},null,null,null,null,null,null,null,null,null,{"$f":"IF(LEN(G345)>1,1,0)","v":0}]
[{"$f":"B346&\"A\"","v":"0A"},0,{"$f":"VLOOKUP(B346,EventsOrder,2,FALSE)","v":0},null,null,null,{"$f":"VLOOKUP($A346,Results3,G$4,FALSE)","v":0},{"$f":"VLOOKUP($A346,Results3,H$3,FALSE)","v":0},{"$f":"VLOOKUP($A346,Results3,I$4,FALSE)","v":0},{"$f":"VLOOKUP($A346,Results3,J$3,FALSE)","v":0},{"$f":"VLOOKUP($A346,Results3,K$4,FALSE)","v":0},{"$f":"VLOOKUP($A346,Results3,L$3,FALSE)","v":0},{"$f":"VLOOKUP($A346,Results3,M$4,FALSE)","v":0},{"$f":"VLOOKUP($A346,Results3,N$3,FALSE)","v":0},{"$f":"VLOOKUP($A346,Results3,O$4,FALSE)","v":0},{"$f":"VLOOKUP($A346,Results3,P$3,FALSE)","v":0},{"$f":"VLOOKUP($A346,Results3,Q$4,FALSE)","v":0},{"$f":"VLOOKUP($A346,Results3,R$3,FALSE)","v":0},{"$f":"VLOOKUP($A346,Results3,S$4,FALSE)","v":0},{"$f":"VLOOKUP($A346,Results3,T$3,FALSE)","v":0},{"$f":"VLOOKUP($A346,Results3,U$4,FALSE)","v":0},{"$f":"VLOOKUP($A346,Results3,V$3,FALSE)","v":0},{"$f":"VLOOKUP($A346,Results3,W$4,FALSE)","v":0},{"$f":"VLOOKUP($A346,Results3,X$4,FALSE)","v":0},0,0,0,0,0,0]
[{"$f":"B346&\"B\"","v":"0B"},null,null,{"$f":"VLOOKUP(B346,EventsOrder,3,FALSE)","v":0},"B","NS",{"$f":"VLOOKUP($A347,Results3,G$3,FALSE)","v":""},null,{"$f":"VLOOKUP($A347,Results3,I$3,FALSE)","v":""},null,{"$f":"VLOOKUP($A347,Results3,K$3,FALSE)","v":""},null,{"$f":"VLOOKUP($A347,Results3,M$3,FALSE)","v":""},null,{"$f":"VLOOKUP($A347,Results3,O$3,FALSE)","v":""},null,{"$f":"VLOOKUP($A347,Results3,Q$3,FALSE)","v":""},null,{"$f":"VLOOKUP($A347,Results3,S$3,FALSE)","v":""},null,{"$f":"VLOOKUP($A347,Results3,U$3,FALSE)","v":""}]
[{"$f":"B346&\"B\"","v":"0B"},null,null,null,null,null,{"$f":"VLOOKUP($A348,Results3,G$4,FALSE)","v":0},{"$f":"VLOOKUP($A348,Results3,H$3,FALSE)","v":0},{"$f":"VLOOKUP($A348,Results3,I$4,FALSE)","v":0},{"$f":"VLOOKUP($A348,Results3,J$3,FALSE)","v":0},{"$f":"VLOOKUP($A348,Results3,K$4,FALSE)","v":0},{"$f":"VLOOKUP($A348,Results3,L$3,FALSE)","v":0},{"$f":"VLOOKUP($A348,Results3,M$4,FALSE)","v":0},{"$f":"VLOOKUP($A348,Results3,N$3,FALSE)","v":0},{"$f":"VLOOKUP($A348,Results3,O$4,FALSE)","v":0},{"$f":"VLOOKUP($A348,Results3,P$3,FALSE)","v":0},{"$f":"VLOOKUP($A348,Results3,Q$4,FALSE)","v":0},{"$f":"VLOOKUP($A348,Results3,R$3,FALSE)","v":0},{"$f":"VLOOKUP($A348,Results3,S$4,FALSE)","v":0},{"$f":"VLOOKUP($A348,Results3,T$3,FALSE)","v":0},{"$f":"VLOOKUP($A348,Results3,U$4,FALSE)","v":0},{"$f":"VLOOKUP($A348,Results3,V$3,FALSE)","v":0},{"$f":"VLOOKUP($A348,Results3,W$4,FALSE)","v":0},0,0,0,0,0,0,0]
[{"$f":"B350&\"A\"","v":"0A"},null,null,{"$f":"VLOOKUP(B350,EventsOrder,4,FALSE)","v":0},"A",null,{"$f":"VLOOKUP($A349,Results3,G$3,FALSE)","v":""},null,{"$f":"VLOOKUP($A349,Results3,I$3,FALSE)","v":""},null,{"$f":"VLOOKUP($A349,Results3,K$3,FALSE)","v":""},null,{"$f":"VLOOKUP($A349,Results3,M$3,FALSE)","v":""},null,{"$f":"VLOOKUP($A349,Results3,O$3,FALSE)","v":""},null,{"$f":"VLOOKUP($A349,Results3,Q$3,FALSE)","v":""},null,{"$f":"VLOOKUP($A349,Results3,S$3,FALSE)","v":""},null,{"$f":"VLOOKUP($A349,Results3,U$3,FALSE)","v":""},null,null,null,null,null,null,null,null,null,{"$f":"IF(LEN(G349)>1,1,0)","v":0}]
[{"$f":"B350&\"A\"","v":"0A"},0,{"$f":"VLOOKUP(B350,EventsOrder,2,FALSE)","v":0},null,null,null,{"$f":"VLOOKUP($A350,Results3,G$4,FALSE)","v":0},{"$f":"VLOOKUP($A350,Results3,H$3,FALSE)","v":0},{"$f":"VLOOKUP($A350,Results3,I$4,FALSE)","v":0},{"$f":"VLOOKUP($A350,Results3,J$3,FALSE)","v":0},{"$f":"VLOOKUP($A350,Results3,K$4,FALSE)","v":0},{"$f":"VLOOKUP($A350,Results3,L$3,FALSE)","v":0},{"$f":"VLOOKUP($A350,Results3,M$4,FALSE)","v":0},{"$f":"VLOOKUP($A350,Results3,N$3,FALSE)","v":0},{"$f":"VLOOKUP($A350,Results3,O$4,FALSE)","v":0},{"$f":"VLOOKUP($A350,Results3,P$3,FALSE)","v":0},{"$f":"VLOOKUP($A350,Results3,Q$4,FALSE)","v":0},{"$f":"VLOOKUP($A350,Results3,R$3,FALSE)","v":0},{"$f":"VLOOKUP($A350,Results3,S$4,FALSE)","v":0},{"$f":"VLOOKUP($A350,Results3,T$3,FALSE)","v":0},{"$f":"VLOOKUP($A350,Results3,U$4,FALSE)","v":0},{"$f":"VLOOKUP($A350,Results3,V$3,FALSE)","v":0},{"$f":"VLOOKUP($A350,Results3,W$4,FALSE)","v":0},{"$f":"VLOOKUP($A350,Results3,X$4,FALSE)","v":0},0,0,0,0,0,0]
[{"$f":"B350&\"B\"","v":"0B"},null,null,{"$f":"VLOOKUP(B350,EventsOrder,3,FALSE)","v":0},"B",null,{"$f":"VLOOKUP($A351,Results3,G$3,FALSE)","v":""},null,{"$f":"VLOOKUP($A351,Results3,I$3,FALSE)","v":""},null,{"$f":"VLOOKUP($A351,Results3,K$3,FALSE)","v":""},null,{"$f":"VLOOKUP($A351,Results3,M$3,FALSE)","v":""},null,{"$f":"VLOOKUP($A351,Results3,O$3,FALSE)","v":""},null,{"$f":"VLOOKUP($A351,Results3,Q$3,FALSE)","v":""},null,{"$f":"VLOOKUP($A351,Results3,S$3,FALSE)","v":""},null,{"$f":"VLOOKUP($A351,Results3,U$3,FALSE)","v":""}]
[{"$f":"B350&\"B\"","v":"0B"},null,null,null,null,null,{"$f":"VLOOKUP($A352,Results3,G$4,FALSE)","v":0},{"$f":"VLOOKUP($A352,Results3,H$3,FALSE)","v":0},{"$f":"VLOOKUP($A352,Results3,I$4,FALSE)","v":0},{"$f":"VLOOKUP($A352,Results3,J$3,FALSE)","v":0},{"$f":"VLOOKUP($A352,Results3,K$4,FALSE)","v":0},{"$f":"VLOOKUP($A352,Results3,L$3,FALSE)","v":0},{"$f":"VLOOKUP($A352,Results3,M$4,FALSE)","v":0},{"$f":"VLOOKUP($A352,Results3,N$3,FALSE)","v":0},{"$f":"VLOOKUP($A352,Results3,O$4,FALSE)","v":0},{"$f":"VLOOKUP($A352,Results3,P$3,FALSE)","v":0},{"$f":"VLOOKUP($A352,Results3,Q$4,FALSE)","v":0},{"$f":"VLOOKUP($A352,Results3,R$3,FALSE)","v":0},{"$f":"VLOOKUP($A352,Results3,S$4,FALSE)","v":0},{"$f":"VLOOKUP($A352,Results3,T$3,FALSE)","v":0},{"$f":"VLOOKUP($A352,Results3,U$4,FALSE)","v":0},{"$f":"VLOOKUP($A352,Results3,V$3,FALSE)","v":0},{"$f":"VLOOKUP($A352,Results3,W$4,FALSE)","v":0},0,0,0,0,0,0,0]
[{"$f":"B354&\"A\"","v":"0A"},null,null,{"$f":"VLOOKUP(B354,EventsOrder,4,FALSE)","v":0},"A",null,{"$f":"VLOOKUP($A353,Results3,G$3,FALSE)","v":""},null,{"$f":"VLOOKUP($A353,Results3,I$3,FALSE)","v":""},null,{"$f":"VLOOKUP($A353,Results3,K$3,FALSE)","v":""},null,{"$f":"VLOOKUP($A353,Results3,M$3,FALSE)","v":""},null,{"$f":"VLOOKUP($A353,Results3,O$3,FALSE)","v":""},null,{"$f":"VLOOKUP($A353,Results3,Q$3,FALSE)","v":""},null,{"$f":"VLOOKUP($A353,Results3,S$3,FALSE)","v":""},null,{"$f":"VLOOKUP($A353,Results3,U$3,FALSE)","v":""},null,null,null,null,null,null,null,null,null,{"$f":"IF(LEN(G353)>1,1,0)","v":0}]
[{"$f":"B354&\"A\"","v":"0A"},0,{"$f":"VLOOKUP(B354,EventsOrder,2,FALSE)","v":0},null,null,null,{"$f":"VLOOKUP($A354,Results3,G$4,FALSE)","v":0},{"$f":"VLOOKUP($A354,Results3,H$3,FALSE)","v":0},{"$f":"VLOOKUP($A354,Results3,I$4,FALSE)","v":0},{"$f":"VLOOKUP($A354,Results3,J$3,FALSE)","v":0},{"$f":"VLOOKUP($A354,Results3,K$4,FALSE)","v":0},{"$f":"VLOOKUP($A354,Results3,L$3,FALSE)","v":0},{"$f":"VLOOKUP($A354,Results3,M$4,FALSE)","v":0},{"$f":"VLOOKUP($A354,Results3,N$3,FALSE)","v":0},{"$f":"VLOOKUP($A354,Results3,O$4,FALSE)","v":0},{"$f":"VLOOKUP($A354,Results3,P$3,FALSE)","v":0},{"$f":"VLOOKUP($A354,Results3,Q$4,FALSE)","v":0},{"$f":"VLOOKUP($A354,Results3,R$3,FALSE)","v":0},{"$f":"VLOOKUP($A354,Results3,S$4,FALSE)","v":0},{"$f":"VLOOKUP($A354,Results3,T$3,FALSE)","v":0},{"$f":"VLOOKUP($A354,Results3,U$4,FALSE)","v":0},{"$f":"VLOOKUP($A354,Results3,V$3,FALSE)","v":0},{"$f":"VLOOKUP($A354,Results3,W$4,FALSE)","v":0},{"$f":"VLOOKUP($A354,Results3,X$4,FALSE)","v":0},0,0,0,0,0,0]
[{"$f":"B354&\"B\"","v":"0B"},null,null,{"$f":"VLOOKUP(B354,EventsOrder,3,FALSE)","v":0},"B",null,{"$f":"VLOOKUP($A355,Results3,G$3,FALSE)","v":""},null,{"$f":"VLOOKUP($A355,Results3,I$3,FALSE)","v":""},null,{"$f":"VLOOKUP($A355,Results3,K$3,FALSE)","v":""},null,{"$f":"VLOOKUP($A355,Results3,M$3,FALSE)","v":""},null,{"$f":"VLOOKUP($A355,Results3,O$3,FALSE)","v":""},null,{"$f":"VLOOKUP($A355,Results3,Q$3,FALSE)","v":""},null,{"$f":"VLOOKUP($A355,Results3,S$3,FALSE)","v":""},null,{"$f":"VLOOKUP($A355,Results3,U$3,FALSE)","v":""}]
[{"$f":"B354&\"B\"","v":"0B"},null,null,null,null,null,{"$f":"VLOOKUP($A356,Results3,G$4,FALSE)","v":0},{"$f":"VLOOKUP($A356,Results3,H$3,FALSE)","v":0},{"$f":"VLOOKUP($A356,Results3,I$4,FALSE)","v":0},{"$f":"VLOOKUP($A356,Results3,J$3,FALSE)","v":0},{"$f":"VLOOKUP($A356,Results3,K$4,FALSE)","v":0},{"$f":"VLOOKUP($A356,Results3,L$3,FALSE)","v":0},{"$f":"VLOOKUP($A356,Results3,M$4,FALSE)","v":0},{"$f":"VLOOKUP($A356,Results3,N$3,FALSE)","v":0},{"$f":"VLOOKUP($A356,Results3,O$4,FALSE)","v":0},{"$f":"VLOOKUP($A356,Results3,P$3,FALSE)","v":0},{"$f":"VLOOKUP($A356,Results3,Q$4,FALSE)","v":0},{"$f":"VLOOKUP($A356,Results3,R$3,FALSE)","v":0},{"$f":"VLOOKUP($A356,Results3,S$4,FALSE)","v":0},{"$f":"VLOOKUP($A356,Results3,T$3,FALSE)","v":0},{"$f":"VLOOKUP($A356,Results3,U$4,FALSE)","v":0},{"$f":"VLOOKUP($A356,Results3,V$3,FALSE)","v":0},{"$f":"VLOOKUP($A356,Results3,W$4,FALSE)","v":0},0,0,0,0,0,0,0]
[{"$f":"B358&\"A\"","v":"0A"},null,null,{"$f":"VLOOKUP(B358,EventsOrder,4,FALSE)","v":0},"A",null,{"$f":"VLOOKUP($A357,Results3,G$3,FALSE)","v":""},null,{"$f":"VLOOKUP($A357,Results3,I$3,FALSE)","v":""},null,{"$f":"VLOOKUP($A357,Results3,K$3,FALSE)","v":""},null,{"$f":"VLOOKUP($A357,Results3,M$3,FALSE)","v":""},null,{"$f":"VLOOKUP($A357,Results3,O$3,FALSE)","v":""},null,{"$f":"VLOOKUP($A357,Results3,Q$3,FALSE)","v":""},null,{"$f":"VLOOKUP($A357,Results3,S$3,FALSE)","v":""},null,{"$f":"VLOOKUP($A357,Results3,U$3,FALSE)","v":""},null,null,null,null,null,null,null,null,null,{"$f":"IF(LEN(G357)>1,1,0)","v":0}]
[{"$f":"B358&\"A\"","v":"0A"},0,{"$f":"VLOOKUP(B358,EventsOrder,2,FALSE)","v":0},null,null,null,{"$f":"VLOOKUP($A358,Results3,G$4,FALSE)","v":0},{"$f":"VLOOKUP($A358,Results3,H$3,FALSE)","v":0},{"$f":"VLOOKUP($A358,Results3,I$4,FALSE)","v":0},{"$f":"VLOOKUP($A358,Results3,J$3,FALSE)","v":0},{"$f":"VLOOKUP($A358,Results3,K$4,FALSE)","v":0},{"$f":"VLOOKUP($A358,Results3,L$3,FALSE)","v":0},{"$f":"VLOOKUP($A358,Results3,M$4,FALSE)","v":0},{"$f":"VLOOKUP($A358,Results3,N$3,FALSE)","v":0},{"$f":"VLOOKUP($A358,Results3,O$4,FALSE)","v":0},{"$f":"VLOOKUP($A358,Results3,P$3,FALSE)","v":0},{"$f":"VLOOKUP($A358,Results3,Q$4,FALSE)","v":0},{"$f":"VLOOKUP($A358,Results3,R$3,FALSE)","v":0},{"$f":"VLOOKUP($A358,Results3,S$4,FALSE)","v":0},{"$f":"VLOOKUP($A358,Results3,T$3,FALSE)","v":0},{"$f":"VLOOKUP($A358,Results3,U$4,FALSE)","v":0},{"$f":"VLOOKUP($A358,Results3,V$3,FALSE)","v":0},{"$f":"VLOOKUP($A358,Results3,W$4,FALSE)","v":0},{"$f":"VLOOKUP($A358,Results3,X$4,FALSE)","v":0},0,0,0,0,0,0]
[{"$f":"B358&\"B\"","v":"0B"},null,null,{"$f":"VLOOKUP(B358,EventsOrder,3,FALSE)","v":0},"B",null,{"$f":"VLOOKUP($A359,Results3,G$3,FALSE)","v":""},null,{"$f":"VLOOKUP($A359,Results3,I$3,FALSE)","v":""},null,{"$f":"VLOOKUP($A359,Results3,K$3,FALSE)","v":""},null,{"$f":"VLOOKUP($A359,Results3,M$3,FALSE)","v":""},null,{"$f":"VLOOKUP($A359,Results3,O$3,FALSE)","v":""},null,{"$f":"VLOOKUP($A359,Results3,Q$3,FALSE)","v":""},null,{"$f":"VLOOKUP($A359,Results3,S$3,FALSE)","v":""},null,{"$f":"VLOOKUP($A359,Results3,U$3,FALSE)","v":""}]
[{"$f":"B358&\"B\"","v":"0B"},null,null,null,null,null,{"$f":"VLOOKUP($A360,Results3,G$4,FALSE)","v":0},{"$f":"VLOOKUP($A360,Results3,H$3,FALSE)","v":0},{"$f":"VLOOKUP($A360,Results3,I$4,FALSE)","v":0},{"$f":"VLOOKUP($A360,Results3,J$3,FALSE)","v":0},{"$f":"VLOOKUP($A360,Results3,K$4,FALSE)","v":0},{"$f":"VLOOKUP($A360,Results3,L$3,FALSE)","v":0},{"$f":"VLOOKUP($A360,Results3,M$4,FALSE)","v":0},{"$f":"VLOOKUP($A360,Results3,N$3,FALSE)","v":0},{"$f":"VLOOKUP($A360,Results3,O$4,FALSE)","v":0},{"$f":"VLOOKUP($A360,Results3,P$3,FALSE)","v":0},{"$f":"VLOOKUP($A360,Results3,Q$4,FALSE)","v":0},{"$f":"VLOOKUP($A360,Results3,R$3,FALSE)","v":0},{"$f":"VLOOKUP($A360,Results3,S$4,FALSE)","v":0},{"$f":"VLOOKUP($A360,Results3,T$3,FALSE)","v":0},{"$f":"VLOOKUP($A360,Results3,U$4,FALSE)","v":0},{"$f":"VLOOKUP($A360,Results3,V$3,FALSE)","v":0},{"$f":"VLOOKUP($A360,Results3,W$4,FALSE)","v":0},0,0,0,0,0,0,0]
[{"$f":"B362&\"A\"","v":"0A"},null,null,{"$f":"VLOOKUP(B362,EventsOrder,4,FALSE)","v":0},"A",null,{"$f":"VLOOKUP($A361,Results3,G$3,FALSE)","v":""},null,{"$f":"VLOOKUP($A361,Results3,I$3,FALSE)","v":""},null,{"$f":"VLOOKUP($A361,Results3,K$3,FALSE)","v":""},null,{"$f":"VLOOKUP($A361,Results3,M$3,FALSE)","v":""},null,{"$f":"VLOOKUP($A361,Results3,O$3,FALSE)","v":""},null,{"$f":"VLOOKUP($A361,Results3,Q$3,FALSE)","v":""},null,{"$f":"VLOOKUP($A361,Results3,S$3,FALSE)","v":""},null,{"$f":"VLOOKUP($A361,Results3,U$3,FALSE)","v":""},null,null,null,null,null,null,null,null,null,{"$f":"IF(LEN(G361)>1,1,0)","v":0}]
[{"$f":"B362&\"A\"","v":"0A"},0,{"$f":"VLOOKUP(B362,EventsOrder,2,FALSE)","v":0},null,null,null,{"$f":"VLOOKUP($A362,Results3,G$4,FALSE)","v":0},{"$f":"VLOOKUP($A362,Results3,H$3,FALSE)","v":0},{"$f":"VLOOKUP($A362,Results3,I$4,FALSE)","v":0},{"$f":"VLOOKUP($A362,Results3,J$3,FALSE)","v":0},{"$f":"VLOOKUP($A362,Results3,K$4,FALSE)","v":0},{"$f":"VLOOKUP($A362,Results3,L$3,FALSE)","v":0},{"$f":"VLOOKUP($A362,Results3,M$4,FALSE)","v":0},{"$f":"VLOOKUP($A362,Results3,N$3,FALSE)","v":0},{"$f":"VLOOKUP($A362,Results3,O$4,FALSE)","v":0},{"$f":"VLOOKUP($A362,Results3,P$3,FALSE)","v":0},{"$f":"VLOOKUP($A362,Results3,Q$4,FALSE)","v":0},{"$f":"VLOOKUP($A362,Results3,R$3,FALSE)","v":0},{"$f":"VLOOKUP($A362,Results3,S$4,FALSE)","v":0},{"$f":"VLOOKUP($A362,Results3,T$3,FALSE)","v":0},{"$f":"VLOOKUP($A362,Results3,U$4,FALSE)","v":0},{"$f":"VLOOKUP($A362,Results3,V$3,FALSE)","v":0},{"$f":"VLOOKUP($A362,Results3,W$4,FALSE)","v":0},{"$f":"VLOOKUP($A362,Results3,X$4,FALSE)","v":0},0,0,0,0,0,0]
[{"$f":"B362&\"B\"","v":"0B"},null,null,{"$f":"VLOOKUP(B362,EventsOrder,3,FALSE)","v":0},"B",null,{"$f":"VLOOKUP($A363,Results3,G$3,FALSE)","v":""},null,{"$f":"VLOOKUP($A363,Results3,I$3,FALSE)","v":""},null,{"$f":"VLOOKUP($A363,Results3,K$3,FALSE)","v":""},null,{"$f":"VLOOKUP($A363,Results3,M$3,FALSE)","v":""},null,{"$f":"VLOOKUP($A363,Results3,O$3,FALSE)","v":""},null,{"$f":"VLOOKUP($A363,Results3,Q$3,FALSE)","v":""},null,{"$f":"VLOOKUP($A363,Results3,S$3,FALSE)","v":""},null,{"$f":"VLOOKUP($A363,Results3,U$3,FALSE)","v":""}]
[{"$f":"B362&\"B\"","v":"0B"},null,null,null,null,null,{"$f":"VLOOKUP($A364,Results3,G$4,FALSE)","v":0},{"$f":"VLOOKUP($A364,Results3,H$3,FALSE)","v":0},{"$f":"VLOOKUP($A364,Results3,I$4,FALSE)","v":0},{"$f":"VLOOKUP($A364,Results3,J$3,FALSE)","v":0},{"$f":"VLOOKUP($A364,Results3,K$4,FALSE)","v":0},{"$f":"VLOOKUP($A364,Results3,L$3,FALSE)","v":0},{"$f":"VLOOKUP($A364,Results3,M$4,FALSE)","v":0},{"$f":"VLOOKUP($A364,Results3,N$3,FALSE)","v":0},{"$f":"VLOOKUP($A364,Results3,O$4,FALSE)","v":0},{"$f":"VLOOKUP($A364,Results3,P$3,FALSE)","v":0},{"$f":"VLOOKUP($A364,Results3,Q$4,FALSE)","v":0},{"$f":"VLOOKUP($A364,Results3,R$3,FALSE)","v":0},{"$f":"VLOOKUP($A364,Results3,S$4,FALSE)","v":0},{"$f":"VLOOKUP($A364,Results3,T$3,FALSE)","v":0},{"$f":"VLOOKUP($A364,Results3,U$4,FALSE)","v":0},{"$f":"VLOOKUP($A364,Results3,V$3,FALSE)","v":0},{"$f":"VLOOKUP($A364,Results3,W$4,FALSE)","v":0},0,0,0,0,0,0,0]
[{"$f":"B366&\"A\"","v":"0A"},null,null,{"$f":"VLOOKUP(B366,EventsOrder,4,FALSE)","v":0},"A",null,{"$f":"VLOOKUP($A365,Results3,G$3,FALSE)","v":""},null,{"$f":"VLOOKUP($A365,Results3,I$3,FALSE)","v":""},null,{"$f":"VLOOKUP($A365,Results3,K$3,FALSE)","v":""},null,{"$f":"VLOOKUP($A365,Results3,M$3,FALSE)","v":""},null,{"$f":"VLOOKUP($A365,Results3,O$3,FALSE)","v":""},null,{"$f":"VLOOKUP($A365,Results3,Q$3,FALSE)","v":""},null,{"$f":"VLOOKUP($A365,Results3,S$3,FALSE)","v":""},null,{"$f":"VLOOKUP($A365,Results3,U$3,FALSE)","v":""},null,null,null,null,null,null,null,null,null,{"$f":"IF(LEN(G365)>1,1,0)","v":0}]
[{"$f":"B366&\"A\"","v":"0A"},0,{"$f":"VLOOKUP(B366,EventsOrder,2,FALSE)","v":0},null,null,null,{"$f":"VLOOKUP($A366,Results3,G$4,FALSE)","v":0},{"$f":"VLOOKUP($A366,Results3,H$3,FALSE)","v":0},{"$f":"VLOOKUP($A366,Results3,I$4,FALSE)","v":0},{"$f":"VLOOKUP($A366,Results3,J$3,FALSE)","v":0},{"$f":"VLOOKUP($A366,Results3,K$4,FALSE)","v":0},{"$f":"VLOOKUP($A366,Results3,L$3,FALSE)","v":0},{"$f":"VLOOKUP($A366,Results3,M$4,FALSE)","v":0},{"$f":"VLOOKUP($A366,Results3,N$3,FALSE)","v":0},{"$f":"VLOOKUP($A366,Results3,O$4,FALSE)","v":0},{"$f":"VLOOKUP($A366,Results3,P$3,FALSE)","v":0},{"$f":"VLOOKUP($A366,Results3,Q$4,FALSE)","v":0},{"$f":"VLOOKUP($A366,Results3,R$3,FALSE)","v":0},{"$f":"VLOOKUP($A366,Results3,S$4,FALSE)","v":0},{"$f":"VLOOKUP($A366,Results3,T$3,FALSE)","v":0},{"$f":"VLOOKUP($A366,Results3,U$4,FALSE)","v":0},{"$f":"VLOOKUP($A366,Results3,V$3,FALSE)","v":0},{"$f":"VLOOKUP($A366,Results3,W$4,FALSE)","v":0},{"$f":"VLOOKUP($A366,Results3,X$4,FALSE)","v":0},0,0,0,0,0,0]
[{"$f":"B366&\"B\"","v":"0B"},null,null,{"$f":"VLOOKUP(B366,EventsOrder,3,FALSE)","v":0},"B",null,{"$f":"VLOOKUP($A367,Results3,G$3,FALSE)","v":""},null,{"$f":"VLOOKUP($A367,Results3,I$3,FALSE)","v":""},null,{"$f":"VLOOKUP($A367,Results3,K$3,FALSE)","v":""},null,{"$f":"VLOOKUP($A367,Results3,M$3,FALSE)","v":""},null,{"$f":"VLOOKUP($A367,Results3,O$3,FALSE)","v":""},null,{"$f":"VLOOKUP($A367,Results3,Q$3,FALSE)","v":""},null,{"$f":"VLOOKUP($A367,Results3,S$3,FALSE)","v":""},null,{"$f":"VLOOKUP($A367,Results3,U$3,FALSE)","v":""}]
[{"$f":"B366&\"B\"","v":"0B"},null,null,null,null,null,{"$f":"VLOOKUP($A368,Results3,G$4,FALSE)","v":0},{"$f":"VLOOKUP($A368,Results3,H$3,FALSE)","v":0},{"$f":"VLOOKUP($A368,Results3,I$4,FALSE)","v":0},{"$f":"VLOOKUP($A368,Results3,J$3,FALSE)","v":0},{"$f":"VLOOKUP($A368,Results3,K$4,FALSE)","v":0},{"$f":"VLOOKUP($A368,Results3,L$3,FALSE)","v":0},{"$f":"VLOOKUP($A368,Results3,M$4,FALSE)","v":0},{"$f":"VLOOKUP($A368,Results3,N$3,FALSE)","v":0},{"$f":"VLOOKUP($A368,Results3,O$4,FALSE)","v":0},{"$f":"VLOOKUP($A368,Results3,P$3,FALSE)","v":0},{"$f":"VLOOKUP($A368,Results3,Q$4,FALSE)","v":0},{"$f":"VLOOKUP($A368,Results3,R$3,FALSE)","v":0},{"$f":"VLOOKUP($A368,Results3,S$4,FALSE)","v":0},{"$f":"VLOOKUP($A368,Results3,T$3,FALSE)","v":0},{"$f":"VLOOKUP($A368,Results3,U$4,FALSE)","v":0},{"$f":"VLOOKUP($A368,Results3,V$3,FALSE)","v":0},{"$f":"VLOOKUP($A368,Results3,W$4,FALSE)","v":0},0,0,0,0,0,0,0]
[{"$f":"B370&\"A\"","v":"0A"},null,null,{"$f":"VLOOKUP(B370,EventsOrder,4,FALSE)","v":0},"A",null,{"$f":"VLOOKUP($A369,Results3,G$3,FALSE)","v":""},null,{"$f":"VLOOKUP($A369,Results3,I$3,FALSE)","v":""},null,{"$f":"VLOOKUP($A369,Results3,K$3,FALSE)","v":""},null,{"$f":"VLOOKUP($A369,Results3,M$3,FALSE)","v":""},null,{"$f":"VLOOKUP($A369,Results3,O$3,FALSE)","v":""},null,{"$f":"VLOOKUP($A369,Results3,Q$3,FALSE)","v":""},null,{"$f":"VLOOKUP($A369,Results3,S$3,FALSE)","v":""},null,{"$f":"VLOOKUP($A369,Results3,U$3,FALSE)","v":""},null,null,null,null,null,null,null,null,null,{"$f":"IF(LEN(G369)>1,1,0)","v":0}]
[{"$f":"B370&\"A\"","v":"0A"},0,{"$f":"VLOOKUP(B370,EventsOrder,2,FALSE)","v":0},null,null,null,{"$f":"VLOOKUP($A370,Results3,G$4,FALSE)","v":0},{"$f":"VLOOKUP($A370,Results3,H$3,FALSE)","v":0},{"$f":"VLOOKUP($A370,Results3,I$4,FALSE)","v":0},{"$f":"VLOOKUP($A370,Results3,J$3,FALSE)","v":0},{"$f":"VLOOKUP($A370,Results3,K$4,FALSE)","v":0},{"$f":"VLOOKUP($A370,Results3,L$3,FALSE)","v":0},{"$f":"VLOOKUP($A370,Results3,M$4,FALSE)","v":0},{"$f":"VLOOKUP($A370,Results3,N$3,FALSE)","v":0},{"$f":"VLOOKUP($A370,Results3,O$4,FALSE)","v":0},{"$f":"VLOOKUP($A370,Results3,P$3,FALSE)","v":0},{"$f":"VLOOKUP($A370,Results3,Q$4,FALSE)","v":0},{"$f":"VLOOKUP($A370,Results3,R$3,FALSE)","v":0},{"$f":"VLOOKUP($A370,Results3,S$4,FALSE)","v":0},{"$f":"VLOOKUP($A370,Results3,T$3,FALSE)","v":0},{"$f":"VLOOKUP($A370,Results3,U$4,FALSE)","v":0},{"$f":"VLOOKUP($A370,Results3,V$3,FALSE)","v":0},{"$f":"VLOOKUP($A370,Results3,W$4,FALSE)","v":0},{"$f":"VLOOKUP($A370,Results3,X$4,FALSE)","v":0},0,0,0,0,0,0]
[{"$f":"B370&\"B\"","v":"0B"},null,null,{"$f":"VLOOKUP(B370,EventsOrder,3,FALSE)","v":0},"B",null,{"$f":"VLOOKUP($A371,Results3,G$3,FALSE)","v":""},null,{"$f":"VLOOKUP($A371,Results3,I$3,FALSE)","v":""},null,{"$f":"VLOOKUP($A371,Results3,K$3,FALSE)","v":""},null,{"$f":"VLOOKUP($A371,Results3,M$3,FALSE)","v":""},null,{"$f":"VLOOKUP($A371,Results3,O$3,FALSE)","v":""},null,{"$f":"VLOOKUP($A371,Results3,Q$3,FALSE)","v":""},null,{"$f":"VLOOKUP($A371,Results3,S$3,FALSE)","v":""},null,{"$f":"VLOOKUP($A371,Results3,U$3,FALSE)","v":""}]
[{"$f":"B370&\"B\"","v":"0B"},null,null,null,null,null,{"$f":"VLOOKUP($A372,Results3,G$4,FALSE)","v":0},{"$f":"VLOOKUP($A372,Results3,H$3,FALSE)","v":0},{"$f":"VLOOKUP($A372,Results3,I$4,FALSE)","v":0},{"$f":"VLOOKUP($A372,Results3,J$3,FALSE)","v":0},{"$f":"VLOOKUP($A372,Results3,K$4,FALSE)","v":0},{"$f":"VLOOKUP($A372,Results3,L$3,FALSE)","v":0},{"$f":"VLOOKUP($A372,Results3,M$4,FALSE)","v":0},{"$f":"VLOOKUP($A372,Results3,N$3,FALSE)","v":0},{"$f":"VLOOKUP($A372,Results3,O$4,FALSE)","v":0},{"$f":"VLOOKUP($A372,Results3,P$3,FALSE)","v":0},{"$f":"VLOOKUP($A372,Results3,Q$4,FALSE)","v":0},{"$f":"VLOOKUP($A372,Results3,R$3,FALSE)","v":0},{"$f":"VLOOKUP($A372,Results3,S$4,FALSE)","v":0},{"$f":"VLOOKUP($A372,Results3,T$3,FALSE)","v":0},{"$f":"VLOOKUP($A372,Results3,U$4,FALSE)","v":0},{"$f":"VLOOKUP($A372,Results3,V$3,FALSE)","v":0},{"$f":"VLOOKUP($A372,Results3,W$4,FALSE)","v":0},0,0,0,0,0,0,0]
[{"$f":"B374&\"A\"","v":"0A"},null,null,{"$f":"VLOOKUP(B374,EventsOrder,4,FALSE)","v":0},"A",null,{"$f":"VLOOKUP($A373,Results3,G$3,FALSE)","v":""},null,{"$f":"VLOOKUP($A373,Results3,I$3,FALSE)","v":""},null,{"$f":"VLOOKUP($A373,Results3,K$3,FALSE)","v":""},null,{"$f":"VLOOKUP($A373,Results3,M$3,FALSE)","v":""},null,{"$f":"VLOOKUP($A373,Results3,O$3,FALSE)","v":""},null,{"$f":"VLOOKUP($A373,Results3,Q$3,FALSE)","v":""},null,{"$f":"VLOOKUP($A373,Results3,S$3,FALSE)","v":""},null,{"$f":"VLOOKUP($A373,Results3,U$3,FALSE)","v":""},null,null,null,null,null,null,null,null,null,{"$f":"IF(LEN(G373)>1,1,0)","v":0}]
[{"$f":"B374&\"A\"","v":"0A"},0,{"$f":"VLOOKUP(B374,EventsOrder,2,FALSE)","v":0},null,null,null,{"$f":"VLOOKUP($A374,Results3,G$4,FALSE)","v":0},{"$f":"VLOOKUP($A374,Results3,H$3,FALSE)","v":0},{"$f":"VLOOKUP($A374,Results3,I$4,FALSE)","v":0},{"$f":"VLOOKUP($A374,Results3,J$3,FALSE)","v":0},{"$f":"VLOOKUP($A374,Results3,K$4,FALSE)","v":0},{"$f":"VLOOKUP($A374,Results3,L$3,FALSE)","v":0},{"$f":"VLOOKUP($A374,Results3,M$4,FALSE)","v":0},{"$f":"VLOOKUP($A374,Results3,N$3,FALSE)","v":0},{"$f":"VLOOKUP($A374,Results3,O$4,FALSE)","v":0},{"$f":"VLOOKUP($A374,Results3,P$3,FALSE)","v":0},{"$f":"VLOOKUP($A374,Results3,Q$4,FALSE)","v":0},{"$f":"VLOOKUP($A374,Results3,R$3,FALSE)","v":0},{"$f":"VLOOKUP($A374,Results3,S$4,FALSE)","v":0},{"$f":"VLOOKUP($A374,Results3,T$3,FALSE)","v":0},{"$f":"VLOOKUP($A374,Results3,U$4,FALSE)","v":0},{"$f":"VLOOKUP($A374,Results3,V$3,FALSE)","v":0},{"$f":"VLOOKUP($A374,Results3,W$4,FALSE)","v":0},{"$f":"VLOOKUP($A374,Results3,X$4,FALSE)","v":0},0,0,0,0,0,0]
[{"$f":"B374&\"B\"","v":"0B"},null,null,{"$f":"VLOOKUP(B374,EventsOrder,3,FALSE)","v":0},"B",null,{"$f":"VLOOKUP($A375,Results3,G$3,FALSE)","v":""},null,{"$f":"VLOOKUP($A375,Results3,I$3,FALSE)","v":""},null,{"$f":"VLOOKUP($A375,Results3,K$3,FALSE)","v":""},null,{"$f":"VLOOKUP($A375,Results3,M$3,FALSE)","v":""},null,{"$f":"VLOOKUP($A375,Results3,O$3,FALSE)","v":""},null,{"$f":"VLOOKUP($A375,Results3,Q$3,FALSE)","v":""},null,{"$f":"VLOOKUP($A375,Results3,S$3,FALSE)","v":""},null,{"$f":"VLOOKUP($A375,Results3,U$3,FALSE)","v":""}]
[{"$f":"B374&\"B\"","v":"0B"},null,null,null,null,null,{"$f":"VLOOKUP($A376,Results3,G$4,FALSE)","v":0},{"$f":"VLOOKUP($A376,Results3,H$3,FALSE)","v":0},{"$f":"VLOOKUP($A376,Results3,I$4,FALSE)","v":0},{"$f":"VLOOKUP($A376,Results3,J$3,FALSE)","v":0},{"$f":"VLOOKUP($A376,Results3,K$4,FALSE)","v":0},{"$f":"VLOOKUP($A376,Results3,L$3,FALSE)","v":0},{"$f":"VLOOKUP($A376,Results3,M$4,FALSE)","v":0},{"$f":"VLOOKUP($A376,Results3,N$3,FALSE)","v":0},{"$f":"VLOOKUP($A376,Results3,O$4,FALSE)","v":0},{"$f":"VLOOKUP($A376,Results3,P$3,FALSE)","v":0},{"$f":"VLOOKUP($A376,Results3,Q$4,FALSE)","v":0},{"$f":"VLOOKUP($A376,Results3,R$3,FALSE)","v":0},{"$f":"VLOOKUP($A376,Results3,S$4,FALSE)","v":0},{"$f":"VLOOKUP($A376,Results3,T$3,FALSE)","v":0},{"$f":"VLOOKUP($A376,Results3,U$4,FALSE)","v":0},{"$f":"VLOOKUP($A376,Results3,V$3,FALSE)","v":0},{"$f":"VLOOKUP($A376,Results3,W$4,FALSE)","v":0},0,0,0,0,0,0,0]
[{"$f":"B378&\"A\"","v":"0A"},null,null,{"$f":"VLOOKUP(B378,EventsOrder,4,FALSE)","v":0},"A",null,{"$f":"VLOOKUP($A377,Results3,G$3,FALSE)","v":""},null,{"$f":"VLOOKUP($A377,Results3,I$3,FALSE)","v":""},null,{"$f":"VLOOKUP($A377,Results3,K$3,FALSE)","v":""},null,{"$f":"VLOOKUP($A377,Results3,M$3,FALSE)","v":""},null,{"$f":"VLOOKUP($A377,Results3,O$3,FALSE)","v":""},null,{"$f":"VLOOKUP($A377,Results3,Q$3,FALSE)","v":""},null,{"$f":"VLOOKUP($A377,Results3,S$3,FALSE)","v":""},null,{"$f":"VLOOKUP($A377,Results3,U$3,FALSE)","v":""},null,null,null,null,null,null,null,null,null,{"$f":"IF(LEN(G377)>1,1,0)","v":0}]
[{"$f":"B378&\"A\"","v":"0A"},0,{"$f":"VLOOKUP(B378,EventsOrder,2,FALSE)","v":0},null,null,null,{"$f":"VLOOKUP($A378,Results3,G$4,FALSE)","v":0},{"$f":"VLOOKUP($A378,Results3,H$3,FALSE)","v":0},{"$f":"VLOOKUP($A378,Results3,I$4,FALSE)","v":0},{"$f":"VLOOKUP($A378,Results3,J$3,FALSE)","v":0},{"$f":"VLOOKUP($A378,Results3,K$4,FALSE)","v":0},{"$f":"VLOOKUP($A378,Results3,L$3,FALSE)","v":0},{"$f":"VLOOKUP($A378,Results3,M$4,FALSE)","v":0},{"$f":"VLOOKUP($A378,Results3,N$3,FALSE)","v":0},{"$f":"VLOOKUP($A378,Results3,O$4,FALSE)","v":0},{"$f":"VLOOKUP($A378,Results3,P$3,FALSE)","v":0},{"$f":"VLOOKUP($A378,Results3,Q$4,FALSE)","v":0},{"$f":"VLOOKUP($A378,Results3,R$3,FALSE)","v":0},{"$f":"VLOOKUP($A378,Results3,S$4,FALSE)","v":0},{"$f":"VLOOKUP($A378,Results3,T$3,FALSE)","v":0},{"$f":"VLOOKUP($A378,Results3,U$4,FALSE)","v":0},{"$f":"VLOOKUP($A378,Results3,V$3,FALSE)","v":0},{"$f":"VLOOKUP($A378,Results3,W$4,FALSE)","v":0},{"$f":"VLOOKUP($A378,Results3,X$4,FALSE)","v":0},0,0,0,0,0,0]
[{"$f":"B378&\"B\"","v":"0B"},null,null,{"$f":"VLOOKUP(B378,EventsOrder,3,FALSE)","v":0},"B",null,{"$f":"VLOOKUP($A379,Results3,G$3,FALSE)","v":""},null,{"$f":"VLOOKUP($A379,Results3,I$3,FALSE)","v":""},null,{"$f":"VLOOKUP($A379,Results3,K$3,FALSE)","v":""},null,{"$f":"VLOOKUP($A379,Results3,M$3,FALSE)","v":""},null,{"$f":"VLOOKUP($A379,Results3,O$3,FALSE)","v":""},null,{"$f":"VLOOKUP($A379,Results3,Q$3,FALSE)","v":""},null,{"$f":"VLOOKUP($A379,Results3,S$3,FALSE)","v":""},null,{"$f":"VLOOKUP($A379,Results3,U$3,FALSE)","v":""}]
[{"$f":"B378&\"B\"","v":"0B"},null,null,null,null,null,{"$f":"VLOOKUP($A380,Results3,G$4,FALSE)","v":0},{"$f":"VLOOKUP($A380,Results3,H$3,FALSE)","v":0},{"$f":"VLOOKUP($A380,Results3,I$4,FALSE)","v":0},{"$f":"VLOOKUP($A380,Results3,J$3,FALSE)","v":0},{"$f":"VLOOKUP($A380,Results3,K$4,FALSE)","v":0},{"$f":"VLOOKUP($A380,Results3,L$3,FALSE)","v":0},{"$f":"VLOOKUP($A380,Results3,M$4,FALSE)","v":0},{"$f":"VLOOKUP($A380,Results3,N$3,FALSE)","v":0},{"$f":"VLOOKUP($A380,Results3,O$4,FALSE)","v":0},{"$f":"VLOOKUP($A380,Results3,P$3,FALSE)","v":0},{"$f":"VLOOKUP($A380,Results3,Q$4,FALSE)","v":0},{"$f":"VLOOKUP($A380,Results3,R$3,FALSE)","v":0},{"$f":"VLOOKUP($A380,Results3,S$4,FALSE)","v":0},{"$f":"VLOOKUP($A380,Results3,T$3,FALSE)","v":0},{"$f":"VLOOKUP($A380,Results3,U$4,FALSE)","v":0},{"$f":"VLOOKUP($A380,Results3,V$3,FALSE)","v":0},{"$f":"VLOOKUP($A380,Results3,W$4,FALSE)","v":0},0,0,0,0,0,0,0]
[null,null,null,null,null,null,null,null,null,null,null,null,null,null,null,null,null,null,null,null,"Officials Points"]
[null,{"$f":"COUNTIF(B341:B381,\">0\")","v":0},null,null,null,null,null,null,null,null,null,null,null,null,null,null,null,null,null,null,"Total Points",null,{"$f":"SUM(W341:W381)+W335","v":349},318,349,514,667,270,500,714,{"$f":"SUM(AE341:AE380)","v":0}]
[null,null,null,null,null,null,null,null,null,null,null,null,null,null,null,null,null,null,null,null,"Match Position",null,{"$f":"RANK(W382,$W382:$AD382)","v":5},7,5,3,2,8,4,1]

{"sheet":"Results by Age Group","index":8,"n_rows":521,"n_cols":37,"rows_kept":521,"cut":false,"hidden":false,"merged":[[444,27,445,27],[444,28,445,28],[444,29,445,29],[446,6,446,7],[446,8,446,9],[446,10,446,11],[446,12,446,13],[446,14,446,15],[446,16,446,17],[446,18,446,19],[444,1,445,1],[444,22,445,22],[444,23,445,23],[444,24,445,24],[444,25,445,25],[446,20,446,21],[444,26,445,26],[9,16,9,17],[9,18,9,19],[9,20,9,21],[56,8,56,9],[9,6,9,7],[9,8,9,9],[56,20,56,21],[56,14,56,15],[56,16,56,17],[164,16,164,17],[164,18,164,19],[164,20,164,21],[9,14,9,15],[218,6,218,7],[56,12,56,13],[56,18,56,19],[9,12,9,13],[108,29,109,29],[108,27,109,27],[108,28,109,28],[54,22,55,22],[110,6,110,7],[110,8,110,9],[110,12,110,13],[7,29,8,29],[7,23,8,23],[54,27,55,27],[108,25,109,25],[108,26,109,26],[7,26,8,26],[7,27,8,27],[54,23,55,23],[54,29,55,29],[54,26,55,26],[7,28,8,28],[54,28,55,28],[56,10,56,11],[110,20,110,21],[7,25,8,25],[54,24,55,24],[108,22,109,22],[216,25,217,25],[273,29,274,29],[273,27,274,27],[273,25,274,25],[273,26,274,26],[162,23,163,23],[330,26,331,26],[218,16,218,17],[162,29,163,29],[162,27,163,27],[162,28,163,28],[216,26,217,26],[216,27,217,27],[216,28,217,28],[162,25,163,25],[216,29,217,29],[162,26,163,26],[218,18,218,19],[275,16,275,17],[275,18,275,19],[275,20,275,21],[273,24,274,24],[273,23,274,23],[273,22,274,22],[332,8,332,9],[332,10,332,11],[275,12,275,13],[218,8,218,9],[387,28,388,28],[273,28,274,28],[273,1,274,1],[218,10,218,11],[218,12,218,13],[218,14,218,15],[275,8,275,9],[275,10,275,11],[275,14,275,15],[275,6,275,7],[218,20,218,21],[387,29,388,29],[330,25,331,25],[330,29,331,29],[330,28,331,28],[387,26,388,26],[330,27,331,27],[332,14,332,15],[389,18,389,19],[389,20,389,21],[387,22,388,22],[387,25,388,25],[387,27,388,27],[54,25,55,25],[108,23,109,23],[108,24,109,24],[7,22,8,22],[164,6,164,7],[216,24,217,24],[216,23,217,23],[4,1,5,1],[4,22,5,22],[6,16,6,17],[6,18,6,19],[9,10,9,11],[108,1,109,1],[164,10,164,11],[164,14,164,15],[162,22,163,22],[216,22,217,22],[216,1,217,1],[164,8,164,9],[162,1,163,1],[54,1,55,1],[56,6,56,7],[110,18,110,19],[110,14,110,15],[7,1,8,1],[389,6,389,7],[389,8,389,9],[389,10,389,11],[389,12,389,13],[389,14,389,15],[332,18,332,19],[332,20,332,21],[387,24,388,24],[330,23,331,23],[387,23,388,23],[330,22,331,22],[330,24,331,24],[389,16,389,17],[332,16,332,17],[110,16,110,17],[164,12,164,13],[110,10,110,11],[162,24,163,24],[7,24,8,24],[387,1,388,1],[330,1,331,1],[332,12,332,13],[332,6,332,7],[4,29,5,29],[6,6,6,7],[6,8,6,9],[6,10,6,11],[6,12,6,13],[6,14,6,15],[6,20,6,21],[4,25,5,25],[4,27,5,27],[4,28,5,28],[4,26,5,26],[4,23,5,23],[4,24,5,24]]}
[null,null,null,"Non-Scoring",null,null,31,63,{"$f":"G1+1","v":32},{"$f":"H1+1","v":64},{"$f":"I1+1","v":33},65,34,66,35,67,36,68,37,69,38,70,{"$f":"'Event Details'!C30","v":0},{"$f":"W1-1","v":-1},-2,-3,-4,-5,-6,-7]
[null,null,null,null,null,null,3,15,{"$f":"G2+2","v":5},{"$f":"H2+1","v":16},{"$f":"I2+2","v":7},17,{"$f":"K2+2","v":9},18,{"$f":"M2+2","v":11},19,{"$f":"O2+2","v":13},20,{"$f":"Q2+2","v":15},21,{"$f":"S2+2","v":17},22,39,40,41,42,43,44,45,46]
[null,null,null,"Scoring",null,null,31,15,32,16,33,17,34,18,35,19,36,20,37,21,38,22,{"$f":"'Event Details'!C32","v":8},{"$f":"W3-1","v":7},6,5,4,3,2,1]
[null,null,null,null,null,null,63,31,64,32,65,"33",66,34,67,"35",68,36,69,37,70,"38",39,40,41,42,43,44,45,46]
[null,"Event No",null,"Enter Your Club Letter Here:-",null,null,null,"C",{"$f":"IF(H5=\"x\",\"n/a\",VLOOKUP(H5,Clubs,5,FALSE))","v":{"$error":"#N/A"}},null,{"$f":"CONCATENATE('Event Details'!D$5,\" \",\"Results\")","v":"Heart of England League Results"},null,null,null,null,null,null,null,null,null,null,null,{"$f":"W8","v":"Banbury"},{"$f":"X8","v":"Bicester"},"Dudley & S'bridge","Kettering","Radley","Tamworth","Wreake Runners","Worcester"]
[null,null,null,"Division",{"$f":"'Event Details'!D$9","v":2},null,null,null,null,null,"Venue",{"$f":"'Event Details'!F$17","v":"Worcester"},null,null,null,null,"Date",{"$f":"'Event Details'!B$17","v":"5th June 2016"}]
[null,null,"Time","Event",null,"NS","First",null,"Second",null,"Third",null,"Fourth",null,"Fifth",null,"Sixth",null,"Seventh",null,"Eighth",null,{"$f":"W10","v":"J"},{"$f":"X10","v":"P"},"B","I","R","F","X","Y"]
[null,"Event No",null,null,null,null,null,null,null,null,{"$f":"CONCATENATE('Event Details'!D$5,\" \",\"Results\")","v":"Heart of England League Results"},null,null,null,null,null,null,null,null,null,null,null,{"$f":"'Event Details'!$D22","v":"Banbury"},{"$f":"'Event Details'!D23","v":"Bicester"},{"$f":"'Event Details'!D24","v":"Dudley & S'bridge"},{"$f":"'Event Details'!D25","v":"Kettering"},{"$f":"'Event Details'!D26","v":"Radley"},{"$f":"'Event Details'!D27","v":"Tamworth"},{"$f":"'Event Details'!D28","v":"Wreake Runners"},{"$f":"'Event Details'!D29","v":"Worcester"}]
[null,null,null,"Division",{"$f":"'Event Details'!D$9","v":2},null,null,"U11 Male",null,null,"Venue",{"$f":"'Event Details'!F$17","v":"Worcester"},null,null,null,null,"Date",{"$f":"'Event Details'!B$17","v":"5th June 2016"}]
[null,null,"Time","Event",null,"NS","First",null,"Second",null,"Third",null,"Fourth",null,"Fifth",null,"Sixth",null,"Seventh",null,"Eighth",null,{"$f":"'Event Details'!C22","v":"J"},{"$f":"'Event Details'!C23","v":"P"},{"$f":"'Event Details'!C24","v":"B"},{"$f":"'Event Details'!C25","v":"I"},{"$f":"'Event Details'!C26","v":"R"},{"$f":"'Event Details'!C27","v":"F"},{"$f":"'Event Details'!C28","v":"X"},{"$f":"'Event Details'!C29","v":"Y"}]
[{"$f":"B12&\"A\"","v":"2A"},null,null,{"$f":"VLOOKUP(B12,EventsOrder,4,FALSE)","v":"U11 Male"},"A",null,{"$f":"VLOOKUP($A11,Results3,G$3,FALSE)","v":"Alfie Frayne"},null,{"$f":"VLOOKUP($A11,Results3,I$3,FALSE)","v":"Archie Street"},null,{"$f":"VLOOKUP($A11,Results3,K$3,FALSE)","v":"Sam Orange"},null,{"$f":"VLOOKUP($A11,Results3,M$3,FALSE)","v":"Timothy Jones"},null,{"$f":"VLOOKUP($A11,Results3,O$3,FALSE)","v":"Quinn Miell-Ingram"},null,{"$f":"VLOOKUP($A11,Results3,Q$3,FALSE)","v":"Linus Burnage"},null,{"$f":"VLOOKUP($A11,Results3,S$3,FALSE)","v":"Reece Lees"},null,{"$f":"VLOOKUP($A11,Results3,U$3,FALSE)","v":""},null,null,null,null,null,null,null,null,null,{"$f":"IF(LEN(G11)>1,1,0)","v":1}]
[{"$f":"B12&\"A\"","v":"2A"},2,{"$f":"VLOOKUP(B12,EventsOrder,2,FALSE)","v":11.45},null,null,null,{"$f":"VLOOKUP($A12,Results3,G$4,FALSE)","v":"Kett"},{"$f":"VLOOKUP($A12,Results3,H$3,FALSE)","v":33.630000000000003},{"$f":"VLOOKUP($A12,Results3,I$4,FALSE)","v":"Ban"},{"$f":"VLOOKUP($A12,Results3,J$3,FALSE)","v":30.03},{"$f":"VLOOKUP($A12,Results3,K$4,FALSE)","v":"Wreake"},{"$f":"VLOOKUP($A12,Results3,L$3,FALSE)","v":28.72},{"$f":"VLOOKUP($A12,Results3,M$4,FALSE)","v":"Bic"},{"$f":"VLOOKUP($A12,Results3,N$3,FALSE)","v":26.32},{"$f":"VLOOKUP($A12,Results3,O$4,FALSE)","v":"Rad"},{"$f":"VLOOKUP($A12,Results3,P$3,FALSE)","v":25.54},{"$f":"VLOOKUP($A12,Results3,Q$4,FALSE)","v":"Worc"},{"$f":"VLOOKUP($A12,Results3,R$3,FALSE)","v":23.67},{"$f":"VLOOKUP($A12,Results3,S$4,FALSE)","v":"DASH"},{"$f":"VLOOKUP($A12,Results3,T$3,FALSE)","v":11.5},{"$f":"VLOOKUP($A12,Results3,U$4,FALSE)","v":0},{"$f":"VLOOKUP($A12,Results3,V$3,FALSE)","v":0},{"$f":"VLOOKUP($A12,Results3,W$4,FALSE)","v":7},{"$f":"VLOOKUP($A12,Results3,X$4,FALSE)","v":5},2,8,4,0,6,3]
[{"$f":"B12&\"B\"","v":"2B"},null,null,{"$f":"VLOOKUP(B12,EventsOrder,3,FALSE)","v":"Howler"},"B",{"$f":"VLOOKUP(B12,EventsOrder,5,FALSE)","v":""},{"$f":"VLOOKUP($A13,Results3,G$3,FALSE)","v":"Seion Alexander"},null,{"$f":"VLOOKUP($A13,Results3,I$3,FALSE)","v":"Aaron Holloway"},null,{"$f":"VLOOKUP($A13,Results3,K$3,FALSE)","v":"Jonty Brotherton"},null,{"$f":"VLOOKUP($A13,Results3,M$3,FALSE)","v":"Caspar Cumberland"},null,{"$f":"VLOOKUP($A13,Results3,O$3,FALSE)","v":"Ellis Hartland"},null,{"$f":"VLOOKUP($A13,Results3,Q$3,FALSE)","v":"Toby Jones"},null,{"$f":"VLOOKUP($A13,Results3,S$3,FALSE)","v":"Corey Lees"},null,{"$f":"VLOOKUP($A13,Results3,U$3,FALSE)","v":""}]
[{"$f":"B12&\"B\"","v":"2B"},null,null,null,null,null,{"$f":"VLOOKUP($A14,Results3,G$4,FALSE)","v":"Bic"},{"$f":"VLOOKUP($A14,Results3,H$3,FALSE)","v":23.75},{"$f":"VLOOKUP($A14,Results3,I$4,FALSE)","v":"Kett"},{"$f":"VLOOKUP($A14,Results3,J$3,FALSE)","v":21.88},{"$f":"VLOOKUP($A14,Results3,K$4,FALSE)","v":"Wreake"},{"$f":"VLOOKUP($A14,Results3,L$3,FALSE)","v":20.079999999999998},{"$f":"VLOOKUP($A14,Results3,M$4,FALSE)","v":"Rad"},{"$f":"VLOOKUP($A14,Results3,N$3,FALSE)","v":15.82},{"$f":"VLOOKUP($A14,Results3,O$4,FALSE)","v":"Worc"},{"$f":"VLOOKUP($A14,Results3,P$3,FALSE)","v":15.76},{"$f":"VLOOKUP($A14,Results3,Q$4,FALSE)","v":"Ban"},{"$f":"VLOOKUP($A14,Results3,R$3,FALSE)","v":13.48},{"$f":"VLOOKUP($A14,Results3,S$4,FALSE)","v":"DASH"},{"$f":"VLOOKUP($A14,Results3,T$3,FALSE)","v":10.38},{"$f":"VLOOKUP($A14,Results3,U$4,FALSE)","v":0},{"$f":"VLOOKUP($A14,Results3,V$3,FALSE)","v":0},{"$f":"VLOOKUP($A14,Results3,W$4,FALSE)","v":3},8,2,7,5,0,6,4]
[{"$f":"B16&\"A\"","v":"14A"},null,null,{"$f":"VLOOKUP(B16,EventsOrder,4,FALSE)","v":"U11 Male"},"A",null,{"$f":"VLOOKUP($A15,Results3,G$3,FALSE)","v":"Harry Ferrett"},null,{"$f":"VLOOKUP($A15,Results3,I$3,FALSE)","v":"Ethan Aldous"},null,{"$f":"VLOOKUP($A15,Results3,K$3,FALSE)","v":"Sam Orange"},null,{"$f":"VLOOKUP($A15,Results3,M$3,FALSE)","v":"Joshua Parker"},null,{"$f":"VLOOKUP($A15,Results3,O$3,FALSE)","v":"Ashley Johnson"},null,{"$f":"VLOOKUP($A15,Results3,Q$3,FALSE)","v":"Theo Crick"},null,{"$f":"VLOOKUP($A15,Results3,S$3,FALSE)","v":"Joel Harrison"},null,{"$f":"VLOOKUP($A15,Results3,U$3,FALSE)","v":"Quinn Miell-Ingram"},null,null,null,null,null,null,null,null,null,{"$f":"IF(LEN(G15)>1,1,0)","v":1}]
[{"$f":"B16&\"A\"","v":"14A"},14,{"$f":"VLOOKUP(B16,EventsOrder,2,FALSE)","v":12.3},null,null,null,{"$f":"VLOOKUP($A16,Results3,G$4,FALSE)","v":"Worc"},{"$f":"VLOOKUP($A16,Results3,H$3,FALSE)","v":3.92},{"$f":"VLOOKUP($A16,Results3,I$4,FALSE)","v":"Ban"},{"$f":"VLOOKUP($A16,Results3,J$3,FALSE)","v":3.85},{"$f":"VLOOKUP($A16,Results3,K$4,FALSE)","v":"Wreake"},{"$f":"VLOOKUP($A16,Results3,L$3,FALSE)","v":3.63},{"$f":"VLOOKUP($A16,Results3,M$4,FALSE)","v":"Bic"},{"$f":"VLOOKUP($A16,Results3,N$3,FALSE)","v":3.61},{"$f":"VLOOKUP($A16,Results3,O$4,FALSE)","v":"Tam"},{"$f":"VLOOKUP($A16,Results3,P$3,FALSE)","v":3.22},{"$f":"VLOOKUP($A16,Results3,Q$4,FALSE)","v":"Kett"},{"$f":"VLOOKUP($A16,Results3,R$3,FALSE)","v":3.21},{"$f":"VLOOKUP($A16,Results3,S$4,FALSE)","v":"DASH"},{"$f":"VLOOKUP($A16,Results3,T$3,FALSE)","v":3.12},{"$f":"VLOOKUP($A16,Results3,U$4,FALSE)","v":"Rad"},{"$f":"VLOOKUP($A16,Results3,V$3,FALSE)","v":3.06},{"$f":"VLOOKUP($A16,Results3,W$4,FALSE)","v":7},{"$f":"VLOOKUP($A16,Results3,X$4,FALSE)","v":5},2,3,1,4,6,8]
[{"$f":"B16&\"B\"","v":"14B"},null,null,{"$f":"VLOOKUP(B16,EventsOrder,3,FALSE)","v":"Long Jump"},"B",{"$f":"VLOOKUP(B16,EventsOrder,5,FALSE)","v":"Pit 1"},{"$f":"VLOOKUP($A17,Results3,G$3,FALSE)","v":"Archie Street"},null,{"$f":"VLOOKUP($A17,Results3,I$3,FALSE)","v":"Aaron Holloway"},null,{"$f":"VLOOKUP($A17,Results3,K$3,FALSE)","v":"Seion Alexander"},null,{"$f":"VLOOKUP($A17,Results3,M$3,FALSE)","v":"Jake Edwards"},null,{"$f":"VLOOKUP($A17,Results3,O$3,FALSE)","v":"Jack Adams"},null,{"$f":"VLOOKUP($A17,Results3,Q$3,FALSE)","v":"Jonty Brotherton"},null,{"$f":"VLOOKUP($A17,Results3,S$3,FALSE)","v":""},null,{"$f":"VLOOKUP($A17,Results3,U$3,FALSE)","v":""}]
[{"$f":"B16&\"B\"","v":"14B"},null,null,null,null,null,{"$f":"VLOOKUP($A18,Results3,G$4,FALSE)","v":"Ban"},{"$f":"VLOOKUP($A18,Results3,H$3,FALSE)","v":3.79},{"$f":"VLOOKUP($A18,Results3,I$4,FALSE)","v":"Kett"},{"$f":"VLOOKUP($A18,Results3,J$3,FALSE)","v":3.01},{"$f":"VLOOKUP($A18,Results3,K$4,FALSE)","v":"Bic"},{"$f":"VLOOKUP($A18,Results3,L$3,FALSE)","v":2.92},{"$f":"VLOOKUP($A18,Results3,M$4,FALSE)","v":"Rad"},{"$f":"VLOOKUP($A18,Results3,N$3,FALSE)","v":2.91},{"$f":"VLOOKUP($A18,Results3,O$4,FALSE)","v":"Worc"},{"$f":"VLOOKUP($A18,Results3,P$3,FALSE)","v":2.76},{"$f":"VLOOKUP($A18,Results3,Q$4,FALSE)","v":"Wreake"},{"$f":"VLOOKUP($A18,Results3,R$3,FALSE)","v":2.58},{"$f":"VLOOKUP($A18,Results3,S$4,FALSE)","v":0},{"$f":"VLOOKUP($A18,Results3,T$3,FALSE)","v":0},{"$f":"VLOOKUP($A18,Results3,U$4,FALSE)","v":0},{"$f":"VLOOKUP($A18,Results3,V$3,FALSE)","v":0},{"$f":"VLOOKUP($A18,Results3,W$4,FALSE)","v":8},6,0,7,5,0,3,4]
[{"$f":"B20&\"A\"","v":"33A"},null,null,{"$f":"VLOOKUP(B20,EventsOrder,4,FALSE)","v":"U11 Male"},"A",null,{"$f":"VLOOKUP($A19,Results3,G$3,FALSE)","v":"Alfie Frayne"},null,{"$f":"VLOOKUP($A19,Results3,I$3,FALSE)","v":"Quinn Miell-Ingram"},null,{"$f":"VLOOKUP($A19,Results3,K$3,FALSE)","v":"Ethan Aldous"},null,{"$f":"VLOOKUP($A19,Results3,M$3,FALSE)","v":"Luca Bradley"},null,{"$f":"VLOOKUP($A19,Results3,O$3,FALSE)","v":"Jonty Brotherton"},null,{"$f":"VLOOKUP($A19,Results3,Q$3,FALSE)","v":"Ellis Hartland"},null,{"$f":"VLOOKUP($A19,Results3,S$3,FALSE)","v":"Timothy Jones"},null,{"$f":"VLOOKUP($A19,Results3,U$3,FALSE)","v":"Corey Lees"},null,null,null,null,null,null,null,null,null,{"$f":"IF(LEN(G19)>1,1,0)","v":1}]
[{"$f":"B20&\"A\"","v":"33A"},33,{"$f":"VLOOKUP(B20,EventsOrder,2,FALSE)","v":2},null,null,null,{"$f":"VLOOKUP($A20,Results3,G$4,FALSE)","v":"Kett"},{"$f":"VLOOKUP($A20,Results3,H$3,FALSE)","v":"1.50.8"},{"$f":"VLOOKUP($A20,Results3,I$4,FALSE)","v":"Rad"},{"$f":"VLOOKUP($A20,Results3,J$3,FALSE)","v":"1.51.8"},{"$f":"VLOOKUP($A20,Results3,K$4,FALSE)","v":"Ban"},{"$f":"VLOOKUP($A20,Results3,L$3,FALSE)","v":"1.55.1"},{"$f":"VLOOKUP($A20,Results3,M$4,FALSE)","v":"Tam"},{"$f":"VLOOKUP($A20,Results3,N$3,FALSE)","v":"2.01.5"},{"$f":"VLOOKUP($A20,Results3,O$4,FALSE)","v":"Wreake"},{"$f":"VLOOKUP($A20,Results3,P$3,FALSE)","v":"2.03.3"},{"$f":"VLOOKUP($A20,Results3,Q$4,FALSE)","v":"Worc"},{"$f":"VLOOKUP($A20,Results3,R$3,FALSE)","v":"2.04.7"},{"$f":"VLOOKUP($A20,Results3,S$4,FALSE)","v":"Bic"},{"$f":"VLOOKUP($A20,Results3,T$3,FALSE)","v":"2.05.9"},{"$f":"VLOOKUP($A20,Results3,U$4,FALSE)","v":"DASH"},{"$f":"VLOOKUP($A20,Results3,V$3,FALSE)","v":"2.15.0"},{"$f":"VLOOKUP($A20,Results3,W$4,FALSE)","v":6},{"$f":"VLOOKUP($A20,Results3,X$4,FALSE)","v":2},1,8,7,5,4,3]
[{"$f":"B20&\"B\"","v":"33B"},null,null,{"$f":"VLOOKUP(B20,EventsOrder,3,FALSE)","v":"600m"},"B",{"$f":"VLOOKUP(B20,EventsOrder,5,FALSE)","v":""},{"$f":"VLOOKUP($A21,Results3,G$3,FALSE)","v":"Ruben Snelson"},null,{"$f":"VLOOKUP($A21,Results3,I$3,FALSE)","v":"Theo Crick"},null,{"$f":"VLOOKUP($A21,Results3,K$3,FALSE)","v":"Jake Edwards"},null,{"$f":"VLOOKUP($A21,Results3,M$3,FALSE)","v":"Ashley Johnson"},null,{"$f":"VLOOKUP($A21,Results3,O$3,FALSE)","v":"Reece Lees"},null,{"$f":"VLOOKUP($A21,Results3,Q$3,FALSE)","v":"Jack Adams"},null,{"$f":"VLOOKUP($A21,Results3,S$3,FALSE)","v":"Seion Alexander"},null,{"$f":"VLOOKUP($A21,Results3,U$3,FALSE)","v":"Theo York"}]
[{"$f":"B20&\"B\"","v":"33B"},null,null,null,null,null,{"$f":"VLOOKUP($A22,Results3,G$4,FALSE)","v":"Ban"},{"$f":"VLOOKUP($A22,Results3,H$3,FALSE)","v":"1.58.7"},{"$f":"VLOOKUP($A22,Results3,I$4,FALSE)","v":"Kett"},{"$f":"VLOOKUP($A22,Results3,J$3,FALSE)","v":"2.03.4"},{"$f":"VLOOKUP($A22,Results3,K$4,FALSE)","v":"Rad"},{"$f":"VLOOKUP($A22,Results3,L$3,FALSE)","v":"2.08.9"},{"$f":"VLOOKUP($A22,Results3,M$4,FALSE)","v":"Tam"},{"$f":"VLOOKUP($A22,Results3,N$3,FALSE)","v":"2.09.1"},{"$f":"VLOOKUP($A22,Results3,O$4,FALSE)","v":"DASH"},{"$f":"VLOOKUP($A22,Results3,P$3,FALSE)","v":"2.11.9"},{"$f":"VLOOKUP($A22,Results3,Q$4,FALSE)","v":"Worc"},{"$f":"VLOOKUP($A22,Results3,R$3,FALSE)","v":"2.16.9"},{"$f":"VLOOKUP($A22,Results3,S$4,FALSE)","v":"Bic"},{"$f":"VLOOKUP($A22,Results3,T$3,FALSE)","v":"2.18.3"},{"$f":"VLOOKUP($A22,Results3,U$4,FALSE)","v":"Wreake"},{"$f":"VLOOKUP($A22,Results3,V$3,FALSE)","v":"2.22.6"},{"$f":"VLOOKUP($A22,Results3,W$4,FALSE)","v":8},2,4,7,6,5,1,3]
[{"$f":"B24&\"A\"","v":"61A"},null,null,{"$f":"VLOOKUP(B24,EventsOrder,4,FALSE)","v":"U11 Male"},"A",null,{"$f":"VLOOKUP($A23,Results3,G$3,FALSE)","v":"Joshua Parker"},null,{"$f":"VLOOKUP($A23,Results3,I$3,FALSE)","v":"Ethan Aldous"},null,{"$f":"VLOOKUP($A23,Results3,K$3,FALSE)","v":"Joel Harrison"},null,{"$f":"VLOOKUP($A23,Results3,M$3,FALSE)","v":"Luca Bradley"},null,{"$f":"VLOOKUP($A23,Results3,O$3,FALSE)","v":"Aaron Holloway"},null,{"$f":"VLOOKUP($A23,Results3,Q$3,FALSE)","v":"Linus Burnage"},null,{"$f":"VLOOKUP($A23,Results3,S$3,FALSE)","v":"Jake Edwards"},null,{"$f":"VLOOKUP($A23,Results3,U$3,FALSE)","v":"Theo York"},null,null,null,null,null,null,null,null,null,{"$f":"IF(LEN(G23)>1,1,0)","v":1}]
[{"$f":"B24&\"A\"","v":"61A"},61,{"$f":"VLOOKUP(B24,EventsOrder,2,FALSE)","v":3.2},null,null,null,{"$f":"VLOOKUP($A24,Results3,G$4,FALSE)","v":"Bic"},{"$f":"VLOOKUP($A24,Results3,H$3,FALSE)","v":11.2},{"$f":"VLOOKUP($A24,Results3,I$4,FALSE)","v":"Ban"},{"$f":"VLOOKUP($A24,Results3,J$3,FALSE)","v":11.4},{"$f":"VLOOKUP($A24,Results3,K$4,FALSE)","v":"DASH"},{"$f":"VLOOKUP($A24,Results3,L$3,FALSE)","v":11.7},{"$f":"VLOOKUP($A24,Results3,M$4,FALSE)","v":"Tam"},{"$f":"VLOOKUP($A24,Results3,N$3,FALSE)","v":11.8},{"$f":"VLOOKUP($A24,Results3,O$4,FALSE)","v":"Kett"},{"$f":"VLOOKUP($A24,Results3,P$3,FALSE)","v":12},{"$f":"VLOOKUP($A24,Results3,Q$4,FALSE)","v":"Worc"},{"$f":"VLOOKUP($A24,Results3,R$3,FALSE)","v":12.4},{"$f":"VLOOKUP($A24,Results3,S$4,FALSE)","v":"Rad"},{"$f":"VLOOKUP($A24,Results3,T$3,FALSE)","v":12.6},{"$f":"VLOOKUP($A24,Results3,U$4,FALSE)","v":"Wreake"},{"$f":"VLOOKUP($A24,Results3,V$3,FALSE)","v":13.4},{"$f":"VLOOKUP($A24,Results3,W$4,FALSE)","v":7},8,6,4,2,5,1,3]
[{"$f":"B24&\"B\"","v":"61B"},null,null,{"$f":"VLOOKUP(B24,EventsOrder,3,FALSE)","v":"75m"},"B",{"$f":"VLOOKUP(B24,EventsOrder,5,FALSE)","v":""},{"$f":"VLOOKUP($A25,Results3,G$3,FALSE)","v":"Leo Anderson"},null,{"$f":"VLOOKUP($A25,Results3,I$3,FALSE)","v":"Ashley Johnson"},null,{"$f":"VLOOKUP($A25,Results3,K$3,FALSE)","v":"Harry Ferrett"},null,{"$f":"VLOOKUP($A25,Results3,M$3,FALSE)","v":"Sam Orange"},null,{"$f":"VLOOKUP($A25,Results3,O$3,FALSE)","v":"Timothy Jones"},null,{"$f":"VLOOKUP($A25,Results3,Q$3,FALSE)","v":"Oliver McAllister"},null,{"$f":"VLOOKUP($A25,Results3,S$3,FALSE)","v":"Caspar Cumberland"},null,{"$f":"VLOOKUP($A25,Results3,U$3,FALSE)","v":""},null,null,null,null,null,null,null,null,null,{"$f":"IF(LEN(G25)>1,1,0)","v":1}]
[{"$f":"B24&\"B\"","v":"61B"},null,null,null,null,null,{"$f":"VLOOKUP($A26,Results3,G$4,FALSE)","v":"Ban"},{"$f":"VLOOKUP($A26,Results3,H$3,FALSE)","v":11.3},{"$f":"VLOOKUP($A26,Results3,I$4,FALSE)","v":"Tam"},{"$f":"VLOOKUP($A26,Results3,J$3,FALSE)","v":11.7},{"$f":"VLOOKUP($A26,Results3,K$4,FALSE)","v":"Worc"},{"$f":"VLOOKUP($A26,Results3,L$3,FALSE)","v":11.9},{"$f":"VLOOKUP($A26,Results3,M$4,FALSE)","v":"Wreake"},{"$f":"VLOOKUP($A26,Results3,N$3,FALSE)","v":11.9},{"$f":"VLOOKUP($A26,Results3,O$4,FALSE)","v":"Bic"},{"$f":"VLOOKUP($A26,Results3,P$3,FALSE)","v":12},{"$f":"VLOOKUP($A26,Results3,Q$4,FALSE)","v":"Kett"},{"$f":"VLOOKUP($A26,Results3,R$3,FALSE)","v":12.2},{"$f":"VLOOKUP($A26,Results3,S$4,FALSE)","v":"Rad"},{"$f":"VLOOKUP($A26,Results3,T$3,FALSE)","v":13.7},{"$f":"VLOOKUP($A26,Results3,U$4,FALSE)","v":0},{"$f":"VLOOKUP($A26,Results3,V$3,FALSE)","v":0},{"$f":"VLOOKUP($A26,Results3,W$4,FALSE)","v":8},4,0,3,2,7,5,6]
[null,null,null,"Non Scoring"]
[{"$f":"B29&\"A\"","v":"0A"},null,null,null,null,null,{"$f":"VLOOKUP($A28,Results3,G$1,FALSE)","v":""},null,{"$f":"VLOOKUP($A28,Results3,I$1,FALSE)","v":""},null,{"$f":"VLOOKUP($A28,Results3,K$1,FALSE)","v":""},null,{"$f":"VLOOKUP($A28,Results3,M$1,FALSE)","v":""},null,{"$f":"VLOOKUP($A28,Results3,O$1,FALSE)","v":""},null,{"$f":"VLOOKUP($A28,Results3,Q$1,FALSE)","v":""},null,{"$f":"VLOOKUP($A28,Results3,S$1,FALSE)","v":""},null,{"$f":"VLOOKUP($A28,Results3,U$1,FALSE)","v":""},null,null,null,null,null,null,null,null,null,{"$f":"IF(LEN(G28)>1,1,0)","v":0}]
[{"$f":"B29&\"A\"","v":"0A"},0,{"$f":"VLOOKUP(B29,EventsOrder,2,FALSE)","v":0},{"$f":"VLOOKUP(B29,EventsOrder,4,FALSE)","v":0},"A",null,{"$f":"VLOOKUP($A29,Results3,G$1-8,FALSE)","v":0},null,{"$f":"VLOOKUP($A29,Results3,I$1-8,FALSE)","v":0},null,{"$f":"VLOOKUP($A29,Results3,K$1-8,FALSE)","v":0},null,{"$f":"VLOOKUP($A29,Results3,M$1-8,FALSE)","v":0},null,{"$f":"VLOOKUP($A29,Results3,O$1-8,FALSE)","v":0},null,{"$f":"VLOOKUP($A29,Results3,Q$1-8,FALSE)","v":0},null,{"$f":"VLOOKUP($A29,Results3,S$1-8,FALSE)","v":0},null,{"$f":"VLOOKUP($A29,Results3,U$1-8,FALSE)","v":0}]
[{"$f":"B29&\"A\"","v":"0A"},null,null,null,null,null,{"$f":"VLOOKUP($A30,Results3,H$1,FALSE)","v":0},{"$f":"VLOOKUP($A30,Results3,H$2,FALSE)","v":0},{"$f":"VLOOKUP($A30,Results3,J$1,FALSE)","v":0},{"$f":"VLOOKUP($A30,Results3,J$2,FALSE)","v":0},{"$f":"VLOOKUP($A30,Results3,L$1,FALSE)","v":0},{"$f":"VLOOKUP($A30,Results3,L$2,FALSE)","v":0},{"$f":"VLOOKUP($A30,Results3,N$1,FALSE)","v":0},{"$f":"VLOOKUP($A30,Results3,N$2,FALSE)","v":0},{"$f":"VLOOKUP($A30,Results3,P$1,FALSE)","v":0},{"$f":"VLOOKUP($A30,Results3,P$2,FALSE)","v":0},{"$f":"VLOOKUP($A30,Results3,R$1,FALSE)","v":0},{"$f":"VLOOKUP($A30,Results3,R$2,FALSE)","v":0},{"$f":"VLOOKUP($A30,Results3,T$1,FALSE)","v":0},{"$f":"VLOOKUP($A30,Results3,T$2,FALSE)","v":0},{"$f":"VLOOKUP($A30,Results3,V$1,FALSE)","v":0},{"$f":"VLOOKUP($A30,Results3,V$2,FALSE)","v":0}]
[{"$f":"B29&\"B\"","v":"0B"},null,null,null,null,null,{"$f":"VLOOKUP($A31,Results3,G$1,FALSE)","v":""},null,{"$f":"VLOOKUP($A31,Results3,I$1,FALSE)","v":""},null,{"$f":"VLOOKUP($A31,Results3,K$1,FALSE)","v":""},null,{"$f":"VLOOKUP($A31,Results3,M$1,FALSE)","v":""},null,{"$f":"VLOOKUP($A31,Results3,O$1,FALSE)","v":""},null,{"$f":"VLOOKUP($A31,Results3,Q$1,FALSE)","v":""},null,{"$f":"VLOOKUP($A31,Results3,S$1,FALSE)","v":""},null,{"$f":"VLOOKUP($A31,Results3,U$1,FALSE)","v":""}]
[{"$f":"B29&\"B\"","v":"0B"},null,null,{"$f":"VLOOKUP(B29,EventsOrder,3,FALSE)","v":0},"B",{"$f":"VLOOKUP(B29,EventsOrder,5,FALSE)","v":" "},{"$f":"VLOOKUP($A32,Results3,G$1-8,FALSE)","v":0},null,{"$f":"VLOOKUP($A32,Results3,I$1-8,FALSE)","v":0},null,{"$f":"VLOOKUP($A32,Results3,K$1-8,FALSE)","v":0},null,{"$f":"VLOOKUP($A32,Results3,M$1-8,FALSE)","v":0},null,{"$f":"VLOOKUP($A32,Results3,O$1-8,FALSE)","v":0},null,{"$f":"VLOOKUP($A32,Results3,Q$1-8,FALSE)","v":0},null,{"$f":"VLOOKUP($A32,Results3,S$1-8,FALSE)","v":0},null,{"$f":"VLOOKUP($A32,Results3,U$1-8,FALSE)","v":0}]
[{"$f":"B29&\"B\"","v":"0B"},null,null,null,null,null,{"$f":"VLOOKUP($A33,Results3,H$1,FALSE)","v":0},{"$f":"VLOOKUP($A33,Results3,H$2,FALSE)","v":0},{"$f":"VLOOKUP($A33,Results3,J$1,FALSE)","v":0},{"$f":"VLOOKUP($A33,Results3,J$2,FALSE)","v":0},{"$f":"VLOOKUP($A33,Results3,L$1,FALSE)","v":0},{"$f":"VLOOKUP($A33,Results3,L$2,FALSE)","v":0},{"$f":"VLOOKUP($A33,Results3,N$1,FALSE)","v":0},{"$f":"VLOOKUP($A33,Results3,N$2,FALSE)","v":0},{"$f":"VLOOKUP($A33,Results3,P$1,FALSE)","v":0},{"$f":"VLOOKUP($A33,Results3,P$2,FALSE)","v":0},{"$f":"VLOOKUP($A33,Results3,R$1,FALSE)","v":0},{"$f":"VLOOKUP($A33,Results3,R$2,FALSE)","v":0},{"$f":"VLOOKUP($A33,Results3,T$1,FALSE)","v":0},{"$f":"VLOOKUP($A33,Results3,T$2,FALSE)","v":0},{"$f":"VLOOKUP($A33,Results3,V$1,FALSE)","v":0},{"$f":"VLOOKUP($A33,Results3,V$2,FALSE)","v":0}]
[{"$f":"B35&\"A\"","v":"34A"},null,null,null,null,null,{"$f":"VLOOKUP($A34,Results3,G$1,FALSE)","v":"Leo Anderson"},null,{"$f":"VLOOKUP($A34,Results3,I$1,FALSE)","v":"Linus Burnage"},null,{"$f":"VLOOKUP($A34,Results3,K$1,FALSE)","v":"Archie Street"},null,{"$f":"VLOOKUP($A34,Results3,M$1,FALSE)","v":"Caspar Cumberland"},null,{"$f":"VLOOKUP($A34,Results3,O$1,FALSE)","v":"Ellis Watts"},null,{"$f":"VLOOKUP($A34,Results3,Q$1,FALSE)","v":"Henry Adams"},null,{"$f":"VLOOKUP($A34,Results3,S$1,FALSE)","v":""},null,{"$f":"VLOOKUP($A34,Results3,U$1,FALSE)","v":""},null,null,null,null,null,null,null,null,null,{"$f":"IF(LEN(G34)>1,1,0)","v":1}]
[{"$f":"B35&\"A\"","v":"34A"},34,{"$f":"VLOOKUP(B35,EventsOrder,2,FALSE)","v":2.0499999999999998},{"$f":"VLOOKUP(B35,EventsOrder,4,FALSE)","v":"U11 Male"},"A",null,{"$f":"VLOOKUP($A35,Results3,G$1-8,FALSE)","v":554},null,{"$f":"VLOOKUP($A35,Results3,I$1-8,FALSE)","v":108},null,{"$f":"VLOOKUP($A35,Results3,K$1-8,FALSE)","v":555},null,{"$f":"VLOOKUP($A35,Results3,M$1-8,FALSE)","v":524},null,{"$f":"VLOOKUP($A35,Results3,O$1-8,FALSE)","v":61},null,{"$f":"VLOOKUP($A35,Results3,Q$1-8,FALSE)","v":107},null,{"$f":"VLOOKUP($A35,Results3,S$1-8,FALSE)","v":0},null,{"$f":"VLOOKUP($A35,Results3,U$1-8,FALSE)","v":0}]
[{"$f":"B35&\"A\"","v":"34A"},null,null,null,null,null,{"$f":"VLOOKUP($A36,Results3,H$1,FALSE)","v":"Ban"},{"$f":"VLOOKUP($A36,Results3,H$2,FALSE)","v":"2.03.2"},{"$f":"VLOOKUP($A36,Results3,J$1,FALSE)","v":"Worc"},{"$f":"VLOOKUP($A36,Results3,J$2,FALSE)","v":"2.03.5"},{"$f":"VLOOKUP($A36,Results3,L$1,FALSE)","v":"Ban"},{"$f":"VLOOKUP($A36,Results3,L$2,FALSE)","v":"2.05.2"},{"$f":"VLOOKUP($A36,Results3,N$1,FALSE)","v":"Rad"},{"$f":"VLOOKUP($A36,Results3,N$2,FALSE)","v":"2.14.7"},{"$f":"VLOOKUP($A36,Results3,P$1,FALSE)","v":"Kett"},{"$f":"VLOOKUP($A36,Results3,P$2,FALSE)","v":"2.21.4"},{"$f":"VLOOKUP($A36,Results3,R$1,FALSE)","v":"Worc"},{"$f":"VLOOKUP($A36,Results3,R$2,FALSE)","v":"2.27.5"},{"$f":"VLOOKUP($A36,Results3,T$1,FALSE)","v":0},{"$f":"VLOOKUP($A36,Results3,T$2,FALSE)","v":0},{"$f":"VLOOKUP($A36,Results3,V$1,FALSE)","v":0},{"$f":"VLOOKUP($A36,Results3,V$2,FALSE)","v":0}]
[{"$f":"B35&\"B\"","v":"34B"},null,null,null,null,null,{"$f":"VLOOKUP($A37,Results3,G$1,FALSE)","v":""},null,{"$f":"VLOOKUP($A37,Results3,I$1,FALSE)","v":""},null,{"$f":"VLOOKUP($A37,Results3,K$1,FALSE)","v":""},null,{"$f":"VLOOKUP($A37,Results3,M$1,FALSE)","v":""},null,{"$f":"VLOOKUP($A37,Results3,O$1,FALSE)","v":""},null,{"$f":"VLOOKUP($A37,Results3,Q$1,FALSE)","v":""},null,{"$f":"VLOOKUP($A37,Results3,S$1,FALSE)","v":""},null,{"$f":"VLOOKUP($A37,Results3,U$1,FALSE)","v":""}]
[{"$f":"B35&\"B\"","v":"34B"},null,null,{"$f":"VLOOKUP(B35,EventsOrder,3,FALSE)","v":"600m"},"B",{"$f":"VLOOKUP(B35,EventsOrder,5,FALSE)","v":"NS"},{"$f":"VLOOKUP($A38,Results3,G$1-8,FALSE)","v":0},null,{"$f":"VLOOKUP($A38,Results3,I$1-8,FALSE)","v":0},null,{"$f":"VLOOKUP($A38,Results3,K$1-8,FALSE)","v":0},null,{"$f":"VLOOKUP($A38,Results3,M$1-8,FALSE)","v":0},null,{"$f":"VLOOKUP($A38,Results3,O$1-8,FALSE)","v":0},null,{"$f":"VLOOKUP($A38,Results3,Q$1-8,FALSE)","v":0},null,{"$f":"VLOOKUP($A38,Results3,S$1-8,FALSE)","v":0},null,{"$f":"VLOOKUP($A38,Results3,U$1-8,FALSE)","v":0}]
[{"$f":"B35&\"B\"","v":"34B"},null,null,null,null,null,{"$f":"VLOOKUP($A39,Results3,H$1,FALSE)","v":0},{"$f":"VLOOKUP($A39,Results3,H$2,FALSE)","v":0},{"$f":"VLOOKUP($A39,Results3,J$1,FALSE)","v":0},{"$f":"VLOOKUP($A39,Results3,J$2,FALSE)","v":0},{"$f":"VLOOKUP($A39,Results3,L$1,FALSE)","v":0},{"$f":"VLOOKUP($A39,Results3,L$2,FALSE)","v":0},{"$f":"VLOOKUP($A39,Results3,N$1,FALSE)","v":0},{"$f":"VLOOKUP($A39,Results3,N$2,FALSE)","v":0},{"$f":"VLOOKUP($A39,Results3,P$1,FALSE)","v":0},{"$f":"VLOOKUP($A39,Results3,P$2,FALSE)","v":0},{"$f":"VLOOKUP($A39,Results3,R$1,FALSE)","v":0},{"$f":"VLOOKUP($A39,Results3,R$2,FALSE)","v":0},{"$f":"VLOOKUP($A39,Results3,T$1,FALSE)","v":0},{"$f":"VLOOKUP($A39,Results3,T$2,FALSE)","v":0},{"$f":"VLOOKUP($A39,Results3,V$1,FALSE)","v":0},{"$f":"VLOOKUP($A39,Results3,V$2,FALSE)","v":0}]
[{"$f":"B41&\"A\"","v":"62A"},null,null,{"$f":"VLOOKUP(B41,EventsOrder,4,FALSE)","v":"U11 Male"},null,null,{"$f":"VLOOKUP($A40,Results3,G$1,FALSE)","v":"Theo Crick"},null,{"$f":"VLOOKUP($A40,Results3,I$1,FALSE)","v":"Ruben Snelson"},null,{"$f":"VLOOKUP($A40,Results3,K$1,FALSE)","v":"Jack Adams"},null,{"$f":"VLOOKUP($A40,Results3,M$1,FALSE)","v":"Ruben Snelson"},null,{"$f":"VLOOKUP($A40,Results3,O$1,FALSE)","v":"Ellis Watts"},null,{"$f":"VLOOKUP($A40,Results3,Q$1,FALSE)","v":"Jack Adams"},null,{"$f":"VLOOKUP($A40,Results3,S$1,FALSE)","v":""},null,{"$f":"VLOOKUP($A40,Results3,U$1,FALSE)","v":""},null,null,null,null,null,null,null,null,null,{"$f":"IF(LEN(G40)>1,1,0)","v":1}]
[{"$f":"B41&\"A\"","v":"62A"},62,{"$f":"VLOOKUP(B41,EventsOrder,2,FALSE)","v":3.25},null,"A",null,{"$f":"VLOOKUP($A41,Results3,G$1-8,FALSE)","v":58},null,{"$f":"VLOOKUP($A41,Results3,I$1-8,FALSE)","v":557},null,{"$f":"VLOOKUP($A41,Results3,K$1-8,FALSE)","v":109},null,{"$f":"VLOOKUP($A41,Results3,M$1-8,FALSE)","v":557},null,{"$f":"VLOOKUP($A41,Results3,O$1-8,FALSE)","v":59},null,{"$f":"VLOOKUP($A41,Results3,Q$1-8,FALSE)","v":109},null,{"$f":"VLOOKUP($A41,Results3,S$1-8,FALSE)","v":0},null,{"$f":"VLOOKUP($A41,Results3,U$1-8,FALSE)","v":0}]
[{"$f":"B41&\"A\"","v":"62A"},null,null,null,null,null,{"$f":"VLOOKUP($A42,Results3,H$1,FALSE)","v":"Kett"},{"$f":"VLOOKUP($A42,Results3,H$2,FALSE)","v":12},{"$f":"VLOOKUP($A42,Results3,J$1,FALSE)","v":"Ban"},{"$f":"VLOOKUP($A42,Results3,J$2,FALSE)","v":12.5},{"$f":"VLOOKUP($A42,Results3,L$1,FALSE)","v":"Worc"},{"$f":"VLOOKUP($A42,Results3,L$2,FALSE)","v":12.6},{"$f":"VLOOKUP($A42,Results3,N$1,FALSE)","v":"Ban"},{"$f":"VLOOKUP($A42,Results3,N$2,FALSE)","v":12.6},{"$f":"VLOOKUP($A42,Results3,P$1,FALSE)","v":"Kett"},{"$f":"VLOOKUP($A42,Results3,P$2,FALSE)","v":12.8},{"$f":"VLOOKUP($A42,Results3,R$1,FALSE)","v":"Worc"},{"$f":"VLOOKUP($A42,Results3,R$2,FALSE)","v":13.9},{"$f":"VLOOKUP($A42,Results3,T$1,FALSE)","v":0},{"$f":"VLOOKUP($A42,Results3,T$2,FALSE)","v":0},{"$f":"VLOOKUP($A42,Results3,V$1,FALSE)","v":0},{"$f":"VLOOKUP($A42,Results3,V$2,FALSE)","v":0}]
[{"$f":"B41&\"B\"","v":"62B"},null,null,null,null,null,{"$f":"VLOOKUP($A43,Results3,G$1,FALSE)","v":""},null,{"$f":"VLOOKUP($A43,Results3,I$1,FALSE)","v":""},null,{"$f":"VLOOKUP($A43,Results3,K$1,FALSE)","v":""},null,{"$f":"VLOOKUP($A43,Results3,M$1,FALSE)","v":""},null,{"$f":"VLOOKUP($A43,Results3,O$1,FALSE)","v":""},null,{"$f":"VLOOKUP($A43,Results3,Q$1,FALSE)","v":""},null,{"$f":"VLOOKUP($A43,Results3,S$1,FALSE)","v":""},null,{"$f":"VLOOKUP($A43,Results3,U$1,FALSE)","v":""}]
[{"$f":"B41&\"B\"","v":"62B"},null,null,{"$f":"VLOOKUP(B41,EventsOrder,3,FALSE)","v":"75m"},"B",{"$f":"VLOOKUP(B41,EventsOrder,5,FALSE)","v":"NS"},{"$f":"VLOOKUP($A44,Results3,G$1-8,FALSE)","v":0},null,{"$f":"VLOOKUP($A44,Results3,I$1-8,FALSE)","v":0},null,{"$f":"VLOOKUP($A44,Results3,K$1-8,FALSE)","v":0},null,{"$f":"VLOOKUP($A44,Results3,M$1-8,FALSE)","v":0},null,{"$f":"VLOOKUP($A44,Results3,O$1-8,FALSE)","v":0},null,{"$f":"VLOOKUP($A44,Results3,Q$1-8,FALSE)","v":0},null,{"$f":"VLOOKUP($A44,Results3,S$1-8,FALSE)","v":0},null,{"$f":"VLOOKUP($A44,Results3,U$1-8,FALSE)","v":0}]
[{"$f":"B41&\"B\"","v":"62B"},null,null,null,null,null,{"$f":"VLOOKUP($A45,Results3,H$1,FALSE)","v":0},{"$f":"VLOOKUP($A45,Results3,H$2,FALSE)","v":0},{"$f":"VLOOKUP($A45,Results3,J$1,FALSE)","v":0},{"$f":"VLOOKUP($A45,Results3,J$2,FALSE)","v":0},{"$f":"VLOOKUP($A45,Results3,L$1,FALSE)","v":0},{"$f":"VLOOKUP($A45,Results3,L$2,FALSE)","v":0},{"$f":"VLOOKUP($A45,Results3,N$1,FALSE)","v":0},{"$f":"VLOOKUP($A45,Results3,N$2,FALSE)","v":0},{"$f":"VLOOKUP($A45,Results3,P$1,FALSE)","v":0},{"$f":"VLOOKUP($A45,Results3,P$2,FALSE)","v":0},{"$f":"VLOOKUP($A45,Results3,R$1,FALSE)","v":0},{"$f":"VLOOKUP($A45,Results3,R$2,FALSE)","v":0},{"$f":"VLOOKUP($A45,Results3,T$1,FALSE)","v":0},{"$f":"VLOOKUP($A45,Results3,T$2,FALSE)","v":0},{"$f":"VLOOKUP($A45,Results3,V$1,FALSE)","v":0},{"$f":"VLOOKUP($A45,Results3,V$2,FALSE)","v":0}]
[{"$f":"B47&\"A\"","v":"0A"},null,null,null,null,null,{"$f":"VLOOKUP($A46,Results3,G$1,FALSE)","v":""},null,{"$f":"VLOOKUP($A46,Results3,I$1,FALSE)","v":""},null,{"$f":"VLOOKUP($A46,Results3,K$1,FALSE)","v":""},null,{"$f":"VLOOKUP($A46,Results3,M$1,FALSE)","v":""},null,{"$f":"VLOOKUP($A46,Results3,O$1,FALSE)","v":""},null,{"$f":"VLOOKUP($A46,Results3,Q$1,FALSE)","v":""},null,{"$f":"VLOOKUP($A46,Results3,S$1,FALSE)","v":""},null,{"$f":"VLOOKUP($A46,Results3,U$1,FALSE)","v":""},null,null,null,null,null,null,null,null,null,{"$f":"IF(LEN(G46)>1,1,0)","v":0}]
[{"$f":"B47&\"A\"","v":"0A"},0,{"$f":"VLOOKUP(B47,EventsOrder,2,FALSE)","v":0},{"$f":"VLOOKUP(B47,EventsOrder,4,FALSE)","v":0},"A",null,{"$f":"VLOOKUP($A47,Results3,G$1-8,FALSE)","v":0},null,{"$f":"VLOOKUP($A47,Results3,I$1-8,FALSE)","v":0},null,{"$f":"VLOOKUP($A47,Results3,K$1-8,FALSE)","v":0},null,{"$f":"VLOOKUP($A47,Results3,M$1-8,FALSE)","v":0},null,{"$f":"VLOOKUP($A47,Results3,O$1-8,FALSE)","v":0},null,{"$f":"VLOOKUP($A47,Results3,Q$1-8,FALSE)","v":0},null,{"$f":"VLOOKUP($A47,Results3,S$1-8,FALSE)","v":0},null,{"$f":"VLOOKUP($A47,Results3,U$1-8,FALSE)","v":0}]
[{"$f":"B47&\"A\"","v":"0A"},null,null,null,null,null,{"$f":"VLOOKUP($A48,Results3,H$1,FALSE)","v":0},{"$f":"VLOOKUP($A48,Results3,H$2,FALSE)","v":0},{"$f":"VLOOKUP($A48,Results3,J$1,FALSE)","v":0},{"$f":"VLOOKUP($A48,Results3,J$2,FALSE)","v":0},{"$f":"VLOOKUP($A48,Results3,L$1,FALSE)","v":0},{"$f":"VLOOKUP($A48,Results3,L$2,FALSE)","v":0},{"$f":"VLOOKUP($A48,Results3,N$1,FALSE)","v":0},{"$f":"VLOOKUP($A48,Results3,N$2,FALSE)","v":0},{"$f":"VLOOKUP($A48,Results3,P$1,FALSE)","v":0},{"$f":"VLOOKUP($A48,Results3,P$2,FALSE)","v":0},{"$f":"VLOOKUP($A48,Results3,R$1,FALSE)","v":0},{"$f":"VLOOKUP($A48,Results3,R$2,FALSE)","v":0},{"$f":"VLOOKUP($A48,Results3,T$1,FALSE)","v":0},{"$f":"VLOOKUP($A48,Results3,T$2,FALSE)","v":0},{"$f":"VLOOKUP($A48,Results3,V$1,FALSE)","v":0},{"$f":"VLOOKUP($A48,Results3,V$2,FALSE)","v":0}]
[{"$f":"B47&\"B\"","v":"0B"},null,null,null,null,null,{"$f":"VLOOKUP($A49,Results3,G$1,FALSE)","v":""},null,{"$f":"VLOOKUP($A49,Results3,I$1,FALSE)","v":""},null,{"$f":"VLOOKUP($A49,Results3,K$1,FALSE)","v":""},null,{"$f":"VLOOKUP($A49,Results3,M$1,FALSE)","v":""},null,{"$f":"VLOOKUP($A49,Results3,O$1,FALSE)","v":""},null,{"$f":"VLOOKUP($A49,Results3,Q$1,FALSE)","v":""},null,{"$f":"VLOOKUP($A49,Results3,S$1,FALSE)","v":""},null,{"$f":"VLOOKUP($A49,Results3,U$1,FALSE)","v":""},null,null,null,null,null,null,null,null,null,{"$f":"IF(LEN(G49)>1,1,0)","v":0}]
[{"$f":"B47&\"B\"","v":"0B"},null,null,{"$f":"VLOOKUP(B47,EventsOrder,3,FALSE)","v":0},"B",{"$f":"VLOOKUP(B47,EventsOrder,5,FALSE)","v":" "},{"$f":"VLOOKUP($A50,Results3,G$1-8,FALSE)","v":0},null,{"$f":"VLOOKUP($A50,Results3,I$1-8,FALSE)","v":0},null,{"$f":"VLOOKUP($A50,Results3,K$1-8,FALSE)","v":0},null,{"$f":"VLOOKUP($A50,Results3,M$1-8,FALSE)","v":0},null,{"$f":"VLOOKUP($A50,Results3,O$1-8,FALSE)","v":0},null,{"$f":"VLOOKUP($A50,Results3,Q$1-8,FALSE)","v":0},null,{"$f":"VLOOKUP($A50,Results3,S$1-8,FALSE)","v":0},null,{"$f":"VLOOKUP($A50,Results3,U$1-8,FALSE)","v":0}]
[{"$f":"B47&\"B\"","v":"0B"},null,null,null,null,null,{"$f":"VLOOKUP($A51,Results3,H$1,FALSE)","v":0},{"$f":"VLOOKUP($A51,Results3,H$2,FALSE)","v":0},{"$f":"VLOOKUP($A51,Results3,J$1,FALSE)","v":0},{"$f":"VLOOKUP($A51,Results3,J$2,FALSE)","v":0},{"$f":"VLOOKUP($A51,Results3,L$1,FALSE)","v":0},{"$f":"VLOOKUP($A51,Results3,L$2,FALSE)","v":0},{"$f":"VLOOKUP($A51,Results3,N$1,FALSE)","v":0},{"$f":"VLOOKUP($A51,Results3,N$2,FALSE)","v":0},{"$f":"VLOOKUP($A51,Results3,P$1,FALSE)","v":0},{"$f":"VLOOKUP($A51,Results3,P$2,FALSE)","v":0},{"$f":"VLOOKUP($A51,Results3,R$1,FALSE)","v":0},{"$f":"VLOOKUP($A51,Results3,R$2,FALSE)","v":0},{"$f":"VLOOKUP($A51,Results3,T$1,FALSE)","v":0},{"$f":"VLOOKUP($A51,Results3,T$2,FALSE)","v":0},{"$f":"VLOOKUP($A51,Results3,V$1,FALSE)","v":0},{"$f":"VLOOKUP($A51,Results3,V$2,FALSE)","v":0}]
[null,{"$f":"COUNTIF(B11:B51,\">0\")","v":6},null,null,null,null,null,null,null,null,null,null,null,null,null,null,null,null,null,null,"Total Points",null,{"$f":"SUM(W11:W51)","v":54},{"$f":"SUM(X11:X51)","v":40},17,47,32,26,32,34,7]
[null,null,null,null,null,null,null,null,null,null,null,null,null,null,null,null,null,null,null,null,"Match Position",null,{"$f":"RANK(W52,$W52:$AD52)","v":1},{"$f":"RANK(X52,$W52:$AD52)","v":3},8,2,5,7,5,4]
[]
[null,"Event No",null,null,null,null,null,null,null,null,{"$f":"K8","v":"Heart of England League Results"},null,null,null,null,null,null,null,null,null,null,null,{"$f":"W$8","v":"Banbury"},{"$f":"X$8","v":"Bicester"},"Dudley & S'bridge","Kettering","Radley","Tamworth","Wreake Runners","Worcester"]
[null,null,null,"Division",{"$f":"E9","v":2},null,null,"U11 Female",null,null,"Venue",{"$f":"L9","v":"Worcester"},null,null,null,null,"Date",{"$f":"R9","v":"5th June 2016"}]
[null,null,"Time","Event",null,null,"First",null,"Second",null,"Third",null,"Fourth",null,"Fifth",null,"Sixth",null,"Seventh",null,"Eighth",null,{"$f":"W$10","v":"J"},{"$f":"X$10","v":"P"},"B","I","R","F","X","Y"]
[{"$f":"B59&\"A\"","v":"3A"},null,null,{"$f":"VLOOKUP(B59,EventsOrder,4,FALSE)","v":"U11 Female"},"A",null,{"$f":"VLOOKUP($A58,Results3,G$3,FALSE)","v":"Jasmine Stokes"},null,{"$f":"VLOOKUP($A58,Results3,I$3,FALSE)","v":"Imogen Cox"},null,{"$f":"VLOOKUP($A58,Results3,K$3,FALSE)","v":"Eimear Moss"},null,{"$f":"VLOOKUP($A58,Results3,M$3,FALSE)","v":"Isabelle Parker"},null,{"$f":"VLOOKUP($A58,Results3,O$3,FALSE)","v":"Erin Bungay"},null,{"$f":"VLOOKUP($A58,Results3,Q$3,FALSE)","v":"Niamh Sinnott"},null,{"$f":"VLOOKUP($A58,Results3,S$3,FALSE)","v":""},null,{"$f":"VLOOKUP($A58,Results3,U$3,FALSE)","v":""},null,null,null,null,null,null,null,null,null,{"$f":"IF(LEN(G58)>1,1,0)","v":1}]
[{"$f":"B59&\"A\"","v":"3A"},3,{"$f":"VLOOKUP(B59,EventsOrder,2,FALSE)","v":11.45},null,null,null,{"$f":"VLOOKUP($A59,Results3,G$4,FALSE)","v":"Worc"},{"$f":"VLOOKUP($A59,Results3,H$3,FALSE)","v":23.63},{"$f":"VLOOKUP($A59,Results3,I$4,FALSE)","v":"Bic"},{"$f":"VLOOKUP($A59,Results3,J$3,FALSE)","v":21.04},{"$f":"VLOOKUP($A59,Results3,K$4,FALSE)","v":"Ban"},{"$f":"VLOOKUP($A59,Results3,L$3,FALSE)","v":17.46},{"$f":"VLOOKUP($A59,Results3,M$4,FALSE)","v":"Wreake"},{"$f":"VLOOKUP($A59,Results3,N$3,FALSE)","v":12.79},{"$f":"VLOOKUP($A59,Results3,O$4,FALSE)","v":"Rad"},{"$f":"VLOOKUP($A59,Results3,P$3,FALSE)","v":10.83},{"$f":"VLOOKUP($A59,Results3,Q$4,FALSE)","v":"Kett"},{"$f":"VLOOKUP($A59,Results3,R$3,FALSE)","v":10.51},{"$f":"VLOOKUP($A59,Results3,S$4,FALSE)","v":0},{"$f":"VLOOKUP($A59,Results3,T$3,FALSE)","v":0},{"$f":"VLOOKUP($A59,Results3,U$4,FALSE)","v":0},{"$f":"VLOOKUP($A59,Results3,V$3,FALSE)","v":0},{"$f":"VLOOKUP($A59,Results3,W$4,FALSE)","v":6},{"$f":"VLOOKUP($A59,Results3,X$4,FALSE)","v":7},0,3,4,0,5,8]
[{"$f":"B59&\"B\"","v":"3B"},null,null,{"$f":"VLOOKUP(B59,EventsOrder,3,FALSE)","v":"Howler"},"B",{"$f":"VLOOKUP(B59,EventsOrder,5,FALSE)","v":""},{"$f":"VLOOKUP($A60,Results3,G$3,FALSE)","v":"Isla Bohannon"},null,{"$f":"VLOOKUP($A60,Results3,I$3,FALSE)","v":"Ellie Williams"},null,{"$f":"VLOOKUP($A60,Results3,K$3,FALSE)","v":"Harriett Lethridge"},null,{"$f":"VLOOKUP($A60,Results3,M$3,FALSE)","v":"Ainhara Ly"},null,{"$f":"VLOOKUP($A60,Results3,O$3,FALSE)","v":"Isabella Brockway"},null,{"$f":"VLOOKUP($A60,Results3,Q$3,FALSE)","v":""},null,{"$f":"VLOOKUP($A60,Results3,S$3,FALSE)","v":""},null,{"$f":"VLOOKUP($A60,Results3,U$3,FALSE)","v":""}]
[{"$f":"B59&\"B\"","v":"3B"},null,null,null,null,null,{"$f":"VLOOKUP($A61,Results3,G$4,FALSE)","v":"Bic"},{"$f":"VLOOKUP($A61,Results3,H$3,FALSE)","v":12.8},{"$f":"VLOOKUP($A61,Results3,I$4,FALSE)","v":"Ban"},{"$f":"VLOOKUP($A61,Results3,J$3,FALSE)","v":12.02},{"$f":"VLOOKUP($A61,Results3,K$4,FALSE)","v":"Wreake"},{"$f":"VLOOKUP($A61,Results3,L$3,FALSE)","v":11},{"$f":"VLOOKUP($A61,Results3,M$4,FALSE)","v":"Rad"},{"$f":"VLOOKUP($A61,Results3,N$3,FALSE)","v":8.51},{"$f":"VLOOKUP($A61,Results3,O$4,FALSE)","v":"Kett"},{"$f":"VLOOKUP($A61,Results3,P$3,FALSE)","v":7.56},{"$f":"VLOOKUP($A61,Results3,Q$4,FALSE)","v":0},{"$f":"VLOOKUP($A61,Results3,R$3,FALSE)","v":0},{"$f":"VLOOKUP($A61,Results3,S$4,FALSE)","v":0},{"$f":"VLOOKUP($A61,Results3,T$3,FALSE)","v":0},{"$f":"VLOOKUP($A61,Results3,U$4,FALSE)","v":0},{"$f":"VLOOKUP($A61,Results3,V$3,FALSE)","v":0},{"$f":"VLOOKUP($A61,Results3,W$4,FALSE)","v":7},8,0,4,5,0,6,0]
[{"$f":"B63&\"A\"","v":"29A"},null,null,{"$f":"VLOOKUP(B63,EventsOrder,4,FALSE)","v":"U11 Female"},"A",null,{"$f":"VLOOKUP($A62,Results3,G$3,FALSE)","v":"Tilly Lainchbury"},null,{"$f":"VLOOKUP($A62,Results3,I$3,FALSE)","v":"Isla Cullen"},null,{"$f":"VLOOKUP($A62,Results3,K$3,FALSE)","v":"Daisy Smith"},null,{"$f":"VLOOKUP($A62,Results3,M$3,FALSE)","v":"Imogen Cox"},null,{"$f":"VLOOKUP($A62,Results3,O$3,FALSE)","v":"Molly Davey"},null,{"$f":"VLOOKUP($A62,Results3,Q$3,FALSE)","v":"Neve Gibbs"},null,{"$f":"VLOOKUP($A62,Results3,S$3,FALSE)","v":"Niamh Sinnott"},null,{"$f":"VLOOKUP($A62,Results3,U$3,FALSE)","v":"Lily Black"},null,null,null,null,null,null,null,null,null,{"$f":"IF(LEN(G62)>1,1,0)","v":1}]
[{"$f":"B63&\"A\"","v":"29A"},29,{"$f":"VLOOKUP(B63,EventsOrder,2,FALSE)","v":1.5},null,null,null,{"$f":"VLOOKUP($A63,Results3,G$4,FALSE)","v":"Ban"},{"$f":"VLOOKUP($A63,Results3,H$3,FALSE)","v":"2.03.3"},{"$f":"VLOOKUP($A63,Results3,I$4,FALSE)","v":"Wreake"},{"$f":"VLOOKUP($A63,Results3,J$3,FALSE)","v":"2.07.5"},{"$f":"VLOOKUP($A63,Results3,K$4,FALSE)","v":"Tam"},{"$f":"VLOOKUP($A63,Results3,L$3,FALSE)","v":"2.12.1"},{"$f":"VLOOKUP($A63,Results3,M$4,FALSE)","v":"Bic"},{"$f":"VLOOKUP($A63,Results3,N$3,FALSE)","v":"2.16.5"},{"$f":"VLOOKUP($A63,Results3,O$4,FALSE)","v":"Worc"},{"$f":"VLOOKUP($A63,Results3,P$3,FALSE)","v":"2.27.0"},{"$f":"VLOOKUP($A63,Results3,Q$4,FALSE)","v":"DASH"},{"$f":"VLOOKUP($A63,Results3,R$3,FALSE)","v":"2.28.5"},{"$f":"VLOOKUP($A63,Results3,S$4,FALSE)","v":"Kett"},{"$f":"VLOOKUP($A63,Results3,T$3,FALSE)","v":"2.32.7"},{"$f":"VLOOKUP($A63,Results3,U$4,FALSE)","v":"Rad"},{"$f":"VLOOKUP($A63,Results3,V$3,FALSE)","v":"DNF"},{"$f":"VLOOKUP($A63,Results3,W$4,FALSE)","v":8},5,3,2,0,6,7,4]
[{"$f":"B63&\"B\"","v":"29B"},null,null,{"$f":"VLOOKUP(B63,EventsOrder,3,FALSE)","v":"600m"},"B",{"$f":"VLOOKUP(B63,EventsOrder,5,FALSE)","v":""},{"$f":"VLOOKUP($A64,Results3,G$3,FALSE)","v":"Sophie Dunbobbin"},null,{"$f":"VLOOKUP($A64,Results3,I$3,FALSE)","v":"Ainhara Ly"},null,{"$f":"VLOOKUP($A64,Results3,K$3,FALSE)","v":"Isla Bohannon"},null,{"$f":"VLOOKUP($A64,Results3,M$3,FALSE)","v":"Madison Rose Blencowe"},null,{"$f":"VLOOKUP($A64,Results3,O$3,FALSE)","v":"Georgia Wharton"},null,{"$f":"VLOOKUP($A64,Results3,Q$3,FALSE)","v":"Ellie Williams"},null,{"$f":"VLOOKUP($A64,Results3,S$3,FALSE)","v":"Kiera Davis"},null,{"$f":"VLOOKUP($A64,Results3,U$3,FALSE)","v":"Isabella Brockway"}]
[{"$f":"B63&\"B\"","v":"29B"},null,null,null,null,null,{"$f":"VLOOKUP($A65,Results3,G$4,FALSE)","v":"Wreake"},{"$f":"VLOOKUP($A65,Results3,H$3,FALSE)","v":"1.59.4"},{"$f":"VLOOKUP($A65,Results3,I$4,FALSE)","v":"Rad"},{"$f":"VLOOKUP($A65,Results3,J$3,FALSE)","v":"2.07.2"},{"$f":"VLOOKUP($A65,Results3,K$4,FALSE)","v":"Bic"},{"$f":"VLOOKUP($A65,Results3,L$3,FALSE)","v":"2.14.9"},{"$f":"VLOOKUP($A65,Results3,M$4,FALSE)","v":"Tam"},{"$f":"VLOOKUP($A65,Results3,N$3,FALSE)","v":"2.19.5"},{"$f":"VLOOKUP($A65,Results3,O$4,FALSE)","v":"Worc"},{"$f":"VLOOKUP($A65,Results3,P$3,FALSE)","v":"2.24.6"},{"$f":"VLOOKUP($A65,Results3,Q$4,FALSE)","v":"Ban"},{"$f":"VLOOKUP($A65,Results3,R$3,FALSE)","v":"2.30.8"},{"$f":"VLOOKUP($A65,Results3,S$4,FALSE)","v":"DASH"},{"$f":"VLOOKUP($A65,Results3,T$3,FALSE)","v":"2.34.7"},{"$f":"VLOOKUP($A65,Results3,U$4,FALSE)","v":"Kett"},{"$f":"VLOOKUP($A65,Results3,V$3,FALSE)","v":"2.36.2"},{"$f":"VLOOKUP($A65,Results3,W$4,FALSE)","v":3},6,2,1,7,5,8,4]
[{"$f":"B67&\"A\"","v":"44A"},null,null,{"$f":"VLOOKUP(B67,EventsOrder,4,FALSE)","v":"U11 Female"},"A",null,{"$f":"VLOOKUP($A66,Results3,G$3,FALSE)","v":"Lily Black"},null,{"$f":"VLOOKUP($A66,Results3,I$3,FALSE)","v":"Eimear Moss"},null,{"$f":"VLOOKUP($A66,Results3,K$3,FALSE)","v":"Saoirse Au"},null,{"$f":"VLOOKUP($A66,Results3,M$3,FALSE)","v":"Sophie Dunbobbin"},null,{"$f":"VLOOKUP($A66,Results3,O$3,FALSE)","v":"Imogen Cox"},null,{"$f":"VLOOKUP($A66,Results3,Q$3,FALSE)","v":"Alice Dixon"},null,{"$f":"VLOOKUP($A66,Results3,S$3,FALSE)","v":"Kate Nelis"},null,{"$f":"VLOOKUP($A66,Results3,U$3,FALSE)","v":"Ella Pearson"},null,null,null,null,null,null,null,null,null,{"$f":"IF(LEN(G66)>1,1,0)","v":1}]
[{"$f":"B67&\"A\"","v":"44A"},44,{"$f":"VLOOKUP(B67,EventsOrder,2,FALSE)","v":2.1},null,null,null,{"$f":"VLOOKUP($A67,Results3,G$4,FALSE)","v":"Rad"},{"$f":"VLOOKUP($A67,Results3,H$3,FALSE)","v":3.36},{"$f":"VLOOKUP($A67,Results3,I$4,FALSE)","v":"Ban"},{"$f":"VLOOKUP($A67,Results3,J$3,FALSE)","v":3.3},{"$f":"VLOOKUP($A67,Results3,K$4,FALSE)","v":"Tam"},{"$f":"VLOOKUP($A67,Results3,L$3,FALSE)","v":3.26},{"$f":"VLOOKUP($A67,Results3,M$4,FALSE)","v":"Wreake"},{"$f":"VLOOKUP($A67,Results3,N$3,FALSE)","v":3.21},{"$f":"VLOOKUP($A67,Results3,O$4,FALSE)","v":"Bic"},{"$f":"VLOOKUP($A67,Results3,P$3,FALSE)","v":3.19},{"$f":"VLOOKUP($A67,Results3,Q$4,FALSE)","v":"Worc"},{"$f":"VLOOKUP($A67,Results3,R$3,FALSE)","v":2.89},{"$f":"VLOOKUP($A67,Results3,S$4,FALSE)","v":"Kett"},{"$f":"VLOOKUP($A67,Results3,T$3,FALSE)","v":2.7},{"$f":"VLOOKUP($A67,Results3,U$4,FALSE)","v":"DASH"},{"$f":"VLOOKUP($A67,Results3,V$3,FALSE)","v":2.4300000000000002},{"$f":"VLOOKUP($A67,Results3,W$4,FALSE)","v":7},4,1,2,8,6,5,3]
[{"$f":"B67&\"B\"","v":"44B"},null,null,{"$f":"VLOOKUP(B67,EventsOrder,3,FALSE)","v":"Long Jump"},"B",{"$f":"VLOOKUP(B67,EventsOrder,5,FALSE)","v":"Pit 2"},{"$f":"VLOOKUP($A68,Results3,G$3,FALSE)","v":"Josephine Parker"},null,{"$f":"VLOOKUP($A68,Results3,I$3,FALSE)","v":"Audrey Winstone"},null,{"$f":"VLOOKUP($A68,Results3,K$3,FALSE)","v":"Angelica Ramkee"},null,{"$f":"VLOOKUP($A68,Results3,M$3,FALSE)","v":"Tilly Lainchbury"},null,{"$f":"VLOOKUP($A68,Results3,O$3,FALSE)","v":"Isla Cullen"},null,{"$f":"VLOOKUP($A68,Results3,Q$3,FALSE)","v":"Isabella Brockway"},null,{"$f":"VLOOKUP($A68,Results3,S$3,FALSE)","v":"Beth Hallam"},null,{"$f":"VLOOKUP($A68,Results3,U$3,FALSE)","v":"Kiera Adams"}]
[{"$f":"B67&\"B\"","v":"44B"},null,null,null,null,null,{"$f":"VLOOKUP($A69,Results3,G$4,FALSE)","v":"Bic"},{"$f":"VLOOKUP($A69,Results3,H$3,FALSE)","v":3.11},{"$f":"VLOOKUP($A69,Results3,I$4,FALSE)","v":"Rad"},{"$f":"VLOOKUP($A69,Results3,J$3,FALSE)","v":3.05},{"$f":"VLOOKUP($A69,Results3,K$4,FALSE)","v":"Tam"},{"$f":"VLOOKUP($A69,Results3,L$3,FALSE)","v":3.05},{"$f":"VLOOKUP($A69,Results3,M$4,FALSE)","v":"Ban"},{"$f":"VLOOKUP($A69,Results3,N$3,FALSE)","v":2.95},{"$f":"VLOOKUP($A69,Results3,O$4,FALSE)","v":"Wreake"},{"$f":"VLOOKUP($A69,Results3,P$3,FALSE)","v":2.91},{"$f":"VLOOKUP($A69,Results3,Q$4,FALSE)","v":"Kett"},{"$f":"VLOOKUP($A69,Results3,R$3,FALSE)","v":2.44},{"$f":"VLOOKUP($A69,Results3,S$4,FALSE)","v":"Worc"},{"$f":"VLOOKUP($A69,Results3,T$3,FALSE)","v":2.33},{"$f":"VLOOKUP($A69,Results3,U$4,FALSE)","v":"DASH"},{"$f":"VLOOKUP($A69,Results3,V$3,FALSE)","v":2.2599999999999998},{"$f":"VLOOKUP($A69,Results3,W$4,FALSE)","v":5},8,1,3,7,6,4,2]
[{"$f":"B71&\"A\"","v":"58A"},null,null,{"$f":"VLOOKUP(B71,EventsOrder,4,FALSE)","v":"U11 Female"},"A",null,{"$f":"VLOOKUP($A70,Results3,G$3,FALSE)","v":"Kiyomi Topham"},null,{"$f":"VLOOKUP($A70,Results3,I$3,FALSE)","v":"Josephine Parker"},null,{"$f":"VLOOKUP($A70,Results3,K$3,FALSE)","v":"Kate Nelis"},null,{"$f":"VLOOKUP($A70,Results3,M$3,FALSE)","v":"Saoirse Au"},null,{"$f":"VLOOKUP($A70,Results3,O$3,FALSE)","v":"Eimear Moss"},null,{"$f":"VLOOKUP($A70,Results3,Q$3,FALSE)","v":"Audrey Winstone"},null,{"$f":"VLOOKUP($A70,Results3,S$3,FALSE)","v":"Molly Davey"},null,{"$f":"VLOOKUP($A70,Results3,U$3,FALSE)","v":"Kiera Adams"},null,null,null,null,null,null,null,null,null,{"$f":"IF(LEN(G70)>1,1,0)","v":1}]
[{"$f":"B71&\"A\"","v":"58A"},58,{"$f":"VLOOKUP(B71,EventsOrder,2,FALSE)","v":3.1},null,null,null,{"$f":"VLOOKUP($A71,Results3,G$4,FALSE)","v":"Wreake"},{"$f":"VLOOKUP($A71,Results3,H$3,FALSE)","v":11.5},{"$f":"VLOOKUP($A71,Results3,I$4,FALSE)","v":"Bic"},{"$f":"VLOOKUP($A71,Results3,J$3,FALSE)","v":11.6},{"$f":"VLOOKUP($A71,Results3,K$4,FALSE)","v":"Kett"},{"$f":"VLOOKUP($A71,Results3,L$3,FALSE)","v":11.7},{"$f":"VLOOKUP($A71,Results3,M$4,FALSE)","v":"Tam"},{"$f":"VLOOKUP($A71,Results3,N$3,FALSE)","v":11.7},{"$f":"VLOOKUP($A71,Results3,O$4,FALSE)","v":"Ban"},{"$f":"VLOOKUP($A71,Results3,P$3,FALSE)","v":11.9},{"$f":"VLOOKUP($A71,Results3,Q$4,FALSE)","v":"Rad"},{"$f":"VLOOKUP($A71,Results3,R$3,FALSE)","v":12.2},{"$f":"VLOOKUP($A71,Results3,S$4,FALSE)","v":"Worc"},{"$f":"VLOOKUP($A71,Results3,T$3,FALSE)","v":13},{"$f":"VLOOKUP($A71,Results3,U$4,FALSE)","v":"DASH"},{"$f":"VLOOKUP($A71,Results3,V$3,FALSE)","v":14.4},{"$f":"VLOOKUP($A71,Results3,W$4,FALSE)","v":4},7,1,6,3,5,8,2]
[{"$f":"B71&\"B\"","v":"58B"},null,null,{"$f":"VLOOKUP(B71,EventsOrder,3,FALSE)","v":"75m"},"B",{"$f":"VLOOKUP(B71,EventsOrder,5,FALSE)","v":""},{"$f":"VLOOKUP($A72,Results3,G$3,FALSE)","v":"Isla Bohannon"},null,{"$f":"VLOOKUP($A72,Results3,I$3,FALSE)","v":"Lily Black"},null,{"$f":"VLOOKUP($A72,Results3,K$3,FALSE)","v":"Bronte Cameron"},null,{"$f":"VLOOKUP($A72,Results3,M$3,FALSE)","v":"Niamh Sinnott"},null,{"$f":"VLOOKUP($A72,Results3,O$3,FALSE)","v":"Ellie Williams"},null,{"$f":"VLOOKUP($A72,Results3,Q$3,FALSE)","v":"Angelica Ramkee"},null,{"$f":"VLOOKUP($A72,Results3,S$3,FALSE)","v":"Neve Gibbs"},null,{"$f":"VLOOKUP($A72,Results3,U$3,FALSE)","v":"Georgia Wharton"}]
[{"$f":"B71&\"B\"","v":"58B"},null,null,null,null,null,{"$f":"VLOOKUP($A73,Results3,G$4,FALSE)","v":"Bic"},{"$f":"VLOOKUP($A73,Results3,H$3,FALSE)","v":11.7},{"$f":"VLOOKUP($A73,Results3,I$4,FALSE)","v":"Rad"},{"$f":"VLOOKUP($A73,Results3,J$3,FALSE)","v":12.5},{"$f":"VLOOKUP($A73,Results3,K$4,FALSE)","v":"Wreake"},{"$f":"VLOOKUP($A73,Results3,L$3,FALSE)","v":12.5},{"$f":"VLOOKUP($A73,Results3,M$4,FALSE)","v":"Kett"},{"$f":"VLOOKUP($A73,Results3,N$3,FALSE)","v":12.9},{"$f":"VLOOKUP($A73,Results3,O$4,FALSE)","v":"Ban"},{"$f":"VLOOKUP($A73,Results3,P$3,FALSE)","v":12.9},{"$f":"VLOOKUP($A73,Results3,Q$4,FALSE)","v":"Tam"},{"$f":"VLOOKUP($A73,Results3,R$3,FALSE)","v":13},{"$f":"VLOOKUP($A73,Results3,S$4,FALSE)","v":"DASH"},{"$f":"VLOOKUP($A73,Results3,T$3,FALSE)","v":13.3},{"$f":"VLOOKUP($A73,Results3,U$4,FALSE)","v":"Worc"},{"$f":"VLOOKUP($A73,Results3,V$3,FALSE)","v":13.4},{"$f":"VLOOKUP($A73,Results3,W$4,FALSE)","v":4},8,2,5,7,3,6,1]
[null,null,null,"Non Scoring"]
[{"$f":"B76&\"A\"","v":"0A"},null,null,null,null,null,{"$f":"VLOOKUP($A75,Results3,G$1,FALSE)","v":""},null,{"$f":"VLOOKUP($A75,Results3,I$1,FALSE)","v":""},null,{"$f":"VLOOKUP($A75,Results3,K$1,FALSE)","v":""},null,{"$f":"VLOOKUP($A75,Results3,M$1,FALSE)","v":""},null,{"$f":"VLOOKUP($A75,Results3,O$1,FALSE)","v":""},null,{"$f":"VLOOKUP($A75,Results3,Q$1,FALSE)","v":""},null,{"$f":"VLOOKUP($A75,Results3,S$1,FALSE)","v":""},null,{"$f":"VLOOKUP($A75,Results3,U$1,FALSE)","v":""},null,null,null,null,null,null,null,null,null,{"$f":"IF(LEN(G75)>1,1,0)","v":0}]
[{"$f":"B76&\"A\"","v":"0A"},0,{"$f":"VLOOKUP(B76,EventsOrder,2,FALSE)","v":0},{"$f":"VLOOKUP(B76,EventsOrder,4,FALSE)","v":0},"A",null,{"$f":"VLOOKUP($A76,Results3,G$1-8,FALSE)","v":0},null,{"$f":"VLOOKUP($A76,Results3,I$1-8,FALSE)","v":0},null,{"$f":"VLOOKUP($A76,Results3,K$1-8,FALSE)","v":0},null,{"$f":"VLOOKUP($A76,Results3,M$1-8,FALSE)","v":0},null,{"$f":"VLOOKUP($A76,Results3,O$1-8,FALSE)","v":0},null,{"$f":"VLOOKUP($A76,Results3,Q$1-8,FALSE)","v":0},null,{"$f":"VLOOKUP($A76,Results3,S$1-8,FALSE)","v":0},null,{"$f":"VLOOKUP($A76,Results3,U$1-8,FALSE)","v":0}]
[{"$f":"B76&\"A\"","v":"0A"},null,null,null,null,null,{"$f":"VLOOKUP($A77,Results3,H$1,FALSE)","v":0},{"$f":"VLOOKUP($A77,Results3,H$2,FALSE)","v":0},{"$f":"VLOOKUP($A77,Results3,J$1,FALSE)","v":0},{"$f":"VLOOKUP($A77,Results3,J$2,FALSE)","v":0},{"$f":"VLOOKUP($A77,Results3,L$1,FALSE)","v":0},{"$f":"VLOOKUP($A77,Results3,L$2,FALSE)","v":0},{"$f":"VLOOKUP($A77,Results3,N$1,FALSE)","v":0},{"$f":"VLOOKUP($A77,Results3,N$2,FALSE)","v":0},{"$f":"VLOOKUP($A77,Results3,P$1,FALSE)","v":0},{"$f":"VLOOKUP($A77,Results3,P$2,FALSE)","v":0},{"$f":"VLOOKUP($A77,Results3,R$1,FALSE)","v":0},{"$f":"VLOOKUP($A77,Results3,R$2,FALSE)","v":0},{"$f":"VLOOKUP($A77,Results3,T$1,FALSE)","v":0},{"$f":"VLOOKUP($A77,Results3,T$2,FALSE)","v":0},{"$f":"VLOOKUP($A77,Results3,V$1,FALSE)","v":0},{"$f":"VLOOKUP($A77,Results3,V$2,FALSE)","v":0}]
[{"$f":"B76&\"B\"","v":"0B"},null,null,null,null,null,{"$f":"VLOOKUP($A78,Results3,G$1,FALSE)","v":""},null,{"$f":"VLOOKUP($A78,Results3,I$1,FALSE)","v":""},null,{"$f":"VLOOKUP($A78,Results3,K$1,FALSE)","v":""},null,{"$f":"VLOOKUP($A78,Results3,M$1,FALSE)","v":""},null,{"$f":"VLOOKUP($A78,Results3,O$1,FALSE)","v":""},null,{"$f":"VLOOKUP($A78,Results3,Q$1,FALSE)","v":""},null,{"$f":"VLOOKUP($A78,Results3,S$1,FALSE)","v":""},null,{"$f":"VLOOKUP($A78,Results3,U$1,FALSE)","v":""}]
[{"$f":"B76&\"B\"","v":"0B"},null,null,{"$f":"VLOOKUP(B76,EventsOrder,3,FALSE)","v":0},"B",{"$f":"VLOOKUP(B76,EventsOrder,5,FALSE)","v":" "},{"$f":"VLOOKUP($A79,Results3,G$1-8,FALSE)","v":0},null,{"$f":"VLOOKUP($A79,Results3,I$1-8,FALSE)","v":0},null,{"$f":"VLOOKUP($A79,Results3,K$1-8,FALSE)","v":0},null,{"$f":"VLOOKUP($A79,Results3,M$1-8,FALSE)","v":0},null,{"$f":"VLOOKUP($A79,Results3,O$1-8,FALSE)","v":0},null,{"$f":"VLOOKUP($A79,Results3,Q$1-8,FALSE)","v":0},null,{"$f":"VLOOKUP($A79,Results3,S$1-8,FALSE)","v":0},null,{"$f":"VLOOKUP($A79,Results3,U$1-8,FALSE)","v":0}]
[{"$f":"B76&\"B\"","v":"0B"},null,null,null,null,null,{"$f":"VLOOKUP($A80,Results3,H$1,FALSE)","v":0},{"$f":"VLOOKUP($A80,Results3,H$2,FALSE)","v":0},{"$f":"VLOOKUP($A80,Results3,J$1,FALSE)","v":0},{"$f":"VLOOKUP($A80,Results3,J$2,FALSE)","v":0},{"$f":"VLOOKUP($A80,Results3,L$1,FALSE)","v":0},{"$f":"VLOOKUP($A80,Results3,L$2,FALSE)","v":0},{"$f":"VLOOKUP($A80,Results3,N$1,FALSE)","v":0},{"$f":"VLOOKUP($A80,Results3,N$2,FALSE)","v":0},{"$f":"VLOOKUP($A80,Results3,P$1,FALSE)","v":0},{"$f":"VLOOKUP($A80,Results3,P$2,FALSE)","v":0},{"$f":"VLOOKUP($A80,Results3,R$1,FALSE)","v":0},{"$f":"VLOOKUP($A80,Results3,R$2,FALSE)","v":0},{"$f":"VLOOKUP($A80,Results3,T$1,FALSE)","v":0},{"$f":"VLOOKUP($A80,Results3,T$2,FALSE)","v":0},{"$f":"VLOOKUP($A80,Results3,V$1,FALSE)","v":0},{"$f":"VLOOKUP($A80,Results3,V$2,FALSE)","v":0}]
[{"$f":"B82&\"A\"","v":"30A"},null,null,null,null,null,{"$f":"VLOOKUP($A81,Results3,G$1,FALSE)","v":"Harriett Lethridge"},null,{"$f":"VLOOKUP($A81,Results3,I$1,FALSE)","v":"Olivia Cook"},null,{"$f":"VLOOKUP($A81,Results3,K$1,FALSE)","v":"Audrey Winstone"},null,{"$f":"VLOOKUP($A81,Results3,M$1,FALSE)","v":"Isabelle Parker"},null,{"$f":"VLOOKUP($A81,Results3,O$1,FALSE)","v":"Beth Hallam"},null,{"$f":"VLOOKUP($A81,Results3,Q$1,FALSE)","v":"Erin Bungay"},null,{"$f":"VLOOKUP($A81,Results3,S$1,FALSE)","v":""},null,{"$f":"VLOOKUP($A81,Results3,U$1,FALSE)","v":""},null,null,null,null,null,null,null,null,null,{"$f":"IF(LEN(G81)>1,1,0)","v":1}]
[{"$f":"B82&\"A\"","v":"30A"},30,{"$f":"VLOOKUP(B82,EventsOrder,2,FALSE)","v":1.55},{"$f":"VLOOKUP(B82,EventsOrder,4,FALSE)","v":"U11 Female"},"A",null,{"$f":"VLOOKUP($A82,Results3,G$1-8,FALSE)","v":401},null,{"$f":"VLOOKUP($A82,Results3,I$1-8,FALSE)","v":559},null,{"$f":"VLOOKUP($A82,Results3,K$1-8,FALSE)","v":523},null,{"$f":"VLOOKUP($A82,Results3,M$1-8,FALSE)","v":402},null,{"$f":"VLOOKUP($A82,Results3,O$1-8,FALSE)","v":115},null,{"$f":"VLOOKUP($A82,Results3,Q$1-8,FALSE)","v":525},null,{"$f":"VLOOKUP($A82,Results3,S$1-8,FALSE)","v":0},null,{"$f":"VLOOKUP($A82,Results3,U$1-8,FALSE)","v":0}]
[{"$f":"B82&\"A\"","v":"30A"},null,null,null,null,null,{"$f":"VLOOKUP($A83,Results3,H$1,FALSE)","v":"Wreake"},{"$f":"VLOOKUP($A83,Results3,H$2,FALSE)","v":"2.01.7"},{"$f":"VLOOKUP($A83,Results3,J$1,FALSE)","v":"Ban"},{"$f":"VLOOKUP($A83,Results3,J$2,FALSE)","v":"2.09.1"},{"$f":"VLOOKUP($A83,Results3,L$1,FALSE)","v":"Rad"},{"$f":"VLOOKUP($A83,Results3,L$2,FALSE)","v":"2.16.8"},{"$f":"VLOOKUP($A83,Results3,N$1,FALSE)","v":"Wreake"},{"$f":"VLOOKUP($A83,Results3,N$2,FALSE)","v":"2.37.1"},{"$f":"VLOOKUP($A83,Results3,P$1,FALSE)","v":"Worc"},{"$f":"VLOOKUP($A83,Results3,P$2,FALSE)","v":"2.37.5"},{"$f":"VLOOKUP($A83,Results3,R$1,FALSE)","v":"Rad"},{"$f":"VLOOKUP($A83,Results3,R$2,FALSE)","v":"2.46.2"},{"$f":"VLOOKUP($A83,Results3,T$1,FALSE)","v":0},{"$f":"VLOOKUP($A83,Results3,T$2,FALSE)","v":0},{"$f":"VLOOKUP($A83,Results3,V$1,FALSE)","v":0},{"$f":"VLOOKUP($A83,Results3,V$2,FALSE)","v":0}]
[{"$f":"B82&\"B\"","v":"30B"},null,null,null,null,null,{"$f":"VLOOKUP($A84,Results3,G$1,FALSE)","v":""},null,{"$f":"VLOOKUP($A84,Results3,I$1,FALSE)","v":""},null,{"$f":"VLOOKUP($A84,Results3,K$1,FALSE)","v":""},null,{"$f":"VLOOKUP($A84,Results3,M$1,FALSE)","v":""},null,{"$f":"VLOOKUP($A84,Results3,O$1,FALSE)","v":""},null,{"$f":"VLOOKUP($A84,Results3,Q$1,FALSE)","v":""},null,{"$f":"VLOOKUP($A84,Results3,S$1,FALSE)","v":""},null,{"$f":"VLOOKUP($A84,Results3,U$1,FALSE)","v":""}]
[{"$f":"B82&\"B\"","v":"30B"},null,null,{"$f":"VLOOKUP(B82,EventsOrder,3,FALSE)","v":"600m"},"B",{"$f":"VLOOKUP(B82,EventsOrder,5,FALSE)","v":"NS"},{"$f":"VLOOKUP($A85,Results3,G$1-8,FALSE)","v":0},null,{"$f":"VLOOKUP($A85,Results3,I$1-8,FALSE)","v":0},null,{"$f":"VLOOKUP($A85,Results3,K$1-8,FALSE)","v":0},null,{"$f":"VLOOKUP($A85,Results3,M$1-8,FALSE)","v":0},null,{"$f":"VLOOKUP($A85,Results3,O$1-8,FALSE)","v":0},null,{"$f":"VLOOKUP($A85,Results3,Q$1-8,FALSE)","v":0},null,{"$f":"VLOOKUP($A85,Results3,S$1-8,FALSE)","v":0},null,{"$f":"VLOOKUP($A85,Results3,U$1-8,FALSE)","v":0}]
[{"$f":"B82&\"B\"","v":"30B"},null,null,null,null,null,{"$f":"VLOOKUP($A86,Results3,H$1,FALSE)","v":0},{"$f":"VLOOKUP($A86,Results3,H$2,FALSE)","v":0},{"$f":"VLOOKUP($A86,Results3,J$1,FALSE)","v":0},{"$f":"VLOOKUP($A86,Results3,J$2,FALSE)","v":0},{"$f":"VLOOKUP($A86,Results3,L$1,FALSE)","v":0},{"$f":"VLOOKUP($A86,Results3,L$2,FALSE)","v":0},{"$f":"VLOOKUP($A86,Results3,N$1,FALSE)","v":0},{"$f":"VLOOKUP($A86,Results3,N$2,FALSE)","v":0},{"$f":"VLOOKUP($A86,Results3,P$1,FALSE)","v":0},{"$f":"VLOOKUP($A86,Results3,P$2,FALSE)","v":0},{"$f":"VLOOKUP($A86,Results3,R$1,FALSE)","v":0},{"$f":"VLOOKUP($A86,Results3,R$2,FALSE)","v":0},{"$f":"VLOOKUP($A86,Results3,T$1,FALSE)","v":0},{"$f":"VLOOKUP($A86,Results3,T$2,FALSE)","v":0},{"$f":"VLOOKUP($A86,Results3,V$1,FALSE)","v":0},{"$f":"VLOOKUP($A86,Results3,V$2,FALSE)","v":0}]
[{"$f":"B88&\"A\"","v":"59A"},null,null,null,null,null,{"$f":"VLOOKUP($A87,Results3,G$1,FALSE)","v":"Madison Rose Blencowe"},null,{"$f":"VLOOKUP($A87,Results3,I$1,FALSE)","v":"Tilly Lainchbury"},null,{"$f":"VLOOKUP($A87,Results3,K$1,FALSE)","v":"Harriett Lethridge"},null,{"$f":"VLOOKUP($A87,Results3,M$1,FALSE)","v":"Erin Bungay"},null,{"$f":"VLOOKUP($A87,Results3,O$1,FALSE)","v":"Jasmine Stokes"},null,{"$f":"VLOOKUP($A87,Results3,Q$1,FALSE)","v":""},null,{"$f":"VLOOKUP($A87,Results3,S$1,FALSE)","v":""},null,{"$f":"VLOOKUP($A87,Results3,U$1,FALSE)","v":""},null,null,null,null,null,null,null,null,null,{"$f":"IF(LEN(G87)>1,1,0)","v":1}]
[{"$f":"B88&\"A\"","v":"59A"},59,{"$f":"VLOOKUP(B88,EventsOrder,2,FALSE)","v":3.15},{"$f":"VLOOKUP(B88,EventsOrder,4,FALSE)","v":"U11 Female"},"A",null,{"$f":"VLOOKUP($A88,Results3,G$1-8,FALSE)","v":26},null,{"$f":"VLOOKUP($A88,Results3,I$1-8,FALSE)","v":558},null,{"$f":"VLOOKUP($A88,Results3,K$1-8,FALSE)","v":401},null,{"$f":"VLOOKUP($A88,Results3,M$1-8,FALSE)","v":525},null,{"$f":"VLOOKUP($A88,Results3,O$1-8,FALSE)","v":117},null,{"$f":"VLOOKUP($A88,Results3,Q$1-8,FALSE)","v":0},null,{"$f":"VLOOKUP($A88,Results3,S$1-8,FALSE)","v":0},null,{"$f":"VLOOKUP($A88,Results3,U$1-8,FALSE)","v":0}]
[{"$f":"B88&\"A\"","v":"59A"},null,null,null,null,null,{"$f":"VLOOKUP($A89,Results3,H$1,FALSE)","v":"Tam"},{"$f":"VLOOKUP($A89,Results3,H$2,FALSE)","v":12.5},{"$f":"VLOOKUP($A89,Results3,J$1,FALSE)","v":"Ban"},{"$f":"VLOOKUP($A89,Results3,J$2,FALSE)","v":12.7},{"$f":"VLOOKUP($A89,Results3,L$1,FALSE)","v":"Wreake"},{"$f":"VLOOKUP($A89,Results3,L$2,FALSE)","v":12.7},{"$f":"VLOOKUP($A89,Results3,N$1,FALSE)","v":"Rad"},{"$f":"VLOOKUP($A89,Results3,N$2,FALSE)","v":14.3},{"$f":"VLOOKUP($A89,Results3,P$1,FALSE)","v":"Worc"},{"$f":"VLOOKUP($A89,Results3,P$2,FALSE)","v":14.5},{"$f":"VLOOKUP($A89,Results3,R$1,FALSE)","v":0},{"$f":"VLOOKUP($A89,Results3,R$2,FALSE)","v":0},{"$f":"VLOOKUP($A89,Results3,T$1,FALSE)","v":0},{"$f":"VLOOKUP($A89,Results3,T$2,FALSE)","v":0},{"$f":"VLOOKUP($A89,Results3,V$1,FALSE)","v":0},{"$f":"VLOOKUP($A89,Results3,V$2,FALSE)","v":0}]
[{"$f":"B88&\"B\"","v":"59B"},null,null,null,null,null,{"$f":"VLOOKUP($A90,Results3,G$1,FALSE)","v":"Ainhara Ly"},null,{"$f":"VLOOKUP($A90,Results3,I$1,FALSE)","v":"Olivia Cook"},null,{"$f":"VLOOKUP($A90,Results3,K$1,FALSE)","v":"Daisy Smith"},null,{"$f":"VLOOKUP($A90,Results3,M$1,FALSE)","v":"Alice Dixon"},null,{"$f":"VLOOKUP($A90,Results3,O$1,FALSE)","v":"Isabelle Parker"},null,{"$f":"VLOOKUP($A90,Results3,Q$1,FALSE)","v":"Ella Pearson"},null,{"$f":"VLOOKUP($A90,Results3,S$1,FALSE)","v":""},null,{"$f":"VLOOKUP($A90,Results3,U$1,FALSE)","v":""}]
[{"$f":"B88&\"B\"","v":"59B"},null,null,{"$f":"VLOOKUP(B88,EventsOrder,3,FALSE)","v":"75m  "},"B",{"$f":"VLOOKUP(B88,EventsOrder,5,FALSE)","v":"NS"},{"$f":"VLOOKUP($A91,Results3,G$1-8,FALSE)","v":524},null,{"$f":"VLOOKUP($A91,Results3,I$1-8,FALSE)","v":559},null,{"$f":"VLOOKUP($A91,Results3,K$1-8,FALSE)","v":25},null,{"$f":"VLOOKUP($A91,Results3,M$1-8,FALSE)","v":120},null,{"$f":"VLOOKUP($A91,Results3,O$1-8,FALSE)","v":402},null,{"$f":"VLOOKUP($A91,Results3,Q$1-8,FALSE)","v":201},null,{"$f":"VLOOKUP($A91,Results3,S$1-8,FALSE)","v":0},null,{"$f":"VLOOKUP($A91,Results3,U$1-8,FALSE)","v":0}]
[{"$f":"B88&\"B\"","v":"59B"},null,null,null,null,null,{"$f":"VLOOKUP($A92,Results3,H$1,FALSE)","v":"Rad"},{"$f":"VLOOKUP($A92,Results3,H$2,FALSE)","v":12.3},{"$f":"VLOOKUP($A92,Results3,J$1,FALSE)","v":"Ban"},{"$f":"VLOOKUP($A92,Results3,J$2,FALSE)","v":12.5},{"$f":"VLOOKUP($A92,Results3,L$1,FALSE)","v":"Tam"},{"$f":"VLOOKUP($A92,Results3,L$2,FALSE)","v":12.9},{"$f":"VLOOKUP($A92,Results3,N$1,FALSE)","v":"Worc"},{"$f":"VLOOKUP($A92,Results3,N$2,FALSE)","v":13.5},{"$f":"VLOOKUP($A92,Results3,P$1,FALSE)","v":"Wreake"},{"$f":"VLOOKUP($A92,Results3,P$2,FALSE)","v":14},{"$f":"VLOOKUP($A92,Results3,R$1,FALSE)","v":"DASH"},{"$f":"VLOOKUP($A92,Results3,R$2,FALSE)","v":14.8},{"$f":"VLOOKUP($A92,Results3,T$1,FALSE)","v":0},{"$f":"VLOOKUP($A92,Results3,T$2,FALSE)","v":0},{"$f":"VLOOKUP($A92,Results3,V$1,FALSE)","v":0},{"$f":"VLOOKUP($A92,Results3,V$2,FALSE)","v":0}]
[{"$f":"B94&\"A\"","v":"0A"},null,null,null,null,null,{"$f":"VLOOKUP($A93,Results3,G$1,FALSE)","v":""},null,{"$f":"VLOOKUP($A93,Results3,I$1,FALSE)","v":""},null,{"$f":"VLOOKUP($A93,Results3,K$1,FALSE)","v":""},null,{"$f":"VLOOKUP($A93,Results3,M$1,FALSE)","v":""},null,{"$f":"VLOOKUP($A93,Results3,O$1,FALSE)","v":""},null,{"$f":"VLOOKUP($A93,Results3,Q$1,FALSE)","v":""},null,{"$f":"VLOOKUP($A93,Results3,S$1,FALSE)","v":""},null,{"$f":"VLOOKUP($A93,Results3,U$1,FALSE)","v":""},null,null,null,null,null,null,null,null,null,{"$f":"IF(LEN(G93)>1,1,0)","v":0}]
[{"$f":"B94&\"A\"","v":"0A"},0,{"$f":"VLOOKUP(B94,EventsOrder,2,FALSE)","v":0},{"$f":"VLOOKUP(B94,EventsOrder,4,FALSE)","v":0},"A",null,{"$f":"VLOOKUP($A94,Results3,G$1-8,FALSE)","v":0},null,{"$f":"VLOOKUP($A94,Results3,I$1-8,FALSE)","v":0},null,{"$f":"VLOOKUP($A94,Results3,K$1-8,FALSE)","v":0},null,{"$f":"VLOOKUP($A94,Results3,M$1-8,FALSE)","v":0},null,{"$f":"VLOOKUP($A94,Results3,O$1-8,FALSE)","v":0},null,{"$f":"VLOOKUP($A94,Results3,Q$1-8,FALSE)","v":0},null,{"$f":"VLOOKUP($A94,Results3,S$1-8,FALSE)","v":0},null,{"$f":"VLOOKUP($A94,Results3,U$1-8,FALSE)","v":0}]
[{"$f":"B94&\"A\"","v":"0A"},null,null,null,null,null,{"$f":"VLOOKUP($A95,Results3,H$1,FALSE)","v":0},{"$f":"VLOOKUP($A95,Results3,H$2,FALSE)","v":0},{"$f":"VLOOKUP($A95,Results3,J$1,FALSE)","v":0},{"$f":"VLOOKUP($A95,Results3,J$2,FALSE)","v":0},{"$f":"VLOOKUP($A95,Results3,L$1,FALSE)","v":0},{"$f":"VLOOKUP($A95,Results3,L$2,FALSE)","v":0},{"$f":"VLOOKUP($A95,Results3,N$1,FALSE)","v":0},{"$f":"VLOOKUP($A95,Results3,N$2,FALSE)","v":0},{"$f":"VLOOKUP($A95,Results3,P$1,FALSE)","v":0},{"$f":"VLOOKUP($A95,Results3,P$2,FALSE)","v":0},{"$f":"VLOOKUP($A95,Results3,R$1,FALSE)","v":0},{"$f":"VLOOKUP($A95,Results3,R$2,FALSE)","v":0},{"$f":"VLOOKUP($A95,Results3,T$1,FALSE)","v":0},{"$f":"VLOOKUP($A95,Results3,T$2,FALSE)","v":0},{"$f":"VLOOKUP($A95,Results3,V$1,FALSE)","v":0},{"$f":"VLOOKUP($A95,Results3,V$2,FALSE)","v":0}]
[{"$f":"B94&\"B\"","v":"0B"},null,null,null,null,null,{"$f":"VLOOKUP($A96,Results3,G$1,FALSE)","v":""},null,{"$f":"VLOOKUP($A96,Results3,I$1,FALSE)","v":""},null,{"$f":"VLOOKUP($A96,Results3,K$1,FALSE)","v":""},null,{"$f":"VLOOKUP($A96,Results3,M$1,FALSE)","v":""},null,{"$f":"VLOOKUP($A96,Results3,O$1,FALSE)","v":""},null,{"$f":"VLOOKUP($A96,Results3,Q$1,FALSE)","v":""},null,{"$f":"VLOOKUP($A96,Results3,S$1,FALSE)","v":""},null,{"$f":"VLOOKUP($A96,Results3,U$1,FALSE)","v":""}]
[{"$f":"B94&\"B\"","v":"0B"},null,null,{"$f":"VLOOKUP(B94,EventsOrder,3,FALSE)","v":0},"B",{"$f":"VLOOKUP(B94,EventsOrder,5,FALSE)","v":" "},{"$f":"VLOOKUP($A97,Results3,G$1-8,FALSE)","v":0},null,{"$f":"VLOOKUP($A97,Results3,I$1-8,FALSE)","v":0},null,{"$f":"VLOOKUP($A97,Results3,K$1-8,FALSE)","v":0},null,{"$f":"VLOOKUP($A97,Results3,M$1-8,FALSE)","v":0},null,{"$f":"VLOOKUP($A97,Results3,O$1-8,FALSE)","v":0},null,{"$f":"VLOOKUP($A97,Results3,Q$1-8,FALSE)","v":0},null,{"$f":"VLOOKUP($A97,Results3,S$1-8,FALSE)","v":0},null,{"$f":"VLOOKUP($A97,Results3,U$1-8,FALSE)","v":0}]
[{"$f":"B94&\"B\"","v":"0B"},null,null,null,null,null,{"$f":"VLOOKUP($A98,Results3,H$1,FALSE)","v":0},{"$f":"VLOOKUP($A98,Results3,H$2,FALSE)","v":0},{"$f":"VLOOKUP($A98,Results3,J$1,FALSE)","v":0},{"$f":"VLOOKUP($A98,Results3,J$2,FALSE)","v":0},{"$f":"VLOOKUP($A98,Results3,L$1,FALSE)","v":0},{"$f":"VLOOKUP($A98,Results3,L$2,FALSE)","v":0},{"$f":"VLOOKUP($A98,Results3,N$1,FALSE)","v":0},{"$f":"VLOOKUP($A98,Results3,N$2,FALSE)","v":0},{"$f":"VLOOKUP($A98,Results3,P$1,FALSE)","v":0},{"$f":"VLOOKUP($A98,Results3,P$2,FALSE)","v":0},{"$f":"VLOOKUP($A98,Results3,R$1,FALSE)","v":0},{"$f":"VLOOKUP($A98,Results3,R$2,FALSE)","v":0},{"$f":"VLOOKUP($A98,Results3,T$1,FALSE)","v":0},{"$f":"VLOOKUP($A98,Results3,T$2,FALSE)","v":0},{"$f":"VLOOKUP($A98,Results3,V$1,FALSE)","v":0},{"$f":"VLOOKUP($A98,Results3,V$2,FALSE)","v":0}]
[null,null,null,"Relays"]
[{"$f":"B101&\"A\"","v":"81A"},null,null,null,null,null,{"$f":"VLOOKUP($A101,Results3,G$3,FALSE)","v":"Bicester"},null,{"$f":"VLOOKUP($A101,Results3,I$3,FALSE)","v":"Banbury"},null,{"$f":"VLOOKUP($A101,Results3,K$3,FALSE)","v":"Kettering"},null,{"$f":"VLOOKUP($A101,Results3,M$3,FALSE)","v":"Wreake Runners"},null,{"$f":"VLOOKUP($A101,Results3,O$3,FALSE)","v":"Radley"},null,{"$f":"VLOOKUP($A101,Results3,Q$3,FALSE)","v":"Tamworth"},null,{"$f":"VLOOKUP($A101,Results3,S$3,FALSE)","v":"Worcester"},null,{"$f":"VLOOKUP($A101,Results3,U$3,FALSE)","v":"Dudley & S'bridge"}]
[{"$f":"B101&\"A\"","v":"81A"},81,{"$f":"VLOOKUP(B101,EventsOrder,2,FALSE)","v":4.5},{"$f":"VLOOKUP(B101,EventsOrder,4,FALSE)","v":"U11 Fem/Male"},"A",null,{"$f":"VLOOKUP($A101,Results3,H$1,FALSE)","v":"Bic"},{"$f":"VLOOKUP($A101,Results3,H$2,FALSE)","v":62},{"$f":"VLOOKUP($A101,Results3,J$1,FALSE)","v":"Ban"},{"$f":"VLOOKUP($A101,Results3,J$2,FALSE)","v":63},{"$f":"VLOOKUP($A101,Results3,L$1,FALSE)","v":"Kett"},{"$f":"VLOOKUP($A101,Results3,L$2,FALSE)","v":66.8},{"$f":"VLOOKUP($A101,Results3,N$1,FALSE)","v":"Wreake"},{"$f":"VLOOKUP($A101,Results3,N$2,FALSE)","v":67.3},{"$f":"VLOOKUP($A101,Results3,P$1,FALSE)","v":"Rad"},{"$f":"VLOOKUP($A101,Results3,P$2,FALSE)","v":67.8},{"$f":"VLOOKUP($A101,Results3,R$1,FALSE)","v":"Tam"},{"$f":"VLOOKUP($A101,Results3,R$2,FALSE)","v":68.400000000000006},{"$f":"VLOOKUP($A101,Results3,T$1,FALSE)","v":"Worc"},{"$f":"VLOOKUP($A101,Results3,T$2,FALSE)","v":70.2},{"$f":"VLOOKUP($A101,Results3,V$1,FALSE)","v":"DASH"},{"$f":"VLOOKUP($A101,Results3,V$2,FALSE)","v":72.900000000000006},null,null,null,null,null,null,null,null,{"$f":"IF(LEN(G101)>1,1,0)","v":1}]
[{"$f":"B101&\"B\"","v":"81B"},null,null,null,null,1,{"$f":"IF(LEN(G$101)>1,HLOOKUP(G$101,Relays,$A488,FALSE),\"\")","v":"Isla Bohannon"},null,{"$f":"IF(LEN(I$101)>1,HLOOKUP(I$101,Relays,$A488,FALSE),\"\")","v":"Tilly Lainchbury"},null,{"$f":"IF(LEN(K$101)>1,HLOOKUP(K$101,Relays,$A488,FALSE),\"\")","v":"Alfie Frayne"},null,{"$f":"IF(LEN(M$101)>1,HLOOKUP(M$101,Relays,$A488,FALSE),\"\")","v":"Kiyomi Topham"},null,{"$f":"IF(LEN(O$101)>1,HLOOKUP(O$101,Relays,$A488,FALSE),\"\")","v":"Lily Black"},null,{"$f":"IF(LEN(Q$101)>1,HLOOKUP(Q$101,Relays,$A488,FALSE),\"\")","v":"Daisy Smith"},null,{"$f":"IF(LEN(S$101)>1,HLOOKUP(S$101,Relays,$A488,FALSE),\"\")","v":"Beth Hallam"},null,{"$f":"IF(LEN(U$101)>1,HLOOKUP(U$101,Relays,$A488,FALSE),\"\")","v":0}]
[{"$f":"B101&\"B\"","v":"81B"},null,null,{"$f":"VLOOKUP(B101,EventsOrder,3,FALSE)","v":"4 x 100m Mixed"},null,2,{"$f":"IF(LEN(G$101)>1,HLOOKUP(G$101,Relays,$A489,FALSE),\"\")","v":"Josephine Parker"},null,{"$f":"IF(LEN(I$101)>1,HLOOKUP(I$101,Relays,$A489,FALSE),\"\")","v":"Ethan Aldous"},null,{"$f":"IF(LEN(K$101)>1,HLOOKUP(K$101,Relays,$A489,FALSE),\"\")","v":"Aaron Holloway"},null,{"$f":"IF(LEN(M$101)>1,HLOOKUP(M$101,Relays,$A489,FALSE),\"\")","v":"Isla Cullen"},null,{"$f":"IF(LEN(O$101)>1,HLOOKUP(O$101,Relays,$A489,FALSE),\"\")","v":"Audrey Winstone"},null,{"$f":"IF(LEN(Q$101)>1,HLOOKUP(Q$101,Relays,$A489,FALSE),\"\")","v":"Angelica Ramkee"},null,{"$f":"IF(LEN(S$101)>1,HLOOKUP(S$101,Relays,$A489,FALSE),\"\")","v":"Ellis Hartland"},null,{"$f":"IF(LEN(U$101)>1,HLOOKUP(U$101,Relays,$A489,FALSE),\"\")","v":0}]
[{"$f":"B101&\"R\"","v":"81R"},null,null,null,"B",3,{"$f":"IF(LEN(G$101)>1,HLOOKUP(G$101,Relays,$A490,FALSE),\"\")","v":"Seion Alexander"},null,{"$f":"IF(LEN(I$101)>1,HLOOKUP(I$101,Relays,$A490,FALSE),\"\")","v":"Eimear Moss"},null,{"$f":"IF(LEN(K$101)>1,HLOOKUP(K$101,Relays,$A490,FALSE),\"\")","v":"Kate Nelis"},null,{"$f":"IF(LEN(M$101)>1,HLOOKUP(M$101,Relays,$A490,FALSE),\"\")","v":"Finley Venables"},null,{"$f":"IF(LEN(O$101)>1,HLOOKUP(O$101,Relays,$A490,FALSE),\"\")","v":"Jake Edwards"},null,{"$f":"IF(LEN(Q$101)>1,HLOOKUP(Q$101,Relays,$A490,FALSE),\"\")","v":"Madison Rose Blencowe"},null,{"$f":"IF(LEN(S$101)>1,HLOOKUP(S$101,Relays,$A490,FALSE),\"\")","v":"Molly Davey"},null,{"$f":"IF(LEN(U$101)>1,HLOOKUP(U$101,Relays,$A490,FALSE),\"\")","v":0}]
[{"$f":"B101&\"S\"","v":"81S"},null,null,null,null,4,{"$f":"IF(LEN(G$101)>1,HLOOKUP(G$101,Relays,$A491,FALSE),\"\")","v":"Joshua Parker"},null,{"$f":"IF(LEN(I$101)>1,HLOOKUP(I$101,Relays,$A491,FALSE),\"\")","v":"Archie Street"},null,{"$f":"IF(LEN(K$101)>1,HLOOKUP(K$101,Relays,$A491,FALSE),\"\")","v":"Niamh Sinnott"},null,{"$f":"IF(LEN(M$101)>1,HLOOKUP(M$101,Relays,$A491,FALSE),\"\")","v":"Sam Orange"},null,{"$f":"IF(LEN(O$101)>1,HLOOKUP(O$101,Relays,$A491,FALSE),\"\")","v":"Quinn Miell-Ingram"},null,{"$f":"IF(LEN(Q$101)>1,HLOOKUP(Q$101,Relays,$A491,FALSE),\"\")","v":"Saoirse Au"},null,{"$f":"IF(LEN(S$101)>1,HLOOKUP(S$101,Relays,$A491,FALSE),\"\")","v":"Linus Burnage"},null,{"$f":"IF(LEN(U$101)>1,HLOOKUP(U$101,Relays,$A491,FALSE),\"\")","v":0}]
[null,{"$f":"COUNTIF(B59:B105,\">0\")","v":7},null,null,null,null,null,null,null,null,null,null,null,null,null,null,null,null,null,null,"Total Points",null,{"$f":"SUM(W58:W105)","v":44},53,10,26,41,31,49,24,{"$f":"SUM(AE58:AE104)","v":7},{"$f":"SUM(AF104:AF105)","v":0},0,0,0,0,0]
[null,null,null,null,null,null,null,null,null,null,null,null,null,null,null,null,null,null,null,null,"Match Position",null,{"$f":"RANK(W106,$W106:$AD106)","v":3},1,8,6,4,5,2,7]
[]
[null,"Event No",null,null,null,null,null,null,null,null,{"$f":"CONCATENATE('Event Details'!D$5,\" \",\"Results\")","v":"Heart of England League Results"},null,null,null,null,null,null,null,null,null,null,null,{"$f":"W$8","v":"Banbury"},{"$f":"X$8","v":"Bicester"},"Dudley & S'bridge","Kettering","Radley","Tamworth","Wreake Runners","Worcester"]
[null,null,null,"Division",{"$f":"'Event Details'!D$9","v":2},null,null,"U13 Male",null,null,"Venue",{"$f":"'Event Details'!F$17","v":"Worcester"},null,null,null,null,"Date",{"$f":"'Event Details'!B$17","v":"5th June 2016"}]
[null,null,"Time","Event",null,"NS","First",null,"Second",null,"Third",null,"Fourth",null,"Fifth",null,"Sixth",null,"Seventh",null,"Eighth",null,{"$f":"W$10","v":"J"},{"$f":"X$10","v":"P"},"B","I","R","F","X","Y"]
[{"$f":"B113&\"A\"","v":"5A"},null,null,{"$f":"VLOOKUP(B113,EventsOrder,4,FALSE)","v":"U13 Male"},"A",null,{"$f":"VLOOKUP($A112,Results3,G$3,FALSE)","v":"Cole Sinnott"},null,{"$f":"VLOOKUP($A112,Results3,I$3,FALSE)","v":"Theau Seabrook"},null,{"$f":"VLOOKUP($A112,Results3,K$3,FALSE)","v":"Jack Compton"},null,{"$f":"VLOOKUP($A112,Results3,M$3,FALSE)","v":"Jacob Khan"},null,{"$f":"VLOOKUP($A112,Results3,O$3,FALSE)","v":""},null,{"$f":"VLOOKUP($A112,Results3,Q$3,FALSE)","v":""},null,{"$f":"VLOOKUP($A112,Results3,S$3,FALSE)","v":""},null,{"$f":"VLOOKUP($A112,Results3,U$3,FALSE)","v":""},null,null,null,null,null,null,null,null,null,{"$f":"IF(LEN(G112)>1,1,0)","v":1}]
[{"$f":"B113&\"A\"","v":"5A"},5,{"$f":"VLOOKUP(B113,EventsOrder,2,FALSE)","v":12},null,null,null,{"$f":"VLOOKUP($A113,Results3,G$4,FALSE)","v":"Kett"},{"$f":"VLOOKUP($A113,Results3,H$3,FALSE)","v":1.35},{"$f":"VLOOKUP($A113,Results3,I$4,FALSE)","v":"Rad"},{"$f":"VLOOKUP($A113,Results3,J$3,FALSE)","v":1.3},{"$f":"VLOOKUP($A113,Results3,K$4,FALSE)","v":"DASH"},{"$f":"VLOOKUP($A113,Results3,L$3,FALSE)","v":1.2},{"$f":"VLOOKUP($A113,Results3,M$4,FALSE)","v":"Worc"},{"$f":"VLOOKUP($A113,Results3,N$3,FALSE)","v":1.1000000000000001},{"$f":"VLOOKUP($A113,Results3,O$4,FALSE)","v":0},{"$f":"VLOOKUP($A113,Results3,P$3,FALSE)","v":0},{"$f":"VLOOKUP($A113,Results3,Q$4,FALSE)","v":0},{"$f":"VLOOKUP($A113,Results3,R$3,FALSE)","v":0},{"$f":"VLOOKUP($A113,Results3,S$4,FALSE)","v":0},{"$f":"VLOOKUP($A113,Results3,T$3,FALSE)","v":0},{"$f":"VLOOKUP($A113,Results3,U$4,FALSE)","v":0},{"$f":"VLOOKUP($A113,Results3,V$3,FALSE)","v":0},{"$f":"VLOOKUP($A113,Results3,W$4,FALSE)","v":0},{"$f":"VLOOKUP($A113,Results3,X$4,FALSE)","v":0},6,8,7,0,0,5]
[{"$f":"B113&\"B\"","v":"5B"},null,null,{"$f":"VLOOKUP(B113,EventsOrder,3,FALSE)","v":"High Jump"},"B",null,{"$f":"VLOOKUP($A114,Results3,G$3,FALSE)","v":""},null,{"$f":"VLOOKUP($A114,Results3,I$3,FALSE)","v":""},null,{"$f":"VLOOKUP($A114,Results3,K$3,FALSE)","v":""},null,{"$f":"VLOOKUP($A114,Results3,M$3,FALSE)","v":""},null,{"$f":"VLOOKUP($A114,Results3,O$3,FALSE)","v":""},null,{"$f":"VLOOKUP($A114,Results3,Q$3,FALSE)","v":""},null,{"$f":"VLOOKUP($A114,Results3,S$3,FALSE)","v":""},null,{"$f":"VLOOKUP($A114,Results3,U$3,FALSE)","v":""}]
[{"$f":"B113&\"B\"","v":"5B"},null,null,null,null,null,{"$f":"VLOOKUP($A115,Results3,G$4,FALSE)","v":0},{"$f":"VLOOKUP($A115,Results3,H$3,FALSE)","v":0},{"$f":"VLOOKUP($A115,Results3,I$4,FALSE)","v":0},{"$f":"VLOOKUP($A115,Results3,J$3,FALSE)","v":0},{"$f":"VLOOKUP($A115,Results3,K$4,FALSE)","v":0},{"$f":"VLOOKUP($A115,Results3,L$3,FALSE)","v":0},{"$f":"VLOOKUP($A115,Results3,M$4,FALSE)","v":0},{"$f":"VLOOKUP($A115,Results3,N$3,FALSE)","v":0},{"$f":"VLOOKUP($A115,Results3,O$4,FALSE)","v":0},{"$f":"VLOOKUP($A115,Results3,P$3,FALSE)","v":0},{"$f":"VLOOKUP($A115,Results3,Q$4,FALSE)","v":0},{"$f":"VLOOKUP($A115,Results3,R$3,FALSE)","v":0},{"$f":"VLOOKUP($A115,Results3,S$4,FALSE)","v":0},{"$f":"VLOOKUP($A115,Results3,T$3,FALSE)","v":0},{"$f":"VLOOKUP($A115,Results3,U$4,FALSE)","v":0},{"$f":"VLOOKUP($A115,Results3,V$3,FALSE)","v":0},{"$f":"VLOOKUP($A115,Results3,W$4,FALSE)","v":0},0,0,0,0,0,0,0]
[{"$f":"B117&\"A\"","v":"12A"},null,null,{"$f":"VLOOKUP(B117,EventsOrder,4,FALSE)","v":"U13 Male"},"A",null,{"$f":"VLOOKUP($A116,Results3,G$3,FALSE)","v":"Rowan Miell-Ingram"},null,{"$f":"VLOOKUP($A116,Results3,I$3,FALSE)","v":"Ben Harle"},null,{"$f":"VLOOKUP($A116,Results3,K$3,FALSE)","v":"Ethan Patel"},null,{"$f":"VLOOKUP($A116,Results3,M$3,FALSE)","v":"Archie Jones"},null,{"$f":"VLOOKUP($A116,Results3,O$3,FALSE)","v":"Michael Cadle"},null,{"$f":"VLOOKUP($A116,Results3,Q$3,FALSE)","v":"Ben Brooker"},null,{"$f":"VLOOKUP($A116,Results3,S$3,FALSE)","v":"Daniel Aston"},null,{"$f":"VLOOKUP($A116,Results3,U$3,FALSE)","v":"John Sparry"},null,null,null,null,null,null,null,null,null,{"$f":"IF(LEN(G116)>1,1,0)","v":1}]
[{"$f":"B117&\"A\"","v":"12A"},12,{"$f":"VLOOKUP(B117,EventsOrder,2,FALSE)","v":12.2},null,null,null,{"$f":"VLOOKUP($A117,Results3,G$4,FALSE)","v":"Rad"},{"$f":"VLOOKUP($A117,Results3,H$3,FALSE)","v":"2.28.5"},{"$f":"VLOOKUP($A117,Results3,I$4,FALSE)","v":"Worc"},{"$f":"VLOOKUP($A117,Results3,J$3,FALSE)","v":"2.38.7"},{"$f":"VLOOKUP($A117,Results3,K$4,FALSE)","v":"Wreake"},{"$f":"VLOOKUP($A117,Results3,L$3,FALSE)","v":"2.42.4"},{"$f":"VLOOKUP($A117,Results3,M$4,FALSE)","v":"Ban"},{"$f":"VLOOKUP($A117,Results3,N$3,FALSE)","v":"2.44.4"},{"$f":"VLOOKUP($A117,Results3,O$4,FALSE)","v":"Bic"},{"$f":"VLOOKUP($A117,Results3,P$3,FALSE)","v":"2.44.4"},{"$f":"VLOOKUP($A117,Results3,Q$4,FALSE)","v":"Kett"},{"$f":"VLOOKUP($A117,Results3,R$3,FALSE)","v":"2.46.3"},{"$f":"VLOOKUP($A117,Results3,S$4,FALSE)","v":"Tam"},{"$f":"VLOOKUP($A117,Results3,T$3,FALSE)","v":"2.48.6"},{"$f":"VLOOKUP($A117,Results3,U$4,FALSE)","v":"DASH"},{"$f":"VLOOKUP($A117,Results3,V$3,FALSE)","v":"2.53.8"},{"$f":"VLOOKUP($A117,Results3,W$4,FALSE)","v":5},{"$f":"VLOOKUP($A117,Results3,X$4,FALSE)","v":4},1,3,8,2,6,7]
[{"$f":"B117&\"B\"","v":"12B"},null,null,{"$f":"VLOOKUP(B117,EventsOrder,3,FALSE)","v":"800m"},"B",null,{"$f":"VLOOKUP($A118,Results3,G$3,FALSE)","v":"Euan Gibbs"},null,{"$f":"VLOOKUP($A118,Results3,I$3,FALSE)","v":"Roan Stillion"},null,{"$f":"VLOOKUP($A118,Results3,K$3,FALSE)","v":"Riley Carpenter"},null,{"$f":"VLOOKUP($A118,Results3,M$3,FALSE)","v":"Joshua Geddes"},null,{"$f":"VLOOKUP($A118,Results3,O$3,FALSE)","v":"Kian Dickson"},null,{"$f":"VLOOKUP($A118,Results3,Q$3,FALSE)","v":""},null,{"$f":"VLOOKUP($A118,Results3,S$3,FALSE)","v":""},null,{"$f":"VLOOKUP($A118,Results3,U$3,FALSE)","v":""}]
[{"$f":"B117&\"B\"","v":"12B"},null,null,null,null,null,{"$f":"VLOOKUP($A119,Results3,G$4,FALSE)","v":"Wreake"},{"$f":"VLOOKUP($A119,Results3,H$3,FALSE)","v":"2.35.6"},{"$f":"VLOOKUP($A119,Results3,I$4,FALSE)","v":"Rad"},{"$f":"VLOOKUP($A119,Results3,J$3,FALSE)","v":"2.41.2"},{"$f":"VLOOKUP($A119,Results3,K$4,FALSE)","v":"Worc"},{"$f":"VLOOKUP($A119,Results3,L$3,FALSE)","v":"2.44.0"},{"$f":"VLOOKUP($A119,Results3,M$4,FALSE)","v":"Kett"},{"$f":"VLOOKUP($A119,Results3,N$3,FALSE)","v":"2.46.3"},{"$f":"VLOOKUP($A119,Results3,O$4,FALSE)","v":"Tam"},{"$f":"VLOOKUP($A119,Results3,P$3,FALSE)","v":"2.59.0"},{"$f":"VLOOKUP($A119,Results3,Q$4,FALSE)","v":0},{"$f":"VLOOKUP($A119,Results3,R$3,FALSE)","v":0},{"$f":"VLOOKUP($A119,Results3,S$4,FALSE)","v":0},{"$f":"VLOOKUP($A119,Results3,T$3,FALSE)","v":0},{"$f":"VLOOKUP($A119,Results3,U$4,FALSE)","v":0},{"$f":"VLOOKUP($A119,Results3,V$3,FALSE)","v":0},{"$f":"VLOOKUP($A119,Results3,W$4,FALSE)","v":0},0,0,5,7,4,8,6]
[{"$f":"B121&\"A\"","v":"15A"},null,null,{"$f":"VLOOKUP(B121,EventsOrder,4,FALSE)","v":"U13 Male"},"A",null,{"$f":"VLOOKUP($A120,Results3,G$3,FALSE)","v":"Christopher Charles"},null,{"$f":"VLOOKUP($A120,Results3,I$3,FALSE)","v":"Oliver Laskey"},null,{"$f":"VLOOKUP($A120,Results3,K$3,FALSE)","v":"Samuel Rayson"},null,{"$f":"VLOOKUP($A120,Results3,M$3,FALSE)","v":"Theau Seabrook"},null,{"$f":"VLOOKUP($A120,Results3,O$3,FALSE)","v":"Alfie Robbins"},null,{"$f":"VLOOKUP($A120,Results3,Q$3,FALSE)","v":""},null,{"$f":"VLOOKUP($A120,Results3,S$3,FALSE)","v":""},null,{"$f":"VLOOKUP($A120,Results3,U$3,FALSE)","v":""},null,null,null,null,null,null,null,null,null,{"$f":"IF(LEN(G120)>1,1,0)","v":1}]
[{"$f":"B121&\"A\"","v":"15A"},15,{"$f":"VLOOKUP(B121,EventsOrder,2,FALSE)","v":12.35},null,null,null,{"$f":"VLOOKUP($A121,Results3,G$4,FALSE)","v":"Ban"},{"$f":"VLOOKUP($A121,Results3,H$3,FALSE)","v":12.6},{"$f":"VLOOKUP($A121,Results3,I$4,FALSE)","v":"Kett"},{"$f":"VLOOKUP($A121,Results3,J$3,FALSE)","v":14},{"$f":"VLOOKUP($A121,Results3,K$4,FALSE)","v":"Bic"},{"$f":"VLOOKUP($A121,Results3,L$3,FALSE)","v":14.5},{"$f":"VLOOKUP($A121,Results3,M$4,FALSE)","v":"Rad"},{"$f":"VLOOKUP($A121,Results3,N$3,FALSE)","v":14.6},{"$f":"VLOOKUP($A121,Results3,O$4,FALSE)","v":"Worc"},{"$f":"VLOOKUP($A121,Results3,P$3,FALSE)","v":16.899999999999999},{"$f":"VLOOKUP($A121,Results3,Q$4,FALSE)","v":0},{"$f":"VLOOKUP($A121,Results3,R$3,FALSE)","v":0},{"$f":"VLOOKUP($A121,Results3,S$4,FALSE)","v":0},{"$f":"VLOOKUP($A121,Results3,T$3,FALSE)","v":0},{"$f":"VLOOKUP($A121,Results3,U$4,FALSE)","v":0},{"$f":"VLOOKUP($A121,Results3,V$3,FALSE)","v":0},{"$f":"VLOOKUP($A121,Results3,W$4,FALSE)","v":8},{"$f":"VLOOKUP($A121,Results3,X$4,FALSE)","v":6},0,7,5,0,0,4]
[{"$f":"B121&\"B\"","v":"15B"},null,null,{"$f":"VLOOKUP(B121,EventsOrder,3,FALSE)","v":"75m hurdles"},"B",null,{"$f":"VLOOKUP($A122,Results3,G$3,FALSE)","v":"Josh Cumberland"},null,{"$f":"VLOOKUP($A122,Results3,I$3,FALSE)","v":""},null,{"$f":"VLOOKUP($A122,Results3,K$3,FALSE)","v":""},null,{"$f":"VLOOKUP($A122,Results3,M$3,FALSE)","v":""},null,{"$f":"VLOOKUP($A122,Results3,O$3,FALSE)","v":""},null,{"$f":"VLOOKUP($A122,Results3,Q$3,FALSE)","v":""},null,{"$f":"VLOOKUP($A122,Results3,S$3,FALSE)","v":""},null,{"$f":"VLOOKUP($A122,Results3,U$3,FALSE)","v":""}]
[{"$f":"B121&\"B\"","v":"15B"},null,null,null,null,null,{"$f":"VLOOKUP($A123,Results3,G$4,FALSE)","v":"Rad"},{"$f":"VLOOKUP($A123,Results3,H$3,FALSE)","v":18},{"$f":"VLOOKUP($A123,Results3,I$4,FALSE)","v":0},{"$f":"VLOOKUP($A123,Results3,J$3,FALSE)","v":0},{"$f":"VLOOKUP($A123,Results3,K$4,FALSE)","v":0},{"$f":"VLOOKUP($A123,Results3,L$3,FALSE)","v":0},{"$f":"VLOOKUP($A123,Results3,M$4,FALSE)","v":0},{"$f":"VLOOKUP($A123,Results3,N$3,FALSE)","v":0},{"$f":"VLOOKUP($A123,Results3,O$4,FALSE)","v":0},{"$f":"VLOOKUP($A123,Results3,P$3,FALSE)","v":0},{"$f":"VLOOKUP($A123,Results3,Q$4,FALSE)","v":0},{"$f":"VLOOKUP($A123,Results3,R$3,FALSE)","v":0},{"$f":"VLOOKUP($A123,Results3,S$4,FALSE)","v":0},{"$f":"VLOOKUP($A123,Results3,T$3,FALSE)","v":0},{"$f":"VLOOKUP($A123,Results3,U$4,FALSE)","v":0},{"$f":"VLOOKUP($A123,Results3,V$3,FALSE)","v":0},{"$f":"VLOOKUP($A123,Results3,W$4,FALSE)","v":0},0,0,0,8,0,0,0]
[{"$f":"B125&\"A\"","v":"24A"},null,null,{"$f":"VLOOKUP(B125,EventsOrder,4,FALSE)","v":"U13 Male"},"A",null,{"$f":"VLOOKUP($A124,Results3,G$3,FALSE)","v":""},null,{"$f":"VLOOKUP($A124,Results3,I$3,FALSE)","v":""},null,{"$f":"VLOOKUP($A124,Results3,K$3,FALSE)","v":""},null,{"$f":"VLOOKUP($A124,Results3,M$3,FALSE)","v":""},null,{"$f":"VLOOKUP($A124,Results3,O$3,FALSE)","v":""},null,{"$f":"VLOOKUP($A124,Results3,Q$3,FALSE)","v":""},null,{"$f":"VLOOKUP($A124,Results3,S$3,FALSE)","v":""},null,{"$f":"VLOOKUP($A124,Results3,U$3,FALSE)","v":""},null,null,null,null,null,null,null,null,null,{"$f":"IF(LEN(G124)>1,1,0)","v":0}]
[{"$f":"B125&\"A\"","v":"24A"},24,{"$f":"VLOOKUP(B125,EventsOrder,2,FALSE)","v":1},null,null,null,{"$f":"VLOOKUP($A125,Results3,G$4,FALSE)","v":0},{"$f":"VLOOKUP($A125,Results3,H$3,FALSE)","v":0},{"$f":"VLOOKUP($A125,Results3,I$4,FALSE)","v":0},{"$f":"VLOOKUP($A125,Results3,J$3,FALSE)","v":0},{"$f":"VLOOKUP($A125,Results3,K$4,FALSE)","v":0},{"$f":"VLOOKUP($A125,Results3,L$3,FALSE)","v":0},{"$f":"VLOOKUP($A125,Results3,M$4,FALSE)","v":0},{"$f":"VLOOKUP($A125,Results3,N$3,FALSE)","v":0},{"$f":"VLOOKUP($A125,Results3,O$4,FALSE)","v":0},{"$f":"VLOOKUP($A125,Results3,P$3,FALSE)","v":0},{"$f":"VLOOKUP($A125,Results3,Q$4,FALSE)","v":0},{"$f":"VLOOKUP($A125,Results3,R$3,FALSE)","v":0},{"$f":"VLOOKUP($A125,Results3,S$4,FALSE)","v":0},{"$f":"VLOOKUP($A125,Results3,T$3,FALSE)","v":0},{"$f":"VLOOKUP($A125,Results3,U$4,FALSE)","v":0},{"$f":"VLOOKUP($A125,Results3,V$3,FALSE)","v":0},{"$f":"VLOOKUP($A125,Results3,W$4,FALSE)","v":0},{"$f":"VLOOKUP($A125,Results3,X$4,FALSE)","v":0},0,0,0,0,0,0]
[{"$f":"B125&\"B\"","v":"24B"},null,null,{"$f":"VLOOKUP(B125,EventsOrder,3,FALSE)","v":"Javelin"},"B",null,{"$f":"VLOOKUP($A126,Results3,G$3,FALSE)","v":""},null,{"$f":"VLOOKUP($A126,Results3,I$3,FALSE)","v":""},null,{"$f":"VLOOKUP($A126,Results3,K$3,FALSE)","v":""},null,{"$f":"VLOOKUP($A126,Results3,M$3,FALSE)","v":""},null,{"$f":"VLOOKUP($A126,Results3,O$3,FALSE)","v":""},null,{"$f":"VLOOKUP($A126,Results3,Q$3,FALSE)","v":""},null,{"$f":"VLOOKUP($A126,Results3,S$3,FALSE)","v":""},null,{"$f":"VLOOKUP($A126,Results3,U$3,FALSE)","v":""}]
[{"$f":"B125&\"B\"","v":"24B"},null,null,null,null,null,{"$f":"VLOOKUP($A127,Results3,G$4,FALSE)","v":0},{"$f":"VLOOKUP($A127,Results3,H$3,FALSE)","v":0},{"$f":"VLOOKUP($A127,Results3,I$4,FALSE)","v":0},{"$f":"VLOOKUP($A127,Results3,J$3,FALSE)","v":0},{"$f":"VLOOKUP($A127,Results3,K$4,FALSE)","v":0},{"$f":"VLOOKUP($A127,Results3,L$3,FALSE)","v":0},{"$f":"VLOOKUP($A127,Results3,M$4,FALSE)","v":0},{"$f":"VLOOKUP($A127,Results3,N$3,FALSE)","v":0},{"$f":"VLOOKUP($A127,Results3,O$4,FALSE)","v":0},{"$f":"VLOOKUP($A127,Results3,P$3,FALSE)","v":0},{"$f":"VLOOKUP($A127,Results3,Q$4,FALSE)","v":0},{"$f":"VLOOKUP($A127,Results3,R$3,FALSE)","v":0},{"$f":"VLOOKUP($A127,Results3,S$4,FALSE)","v":0},{"$f":"VLOOKUP($A127,Results3,T$3,FALSE)","v":0},{"$f":"VLOOKUP($A127,Results3,U$4,FALSE)","v":0},{"$f":"VLOOKUP($A127,Results3,V$3,FALSE)","v":0},{"$f":"VLOOKUP($A127,Results3,W$4,FALSE)","v":0},0,0,0,0,0,0,0]
[{"$f":"B129&\"A\"","v":"41A"},null,null,{"$f":"VLOOKUP(B129,EventsOrder,4,FALSE)","v":"U13 Male"},"A",null,{"$f":"VLOOKUP($A128,Results3,G$3,FALSE)","v":"Max Mowforth"},null,{"$f":"VLOOKUP($A128,Results3,I$3,FALSE)","v":"David Seidu"},null,{"$f":"VLOOKUP($A128,Results3,K$3,FALSE)","v":"Christopher Charles"},null,{"$f":"VLOOKUP($A128,Results3,M$3,FALSE)","v":"Jack Compton"},null,{"$f":"VLOOKUP($A128,Results3,O$3,FALSE)","v":"Adam Dudley"},null,{"$f":"VLOOKUP($A128,Results3,Q$3,FALSE)","v":"Ryan Simpson"},null,{"$f":"VLOOKUP($A128,Results3,S$3,FALSE)","v":"Samuel Rose"},null,{"$f":"VLOOKUP($A128,Results3,U$3,FALSE)","v":"Oran Au"},null,null,null,null,null,null,null,null,null,{"$f":"IF(LEN(G128)>1,1,0)","v":1}]
[{"$f":"B129&\"A\"","v":"41A"},41,{"$f":"VLOOKUP(B129,EventsOrder,2,FALSE)","v":2.25},null,null,null,{"$f":"VLOOKUP($A129,Results3,G$4,FALSE)","v":"Kett"},{"$f":"VLOOKUP($A129,Results3,H$3,FALSE)","v":13.2},{"$f":"VLOOKUP($A129,Results3,I$4,FALSE)","v":"Wreake"},{"$f":"VLOOKUP($A129,Results3,J$3,FALSE)","v":13.5},{"$f":"VLOOKUP($A129,Results3,K$4,FALSE)","v":"Ban"},{"$f":"VLOOKUP($A129,Results3,L$3,FALSE)","v":13.7},{"$f":"VLOOKUP($A129,Results3,M$4,FALSE)","v":"DASH"},{"$f":"VLOOKUP($A129,Results3,N$3,FALSE)","v":13.7},{"$f":"VLOOKUP($A129,Results3,O$4,FALSE)","v":"Worc"},{"$f":"VLOOKUP($A129,Results3,P$3,FALSE)","v":14},{"$f":"VLOOKUP($A129,Results3,Q$4,FALSE)","v":"Bic"},{"$f":"VLOOKUP($A129,Results3,R$3,FALSE)","v":14.5},{"$f":"VLOOKUP($A129,Results3,S$4,FALSE)","v":"Rad"},{"$f":"VLOOKUP($A129,Results3,T$3,FALSE)","v":14.9},{"$f":"VLOOKUP($A129,Results3,U$4,FALSE)","v":"Tam"},{"$f":"VLOOKUP($A129,Results3,V$3,FALSE)","v":15.2},{"$f":"VLOOKUP($A129,Results3,W$4,FALSE)","v":6},{"$f":"VLOOKUP($A129,Results3,X$4,FALSE)","v":3},5,8,2,1,7,4]
[{"$f":"B129&\"B\"","v":"41B"},null,null,{"$f":"VLOOKUP(B129,EventsOrder,3,FALSE)","v":"100m"},"B",null,{"$f":"VLOOKUP($A130,Results3,G$3,FALSE)","v":"Cole Sinnott"},null,{"$f":"VLOOKUP($A130,Results3,I$3,FALSE)","v":"Tom Fallon"},null,{"$f":"VLOOKUP($A130,Results3,K$3,FALSE)","v":"Archie Jones"},null,{"$f":"VLOOKUP($A130,Results3,M$3,FALSE)","v":"Kai Buckley"},null,{"$f":"VLOOKUP($A130,Results3,O$3,FALSE)","v":"Theau Seabrook"},null,{"$f":"VLOOKUP($A130,Results3,Q$3,FALSE)","v":"Harry Cunningham"},null,{"$f":"VLOOKUP($A130,Results3,S$3,FALSE)","v":"Michael Cadle"},null,{"$f":"VLOOKUP($A130,Results3,U$3,FALSE)","v":"Mackenzie Bloxham"}]
[{"$f":"B129&\"B\"","v":"41B"},null,null,null,null,null,{"$f":"VLOOKUP($A131,Results3,G$4,FALSE)","v":"Kett"},{"$f":"VLOOKUP($A131,Results3,H$3,FALSE)","v":14.1},{"$f":"VLOOKUP($A131,Results3,I$4,FALSE)","v":"DASH"},{"$f":"VLOOKUP($A131,Results3,J$3,FALSE)","v":14.4},{"$f":"VLOOKUP($A131,Results3,K$4,FALSE)","v":"Ban"},{"$f":"VLOOKUP($A131,Results3,L$3,FALSE)","v":14.4},{"$f":"VLOOKUP($A131,Results3,M$4,FALSE)","v":"Tam"},{"$f":"VLOOKUP($A131,Results3,N$3,FALSE)","v":14.8},{"$f":"VLOOKUP($A131,Results3,O$4,FALSE)","v":"Rad"},{"$f":"VLOOKUP($A131,Results3,P$3,FALSE)","v":14.8},{"$f":"VLOOKUP($A131,Results3,Q$4,FALSE)","v":"Worc"},{"$f":"VLOOKUP($A131,Results3,R$3,FALSE)","v":14.9},{"$f":"VLOOKUP($A131,Results3,S$4,FALSE)","v":"Bic"},{"$f":"VLOOKUP($A131,Results3,T$3,FALSE)","v":15.4},{"$f":"VLOOKUP($A131,Results3,U$4,FALSE)","v":"Wreake"},{"$f":"VLOOKUP($A131,Results3,V$3,FALSE)","v":16.5},{"$f":"VLOOKUP($A131,Results3,W$4,FALSE)","v":6},2,7,8,4,5,1,3]
[{"$f":"B133&\"A\"","v":"52A"},null,null,{"$f":"VLOOKUP(B133,EventsOrder,4,FALSE)","v":"U13 Male"},"A",null,{"$f":"VLOOKUP($A132,Results3,G$3,FALSE)","v":"Samuel Harrison"},null,{"$f":"VLOOKUP($A132,Results3,I$3,FALSE)","v":"Alex Santafe"},null,{"$f":"VLOOKUP($A132,Results3,K$3,FALSE)","v":"Kai Buckley"},null,{"$f":"VLOOKUP($A132,Results3,M$3,FALSE)","v":"Matthew Reuben"},null,{"$f":"VLOOKUP($A132,Results3,O$3,FALSE)","v":"John Sparry"},null,{"$f":"VLOOKUP($A132,Results3,Q$3,FALSE)","v":"Samuel Rayson"},null,{"$f":"VLOOKUP($A132,Results3,S$3,FALSE)","v":"Benjamin Cumberland"},null,{"$f":"VLOOKUP($A132,Results3,U$3,FALSE)","v":""},null,null,null,null,null,null,null,null,null,{"$f":"IF(LEN(G132)>1,1,0)","v":1}]
[{"$f":"B133&\"A\"","v":"52A"},52,{"$f":"VLOOKUP(B133,EventsOrder,2,FALSE)","v":2.4},null,null,null,{"$f":"VLOOKUP($A133,Results3,G$4,FALSE)","v":"Kett"},{"$f":"VLOOKUP($A133,Results3,H$3,FALSE)","v":7.48},{"$f":"VLOOKUP($A133,Results3,I$4,FALSE)","v":"Worc"},{"$f":"VLOOKUP($A133,Results3,J$3,FALSE)","v":5.78},{"$f":"VLOOKUP($A133,Results3,K$4,FALSE)","v":"Tam"},{"$f":"VLOOKUP($A133,Results3,L$3,FALSE)","v":5},{"$f":"VLOOKUP($A133,Results3,M$4,FALSE)","v":"Wreake"},{"$f":"VLOOKUP($A133,Results3,N$3,FALSE)","v":4.9400000000000004},{"$f":"VLOOKUP($A133,Results3,O$4,FALSE)","v":"DASH"},{"$f":"VLOOKUP($A133,Results3,P$3,FALSE)","v":4.78},{"$f":"VLOOKUP($A133,Results3,Q$4,FALSE)","v":"Bic"},{"$f":"VLOOKUP($A133,Results3,R$3,FALSE)","v":4.6399999999999997},{"$f":"VLOOKUP($A133,Results3,S$4,FALSE)","v":"Rad"},{"$f":"VLOOKUP($A133,Results3,T$3,FALSE)","v":4.41},{"$f":"VLOOKUP($A133,Results3,U$4,FALSE)","v":0},{"$f":"VLOOKUP($A133,Results3,V$3,FALSE)","v":0},{"$f":"VLOOKUP($A133,Results3,W$4,FALSE)","v":0},{"$f":"VLOOKUP($A133,Results3,X$4,FALSE)","v":3},4,8,2,6,5,7]
[{"$f":"B133&\"B\"","v":"52B"},null,null,{"$f":"VLOOKUP(B133,EventsOrder,3,FALSE)","v":"Shot"},"B",null,{"$f":"VLOOKUP($A134,Results3,G$3,FALSE)","v":"Spike Burnage"},null,{"$f":"VLOOKUP($A134,Results3,I$3,FALSE)","v":"Daniel Aston"},null,{"$f":"VLOOKUP($A134,Results3,K$3,FALSE)","v":"Rowan Miell-Ingram"},null,{"$f":"VLOOKUP($A134,Results3,M$3,FALSE)","v":"Sean Lock"},null,{"$f":"VLOOKUP($A134,Results3,O$3,FALSE)","v":"David Seidu"},null,{"$f":"VLOOKUP($A134,Results3,Q$3,FALSE)","v":"Nathan Pearson"},null,{"$f":"VLOOKUP($A134,Results3,S$3,FALSE)","v":"Ben Brooker"},null,{"$f":"VLOOKUP($A134,Results3,U$3,FALSE)","v":""}]
[{"$f":"B133&\"B\"","v":"52B"},null,null,null,null,null,{"$f":"VLOOKUP($A135,Results3,G$4,FALSE)","v":"Worc"},{"$f":"VLOOKUP($A135,Results3,H$3,FALSE)","v":5.78},{"$f":"VLOOKUP($A135,Results3,I$4,FALSE)","v":"Tam"},{"$f":"VLOOKUP($A135,Results3,J$3,FALSE)","v":4.3899999999999997},{"$f":"VLOOKUP($A135,Results3,K$4,FALSE)","v":"Rad"},{"$f":"VLOOKUP($A135,Results3,L$3,FALSE)","v":4.22},{"$f":"VLOOKUP($A135,Results3,M$4,FALSE)","v":"Bic"},{"$f":"VLOOKUP($A135,Results3,N$3,FALSE)","v":3.82},{"$f":"VLOOKUP($A135,Results3,O$4,FALSE)","v":"Wreake"},{"$f":"VLOOKUP($A135,Results3,P$3,FALSE)","v":3.69},{"$f":"VLOOKUP($A135,Results3,Q$4,FALSE)","v":"DASH"},{"$f":"VLOOKUP($A135,Results3,R$3,FALSE)","v":3.67},{"$f":"VLOOKUP($A135,Results3,S$4,FALSE)","v":"Kett"},{"$f":"VLOOKUP($A135,Results3,T$3,FALSE)","v":2.71},{"$f":"VLOOKUP($A135,Results3,U$4,FALSE)","v":0},{"$f":"VLOOKUP($A135,Results3,V$3,FALSE)","v":0},{"$f":"VLOOKUP($A135,Results3,W$4,FALSE)","v":0},5,3,2,6,7,4,8]
[{"$f":"B137&\"A\"","v":"64A"},null,null,{"$f":"VLOOKUP(B137,EventsOrder,4,FALSE)","v":"U13 Male"},"A",null,{"$f":"VLOOKUP($A136,Results3,G$3,FALSE)","v":"Samuel Rose"},null,{"$f":"VLOOKUP($A136,Results3,I$3,FALSE)","v":"Jack Compton"},null,{"$f":"VLOOKUP($A136,Results3,K$3,FALSE)","v":"Kai Buckley"},null,{"$f":"VLOOKUP($A136,Results3,M$3,FALSE)","v":"Cole Sinnott"},null,{"$f":"VLOOKUP($A136,Results3,O$3,FALSE)","v":"Ben Groves"},null,{"$f":"VLOOKUP($A136,Results3,Q$3,FALSE)","v":"Reuben Taylor-George"},null,{"$f":"VLOOKUP($A136,Results3,S$3,FALSE)","v":"Archie Jones"},null,{"$f":"VLOOKUP($A136,Results3,U$3,FALSE)","v":"Matthew Reuben"},null,null,null,null,null,null,null,null,null,{"$f":"IF(LEN(G136)>1,1,0)","v":1}]
[{"$f":"B137&\"A\"","v":"64A"},64,{"$f":"VLOOKUP(B137,EventsOrder,2,FALSE)","v":3.2},null,null,null,{"$f":"VLOOKUP($A137,Results3,G$4,FALSE)","v":"Rad"},{"$f":"VLOOKUP($A137,Results3,H$3,FALSE)","v":4.22},{"$f":"VLOOKUP($A137,Results3,I$4,FALSE)","v":"DASH"},{"$f":"VLOOKUP($A137,Results3,J$3,FALSE)","v":4.13},{"$f":"VLOOKUP($A137,Results3,K$4,FALSE)","v":"Tam"},{"$f":"VLOOKUP($A137,Results3,L$3,FALSE)","v":4.03},{"$f":"VLOOKUP($A137,Results3,M$4,FALSE)","v":"Kett"},{"$f":"VLOOKUP($A137,Results3,N$3,FALSE)","v":3.98},{"$f":"VLOOKUP($A137,Results3,O$4,FALSE)","v":"Bic"},{"$f":"VLOOKUP($A137,Results3,P$3,FALSE)","v":3.97},{"$f":"VLOOKUP($A137,Results3,Q$4,FALSE)","v":"Worc"},{"$f":"VLOOKUP($A137,Results3,R$3,FALSE)","v":3.89},{"$f":"VLOOKUP($A137,Results3,S$4,FALSE)","v":"Ban"},{"$f":"VLOOKUP($A137,Results3,T$3,FALSE)","v":3.7},{"$f":"VLOOKUP($A137,Results3,U$4,FALSE)","v":"Wreake"},{"$f":"VLOOKUP($A137,Results3,V$3,FALSE)","v":3.69},{"$f":"VLOOKUP($A137,Results3,W$4,FALSE)","v":2},{"$f":"VLOOKUP($A137,Results3,X$4,FALSE)","v":4},7,5,8,6,1,3]
[{"$f":"B137&\"B\"","v":"64B"},null,null,{"$f":"VLOOKUP(B137,EventsOrder,3,FALSE)","v":"Long Jump"},"B",null,{"$f":"VLOOKUP($A138,Results3,G$3,FALSE)","v":"Samuel Rayson"},null,{"$f":"VLOOKUP($A138,Results3,I$3,FALSE)","v":"Harry Cunningham"},null,{"$f":"VLOOKUP($A138,Results3,K$3,FALSE)","v":"Nathan Pearson"},null,{"$f":"VLOOKUP($A138,Results3,M$3,FALSE)","v":"Benjamin Cumberland"},null,{"$f":"VLOOKUP($A138,Results3,O$3,FALSE)","v":"Oran Au"},null,{"$f":"VLOOKUP($A138,Results3,Q$3,FALSE)","v":"Euan Gibbs"},null,{"$f":"VLOOKUP($A138,Results3,S$3,FALSE)","v":""},null,{"$f":"VLOOKUP($A138,Results3,U$3,FALSE)","v":""}]
[{"$f":"B137&\"B\"","v":"64B"},null,null,null,null,null,{"$f":"VLOOKUP($A139,Results3,G$4,FALSE)","v":"Bic"},{"$f":"VLOOKUP($A139,Results3,H$3,FALSE)","v":3.87},{"$f":"VLOOKUP($A139,Results3,I$4,FALSE)","v":"Worc"},{"$f":"VLOOKUP($A139,Results3,J$3,FALSE)","v":3.78},{"$f":"VLOOKUP($A139,Results3,K$4,FALSE)","v":"DASH"},{"$f":"VLOOKUP($A139,Results3,L$3,FALSE)","v":3.72},{"$f":"VLOOKUP($A139,Results3,M$4,FALSE)","v":"Rad"},{"$f":"VLOOKUP($A139,Results3,N$3,FALSE)","v":3.68},{"$f":"VLOOKUP($A139,Results3,O$4,FALSE)","v":"Tam"},{"$f":"VLOOKUP($A139,Results3,P$3,FALSE)","v":3.53},{"$f":"VLOOKUP($A139,Results3,Q$4,FALSE)","v":"Wreake"},{"$f":"VLOOKUP($A139,Results3,R$3,FALSE)","v":3.44},{"$f":"VLOOKUP($A139,Results3,S$4,FALSE)","v":0},{"$f":"VLOOKUP($A139,Results3,T$3,FALSE)","v":0},{"$f":"VLOOKUP($A139,Results3,U$4,FALSE)","v":0},{"$f":"VLOOKUP($A139,Results3,V$3,FALSE)","v":0},{"$f":"VLOOKUP($A139,Results3,W$4,FALSE)","v":0},8,6,0,5,4,3,7]
[{"$f":"B141&\"A\"","v":"70A"},null,null,{"$f":"VLOOKUP(B141,EventsOrder,4,FALSE)","v":"U13 Male"},"A",null,{"$f":"VLOOKUP($A140,Results3,G$3,FALSE)","v":"Max Mowforth"},null,{"$f":"VLOOKUP($A140,Results3,I$3,FALSE)","v":"David Seidu"},null,{"$f":"VLOOKUP($A140,Results3,K$3,FALSE)","v":"Christopher Charles"},null,{"$f":"VLOOKUP($A140,Results3,M$3,FALSE)","v":"Adam Dudley"},null,{"$f":"VLOOKUP($A140,Results3,O$3,FALSE)","v":"Oran Au"},null,{"$f":"VLOOKUP($A140,Results3,Q$3,FALSE)","v":"Callum Hewett"},null,{"$f":"VLOOKUP($A140,Results3,S$3,FALSE)","v":"Samuel Rose"},null,{"$f":"VLOOKUP($A140,Results3,U$3,FALSE)","v":"Tom Fallon"},null,null,null,null,null,null,null,null,null,{"$f":"IF(LEN(G140)>1,1,0)","v":1}]
[{"$f":"B141&\"A\"","v":"70A"},70,{"$f":"VLOOKUP(B141,EventsOrder,2,FALSE)","v":3.5},null,null,null,{"$f":"VLOOKUP($A141,Results3,G$4,FALSE)","v":"Kett"},{"$f":"VLOOKUP($A141,Results3,H$3,FALSE)","v":27.2},{"$f":"VLOOKUP($A141,Results3,I$4,FALSE)","v":"Wreake"},{"$f":"VLOOKUP($A141,Results3,J$3,FALSE)","v":27.6},{"$f":"VLOOKUP($A141,Results3,K$4,FALSE)","v":"Ban"},{"$f":"VLOOKUP($A141,Results3,L$3,FALSE)","v":28.5},{"$f":"VLOOKUP($A141,Results3,M$4,FALSE)","v":"Worc"},{"$f":"VLOOKUP($A141,Results3,N$3,FALSE)","v":29.6},{"$f":"VLOOKUP($A141,Results3,O$4,FALSE)","v":"Tam"},{"$f":"VLOOKUP($A141,Results3,P$3,FALSE)","v":29.7},{"$f":"VLOOKUP($A141,Results3,Q$4,FALSE)","v":"Bic"},{"$f":"VLOOKUP($A141,Results3,R$3,FALSE)","v":30},{"$f":"VLOOKUP($A141,Results3,S$4,FALSE)","v":"Rad"},{"$f":"VLOOKUP($A141,Results3,T$3,FALSE)","v":30.4},{"$f":"VLOOKUP($A141,Results3,U$4,FALSE)","v":"DASH"},{"$f":"VLOOKUP($A141,Results3,V$3,FALSE)","v":30.5},{"$f":"VLOOKUP($A141,Results3,W$4,FALSE)","v":6},{"$f":"VLOOKUP($A141,Results3,X$4,FALSE)","v":3},1,8,2,4,7,5]
[{"$f":"B141&\"B\"","v":"70B"},null,null,{"$f":"VLOOKUP(B141,EventsOrder,3,FALSE)","v":"200m"},"B",null,{"$f":"VLOOKUP($A142,Results3,G$3,FALSE)","v":"Samuel Harrison"},null,{"$f":"VLOOKUP($A142,Results3,I$3,FALSE)","v":"Reuben Taylor-George"},null,{"$f":"VLOOKUP($A142,Results3,K$3,FALSE)","v":"Ethan Patel"},null,{"$f":"VLOOKUP($A142,Results3,M$3,FALSE)","v":"Nathan Pearson"},null,{"$f":"VLOOKUP($A142,Results3,O$3,FALSE)","v":"Ryan Simpson"},null,{"$f":"VLOOKUP($A142,Results3,Q$3,FALSE)","v":"Kian Dickson"},null,{"$f":"VLOOKUP($A142,Results3,S$3,FALSE)","v":"Joshua Cumberlnad"},null,{"$f":"VLOOKUP($A142,Results3,U$3,FALSE)","v":""}]
[{"$f":"B141&\"B\"","v":"70B"},null,null,null,null,null,{"$f":"VLOOKUP($A143,Results3,G$4,FALSE)","v":"Kett"},{"$f":"VLOOKUP($A143,Results3,H$3,FALSE)","v":27.5},{"$f":"VLOOKUP($A143,Results3,I$4,FALSE)","v":"Worc"},{"$f":"VLOOKUP($A143,Results3,J$3,FALSE)","v":30.1},{"$f":"VLOOKUP($A143,Results3,K$4,FALSE)","v":"Wreake"},{"$f":"VLOOKUP($A143,Results3,L$3,FALSE)","v":32},{"$f":"VLOOKUP($A143,Results3,M$4,FALSE)","v":"DASH"},{"$f":"VLOOKUP($A143,Results3,N$3,FALSE)","v":32.4},{"$f":"VLOOKUP($A143,Results3,O$4,FALSE)","v":"Bic"},{"$f":"VLOOKUP($A143,Results3,P$3,FALSE)","v":32.9},{"$f":"VLOOKUP($A143,Results3,Q$4,FALSE)","v":"Tam"},{"$f":"VLOOKUP($A143,Results3,R$3,FALSE)","v":33.6},{"$f":"VLOOKUP($A143,Results3,S$4,FALSE)","v":"Rad"},{"$f":"VLOOKUP($A143,Results3,T$3,FALSE)","v":33.9},{"$f":"VLOOKUP($A143,Results3,U$4,FALSE)","v":0},{"$f":"VLOOKUP($A143,Results3,V$3,FALSE)","v":0},{"$f":"VLOOKUP($A143,Results3,W$4,FALSE)","v":0},4,5,8,2,3,6,7]
[{"$f":"B145&\"A\"","v":"73A"},null,null,{"$f":"VLOOKUP(B145,EventsOrder,4,FALSE)","v":"U13 Male"},"A",null,{"$f":"VLOOKUP($A144,Results3,G$3,FALSE)","v":"Benjamin Cumberland"},null,{"$f":"VLOOKUP($A144,Results3,I$3,FALSE)","v":"Ollie Read"},null,{"$f":"VLOOKUP($A144,Results3,K$3,FALSE)","v":"Sean Lock"},null,{"$f":"VLOOKUP($A144,Results3,M$3,FALSE)","v":"Ronan Williams"},null,{"$f":"VLOOKUP($A144,Results3,O$3,FALSE)","v":"Mackenzie Bloxham"},null,{"$f":"VLOOKUP($A144,Results3,Q$3,FALSE)","v":""},null,{"$f":"VLOOKUP($A144,Results3,S$3,FALSE)","v":""},null,{"$f":"VLOOKUP($A144,Results3,U$3,FALSE)","v":""},null,null,null,null,null,null,null,null,null,{"$f":"IF(LEN(G144)>1,1,0)","v":1}]
[{"$f":"B145&\"A\"","v":"73A"},73,{"$f":"VLOOKUP(B145,EventsOrder,2,FALSE)","v":4.2},null,null,null,{"$f":"VLOOKUP($A145,Results3,G$4,FALSE)","v":"Rad"},{"$f":"VLOOKUP($A145,Results3,H$3,FALSE)","v":"4.58.8"},{"$f":"VLOOKUP($A145,Results3,I$4,FALSE)","v":"Kett"},{"$f":"VLOOKUP($A145,Results3,J$3,FALSE)","v":"5.04.5"},{"$f":"VLOOKUP($A145,Results3,K$4,FALSE)","v":"Bic"},{"$f":"VLOOKUP($A145,Results3,L$3,FALSE)","v":"5.24.4"},{"$f":"VLOOKUP($A145,Results3,M$4,FALSE)","v":"Worc"},{"$f":"VLOOKUP($A145,Results3,N$3,FALSE)","v":"5.26.0"},{"$f":"VLOOKUP($A145,Results3,O$4,FALSE)","v":"Wreake"},{"$f":"VLOOKUP($A145,Results3,P$3,FALSE)","v":"5.29.7"},{"$f":"VLOOKUP($A145,Results3,Q$4,FALSE)","v":0},{"$f":"VLOOKUP($A145,Results3,R$3,FALSE)","v":0},{"$f":"VLOOKUP($A145,Results3,S$4,FALSE)","v":0},{"$f":"VLOOKUP($A145,Results3,T$3,FALSE)","v":0},{"$f":"VLOOKUP($A145,Results3,U$4,FALSE)","v":0},{"$f":"VLOOKUP($A145,Results3,V$3,FALSE)","v":0},{"$f":"VLOOKUP($A145,Results3,W$4,FALSE)","v":0},{"$f":"VLOOKUP($A145,Results3,X$4,FALSE)","v":6},0,7,8,0,4,5]
[{"$f":"B145&\"B\"","v":"73B"},null,null,{"$f":"VLOOKUP(B145,EventsOrder,3,FALSE)","v":"1500m"},"B",null,{"$f":"VLOOKUP($A146,Results3,G$3,FALSE)","v":"Matthew Reuben"},null,{"$f":"VLOOKUP($A146,Results3,I$3,FALSE)","v":"Hugo Robinson"},null,{"$f":"VLOOKUP($A146,Results3,K$3,FALSE)","v":"Euan Stillion"},null,{"$f":"VLOOKUP($A146,Results3,M$3,FALSE)","v":"Ben Groves"},null,{"$f":"VLOOKUP($A146,Results3,O$3,FALSE)","v":""},null,{"$f":"VLOOKUP($A146,Results3,Q$3,FALSE)","v":""},null,{"$f":"VLOOKUP($A146,Results3,S$3,FALSE)","v":""},null,{"$f":"VLOOKUP($A146,Results3,U$3,FALSE)","v":""}]
[{"$f":"B145&\"B\"","v":"73B"},null,null,null,null,null,{"$f":"VLOOKUP($A147,Results3,G$4,FALSE)","v":"Wreake"},{"$f":"VLOOKUP($A147,Results3,H$3,FALSE)","v":"5.33.3"},{"$f":"VLOOKUP($A147,Results3,I$4,FALSE)","v":"Worc"},{"$f":"VLOOKUP($A147,Results3,J$3,FALSE)","v":"5.37.6"},{"$f":"VLOOKUP($A147,Results3,K$4,FALSE)","v":"Rad"},{"$f":"VLOOKUP($A147,Results3,L$3,FALSE)","v":"5.45.2"},{"$f":"VLOOKUP($A147,Results3,M$4,FALSE)","v":"Bic"},{"$f":"VLOOKUP($A147,Results3,N$3,FALSE)","v":"6.33.9"},{"$f":"VLOOKUP($A147,Results3,O$4,FALSE)","v":0},{"$f":"VLOOKUP($A147,Results3,P$3,FALSE)","v":0},{"$f":"VLOOKUP($A147,Results3,Q$4,FALSE)","v":0},{"$f":"VLOOKUP($A147,Results3,R$3,FALSE)","v":0},{"$f":"VLOOKUP($A147,Results3,S$4,FALSE)","v":0},{"$f":"VLOOKUP($A147,Results3,T$3,FALSE)","v":0},{"$f":"VLOOKUP($A147,Results3,U$4,FALSE)","v":0},{"$f":"VLOOKUP($A147,Results3,V$3,FALSE)","v":0},{"$f":"VLOOKUP($A147,Results3,W$4,FALSE)","v":0},5,0,0,6,0,8,7]
[{"$f":"B149&\"A\"","v":"78A"},null,null,{"$f":"VLOOKUP(B149,EventsOrder,4,FALSE)","v":"U13 Male"},"A",null,{"$f":"VLOOKUP($A148,Results3,G$3,FALSE)","v":"Riley Carpenter"},null,{"$f":"VLOOKUP($A148,Results3,I$3,FALSE)","v":"Roan Stillion"},null,{"$f":"VLOOKUP($A148,Results3,K$3,FALSE)","v":"Euan Gibbs"},null,{"$f":"VLOOKUP($A148,Results3,M$3,FALSE)","v":"Callum Hewett"},null,{"$f":"VLOOKUP($A148,Results3,O$3,FALSE)","v":"Daniel Aston"},null,{"$f":"VLOOKUP($A148,Results3,Q$3,FALSE)","v":"John Sparry"},null,{"$f":"VLOOKUP($A148,Results3,S$3,FALSE)","v":""},null,{"$f":"VLOOKUP($A148,Results3,U$3,FALSE)","v":""},null,null,null,null,null,null,null,null,null,{"$f":"IF(LEN(G148)>1,1,0)","v":1}]
[{"$f":"B149&\"A\"","v":"78A"},78,{"$f":"VLOOKUP(B149,EventsOrder,2,FALSE)","v":4.2},null,null,null,{"$f":"VLOOKUP($A149,Results3,G$4,FALSE)","v":"Worc"},{"$f":"VLOOKUP($A149,Results3,H$3,FALSE)","v":14.17},{"$f":"VLOOKUP($A149,Results3,I$4,FALSE)","v":"Rad"},{"$f":"VLOOKUP($A149,Results3,J$3,FALSE)","v":12.05},{"$f":"VLOOKUP($A149,Results3,K$4,FALSE)","v":"Wreake"},{"$f":"VLOOKUP($A149,Results3,L$3,FALSE)","v":11.83},{"$f":"VLOOKUP($A149,Results3,M$4,FALSE)","v":"Bic"},{"$f":"VLOOKUP($A149,Results3,N$3,FALSE)","v":10.79},{"$f":"VLOOKUP($A149,Results3,O$4,FALSE)","v":"Tam"},{"$f":"VLOOKUP($A149,Results3,P$3,FALSE)","v":10.19},{"$f":"VLOOKUP($A149,Results3,Q$4,FALSE)","v":"DASH"},{"$f":"VLOOKUP($A149,Results3,R$3,FALSE)","v":9.83},{"$f":"VLOOKUP($A149,Results3,S$4,FALSE)","v":0},{"$f":"VLOOKUP($A149,Results3,T$3,FALSE)","v":0},{"$f":"VLOOKUP($A149,Results3,U$4,FALSE)","v":0},{"$f":"VLOOKUP($A149,Results3,V$3,FALSE)","v":0},{"$f":"VLOOKUP($A149,Results3,W$4,FALSE)","v":0},{"$f":"VLOOKUP($A149,Results3,X$4,FALSE)","v":5},3,0,7,4,6,8]
[{"$f":"B149&\"B\"","v":"78B"},null,null,{"$f":"VLOOKUP(B149,EventsOrder,3,FALSE)","v":"Discus"},"B",null,{"$f":"VLOOKUP($A150,Results3,G$3,FALSE)","v":"Alex Santafe"},null,{"$f":"VLOOKUP($A150,Results3,I$3,FALSE)","v":"Kian Dickson"},null,{"$f":"VLOOKUP($A150,Results3,K$3,FALSE)","v":"Ryan Simpson"},null,{"$f":"VLOOKUP($A150,Results3,M$3,FALSE)","v":"Joshua Cumberland"},null,{"$f":"VLOOKUP($A150,Results3,O$3,FALSE)","v":"Ethan Patel"},null,{"$f":"VLOOKUP($A150,Results3,Q$3,FALSE)","v":""},null,{"$f":"VLOOKUP($A150,Results3,S$3,FALSE)","v":""},null,{"$f":"VLOOKUP($A150,Results3,U$3,FALSE)","v":""}]
[{"$f":"B149&\"B\"","v":"78B"},null,null,null,null,null,{"$f":"VLOOKUP($A151,Results3,G$4,FALSE)","v":"Worc"},{"$f":"VLOOKUP($A151,Results3,H$3,FALSE)","v":13.67},{"$f":"VLOOKUP($A151,Results3,I$4,FALSE)","v":"Tam"},{"$f":"VLOOKUP($A151,Results3,J$3,FALSE)","v":10.17},{"$f":"VLOOKUP($A151,Results3,K$4,FALSE)","v":"Bic"},{"$f":"VLOOKUP($A151,Results3,L$3,FALSE)","v":9.8699999999999992},{"$f":"VLOOKUP($A151,Results3,M$4,FALSE)","v":"Rad"},{"$f":"VLOOKUP($A151,Results3,N$3,FALSE)","v":8.7899999999999991},{"$f":"VLOOKUP($A151,Results3,O$4,FALSE)","v":"Wreake"},{"$f":"VLOOKUP($A151,Results3,P$3,FALSE)","v":8.18},{"$f":"VLOOKUP($A151,Results3,Q$4,FALSE)","v":0},{"$f":"VLOOKUP($A151,Results3,R$3,FALSE)","v":0},{"$f":"VLOOKUP($A151,Results3,S$4,FALSE)","v":0},{"$f":"VLOOKUP($A151,Results3,T$3,FALSE)","v":0},{"$f":"VLOOKUP($A151,Results3,U$4,FALSE)","v":0},{"$f":"VLOOKUP($A151,Results3,V$3,FALSE)","v":0},{"$f":"VLOOKUP($A151,Results3,W$4,FALSE)","v":0},6,0,0,5,7,4,8]
[null,null,null,"Relays"]
[{"$f":"B154&\"A\"","v":"85A"},null,null,null,null,null,{"$f":"VLOOKUP($A153,Results3,G$3,FALSE)","v":0},null,{"$f":"VLOOKUP($A153,Results3,I$3,FALSE)","v":0},null,{"$f":"VLOOKUP($A153,Results3,K$3,FALSE)","v":0},null,{"$f":"VLOOKUP($A153,Results3,M$3,FALSE)","v":0},null,{"$f":"VLOOKUP($A153,Results3,O$3,FALSE)","v":0},null,{"$f":"VLOOKUP($A153,Results3,Q$3,FALSE)","v":0},null,{"$f":"VLOOKUP($A153,Results3,S$3,FALSE)","v":""},null,{"$f":"VLOOKUP($A153,Results3,U$3,FALSE)","v":""},null,null,null,null,null,null,null,null,null,{"$f":"IF(LEN(G153)>1,1,0)","v":0}]
[{"$f":"B154&\"A\"","v":"85A"},85,{"$f":"VLOOKUP(B154,EventsOrder,2,FALSE)","v":5.0999999999999996},{"$f":"VLOOKUP(B154,EventsOrder,4,FALSE)","v":"U13 Male"},null,null,{"$f":"VLOOKUP($A154,Results3,G$4,FALSE)","v":"Kett"},{"$f":"VLOOKUP($A154,Results3,H$3,FALSE)","v":53.7},{"$f":"VLOOKUP($A154,Results3,I$4,FALSE)","v":"Worc"},{"$f":"VLOOKUP($A154,Results3,J$3,FALSE)","v":57.5},{"$f":"VLOOKUP($A154,Results3,K$4,FALSE)","v":"Rad"},{"$f":"VLOOKUP($A154,Results3,L$3,FALSE)","v":58.2},{"$f":"VLOOKUP($A154,Results3,M$4,FALSE)","v":"Bic"},{"$f":"VLOOKUP($A154,Results3,N$3,FALSE)","v":60.1},{"$f":"VLOOKUP($A154,Results3,O$4,FALSE)","v":"Tam"},{"$f":"VLOOKUP($A154,Results3,P$3,FALSE)","v":61.1},{"$f":"VLOOKUP($A154,Results3,Q$4,FALSE)","v":"Wreake"},{"$f":"VLOOKUP($A154,Results3,R$3,FALSE)","v":64},{"$f":"VLOOKUP($A154,Results3,S$4,FALSE)","v":0},{"$f":"VLOOKUP($A154,Results3,T$3,FALSE)","v":0},{"$f":"VLOOKUP($A154,Results3,U$4,FALSE)","v":0},{"$f":"VLOOKUP($A154,Results3,V$3,FALSE)","v":0},{"$f":"VLOOKUP($A154,Results3,W$4,FALSE)","v":0},5,0,8,6,4,3,7]
[{"$f":"B154&\"B\"","v":"85B"},null,null,null,null,1,{"$f":"IF(LEN(G$154)>1,HLOOKUP(G$154,Relays,$A508,FALSE),\"\")","v":"Cole Sinnott"},null,{"$f":"IF(LEN(I$154)>1,HLOOKUP(I$154,Relays,$A508,FALSE),\"\")","v":"Ronan Williams"},null,{"$f":"IF(LEN(K$154)>1,HLOOKUP(K$154,Relays,$A508,FALSE),\"\")","v":"Theau Seabrrok"},null,{"$f":"IF(LEN(M$154)>1,HLOOKUP(M$154,Relays,$A508,FALSE),\"\")","v":"Ben Groves"},null,{"$f":"IF(LEN(O$154)>1,HLOOKUP(O$154,Relays,$A508,FALSE),\"\")","v":"Daniel Aston"},null,{"$f":"IF(LEN(Q$154)>1,HLOOKUP(Q$154,Relays,$A508,FALSE),\"\")","v":"David Seidu"},null,{"$f":"IF(LEN(S$154)>1,HLOOKUP(S$154,Relays,$A508,FALSE),\"\")","v":""},null,{"$f":"IF(LEN(U$154)>1,HLOOKUP(U$154,Relays,$A508,FALSE),\"\")","v":""}]
[{"$f":"B154&\"B\"","v":"85B"},null,null,{"$f":"VLOOKUP(B154,EventsOrder,3,FALSE)","v":"4 x 100m"},null,2,{"$f":"IF(LEN(G$154)>1,HLOOKUP(G$154,Relays,$A509,FALSE),\"\")","v":"Oliver Laskey"},null,{"$f":"IF(LEN(I$154)>1,HLOOKUP(I$154,Relays,$A509,FALSE),\"\")","v":"Adam Dudley"},null,{"$f":"IF(LEN(K$154)>1,HLOOKUP(K$154,Relays,$A509,FALSE),\"\")","v":"Roan Stillion"},null,{"$f":"IF(LEN(M$154)>1,HLOOKUP(M$154,Relays,$A509,FALSE),\"\")","v":"Ciaran Flynn"},null,{"$f":"IF(LEN(O$154)>1,HLOOKUP(O$154,Relays,$A509,FALSE),\"\")","v":"Kian Dickson"},null,{"$f":"IF(LEN(Q$154)>1,HLOOKUP(Q$154,Relays,$A509,FALSE),\"\")","v":"Mackenzie Bloxham"},null,{"$f":"IF(LEN(S$154)>1,HLOOKUP(S$154,Relays,$A509,FALSE),\"\")","v":""},null,{"$f":"IF(LEN(U$154)>1,HLOOKUP(U$154,Relays,$A509,FALSE),\"\")","v":""}]
[{"$f":"B154&\"R\"","v":"85R"},null,null,null,null,3,{"$f":"IF(LEN(G$154)>1,HLOOKUP(G$154,Relays,$A510,FALSE),\"\")","v":"Samuel Harrison"},null,{"$f":"IF(LEN(I$154)>1,HLOOKUP(I$154,Relays,$A510,FALSE),\"\")","v":"Reuben Taylor-George"},null,{"$f":"IF(LEN(K$154)>1,HLOOKUP(K$154,Relays,$A510,FALSE),\"\")","v":"Samuel Rose"},null,{"$f":"IF(LEN(M$154)>1,HLOOKUP(M$154,Relays,$A510,FALSE),\"\")","v":"Callum Hewett"},null,{"$f":"IF(LEN(O$154)>1,HLOOKUP(O$154,Relays,$A510,FALSE),\"\")","v":"Kai Buckley"},null,{"$f":"IF(LEN(Q$154)>1,HLOOKUP(Q$154,Relays,$A510,FALSE),\"\")","v":"Euan Gibbs"},null,{"$f":"IF(LEN(S$154)>1,HLOOKUP(S$154,Relays,$A510,FALSE),\"\")","v":""},null,{"$f":"IF(LEN(U$154)>1,HLOOKUP(U$154,Relays,$A510,FALSE),\"\")","v":""}]
[{"$f":"B154&\"S\"","v":"85S"},null,null,null,null,4,{"$f":"IF(LEN(G$154)>1,HLOOKUP(G$154,Relays,$A511,FALSE),\"\")","v":"Max Mowforth"},null,{"$f":"IF(LEN(I$154)>1,HLOOKUP(I$154,Relays,$A511,FALSE),\"\")","v":"Jacob Khan"},null,{"$f":"IF(LEN(K$154)>1,HLOOKUP(K$154,Relays,$A511,FALSE),\"\")","v":"Benjanim Cumberland"},null,{"$f":"IF(LEN(M$154)>1,HLOOKUP(M$154,Relays,$A511,FALSE),\"\")","v":"Ryan Simpson"},null,{"$f":"IF(LEN(O$154)>1,HLOOKUP(O$154,Relays,$A511,FALSE),\"\")","v":"Oran Au"},null,{"$f":"IF(LEN(Q$154)>1,HLOOKUP(Q$154,Relays,$A511,FALSE),\"\")","v":"Ethan Patel"},null,{"$f":"IF(LEN(S$154)>1,HLOOKUP(S$154,Relays,$A511,FALSE),\"\")","v":""},null,{"$f":"IF(LEN(U$154)>1,HLOOKUP(U$154,Relays,$A511,FALSE),\"\")","v":""}]
[null,null,null,null,null,null,null,null,null,null,null,null,null,null,null,null,null,null,null,null,"Officials Points",null,{"$f":"Officials!C$20","v":14},{"$f":"Officials!D$20","v":14},{"$f":"Officials!E$20","v":10},{"$f":"Officials!F$20","v":8},{"$f":"Officials!G$20","v":14},{"$f":"Officials!H$20","v":6},{"$f":"Officials!I$20","v":8},{"$f":"Officials!J$20","v":14}]
[null,{"$f":"COUNTIF(B113:B159,\">0\")","v":11},null,null,null,null,null,null,null,null,null,null,null,null,null,null,null,null,null,null,"Total Points",null,{"$f":"SUM(W112:W159)","v":47},83,58,93,112,63,81,115,{"$f":"SUM(AE112:AE154)","v":9}]
[null,null,null,null,null,null,null,null,null,null,null,null,null,null,null,null,null,null,null,null,"Match Position",null,{"$f":"RANK(W160,$W160:$AD160)","v":8},4,7,3,2,6,5,1]
[]
[null,"Event No",null,null,null,null,null,null,null,null,{"$f":"K109","v":"Heart of England League Results"},null,null,null,null,null,null,null,null,null,null,null,{"$f":"W$8","v":"Banbury"},{"$f":"X$8","v":"Bicester"},"Dudley & S'bridge","Kettering","Radley","Tamworth","Wreake Runners","Worcester"]
[null,null,null,"Division",{"$f":"E110","v":2},null,null,"U13 Female",null,null,"Venue",{"$f":"L110","v":"Worcester"},null,null,null,null,"Date",{"$f":"R110","v":"5th June 2016"}]
[null,null,"Time","Event",null,null,"First",null,"Second",null,"Third",null,"Fourth",null,"Fifth",null,"Sixth",null,"Seventh",null,"Eighth",null,{"$f":"W$10","v":"J"},{"$f":"X$10","v":"P"},"B","I","R","F","X","Y"]
[{"$f":"B167&\"A\"","v":"1A"},null,null,{"$f":"VLOOKUP(B167,EventsOrder,4,FALSE)","v":"U13 Female"},"A",null,{"$f":"VLOOKUP($A166,Results3,G$3,FALSE)","v":"Katie Parker"},null,{"$f":"VLOOKUP($A166,Results3,I$3,FALSE)","v":"Georgia Usher"},null,{"$f":"VLOOKUP($A166,Results3,K$3,FALSE)","v":"Ruby Jarman"},null,{"$f":"VLOOKUP($A166,Results3,M$3,FALSE)","v":"Poppy Edwards"},null,{"$f":"VLOOKUP($A166,Results3,O$3,FALSE)","v":"Tegan Vickery"},null,{"$f":"VLOOKUP($A166,Results3,Q$3,FALSE)","v":"Mia Brockway"},null,{"$f":"VLOOKUP($A166,Results3,S$3,FALSE)","v":"Nikola Bishop"},null,{"$f":"VLOOKUP($A166,Results3,U$3,FALSE)","v":""},null,null,null,null,null,null,null,null,null,{"$f":"IF(LEN(G166)>1,1,0)","v":1}]
[{"$f":"B167&\"A\"","v":"1A"},1,{"$f":"VLOOKUP(B167,EventsOrder,2,FALSE)","v":11.45},null,null,null,{"$f":"VLOOKUP($A167,Results3,G$4,FALSE)","v":"Wreake"},{"$f":"VLOOKUP($A167,Results3,H$3,FALSE)","v":"5.12.0"},{"$f":"VLOOKUP($A167,Results3,I$4,FALSE)","v":"Bic"},{"$f":"VLOOKUP($A167,Results3,J$3,FALSE)","v":"5.41.7"},{"$f":"VLOOKUP($A167,Results3,K$4,FALSE)","v":"Worc"},{"$f":"VLOOKUP($A167,Results3,L$3,FALSE)","v":"5.44.0"},{"$f":"VLOOKUP($A167,Results3,M$4,FALSE)","v":"Rad"},{"$f":"VLOOKUP($A167,Results3,N$3,FALSE)","v":"5.45.6"},{"$f":"VLOOKUP($A167,Results3,O$4,FALSE)","v":"Tam"},{"$f":"VLOOKUP($A167,Results3,P$3,FALSE)","v":"5.56.2"},{"$f":"VLOOKUP($A167,Results3,Q$4,FALSE)","v":"Kett"},{"$f":"VLOOKUP($A167,Results3,R$3,FALSE)","v":"6.02.7"},{"$f":"VLOOKUP($A167,Results3,S$4,FALSE)","v":"Ban"},{"$f":"VLOOKUP($A167,Results3,T$3,FALSE)","v":"6.08.2"},{"$f":"VLOOKUP($A167,Results3,U$4,FALSE)","v":0},{"$f":"VLOOKUP($A167,Results3,V$3,FALSE)","v":0},{"$f":"VLOOKUP($A167,Results3,W$4,FALSE)","v":2},{"$f":"VLOOKUP($A167,Results3,X$4,FALSE)","v":7},0,3,5,4,8,6]
[{"$f":"B167&\"B\"","v":"1B"},null,null,{"$f":"VLOOKUP(B167,EventsOrder,3,FALSE)","v":"1500m"},"B",null,{"$f":"VLOOKUP($A168,Results3,G$3,FALSE)","v":"Aoife Brotherton"},null,{"$f":"VLOOKUP($A168,Results3,I$3,FALSE)","v":"Megan Williams"},null,{"$f":"VLOOKUP($A168,Results3,K$3,FALSE)","v":"Maddie Moxey"},null,{"$f":"VLOOKUP($A168,Results3,M$3,FALSE)","v":"Amelia Cox"},null,{"$f":"VLOOKUP($A168,Results3,O$3,FALSE)","v":""},null,{"$f":"VLOOKUP($A168,Results3,Q$3,FALSE)","v":""},null,{"$f":"VLOOKUP($A168,Results3,S$3,FALSE)","v":""},null,{"$f":"VLOOKUP($A168,Results3,U$3,FALSE)","v":""}]
[{"$f":"B167&\"B\"","v":"1B"},null,null,null,null,null,{"$f":"VLOOKUP($A169,Results3,G$4,FALSE)","v":"Wreake"},{"$f":"VLOOKUP($A169,Results3,H$3,FALSE)","v":"5.32.3"},{"$f":"VLOOKUP($A169,Results3,I$4,FALSE)","v":"Worc"},{"$f":"VLOOKUP($A169,Results3,J$3,FALSE)","v":"5.55.1"},{"$f":"VLOOKUP($A169,Results3,K$4,FALSE)","v":"Kett"},{"$f":"VLOOKUP($A169,Results3,L$3,FALSE)","v":"6.27.8"},{"$f":"VLOOKUP($A169,Results3,M$4,FALSE)","v":"Bic"},{"$f":"VLOOKUP($A169,Results3,N$3,FALSE)","v":"DNF"},{"$f":"VLOOKUP($A169,Results3,O$4,FALSE)","v":0},{"$f":"VLOOKUP($A169,Results3,P$3,FALSE)","v":0},{"$f":"VLOOKUP($A169,Results3,Q$4,FALSE)","v":0},{"$f":"VLOOKUP($A169,Results3,R$3,FALSE)","v":0},{"$f":"VLOOKUP($A169,Results3,S$4,FALSE)","v":0},{"$f":"VLOOKUP($A169,Results3,T$3,FALSE)","v":0},{"$f":"VLOOKUP($A169,Results3,U$4,FALSE)","v":0},{"$f":"VLOOKUP($A169,Results3,V$3,FALSE)","v":0},{"$f":"VLOOKUP($A169,Results3,W$4,FALSE)","v":0},0,0,6,0,0,8,7]
[{"$f":"B171&\"A\"","v":"11A"},null,null,{"$f":"VLOOKUP(B171,EventsOrder,4,FALSE)","v":"U13 Female"},"A",null,{"$f":"VLOOKUP($A170,Results3,G$3,FALSE)","v":"Niamh Kilgallen"},null,{"$f":"VLOOKUP($A170,Results3,I$3,FALSE)","v":"Tegan Armstrong"},null,{"$f":"VLOOKUP($A170,Results3,K$3,FALSE)","v":"Flora Miskin-Young"},null,{"$f":"VLOOKUP($A170,Results3,M$3,FALSE)","v":"Lucy Marriott"},null,{"$f":"VLOOKUP($A170,Results3,O$3,FALSE)","v":"Erin Mcmillan"},null,{"$f":"VLOOKUP($A170,Results3,Q$3,FALSE)","v":"Scarlett Maxwell-Munn"},null,{"$f":"VLOOKUP($A170,Results3,S$3,FALSE)","v":""},null,{"$f":"VLOOKUP($A170,Results3,U$3,FALSE)","v":""},null,null,null,null,null,null,null,null,null,{"$f":"IF(LEN(G170)>1,1,0)","v":1}]
[{"$f":"B171&\"A\"","v":"11A"},11,{"$f":"VLOOKUP(B171,EventsOrder,2,FALSE)","v":12.15},null,null,null,{"$f":"VLOOKUP($A171,Results3,G$4,FALSE)","v":"Tam"},{"$f":"VLOOKUP($A171,Results3,H$3,FALSE)","v":11.8},{"$f":"VLOOKUP($A171,Results3,I$4,FALSE)","v":"Ban"},{"$f":"VLOOKUP($A171,Results3,J$3,FALSE)","v":11.8},{"$f":"VLOOKUP($A171,Results3,K$4,FALSE)","v":"Wreake"},{"$f":"VLOOKUP($A171,Results3,L$3,FALSE)","v":12.4},{"$f":"VLOOKUP($A171,Results3,M$4,FALSE)","v":"Worc"},{"$f":"VLOOKUP($A171,Results3,N$3,FALSE)","v":12.5},{"$f":"VLOOKUP($A171,Results3,O$4,FALSE)","v":"Rad"},{"$f":"VLOOKUP($A171,Results3,P$3,FALSE)","v":14.5},{"$f":"VLOOKUP($A171,Results3,Q$4,FALSE)","v":"Kett"},{"$f":"VLOOKUP($A171,Results3,R$3,FALSE)","v":14.5},{"$f":"VLOOKUP($A171,Results3,S$4,FALSE)","v":0},{"$f":"VLOOKUP($A171,Results3,T$3,FALSE)","v":0},{"$f":"VLOOKUP($A171,Results3,U$4,FALSE)","v":0},{"$f":"VLOOKUP($A171,Results3,V$3,FALSE)","v":0},{"$f":"VLOOKUP($A171,Results3,W$4,FALSE)","v":7},{"$f":"VLOOKUP($A171,Results3,X$4,FALSE)","v":0},0,3,4,8,6,5]
[{"$f":"B171&\"B\"","v":"11B"},null,null,{"$f":"VLOOKUP(B171,EventsOrder,3,FALSE)","v":"70m hurdles"},"B",null,{"$f":"VLOOKUP($A172,Results3,G$3,FALSE)","v":"Maddy Dowden"},null,{"$f":"VLOOKUP($A172,Results3,I$3,FALSE)","v":"Indie King"},null,{"$f":"VLOOKUP($A172,Results3,K$3,FALSE)","v":"Maddison Hurley"},null,{"$f":"VLOOKUP($A172,Results3,M$3,FALSE)","v":"Amber Hopkins"},null,{"$f":"VLOOKUP($A172,Results3,O$3,FALSE)","v":""},null,{"$f":"VLOOKUP($A172,Results3,Q$3,FALSE)","v":""},null,{"$f":"VLOOKUP($A172,Results3,S$3,FALSE)","v":""},null,{"$f":"VLOOKUP($A172,Results3,U$3,FALSE)","v":""}]
[{"$f":"B171&\"B\"","v":"11B"},null,null,null,null,null,{"$f":"VLOOKUP($A173,Results3,G$4,FALSE)","v":"Ban"},{"$f":"VLOOKUP($A173,Results3,H$3,FALSE)","v":12.7},{"$f":"VLOOKUP($A173,Results3,I$4,FALSE)","v":"Wreake"},{"$f":"VLOOKUP($A173,Results3,J$3,FALSE)","v":13.3},{"$f":"VLOOKUP($A173,Results3,K$4,FALSE)","v":"Rad"},{"$f":"VLOOKUP($A173,Results3,L$3,FALSE)","v":13.6},{"$f":"VLOOKUP($A173,Results3,M$4,FALSE)","v":"Worc"},{"$f":"VLOOKUP($A173,Results3,N$3,FALSE)","v":13.9},{"$f":"VLOOKUP($A173,Results3,O$4,FALSE)","v":0},{"$f":"VLOOKUP($A173,Results3,P$3,FALSE)","v":0},{"$f":"VLOOKUP($A173,Results3,Q$4,FALSE)","v":0},{"$f":"VLOOKUP($A173,Results3,R$3,FALSE)","v":0},{"$f":"VLOOKUP($A173,Results3,S$4,FALSE)","v":0},{"$f":"VLOOKUP($A173,Results3,T$3,FALSE)","v":0},{"$f":"VLOOKUP($A173,Results3,U$4,FALSE)","v":0},{"$f":"VLOOKUP($A173,Results3,V$3,FALSE)","v":0},{"$f":"VLOOKUP($A173,Results3,W$4,FALSE)","v":8},0,0,0,6,0,7,5]
[{"$f":"B175&\"A\"","v":"25A"},null,null,{"$f":"VLOOKUP(B175,EventsOrder,4,FALSE)","v":"U13 Female"},"A",null,{"$f":"VLOOKUP($A174,Results3,G$3,FALSE)","v":"Indie King"},null,{"$f":"VLOOKUP($A174,Results3,I$3,FALSE)","v":"Katelyn Griffiths"},null,{"$f":"VLOOKUP($A174,Results3,K$3,FALSE)","v":"Kaela Nelson"},null,{"$f":"VLOOKUP($A174,Results3,M$3,FALSE)","v":"Emily Pearce"},null,{"$f":"VLOOKUP($A174,Results3,O$3,FALSE)","v":"Mia Watts"},null,{"$f":"VLOOKUP($A174,Results3,Q$3,FALSE)","v":"Zara Gibbs"},null,{"$f":"VLOOKUP($A174,Results3,S$3,FALSE)","v":"Emilia Sims"},null,{"$f":"VLOOKUP($A174,Results3,U$3,FALSE)","v":"Raegan Sellers"},null,null,null,null,null,null,null,null,null,{"$f":"IF(LEN(G174)>1,1,0)","v":1}]
[{"$f":"B175&\"A\"","v":"25A"},25,{"$f":"VLOOKUP(B175,EventsOrder,2,FALSE)","v":1.1499999999999999},null,null,null,{"$f":"VLOOKUP($A175,Results3,G$4,FALSE)","v":"Wreake"},{"$f":"VLOOKUP($A175,Results3,H$3,FALSE)","v":"2.35.0"},{"$f":"VLOOKUP($A175,Results3,I$4,FALSE)","v":"Worc"},{"$f":"VLOOKUP($A175,Results3,J$3,FALSE)","v":"2.39.5"},{"$f":"VLOOKUP($A175,Results3,K$4,FALSE)","v":"Rad"},{"$f":"VLOOKUP($A175,Results3,L$3,FALSE)","v":"2.43.5"},{"$f":"VLOOKUP($A175,Results3,M$4,FALSE)","v":"Tam"},{"$f":"VLOOKUP($A175,Results3,N$3,FALSE)","v":"2.47.8"},{"$f":"VLOOKUP($A175,Results3,O$4,FALSE)","v":"Kett"},{"$f":"VLOOKUP($A175,Results3,P$3,FALSE)","v":"2.56.4"},{"$f":"VLOOKUP($A175,Results3,Q$4,FALSE)","v":"DASH"},{"$f":"VLOOKUP($A175,Results3,R$3,FALSE)","v":"2.58.6"},{"$f":"VLOOKUP($A175,Results3,S$4,FALSE)","v":"Bic"},{"$f":"VLOOKUP($A175,Results3,T$3,FALSE)","v":"3.07.2"},{"$f":"VLOOKUP($A175,Results3,U$4,FALSE)","v":"Ban"},{"$f":"VLOOKUP($A175,Results3,V$3,FALSE)","v":"3.11.9"},{"$f":"VLOOKUP($A175,Results3,W$4,FALSE)","v":1},{"$f":"VLOOKUP($A175,Results3,X$4,FALSE)","v":2},3,4,6,5,8,7]
[{"$f":"B175&\"B\"","v":"25B"},null,null,{"$f":"VLOOKUP(B175,EventsOrder,3,FALSE)","v":"800m"},"B",null,{"$f":"VLOOKUP($A176,Results3,G$3,FALSE)","v":"Flora Miskin-Young"},null,{"$f":"VLOOKUP($A176,Results3,I$3,FALSE)","v":"Olivia Tonkinson"},null,{"$f":"VLOOKUP($A176,Results3,K$3,FALSE)","v":"Alice Mason"},null,{"$f":"VLOOKUP($A176,Results3,M$3,FALSE)","v":"Elizabeth Anderson"},null,{"$f":"VLOOKUP($A176,Results3,O$3,FALSE)","v":"Libby Davis"},null,{"$f":"VLOOKUP($A176,Results3,Q$3,FALSE)","v":"Erin Fabri"},null,{"$f":"VLOOKUP($A176,Results3,S$3,FALSE)","v":"Amelia Brew"},null,{"$f":"VLOOKUP($A176,Results3,U$3,FALSE)","v":"Imogen Nix"}]
[{"$f":"B175&\"B\"","v":"25B"},null,null,null,null,null,{"$f":"VLOOKUP($A177,Results3,G$4,FALSE)","v":"Wreake"},{"$f":"VLOOKUP($A177,Results3,H$3,FALSE)","v":"2.38.5"},{"$f":"VLOOKUP($A177,Results3,I$4,FALSE)","v":"Worc"},{"$f":"VLOOKUP($A177,Results3,J$3,FALSE)","v":"2.46.8"},{"$f":"VLOOKUP($A177,Results3,K$4,FALSE)","v":"Tam"},{"$f":"VLOOKUP($A177,Results3,L$3,FALSE)","v":"2.51.5"},{"$f":"VLOOKUP($A177,Results3,M$4,FALSE)","v":"Ban"},{"$f":"VLOOKUP($A177,Results3,N$3,FALSE)","v":"3.03.6"},{"$f":"VLOOKUP($A177,Results3,O$4,FALSE)","v":"DASH"},{"$f":"VLOOKUP($A177,Results3,P$3,FALSE)","v":"3.10.7"},{"$f":"VLOOKUP($A177,Results3,Q$4,FALSE)","v":"Bic"},{"$f":"VLOOKUP($A177,Results3,R$3,FALSE)","v":"3.14.9"},{"$f":"VLOOKUP($A177,Results3,S$4,FALSE)","v":"Rad"},{"$f":"VLOOKUP($A177,Results3,T$3,FALSE)","v":"3.15.7"},{"$f":"VLOOKUP($A177,Results3,U$4,FALSE)","v":"Kett"},{"$f":"VLOOKUP($A177,Results3,V$3,FALSE)","v":"3.28.2"},{"$f":"VLOOKUP($A177,Results3,W$4,FALSE)","v":5},3,4,1,2,6,8,7]
[{"$f":"B179&\"A\"","v":"31A"},null,null,{"$f":"VLOOKUP(B179,EventsOrder,4,FALSE)","v":"U13 Female"},"A",null,{"$f":"VLOOKUP($A178,Results3,G$3,FALSE)","v":"Amber Hopkins"},null,{"$f":"VLOOKUP($A178,Results3,I$3,FALSE)","v":"Scarlett Maxwell-Munn"},null,{"$f":"VLOOKUP($A178,Results3,K$3,FALSE)","v":"Sophie Howie"},null,{"$f":"VLOOKUP($A178,Results3,M$3,FALSE)","v":"Sian Hubbard"},null,{"$f":"VLOOKUP($A178,Results3,O$3,FALSE)","v":"Georgia Usher"},null,{"$f":"VLOOKUP($A178,Results3,Q$3,FALSE)","v":"Kaela Nelson"},null,{"$f":"VLOOKUP($A178,Results3,S$3,FALSE)","v":"Kiki Thurley"},null,{"$f":"VLOOKUP($A178,Results3,U$3,FALSE)","v":""},null,0.5,null,null,-0.5,null,null,null,null,{"$f":"IF(LEN(G178)>1,1,0)","v":1}]
[{"$f":"B179&\"A\"","v":"31A"},31,{"$f":"VLOOKUP(B179,EventsOrder,2,FALSE)","v":1.4},null,null,null,{"$f":"VLOOKUP($A179,Results3,G$4,FALSE)","v":"Worc"},{"$f":"VLOOKUP($A179,Results3,H$3,FALSE)","v":1.38},{"$f":"VLOOKUP($A179,Results3,I$4,FALSE)","v":"Kett"},{"$f":"VLOOKUP($A179,Results3,J$3,FALSE)","v":1.25},{"$f":"VLOOKUP($A179,Results3,K$4,FALSE)","v":"Ban"},{"$f":"VLOOKUP($A179,Results3,L$3,FALSE)","v":1.25},{"$f":"VLOOKUP($A179,Results3,M$4,FALSE)","v":"Tam"},{"$f":"VLOOKUP($A179,Results3,N$3,FALSE)","v":1.1499999999999999},{"$f":"VLOOKUP($A179,Results3,O$4,FALSE)","v":"Bic"},{"$f":"VLOOKUP($A179,Results3,P$3,FALSE)","v":1.1499999999999999},{"$f":"VLOOKUP($A179,Results3,Q$4,FALSE)","v":"Rad"},{"$f":"VLOOKUP($A179,Results3,R$3,FALSE)","v":1.1000000000000001},{"$f":"VLOOKUP($A179,Results3,S$4,FALSE)","v":"DASH"},{"$f":"VLOOKUP($A179,Results3,T$3,FALSE)","v":1},{"$f":"VLOOKUP($A179,Results3,U$4,FALSE)","v":0},{"$f":"VLOOKUP($A179,Results3,V$3,FALSE)","v":0},{"$f":"VLOOKUP($A179,Results3,W$4,FALSE)","v":6},{"$f":"VLOOKUP($A179,Results3,X$4,FALSE)","v":4},2,7,3,5,0,8]
[{"$f":"B179&\"B\"","v":"31B"},null,null,{"$f":"VLOOKUP(B179,EventsOrder,3,FALSE)","v":"High Jump"},"B",null,{"$f":"VLOOKUP($A180,Results3,G$3,FALSE)","v":""},null,{"$f":"VLOOKUP($A180,Results3,I$3,FALSE)","v":""},null,{"$f":"VLOOKUP($A180,Results3,K$3,FALSE)","v":""},null,{"$f":"VLOOKUP($A180,Results3,M$3,FALSE)","v":""},null,{"$f":"VLOOKUP($A180,Results3,O$3,FALSE)","v":""},null,{"$f":"VLOOKUP($A180,Results3,Q$3,FALSE)","v":""},null,{"$f":"VLOOKUP($A180,Results3,S$3,FALSE)","v":""},null,{"$f":"VLOOKUP($A180,Results3,U$3,FALSE)","v":""}]
[{"$f":"B179&\"B\"","v":"31B"},null,null,null,null,null,{"$f":"VLOOKUP($A181,Results3,G$4,FALSE)","v":0},{"$f":"VLOOKUP($A181,Results3,H$3,FALSE)","v":0},{"$f":"VLOOKUP($A181,Results3,I$4,FALSE)","v":0},{"$f":"VLOOKUP($A181,Results3,J$3,FALSE)","v":0},{"$f":"VLOOKUP($A181,Results3,K$4,FALSE)","v":0},{"$f":"VLOOKUP($A181,Results3,L$3,FALSE)","v":0},{"$f":"VLOOKUP($A181,Results3,M$4,FALSE)","v":0},{"$f":"VLOOKUP($A181,Results3,N$3,FALSE)","v":0},{"$f":"VLOOKUP($A181,Results3,O$4,FALSE)","v":0},{"$f":"VLOOKUP($A181,Results3,P$3,FALSE)","v":0},{"$f":"VLOOKUP($A181,Results3,Q$4,FALSE)","v":0},{"$f":"VLOOKUP($A181,Results3,R$3,FALSE)","v":0},{"$f":"VLOOKUP($A181,Results3,S$4,FALSE)","v":0},{"$f":"VLOOKUP($A181,Results3,T$3,FALSE)","v":0},{"$f":"VLOOKUP($A181,Results3,U$4,FALSE)","v":0},{"$f":"VLOOKUP($A181,Results3,V$3,FALSE)","v":0},{"$f":"VLOOKUP($A181,Results3,W$4,FALSE)","v":0},0,0,0,0,0,0,0]
[{"$f":"B183&\"A\"","v":"35A"},null,null,{"$f":"VLOOKUP(B183,EventsOrder,4,FALSE)","v":"U13 Female"},"A",null,{"$f":"VLOOKUP($A182,Results3,G$3,FALSE)","v":"Niamh Kilgallen"},null,{"$f":"VLOOKUP($A182,Results3,I$3,FALSE)","v":"Isobel Orencas"},null,{"$f":"VLOOKUP($A182,Results3,K$3,FALSE)","v":"Tegan Armstrong"},null,{"$f":"VLOOKUP($A182,Results3,M$3,FALSE)","v":"Lottie Bentley"},null,{"$f":"VLOOKUP($A182,Results3,O$3,FALSE)","v":"Charlotte Cox"},null,{"$f":"VLOOKUP($A182,Results3,Q$3,FALSE)","v":"Poppy Edwards"},null,{"$f":"VLOOKUP($A182,Results3,S$3,FALSE)","v":"Erin Fabri"},null,{"$f":"VLOOKUP($A182,Results3,U$3,FALSE)","v":"Hannah Gadd"},null,null,null,null,null,null,null,null,null,{"$f":"IF(LEN(G182)>1,1,0)","v":1}]
[{"$f":"B183&\"A\"","v":"35A"},35,{"$f":"VLOOKUP(B183,EventsOrder,2,FALSE)","v":2.1},null,null,null,{"$f":"VLOOKUP($A183,Results3,G$4,FALSE)","v":"Tam"},{"$f":"VLOOKUP($A183,Results3,H$3,FALSE)","v":14.4},{"$f":"VLOOKUP($A183,Results3,I$4,FALSE)","v":"Wreake"},{"$f":"VLOOKUP($A183,Results3,J$3,FALSE)","v":14.5},{"$f":"VLOOKUP($A183,Results3,K$4,FALSE)","v":"Ban"},{"$f":"VLOOKUP($A183,Results3,L$3,FALSE)","v":14.5},{"$f":"VLOOKUP($A183,Results3,M$4,FALSE)","v":"Worc"},{"$f":"VLOOKUP($A183,Results3,N$3,FALSE)","v":14.7},{"$f":"VLOOKUP($A183,Results3,O$4,FALSE)","v":"Kett"},{"$f":"VLOOKUP($A183,Results3,P$3,FALSE)","v":14.8},{"$f":"VLOOKUP($A183,Results3,Q$4,FALSE)","v":"Rad"},{"$f":"VLOOKUP($A183,Results3,R$3,FALSE)","v":15},{"$f":"VLOOKUP($A183,Results3,S$4,FALSE)","v":"Bic"},{"$f":"VLOOKUP($A183,Results3,T$3,FALSE)","v":15.3},{"$f":"VLOOKUP($A183,Results3,U$4,FALSE)","v":"DASH"},{"$f":"VLOOKUP($A183,Results3,V$3,FALSE)","v":16.399999999999999},{"$f":"VLOOKUP($A183,Results3,W$4,FALSE)","v":6},{"$f":"VLOOKUP($A183,Results3,X$4,FALSE)","v":2},1,4,3,8,7,5]
[{"$f":"B183&\"B\"","v":"35B"},null,null,{"$f":"VLOOKUP(B183,EventsOrder,3,FALSE)","v":"100m"},"B",null,{"$f":"VLOOKUP($A184,Results3,G$3,FALSE)","v":"Evelyn Clarke"},null,{"$f":"VLOOKUP($A184,Results3,I$3,FALSE)","v":"Maddy Dowden"},null,{"$f":"VLOOKUP($A184,Results3,K$3,FALSE)","v":"Erin McMillian"},null,{"$f":"VLOOKUP($A184,Results3,M$3,FALSE)","v":"Emily Pearce"},null,{"$f":"VLOOKUP($A184,Results3,O$3,FALSE)","v":"Robyn Beale"},null,{"$f":"VLOOKUP($A184,Results3,Q$3,FALSE)","v":"Isabelle Wilson"},null,{"$f":"VLOOKUP($A184,Results3,S$3,FALSE)","v":"Imogen Ansell"},null,{"$f":"VLOOKUP($A184,Results3,U$3,FALSE)","v":""}]
[{"$f":"B183&\"B\"","v":"35B"},null,null,null,null,null,{"$f":"VLOOKUP($A185,Results3,G$4,FALSE)","v":"Worc"},{"$f":"VLOOKUP($A185,Results3,H$3,FALSE)","v":14.8},{"$f":"VLOOKUP($A185,Results3,I$4,FALSE)","v":"Ban"},{"$f":"VLOOKUP($A185,Results3,J$3,FALSE)","v":15.3},{"$f":"VLOOKUP($A185,Results3,K$4,FALSE)","v":"Rad"},{"$f":"VLOOKUP($A185,Results3,L$3,FALSE)","v":15.4},{"$f":"VLOOKUP($A185,Results3,M$4,FALSE)","v":"Tam"},{"$f":"VLOOKUP($A185,Results3,N$3,FALSE)","v":15.7},{"$f":"VLOOKUP($A185,Results3,O$4,FALSE)","v":"Kett"},{"$f":"VLOOKUP($A185,Results3,P$3,FALSE)","v":16},{"$f":"VLOOKUP($A185,Results3,Q$4,FALSE)","v":"Wreake"},{"$f":"VLOOKUP($A185,Results3,R$3,FALSE)","v":16.2},{"$f":"VLOOKUP($A185,Results3,S$4,FALSE)","v":"Bic"},{"$f":"VLOOKUP($A185,Results3,T$3,FALSE)","v":16.8},{"$f":"VLOOKUP($A185,Results3,U$4,FALSE)","v":0},{"$f":"VLOOKUP($A185,Results3,V$3,FALSE)","v":0},{"$f":"VLOOKUP($A185,Results3,W$4,FALSE)","v":7},2,0,4,6,5,3,8]
[{"$f":"B187&\"A\"","v":"38A"},null,null,{"$f":"VLOOKUP(B187,EventsOrder,4,FALSE)","v":"U13 Female"},"A",null,{"$f":"VLOOKUP($A186,Results3,G$3,FALSE)","v":"Lucy Marriott"},null,{"$f":"VLOOKUP($A186,Results3,I$3,FALSE)","v":"Lucy Thompson"},null,{"$f":"VLOOKUP($A186,Results3,K$3,FALSE)","v":"Katie Parker"},null,{"$f":"VLOOKUP($A186,Results3,M$3,FALSE)","v":"Charlotte Cox"},null,{"$f":"VLOOKUP($A186,Results3,O$3,FALSE)","v":"Zara Gibbs"},null,{"$f":"VLOOKUP($A186,Results3,Q$3,FALSE)","v":"Amber Parker"},null,{"$f":"VLOOKUP($A186,Results3,S$3,FALSE)","v":"Amelia Brew"},null,{"$f":"VLOOKUP($A186,Results3,U$3,FALSE)","v":"Alice Mason"},null,null,null,null,null,null,null,null,null,{"$f":"IF(LEN(G186)>1,1,0)","v":1}]
[{"$f":"B187&\"A\"","v":"38A"},38,{"$f":"VLOOKUP(B187,EventsOrder,2,FALSE)","v":1.5},null,null,null,{"$f":"VLOOKUP($A187,Results3,G$4,FALSE)","v":"Worc"},{"$f":"VLOOKUP($A187,Results3,H$3,FALSE)","v":18.38},{"$f":"VLOOKUP($A187,Results3,I$4,FALSE)","v":"Ban"},{"$f":"VLOOKUP($A187,Results3,J$3,FALSE)","v":15.34},{"$f":"VLOOKUP($A187,Results3,K$4,FALSE)","v":"Wreake"},{"$f":"VLOOKUP($A187,Results3,L$3,FALSE)","v":15.05},{"$f":"VLOOKUP($A187,Results3,M$4,FALSE)","v":"Kett"},{"$f":"VLOOKUP($A187,Results3,N$3,FALSE)","v":14.06},{"$f":"VLOOKUP($A187,Results3,O$4,FALSE)","v":"DASH"},{"$f":"VLOOKUP($A187,Results3,P$3,FALSE)","v":13.65},{"$f":"VLOOKUP($A187,Results3,Q$4,FALSE)","v":"Bic"},{"$f":"VLOOKUP($A187,Results3,R$3,FALSE)","v":12.54},{"$f":"VLOOKUP($A187,Results3,S$4,FALSE)","v":"Rad"},{"$f":"VLOOKUP($A187,Results3,T$3,FALSE)","v":12.31},{"$f":"VLOOKUP($A187,Results3,U$4,FALSE)","v":"Tam"},{"$f":"VLOOKUP($A187,Results3,V$3,FALSE)","v":11.2},{"$f":"VLOOKUP($A187,Results3,W$4,FALSE)","v":7},{"$f":"VLOOKUP($A187,Results3,X$4,FALSE)","v":3},4,5,2,1,6,8]
[{"$f":"B187&\"B\"","v":"38B"},null,null,{"$f":"VLOOKUP(B187,EventsOrder,3,FALSE)","v":"Discus"},"B",null,{"$f":"VLOOKUP($A188,Results3,G$3,FALSE)","v":"Alina Gunnard"},null,{"$f":"VLOOKUP($A188,Results3,I$3,FALSE)","v":"Aoife Brotherton"},null,{"$f":"VLOOKUP($A188,Results3,K$3,FALSE)","v":"Amy Dale"},null,{"$f":"VLOOKUP($A188,Results3,M$3,FALSE)","v":"Nikola Bishop"},null,{"$f":"VLOOKUP($A188,Results3,O$3,FALSE)","v":"Amelia Cox"},null,{"$f":"VLOOKUP($A188,Results3,Q$3,FALSE)","v":"Maddie Moxey"},null,{"$f":"VLOOKUP($A188,Results3,S$3,FALSE)","v":"Emily Pearce"},null,{"$f":"VLOOKUP($A188,Results3,U$3,FALSE)","v":""}]
[{"$f":"B187&\"B\"","v":"38B"},null,null,null,null,null,{"$f":"VLOOKUP($A189,Results3,G$4,FALSE)","v":"DASH"},{"$f":"VLOOKUP($A189,Results3,H$3,FALSE)","v":12.03},{"$f":"VLOOKUP($A189,Results3,I$4,FALSE)","v":"Wreake"},{"$f":"VLOOKUP($A189,Results3,J$3,FALSE)","v":10.59},{"$f":"VLOOKUP($A189,Results3,K$4,FALSE)","v":"Worc"},{"$f":"VLOOKUP($A189,Results3,L$3,FALSE)","v":10.4},{"$f":"VLOOKUP($A189,Results3,M$4,FALSE)","v":"Ban"},{"$f":"VLOOKUP($A189,Results3,N$3,FALSE)","v":10.27},{"$f":"VLOOKUP($A189,Results3,O$4,FALSE)","v":"Bic"},{"$f":"VLOOKUP($A189,Results3,P$3,FALSE)","v":9.83},{"$f":"VLOOKUP($A189,Results3,Q$4,FALSE)","v":"Kett"},{"$f":"VLOOKUP($A189,Results3,R$3,FALSE)","v":8.6999999999999993},{"$f":"VLOOKUP($A189,Results3,S$4,FALSE)","v":"Tam"},{"$f":"VLOOKUP($A189,Results3,T$3,FALSE)","v":5.18},{"$f":"VLOOKUP($A189,Results3,U$4,FALSE)","v":0},{"$f":"VLOOKUP($A189,Results3,V$3,FALSE)","v":0},{"$f":"VLOOKUP($A189,Results3,W$4,FALSE)","v":5},4,8,3,0,2,7,6]
[{"$f":"B191&\"A\"","v":"56A"},null,null,{"$f":"VLOOKUP(B191,EventsOrder,4,FALSE)","v":"U13 Female"},"A",null,{"$f":"VLOOKUP($A190,Results3,G$3,FALSE)","v":"Tegan Armstrong"},null,{"$f":"VLOOKUP($A190,Results3,I$3,FALSE)","v":"Millie Webb"},null,{"$f":"VLOOKUP($A190,Results3,K$3,FALSE)","v":"Flora Miskin-Young"},null,{"$f":"VLOOKUP($A190,Results3,M$3,FALSE)","v":"Erin Mcmillan"},null,{"$f":"VLOOKUP($A190,Results3,O$3,FALSE)","v":"Sian Hubbard"},null,{"$f":"VLOOKUP($A190,Results3,Q$3,FALSE)","v":"Amelia Cox"},null,{"$f":"VLOOKUP($A190,Results3,S$3,FALSE)","v":"Alina Gunnard"},null,{"$f":"VLOOKUP($A190,Results3,U$3,FALSE)","v":"Katie Dudley"},null,null,null,null,null,null,null,null,null,{"$f":"IF(LEN(G190)>1,1,0)","v":1}]
[{"$f":"B191&\"A\"","v":"56A"},56,{"$f":"VLOOKUP(B191,EventsOrder,2,FALSE)","v":2.5},null,null,null,{"$f":"VLOOKUP($A191,Results3,G$4,FALSE)","v":"Ban"},{"$f":"VLOOKUP($A191,Results3,H$3,FALSE)","v":4.18},{"$f":"VLOOKUP($A191,Results3,I$4,FALSE)","v":"Kett"},{"$f":"VLOOKUP($A191,Results3,J$3,FALSE)","v":3.77},{"$f":"VLOOKUP($A191,Results3,K$4,FALSE)","v":"Wreake"},{"$f":"VLOOKUP($A191,Results3,L$3,FALSE)","v":3.73},{"$f":"VLOOKUP($A191,Results3,M$4,FALSE)","v":"Rad"},{"$f":"VLOOKUP($A191,Results3,N$3,FALSE)","v":3.65},{"$f":"VLOOKUP($A191,Results3,O$4,FALSE)","v":"Tam"},{"$f":"VLOOKUP($A191,Results3,P$3,FALSE)","v":3.6},{"$f":"VLOOKUP($A191,Results3,Q$4,FALSE)","v":"Bic"},{"$f":"VLOOKUP($A191,Results3,R$3,FALSE)","v":3.41},{"$f":"VLOOKUP($A191,Results3,S$4,FALSE)","v":"DASH"},{"$f":"VLOOKUP($A191,Results3,T$3,FALSE)","v":3.35},{"$f":"VLOOKUP($A191,Results3,U$4,FALSE)","v":"Worc"},{"$f":"VLOOKUP($A191,Results3,V$3,FALSE)","v":3.01},{"$f":"VLOOKUP($A191,Results3,W$4,FALSE)","v":8},{"$f":"VLOOKUP($A191,Results3,X$4,FALSE)","v":3},2,7,5,4,6,1]
[{"$f":"B191&\"B\"","v":"56B"},null,null,{"$f":"VLOOKUP(B191,EventsOrder,3,FALSE)","v":"Long Jump"},"B",null,{"$f":"VLOOKUP($A192,Results3,G$3,FALSE)","v":"Isobel Orencas"},null,{"$f":"VLOOKUP($A192,Results3,I$3,FALSE)","v":"Niamh Kilgallen"},null,{"$f":"VLOOKUP($A192,Results3,K$3,FALSE)","v":"Elizabeth Anderson"},null,{"$f":"VLOOKUP($A192,Results3,M$3,FALSE)","v":"Robyn Beale"},null,{"$f":"VLOOKUP($A192,Results3,O$3,FALSE)","v":"Poppy Edwards"},null,{"$f":"VLOOKUP($A192,Results3,Q$3,FALSE)","v":"emilia simms"},null,{"$f":"VLOOKUP($A192,Results3,S$3,FALSE)","v":"Libby Davis"},null,{"$f":"VLOOKUP($A192,Results3,U$3,FALSE)","v":"Bethany Harris"}]
[{"$f":"B191&\"B\"","v":"56B"},null,null,null,null,null,{"$f":"VLOOKUP($A193,Results3,G$4,FALSE)","v":"Wreake"},{"$f":"VLOOKUP($A193,Results3,H$3,FALSE)","v":3.63},{"$f":"VLOOKUP($A193,Results3,I$4,FALSE)","v":"Tam"},{"$f":"VLOOKUP($A193,Results3,J$3,FALSE)","v":3.56},{"$f":"VLOOKUP($A193,Results3,K$4,FALSE)","v":"Ban"},{"$f":"VLOOKUP($A193,Results3,L$3,FALSE)","v":3.55},{"$f":"VLOOKUP($A193,Results3,M$4,FALSE)","v":"Kett"},{"$f":"VLOOKUP($A193,Results3,N$3,FALSE)","v":3.55},{"$f":"VLOOKUP($A193,Results3,O$4,FALSE)","v":"Rad"},{"$f":"VLOOKUP($A193,Results3,P$3,FALSE)","v":3.52},{"$f":"VLOOKUP($A193,Results3,Q$4,FALSE)","v":"Bic"},{"$f":"VLOOKUP($A193,Results3,R$3,FALSE)","v":3.29},{"$f":"VLOOKUP($A193,Results3,S$4,FALSE)","v":"DASH"},{"$f":"VLOOKUP($A193,Results3,T$3,FALSE)","v":3.11},{"$f":"VLOOKUP($A193,Results3,U$4,FALSE)","v":"Worc"},{"$f":"VLOOKUP($A193,Results3,V$3,FALSE)","v":2.44},{"$f":"VLOOKUP($A193,Results3,W$4,FALSE)","v":6},3,2,5,4,7,8,1]
[{"$f":"B195&\"A\"","v":"63A"},null,null,{"$f":"VLOOKUP(B195,EventsOrder,4,FALSE)","v":"U13 Female"},"A",null,{"$f":"VLOOKUP($A194,Results3,G$3,FALSE)","v":"Aimee Cochrane"},null,{"$f":"VLOOKUP($A194,Results3,I$3,FALSE)","v":"Isobel Orencas"},null,{"$f":"VLOOKUP($A194,Results3,K$3,FALSE)","v":"Millie Webb"},null,{"$f":"VLOOKUP($A194,Results3,M$3,FALSE)","v":"Raegan Sellers"},null,{"$f":"VLOOKUP($A194,Results3,O$3,FALSE)","v":"Maddison Hurley"},null,{"$f":"VLOOKUP($A194,Results3,Q$3,FALSE)","v":"Emilia Sims"},null,{"$f":"VLOOKUP($A194,Results3,S$3,FALSE)","v":"Sian Hubbard"},null,{"$f":"VLOOKUP($A194,Results3,U$3,FALSE)","v":"Hannah Gadd"},null,null,null,null,null,null,null,null,null,{"$f":"IF(LEN(G194)>1,1,0)","v":1}]
[{"$f":"B195&\"A\"","v":"63A"},63,{"$f":"VLOOKUP(B195,EventsOrder,2,FALSE)","v":3.35},null,null,null,{"$f":"VLOOKUP($A195,Results3,G$4,FALSE)","v":"Worc"},{"$f":"VLOOKUP($A195,Results3,H$3,FALSE)","v":30.1},{"$f":"VLOOKUP($A195,Results3,I$4,FALSE)","v":"Wreake"},{"$f":"VLOOKUP($A195,Results3,J$3,FALSE)","v":30.2},{"$f":"VLOOKUP($A195,Results3,K$4,FALSE)","v":"Kett"},{"$f":"VLOOKUP($A195,Results3,L$3,FALSE)","v":30.6},{"$f":"VLOOKUP($A195,Results3,M$4,FALSE)","v":"Ban"},{"$f":"VLOOKUP($A195,Results3,N$3,FALSE)","v":31.4},{"$f":"VLOOKUP($A195,Results3,O$4,FALSE)","v":"Rad"},{"$f":"VLOOKUP($A195,Results3,P$3,FALSE)","v":32.5},{"$f":"VLOOKUP($A195,Results3,Q$4,FALSE)","v":"Bic"},{"$f":"VLOOKUP($A195,Results3,R$3,FALSE)","v":34},{"$f":"VLOOKUP($A195,Results3,S$4,FALSE)","v":"Tam"},{"$f":"VLOOKUP($A195,Results3,T$3,FALSE)","v":34.4},{"$f":"VLOOKUP($A195,Results3,U$4,FALSE)","v":"DASH"},{"$f":"VLOOKUP($A195,Results3,V$3,FALSE)","v":34.6},{"$f":"VLOOKUP($A195,Results3,W$4,FALSE)","v":5},{"$f":"VLOOKUP($A195,Results3,X$4,FALSE)","v":3},1,6,4,2,7,8]
[{"$f":"B195&\"B\"","v":"63B"},null,null,{"$f":"VLOOKUP(B195,EventsOrder,3,FALSE)","v":"200m"},"B",null,{"$f":"VLOOKUP($A196,Results3,G$3,FALSE)","v":"Jemima Hobby"},null,{"$f":"VLOOKUP($A196,Results3,I$3,FALSE)","v":"Scarlett Maxwell-Munn"},null,{"$f":"VLOOKUP($A196,Results3,K$3,FALSE)","v":"Kaela Nelson"},null,{"$f":"VLOOKUP($A196,Results3,M$3,FALSE)","v":"Sophie Howie"},null,{"$f":"VLOOKUP($A196,Results3,O$3,FALSE)","v":"Rebecca Cullen"},null,{"$f":"VLOOKUP($A196,Results3,Q$3,FALSE)","v":"Imogen Ansell"},null,{"$f":"VLOOKUP($A196,Results3,S$3,FALSE)","v":"Georgina Weal"},null,{"$f":"VLOOKUP($A196,Results3,U$3,FALSE)","v":""}]
[{"$f":"B195&\"B\"","v":"63B"},null,null,null,null,null,{"$f":"VLOOKUP($A197,Results3,G$4,FALSE)","v":"Worc"},{"$f":"VLOOKUP($A197,Results3,H$3,FALSE)","v":30.5},{"$f":"VLOOKUP($A197,Results3,I$4,FALSE)","v":"Kett"},{"$f":"VLOOKUP($A197,Results3,J$3,FALSE)","v":31.1},{"$f":"VLOOKUP($A197,Results3,K$4,FALSE)","v":"Rad"},{"$f":"VLOOKUP($A197,Results3,L$3,FALSE)","v":31.7},{"$f":"VLOOKUP($A197,Results3,M$4,FALSE)","v":"Ban"},{"$f":"VLOOKUP($A197,Results3,N$3,FALSE)","v":31.8},{"$f":"VLOOKUP($A197,Results3,O$4,FALSE)","v":"Wreake"},{"$f":"VLOOKUP($A197,Results3,P$3,FALSE)","v":33},{"$f":"VLOOKUP($A197,Results3,Q$4,FALSE)","v":"Bic"},{"$f":"VLOOKUP($A197,Results3,R$3,FALSE)","v":34.200000000000003},{"$f":"VLOOKUP($A197,Results3,S$4,FALSE)","v":"Tam"},{"$f":"VLOOKUP($A197,Results3,T$3,FALSE)","v":34.299999999999997},{"$f":"VLOOKUP($A197,Results3,U$4,FALSE)","v":0},{"$f":"VLOOKUP($A197,Results3,V$3,FALSE)","v":0},{"$f":"VLOOKUP($A197,Results3,W$4,FALSE)","v":5},3,0,7,6,2,4,8]
[{"$f":"B199&\"A\"","v":"65A"},null,null,{"$f":"VLOOKUP(B199,EventsOrder,4,FALSE)","v":"U13 Female"},"A",null,{"$f":"VLOOKUP($A198,Results3,G$3,FALSE)","v":"Amber Hopkins"},null,{"$f":"VLOOKUP($A198,Results3,I$3,FALSE)","v":"Amber Parker"},null,{"$f":"VLOOKUP($A198,Results3,K$3,FALSE)","v":"Maddy Dowden"},null,{"$f":"VLOOKUP($A198,Results3,M$3,FALSE)","v":"Charlotte Cox"},null,{"$f":"VLOOKUP($A198,Results3,O$3,FALSE)","v":"Zara Gibbs"},null,{"$f":"VLOOKUP($A198,Results3,Q$3,FALSE)","v":"Alice Mason"},null,{"$f":"VLOOKUP($A198,Results3,S$3,FALSE)","v":"Isabelle Wilson"},null,{"$f":"VLOOKUP($A198,Results3,U$3,FALSE)","v":"Maddison Hurley"},null,null,null,null,null,null,null,null,null,{"$f":"IF(LEN(G198)>1,1,0)","v":1}]
[{"$f":"B199&\"A\"","v":"65A"},65,{"$f":"VLOOKUP(B199,EventsOrder,2,FALSE)","v":3.3},null,null,null,{"$f":"VLOOKUP($A199,Results3,G$4,FALSE)","v":"Worc"},{"$f":"VLOOKUP($A199,Results3,H$3,FALSE)","v":6.35},{"$f":"VLOOKUP($A199,Results3,I$4,FALSE)","v":"Bic"},{"$f":"VLOOKUP($A199,Results3,J$3,FALSE)","v":6.34},{"$f":"VLOOKUP($A199,Results3,K$4,FALSE)","v":"Ban"},{"$f":"VLOOKUP($A199,Results3,L$3,FALSE)","v":6.1},{"$f":"VLOOKUP($A199,Results3,M$4,FALSE)","v":"Kett"},{"$f":"VLOOKUP($A199,Results3,N$3,FALSE)","v":5.58},{"$f":"VLOOKUP($A199,Results3,O$4,FALSE)","v":"DASH"},{"$f":"VLOOKUP($A199,Results3,P$3,FALSE)","v":5.57},{"$f":"VLOOKUP($A199,Results3,Q$4,FALSE)","v":"Tam"},{"$f":"VLOOKUP($A199,Results3,R$3,FALSE)","v":5.57},{"$f":"VLOOKUP($A199,Results3,S$4,FALSE)","v":"Wreake"},{"$f":"VLOOKUP($A199,Results3,T$3,FALSE)","v":5.15},{"$f":"VLOOKUP($A199,Results3,U$4,FALSE)","v":"Rad"},{"$f":"VLOOKUP($A199,Results3,V$3,FALSE)","v":4.2},{"$f":"VLOOKUP($A199,Results3,W$4,FALSE)","v":6},{"$f":"VLOOKUP($A199,Results3,X$4,FALSE)","v":7},4,5,1,3,2,8]
[{"$f":"B199&\"B\"","v":"65B"},null,null,{"$f":"VLOOKUP(B199,EventsOrder,3,FALSE)","v":"Shot"},"B",null,{"$f":"VLOOKUP($A200,Results3,G$3,FALSE)","v":"Ani Patrick"},null,{"$f":"VLOOKUP($A200,Results3,I$3,FALSE)","v":"Lucy Thompson"},null,{"$f":"VLOOKUP($A200,Results3,K$3,FALSE)","v":"Indie King"},null,{"$f":"VLOOKUP($A200,Results3,M$3,FALSE)","v":"Erin Fabri"},null,{"$f":"VLOOKUP($A200,Results3,O$3,FALSE)","v":"Alina Gunnard"},null,{"$f":"VLOOKUP($A200,Results3,Q$3,FALSE)","v":"Amelia Brew"},null,{"$f":"VLOOKUP($A200,Results3,S$3,FALSE)","v":"Tegan Vickery"},null,{"$f":"VLOOKUP($A200,Results3,U$3,FALSE)","v":"Imogen Nix"}]
[{"$f":"B199&\"B\"","v":"65B"},null,null,null,null,null,{"$f":"VLOOKUP($A201,Results3,G$4,FALSE)","v":"Worc"},{"$f":"VLOOKUP($A201,Results3,H$3,FALSE)","v":6.07},{"$f":"VLOOKUP($A201,Results3,I$4,FALSE)","v":"Ban"},{"$f":"VLOOKUP($A201,Results3,J$3,FALSE)","v":5.5},{"$f":"VLOOKUP($A201,Results3,K$4,FALSE)","v":"Wreake"},{"$f":"VLOOKUP($A201,Results3,L$3,FALSE)","v":5.0599999999999996},{"$f":"VLOOKUP($A201,Results3,M$4,FALSE)","v":"Bic"},{"$f":"VLOOKUP($A201,Results3,N$3,FALSE)","v":4.5199999999999996},{"$f":"VLOOKUP($A201,Results3,O$4,FALSE)","v":"DASH"},{"$f":"VLOOKUP($A201,Results3,P$3,FALSE)","v":4.45},{"$f":"VLOOKUP($A201,Results3,Q$4,FALSE)","v":"Rad"},{"$f":"VLOOKUP($A201,Results3,R$3,FALSE)","v":4.0599999999999996},{"$f":"VLOOKUP($A201,Results3,S$4,FALSE)","v":"Tam"},{"$f":"VLOOKUP($A201,Results3,T$3,FALSE)","v":3.33},{"$f":"VLOOKUP($A201,Results3,U$4,FALSE)","v":"Kett"},{"$f":"VLOOKUP($A201,Results3,V$3,FALSE)","v":2.85},{"$f":"VLOOKUP($A201,Results3,W$4,FALSE)","v":7},5,4,1,3,2,6,8]
[{"$f":"B203&\"A\"","v":"79A"},null,null,{"$f":"VLOOKUP(B203,EventsOrder,4,FALSE)","v":"U13 Female"},"A",null,{"$f":"VLOOKUP($A202,Results3,G$3,FALSE)","v":""},null,{"$f":"VLOOKUP($A202,Results3,I$3,FALSE)","v":""},null,{"$f":"VLOOKUP($A202,Results3,K$3,FALSE)","v":""},null,{"$f":"VLOOKUP($A202,Results3,M$3,FALSE)","v":""},null,{"$f":"VLOOKUP($A202,Results3,O$3,FALSE)","v":""},null,{"$f":"VLOOKUP($A202,Results3,Q$3,FALSE)","v":""},null,{"$f":"VLOOKUP($A202,Results3,S$3,FALSE)","v":""},null,{"$f":"VLOOKUP($A202,Results3,U$3,FALSE)","v":""},null,null,null,null,null,null,null,null,null,{"$f":"IF(LEN(G202)>1,1,0)","v":0}]
[{"$f":"B203&\"A\"","v":"79A"},79,{"$f":"VLOOKUP(B203,EventsOrder,2,FALSE)","v":4.2},null,null,null,{"$f":"VLOOKUP($A203,Results3,G$4,FALSE)","v":0},{"$f":"VLOOKUP($A203,Results3,H$3,FALSE)","v":0},{"$f":"VLOOKUP($A203,Results3,I$4,FALSE)","v":0},{"$f":"VLOOKUP($A203,Results3,J$3,FALSE)","v":0},{"$f":"VLOOKUP($A203,Results3,K$4,FALSE)","v":0},{"$f":"VLOOKUP($A203,Results3,L$3,FALSE)","v":0},{"$f":"VLOOKUP($A203,Results3,M$4,FALSE)","v":0},{"$f":"VLOOKUP($A203,Results3,N$3,FALSE)","v":0},{"$f":"VLOOKUP($A203,Results3,O$4,FALSE)","v":0},{"$f":"VLOOKUP($A203,Results3,P$3,FALSE)","v":0},{"$f":"VLOOKUP($A203,Results3,Q$4,FALSE)","v":0},{"$f":"VLOOKUP($A203,Results3,R$3,FALSE)","v":0},{"$f":"VLOOKUP($A203,Results3,S$4,FALSE)","v":0},{"$f":"VLOOKUP($A203,Results3,T$3,FALSE)","v":0},{"$f":"VLOOKUP($A203,Results3,U$4,FALSE)","v":0},{"$f":"VLOOKUP($A203,Results3,V$3,FALSE)","v":0},{"$f":"VLOOKUP($A203,Results3,W$4,FALSE)","v":0},{"$f":"VLOOKUP($A203,Results3,X$4,FALSE)","v":0},0,0,0,0,0,0]
[{"$f":"B203&\"B\"","v":"79B"},null,null,{"$f":"VLOOKUP(B203,EventsOrder,3,FALSE)","v":"Javelin"},"B",null,{"$f":"VLOOKUP($A204,Results3,G$3,FALSE)","v":""},null,{"$f":"VLOOKUP($A204,Results3,I$3,FALSE)","v":""},null,{"$f":"VLOOKUP($A204,Results3,K$3,FALSE)","v":""},null,{"$f":"VLOOKUP($A204,Results3,M$3,FALSE)","v":""},null,{"$f":"VLOOKUP($A204,Results3,O$3,FALSE)","v":""},null,{"$f":"VLOOKUP($A204,Results3,Q$3,FALSE)","v":""},null,{"$f":"VLOOKUP($A204,Results3,S$3,FALSE)","v":""},null,{"$f":"VLOOKUP($A204,Results3,U$3,FALSE)","v":""}]
[{"$f":"B203&\"B\"","v":"79B"},null,null,null,null,null,{"$f":"VLOOKUP($A205,Results3,G$4,FALSE)","v":0},{"$f":"VLOOKUP($A205,Results3,H$3,FALSE)","v":0},{"$f":"VLOOKUP($A205,Results3,I$4,FALSE)","v":0},{"$f":"VLOOKUP($A205,Results3,J$3,FALSE)","v":0},{"$f":"VLOOKUP($A205,Results3,K$4,FALSE)","v":0},{"$f":"VLOOKUP($A205,Results3,L$3,FALSE)","v":0},{"$f":"VLOOKUP($A205,Results3,M$4,FALSE)","v":0},{"$f":"VLOOKUP($A205,Results3,N$3,FALSE)","v":0},{"$f":"VLOOKUP($A205,Results3,O$4,FALSE)","v":0},{"$f":"VLOOKUP($A205,Results3,P$3,FALSE)","v":0},{"$f":"VLOOKUP($A205,Results3,Q$4,FALSE)","v":0},{"$f":"VLOOKUP($A205,Results3,R$3,FALSE)","v":0},{"$f":"VLOOKUP($A205,Results3,S$4,FALSE)","v":0},{"$f":"VLOOKUP($A205,Results3,T$3,FALSE)","v":0},{"$f":"VLOOKUP($A205,Results3,U$4,FALSE)","v":0},{"$f":"VLOOKUP($A205,Results3,V$3,FALSE)","v":0},{"$f":"VLOOKUP($A205,Results3,W$4,FALSE)","v":0},0,0,0,0,0,0,0]
[null,null,null,"Relays"]
[{"$f":"B208&\"A\"","v":"82A"},null,null,null,null,null,{"$f":"VLOOKUP($A207,Results3,G$3,FALSE)","v":"Wreake Runners"},null,{"$f":"VLOOKUP($A207,Results3,I$3,FALSE)","v":"Banbury"},null,{"$f":"VLOOKUP($A207,Results3,K$3,FALSE)","v":"Worcester"},null,{"$f":"VLOOKUP($A207,Results3,M$3,FALSE)","v":"Radley"},null,{"$f":"VLOOKUP($A207,Results3,O$3,FALSE)","v":"Tamworth"},null,{"$f":"VLOOKUP($A207,Results3,Q$3,FALSE)","v":"Bicester"},null,{"$f":"VLOOKUP($A207,Results3,S$3,FALSE)","v":"Kettering Town Harriers"},null,{"$f":"VLOOKUP($A207,Results3,U$3,FALSE)","v":"Dudley & S'bridge"},null,null,null,null,null,null,null,null,null,{"$f":"IF(LEN(G207)>1,1,0)","v":1}]
[{"$f":"B208&\"A\"","v":"82A"},82,{"$f":"VLOOKUP(B208,EventsOrder,2,FALSE)","v":4.55},{"$f":"VLOOKUP(B208,EventsOrder,4,FALSE)","v":"U13 Female"},null,null,{"$f":"VLOOKUP($A208,Results3,G$4,FALSE)","v":"Wreake"},{"$f":"VLOOKUP($A208,Results3,H$3,FALSE)","v":58.2},{"$f":"VLOOKUP($A208,Results3,I$4,FALSE)","v":"Ban"},{"$f":"VLOOKUP($A208,Results3,J$3,FALSE)","v":60.4},{"$f":"VLOOKUP($A208,Results3,K$4,FALSE)","v":"Worc"},{"$f":"VLOOKUP($A208,Results3,L$3,FALSE)","v":60.6},{"$f":"VLOOKUP($A208,Results3,M$4,FALSE)","v":"Rad"},{"$f":"VLOOKUP($A208,Results3,N$3,FALSE)","v":61.6},{"$f":"VLOOKUP($A208,Results3,O$4,FALSE)","v":"Tam"},{"$f":"VLOOKUP($A208,Results3,P$3,FALSE)","v":62},{"$f":"VLOOKUP($A208,Results3,Q$4,FALSE)","v":"Bic"},{"$f":"VLOOKUP($A208,Results3,R$3,FALSE)","v":64},{"$f":"VLOOKUP($A208,Results3,S$4,FALSE)","v":"Kett"},{"$f":"VLOOKUP($A208,Results3,T$3,FALSE)","v":64.599999999999994},{"$f":"VLOOKUP($A208,Results3,U$4,FALSE)","v":"DASH"},{"$f":"VLOOKUP($A208,Results3,V$3,FALSE)","v":68.5},{"$f":"VLOOKUP($A208,Results3,W$4,FALSE)","v":7},3,1,2,5,4,8,6]
[{"$f":"B208&\"B\"","v":"82B"},null,null,null,null,1,{"$f":"IF(LEN(G$208)>1,HLOOKUP(G$208,Relays,$A493,FALSE),\"\")","v":"Isobel Orencas"},null,{"$f":"IF(LEN(I$208)>1,HLOOKUP(I$208,Relays,$A493,FALSE),\"\")","v":"Maddy Dowden"},null,{"$f":"IF(LEN(K$208)>1,HLOOKUP(K$208,Relays,$A493,FALSE),\"\")","v":"Lottie Bentley"},null,{"$f":"IF(LEN(M$208)>1,HLOOKUP(M$208,Relays,$A493,FALSE),\"\")","v":"Erin Mcmillan"},null,{"$f":"IF(LEN(O$208)>1,HLOOKUP(O$208,Relays,$A493,FALSE),\"\")","v":"Niamh Kilgallen"},null,{"$f":"IF(LEN(Q$208)>1,HLOOKUP(Q$208,Relays,$A493,FALSE),\"\")","v":"Erin Fabri"},null,{"$f":"IF(LEN(S$208)>1,HLOOKUP(S$208,Relays,$A493,FALSE),\"\")","v":"Millie Webb"},null,{"$f":"IF(LEN(U$208)>1,HLOOKUP(U$208,Relays,$A493,FALSE),\"\")","v":"Kiki Thurley"}]
[{"$f":"B208&\"B\"","v":"82B"},null,null,{"$f":"VLOOKUP(B208,EventsOrder,3,FALSE)","v":"4 x 100m"},null,2,{"$f":"IF(LEN(G$208)>1,HLOOKUP(G$208,Relays,$A494,FALSE),\"\")","v":"Flora Miskin-Young"},null,{"$f":"IF(LEN(I$208)>1,HLOOKUP(I$208,Relays,$A494,FALSE),\"\")","v":"Raegan Sellers"},null,{"$f":"IF(LEN(K$208)>1,HLOOKUP(K$208,Relays,$A494,FALSE),\"\")","v":"Aimee Cochrane"},null,{"$f":"IF(LEN(M$208)>1,HLOOKUP(M$208,Relays,$A494,FALSE),\"\")","v":"Kaela Nelson"},null,{"$f":"IF(LEN(O$208)>1,HLOOKUP(O$208,Relays,$A494,FALSE),\"\")","v":"Tegan Vickery"},null,{"$f":"IF(LEN(Q$208)>1,HLOOKUP(Q$208,Relays,$A494,FALSE),\"\")","v":"Emilia Simms"},null,{"$f":"IF(LEN(S$208)>1,HLOOKUP(S$208,Relays,$A494,FALSE),\"\")","v":"Scarlett Maxwell-Munn"},null,{"$f":"IF(LEN(U$208)>1,HLOOKUP(U$208,Relays,$A494,FALSE),\"\")","v":"Hannah Gadd"}]
[{"$f":"B208&\"R\"","v":"82R"},null,null,null,null,3,{"$f":"IF(LEN(G$208)>1,HLOOKUP(G$208,Relays,$A495,FALSE),\"\")","v":"Indie King"},null,{"$f":"IF(LEN(I$208)>1,HLOOKUP(I$208,Relays,$A495,FALSE),\"\")","v":"Sophie Howie"},null,{"$f":"IF(LEN(K$208)>1,HLOOKUP(K$208,Relays,$A495,FALSE),\"\")","v":"Millie Stanley"},null,{"$f":"IF(LEN(M$208)>1,HLOOKUP(M$208,Relays,$A495,FALSE),\"\")","v":"Poppy Edwards"},null,{"$f":"IF(LEN(O$208)>1,HLOOKUP(O$208,Relays,$A495,FALSE),\"\")","v":"Emily Pearce"},null,{"$f":"IF(LEN(Q$208)>1,HLOOKUP(Q$208,Relays,$A495,FALSE),\"\")","v":"imogen ansell"},null,{"$f":"IF(LEN(S$208)>1,HLOOKUP(S$208,Relays,$A495,FALSE),\"\")","v":"Charlotte Cox"},null,{"$f":"IF(LEN(U$208)>1,HLOOKUP(U$208,Relays,$A495,FALSE),\"\")","v":"Libby Davis"}]
[{"$f":"B208&\"S\"","v":"82S"},null,null,null,null,4,{"$f":"IF(LEN(G$208)>1,HLOOKUP(G$208,Relays,$A496,FALSE),\"\")","v":"Katie Parker"},null,{"$f":"IF(LEN(I$208)>1,HLOOKUP(I$208,Relays,$A496,FALSE),\"\")","v":"Tegan Armstrong"},null,{"$f":"IF(LEN(K$208)>1,HLOOKUP(K$208,Relays,$A496,FALSE),\"\")","v":"Jemima Hobby"},null,{"$f":"IF(LEN(M$208)>1,HLOOKUP(M$208,Relays,$A496,FALSE),\"\")","v":"Maddison Hurley"},null,{"$f":"IF(LEN(O$208)>1,HLOOKUP(O$208,Relays,$A496,FALSE),\"\")","v":"Sian Hubbard"},null,{"$f":"IF(LEN(Q$208)>1,HLOOKUP(Q$208,Relays,$A496,FALSE),\"\")","v":"Amelia Cox"},null,{"$f":"IF(LEN(S$208)>1,HLOOKUP(S$208,Relays,$A496,FALSE),\"\")","v":"Mia Brockway"},null,{"$f":"IF(LEN(U$208)>1,HLOOKUP(U$208,Relays,$A496,FALSE),\"\")","v":"Zara Gibbs"}]
[null,null,null,null,null,null,null,null,null,null,null,null,null,null,null,null,null,null,null,null,"Officials Points",null,{"$f":"Officials!C$20","v":14},{"$f":"Officials!D$20","v":14},{"$f":"Officials!E$20","v":10},{"$f":"Officials!F$20","v":8},{"$f":"Officials!G$20","v":14},{"$f":"Officials!H$20","v":6},{"$f":"Officials!I$20","v":8},{"$f":"Officials!J$20","v":14}]
[null,{"$f":"COUNTIF(B166:B213,\">0\")","v":11},null,null,null,null,null,null,null,null,null,null,null,null,null,null,null,null,null,null,"Total Points",null,{"$f":"SUM(W166:W213)","v":112.5},68,46,80.5,79,74,117,126,{"$f":"SUM(AE166:AE208)","v":10}]
[null,null,null,null,null,null,null,null,null,null,null,null,null,null,null,null,null,null,null,null,"Match Position",null,{"$f":"RANK(W214,$W214:$AD214)","v":3},7,8,4,5,6,2,1]
[]
[null,"Event No",null,null,null,null,null,null,null,null,{"$f":"CONCATENATE('Event Details'!D$5,\" \",\"Results\")","v":"Heart of England League Results"},null,null,null,null,null,null,null,null,null,null,null,{"$f":"W$8","v":"Banbury"},{"$f":"X$8","v":"Bicester"},"Dudley & S'bridge","Kettering","Radley","Tamworth","Wreake Runners","Worcester"]
[null,null,null,"Division",{"$f":"'Event Details'!D$9","v":2},null,null,"U15 Male",null,null,"Venue",{"$f":"'Event Details'!F$17","v":"Worcester"},null,null,null,null,"Date",{"$f":"'Event Details'!B$17","v":"5th June 2016"}]
[null,null,"Time","Event",null,"NS","First",null,"Second",null,"Third",null,"Fourth",null,"Fifth",null,"Sixth",null,"Seventh",null,"Eighth",null,{"$f":"W$10","v":"J"},{"$f":"X$10","v":"P"},"B","I","R","F","X","Y"]
[{"$f":"B221&\"A\"","v":"6A"},null,null,{"$f":"VLOOKUP(B221,EventsOrder,4,FALSE)","v":"U15 Male"},"A",null,{"$f":"VLOOKUP($A220,Results3,G$3,FALSE)","v":"Darian Moore"},null,{"$f":"VLOOKUP($A220,Results3,I$3,FALSE)","v":"Jamil Welham"},null,{"$f":"VLOOKUP($A220,Results3,K$3,FALSE)","v":"Will Andrews"},null,{"$f":"VLOOKUP($A220,Results3,M$3,FALSE)","v":"Ethan Nelis"},null,{"$f":"VLOOKUP($A220,Results3,O$3,FALSE)","v":"Zak Thurley"},null,{"$f":"VLOOKUP($A220,Results3,Q$3,FALSE)","v":"Daniel Gifford"},null,{"$f":"VLOOKUP($A220,Results3,S$3,FALSE)","v":""},null,{"$f":"VLOOKUP($A220,Results3,U$3,FALSE)","v":""},null,null,null,null,null,null,null,null,null,{"$f":"IF(LEN(G220)>1,1,0)","v":1}]
[{"$f":"B221&\"A\"","v":"6A"},6,{"$f":"VLOOKUP(B221,EventsOrder,2,FALSE)","v":12},null,null,null,{"$f":"VLOOKUP($A221,Results3,G$4,FALSE)","v":"Worc"},{"$f":"VLOOKUP($A221,Results3,H$3,FALSE)","v":5.58},{"$f":"VLOOKUP($A221,Results3,I$4,FALSE)","v":"Bic"},{"$f":"VLOOKUP($A221,Results3,J$3,FALSE)","v":4.66},{"$f":"VLOOKUP($A221,Results3,K$4,FALSE)","v":"Ban"},{"$f":"VLOOKUP($A221,Results3,L$3,FALSE)","v":4.29},{"$f":"VLOOKUP($A221,Results3,M$4,FALSE)","v":"Kett"},{"$f":"VLOOKUP($A221,Results3,N$3,FALSE)","v":3.45},{"$f":"VLOOKUP($A221,Results3,O$4,FALSE)","v":"DASH"},{"$f":"VLOOKUP($A221,Results3,P$3,FALSE)","v":2.38},{"$f":"VLOOKUP($A221,Results3,Q$4,FALSE)","v":"Rad"},{"$f":"VLOOKUP($A221,Results3,R$3,FALSE)","v":"NDR"},{"$f":"VLOOKUP($A221,Results3,S$4,FALSE)","v":0},{"$f":"VLOOKUP($A221,Results3,T$3,FALSE)","v":0},{"$f":"VLOOKUP($A221,Results3,U$4,FALSE)","v":0},{"$f":"VLOOKUP($A221,Results3,V$3,FALSE)","v":0},{"$f":"VLOOKUP($A221,Results3,W$4,FALSE)","v":6},{"$f":"VLOOKUP($A221,Results3,X$4,FALSE)","v":7},4,5,3,0,0,8]
[{"$f":"B221&\"B\"","v":"6B"},null,null,{"$f":"VLOOKUP(B221,EventsOrder,3,FALSE)","v":"Long Jump"},"B",null,{"$f":"VLOOKUP($A222,Results3,G$3,FALSE)","v":"Marco Miller"},null,{"$f":"VLOOKUP($A222,Results3,I$3,FALSE)","v":""},null,{"$f":"VLOOKUP($A222,Results3,K$3,FALSE)","v":""},null,{"$f":"VLOOKUP($A222,Results3,M$3,FALSE)","v":""},null,{"$f":"VLOOKUP($A222,Results3,O$3,FALSE)","v":""},null,{"$f":"VLOOKUP($A222,Results3,Q$3,FALSE)","v":""},null,{"$f":"VLOOKUP($A222,Results3,S$3,FALSE)","v":""},null,{"$f":"VLOOKUP($A222,Results3,U$3,FALSE)","v":""}]
[{"$f":"B221&\"B\"","v":"6B"},null,null,null,null,null,{"$f":"VLOOKUP($A223,Results3,G$4,FALSE)","v":"Worc"},{"$f":"VLOOKUP($A223,Results3,H$3,FALSE)","v":4.03},{"$f":"VLOOKUP($A223,Results3,I$4,FALSE)","v":0},{"$f":"VLOOKUP($A223,Results3,J$3,FALSE)","v":0},{"$f":"VLOOKUP($A223,Results3,K$4,FALSE)","v":0},{"$f":"VLOOKUP($A223,Results3,L$3,FALSE)","v":0},{"$f":"VLOOKUP($A223,Results3,M$4,FALSE)","v":0},{"$f":"VLOOKUP($A223,Results3,N$3,FALSE)","v":0},{"$f":"VLOOKUP($A223,Results3,O$4,FALSE)","v":0},{"$f":"VLOOKUP($A223,Results3,P$3,FALSE)","v":0},{"$f":"VLOOKUP($A223,Results3,Q$4,FALSE)","v":0},{"$f":"VLOOKUP($A223,Results3,R$3,FALSE)","v":0},{"$f":"VLOOKUP($A223,Results3,S$4,FALSE)","v":0},{"$f":"VLOOKUP($A223,Results3,T$3,FALSE)","v":0},{"$f":"VLOOKUP($A223,Results3,U$4,FALSE)","v":0},{"$f":"VLOOKUP($A223,Results3,V$3,FALSE)","v":0},{"$f":"VLOOKUP($A223,Results3,W$4,FALSE)","v":0},0,0,0,0,0,0,8]
[{"$f":"B225&\"A\"","v":"16A"},null,null,{"$f":"VLOOKUP(B225,EventsOrder,4,FALSE)","v":"U15 Male"},"A",null,{"$f":"VLOOKUP($A224,Results3,G$3,FALSE)","v":"Dylan Bowley"},null,{"$f":"VLOOKUP($A224,Results3,I$3,FALSE)","v":"Tom Slater"},null,{"$f":"VLOOKUP($A224,Results3,K$3,FALSE)","v":0},null,{"$f":"VLOOKUP($A224,Results3,M$3,FALSE)","v":"James Walker"},null,{"$f":"VLOOKUP($A224,Results3,O$3,FALSE)","v":"Reece Westwood"},null,{"$f":"VLOOKUP($A224,Results3,Q$3,FALSE)","v":""},null,{"$f":"VLOOKUP($A224,Results3,S$3,FALSE)","v":""},null,{"$f":"VLOOKUP($A224,Results3,U$3,FALSE)","v":""},null,null,null,null,null,null,null,null,null,{"$f":"IF(LEN(G224)>1,1,0)","v":1}]
[{"$f":"B225&\"A\"","v":"16A"},16,{"$f":"VLOOKUP(B225,EventsOrder,2,FALSE)","v":12.4},null,null,null,{"$f":"VLOOKUP($A225,Results3,G$4,FALSE)","v":"Kett"},{"$f":"VLOOKUP($A225,Results3,H$3,FALSE)","v":"2.10.8"},{"$f":"VLOOKUP($A225,Results3,I$4,FALSE)","v":"DASH"},{"$f":"VLOOKUP($A225,Results3,J$3,FALSE)","v":"2.19.3"},{"$f":"VLOOKUP($A225,Results3,K$4,FALSE)","v":"Wreake"},{"$f":"VLOOKUP($A225,Results3,L$3,FALSE)","v":"2.26.0"},{"$f":"VLOOKUP($A225,Results3,M$4,FALSE)","v":"Tam"},{"$f":"VLOOKUP($A225,Results3,N$3,FALSE)","v":"2.34.8"},{"$f":"VLOOKUP($A225,Results3,O$4,FALSE)","v":"Worc"},{"$f":"VLOOKUP($A225,Results3,P$3,FALSE)","v":0},{"$f":"VLOOKUP($A225,Results3,Q$4,FALSE)","v":0},{"$f":"VLOOKUP($A225,Results3,R$3,FALSE)","v":0},{"$f":"VLOOKUP($A225,Results3,S$4,FALSE)","v":0},{"$f":"VLOOKUP($A225,Results3,T$3,FALSE)","v":0},{"$f":"VLOOKUP($A225,Results3,U$4,FALSE)","v":0},{"$f":"VLOOKUP($A225,Results3,V$3,FALSE)","v":0},{"$f":"VLOOKUP($A225,Results3,W$4,FALSE)","v":0},{"$f":"VLOOKUP($A225,Results3,X$4,FALSE)","v":0},7,8,0,5,6,4]
[{"$f":"B225&\"B\"","v":"16B"},null,null,{"$f":"VLOOKUP(B225,EventsOrder,3,FALSE)","v":"800m"},"B","NS",{"$f":"VLOOKUP($A226,Results3,G$3,FALSE)","v":"Adam Boon"},null,{"$f":"VLOOKUP($A226,Results3,I$3,FALSE)","v":"Reece Westwood"},null,{"$f":"VLOOKUP($A226,Results3,K$3,FALSE)","v":""},null,{"$f":"VLOOKUP($A226,Results3,M$3,FALSE)","v":""},null,{"$f":"VLOOKUP($A226,Results3,O$3,FALSE)","v":""},null,{"$f":"VLOOKUP($A226,Results3,Q$3,FALSE)","v":""},null,{"$f":"VLOOKUP($A226,Results3,S$3,FALSE)","v":""},null,{"$f":"VLOOKUP($A226,Results3,U$3,FALSE)","v":""}]
[{"$f":"B225&\"B\"","v":"16B"},null,null,null,null,null,{"$f":"VLOOKUP($A227,Results3,G$4,FALSE)","v":"DASH"},{"$f":"VLOOKUP($A227,Results3,H$3,FALSE)","v":"2.20.5"},{"$f":"VLOOKUP($A227,Results3,I$4,FALSE)","v":"Worc"},{"$f":"VLOOKUP($A227,Results3,J$3,FALSE)","v":"2.50.3"},{"$f":"VLOOKUP($A227,Results3,K$4,FALSE)","v":0},{"$f":"VLOOKUP($A227,Results3,L$3,FALSE)","v":0},{"$f":"VLOOKUP($A227,Results3,M$4,FALSE)","v":0},{"$f":"VLOOKUP($A227,Results3,N$3,FALSE)","v":0},{"$f":"VLOOKUP($A227,Results3,O$4,FALSE)","v":0},{"$f":"VLOOKUP($A227,Results3,P$3,FALSE)","v":0},{"$f":"VLOOKUP($A227,Results3,Q$4,FALSE)","v":0},{"$f":"VLOOKUP($A227,Results3,R$3,FALSE)","v":0},{"$f":"VLOOKUP($A227,Results3,S$4,FALSE)","v":0},{"$f":"VLOOKUP($A227,Results3,T$3,FALSE)","v":0},{"$f":"VLOOKUP($A227,Results3,U$4,FALSE)","v":0},{"$f":"VLOOKUP($A227,Results3,V$3,FALSE)","v":0},{"$f":"VLOOKUP($A227,Results3,W$4,FALSE)","v":0},0,8,0,0,0,0,7]
[{"$f":"B229&\"A\"","v":"20A"},null,null,{"$f":"VLOOKUP(B229,EventsOrder,4,FALSE)","v":"U15 Male"},"A",null,{"$f":"VLOOKUP($A228,Results3,G$3,FALSE)","v":"Lewis-Morgan Barton"},null,{"$f":"VLOOKUP($A228,Results3,I$3,FALSE)","v":""},null,{"$f":"VLOOKUP($A228,Results3,K$3,FALSE)","v":""},null,{"$f":"VLOOKUP($A228,Results3,M$3,FALSE)","v":""},null,{"$f":"VLOOKUP($A228,Results3,O$3,FALSE)","v":""},null,{"$f":"VLOOKUP($A228,Results3,Q$3,FALSE)","v":""},null,{"$f":"VLOOKUP($A228,Results3,S$3,FALSE)","v":""},null,{"$f":"VLOOKUP($A228,Results3,U$3,FALSE)","v":""},null,null,null,null,null,null,null,null,null,{"$f":"IF(LEN(G228)>1,1,0)","v":1}]
[{"$f":"B229&\"A\"","v":"20A"},20,{"$f":"VLOOKUP(B229,EventsOrder,2,FALSE)","v":1.05},null,null,null,{"$f":"VLOOKUP($A229,Results3,G$4,FALSE)","v":"Kett"},{"$f":"VLOOKUP($A229,Results3,H$3,FALSE)","v":13.8},{"$f":"VLOOKUP($A229,Results3,I$4,FALSE)","v":0},{"$f":"VLOOKUP($A229,Results3,J$3,FALSE)","v":0},{"$f":"VLOOKUP($A229,Results3,K$4,FALSE)","v":0},{"$f":"VLOOKUP($A229,Results3,L$3,FALSE)","v":0},{"$f":"VLOOKUP($A229,Results3,M$4,FALSE)","v":0},{"$f":"VLOOKUP($A229,Results3,N$3,FALSE)","v":0},{"$f":"VLOOKUP($A229,Results3,O$4,FALSE)","v":0},{"$f":"VLOOKUP($A229,Results3,P$3,FALSE)","v":0},{"$f":"VLOOKUP($A229,Results3,Q$4,FALSE)","v":0},{"$f":"VLOOKUP($A229,Results3,R$3,FALSE)","v":0},{"$f":"VLOOKUP($A229,Results3,S$4,FALSE)","v":0},{"$f":"VLOOKUP($A229,Results3,T$3,FALSE)","v":0},{"$f":"VLOOKUP($A229,Results3,U$4,FALSE)","v":0},{"$f":"VLOOKUP($A229,Results3,V$3,FALSE)","v":0},{"$f":"VLOOKUP($A229,Results3,W$4,FALSE)","v":0},{"$f":"VLOOKUP($A229,Results3,X$4,FALSE)","v":0},0,8,0,0,0,0]
[{"$f":"B229&\"B\"","v":"20B"},null,null,{"$f":"VLOOKUP(B229,EventsOrder,3,FALSE)","v":"80m hurdles"},"B",null,{"$f":"VLOOKUP($A230,Results3,G$3,FALSE)","v":""},null,{"$f":"VLOOKUP($A230,Results3,I$3,FALSE)","v":""},null,{"$f":"VLOOKUP($A230,Results3,K$3,FALSE)","v":""},null,{"$f":"VLOOKUP($A230,Results3,M$3,FALSE)","v":""},null,{"$f":"VLOOKUP($A230,Results3,O$3,FALSE)","v":""},null,{"$f":"VLOOKUP($A230,Results3,Q$3,FALSE)","v":""},null,{"$f":"VLOOKUP($A230,Results3,S$3,FALSE)","v":""},null,{"$f":"VLOOKUP($A230,Results3,U$3,FALSE)","v":""}]
[{"$f":"B229&\"B\"","v":"20B"},null,null,null,null,null,{"$f":"VLOOKUP($A231,Results3,G$4,FALSE)","v":0},{"$f":"VLOOKUP($A231,Results3,H$3,FALSE)","v":0},{"$f":"VLOOKUP($A231,Results3,I$4,FALSE)","v":0},{"$f":"VLOOKUP($A231,Results3,J$3,FALSE)","v":0},{"$f":"VLOOKUP($A231,Results3,K$4,FALSE)","v":0},{"$f":"VLOOKUP($A231,Results3,L$3,FALSE)","v":0},{"$f":"VLOOKUP($A231,Results3,M$4,FALSE)","v":0},{"$f":"VLOOKUP($A231,Results3,N$3,FALSE)","v":0},{"$f":"VLOOKUP($A231,Results3,O$4,FALSE)","v":0},{"$f":"VLOOKUP($A231,Results3,P$3,FALSE)","v":0},{"$f":"VLOOKUP($A231,Results3,Q$4,FALSE)","v":0},{"$f":"VLOOKUP($A231,Results3,R$3,FALSE)","v":0},{"$f":"VLOOKUP($A231,Results3,S$4,FALSE)","v":0},{"$f":"VLOOKUP($A231,Results3,T$3,FALSE)","v":0},{"$f":"VLOOKUP($A231,Results3,U$4,FALSE)","v":0},{"$f":"VLOOKUP($A231,Results3,V$3,FALSE)","v":0},{"$f":"VLOOKUP($A231,Results3,W$4,FALSE)","v":0},0,0,0,0,0,0,0]
[{"$f":"B233&\"A\"","v":"22A"},null,null,{"$f":"VLOOKUP(B233,EventsOrder,4,FALSE)","v":"U15 Male"},"A",null,{"$f":"VLOOKUP($A232,Results3,G$3,FALSE)","v":"Will Smith"},null,{"$f":"VLOOKUP($A232,Results3,I$3,FALSE)","v":"Euan Jones"},null,{"$f":"VLOOKUP($A232,Results3,K$3,FALSE)","v":"Andrew Jay"},null,{"$f":"VLOOKUP($A232,Results3,M$3,FALSE)","v":"Dylan Bowley"},null,{"$f":"VLOOKUP($A232,Results3,O$3,FALSE)","v":"Will Simms"},null,{"$f":"VLOOKUP($A232,Results3,Q$3,FALSE)","v":"Harry Walters"},null,{"$f":"VLOOKUP($A232,Results3,S$3,FALSE)","v":"James Walker"},null,{"$f":"VLOOKUP($A232,Results3,U$3,FALSE)","v":""},null,null,null,null,null,null,null,null,null,{"$f":"IF(LEN(G232)>1,1,0)","v":1}]
[{"$f":"B233&\"A\"","v":"22A"},22,{"$f":"VLOOKUP(B233,EventsOrder,2,FALSE)","v":1},null,null,null,{"$f":"VLOOKUP($A233,Results3,G$4,FALSE)","v":"Rad"},{"$f":"VLOOKUP($A233,Results3,H$3,FALSE)","v":8.61},{"$f":"VLOOKUP($A233,Results3,I$4,FALSE)","v":"Wreake"},{"$f":"VLOOKUP($A233,Results3,J$3,FALSE)","v":8.43},{"$f":"VLOOKUP($A233,Results3,K$4,FALSE)","v":"Worc"},{"$f":"VLOOKUP($A233,Results3,L$3,FALSE)","v":7.98},{"$f":"VLOOKUP($A233,Results3,M$4,FALSE)","v":"Kett"},{"$f":"VLOOKUP($A233,Results3,N$3,FALSE)","v":6.76},{"$f":"VLOOKUP($A233,Results3,O$4,FALSE)","v":"Bic"},{"$f":"VLOOKUP($A233,Results3,P$3,FALSE)","v":6.4},{"$f":"VLOOKUP($A233,Results3,Q$4,FALSE)","v":"DASH"},{"$f":"VLOOKUP($A233,Results3,R$3,FALSE)","v":6.04},{"$f":"VLOOKUP($A233,Results3,S$4,FALSE)","v":"Tam"},{"$f":"VLOOKUP($A233,Results3,T$3,FALSE)","v":5.7},{"$f":"VLOOKUP($A233,Results3,U$4,FALSE)","v":0},{"$f":"VLOOKUP($A233,Results3,V$3,FALSE)","v":0},{"$f":"VLOOKUP($A233,Results3,W$4,FALSE)","v":0},{"$f":"VLOOKUP($A233,Results3,X$4,FALSE)","v":4},3,5,8,2,7,6]
[{"$f":"B233&\"B\"","v":"22B"},null,null,{"$f":"VLOOKUP(B233,EventsOrder,3,FALSE)","v":"Shot"},"B",null,{"$f":"VLOOKUP($A234,Results3,G$3,FALSE)","v":"Ethan Nelis"},null,{"$f":"VLOOKUP($A234,Results3,I$3,FALSE)","v":"Josh Rocks"},null,{"$f":"VLOOKUP($A234,Results3,K$3,FALSE)","v":"Reece Westwood"},null,{"$f":"VLOOKUP($A234,Results3,M$3,FALSE)","v":"Samuel Worfolk"},null,{"$f":"VLOOKUP($A234,Results3,O$3,FALSE)","v":"Cameron King"},null,{"$f":"VLOOKUP($A234,Results3,Q$3,FALSE)","v":"Zak Thurley"},null,{"$f":"VLOOKUP($A234,Results3,S$3,FALSE)","v":""},null,{"$f":"VLOOKUP($A234,Results3,U$3,FALSE)","v":""}]
[{"$f":"B233&\"B\"","v":"22B"},null,null,null,null,null,{"$f":"VLOOKUP($A235,Results3,G$4,FALSE)","v":"Kett"},{"$f":"VLOOKUP($A235,Results3,H$3,FALSE)","v":6.4},{"$f":"VLOOKUP($A235,Results3,I$4,FALSE)","v":"Wreake"},{"$f":"VLOOKUP($A235,Results3,J$3,FALSE)","v":5.99},{"$f":"VLOOKUP($A235,Results3,K$4,FALSE)","v":"Worc"},{"$f":"VLOOKUP($A235,Results3,L$3,FALSE)","v":5.75},{"$f":"VLOOKUP($A235,Results3,M$4,FALSE)","v":"Bic"},{"$f":"VLOOKUP($A235,Results3,N$3,FALSE)","v":5.69},{"$f":"VLOOKUP($A235,Results3,O$4,FALSE)","v":"Rad"},{"$f":"VLOOKUP($A235,Results3,P$3,FALSE)","v":4.07},{"$f":"VLOOKUP($A235,Results3,Q$4,FALSE)","v":"DASH"},{"$f":"VLOOKUP($A235,Results3,R$3,FALSE)","v":3.83},{"$f":"VLOOKUP($A235,Results3,S$4,FALSE)","v":0},{"$f":"VLOOKUP($A235,Results3,T$3,FALSE)","v":0},{"$f":"VLOOKUP($A235,Results3,U$4,FALSE)","v":0},{"$f":"VLOOKUP($A235,Results3,V$3,FALSE)","v":0},{"$f":"VLOOKUP($A235,Results3,W$4,FALSE)","v":0},5,3,8,4,0,7,6]
[{"$f":"B237&\"A\"","v":"39A"},null,null,{"$f":"VLOOKUP(B237,EventsOrder,4,FALSE)","v":"U15 Male"},"A",null,{"$f":"VLOOKUP($A236,Results3,G$3,FALSE)","v":""},null,{"$f":"VLOOKUP($A236,Results3,I$3,FALSE)","v":""},null,{"$f":"VLOOKUP($A236,Results3,K$3,FALSE)","v":""},null,{"$f":"VLOOKUP($A236,Results3,M$3,FALSE)","v":""},null,{"$f":"VLOOKUP($A236,Results3,O$3,FALSE)","v":""},null,{"$f":"VLOOKUP($A236,Results3,Q$3,FALSE)","v":""},null,{"$f":"VLOOKUP($A236,Results3,S$3,FALSE)","v":""},null,{"$f":"VLOOKUP($A236,Results3,U$3,FALSE)","v":""},null,null,null,null,null,null,null,null,null,{"$f":"IF(LEN(G236)>1,1,0)","v":0}]
[{"$f":"B237&\"A\"","v":"39A"},39,{"$f":"VLOOKUP(B237,EventsOrder,2,FALSE)","v":1.5},null,null,null,{"$f":"VLOOKUP($A237,Results3,G$4,FALSE)","v":0},{"$f":"VLOOKUP($A237,Results3,H$3,FALSE)","v":0},{"$f":"VLOOKUP($A237,Results3,I$4,FALSE)","v":0},{"$f":"VLOOKUP($A237,Results3,J$3,FALSE)","v":0},{"$f":"VLOOKUP($A237,Results3,K$4,FALSE)","v":0},{"$f":"VLOOKUP($A237,Results3,L$3,FALSE)","v":0},{"$f":"VLOOKUP($A237,Results3,M$4,FALSE)","v":0},{"$f":"VLOOKUP($A237,Results3,N$3,FALSE)","v":0},{"$f":"VLOOKUP($A237,Results3,O$4,FALSE)","v":0},{"$f":"VLOOKUP($A237,Results3,P$3,FALSE)","v":0},{"$f":"VLOOKUP($A237,Results3,Q$4,FALSE)","v":0},{"$f":"VLOOKUP($A237,Results3,R$3,FALSE)","v":0},{"$f":"VLOOKUP($A237,Results3,S$4,FALSE)","v":0},{"$f":"VLOOKUP($A237,Results3,T$3,FALSE)","v":0},{"$f":"VLOOKUP($A237,Results3,U$4,FALSE)","v":0},{"$f":"VLOOKUP($A237,Results3,V$3,FALSE)","v":0},{"$f":"VLOOKUP($A237,Results3,W$4,FALSE)","v":0},{"$f":"VLOOKUP($A237,Results3,X$4,FALSE)","v":0},0,0,0,0,0,0]
[{"$f":"B237&\"B\"","v":"39B"},null,null,{"$f":"VLOOKUP(B237,EventsOrder,3,FALSE)","v":"Javelin"},"B",null,{"$f":"VLOOKUP($A238,Results3,G$3,FALSE)","v":""},null,{"$f":"VLOOKUP($A238,Results3,I$3,FALSE)","v":""},null,{"$f":"VLOOKUP($A238,Results3,K$3,FALSE)","v":""},null,{"$f":"VLOOKUP($A238,Results3,M$3,FALSE)","v":""},null,{"$f":"VLOOKUP($A238,Results3,O$3,FALSE)","v":""},null,{"$f":"VLOOKUP($A238,Results3,Q$3,FALSE)","v":""},null,{"$f":"VLOOKUP($A238,Results3,S$3,FALSE)","v":""},null,{"$f":"VLOOKUP($A238,Results3,U$3,FALSE)","v":""}]
[{"$f":"B237&\"B\"","v":"39B"},null,null,null,null,null,{"$f":"VLOOKUP($A239,Results3,G$4,FALSE)","v":0},{"$f":"VLOOKUP($A239,Results3,H$3,FALSE)","v":0},{"$f":"VLOOKUP($A239,Results3,I$4,FALSE)","v":0},{"$f":"VLOOKUP($A239,Results3,J$3,FALSE)","v":0},{"$f":"VLOOKUP($A239,Results3,K$4,FALSE)","v":0},{"$f":"VLOOKUP($A239,Results3,L$3,FALSE)","v":0},{"$f":"VLOOKUP($A239,Results3,M$4,FALSE)","v":0},{"$f":"VLOOKUP($A239,Results3,N$3,FALSE)","v":0},{"$f":"VLOOKUP($A239,Results3,O$4,FALSE)","v":0},{"$f":"VLOOKUP($A239,Results3,P$3,FALSE)","v":0},{"$f":"VLOOKUP($A239,Results3,Q$4,FALSE)","v":0},{"$f":"VLOOKUP($A239,Results3,R$3,FALSE)","v":0},{"$f":"VLOOKUP($A239,Results3,S$4,FALSE)","v":0},{"$f":"VLOOKUP($A239,Results3,T$3,FALSE)","v":0},{"$f":"VLOOKUP($A239,Results3,U$4,FALSE)","v":0},{"$f":"VLOOKUP($A239,Results3,V$3,FALSE)","v":0},{"$f":"VLOOKUP($A239,Results3,W$4,FALSE)","v":0},0,0,0,0,0,0,0]
[{"$f":"B241&\"A\"","v":"42A"},null,null,{"$f":"VLOOKUP(B241,EventsOrder,4,FALSE)","v":"U15 Male"},"A",null,{"$f":"VLOOKUP($A240,Results3,G$3,FALSE)","v":"Euan Jones"},null,{"$f":"VLOOKUP($A240,Results3,I$3,FALSE)","v":"Daniel Gifford"},null,{"$f":"VLOOKUP($A240,Results3,K$3,FALSE)","v":"Dylan Mukhtar"},null,{"$f":"VLOOKUP($A240,Results3,M$3,FALSE)","v":"WillAndrews"},null,{"$f":"VLOOKUP($A240,Results3,O$3,FALSE)","v":"Marco Miller"},null,{"$f":"VLOOKUP($A240,Results3,Q$3,FALSE)","v":"Talinder Kumar"},null,{"$f":"VLOOKUP($A240,Results3,S$3,FALSE)","v":"James Sherriff"},null,{"$f":"VLOOKUP($A240,Results3,U$3,FALSE)","v":"Will Simms"},null,null,null,null,null,null,null,null,null,{"$f":"IF(LEN(G240)>1,1,0)","v":1}]
[{"$f":"B241&\"A\"","v":"42A"},42,{"$f":"VLOOKUP(B241,EventsOrder,2,FALSE)","v":2.2999999999999998},null,null,null,{"$f":"VLOOKUP($A241,Results3,G$4,FALSE)","v":"Wreake"},{"$f":"VLOOKUP($A241,Results3,H$3,FALSE)","v":12.2},{"$f":"VLOOKUP($A241,Results3,I$4,FALSE)","v":"Rad"},{"$f":"VLOOKUP($A241,Results3,J$3,FALSE)","v":12.4},{"$f":"VLOOKUP($A241,Results3,K$4,FALSE)","v":"Kett"},{"$f":"VLOOKUP($A241,Results3,L$3,FALSE)","v":12.4},{"$f":"VLOOKUP($A241,Results3,M$4,FALSE)","v":"Ban"},{"$f":"VLOOKUP($A241,Results3,N$3,FALSE)","v":12.5},{"$f":"VLOOKUP($A241,Results3,O$4,FALSE)","v":"Worc"},{"$f":"VLOOKUP($A241,Results3,P$3,FALSE)","v":12.6},{"$f":"VLOOKUP($A241,Results3,Q$4,FALSE)","v":"DASH"},{"$f":"VLOOKUP($A241,Results3,R$3,FALSE)","v":13.3},{"$f":"VLOOKUP($A241,Results3,S$4,FALSE)","v":"Tam"},{"$f":"VLOOKUP($A241,Results3,T$3,FALSE)","v":13.5},{"$f":"VLOOKUP($A241,Results3,U$4,FALSE)","v":"Bic"},{"$f":"VLOOKUP($A241,Results3,V$3,FALSE)","v":14},{"$f":"VLOOKUP($A241,Results3,W$4,FALSE)","v":5},{"$f":"VLOOKUP($A241,Results3,X$4,FALSE)","v":1},3,6,7,2,8,4]
[{"$f":"B241&\"B\"","v":"42B"},null,null,{"$f":"VLOOKUP(B241,EventsOrder,3,FALSE)","v":"100m"},"B",null,{"$f":"VLOOKUP($A242,Results3,G$3,FALSE)","v":"Josh Rocks"},null,{"$f":"VLOOKUP($A242,Results3,I$3,FALSE)","v":"Charlie Bloomfield"},null,{"$f":"VLOOKUP($A242,Results3,K$3,FALSE)","v":"Richard Bungay"},null,{"$f":"VLOOKUP($A242,Results3,M$3,FALSE)","v":""},null,{"$f":"VLOOKUP($A242,Results3,O$3,FALSE)","v":""},null,{"$f":"VLOOKUP($A242,Results3,Q$3,FALSE)","v":""},null,{"$f":"VLOOKUP($A242,Results3,S$3,FALSE)","v":""},null,{"$f":"VLOOKUP($A242,Results3,U$3,FALSE)","v":""}]
[{"$f":"B241&\"B\"","v":"42B"},null,null,null,null,null,{"$f":"VLOOKUP($A243,Results3,G$4,FALSE)","v":"Wreake"},{"$f":"VLOOKUP($A243,Results3,H$3,FALSE)","v":13.4},{"$f":"VLOOKUP($A243,Results3,I$4,FALSE)","v":"Worc"},{"$f":"VLOOKUP($A243,Results3,J$3,FALSE)","v":13.5},{"$f":"VLOOKUP($A243,Results3,K$4,FALSE)","v":"Rad"},{"$f":"VLOOKUP($A243,Results3,L$3,FALSE)","v":16},{"$f":"VLOOKUP($A243,Results3,M$4,FALSE)","v":0},{"$f":"VLOOKUP($A243,Results3,N$3,FALSE)","v":0},{"$f":"VLOOKUP($A243,Results3,O$4,FALSE)","v":0},{"$f":"VLOOKUP($A243,Results3,P$3,FALSE)","v":0},{"$f":"VLOOKUP($A243,Results3,Q$4,FALSE)","v":0},{"$f":"VLOOKUP($A243,Results3,R$3,FALSE)","v":0},{"$f":"VLOOKUP($A243,Results3,S$4,FALSE)","v":0},{"$f":"VLOOKUP($A243,Results3,T$3,FALSE)","v":0},{"$f":"VLOOKUP($A243,Results3,U$4,FALSE)","v":0},{"$f":"VLOOKUP($A243,Results3,V$3,FALSE)","v":0},{"$f":"VLOOKUP($A243,Results3,W$4,FALSE)","v":0},0,0,0,6,0,8,7]
[{"$f":"B245&\"A\"","v":"45A"},null,null,{"$f":"VLOOKUP(B245,EventsOrder,4,FALSE)","v":"U15 Male"},"A",null,{"$f":"VLOOKUP($A244,Results3,G$3,FALSE)","v":"Lewis-Morgan Barton"},null,{"$f":"VLOOKUP($A244,Results3,I$3,FALSE)","v":"Andrew Jay"},null,{"$f":"VLOOKUP($A244,Results3,K$3,FALSE)","v":"Tom Slater"},null,{"$f":"VLOOKUP($A244,Results3,M$3,FALSE)","v":"Jamil Welham"},null,{"$f":"VLOOKUP($A244,Results3,O$3,FALSE)","v":""},null,{"$f":"VLOOKUP($A244,Results3,Q$3,FALSE)","v":""},null,{"$f":"VLOOKUP($A244,Results3,S$3,FALSE)","v":""},null,{"$f":"VLOOKUP($A244,Results3,U$3,FALSE)","v":""},null,null,null,null,null,null,null,null,null,{"$f":"IF(LEN(G244)>1,1,0)","v":1}]
[{"$f":"B245&\"A\"","v":"45A"},45,{"$f":"VLOOKUP(B245,EventsOrder,2,FALSE)","v":2.25},null,null,null,{"$f":"VLOOKUP($A245,Results3,G$4,FALSE)","v":"Kett"},{"$f":"VLOOKUP($A245,Results3,H$3,FALSE)","v":1.6},{"$f":"VLOOKUP($A245,Results3,I$4,FALSE)","v":"Worc"},{"$f":"VLOOKUP($A245,Results3,J$3,FALSE)","v":1.57},{"$f":"VLOOKUP($A245,Results3,K$4,FALSE)","v":"DASH"},{"$f":"VLOOKUP($A245,Results3,L$3,FALSE)","v":1.51},{"$f":"VLOOKUP($A245,Results3,M$4,FALSE)","v":"Bic"},{"$f":"VLOOKUP($A245,Results3,N$3,FALSE)","v":1.4},{"$f":"VLOOKUP($A245,Results3,O$4,FALSE)","v":0},{"$f":"VLOOKUP($A245,Results3,P$3,FALSE)","v":0},{"$f":"VLOOKUP($A245,Results3,Q$4,FALSE)","v":0},{"$f":"VLOOKUP($A245,Results3,R$3,FALSE)","v":0},{"$f":"VLOOKUP($A245,Results3,S$4,FALSE)","v":0},{"$f":"VLOOKUP($A245,Results3,T$3,FALSE)","v":0},{"$f":"VLOOKUP($A245,Results3,U$4,FALSE)","v":0},{"$f":"VLOOKUP($A245,Results3,V$3,FALSE)","v":0},{"$f":"VLOOKUP($A245,Results3,W$4,FALSE)","v":0},{"$f":"VLOOKUP($A245,Results3,X$4,FALSE)","v":5},6,8,0,0,0,7]
[{"$f":"B245&\"B\"","v":"45B"},null,null,{"$f":"VLOOKUP(B245,EventsOrder,3,FALSE)","v":"High Jump"},"B",null,{"$f":"VLOOKUP($A246,Results3,G$3,FALSE)","v":""},null,{"$f":"VLOOKUP($A246,Results3,I$3,FALSE)","v":""},null,{"$f":"VLOOKUP($A246,Results3,K$3,FALSE)","v":""},null,{"$f":"VLOOKUP($A246,Results3,M$3,FALSE)","v":""},null,{"$f":"VLOOKUP($A246,Results3,O$3,FALSE)","v":""},null,{"$f":"VLOOKUP($A246,Results3,Q$3,FALSE)","v":""},null,{"$f":"VLOOKUP($A246,Results3,S$3,FALSE)","v":""},null,{"$f":"VLOOKUP($A246,Results3,U$3,FALSE)","v":""}]
[{"$f":"B245&\"B\"","v":"45B"},null,null,null,null,null,{"$f":"VLOOKUP($A247,Results3,G$4,FALSE)","v":0},{"$f":"VLOOKUP($A247,Results3,H$3,FALSE)","v":0},{"$f":"VLOOKUP($A247,Results3,I$4,FALSE)","v":0},{"$f":"VLOOKUP($A247,Results3,J$3,FALSE)","v":0},{"$f":"VLOOKUP($A247,Results3,K$4,FALSE)","v":0},{"$f":"VLOOKUP($A247,Results3,L$3,FALSE)","v":0},{"$f":"VLOOKUP($A247,Results3,M$4,FALSE)","v":0},{"$f":"VLOOKUP($A247,Results3,N$3,FALSE)","v":0},{"$f":"VLOOKUP($A247,Results3,O$4,FALSE)","v":0},{"$f":"VLOOKUP($A247,Results3,P$3,FALSE)","v":0},{"$f":"VLOOKUP($A247,Results3,Q$4,FALSE)","v":0},{"$f":"VLOOKUP($A247,Results3,R$3,FALSE)","v":0},{"$f":"VLOOKUP($A247,Results3,S$4,FALSE)","v":0},{"$f":"VLOOKUP($A247,Results3,T$3,FALSE)","v":0},{"$f":"VLOOKUP($A247,Results3,U$4,FALSE)","v":0},{"$f":"VLOOKUP($A247,Results3,V$3,FALSE)","v":0},{"$f":"VLOOKUP($A247,Results3,W$4,FALSE)","v":0},0,0,0,0,0,0,0]
[{"$f":"B249&\"A\"","v":"55A"},null,null,{"$f":"VLOOKUP(B249,EventsOrder,4,FALSE)","v":"U15 Male"},"A",null,{"$f":"VLOOKUP($A248,Results3,G$3,FALSE)","v":"Jamil Welham"},null,{"$f":"VLOOKUP($A248,Results3,I$3,FALSE)","v":"Henri Codling"},null,{"$f":"VLOOKUP($A248,Results3,K$3,FALSE)","v":"Max Kent"},null,{"$f":"VLOOKUP($A248,Results3,M$3,FALSE)","v":"Adam Boon"},null,{"$f":"VLOOKUP($A248,Results3,O$3,FALSE)","v":"Roman Watson-Quilter"},null,{"$f":"VLOOKUP($A248,Results3,Q$3,FALSE)","v":"Skip Snelson"},null,{"$f":"VLOOKUP($A248,Results3,S$3,FALSE)","v":"Sam Davey"},null,{"$f":"VLOOKUP($A248,Results3,U$3,FALSE)","v":"Cameron King"},null,null,null,null,null,null,null,null,null,{"$f":"IF(LEN(G248)>1,1,0)","v":1}]
[{"$f":"B249&\"A\"","v":"55A"},55,{"$f":"VLOOKUP(B249,EventsOrder,2,FALSE)","v":2.5499999999999998},null,null,null,{"$f":"VLOOKUP($A249,Results3,G$4,FALSE)","v":"Bic"},{"$f":"VLOOKUP($A249,Results3,H$3,FALSE)","v":40.5},{"$f":"VLOOKUP($A249,Results3,I$4,FALSE)","v":"Kett"},{"$f":"VLOOKUP($A249,Results3,J$3,FALSE)","v":41},{"$f":"VLOOKUP($A249,Results3,K$4,FALSE)","v":"Tam"},{"$f":"VLOOKUP($A249,Results3,L$3,FALSE)","v":42.8},{"$f":"VLOOKUP($A249,Results3,M$4,FALSE)","v":"DASH"},{"$f":"VLOOKUP($A249,Results3,N$3,FALSE)","v":43.5},{"$f":"VLOOKUP($A249,Results3,O$4,FALSE)","v":"Wreake"},{"$f":"VLOOKUP($A249,Results3,P$3,FALSE)","v":46},{"$f":"VLOOKUP($A249,Results3,Q$4,FALSE)","v":"Ban"},{"$f":"VLOOKUP($A249,Results3,R$3,FALSE)","v":46.7},{"$f":"VLOOKUP($A249,Results3,S$4,FALSE)","v":"Worc"},{"$f":"VLOOKUP($A249,Results3,T$3,FALSE)","v":47.2},{"$f":"VLOOKUP($A249,Results3,U$4,FALSE)","v":"Rad"},{"$f":"VLOOKUP($A249,Results3,V$3,FALSE)","v":54.3},{"$f":"VLOOKUP($A249,Results3,W$4,FALSE)","v":3},{"$f":"VLOOKUP($A249,Results3,X$4,FALSE)","v":8},5,7,1,6,4,2]
[{"$f":"B249&\"B\"","v":"55B"},null,null,{"$f":"VLOOKUP(B249,EventsOrder,3,FALSE)","v":"300m"},"B",null,{"$f":"VLOOKUP($A250,Results3,G$3,FALSE)","v":"Ethan Nelis"},null,{"$f":"VLOOKUP($A250,Results3,I$3,FALSE)","v":"Talinder Kumar"},null,{"$f":"VLOOKUP($A250,Results3,K$3,FALSE)","v":"Lucca Watson-Quilter"},null,{"$f":"VLOOKUP($A250,Results3,M$3,FALSE)","v":"Richard Bungay"},null,{"$f":"VLOOKUP($A250,Results3,O$3,FALSE)","v":""},null,{"$f":"VLOOKUP($A250,Results3,Q$3,FALSE)","v":""},null,{"$f":"VLOOKUP($A250,Results3,S$3,FALSE)","v":""},null,{"$f":"VLOOKUP($A250,Results3,U$3,FALSE)","v":""}]
[{"$f":"B249&\"B\"","v":"55B"},null,null,null,null,null,{"$f":"VLOOKUP($A251,Results3,G$4,FALSE)","v":"Kett"},{"$f":"VLOOKUP($A251,Results3,H$3,FALSE)","v":44.7},{"$f":"VLOOKUP($A251,Results3,I$4,FALSE)","v":"DASH"},{"$f":"VLOOKUP($A251,Results3,J$3,FALSE)","v":44.7},{"$f":"VLOOKUP($A251,Results3,K$4,FALSE)","v":"Wreake"},{"$f":"VLOOKUP($A251,Results3,L$3,FALSE)","v":49.3},{"$f":"VLOOKUP($A251,Results3,M$4,FALSE)","v":"Rad"},{"$f":"VLOOKUP($A251,Results3,N$3,FALSE)","v":57.7},{"$f":"VLOOKUP($A251,Results3,O$4,FALSE)","v":0},{"$f":"VLOOKUP($A251,Results3,P$3,FALSE)","v":0},{"$f":"VLOOKUP($A251,Results3,Q$4,FALSE)","v":0},{"$f":"VLOOKUP($A251,Results3,R$3,FALSE)","v":0},{"$f":"VLOOKUP($A251,Results3,S$4,FALSE)","v":0},{"$f":"VLOOKUP($A251,Results3,T$3,FALSE)","v":0},{"$f":"VLOOKUP($A251,Results3,U$4,FALSE)","v":0},{"$f":"VLOOKUP($A251,Results3,V$3,FALSE)","v":0},{"$f":"VLOOKUP($A251,Results3,W$4,FALSE)","v":0},0,7,8,5,0,6,0]
[{"$f":"B253&\"A\"","v":"66A"},null,null,{"$f":"VLOOKUP(B253,EventsOrder,4,FALSE)","v":"U15 Male"},"A",null,{"$f":"VLOOKUP($A252,Results3,G$3,FALSE)","v":"Will Smith"},null,{"$f":"VLOOKUP($A252,Results3,I$3,FALSE)","v":"Will Simms"},null,{"$f":"VLOOKUP($A252,Results3,K$3,FALSE)","v":"Henri Codling"},null,{"$f":"VLOOKUP($A252,Results3,M$3,FALSE)","v":"Harry Walters"},null,{"$f":"VLOOKUP($A252,Results3,O$3,FALSE)","v":"Reece Westwood"},null,{"$f":"VLOOKUP($A252,Results3,Q$3,FALSE)","v":"Roman Watson-Quilter"},null,{"$f":"VLOOKUP($A252,Results3,S$3,FALSE)","v":"James Sherriff"},null,{"$f":"VLOOKUP($A252,Results3,U$3,FALSE)","v":""},null,null,null,null,null,null,null,null,null,{"$f":"IF(LEN(G252)>1,1,0)","v":1}]
[{"$f":"B253&\"A\"","v":"66A"},66,{"$f":"VLOOKUP(B253,EventsOrder,2,FALSE)","v":3.3},null,null,null,{"$f":"VLOOKUP($A253,Results3,G$4,FALSE)","v":"Rad"},{"$f":"VLOOKUP($A253,Results3,H$3,FALSE)","v":27.54},{"$f":"VLOOKUP($A253,Results3,I$4,FALSE)","v":"Bic"},{"$f":"VLOOKUP($A253,Results3,J$3,FALSE)","v":17.68},{"$f":"VLOOKUP($A253,Results3,K$4,FALSE)","v":"Kett"},{"$f":"VLOOKUP($A253,Results3,L$3,FALSE)","v":16.36},{"$f":"VLOOKUP($A253,Results3,M$4,FALSE)","v":"DASH"},{"$f":"VLOOKUP($A253,Results3,N$3,FALSE)","v":13.87},{"$f":"VLOOKUP($A253,Results3,O$4,FALSE)","v":"Worc"},{"$f":"VLOOKUP($A253,Results3,P$3,FALSE)","v":13.4},{"$f":"VLOOKUP($A253,Results3,Q$4,FALSE)","v":"Wreake"},{"$f":"VLOOKUP($A253,Results3,R$3,FALSE)","v":12.61},{"$f":"VLOOKUP($A253,Results3,S$4,FALSE)","v":"Tam"},{"$f":"VLOOKUP($A253,Results3,T$3,FALSE)","v":11.57},{"$f":"VLOOKUP($A253,Results3,U$4,FALSE)","v":0},{"$f":"VLOOKUP($A253,Results3,V$3,FALSE)","v":0},{"$f":"VLOOKUP($A253,Results3,W$4,FALSE)","v":0},{"$f":"VLOOKUP($A253,Results3,X$4,FALSE)","v":7},5,6,8,2,3,4]
[{"$f":"B253&\"B\"","v":"66B"},null,null,{"$f":"VLOOKUP(B253,EventsOrder,3,FALSE)","v":"Discus"},"B",null,{"$f":"VLOOKUP($A254,Results3,G$3,FALSE)","v":"Dylan Bowley"},null,{"$f":"VLOOKUP($A254,Results3,I$3,FALSE)","v":"Samuel Worfolk"},null,{"$f":"VLOOKUP($A254,Results3,K$3,FALSE)","v":"Max Kent"},null,{"$f":"VLOOKUP($A254,Results3,M$3,FALSE)","v":"Lucca Watson-Quilter"},null,{"$f":"VLOOKUP($A254,Results3,O$3,FALSE)","v":"Zak Thurley"},null,{"$f":"VLOOKUP($A254,Results3,Q$3,FALSE)","v":""},null,{"$f":"VLOOKUP($A254,Results3,S$3,FALSE)","v":""},null,{"$f":"VLOOKUP($A254,Results3,U$3,FALSE)","v":""}]
[{"$f":"B253&\"B\"","v":"66B"},null,null,null,null,null,{"$f":"VLOOKUP($A255,Results3,G$4,FALSE)","v":"Kett"},{"$f":"VLOOKUP($A255,Results3,H$3,FALSE)","v":14.79},{"$f":"VLOOKUP($A255,Results3,I$4,FALSE)","v":"Bic"},{"$f":"VLOOKUP($A255,Results3,J$3,FALSE)","v":14.57},{"$f":"VLOOKUP($A255,Results3,K$4,FALSE)","v":"Tam"},{"$f":"VLOOKUP($A255,Results3,L$3,FALSE)","v":11.41},{"$f":"VLOOKUP($A255,Results3,M$4,FALSE)","v":"Wreake"},{"$f":"VLOOKUP($A255,Results3,N$3,FALSE)","v":11.23},{"$f":"VLOOKUP($A255,Results3,O$4,FALSE)","v":"DASH"},{"$f":"VLOOKUP($A255,Results3,P$3,FALSE)","v":9.75},{"$f":"VLOOKUP($A255,Results3,Q$4,FALSE)","v":0},{"$f":"VLOOKUP($A255,Results3,R$3,FALSE)","v":0},{"$f":"VLOOKUP($A255,Results3,S$4,FALSE)","v":0},{"$f":"VLOOKUP($A255,Results3,T$3,FALSE)","v":0},{"$f":"VLOOKUP($A255,Results3,U$4,FALSE)","v":0},{"$f":"VLOOKUP($A255,Results3,V$3,FALSE)","v":0},{"$f":"VLOOKUP($A255,Results3,W$4,FALSE)","v":0},7,4,8,0,6,5,0]
[{"$f":"B257&\"A\"","v":"71A"},null,null,{"$f":"VLOOKUP(B257,EventsOrder,4,FALSE)","v":"U15 Male"},"A",null,{"$f":"VLOOKUP($A256,Results3,G$3,FALSE)","v":"Darian Moore"},null,{"$f":"VLOOKUP($A256,Results3,I$3,FALSE)","v":"Euan Jones"},null,{"$f":"VLOOKUP($A256,Results3,K$3,FALSE)","v":"Tom Slater"},null,{"$f":"VLOOKUP($A256,Results3,M$3,FALSE)","v":"Dylan Mukhtar"},null,{"$f":"VLOOKUP($A256,Results3,O$3,FALSE)","v":"Daniel Gifford"},null,{"$f":"VLOOKUP($A256,Results3,Q$3,FALSE)","v":"Will Andrews"},null,{"$f":"VLOOKUP($A256,Results3,S$3,FALSE)","v":"James Walker"},null,{"$f":"VLOOKUP($A256,Results3,U$3,FALSE)","v":""},null,null,null,null,null,null,null,null,null,{"$f":"IF(LEN(G256)>1,1,0)","v":1}]
[{"$f":"B257&\"A\"","v":"71A"},71,{"$f":"VLOOKUP(B257,EventsOrder,2,FALSE)","v":3.55},null,null,null,{"$f":"VLOOKUP($A257,Results3,G$4,FALSE)","v":"Worc"},{"$f":"VLOOKUP($A257,Results3,H$3,FALSE)","v":24.2},{"$f":"VLOOKUP($A257,Results3,I$4,FALSE)","v":"Wreake"},{"$f":"VLOOKUP($A257,Results3,J$3,FALSE)","v":24.9},{"$f":"VLOOKUP($A257,Results3,K$4,FALSE)","v":"DASH"},{"$f":"VLOOKUP($A257,Results3,L$3,FALSE)","v":25.2},{"$f":"VLOOKUP($A257,Results3,M$4,FALSE)","v":"Kett"},{"$f":"VLOOKUP($A257,Results3,N$3,FALSE)","v":25.3},{"$f":"VLOOKUP($A257,Results3,O$4,FALSE)","v":"Rad"},{"$f":"VLOOKUP($A257,Results3,P$3,FALSE)","v":26.1},{"$f":"VLOOKUP($A257,Results3,Q$4,FALSE)","v":"Ban"},{"$f":"VLOOKUP($A257,Results3,R$3,FALSE)","v":26.6},{"$f":"VLOOKUP($A257,Results3,S$4,FALSE)","v":"Tam"},{"$f":"VLOOKUP($A257,Results3,T$3,FALSE)","v":30.6},{"$f":"VLOOKUP($A257,Results3,U$4,FALSE)","v":0},{"$f":"VLOOKUP($A257,Results3,V$3,FALSE)","v":0},{"$f":"VLOOKUP($A257,Results3,W$4,FALSE)","v":3},{"$f":"VLOOKUP($A257,Results3,X$4,FALSE)","v":0},6,5,4,2,7,8]
[{"$f":"B257&\"B\"","v":"71B"},null,null,{"$f":"VLOOKUP(B257,EventsOrder,3,FALSE)","v":"200m"},"B",null,{"$f":"VLOOKUP($A258,Results3,G$3,FALSE)","v":"Lewis-Morgan Barton"},null,{"$f":"VLOOKUP($A258,Results3,I$3,FALSE)","v":"Andrew Jay"},null,{"$f":"VLOOKUP($A258,Results3,K$3,FALSE)","v":"Josh Rocks"},null,{"$f":"VLOOKUP($A258,Results3,M$3,FALSE)","v":"Richard Bungay"},null,{"$f":"VLOOKUP($A258,Results3,O$3,FALSE)","v":""},null,{"$f":"VLOOKUP($A258,Results3,Q$3,FALSE)","v":""},null,{"$f":"VLOOKUP($A258,Results3,S$3,FALSE)","v":""},null,{"$f":"VLOOKUP($A258,Results3,U$3,FALSE)","v":""}]
[{"$f":"B257&\"B\"","v":"71B"},null,null,null,null,null,{"$f":"VLOOKUP($A259,Results3,G$4,FALSE)","v":"Kett"},{"$f":"VLOOKUP($A259,Results3,H$3,FALSE)","v":"NTR"},{"$f":"VLOOKUP($A259,Results3,I$4,FALSE)","v":"Worc"},{"$f":"VLOOKUP($A259,Results3,J$3,FALSE)","v":"NTR"},{"$f":"VLOOKUP($A259,Results3,K$4,FALSE)","v":"Wreake"},{"$f":"VLOOKUP($A259,Results3,L$3,FALSE)","v":"NTR"},{"$f":"VLOOKUP($A259,Results3,M$4,FALSE)","v":"Rad"},{"$f":"VLOOKUP($A259,Results3,N$3,FALSE)","v":"NTR"},{"$f":"VLOOKUP($A259,Results3,O$4,FALSE)","v":0},{"$f":"VLOOKUP($A259,Results3,P$3,FALSE)","v":0},{"$f":"VLOOKUP($A259,Results3,Q$4,FALSE)","v":0},{"$f":"VLOOKUP($A259,Results3,R$3,FALSE)","v":0},{"$f":"VLOOKUP($A259,Results3,S$4,FALSE)","v":0},{"$f":"VLOOKUP($A259,Results3,T$3,FALSE)","v":0},{"$f":"VLOOKUP($A259,Results3,U$4,FALSE)","v":0},{"$f":"VLOOKUP($A259,Results3,V$3,FALSE)","v":0},{"$f":"VLOOKUP($A259,Results3,W$4,FALSE)","v":0},0,0,8,5,0,6,7]
[{"$f":"B261&\"A\"","v":"76A"},null,null,{"$f":"VLOOKUP(B261,EventsOrder,4,FALSE)","v":"U15 Male"},"A",null,{"$f":"VLOOKUP($A260,Results3,G$3,FALSE)","v":"Harry Walters"},null,{"$f":"VLOOKUP($A260,Results3,I$3,FALSE)","v":"Max Kent"},null,{"$f":"VLOOKUP($A260,Results3,K$3,FALSE)","v":"James Dale"},null,{"$f":"VLOOKUP($A260,Results3,M$3,FALSE)","v":"Skip Snelson"},null,{"$f":"VLOOKUP($A260,Results3,O$3,FALSE)","v":"Roman Watson-Quilter"},null,{"$f":"VLOOKUP($A260,Results3,Q$3,FALSE)","v":"Samuel Worfolk"},null,{"$f":"VLOOKUP($A260,Results3,S$3,FALSE)","v":"Cameron King"},null,{"$f":"VLOOKUP($A260,Results3,U$3,FALSE)","v":""},null,null,null,null,null,null,null,null,null,{"$f":"IF(LEN(G260)>1,1,0)","v":1}]
[{"$f":"B261&\"A\"","v":"76A"},76,{"$f":"VLOOKUP(B261,EventsOrder,2,FALSE)","v":4.3},null,null,null,{"$f":"VLOOKUP($A261,Results3,G$4,FALSE)","v":"DASH"},{"$f":"VLOOKUP($A261,Results3,H$3,FALSE)","v":"4.42.7"},{"$f":"VLOOKUP($A261,Results3,I$4,FALSE)","v":"Tam"},{"$f":"VLOOKUP($A261,Results3,J$3,FALSE)","v":"4.46.3"},{"$f":"VLOOKUP($A261,Results3,K$4,FALSE)","v":"Worc"},{"$f":"VLOOKUP($A261,Results3,L$3,FALSE)","v":"4.47.4"},{"$f":"VLOOKUP($A261,Results3,M$4,FALSE)","v":"Ban"},{"$f":"VLOOKUP($A261,Results3,N$3,FALSE)","v":"4.51.1"},{"$f":"VLOOKUP($A261,Results3,O$4,FALSE)","v":"Wreake"},{"$f":"VLOOKUP($A261,Results3,P$3,FALSE)","v":"5.00.7"},{"$f":"VLOOKUP($A261,Results3,Q$4,FALSE)","v":"Bic"},{"$f":"VLOOKUP($A261,Results3,R$3,FALSE)","v":"5.25.9"},{"$f":"VLOOKUP($A261,Results3,S$4,FALSE)","v":"Rad"},{"$f":"VLOOKUP($A261,Results3,T$3,FALSE)","v":"NTR"},{"$f":"VLOOKUP($A261,Results3,U$4,FALSE)","v":0},{"$f":"VLOOKUP($A261,Results3,V$3,FALSE)","v":0},{"$f":"VLOOKUP($A261,Results3,W$4,FALSE)","v":5},{"$f":"VLOOKUP($A261,Results3,X$4,FALSE)","v":3},8,0,2,7,4,6]
[{"$f":"B261&\"B\"","v":"76B"},null,null,{"$f":"VLOOKUP(B261,EventsOrder,3,FALSE)","v":"1500m"},"B",null,{"$f":"VLOOKUP($A262,Results3,G$3,FALSE)","v":"James Sherriff"},null,{"$f":"VLOOKUP($A262,Results3,I$3,FALSE)","v":"Lucca Watson-Quilter"},null,{"$f":"VLOOKUP($A262,Results3,K$3,FALSE)","v":""},null,{"$f":"VLOOKUP($A262,Results3,M$3,FALSE)","v":""},null,{"$f":"VLOOKUP($A262,Results3,O$3,FALSE)","v":""},null,{"$f":"VLOOKUP($A262,Results3,Q$3,FALSE)","v":""},null,{"$f":"VLOOKUP($A262,Results3,S$3,FALSE)","v":""},null,{"$f":"VLOOKUP($A262,Results3,U$3,FALSE)","v":""}]
[{"$f":"B261&\"B\"","v":"76B"},null,null,null,null,null,{"$f":"VLOOKUP($A263,Results3,G$4,FALSE)","v":"Tam"},{"$f":"VLOOKUP($A263,Results3,H$3,FALSE)","v":"4.46.8"},{"$f":"VLOOKUP($A263,Results3,I$4,FALSE)","v":"Wreake"},{"$f":"VLOOKUP($A263,Results3,J$3,FALSE)","v":"5.06.2"},{"$f":"VLOOKUP($A263,Results3,K$4,FALSE)","v":0},{"$f":"VLOOKUP($A263,Results3,L$3,FALSE)","v":0},{"$f":"VLOOKUP($A263,Results3,M$4,FALSE)","v":0},{"$f":"VLOOKUP($A263,Results3,N$3,FALSE)","v":0},{"$f":"VLOOKUP($A263,Results3,O$4,FALSE)","v":0},{"$f":"VLOOKUP($A263,Results3,P$3,FALSE)","v":0},{"$f":"VLOOKUP($A263,Results3,Q$4,FALSE)","v":0},{"$f":"VLOOKUP($A263,Results3,R$3,FALSE)","v":0},{"$f":"VLOOKUP($A263,Results3,S$4,FALSE)","v":0},{"$f":"VLOOKUP($A263,Results3,T$3,FALSE)","v":0},{"$f":"VLOOKUP($A263,Results3,U$4,FALSE)","v":0},{"$f":"VLOOKUP($A263,Results3,V$3,FALSE)","v":0},{"$f":"VLOOKUP($A263,Results3,W$4,FALSE)","v":0},0,0,0,0,8,7,0]
[{"$f":"B265&\"A\"","v":"86A"},null,null,null,null,null,{"$f":"VLOOKUP($A264,Results3,G$3,FALSE)","v":"Worcester"},null,{"$f":"VLOOKUP($A264,Results3,I$3,FALSE)","v":"Kettering Town Harriers"},null,{"$f":"VLOOKUP($A264,Results3,K$3,FALSE)","v":"Dudley & S'bridge"},null,{"$f":"VLOOKUP($A264,Results3,M$3,FALSE)","v":"Wreake Runners"},null,{"$f":"VLOOKUP($A264,Results3,O$3,FALSE)","v":""},null,{"$f":"VLOOKUP($A264,Results3,Q$3,FALSE)","v":""},null,{"$f":"VLOOKUP($A264,Results3,S$3,FALSE)","v":""},null,{"$f":"VLOOKUP($A264,Results3,U$3,FALSE)","v":""},null,null,null,null,null,null,null,null,null,{"$f":"IF(LEN(G264)>1,1,0)","v":1}]
[{"$f":"B265&\"A\"","v":"86A"},86,{"$f":"VLOOKUP(B265,EventsOrder,2,FALSE)","v":5.15},{"$f":"VLOOKUP(B265,EventsOrder,4,FALSE)","v":"U15 Male"},null,null,{"$f":"VLOOKUP($A265,Results3,G$4,FALSE)","v":"Worc"},{"$f":"VLOOKUP($A265,Results3,H$3,FALSE)","v":51.2},{"$f":"VLOOKUP($A265,Results3,I$4,FALSE)","v":"Kett"},{"$f":"VLOOKUP($A265,Results3,J$3,FALSE)","v":53},{"$f":"VLOOKUP($A265,Results3,K$4,FALSE)","v":"DASH"},{"$f":"VLOOKUP($A265,Results3,L$3,FALSE)","v":53.3},{"$f":"VLOOKUP($A265,Results3,M$4,FALSE)","v":"Wreake"},{"$f":"VLOOKUP($A265,Results3,N$3,FALSE)","v":55},{"$f":"VLOOKUP($A265,Results3,O$4,FALSE)","v":0},{"$f":"VLOOKUP($A265,Results3,P$3,FALSE)","v":0},{"$f":"VLOOKUP($A265,Results3,Q$4,FALSE)","v":0},{"$f":"VLOOKUP($A265,Results3,R$3,FALSE)","v":0},{"$f":"VLOOKUP($A265,Results3,S$4,FALSE)","v":0},{"$f":"VLOOKUP($A265,Results3,T$3,FALSE)","v":0},{"$f":"VLOOKUP($A265,Results3,U$4,FALSE)","v":0},{"$f":"VLOOKUP($A265,Results3,V$3,FALSE)","v":0},{"$f":"VLOOKUP($A265,Results3,W$4,FALSE)","v":0},0,6,7,0,0,5,8]
[{"$f":"B265&\"B\"","v":"86B"},null,null,null,null,1,{"$f":"IF(LEN(G$265)>1,HLOOKUP(G$265,Relays,$A513,FALSE),\"\")","v":"Charlie Bloomfield"},null,{"$f":"IF(LEN(I$265)>1,HLOOKUP(I$265,Relays,$A513,FALSE),\"\")","v":"Lewis-Morgan Barton"},null,{"$f":"IF(LEN(K$265)>1,HLOOKUP(K$265,Relays,$A513,FALSE),\"\")","v":"Tom Slater"},null,{"$f":"IF(LEN(M$265)>1,HLOOKUP(M$265,Relays,$A513,FALSE),\"\")","v":"Euan Jones"},null,{"$f":"IF(LEN(O$265)>1,HLOOKUP(O$265,Relays,$A513,FALSE),\"\")","v":""},null,{"$f":"IF(LEN(Q$265)>1,HLOOKUP(Q$265,Relays,$A513,FALSE),\"\")","v":""},null,{"$f":"IF(LEN(S$265)>1,HLOOKUP(S$265,Relays,$A513,FALSE),\"\")","v":""},null,{"$f":"IF(LEN(U$265)>1,HLOOKUP(U$265,Relays,$A513,FALSE),\"\")","v":""}]
[{"$f":"B265&\"B\"","v":"86B"},null,null,{"$f":"VLOOKUP(B265,EventsOrder,3,FALSE)","v":"4 x 100m"},null,2,{"$f":"IF(LEN(G$265)>1,HLOOKUP(G$265,Relays,$A514,FALSE),\"\")","v":"Andrew Jay"},null,{"$f":"IF(LEN(I$265)>1,HLOOKUP(I$265,Relays,$A514,FALSE),\"\")","v":"Dylan Bowley"},null,{"$f":"IF(LEN(K$265)>1,HLOOKUP(K$265,Relays,$A514,FALSE),\"\")","v":"Jamie Tranter"},null,{"$f":"IF(LEN(M$265)>1,HLOOKUP(M$265,Relays,$A514,FALSE),\"\")","v":"Josh Rocks"},null,{"$f":"IF(LEN(O$265)>1,HLOOKUP(O$265,Relays,$A514,FALSE),\"\")","v":""},null,{"$f":"IF(LEN(Q$265)>1,HLOOKUP(Q$265,Relays,$A514,FALSE),\"\")","v":""},null,{"$f":"IF(LEN(S$265)>1,HLOOKUP(S$265,Relays,$A514,FALSE),\"\")","v":""},null,{"$f":"IF(LEN(U$265)>1,HLOOKUP(U$265,Relays,$A514,FALSE),\"\")","v":""}]
[{"$f":"B265&\"R\"","v":"86R"},null,null,null,null,3,{"$f":"IF(LEN(G$265)>1,HLOOKUP(G$265,Relays,$A515,FALSE),\"\")","v":"Marco Miller"},null,{"$f":"IF(LEN(I$265)>1,HLOOKUP(I$265,Relays,$A515,FALSE),\"\")","v":"Dylan Mukhtar"},null,{"$f":"IF(LEN(K$265)>1,HLOOKUP(K$265,Relays,$A515,FALSE),\"\")","v":"Talinder Kumar"},null,{"$f":"IF(LEN(M$265)>1,HLOOKUP(M$265,Relays,$A515,FALSE),\"\")","v":"Roman Watson-Quilter"},null,{"$f":"IF(LEN(O$265)>1,HLOOKUP(O$265,Relays,$A515,FALSE),\"\")","v":""},null,{"$f":"IF(LEN(Q$265)>1,HLOOKUP(Q$265,Relays,$A515,FALSE),\"\")","v":""},null,{"$f":"IF(LEN(S$265)>1,HLOOKUP(S$265,Relays,$A515,FALSE),\"\")","v":""},null,{"$f":"IF(LEN(U$265)>1,HLOOKUP(U$265,Relays,$A515,FALSE),\"\")","v":""}]
[{"$f":"B265&\"S\"","v":"86S"},null,null,null,null,4,{"$f":"IF(LEN(G$265)>1,HLOOKUP(G$265,Relays,$A516,FALSE),\"\")","v":"Darian Moore"},null,{"$f":"IF(LEN(I$265)>1,HLOOKUP(I$265,Relays,$A516,FALSE),\"\")","v":"Henri-Codling"},null,{"$f":"IF(LEN(K$265)>1,HLOOKUP(K$265,Relays,$A516,FALSE),\"\")","v":"Adam Boon"},null,{"$f":"IF(LEN(M$265)>1,HLOOKUP(M$265,Relays,$A516,FALSE),\"\")","v":"Lucca Watson-Quilter"},null,{"$f":"IF(LEN(O$265)>1,HLOOKUP(O$265,Relays,$A516,FALSE),\"\")","v":""},null,{"$f":"IF(LEN(Q$265)>1,HLOOKUP(Q$265,Relays,$A516,FALSE),\"\")","v":""},null,{"$f":"IF(LEN(S$265)>1,HLOOKUP(S$265,Relays,$A516,FALSE),\"\")","v":""},null,{"$f":"IF(LEN(U$265)>1,HLOOKUP(U$265,Relays,$A516,FALSE),\"\")","v":""}]
[null,null,null,null,null,null,null,null,null,null,null,null,null,null,null,null,null,null,null,null,"Officials Points",null,{"$f":"Officials!C$20","v":14},{"$f":"Officials!D$20","v":14},{"$f":"Officials!E$20","v":10},{"$f":"Officials!F$20","v":8},{"$f":"Officials!G$20","v":14},{"$f":"Officials!H$20","v":6},{"$f":"Officials!I$20","v":8},{"$f":"Officials!J$20","v":14}]
[null,{"$f":"COUNTIF(B220:B270,\">0\")","v":12},null,null,null,null,null,null,null,null,null,null,null,null,null,null,null,null,null,null,"Total Points",null,{"$f":"SUM(W220:W270)","v":36},61,85,105,67,46,91,106,{"$f":"SUM(AE220:AE266)","v":11}]
[null,null,null,null,null,null,null,null,null,null,null,null,null,null,null,null,null,null,null,null,"Match Position",null,{"$f":"RANK(W271,$W271:$AD271)","v":8},6,4,2,5,7,3,1]
[]
[null,"Event No",null,null,null,null,null,null,null,null,{"$f":"K217","v":"Heart of England League Results"},null,null,null,null,null,null,null,null,null,null,null,{"$f":"W$8","v":"Banbury"},{"$f":"X$8","v":"Bicester"},"Dudley & S'bridge","Kettering","Radley","Tamworth","Wreake Runners","Worcester"]
[null,null,null,"Division",{"$f":"E218","v":2},null,null,"U15 Female",null,null,"Venue",{"$f":"L218","v":"Worcester"},null,null,null,null,"Date",{"$f":"R218","v":"5th June 2016"}]
[null,null,"Time","Event",null,null,"First",null,"Second",null,"Third",null,"Fourth",null,"Fifth",null,"Sixth",null,"Seventh",null,"Eighth",null,{"$f":"W$10","v":"J"},{"$f":"X$10","v":"P"},"B","I","R","F","X","Y"]
[{"$f":"B278&\"A\"","v":"4A"},null,null,{"$f":"VLOOKUP(B278,EventsOrder,4,FALSE)","v":"U15 Female"},"A",null,{"$f":"VLOOKUP($A277,Results3,G$3,FALSE)","v":"Eve Clawley"},null,{"$f":"VLOOKUP($A277,Results3,I$3,FALSE)","v":"Rachel Nealon"},null,{"$f":"VLOOKUP($A277,Results3,K$3,FALSE)","v":"Holly Love"},null,{"$f":"VLOOKUP($A277,Results3,M$3,FALSE)","v":"Rachel Burton"},null,{"$f":"VLOOKUP($A277,Results3,O$3,FALSE)","v":"Daisy Robinson"},null,{"$f":"VLOOKUP($A277,Results3,Q$3,FALSE)","v":"Holly Hunter"},null,{"$f":"VLOOKUP($A277,Results3,S$3,FALSE)","v":""},null,{"$f":"VLOOKUP($A277,Results3,U$3,FALSE)","v":""},null,null,null,null,null,null,null,null,null,{"$f":"IF(LEN(G277)>1,1,0)","v":1}]
[{"$f":"B278&\"A\"","v":"4A"},4,{"$f":"VLOOKUP(B278,EventsOrder,2,FALSE)","v":11.55},null,null,null,{"$f":"VLOOKUP($A278,Results3,G$4,FALSE)","v":"Tam"},{"$f":"VLOOKUP($A278,Results3,H$3,FALSE)","v":"4.58.5"},{"$f":"VLOOKUP($A278,Results3,I$4,FALSE)","v":"Wreake"},{"$f":"VLOOKUP($A278,Results3,J$3,FALSE)","v":"5.01.2"},{"$f":"VLOOKUP($A278,Results3,K$4,FALSE)","v":"Worc"},{"$f":"VLOOKUP($A278,Results3,L$3,FALSE)","v":"5.13.3"},{"$f":"VLOOKUP($A278,Results3,M$4,FALSE)","v":"Rad"},{"$f":"VLOOKUP($A278,Results3,N$3,FALSE)","v":"5.21.6"},{"$f":"VLOOKUP($A278,Results3,O$4,FALSE)","v":"Kett"},{"$f":"VLOOKUP($A278,Results3,P$3,FALSE)","v":"5.40.2"},{"$f":"VLOOKUP($A278,Results3,Q$4,FALSE)","v":"Bic"},{"$f":"VLOOKUP($A278,Results3,R$3,FALSE)","v":"6.35.7"},{"$f":"VLOOKUP($A278,Results3,S$4,FALSE)","v":0},{"$f":"VLOOKUP($A278,Results3,T$3,FALSE)","v":0},{"$f":"VLOOKUP($A278,Results3,U$4,FALSE)","v":0},{"$f":"VLOOKUP($A278,Results3,V$3,FALSE)","v":0},{"$f":"VLOOKUP($A278,Results3,W$4,FALSE)","v":0},{"$f":"VLOOKUP($A278,Results3,X$4,FALSE)","v":3},0,4,5,8,7,6]
[{"$f":"B278&\"B\"","v":"4B"},null,null,{"$f":"VLOOKUP(B278,EventsOrder,3,FALSE)","v":"1500m"},"B",null,{"$f":"VLOOKUP($A279,Results3,G$3,FALSE)","v":"Rosie Timlock"},null,{"$f":"VLOOKUP($A279,Results3,I$3,FALSE)","v":"Hermione Jewel"},null,{"$f":"VLOOKUP($A279,Results3,K$3,FALSE)","v":"Lauren Matthews"},null,{"$f":"VLOOKUP($A279,Results3,M$3,FALSE)","v":"Isabella Moxey"},null,{"$f":"VLOOKUP($A279,Results3,O$3,FALSE)","v":""},null,{"$f":"VLOOKUP($A279,Results3,Q$3,FALSE)","v":""},null,{"$f":"VLOOKUP($A279,Results3,S$3,FALSE)","v":""},null,{"$f":"VLOOKUP($A279,Results3,U$3,FALSE)","v":""}]
[{"$f":"B278&\"B\"","v":"4B"},null,null,null,null,null,{"$f":"VLOOKUP($A280,Results3,G$4,FALSE)","v":"Wreake"},{"$f":"VLOOKUP($A280,Results3,H$3,FALSE)","v":"5.16.0"},{"$f":"VLOOKUP($A280,Results3,I$4,FALSE)","v":"Rad"},{"$f":"VLOOKUP($A280,Results3,J$3,FALSE)","v":"5.24.1"},{"$f":"VLOOKUP($A280,Results3,K$4,FALSE)","v":"Worc"},{"$f":"VLOOKUP($A280,Results3,L$3,FALSE)","v":"5.31.6"},{"$f":"VLOOKUP($A280,Results3,M$4,FALSE)","v":"Kett"},{"$f":"VLOOKUP($A280,Results3,N$3,FALSE)","v":"6.53.8"},{"$f":"VLOOKUP($A280,Results3,O$4,FALSE)","v":0},{"$f":"VLOOKUP($A280,Results3,P$3,FALSE)","v":0},{"$f":"VLOOKUP($A280,Results3,Q$4,FALSE)","v":0},{"$f":"VLOOKUP($A280,Results3,R$3,FALSE)","v":0},{"$f":"VLOOKUP($A280,Results3,S$4,FALSE)","v":0},{"$f":"VLOOKUP($A280,Results3,T$3,FALSE)","v":0},{"$f":"VLOOKUP($A280,Results3,U$4,FALSE)","v":0},{"$f":"VLOOKUP($A280,Results3,V$3,FALSE)","v":0},{"$f":"VLOOKUP($A280,Results3,W$4,FALSE)","v":0},0,0,5,7,0,8,6]
[{"$f":"B282&\"A\"","v":"9A"},null,null,{"$f":"VLOOKUP(B282,EventsOrder,4,FALSE)","v":"U15 Female"},"A",null,{"$f":"VLOOKUP($A281,Results3,G$3,FALSE)","v":"Rachel Burton"},null,{"$f":"VLOOKUP($A281,Results3,I$3,FALSE)","v":"Matilda Braithwaite"},null,{"$f":"VLOOKUP($A281,Results3,K$3,FALSE)","v":"Samantha Bowkett"},null,{"$f":"VLOOKUP($A281,Results3,M$3,FALSE)","v":"Elizabeth Eskender"},null,{"$f":"VLOOKUP($A281,Results3,O$3,FALSE)","v":"Alice Jones"},null,{"$f":"VLOOKUP($A281,Results3,Q$3,FALSE)","v":"Molly Acton"},null,{"$f":"VLOOKUP($A281,Results3,S$3,FALSE)","v":"Grace Slater"},null,{"$f":"VLOOKUP($A281,Results3,U$3,FALSE)","v":"Rosie Timlock"},null,null,null,null,null,null,null,null,null,{"$f":"IF(LEN(G281)>1,1,0)","v":1}]
[{"$f":"B282&\"A\"","v":"9A"},9,{"$f":"VLOOKUP(B282,EventsOrder,2,FALSE)","v":12.15},null,null,null,{"$f":"VLOOKUP($A282,Results3,G$4,FALSE)","v":"Rad"},{"$f":"VLOOKUP($A282,Results3,H$3,FALSE)","v":24.28},{"$f":"VLOOKUP($A282,Results3,I$4,FALSE)","v":"Kett"},{"$f":"VLOOKUP($A282,Results3,J$3,FALSE)","v":18.98},{"$f":"VLOOKUP($A282,Results3,K$4,FALSE)","v":"Worc"},{"$f":"VLOOKUP($A282,Results3,L$3,FALSE)","v":16.010000000000002},{"$f":"VLOOKUP($A282,Results3,M$4,FALSE)","v":"Ban"},{"$f":"VLOOKUP($A282,Results3,N$3,FALSE)","v":15.55},{"$f":"VLOOKUP($A282,Results3,O$4,FALSE)","v":"Tam"},{"$f":"VLOOKUP($A282,Results3,P$3,FALSE)","v":14.82},{"$f":"VLOOKUP($A282,Results3,Q$4,FALSE)","v":"Bic"},{"$f":"VLOOKUP($A282,Results3,R$3,FALSE)","v":12.86},{"$f":"VLOOKUP($A282,Results3,S$4,FALSE)","v":"DASH"},{"$f":"VLOOKUP($A282,Results3,T$3,FALSE)","v":11.85},{"$f":"VLOOKUP($A282,Results3,U$4,FALSE)","v":"Wreake"},{"$f":"VLOOKUP($A282,Results3,V$3,FALSE)","v":10.92},{"$f":"VLOOKUP($A282,Results3,W$4,FALSE)","v":5},{"$f":"VLOOKUP($A282,Results3,X$4,FALSE)","v":3},2,7,8,4,1,6]
[{"$f":"B282&\"B\"","v":"9B"},null,null,{"$f":"VLOOKUP(B282,EventsOrder,3,FALSE)","v":"Discus"},"B",null,{"$f":"VLOOKUP($A283,Results3,G$3,FALSE)","v":"Katie Harris"},null,{"$f":"VLOOKUP($A283,Results3,I$3,FALSE)","v":"Hermione Jewel"},null,{"$f":"VLOOKUP($A283,Results3,K$3,FALSE)","v":"Millie Toseland"},null,{"$f":"VLOOKUP($A283,Results3,M$3,FALSE)","v":"Jessica Grainger"},null,{"$f":"VLOOKUP($A283,Results3,O$3,FALSE)","v":"Rachel Nealon"},null,{"$f":"VLOOKUP($A283,Results3,Q$3,FALSE)","v":""},null,{"$f":"VLOOKUP($A283,Results3,S$3,FALSE)","v":""},null,{"$f":"VLOOKUP($A283,Results3,U$3,FALSE)","v":""}]
[{"$f":"B282&\"B\"","v":"9B"},null,null,null,null,null,{"$f":"VLOOKUP($A284,Results3,G$4,FALSE)","v":"Worc"},{"$f":"VLOOKUP($A284,Results3,H$3,FALSE)","v":13.8},{"$f":"VLOOKUP($A284,Results3,I$4,FALSE)","v":"Rad"},{"$f":"VLOOKUP($A284,Results3,J$3,FALSE)","v":10.58},{"$f":"VLOOKUP($A284,Results3,K$4,FALSE)","v":"Kett"},{"$f":"VLOOKUP($A284,Results3,L$3,FALSE)","v":10.34},{"$f":"VLOOKUP($A284,Results3,M$4,FALSE)","v":"DASH"},{"$f":"VLOOKUP($A284,Results3,N$3,FALSE)","v":10.1},{"$f":"VLOOKUP($A284,Results3,O$4,FALSE)","v":"Wreake"},{"$f":"VLOOKUP($A284,Results3,P$3,FALSE)","v":9.85},{"$f":"VLOOKUP($A284,Results3,Q$4,FALSE)","v":0},{"$f":"VLOOKUP($A284,Results3,R$3,FALSE)","v":0},{"$f":"VLOOKUP($A284,Results3,S$4,FALSE)","v":0},{"$f":"VLOOKUP($A284,Results3,T$3,FALSE)","v":0},{"$f":"VLOOKUP($A284,Results3,U$4,FALSE)","v":0},{"$f":"VLOOKUP($A284,Results3,V$3,FALSE)","v":0},{"$f":"VLOOKUP($A284,Results3,W$4,FALSE)","v":0},0,5,6,7,0,4,8]
[{"$f":"B286&\"A\"","v":"13A"},null,null,{"$f":"VLOOKUP(B286,EventsOrder,4,FALSE)","v":"U15 Female"},"A",null,{"$f":"VLOOKUP($A285,Results3,G$3,FALSE)","v":"Deanna Clarke"},null,{"$f":"VLOOKUP($A285,Results3,I$3,FALSE)","v":"Holly Griffiths-Brown"},null,{"$f":"VLOOKUP($A285,Results3,K$3,FALSE)","v":"Sydney Sellers"},null,{"$f":"VLOOKUP($A285,Results3,M$3,FALSE)","v":"Isobel Fisher"},null,{"$f":"VLOOKUP($A285,Results3,O$3,FALSE)","v":"Holly Hunter"},null,{"$f":"VLOOKUP($A285,Results3,Q$3,FALSE)","v":"Ravenn Cook"},null,{"$f":"VLOOKUP($A285,Results3,S$3,FALSE)","v":""},null,{"$f":"VLOOKUP($A285,Results3,U$3,FALSE)","v":""},null,null,null,null,null,null,null,null,null,{"$f":"IF(LEN(G285)>1,1,0)","v":1}]
[{"$f":"B286&\"A\"","v":"13A"},13,{"$f":"VLOOKUP(B286,EventsOrder,2,FALSE)","v":12.3},null,null,null,{"$f":"VLOOKUP($A286,Results3,G$4,FALSE)","v":"Worc"},{"$f":"VLOOKUP($A286,Results3,H$3,FALSE)","v":12.9},{"$f":"VLOOKUP($A286,Results3,I$4,FALSE)","v":"Rad"},{"$f":"VLOOKUP($A286,Results3,J$3,FALSE)","v":13},{"$f":"VLOOKUP($A286,Results3,K$4,FALSE)","v":"Ban"},{"$f":"VLOOKUP($A286,Results3,L$3,FALSE)","v":13.1},{"$f":"VLOOKUP($A286,Results3,M$4,FALSE)","v":"DASH"},{"$f":"VLOOKUP($A286,Results3,N$3,FALSE)","v":14.1},{"$f":"VLOOKUP($A286,Results3,O$4,FALSE)","v":"Bic"},{"$f":"VLOOKUP($A286,Results3,P$3,FALSE)","v":15.2},{"$f":"VLOOKUP($A286,Results3,Q$4,FALSE)","v":"Wreake"},{"$f":"VLOOKUP($A286,Results3,R$3,FALSE)","v":15.3},{"$f":"VLOOKUP($A286,Results3,S$4,FALSE)","v":0},{"$f":"VLOOKUP($A286,Results3,T$3,FALSE)","v":0},{"$f":"VLOOKUP($A286,Results3,U$4,FALSE)","v":0},{"$f":"VLOOKUP($A286,Results3,V$3,FALSE)","v":0},{"$f":"VLOOKUP($A286,Results3,W$4,FALSE)","v":6},{"$f":"VLOOKUP($A286,Results3,X$4,FALSE)","v":4},5,0,7,0,3,8]
[{"$f":"B286&\"B\"","v":"13B"},null,null,{"$f":"VLOOKUP(B286,EventsOrder,3,FALSE)","v":"75m hurdles"},"B",null,{"$f":"VLOOKUP($A287,Results3,G$3,FALSE)","v":"Sarah-Jane Ollis"},null,{"$f":"VLOOKUP($A287,Results3,I$3,FALSE)","v":"Niamh Darby"},null,{"$f":"VLOOKUP($A287,Results3,K$3,FALSE)","v":"Hannah Mott"},null,{"$f":"VLOOKUP($A287,Results3,M$3,FALSE)","v":"Charotte Hewett"},null,{"$f":"VLOOKUP($A287,Results3,O$3,FALSE)","v":""},null,{"$f":"VLOOKUP($A287,Results3,Q$3,FALSE)","v":""},null,{"$f":"VLOOKUP($A287,Results3,S$3,FALSE)","v":""},null,{"$f":"VLOOKUP($A287,Results3,U$3,FALSE)","v":""}]
[{"$f":"B286&\"B\"","v":"13B"},null,null,null,null,null,{"$f":"VLOOKUP($A288,Results3,G$4,FALSE)","v":"Worc"},{"$f":"VLOOKUP($A288,Results3,H$3,FALSE)","v":13.4},{"$f":"VLOOKUP($A288,Results3,I$4,FALSE)","v":"DASH"},{"$f":"VLOOKUP($A288,Results3,J$3,FALSE)","v":14},{"$f":"VLOOKUP($A288,Results3,K$4,FALSE)","v":"Rad"},{"$f":"VLOOKUP($A288,Results3,L$3,FALSE)","v":15.5},{"$f":"VLOOKUP($A288,Results3,M$4,FALSE)","v":"Bic"},{"$f":"VLOOKUP($A288,Results3,N$3,FALSE)","v":16.3},{"$f":"VLOOKUP($A288,Results3,O$4,FALSE)","v":0},{"$f":"VLOOKUP($A288,Results3,P$3,FALSE)","v":0},{"$f":"VLOOKUP($A288,Results3,Q$4,FALSE)","v":0},{"$f":"VLOOKUP($A288,Results3,R$3,FALSE)","v":0},{"$f":"VLOOKUP($A288,Results3,S$4,FALSE)","v":0},{"$f":"VLOOKUP($A288,Results3,T$3,FALSE)","v":0},{"$f":"VLOOKUP($A288,Results3,U$4,FALSE)","v":0},{"$f":"VLOOKUP($A288,Results3,V$3,FALSE)","v":0},{"$f":"VLOOKUP($A288,Results3,W$4,FALSE)","v":0},5,7,0,6,0,0,8]
[{"$f":"B290&\"A\"","v":"17A"},null,null,{"$f":"VLOOKUP(B290,EventsOrder,4,FALSE)","v":"U15 Female"},"A",null,{"$f":"VLOOKUP($A289,Results3,G$3,FALSE)","v":"Emma Shorwood"},null,{"$f":"VLOOKUP($A289,Results3,I$3,FALSE)","v":"Danielle Hopkins"},null,{"$f":"VLOOKUP($A289,Results3,K$3,FALSE)","v":"Holly Griffiths-Brown"},null,{"$f":"VLOOKUP($A289,Results3,M$3,FALSE)","v":"Alex Beale"},null,{"$f":"VLOOKUP($A289,Results3,O$3,FALSE)","v":""},null,{"$f":"VLOOKUP($A289,Results3,Q$3,FALSE)","v":""},null,{"$f":"VLOOKUP($A289,Results3,S$3,FALSE)","v":""},null,{"$f":"VLOOKUP($A289,Results3,U$3,FALSE)","v":""},null,null,null,null,null,null,null,null,null,{"$f":"IF(LEN(G289)>1,1,0)","v":1}]
[{"$f":"B290&\"A\"","v":"17A"},17,{"$f":"VLOOKUP(B290,EventsOrder,2,FALSE)","v":12.55},null,null,null,{"$f":"VLOOKUP($A290,Results3,G$4,FALSE)","v":"DASH"},{"$f":"VLOOKUP($A290,Results3,H$3,FALSE)","v":1.65},{"$f":"VLOOKUP($A290,Results3,I$4,FALSE)","v":"Worc"},{"$f":"VLOOKUP($A290,Results3,J$3,FALSE)","v":1.6},{"$f":"VLOOKUP($A290,Results3,K$4,FALSE)","v":"Rad"},{"$f":"VLOOKUP($A290,Results3,L$3,FALSE)","v":1.45},{"$f":"VLOOKUP($A290,Results3,M$4,FALSE)","v":"Kett"},{"$f":"VLOOKUP($A290,Results3,N$3,FALSE)","v":1.1000000000000001},{"$f":"VLOOKUP($A290,Results3,O$4,FALSE)","v":0},{"$f":"VLOOKUP($A290,Results3,P$3,FALSE)","v":0},{"$f":"VLOOKUP($A290,Results3,Q$4,FALSE)","v":0},{"$f":"VLOOKUP($A290,Results3,R$3,FALSE)","v":0},{"$f":"VLOOKUP($A290,Results3,S$4,FALSE)","v":0},{"$f":"VLOOKUP($A290,Results3,T$3,FALSE)","v":0},{"$f":"VLOOKUP($A290,Results3,U$4,FALSE)","v":0},{"$f":"VLOOKUP($A290,Results3,V$3,FALSE)","v":0},{"$f":"VLOOKUP($A290,Results3,W$4,FALSE)","v":0},{"$f":"VLOOKUP($A290,Results3,X$4,FALSE)","v":0},8,5,6,0,0,7]
[{"$f":"B290&\"B\"","v":"17B"},null,null,{"$f":"VLOOKUP(B290,EventsOrder,3,FALSE)","v":"High Jump"},"B",null,{"$f":"VLOOKUP($A291,Results3,G$3,FALSE)","v":""},null,{"$f":"VLOOKUP($A291,Results3,I$3,FALSE)","v":""},null,{"$f":"VLOOKUP($A291,Results3,K$3,FALSE)","v":""},null,{"$f":"VLOOKUP($A291,Results3,M$3,FALSE)","v":""},null,{"$f":"VLOOKUP($A291,Results3,O$3,FALSE)","v":""},null,{"$f":"VLOOKUP($A291,Results3,Q$3,FALSE)","v":""},null,{"$f":"VLOOKUP($A291,Results3,S$3,FALSE)","v":""},null,{"$f":"VLOOKUP($A291,Results3,U$3,FALSE)","v":""}]
[{"$f":"B290&\"B\"","v":"17B"},null,null,null,null,null,{"$f":"VLOOKUP($A292,Results3,G$4,FALSE)","v":0},{"$f":"VLOOKUP($A292,Results3,H$3,FALSE)","v":0},{"$f":"VLOOKUP($A292,Results3,I$4,FALSE)","v":0},{"$f":"VLOOKUP($A292,Results3,J$3,FALSE)","v":0},{"$f":"VLOOKUP($A292,Results3,K$4,FALSE)","v":0},{"$f":"VLOOKUP($A292,Results3,L$3,FALSE)","v":0},{"$f":"VLOOKUP($A292,Results3,M$4,FALSE)","v":0},{"$f":"VLOOKUP($A292,Results3,N$3,FALSE)","v":0},{"$f":"VLOOKUP($A292,Results3,O$4,FALSE)","v":0},{"$f":"VLOOKUP($A292,Results3,P$3,FALSE)","v":0},{"$f":"VLOOKUP($A292,Results3,Q$4,FALSE)","v":0},{"$f":"VLOOKUP($A292,Results3,R$3,FALSE)","v":0},{"$f":"VLOOKUP($A292,Results3,S$4,FALSE)","v":0},{"$f":"VLOOKUP($A292,Results3,T$3,FALSE)","v":0},{"$f":"VLOOKUP($A292,Results3,U$4,FALSE)","v":0},{"$f":"VLOOKUP($A292,Results3,V$3,FALSE)","v":0},{"$f":"VLOOKUP($A292,Results3,W$4,FALSE)","v":0},0,0,0,0,0,0,0]
[{"$f":"B294&\"A\"","v":"21A"},null,null,{"$f":"VLOOKUP(B294,EventsOrder,4,FALSE)","v":"U15 Female"},"A",{"$f":"VLOOKUP(B294,EventsOrder,5,FALSE)","v":"Pit 2"},{"$f":"VLOOKUP($A293,Results3,G$3,FALSE)","v":"Ellie Harrison"},null,{"$f":"VLOOKUP($A293,Results3,I$3,FALSE)","v":"Blainne Conway"},null,{"$f":"VLOOKUP($A293,Results3,K$3,FALSE)","v":"Lauren Garside"},null,{"$f":"VLOOKUP($A293,Results3,M$3,FALSE)","v":"Niamh Darby"},null,{"$f":"VLOOKUP($A293,Results3,O$3,FALSE)","v":"Robyn Swain"},null,{"$f":"VLOOKUP($A293,Results3,Q$3,FALSE)","v":"Emelina Darvell"},null,{"$f":"VLOOKUP($A293,Results3,S$3,FALSE)","v":"Poppy Tott-Buswell"},null,{"$f":"VLOOKUP($A293,Results3,U$3,FALSE)","v":"Eve Clawley"},null,null,null,null,null,null,null,null,null,{"$f":"IF(LEN(G293)>1,1,0)","v":1}]
[{"$f":"B294&\"A\"","v":"21A"},21,{"$f":"VLOOKUP(B294,EventsOrder,2,FALSE)","v":1},null,null,null,{"$f":"VLOOKUP($A294,Results3,G$4,FALSE)","v":"Worc"},{"$f":"VLOOKUP($A294,Results3,H$3,FALSE)","v":4.53},{"$f":"VLOOKUP($A294,Results3,I$4,FALSE)","v":"Kett"},{"$f":"VLOOKUP($A294,Results3,J$3,FALSE)","v":4.2300000000000004},{"$f":"VLOOKUP($A294,Results3,K$4,FALSE)","v":"Bic"},{"$f":"VLOOKUP($A294,Results3,L$3,FALSE)","v":4.1500000000000004},{"$f":"VLOOKUP($A294,Results3,M$4,FALSE)","v":"DASH"},{"$f":"VLOOKUP($A294,Results3,N$3,FALSE)","v":4.07},{"$f":"VLOOKUP($A294,Results3,O$4,FALSE)","v":"Rad"},{"$f":"VLOOKUP($A294,Results3,P$3,FALSE)","v":3.97},{"$f":"VLOOKUP($A294,Results3,Q$4,FALSE)","v":"Ban"},{"$f":"VLOOKUP($A294,Results3,R$3,FALSE)","v":3.97},{"$f":"VLOOKUP($A294,Results3,S$4,FALSE)","v":"Wreake"},{"$f":"VLOOKUP($A294,Results3,T$3,FALSE)","v":3.83},{"$f":"VLOOKUP($A294,Results3,U$4,FALSE)","v":"Tam"},{"$f":"VLOOKUP($A294,Results3,V$3,FALSE)","v":3.78},{"$f":"VLOOKUP($A294,Results3,W$4,FALSE)","v":3},{"$f":"VLOOKUP($A294,Results3,X$4,FALSE)","v":6},5,7,4,1,2,8]
[{"$f":"B294&\"B\"","v":"21B"},null,null,{"$f":"VLOOKUP(B294,EventsOrder,3,FALSE)","v":"Long Jump"},"B",{"$f":"VLOOKUP(B294,EventsOrder,5,FALSE)","v":"Pit 2"},{"$f":"VLOOKUP($A295,Results3,G$3,FALSE)","v":"Sarah-Jane Ollis"},null,{"$f":"VLOOKUP($A295,Results3,I$3,FALSE)","v":"Elizabeth Eskender"},null,{"$f":"VLOOKUP($A295,Results3,K$3,FALSE)","v":"Jessica Grainger"},null,{"$f":"VLOOKUP($A295,Results3,M$3,FALSE)","v":"Olivia Butler"},null,{"$f":"VLOOKUP($A295,Results3,O$3,FALSE)","v":"Sophie Thorpe"},null,{"$f":"VLOOKUP($A295,Results3,Q$3,FALSE)","v":"Harmony Hart"},null,{"$f":"VLOOKUP($A295,Results3,S$3,FALSE)","v":"Tia Brown"},null,{"$f":"VLOOKUP($A295,Results3,U$3,FALSE)","v":""}]
[{"$f":"B294&\"B\"","v":"21B"},null,null,null,null,null,{"$f":"VLOOKUP($A296,Results3,G$4,FALSE)","v":"Worc"},{"$f":"VLOOKUP($A296,Results3,H$3,FALSE)","v":4.2},{"$f":"VLOOKUP($A296,Results3,I$4,FALSE)","v":"Ban"},{"$f":"VLOOKUP($A296,Results3,J$3,FALSE)","v":3.89},{"$f":"VLOOKUP($A296,Results3,K$4,FALSE)","v":"DASH"},{"$f":"VLOOKUP($A296,Results3,L$3,FALSE)","v":3.87},{"$f":"VLOOKUP($A296,Results3,M$4,FALSE)","v":"Rad"},{"$f":"VLOOKUP($A296,Results3,N$3,FALSE)","v":3.66},{"$f":"VLOOKUP($A296,Results3,O$4,FALSE)","v":"Wreake"},{"$f":"VLOOKUP($A296,Results3,P$3,FALSE)","v":3.45},{"$f":"VLOOKUP($A296,Results3,Q$4,FALSE)","v":"Kett"},{"$f":"VLOOKUP($A296,Results3,R$3,FALSE)","v":3.32},{"$f":"VLOOKUP($A296,Results3,S$4,FALSE)","v":"Bic"},{"$f":"VLOOKUP($A296,Results3,T$3,FALSE)","v":3.03},{"$f":"VLOOKUP($A296,Results3,U$4,FALSE)","v":0},{"$f":"VLOOKUP($A296,Results3,V$3,FALSE)","v":0},{"$f":"VLOOKUP($A296,Results3,W$4,FALSE)","v":7},2,6,3,5,0,4,8]
[{"$f":"B298&\"A\"","v":"26A"},null,null,{"$f":"VLOOKUP(B298,EventsOrder,4,FALSE)","v":"U15 Female"},"A",null,{"$f":"VLOOKUP($A297,Results3,G$3,FALSE)","v":"Grace Slater"},null,{"$f":"VLOOKUP($A297,Results3,I$3,FALSE)","v":"Martha Adams"},null,{"$f":"VLOOKUP($A297,Results3,K$3,FALSE)","v":"Zena Challenger"},null,{"$f":"VLOOKUP($A297,Results3,M$3,FALSE)","v":"Deanna Clarke"},null,{"$f":"VLOOKUP($A297,Results3,O$3,FALSE)","v":"Molly Acton"},null,{"$f":"VLOOKUP($A297,Results3,Q$3,FALSE)","v":"Sian Lewis"},null,{"$f":"VLOOKUP($A297,Results3,S$3,FALSE)","v":"Olivia Knibb"},null,{"$f":"VLOOKUP($A297,Results3,U$3,FALSE)","v":""},null,null,null,null,null,null,null,null,null,{"$f":"IF(LEN(G297)>1,1,0)","v":1}]
[{"$f":"B298&\"A\"","v":"26A"},26,{"$f":"VLOOKUP(B298,EventsOrder,2,FALSE)","v":1.25},null,null,null,{"$f":"VLOOKUP($A298,Results3,G$4,FALSE)","v":"DASH"},{"$f":"VLOOKUP($A298,Results3,H$3,FALSE)","v":"2.29.4"},{"$f":"VLOOKUP($A298,Results3,I$4,FALSE)","v":"Rad"},{"$f":"VLOOKUP($A298,Results3,J$3,FALSE)","v":"2.30.0"},{"$f":"VLOOKUP($A298,Results3,K$4,FALSE)","v":"Wreake"},{"$f":"VLOOKUP($A298,Results3,L$3,FALSE)","v":"2.30.6"},{"$f":"VLOOKUP($A298,Results3,M$4,FALSE)","v":"Worc"},{"$f":"VLOOKUP($A298,Results3,N$3,FALSE)","v":"2.31.6"},{"$f":"VLOOKUP($A298,Results3,O$4,FALSE)","v":"Bic"},{"$f":"VLOOKUP($A298,Results3,P$3,FALSE)","v":"2.33.7"},{"$f":"VLOOKUP($A298,Results3,Q$4,FALSE)","v":"Tam"},{"$f":"VLOOKUP($A298,Results3,R$3,FALSE)","v":"2.41.0"},{"$f":"VLOOKUP($A298,Results3,S$4,FALSE)","v":"Kett"},{"$f":"VLOOKUP($A298,Results3,T$3,FALSE)","v":"2.48.8"},{"$f":"VLOOKUP($A298,Results3,U$4,FALSE)","v":0},{"$f":"VLOOKUP($A298,Results3,V$3,FALSE)","v":0},{"$f":"VLOOKUP($A298,Results3,W$4,FALSE)","v":0},{"$f":"VLOOKUP($A298,Results3,X$4,FALSE)","v":4},8,2,7,3,6,5]
[{"$f":"B298&\"B\"","v":"26B"},null,null,{"$f":"VLOOKUP(B298,EventsOrder,3,FALSE)","v":"800m"},"B",null,{"$f":"VLOOKUP($A299,Results3,G$3,FALSE)","v":"Sophie Thorpe"},null,{"$f":"VLOOKUP($A299,Results3,I$3,FALSE)","v":"Hannah Mott"},null,{"$f":"VLOOKUP($A299,Results3,K$3,FALSE)","v":"Elise Blake"},null,{"$f":"VLOOKUP($A299,Results3,M$3,FALSE)","v":""},null,{"$f":"VLOOKUP($A299,Results3,O$3,FALSE)","v":""},null,{"$f":"VLOOKUP($A299,Results3,Q$3,FALSE)","v":""},null,{"$f":"VLOOKUP($A299,Results3,S$3,FALSE)","v":""},null,{"$f":"VLOOKUP($A299,Results3,U$3,FALSE)","v":""}]
[{"$f":"B298&\"B\"","v":"26B"},null,null,null,null,null,{"$f":"VLOOKUP($A300,Results3,G$4,FALSE)","v":"Wreake"},{"$f":"VLOOKUP($A300,Results3,H$3,FALSE)","v":"2.42.4"},{"$f":"VLOOKUP($A300,Results3,I$4,FALSE)","v":"Rad"},{"$f":"VLOOKUP($A300,Results3,J$3,FALSE)","v":"2.51.9"},{"$f":"VLOOKUP($A300,Results3,K$4,FALSE)","v":"Worc"},{"$f":"VLOOKUP($A300,Results3,L$3,FALSE)","v":"2.52.5"},{"$f":"VLOOKUP($A300,Results3,M$4,FALSE)","v":0},{"$f":"VLOOKUP($A300,Results3,N$3,FALSE)","v":0},{"$f":"VLOOKUP($A300,Results3,O$4,FALSE)","v":0},{"$f":"VLOOKUP($A300,Results3,P$3,FALSE)","v":0},{"$f":"VLOOKUP($A300,Results3,Q$4,FALSE)","v":0},{"$f":"VLOOKUP($A300,Results3,R$3,FALSE)","v":0},{"$f":"VLOOKUP($A300,Results3,S$4,FALSE)","v":0},{"$f":"VLOOKUP($A300,Results3,T$3,FALSE)","v":0},{"$f":"VLOOKUP($A300,Results3,U$4,FALSE)","v":0},{"$f":"VLOOKUP($A300,Results3,V$3,FALSE)","v":0},{"$f":"VLOOKUP($A300,Results3,W$4,FALSE)","v":0},0,0,0,7,0,8,6]
[{"$f":"B302&\"A\"","v":"36A"},null,null,{"$f":"VLOOKUP(B302,EventsOrder,4,FALSE)","v":"U15 Female"},"A",null,{"$f":"VLOOKUP($A301,Results3,G$3,FALSE)","v":"Josie Orange"},null,{"$f":"VLOOKUP($A301,Results3,I$3,FALSE)","v":"Sarah-Jane Ollis"},null,{"$f":"VLOOKUP($A301,Results3,K$3,FALSE)","v":"Annabelle Clotworthy"},null,{"$f":"VLOOKUP($A301,Results3,M$3,FALSE)","v":"Isobel Fisher"},null,{"$f":"VLOOKUP($A301,Results3,O$3,FALSE)","v":"Sydney Sellers"},null,{"$f":"VLOOKUP($A301,Results3,Q$3,FALSE)","v":"Olivia Butler"},null,{"$f":"VLOOKUP($A301,Results3,S$3,FALSE)","v":"Sian Lewis"},null,{"$f":"VLOOKUP($A301,Results3,U$3,FALSE)","v":"Lauren Garside"},null,null,null,null,null,null,null,null,null,{"$f":"IF(LEN(G301)>1,1,0)","v":1}]
[{"$f":"B302&\"A\"","v":"36A"},36,{"$f":"VLOOKUP(B302,EventsOrder,2,FALSE)","v":2.15},null,null,null,{"$f":"VLOOKUP($A302,Results3,G$4,FALSE)","v":"Wreake"},{"$f":"VLOOKUP($A302,Results3,H$3,FALSE)","v":13.4},{"$f":"VLOOKUP($A302,Results3,I$4,FALSE)","v":"Worc"},{"$f":"VLOOKUP($A302,Results3,J$3,FALSE)","v":13.5},{"$f":"VLOOKUP($A302,Results3,K$4,FALSE)","v":"Kett"},{"$f":"VLOOKUP($A302,Results3,L$3,FALSE)","v":13.5},{"$f":"VLOOKUP($A302,Results3,M$4,FALSE)","v":"DASH"},{"$f":"VLOOKUP($A302,Results3,N$3,FALSE)","v":13.8},{"$f":"VLOOKUP($A302,Results3,O$4,FALSE)","v":"Ban"},{"$f":"VLOOKUP($A302,Results3,P$3,FALSE)","v":13.8},{"$f":"VLOOKUP($A302,Results3,Q$4,FALSE)","v":"Rad"},{"$f":"VLOOKUP($A302,Results3,R$3,FALSE)","v":14.1},{"$f":"VLOOKUP($A302,Results3,S$4,FALSE)","v":"Tam"},{"$f":"VLOOKUP($A302,Results3,T$3,FALSE)","v":14.1},{"$f":"VLOOKUP($A302,Results3,U$4,FALSE)","v":"Bic"},{"$f":"VLOOKUP($A302,Results3,V$3,FALSE)","v":14.5},{"$f":"VLOOKUP($A302,Results3,W$4,FALSE)","v":4},{"$f":"VLOOKUP($A302,Results3,X$4,FALSE)","v":1},5,6,3,2,8,7]
[{"$f":"B302&\"B\"","v":"36B"},null,null,{"$f":"VLOOKUP(B302,EventsOrder,3,FALSE)","v":"100m"},"B",null,{"$f":"VLOOKUP($A303,Results3,G$3,FALSE)","v":"Alex Beale"},null,{"$f":"VLOOKUP($A303,Results3,I$3,FALSE)","v":"Poppy Tott-Buswell"},null,{"$f":"VLOOKUP($A303,Results3,K$3,FALSE)","v":"Niamh Darby"},null,{"$f":"VLOOKUP($A303,Results3,M$3,FALSE)","v":"Robyn Swain"},null,{"$f":"VLOOKUP($A303,Results3,O$3,FALSE)","v":"Charotte Hewett"},null,{"$f":"VLOOKUP($A303,Results3,Q$3,FALSE)","v":""},null,{"$f":"VLOOKUP($A303,Results3,S$3,FALSE)","v":""},null,{"$f":"VLOOKUP($A303,Results3,U$3,FALSE)","v":""}]
[{"$f":"B302&\"B\"","v":"36B"},null,null,null,null,null,{"$f":"VLOOKUP($A304,Results3,G$4,FALSE)","v":"Kett"},{"$f":"VLOOKUP($A304,Results3,H$3,FALSE)","v":13.7},{"$f":"VLOOKUP($A304,Results3,I$4,FALSE)","v":"Wreake"},{"$f":"VLOOKUP($A304,Results3,J$3,FALSE)","v":13.7},{"$f":"VLOOKUP($A304,Results3,K$4,FALSE)","v":"DASH"},{"$f":"VLOOKUP($A304,Results3,L$3,FALSE)","v":14.2},{"$f":"VLOOKUP($A304,Results3,M$4,FALSE)","v":"Rad"},{"$f":"VLOOKUP($A304,Results3,N$3,FALSE)","v":14.6},{"$f":"VLOOKUP($A304,Results3,O$4,FALSE)","v":"Bic"},{"$f":"VLOOKUP($A304,Results3,P$3,FALSE)","v":14.9},{"$f":"VLOOKUP($A304,Results3,Q$4,FALSE)","v":0},{"$f":"VLOOKUP($A304,Results3,R$3,FALSE)","v":0},{"$f":"VLOOKUP($A304,Results3,S$4,FALSE)","v":0},{"$f":"VLOOKUP($A304,Results3,T$3,FALSE)","v":0},{"$f":"VLOOKUP($A304,Results3,U$4,FALSE)","v":0},{"$f":"VLOOKUP($A304,Results3,V$3,FALSE)","v":0},{"$f":"VLOOKUP($A304,Results3,W$4,FALSE)","v":0},4,6,8,5,0,7,0]
[{"$f":"B306&\"A\"","v":"50A"},null,null,{"$f":"VLOOKUP(B306,EventsOrder,4,FALSE)","v":"U15 Female"},"A",null,{"$f":"VLOOKUP($A305,Results3,G$3,FALSE)","v":"Emma Shorwood"},null,{"$f":"VLOOKUP($A305,Results3,I$3,FALSE)","v":"Danielle Hopkins"},null,{"$f":"VLOOKUP($A305,Results3,K$3,FALSE)","v":"Emily Williams"},null,{"$f":"VLOOKUP($A305,Results3,M$3,FALSE)","v":"Molly Acton"},null,{"$f":"VLOOKUP($A305,Results3,O$3,FALSE)","v":"Martha Adams"},null,{"$f":"VLOOKUP($A305,Results3,Q$3,FALSE)","v":"Sian Lewis"},null,{"$f":"VLOOKUP($A305,Results3,S$3,FALSE)","v":"Rachel Nealon"},null,{"$f":"VLOOKUP($A305,Results3,U$3,FALSE)","v":"Sydney Sellers"},null,null,null,null,null,null,null,null,null,{"$f":"IF(LEN(G305)>1,1,0)","v":1}]
[{"$f":"B306&\"A\"","v":"50A"},50,{"$f":"VLOOKUP(B306,EventsOrder,2,FALSE)","v":2.4},null,null,null,{"$f":"VLOOKUP($A306,Results3,G$4,FALSE)","v":"DASH"},{"$f":"VLOOKUP($A306,Results3,H$3,FALSE)","v":43.1},{"$f":"VLOOKUP($A306,Results3,I$4,FALSE)","v":"Worc"},{"$f":"VLOOKUP($A306,Results3,J$3,FALSE)","v":43.2},{"$f":"VLOOKUP($A306,Results3,K$4,FALSE)","v":"Kett"},{"$f":"VLOOKUP($A306,Results3,L$3,FALSE)","v":43.9},{"$f":"VLOOKUP($A306,Results3,M$4,FALSE)","v":"Bic"},{"$f":"VLOOKUP($A306,Results3,N$3,FALSE)","v":46.5},{"$f":"VLOOKUP($A306,Results3,O$4,FALSE)","v":"Rad"},{"$f":"VLOOKUP($A306,Results3,P$3,FALSE)","v":47.2},{"$f":"VLOOKUP($A306,Results3,Q$4,FALSE)","v":"Tam"},{"$f":"VLOOKUP($A306,Results3,R$3,FALSE)","v":47.5},{"$f":"VLOOKUP($A306,Results3,S$4,FALSE)","v":"Wreake"},{"$f":"VLOOKUP($A306,Results3,T$3,FALSE)","v":49.8},{"$f":"VLOOKUP($A306,Results3,U$4,FALSE)","v":"Ban"},{"$f":"VLOOKUP($A306,Results3,V$3,FALSE)","v":49.9},{"$f":"VLOOKUP($A306,Results3,W$4,FALSE)","v":1},{"$f":"VLOOKUP($A306,Results3,X$4,FALSE)","v":5},8,6,4,3,2,7]
[{"$f":"B306&\"B\"","v":"50B"},null,null,{"$f":"VLOOKUP(B306,EventsOrder,3,FALSE)","v":"300m"},"B",null,{"$f":"VLOOKUP($A307,Results3,G$3,FALSE)","v":"Zena Challenger"},null,{"$f":"VLOOKUP($A307,Results3,I$3,FALSE)","v":"Claudia Lee"},null,{"$f":"VLOOKUP($A307,Results3,K$3,FALSE)","v":"Rachel Burton"},null,{"$f":"VLOOKUP($A307,Results3,M$3,FALSE)","v":"Blainne Conway"},null,{"$f":"VLOOKUP($A307,Results3,O$3,FALSE)","v":"Elise Blake"},null,{"$f":"VLOOKUP($A307,Results3,Q$3,FALSE)","v":"Elizabeth Eskender"},null,{"$f":"VLOOKUP($A307,Results3,S$3,FALSE)","v":""},null,{"$f":"VLOOKUP($A307,Results3,U$3,FALSE)","v":""}]
[{"$f":"B306&\"B\"","v":"50B"},null,null,null,null,null,{"$f":"VLOOKUP($A308,Results3,G$4,FALSE)","v":"Wreake"},{"$f":"VLOOKUP($A308,Results3,H$3,FALSE)","v":43.9},{"$f":"VLOOKUP($A308,Results3,I$4,FALSE)","v":"DASH"},{"$f":"VLOOKUP($A308,Results3,J$3,FALSE)","v":46.4},{"$f":"VLOOKUP($A308,Results3,K$4,FALSE)","v":"Rad"},{"$f":"VLOOKUP($A308,Results3,L$3,FALSE)","v":47.7},{"$f":"VLOOKUP($A308,Results3,M$4,FALSE)","v":"Kett"},{"$f":"VLOOKUP($A308,Results3,N$3,FALSE)","v":48.8},{"$f":"VLOOKUP($A308,Results3,O$4,FALSE)","v":"Worc"},{"$f":"VLOOKUP($A308,Results3,P$3,FALSE)","v":49.7},{"$f":"VLOOKUP($A308,Results3,Q$4,FALSE)","v":"Ban"},{"$f":"VLOOKUP($A308,Results3,R$3,FALSE)","v":51.6},{"$f":"VLOOKUP($A308,Results3,S$4,FALSE)","v":0},{"$f":"VLOOKUP($A308,Results3,T$3,FALSE)","v":0},{"$f":"VLOOKUP($A308,Results3,U$4,FALSE)","v":0},{"$f":"VLOOKUP($A308,Results3,V$3,FALSE)","v":0},{"$f":"VLOOKUP($A308,Results3,W$4,FALSE)","v":3},0,7,5,6,0,8,4]
[{"$f":"B310&\"A\"","v":"54A"},null,null,{"$f":"VLOOKUP(B310,EventsOrder,4,FALSE)","v":"U15 Female"},"A",null,{"$f":"VLOOKUP($A309,Results3,G$3,FALSE)","v":""},null,{"$f":"VLOOKUP($A309,Results3,I$3,FALSE)","v":""},null,{"$f":"VLOOKUP($A309,Results3,K$3,FALSE)","v":""},null,{"$f":"VLOOKUP($A309,Results3,M$3,FALSE)","v":""},null,{"$f":"VLOOKUP($A309,Results3,O$3,FALSE)","v":""},null,{"$f":"VLOOKUP($A309,Results3,Q$3,FALSE)","v":""},null,{"$f":"VLOOKUP($A309,Results3,S$3,FALSE)","v":""},null,{"$f":"VLOOKUP($A309,Results3,U$3,FALSE)","v":""},null,null,null,null,null,null,null,null,null,{"$f":"IF(LEN(G309)>1,1,0)","v":0}]
[{"$f":"B310&\"A\"","v":"54A"},54,{"$f":"VLOOKUP(B310,EventsOrder,2,FALSE)","v":2.4},null,null,null,{"$f":"VLOOKUP($A310,Results3,G$4,FALSE)","v":0},{"$f":"VLOOKUP($A310,Results3,H$3,FALSE)","v":0},{"$f":"VLOOKUP($A310,Results3,I$4,FALSE)","v":0},{"$f":"VLOOKUP($A310,Results3,J$3,FALSE)","v":0},{"$f":"VLOOKUP($A310,Results3,K$4,FALSE)","v":0},{"$f":"VLOOKUP($A310,Results3,L$3,FALSE)","v":0},{"$f":"VLOOKUP($A310,Results3,M$4,FALSE)","v":0},{"$f":"VLOOKUP($A310,Results3,N$3,FALSE)","v":0},{"$f":"VLOOKUP($A310,Results3,O$4,FALSE)","v":0},{"$f":"VLOOKUP($A310,Results3,P$3,FALSE)","v":0},{"$f":"VLOOKUP($A310,Results3,Q$4,FALSE)","v":0},{"$f":"VLOOKUP($A310,Results3,R$3,FALSE)","v":0},{"$f":"VLOOKUP($A310,Results3,S$4,FALSE)","v":0},{"$f":"VLOOKUP($A310,Results3,T$3,FALSE)","v":0},{"$f":"VLOOKUP($A310,Results3,U$4,FALSE)","v":0},{"$f":"VLOOKUP($A310,Results3,V$3,FALSE)","v":0},{"$f":"VLOOKUP($A310,Results3,W$4,FALSE)","v":0},{"$f":"VLOOKUP($A310,Results3,X$4,FALSE)","v":0},0,0,0,0,0,0]
[{"$f":"B310&\"B\"","v":"54B"},null,null,{"$f":"VLOOKUP(B310,EventsOrder,3,FALSE)","v":"Javelin"},"B",null,{"$f":"VLOOKUP($A311,Results3,G$3,FALSE)","v":""},null,{"$f":"VLOOKUP($A311,Results3,I$3,FALSE)","v":""},null,{"$f":"VLOOKUP($A311,Results3,K$3,FALSE)","v":""},null,{"$f":"VLOOKUP($A311,Results3,M$3,FALSE)","v":""},null,{"$f":"VLOOKUP($A311,Results3,O$3,FALSE)","v":""},null,{"$f":"VLOOKUP($A311,Results3,Q$3,FALSE)","v":""},null,{"$f":"VLOOKUP($A311,Results3,S$3,FALSE)","v":""},null,{"$f":"VLOOKUP($A311,Results3,U$3,FALSE)","v":""}]
[{"$f":"B310&\"B\"","v":"54B"},null,null,null,null,null,{"$f":"VLOOKUP($A312,Results3,G$4,FALSE)","v":0},{"$f":"VLOOKUP($A312,Results3,H$3,FALSE)","v":0},{"$f":"VLOOKUP($A312,Results3,I$4,FALSE)","v":0},{"$f":"VLOOKUP($A312,Results3,J$3,FALSE)","v":0},{"$f":"VLOOKUP($A312,Results3,K$4,FALSE)","v":0},{"$f":"VLOOKUP($A312,Results3,L$3,FALSE)","v":0},{"$f":"VLOOKUP($A312,Results3,M$4,FALSE)","v":0},{"$f":"VLOOKUP($A312,Results3,N$3,FALSE)","v":0},{"$f":"VLOOKUP($A312,Results3,O$4,FALSE)","v":0},{"$f":"VLOOKUP($A312,Results3,P$3,FALSE)","v":0},{"$f":"VLOOKUP($A312,Results3,Q$4,FALSE)","v":0},{"$f":"VLOOKUP($A312,Results3,R$3,FALSE)","v":0},{"$f":"VLOOKUP($A312,Results3,S$4,FALSE)","v":0},{"$f":"VLOOKUP($A312,Results3,T$3,FALSE)","v":0},{"$f":"VLOOKUP($A312,Results3,U$4,FALSE)","v":0},{"$f":"VLOOKUP($A312,Results3,V$3,FALSE)","v":0},{"$f":"VLOOKUP($A312,Results3,W$4,FALSE)","v":0},0,0,0,0,0,0,0]
[{"$f":"B314&\"A\"","v":"68A"},null,null,{"$f":"VLOOKUP(B314,EventsOrder,4,FALSE)","v":"U15 Female"},"A",null,{"$f":"VLOOKUP($A313,Results3,G$3,FALSE)","v":"Josie Orange"},null,{"$f":"VLOOKUP($A313,Results3,I$3,FALSE)","v":"Ellen Smith"},null,{"$f":"VLOOKUP($A313,Results3,K$3,FALSE)","v":"Eve Clawley"},null,{"$f":"VLOOKUP($A313,Results3,M$3,FALSE)","v":"Holly Griffiths-Brown"},null,{"$f":"VLOOKUP($A313,Results3,O$3,FALSE)","v":"Lydia Wehling"},null,{"$f":"VLOOKUP($A313,Results3,Q$3,FALSE)","v":"Claudia Lee"},null,{"$f":"VLOOKUP($A313,Results3,S$3,FALSE)","v":"Charlotte Hewett"},null,{"$f":"VLOOKUP($A313,Results3,U$3,FALSE)","v":"Emelina Darvell"},null,null,null,null,null,null,null,null,null,{"$f":"IF(LEN(G313)>1,1,0)","v":1}]
[{"$f":"B314&\"A\"","v":"68A"},68,{"$f":"VLOOKUP(B314,EventsOrder,2,FALSE)","v":3.4},null,null,null,{"$f":"VLOOKUP($A314,Results3,G$4,FALSE)","v":"Wreake"},{"$f":"VLOOKUP($A314,Results3,H$3,FALSE)","v":27.4},{"$f":"VLOOKUP($A314,Results3,I$4,FALSE)","v":"Kett"},{"$f":"VLOOKUP($A314,Results3,J$3,FALSE)","v":27.5},{"$f":"VLOOKUP($A314,Results3,K$4,FALSE)","v":"Tam"},{"$f":"VLOOKUP($A314,Results3,L$3,FALSE)","v":27.9},{"$f":"VLOOKUP($A314,Results3,M$4,FALSE)","v":"Rad"},{"$f":"VLOOKUP($A314,Results3,N$3,FALSE)","v":28.1},{"$f":"VLOOKUP($A314,Results3,O$4,FALSE)","v":"Worc"},{"$f":"VLOOKUP($A314,Results3,P$3,FALSE)","v":28.4},{"$f":"VLOOKUP($A314,Results3,Q$4,FALSE)","v":"DASH"},{"$f":"VLOOKUP($A314,Results3,R$3,FALSE)","v":28.7},{"$f":"VLOOKUP($A314,Results3,S$4,FALSE)","v":"Bic"},{"$f":"VLOOKUP($A314,Results3,T$3,FALSE)","v":31},{"$f":"VLOOKUP($A314,Results3,U$4,FALSE)","v":"Ban"},{"$f":"VLOOKUP($A314,Results3,V$3,FALSE)","v":32},{"$f":"VLOOKUP($A314,Results3,W$4,FALSE)","v":1},{"$f":"VLOOKUP($A314,Results3,X$4,FALSE)","v":2},3,7,5,6,8,4]
[{"$f":"B314&\"B\"","v":"68B"},null,null,{"$f":"VLOOKUP(B314,EventsOrder,3,FALSE)","v":"200m"},"B",null,{"$f":"VLOOKUP($A315,Results3,G$3,FALSE)","v":"Grace Slater"},null,{"$f":"VLOOKUP($A315,Results3,I$3,FALSE)","v":"Deanna Clarke"},null,{"$f":"VLOOKUP($A315,Results3,K$3,FALSE)","v":"Poppy Tott-Buswell"},null,{"$f":"VLOOKUP($A315,Results3,M$3,FALSE)","v":"Harmony Hart"},null,{"$f":"VLOOKUP($A315,Results3,O$3,FALSE)","v":"Olivia Butler"},null,{"$f":"VLOOKUP($A315,Results3,Q$3,FALSE)","v":""},null,{"$f":"VLOOKUP($A315,Results3,S$3,FALSE)","v":""},null,{"$f":"VLOOKUP($A315,Results3,U$3,FALSE)","v":""}]
[{"$f":"B314&\"B\"","v":"68B"},null,null,null,null,null,{"$f":"VLOOKUP($A316,Results3,G$4,FALSE)","v":"DASH"},{"$f":"VLOOKUP($A316,Results3,H$3,FALSE)","v":28.3},{"$f":"VLOOKUP($A316,Results3,I$4,FALSE)","v":"Worc"},{"$f":"VLOOKUP($A316,Results3,J$3,FALSE)","v":28.4},{"$f":"VLOOKUP($A316,Results3,K$4,FALSE)","v":"Wreake"},{"$f":"VLOOKUP($A316,Results3,L$3,FALSE)","v":28.6},{"$f":"VLOOKUP($A316,Results3,M$4,FALSE)","v":"Kett"},{"$f":"VLOOKUP($A316,Results3,N$3,FALSE)","v":29.2},{"$f":"VLOOKUP($A316,Results3,O$4,FALSE)","v":"Rad"},{"$f":"VLOOKUP($A316,Results3,P$3,FALSE)","v":29.8},{"$f":"VLOOKUP($A316,Results3,Q$4,FALSE)","v":0},{"$f":"VLOOKUP($A316,Results3,R$3,FALSE)","v":0},{"$f":"VLOOKUP($A316,Results3,S$4,FALSE)","v":0},{"$f":"VLOOKUP($A316,Results3,T$3,FALSE)","v":0},{"$f":"VLOOKUP($A316,Results3,U$4,FALSE)","v":0},{"$f":"VLOOKUP($A316,Results3,V$3,FALSE)","v":0},{"$f":"VLOOKUP($A316,Results3,W$4,FALSE)","v":0},0,8,5,4,0,6,7]
[{"$f":"B318&\"A\"","v":"77A"},null,null,{"$f":"VLOOKUP(B318,EventsOrder,4,FALSE)","v":"U15 Female"},"A",null,{"$f":"VLOOKUP($A317,Results3,G$3,FALSE)","v":"Danielle Hopkins"},null,{"$f":"VLOOKUP($A317,Results3,I$3,FALSE)","v":"Alice Jones"},null,{"$f":"VLOOKUP($A317,Results3,K$3,FALSE)","v":"Lauren Garside"},null,{"$f":"VLOOKUP($A317,Results3,M$3,FALSE)","v":"Emelina Darvell"},null,{"$f":"VLOOKUP($A317,Results3,O$3,FALSE)","v":"Millie Toseland"},null,{"$f":"VLOOKUP($A317,Results3,Q$3,FALSE)","v":"Hermione Jewel"},null,{"$f":"VLOOKUP($A317,Results3,S$3,FALSE)","v":"Jasmine Pramolo"},null,{"$f":"VLOOKUP($A317,Results3,U$3,FALSE)","v":"Rosie Timlock"},null,null,null,null,null,null,null,null,null,{"$f":"IF(LEN(G317)>1,1,0)","v":1}]
[{"$f":"B318&\"A\"","v":"77A"},77,{"$f":"VLOOKUP(B318,EventsOrder,2,FALSE)","v":4.2},null,null,null,{"$f":"VLOOKUP($A318,Results3,G$4,FALSE)","v":"Worc"},{"$f":"VLOOKUP($A318,Results3,H$3,FALSE)","v":9.35},{"$f":"VLOOKUP($A318,Results3,I$4,FALSE)","v":"Tam"},{"$f":"VLOOKUP($A318,Results3,J$3,FALSE)","v":7.67},{"$f":"VLOOKUP($A318,Results3,K$4,FALSE)","v":"Bic"},{"$f":"VLOOKUP($A318,Results3,L$3,FALSE)","v":7.57},{"$f":"VLOOKUP($A318,Results3,M$4,FALSE)","v":"Ban"},{"$f":"VLOOKUP($A318,Results3,N$3,FALSE)","v":6.71},{"$f":"VLOOKUP($A318,Results3,O$4,FALSE)","v":"Kett"},{"$f":"VLOOKUP($A318,Results3,P$3,FALSE)","v":6.41},{"$f":"VLOOKUP($A318,Results3,Q$4,FALSE)","v":"Rad"},{"$f":"VLOOKUP($A318,Results3,R$3,FALSE)","v":5.41},{"$f":"VLOOKUP($A318,Results3,S$4,FALSE)","v":"DASH"},{"$f":"VLOOKUP($A318,Results3,T$3,FALSE)","v":4.8099999999999996},{"$f":"VLOOKUP($A318,Results3,U$4,FALSE)","v":"Wreake"},{"$f":"VLOOKUP($A318,Results3,V$3,FALSE)","v":4.62},{"$f":"VLOOKUP($A318,Results3,W$4,FALSE)","v":5},{"$f":"VLOOKUP($A318,Results3,X$4,FALSE)","v":6},2,4,3,7,1,8]
[{"$f":"B318&\"B\"","v":"77B"},null,null,{"$f":"VLOOKUP(B318,EventsOrder,3,FALSE)","v":"Shot"},"B",null,{"$f":"VLOOKUP($A319,Results3,G$3,FALSE)","v":"Katie Harris"},null,{"$f":"VLOOKUP($A319,Results3,I$3,FALSE)","v":"Matilda Braithwaite"},null,{"$f":"VLOOKUP($A319,Results3,K$3,FALSE)","v":"Holly Hunter"},null,{"$f":"VLOOKUP($A319,Results3,M$3,FALSE)","v":"Hannah Mott"},null,{"$f":"VLOOKUP($A319,Results3,O$3,FALSE)","v":"Ravenn Cook"},null,{"$f":"VLOOKUP($A319,Results3,Q$3,FALSE)","v":""},null,{"$f":"VLOOKUP($A319,Results3,S$3,FALSE)","v":""},null,{"$f":"VLOOKUP($A319,Results3,U$3,FALSE)","v":""}]
[{"$f":"B318&\"B\"","v":"77B"},null,null,null,null,null,{"$f":"VLOOKUP($A320,Results3,G$4,FALSE)","v":"Worc"},{"$f":"VLOOKUP($A320,Results3,H$3,FALSE)","v":8.0299999999999994},{"$f":"VLOOKUP($A320,Results3,I$4,FALSE)","v":"Kett"},{"$f":"VLOOKUP($A320,Results3,J$3,FALSE)","v":5.51},{"$f":"VLOOKUP($A320,Results3,K$4,FALSE)","v":"Bic"},{"$f":"VLOOKUP($A320,Results3,L$3,FALSE)","v":5.0599999999999996},{"$f":"VLOOKUP($A320,Results3,M$4,FALSE)","v":"Rad"},{"$f":"VLOOKUP($A320,Results3,N$3,FALSE)","v":4.97},{"$f":"VLOOKUP($A320,Results3,O$4,FALSE)","v":"Wreake"},{"$f":"VLOOKUP($A320,Results3,P$3,FALSE)","v":3.38},{"$f":"VLOOKUP($A320,Results3,Q$4,FALSE)","v":0},{"$f":"VLOOKUP($A320,Results3,R$3,FALSE)","v":0},{"$f":"VLOOKUP($A320,Results3,S$4,FALSE)","v":0},{"$f":"VLOOKUP($A320,Results3,T$3,FALSE)","v":0},{"$f":"VLOOKUP($A320,Results3,U$4,FALSE)","v":0},{"$f":"VLOOKUP($A320,Results3,V$3,FALSE)","v":0},{"$f":"VLOOKUP($A320,Results3,W$4,FALSE)","v":0},6,0,7,5,0,4,8]
[{"$f":"B322&\"A\"","v":"83A"},null,null,null,null,null,{"$f":"VLOOKUP($A321,Results3,G$3,FALSE)","v":"Worcester"},null,{"$f":"VLOOKUP($A321,Results3,I$3,FALSE)","v":"Kettering Town Harriers"},null,{"$f":"VLOOKUP($A321,Results3,K$3,FALSE)","v":"Dudley & S'bridge"},null,{"$f":"VLOOKUP($A321,Results3,M$3,FALSE)","v":"Wreake Runners"},null,{"$f":"VLOOKUP($A321,Results3,O$3,FALSE)","v":"Radley"},null,{"$f":"VLOOKUP($A321,Results3,Q$3,FALSE)","v":"Bicester"},null,{"$f":"VLOOKUP($A321,Results3,S$3,FALSE)","v":""},null,{"$f":"VLOOKUP($A321,Results3,U$3,FALSE)","v":""},null,null,null,null,null,null,null,null,null,{"$f":"IF(LEN(G321)>1,1,0)","v":1}]
[{"$f":"B322&\"A\"","v":"83A"},83,{"$f":"VLOOKUP(B322,EventsOrder,2,FALSE)","v":5},{"$f":"VLOOKUP(B322,EventsOrder,4,FALSE)","v":"U15 Female"},null,null,{"$f":"VLOOKUP($A322,Results3,G$4,FALSE)","v":"Worc"},{"$f":"VLOOKUP($A322,Results3,H$3,FALSE)","v":52.2},{"$f":"VLOOKUP($A322,Results3,I$4,FALSE)","v":"Kett"},{"$f":"VLOOKUP($A322,Results3,J$3,FALSE)","v":54},{"$f":"VLOOKUP($A322,Results3,K$4,FALSE)","v":"DASH"},{"$f":"VLOOKUP($A322,Results3,L$3,FALSE)","v":54.1},{"$f":"VLOOKUP($A322,Results3,M$4,FALSE)","v":"Wreake"},{"$f":"VLOOKUP($A322,Results3,N$3,FALSE)","v":55.6},{"$f":"VLOOKUP($A322,Results3,O$4,FALSE)","v":"Rad"},{"$f":"VLOOKUP($A322,Results3,P$3,FALSE)","v":56.8},{"$f":"VLOOKUP($A322,Results3,Q$4,FALSE)","v":"Bic"},{"$f":"VLOOKUP($A322,Results3,R$3,FALSE)","v":58.5},{"$f":"VLOOKUP($A322,Results3,S$4,FALSE)","v":0},{"$f":"VLOOKUP($A322,Results3,T$3,FALSE)","v":0},{"$f":"VLOOKUP($A322,Results3,U$4,FALSE)","v":0},{"$f":"VLOOKUP($A322,Results3,V$3,FALSE)","v":0},{"$f":"VLOOKUP($A322,Results3,W$4,FALSE)","v":0},3,6,7,4,0,5,8]
[{"$f":"B322&\"B\"","v":"83B"},null,null,null,null,1,{"$f":"IF(LEN(G$322)>1,HLOOKUP(G$322,Relays,$A498,FALSE),\"\")","v":"Emily Kavanagh"},null,{"$f":"IF(LEN(I$322)>1,HLOOKUP(I$322,Relays,$A498,FALSE),\"\")","v":"Annabelle Clotworthy"},null,{"$f":"IF(LEN(K$322)>1,HLOOKUP(K$322,Relays,$A498,FALSE),\"\")","v":"Grace Slater"},null,{"$f":"IF(LEN(M$322)>1,HLOOKUP(M$322,Relays,$A498,FALSE),\"\")","v":"Poppy Tott-Buswell"},null,{"$f":"IF(LEN(O$322)>1,HLOOKUP(O$322,Relays,$A498,FALSE),\"\")","v":"Holly Griffith Brown"},null,{"$f":"IF(LEN(Q$322)>1,HLOOKUP(Q$322,Relays,$A498,FALSE),\"\")","v":"Charlotte Hewett"},null,{"$f":"IF(LEN(S$322)>1,HLOOKUP(S$322,Relays,$A498,FALSE),\"\")","v":""},null,{"$f":"IF(LEN(U$322)>1,HLOOKUP(U$322,Relays,$A498,FALSE),\"\")","v":""}]
[{"$f":"B322&\"B\"","v":"83B"},null,null,{"$f":"VLOOKUP(B322,EventsOrder,3,FALSE)","v":"4 x 100m"},null,2,{"$f":"IF(LEN(G$322)>1,HLOOKUP(G$322,Relays,$A499,FALSE),\"\")","v":"Ellie Harrison"},null,{"$f":"IF(LEN(I$322)>1,HLOOKUP(I$322,Relays,$A499,FALSE),\"\")","v":"Ellen Smith"},null,{"$f":"IF(LEN(K$322)>1,HLOOKUP(K$322,Relays,$A499,FALSE),\"\")","v":"Niamh Darby"},null,{"$f":"IF(LEN(M$322)>1,HLOOKUP(M$322,Relays,$A499,FALSE),\"\")","v":"Josie Orange"},null,{"$f":"IF(LEN(O$322)>1,HLOOKUP(O$322,Relays,$A499,FALSE),\"\")","v":"Robyn Swain"},null,{"$f":"IF(LEN(Q$322)>1,HLOOKUP(Q$322,Relays,$A499,FALSE),\"\")","v":"Lauren Garside"},null,{"$f":"IF(LEN(S$322)>1,HLOOKUP(S$322,Relays,$A499,FALSE),\"\")","v":""},null,{"$f":"IF(LEN(U$322)>1,HLOOKUP(U$322,Relays,$A499,FALSE),\"\")","v":""}]
[{"$f":"B322&\"R\"","v":"83R"},null,null,null,null,3,{"$f":"IF(LEN(G$322)>1,HLOOKUP(G$322,Relays,$A500,FALSE),\"\")","v":"Sarah-Jane Ollis"},null,{"$f":"IF(LEN(I$322)>1,HLOOKUP(I$322,Relays,$A500,FALSE),\"\")","v":"Harmony Hart"},null,{"$f":"IF(LEN(K$322)>1,HLOOKUP(K$322,Relays,$A500,FALSE),\"\")","v":"Jessica Grainger"},null,{"$f":"IF(LEN(M$322)>1,HLOOKUP(M$322,Relays,$A500,FALSE),\"\")","v":"Zena Challenger"},null,{"$f":"IF(LEN(O$322)>1,HLOOKUP(O$322,Relays,$A500,FALSE),\"\")","v":"Olivia Butler"},null,{"$f":"IF(LEN(Q$322)>1,HLOOKUP(Q$322,Relays,$A500,FALSE),\"\")","v":"Molly Acton"},null,{"$f":"IF(LEN(S$322)>1,HLOOKUP(S$322,Relays,$A500,FALSE),\"\")","v":""},null,{"$f":"IF(LEN(U$322)>1,HLOOKUP(U$322,Relays,$A500,FALSE),\"\")","v":""}]
[{"$f":"B322&\"S\"","v":"83S"},null,null,null,null,4,{"$f":"IF(LEN(G$322)>1,HLOOKUP(G$322,Relays,$A501,FALSE),\"\")","v":"Danielle Hopkins"},null,{"$f":"IF(LEN(I$322)>1,HLOOKUP(I$322,Relays,$A501,FALSE),\"\")","v":"Alex Beale"},null,{"$f":"IF(LEN(K$322)>1,HLOOKUP(K$322,Relays,$A501,FALSE),\"\")","v":"Emma Shorwood"},null,{"$f":"IF(LEN(M$322)>1,HLOOKUP(M$322,Relays,$A501,FALSE),\"\")","v":"Sophie Thorpe"},null,{"$f":"IF(LEN(O$322)>1,HLOOKUP(O$322,Relays,$A501,FALSE),\"\")","v":"Rachel Burton"},null,{"$f":"IF(LEN(Q$322)>1,HLOOKUP(Q$322,Relays,$A501,FALSE),\"\")","v":"Holly Hunter"},null,{"$f":"IF(LEN(S$322)>1,HLOOKUP(S$322,Relays,$A501,FALSE),\"\")","v":""},null,{"$f":"IF(LEN(U$322)>1,HLOOKUP(U$322,Relays,$A501,FALSE),\"\")","v":""}]
[null,null,null,null,null,null,null,null,null,null,null,null,null,null,null,null,null,null,null,null,"Officials Points",null,{"$f":"Officials!C$20","v":14},{"$f":"Officials!D$20","v":14},{"$f":"Officials!E$20","v":10},{"$f":"Officials!F$20","v":8},{"$f":"Officials!G$20","v":14},{"$f":"Officials!H$20","v":6},{"$f":"Officials!I$20","v":8},{"$f":"Officials!J$20","v":14}]
[null,{"$f":"COUNTIF(B277:B327,\">0\")","v":12},null,null,null,null,null,null,null,null,null,null,null,null,null,null,null,null,null,null,"Total Points",null,{"$f":"SUM(W277:W327)","v":49},68,101,102,122,40,100,143,{"$f":"SUM(AE277:AE323)","v":11}]
[null,null,null,null,null,null,null,null,null,null,null,null,null,null,null,null,null,null,null,null,"Match Position",null,{"$f":"RANK(W328,$W328:$AD328)","v":7},6,4,3,2,8,5,1]
[]
[null,"Event No",null,null,null,null,null,null,null,null,{"$f":"CONCATENATE('Event Details'!D$5,\" \",\"Results\")","v":"Heart of England League Results"},null,null,null,null,null,null,null,null,null,null,null,{"$f":"W$8","v":"Banbury"},{"$f":"X$8","v":"Bicester"},"Dudley & S'bridge","Kettering","Radley","Tamworth","Wreake Runners","Worcester"]
[null,null,null,"Division",{"$f":"'Event Details'!D$9","v":2},null,null,"U17 Men",null,null,"Venue",{"$f":"'Event Details'!F$17","v":"Worcester"},null,null,null,null,"Date",{"$f":"'Event Details'!B$17","v":"5th June 2016"}]
[null,null,"Time","Event",null,"NS","First",null,"Second",null,"Third",null,"Fourth",null,"Fifth",null,"Sixth",null,"Seventh",null,"Eighth",null,{"$f":"W$10","v":"J"},{"$f":"X$10","v":"P"},"B","I","R","F","X","Y"]
[{"$f":"B335&\"A\"","v":"8A"},null,null,{"$f":"VLOOKUP(B335,EventsOrder,4,FALSE)","v":"U17 Men"},"A",null,{"$f":"VLOOKUP($A334,Results3,G$3,FALSE)","v":"Reiss Francis"},null,{"$f":"VLOOKUP($A334,Results3,I$3,FALSE)","v":"Harry Woodcock"},null,{"$f":"VLOOKUP($A334,Results3,K$3,FALSE)","v":"Charlie McGlinchey"},null,{"$f":"VLOOKUP($A334,Results3,M$3,FALSE)","v":"Josh Cannell"},null,{"$f":"VLOOKUP($A334,Results3,O$3,FALSE)","v":""},null,{"$f":"VLOOKUP($A334,Results3,Q$3,FALSE)","v":""},null,{"$f":"VLOOKUP($A334,Results3,S$3,FALSE)","v":""},null,{"$f":"VLOOKUP($A334,Results3,U$3,FALSE)","v":""},null,null,null,null,null,null,null,null,null,{"$f":"IF(LEN(G334)>1,1,0)","v":1}]
[{"$f":"B335&\"A\"","v":"8A"},8,{"$f":"VLOOKUP(B335,EventsOrder,2,FALSE)","v":12.15},null,null,null,{"$f":"VLOOKUP($A335,Results3,G$4,FALSE)","v":"Worc"},{"$f":"VLOOKUP($A335,Results3,H$3,FALSE)","v":8.41},{"$f":"VLOOKUP($A335,Results3,I$4,FALSE)","v":"Rad"},{"$f":"VLOOKUP($A335,Results3,J$3,FALSE)","v":8.33},{"$f":"VLOOKUP($A335,Results3,K$4,FALSE)","v":"Wreake"},{"$f":"VLOOKUP($A335,Results3,L$3,FALSE)","v":7.1},{"$f":"VLOOKUP($A335,Results3,M$4,FALSE)","v":"Kett"},{"$f":"VLOOKUP($A335,Results3,N$3,FALSE)","v":6.33},{"$f":"VLOOKUP($A335,Results3,O$4,FALSE)","v":0},{"$f":"VLOOKUP($A335,Results3,P$3,FALSE)","v":0},{"$f":"VLOOKUP($A335,Results3,Q$4,FALSE)","v":0},{"$f":"VLOOKUP($A335,Results3,R$3,FALSE)","v":0},{"$f":"VLOOKUP($A335,Results3,S$4,FALSE)","v":0},{"$f":"VLOOKUP($A335,Results3,T$3,FALSE)","v":0},{"$f":"VLOOKUP($A335,Results3,U$4,FALSE)","v":0},{"$f":"VLOOKUP($A335,Results3,V$3,FALSE)","v":0},{"$f":"VLOOKUP($A335,Results3,W$4,FALSE)","v":0},{"$f":"VLOOKUP($A335,Results3,X$4,FALSE)","v":0},0,5,7,0,6,8]
[{"$f":"B335&\"B\"","v":"8B"},null,null,{"$f":"VLOOKUP(B335,EventsOrder,3,FALSE)","v":"Shot"},"B",null,{"$f":"VLOOKUP($A336,Results3,G$3,FALSE)","v":"Rory Sear"},null,{"$f":"VLOOKUP($A336,Results3,I$3,FALSE)","v":"Josh Bentley"},null,{"$f":"VLOOKUP($A336,Results3,K$3,FALSE)","v":""},null,{"$f":"VLOOKUP($A336,Results3,M$3,FALSE)","v":""},null,{"$f":"VLOOKUP($A336,Results3,O$3,FALSE)","v":""},null,{"$f":"VLOOKUP($A336,Results3,Q$3,FALSE)","v":""},null,{"$f":"VLOOKUP($A336,Results3,S$3,FALSE)","v":""},null,{"$f":"VLOOKUP($A336,Results3,U$3,FALSE)","v":""}]
[{"$f":"B335&\"B\"","v":"8B"},null,null,null,null,null,{"$f":"VLOOKUP($A337,Results3,G$4,FALSE)","v":"Rad"},{"$f":"VLOOKUP($A337,Results3,H$3,FALSE)","v":7.89},{"$f":"VLOOKUP($A337,Results3,I$4,FALSE)","v":"Worc"},{"$f":"VLOOKUP($A337,Results3,J$3,FALSE)","v":6.8},{"$f":"VLOOKUP($A337,Results3,K$4,FALSE)","v":0},{"$f":"VLOOKUP($A337,Results3,L$3,FALSE)","v":0},{"$f":"VLOOKUP($A337,Results3,M$4,FALSE)","v":0},{"$f":"VLOOKUP($A337,Results3,N$3,FALSE)","v":0},{"$f":"VLOOKUP($A337,Results3,O$4,FALSE)","v":0},{"$f":"VLOOKUP($A337,Results3,P$3,FALSE)","v":0},{"$f":"VLOOKUP($A337,Results3,Q$4,FALSE)","v":0},{"$f":"VLOOKUP($A337,Results3,R$3,FALSE)","v":0},{"$f":"VLOOKUP($A337,Results3,S$4,FALSE)","v":0},{"$f":"VLOOKUP($A337,Results3,T$3,FALSE)","v":0},{"$f":"VLOOKUP($A337,Results3,U$4,FALSE)","v":0},{"$f":"VLOOKUP($A337,Results3,V$3,FALSE)","v":0},{"$f":"VLOOKUP($A337,Results3,W$4,FALSE)","v":0},0,0,0,8,0,0,7]
[{"$f":"B339&\"A\"","v":"18A"},null,null,{"$f":"VLOOKUP(B339,EventsOrder,4,FALSE)","v":"U17 Men"},"A",null,{"$f":"VLOOKUP($A338,Results3,G$3,FALSE)","v":"Jayvana Pramolo"},null,{"$f":"VLOOKUP($A338,Results3,I$3,FALSE)","v":"Blake Strickland Bennett"},null,{"$f":"VLOOKUP($A338,Results3,K$3,FALSE)","v":"Charlie McGlinchey"},null,{"$f":"VLOOKUP($A338,Results3,M$3,FALSE)","v":"Phil Capewell"},null,{"$f":"VLOOKUP($A338,Results3,O$3,FALSE)","v":""},null,{"$f":"VLOOKUP($A338,Results3,Q$3,FALSE)","v":""},null,{"$f":"VLOOKUP($A338,Results3,S$3,FALSE)","v":""},null,{"$f":"VLOOKUP($A338,Results3,U$3,FALSE)","v":""},null,null,null,null,null,null,null,null,null,{"$f":"IF(LEN(G338)>1,1,0)","v":1}]
[{"$f":"B339&\"A\"","v":"18A"},18,{"$f":"VLOOKUP(B339,EventsOrder,2,FALSE)","v":12.5},null,null,null,{"$f":"VLOOKUP($A339,Results3,G$4,FALSE)","v":"DASH"},{"$f":"VLOOKUP($A339,Results3,H$3,FALSE)","v":"2.10.3"},{"$f":"VLOOKUP($A339,Results3,I$4,FALSE)","v":"Rad"},{"$f":"VLOOKUP($A339,Results3,J$3,FALSE)","v":"2.11.2"},{"$f":"VLOOKUP($A339,Results3,K$4,FALSE)","v":"Wreake"},{"$f":"VLOOKUP($A339,Results3,L$3,FALSE)","v":"2.11.7"},{"$f":"VLOOKUP($A339,Results3,M$4,FALSE)","v":"Worc"},{"$f":"VLOOKUP($A339,Results3,N$3,FALSE)","v":"2.15.8"},{"$f":"VLOOKUP($A339,Results3,O$4,FALSE)","v":0},{"$f":"VLOOKUP($A339,Results3,P$3,FALSE)","v":0},{"$f":"VLOOKUP($A339,Results3,Q$4,FALSE)","v":0},{"$f":"VLOOKUP($A339,Results3,R$3,FALSE)","v":0},{"$f":"VLOOKUP($A339,Results3,S$4,FALSE)","v":0},{"$f":"VLOOKUP($A339,Results3,T$3,FALSE)","v":0},{"$f":"VLOOKUP($A339,Results3,U$4,FALSE)","v":0},{"$f":"VLOOKUP($A339,Results3,V$3,FALSE)","v":0},{"$f":"VLOOKUP($A339,Results3,W$4,FALSE)","v":0},{"$f":"VLOOKUP($A339,Results3,X$4,FALSE)","v":0},8,0,7,0,6,5]
[{"$f":"B339&\"B\"","v":"18B"},null,null,{"$f":"VLOOKUP(B339,EventsOrder,3,FALSE)","v":"800m"},"B","NS",{"$f":"VLOOKUP($A340,Results3,G$3,FALSE)","v":"George Palmer"},null,{"$f":"VLOOKUP($A340,Results3,I$3,FALSE)","v":"Rory Sear"},null,{"$f":"VLOOKUP($A340,Results3,K$3,FALSE)","v":""},null,{"$f":"VLOOKUP($A340,Results3,M$3,FALSE)","v":""},null,{"$f":"VLOOKUP($A340,Results3,O$3,FALSE)","v":""},null,{"$f":"VLOOKUP($A340,Results3,Q$3,FALSE)","v":""},null,{"$f":"VLOOKUP($A340,Results3,S$3,FALSE)","v":""},null,{"$f":"VLOOKUP($A340,Results3,U$3,FALSE)","v":""}]
[{"$f":"B339&\"B\"","v":"18B"},null,null,null,null,null,{"$f":"VLOOKUP($A341,Results3,G$4,FALSE)","v":"Wreake"},{"$f":"VLOOKUP($A341,Results3,H$3,FALSE)","v":"2.21.5"},{"$f":"VLOOKUP($A341,Results3,I$4,FALSE)","v":"Rad"},{"$f":"VLOOKUP($A341,Results3,J$3,FALSE)","v":"2.29.2"},{"$f":"VLOOKUP($A341,Results3,K$4,FALSE)","v":0},{"$f":"VLOOKUP($A341,Results3,L$3,FALSE)","v":0},{"$f":"VLOOKUP($A341,Results3,M$4,FALSE)","v":0},{"$f":"VLOOKUP($A341,Results3,N$3,FALSE)","v":0},{"$f":"VLOOKUP($A341,Results3,O$4,FALSE)","v":0},{"$f":"VLOOKUP($A341,Results3,P$3,FALSE)","v":0},{"$f":"VLOOKUP($A341,Results3,Q$4,FALSE)","v":0},{"$f":"VLOOKUP($A341,Results3,R$3,FALSE)","v":0},{"$f":"VLOOKUP($A341,Results3,S$4,FALSE)","v":0},{"$f":"VLOOKUP($A341,Results3,T$3,FALSE)","v":0},{"$f":"VLOOKUP($A341,Results3,U$4,FALSE)","v":0},{"$f":"VLOOKUP($A341,Results3,V$3,FALSE)","v":0},{"$f":"VLOOKUP($A341,Results3,W$4,FALSE)","v":0},0,0,0,7,0,8,0]
[{"$f":"B343&\"A\"","v":"23A"},null,null,{"$f":"VLOOKUP(B343,EventsOrder,4,FALSE)","v":"U17 Men"},"A",null,{"$f":"VLOOKUP($A342,Results3,G$3,FALSE)","v":"Harry Woodcock"},null,{"$f":"VLOOKUP($A342,Results3,I$3,FALSE)","v":"Josh Cannell"},null,{"$f":"VLOOKUP($A342,Results3,K$3,FALSE)","v":""},null,{"$f":"VLOOKUP($A342,Results3,M$3,FALSE)","v":""},null,{"$f":"VLOOKUP($A342,Results3,O$3,FALSE)","v":""},null,{"$f":"VLOOKUP($A342,Results3,Q$3,FALSE)","v":""},null,{"$f":"VLOOKUP($A342,Results3,S$3,FALSE)","v":""},null,{"$f":"VLOOKUP($A342,Results3,U$3,FALSE)","v":""},null,null,null,null,null,null,null,null,null,{"$f":"IF(LEN(G342)>1,1,0)","v":1}]
[{"$f":"B343&\"A\"","v":"23A"},23,{"$f":"VLOOKUP(B343,EventsOrder,2,FALSE)","v":1},null,null,null,{"$f":"VLOOKUP($A343,Results3,G$4,FALSE)","v":"Rad"},{"$f":"VLOOKUP($A343,Results3,H$3,FALSE)","v":19.04},{"$f":"VLOOKUP($A343,Results3,I$4,FALSE)","v":"Kett"},{"$f":"VLOOKUP($A343,Results3,J$3,FALSE)","v":13.76},{"$f":"VLOOKUP($A343,Results3,K$4,FALSE)","v":0},{"$f":"VLOOKUP($A343,Results3,L$3,FALSE)","v":0},{"$f":"VLOOKUP($A343,Results3,M$4,FALSE)","v":0},{"$f":"VLOOKUP($A343,Results3,N$3,FALSE)","v":0},{"$f":"VLOOKUP($A343,Results3,O$4,FALSE)","v":0},{"$f":"VLOOKUP($A343,Results3,P$3,FALSE)","v":0},{"$f":"VLOOKUP($A343,Results3,Q$4,FALSE)","v":0},{"$f":"VLOOKUP($A343,Results3,R$3,FALSE)","v":0},{"$f":"VLOOKUP($A343,Results3,S$4,FALSE)","v":0},{"$f":"VLOOKUP($A343,Results3,T$3,FALSE)","v":0},{"$f":"VLOOKUP($A343,Results3,U$4,FALSE)","v":0},{"$f":"VLOOKUP($A343,Results3,V$3,FALSE)","v":0},{"$f":"VLOOKUP($A343,Results3,W$4,FALSE)","v":0},{"$f":"VLOOKUP($A343,Results3,X$4,FALSE)","v":0},0,7,8,0,0,0]
[{"$f":"B343&\"B\"","v":"23B"},null,null,{"$f":"VLOOKUP(B343,EventsOrder,3,FALSE)","v":"Discus"},"B",null,{"$f":"VLOOKUP($A344,Results3,G$3,FALSE)","v":""},null,{"$f":"VLOOKUP($A344,Results3,I$3,FALSE)","v":""},null,{"$f":"VLOOKUP($A344,Results3,K$3,FALSE)","v":""},null,{"$f":"VLOOKUP($A344,Results3,M$3,FALSE)","v":""},null,{"$f":"VLOOKUP($A344,Results3,O$3,FALSE)","v":""},null,{"$f":"VLOOKUP($A344,Results3,Q$3,FALSE)","v":""},null,{"$f":"VLOOKUP($A344,Results3,S$3,FALSE)","v":""},null,{"$f":"VLOOKUP($A344,Results3,U$3,FALSE)","v":""}]
[{"$f":"B343&\"B\"","v":"23B"},null,null,null,null,null,{"$f":"VLOOKUP($A345,Results3,G$4,FALSE)","v":0},{"$f":"VLOOKUP($A345,Results3,H$3,FALSE)","v":0},{"$f":"VLOOKUP($A345,Results3,I$4,FALSE)","v":0},{"$f":"VLOOKUP($A345,Results3,J$3,FALSE)","v":0},{"$f":"VLOOKUP($A345,Results3,K$4,FALSE)","v":0},{"$f":"VLOOKUP($A345,Results3,L$3,FALSE)","v":0},{"$f":"VLOOKUP($A345,Results3,M$4,FALSE)","v":0},{"$f":"VLOOKUP($A345,Results3,N$3,FALSE)","v":0},{"$f":"VLOOKUP($A345,Results3,O$4,FALSE)","v":0},{"$f":"VLOOKUP($A345,Results3,P$3,FALSE)","v":0},{"$f":"VLOOKUP($A345,Results3,Q$4,FALSE)","v":0},{"$f":"VLOOKUP($A345,Results3,R$3,FALSE)","v":0},{"$f":"VLOOKUP($A345,Results3,S$4,FALSE)","v":0},{"$f":"VLOOKUP($A345,Results3,T$3,FALSE)","v":0},{"$f":"VLOOKUP($A345,Results3,U$4,FALSE)","v":0},{"$f":"VLOOKUP($A345,Results3,V$3,FALSE)","v":0},{"$f":"VLOOKUP($A345,Results3,W$4,FALSE)","v":0},0,0,0,0,0,0,0]
[{"$f":"B347&\"A\"","v":"27A"},null,null,{"$f":"VLOOKUP(B347,EventsOrder,4,FALSE)","v":"U17 Men"},"A",null,{"$f":"VLOOKUP($A346,Results3,G$3,FALSE)","v":"Blake Strickland Bennett"},null,{"$f":"VLOOKUP($A346,Results3,I$3,FALSE)","v":""},null,{"$f":"VLOOKUP($A346,Results3,K$3,FALSE)","v":""},null,{"$f":"VLOOKUP($A346,Results3,M$3,FALSE)","v":""},null,{"$f":"VLOOKUP($A346,Results3,O$3,FALSE)","v":""},null,{"$f":"VLOOKUP($A346,Results3,Q$3,FALSE)","v":""},null,{"$f":"VLOOKUP($A346,Results3,S$3,FALSE)","v":""},null,{"$f":"VLOOKUP($A346,Results3,U$3,FALSE)","v":""},null,null,null,null,null,null,null,null,null,{"$f":"IF(LEN(G346)>1,1,0)","v":1}]
[{"$f":"B347&\"A\"","v":"27A"},27,{"$f":"VLOOKUP(B347,EventsOrder,2,FALSE)","v":1.35},null,null,null,{"$f":"VLOOKUP($A347,Results3,G$4,FALSE)","v":"Rad"},{"$f":"VLOOKUP($A347,Results3,H$3,FALSE)","v":15.6},{"$f":"VLOOKUP($A347,Results3,I$4,FALSE)","v":0},{"$f":"VLOOKUP($A347,Results3,J$3,FALSE)","v":0},{"$f":"VLOOKUP($A347,Results3,K$4,FALSE)","v":0},{"$f":"VLOOKUP($A347,Results3,L$3,FALSE)","v":0},{"$f":"VLOOKUP($A347,Results3,M$4,FALSE)","v":0},{"$f":"VLOOKUP($A347,Results3,N$3,FALSE)","v":0},{"$f":"VLOOKUP($A347,Results3,O$4,FALSE)","v":0},{"$f":"VLOOKUP($A347,Results3,P$3,FALSE)","v":0},{"$f":"VLOOKUP($A347,Results3,Q$4,FALSE)","v":0},{"$f":"VLOOKUP($A347,Results3,R$3,FALSE)","v":0},{"$f":"VLOOKUP($A347,Results3,S$4,FALSE)","v":0},{"$f":"VLOOKUP($A347,Results3,T$3,FALSE)","v":0},{"$f":"VLOOKUP($A347,Results3,U$4,FALSE)","v":0},{"$f":"VLOOKUP($A347,Results3,V$3,FALSE)","v":0},{"$f":"VLOOKUP($A347,Results3,W$4,FALSE)","v":0},{"$f":"VLOOKUP($A347,Results3,X$4,FALSE)","v":0},0,0,8,0,0,0]
[{"$f":"B347&\"B\"","v":"27B"},null,null,{"$f":"VLOOKUP(B347,EventsOrder,3,FALSE)","v":"100m hurdles"},"B",null,{"$f":"VLOOKUP($A348,Results3,G$3,FALSE)","v":"Harry New"},null,{"$f":"VLOOKUP($A348,Results3,I$3,FALSE)","v":""},null,{"$f":"VLOOKUP($A348,Results3,K$3,FALSE)","v":""},null,{"$f":"VLOOKUP($A348,Results3,M$3,FALSE)","v":""},null,{"$f":"VLOOKUP($A348,Results3,O$3,FALSE)","v":""},null,{"$f":"VLOOKUP($A348,Results3,Q$3,FALSE)","v":""},null,{"$f":"VLOOKUP($A348,Results3,S$3,FALSE)","v":""},null,{"$f":"VLOOKUP($A348,Results3,U$3,FALSE)","v":""}]
[{"$f":"B347&\"B\"","v":"27B"},null,null,null,null,null,{"$f":"VLOOKUP($A349,Results3,G$4,FALSE)","v":"Rad"},{"$f":"VLOOKUP($A349,Results3,H$3,FALSE)","v":15.2},{"$f":"VLOOKUP($A349,Results3,I$4,FALSE)","v":0},{"$f":"VLOOKUP($A349,Results3,J$3,FALSE)","v":0},{"$f":"VLOOKUP($A349,Results3,K$4,FALSE)","v":0},{"$f":"VLOOKUP($A349,Results3,L$3,FALSE)","v":0},{"$f":"VLOOKUP($A349,Results3,M$4,FALSE)","v":0},{"$f":"VLOOKUP($A349,Results3,N$3,FALSE)","v":0},{"$f":"VLOOKUP($A349,Results3,O$4,FALSE)","v":0},{"$f":"VLOOKUP($A349,Results3,P$3,FALSE)","v":0},{"$f":"VLOOKUP($A349,Results3,Q$4,FALSE)","v":0},{"$f":"VLOOKUP($A349,Results3,R$3,FALSE)","v":0},{"$f":"VLOOKUP($A349,Results3,S$4,FALSE)","v":0},{"$f":"VLOOKUP($A349,Results3,T$3,FALSE)","v":0},{"$f":"VLOOKUP($A349,Results3,U$4,FALSE)","v":0},{"$f":"VLOOKUP($A349,Results3,V$3,FALSE)","v":0},{"$f":"VLOOKUP($A349,Results3,W$4,FALSE)","v":0},0,0,0,8,0,0,0]
[{"$f":"B351&\"A\"","v":"32A"},null,null,{"$f":"VLOOKUP(B351,EventsOrder,4,FALSE)","v":"U17 Men"},"A",null,{"$f":"VLOOKUP($A350,Results3,G$3,FALSE)","v":"Ollie Gould"},null,{"$f":"VLOOKUP($A350,Results3,I$3,FALSE)","v":"Elliot Couse"},null,{"$f":"VLOOKUP($A350,Results3,K$3,FALSE)","v":"Jayvana Pramolo"},null,{"$f":"VLOOKUP($A350,Results3,M$3,FALSE)","v":"Andrew Woods"},null,{"$f":"VLOOKUP($A350,Results3,O$3,FALSE)","v":"Charlie McGlinchey"},null,{"$f":"VLOOKUP($A350,Results3,Q$3,FALSE)","v":""},null,{"$f":"VLOOKUP($A350,Results3,S$3,FALSE)","v":""},null,{"$f":"VLOOKUP($A350,Results3,U$3,FALSE)","v":""},null,null,null,null,null,null,null,null,null,{"$f":"IF(LEN(G350)>1,1,0)","v":1}]
[{"$f":"B351&\"A\"","v":"32A"},32,{"$f":"VLOOKUP(B351,EventsOrder,2,FALSE)","v":1.3},null,null,null,{"$f":"VLOOKUP($A351,Results3,G$4,FALSE)","v":"Worc"},{"$f":"VLOOKUP($A351,Results3,H$3,FALSE)","v":6.23},{"$f":"VLOOKUP($A351,Results3,I$4,FALSE)","v":"Rad"},{"$f":"VLOOKUP($A351,Results3,J$3,FALSE)","v":5.52},{"$f":"VLOOKUP($A351,Results3,K$4,FALSE)","v":"DASH"},{"$f":"VLOOKUP($A351,Results3,L$3,FALSE)","v":4.18},{"$f":"VLOOKUP($A351,Results3,M$4,FALSE)","v":"Tam"},{"$f":"VLOOKUP($A351,Results3,N$3,FALSE)","v":4.0599999999999996},{"$f":"VLOOKUP($A351,Results3,O$4,FALSE)","v":"Wreake"},{"$f":"VLOOKUP($A351,Results3,P$3,FALSE)","v":3.58},{"$f":"VLOOKUP($A351,Results3,Q$4,FALSE)","v":0},{"$f":"VLOOKUP($A351,Results3,R$3,FALSE)","v":0},{"$f":"VLOOKUP($A351,Results3,S$4,FALSE)","v":0},{"$f":"VLOOKUP($A351,Results3,T$3,FALSE)","v":0},{"$f":"VLOOKUP($A351,Results3,U$4,FALSE)","v":0},{"$f":"VLOOKUP($A351,Results3,V$3,FALSE)","v":0},{"$f":"VLOOKUP($A351,Results3,W$4,FALSE)","v":0},{"$f":"VLOOKUP($A351,Results3,X$4,FALSE)","v":0},6,0,7,5,4,8]
[{"$f":"B351&\"B\"","v":"32B"},null,null,{"$f":"VLOOKUP(B351,EventsOrder,3,FALSE)","v":"Long Jump"},"B",null,{"$f":"VLOOKUP($A352,Results3,G$3,FALSE)","v":"Blake Strickland Bennett"},null,{"$f":"VLOOKUP($A352,Results3,I$3,FALSE)","v":"Josh Bentley"},null,{"$f":"VLOOKUP($A352,Results3,K$3,FALSE)","v":""},null,{"$f":"VLOOKUP($A352,Results3,M$3,FALSE)","v":""},null,{"$f":"VLOOKUP($A352,Results3,O$3,FALSE)","v":""},null,{"$f":"VLOOKUP($A352,Results3,Q$3,FALSE)","v":""},null,{"$f":"VLOOKUP($A352,Results3,S$3,FALSE)","v":""},null,{"$f":"VLOOKUP($A352,Results3,U$3,FALSE)","v":""}]
[{"$f":"B351&\"B\"","v":"32B"},null,null,null,null,null,{"$f":"VLOOKUP($A353,Results3,G$4,FALSE)","v":"Rad"},{"$f":"VLOOKUP($A353,Results3,H$3,FALSE)","v":5.23},{"$f":"VLOOKUP($A353,Results3,I$4,FALSE)","v":"Worc"},{"$f":"VLOOKUP($A353,Results3,J$3,FALSE)","v":5.08},{"$f":"VLOOKUP($A353,Results3,K$4,FALSE)","v":0},{"$f":"VLOOKUP($A353,Results3,L$3,FALSE)","v":0},{"$f":"VLOOKUP($A353,Results3,M$4,FALSE)","v":0},{"$f":"VLOOKUP($A353,Results3,N$3,FALSE)","v":0},{"$f":"VLOOKUP($A353,Results3,O$4,FALSE)","v":0},{"$f":"VLOOKUP($A353,Results3,P$3,FALSE)","v":0},{"$f":"VLOOKUP($A353,Results3,Q$4,FALSE)","v":0},{"$f":"VLOOKUP($A353,Results3,R$3,FALSE)","v":0},{"$f":"VLOOKUP($A353,Results3,S$4,FALSE)","v":0},{"$f":"VLOOKUP($A353,Results3,T$3,FALSE)","v":0},{"$f":"VLOOKUP($A353,Results3,U$4,FALSE)","v":0},{"$f":"VLOOKUP($A353,Results3,V$3,FALSE)","v":0},{"$f":"VLOOKUP($A353,Results3,W$4,FALSE)","v":0},0,0,0,8,0,0,7]
[{"$f":"B355&\"A\"","v":"43A"},null,null,{"$f":"VLOOKUP(B355,EventsOrder,4,FALSE)","v":"U17 Men"},"A",null,{"$f":"VLOOKUP($A354,Results3,G$3,FALSE)","v":"Ollie Sprio"},null,{"$f":"VLOOKUP($A354,Results3,I$3,FALSE)","v":"Claudio Oliviera"},null,{"$f":"VLOOKUP($A354,Results3,K$3,FALSE)","v":"Harry New"},null,{"$f":"VLOOKUP($A354,Results3,M$3,FALSE)","v":"Tyrese Paris-Smith"},null,{"$f":"VLOOKUP($A354,Results3,O$3,FALSE)","v":""},null,{"$f":"VLOOKUP($A354,Results3,Q$3,FALSE)","v":""},null,{"$f":"VLOOKUP($A354,Results3,S$3,FALSE)","v":""},null,{"$f":"VLOOKUP($A354,Results3,U$3,FALSE)","v":""},null,null,null,null,null,null,null,null,null,{"$f":"IF(LEN(G354)>1,1,0)","v":1}]
[{"$f":"B355&\"A\"","v":"43A"},43,{"$f":"VLOOKUP(B355,EventsOrder,2,FALSE)","v":2.35},null,null,null,{"$f":"VLOOKUP($A355,Results3,G$4,FALSE)","v":"Ban"},{"$f":"VLOOKUP($A355,Results3,H$3,FALSE)","v":11.7},{"$f":"VLOOKUP($A355,Results3,I$4,FALSE)","v":"Worc"},{"$f":"VLOOKUP($A355,Results3,J$3,FALSE)","v":11.7},{"$f":"VLOOKUP($A355,Results3,K$4,FALSE)","v":"Rad"},{"$f":"VLOOKUP($A355,Results3,L$3,FALSE)","v":11.8},{"$f":"VLOOKUP($A355,Results3,M$4,FALSE)","v":"Kett"},{"$f":"VLOOKUP($A355,Results3,N$3,FALSE)","v":12},{"$f":"VLOOKUP($A355,Results3,O$4,FALSE)","v":0},{"$f":"VLOOKUP($A355,Results3,P$3,FALSE)","v":0},{"$f":"VLOOKUP($A355,Results3,Q$4,FALSE)","v":0},{"$f":"VLOOKUP($A355,Results3,R$3,FALSE)","v":0},{"$f":"VLOOKUP($A355,Results3,S$4,FALSE)","v":0},{"$f":"VLOOKUP($A355,Results3,T$3,FALSE)","v":0},{"$f":"VLOOKUP($A355,Results3,U$4,FALSE)","v":0},{"$f":"VLOOKUP($A355,Results3,V$3,FALSE)","v":0},{"$f":"VLOOKUP($A355,Results3,W$4,FALSE)","v":8},{"$f":"VLOOKUP($A355,Results3,X$4,FALSE)","v":0},0,5,6,0,0,7]
[{"$f":"B355&\"B\"","v":"43B"},null,null,{"$f":"VLOOKUP(B355,EventsOrder,3,FALSE)","v":"100m"},"B",null,{"$f":"VLOOKUP($A356,Results3,G$3,FALSE)","v":"Reiss Francis"},null,{"$f":"VLOOKUP($A356,Results3,I$3,FALSE)","v":"Achim Loibl"},null,{"$f":"VLOOKUP($A356,Results3,K$3,FALSE)","v":"Felix Noble"},null,{"$f":"VLOOKUP($A356,Results3,M$3,FALSE)","v":"Brett Halsey"},null,{"$f":"VLOOKUP($A356,Results3,O$3,FALSE)","v":""},null,{"$f":"VLOOKUP($A356,Results3,Q$3,FALSE)","v":""},null,{"$f":"VLOOKUP($A356,Results3,S$3,FALSE)","v":""},null,{"$f":"VLOOKUP($A356,Results3,U$3,FALSE)","v":""}]
[{"$f":"B355&\"B\"","v":"43B"},null,null,null,null,null,{"$f":"VLOOKUP($A357,Results3,G$4,FALSE)","v":"Worc"},{"$f":"VLOOKUP($A357,Results3,H$3,FALSE)","v":11.8},{"$f":"VLOOKUP($A357,Results3,I$4,FALSE)","v":"Kett"},{"$f":"VLOOKUP($A357,Results3,J$3,FALSE)","v":12.2},{"$f":"VLOOKUP($A357,Results3,K$4,FALSE)","v":"Ban"},{"$f":"VLOOKUP($A357,Results3,L$3,FALSE)","v":12.8},{"$f":"VLOOKUP($A357,Results3,M$4,FALSE)","v":"Rad"},{"$f":"VLOOKUP($A357,Results3,N$3,FALSE)","v":12.8},{"$f":"VLOOKUP($A357,Results3,O$4,FALSE)","v":0},{"$f":"VLOOKUP($A357,Results3,P$3,FALSE)","v":0},{"$f":"VLOOKUP($A357,Results3,Q$4,FALSE)","v":0},{"$f":"VLOOKUP($A357,Results3,R$3,FALSE)","v":0},{"$f":"VLOOKUP($A357,Results3,S$4,FALSE)","v":0},{"$f":"VLOOKUP($A357,Results3,T$3,FALSE)","v":0},{"$f":"VLOOKUP($A357,Results3,U$4,FALSE)","v":0},{"$f":"VLOOKUP($A357,Results3,V$3,FALSE)","v":0},{"$f":"VLOOKUP($A357,Results3,W$4,FALSE)","v":6},0,0,7,5,0,0,8]
[{"$f":"B359&\"A\"","v":"57A"},null,null,{"$f":"VLOOKUP(B359,EventsOrder,4,FALSE)","v":"U17 Men"},"A",null,{"$f":"VLOOKUP($A358,Results3,G$3,FALSE)","v":"Sam Lowe"},null,{"$f":"VLOOKUP($A358,Results3,I$3,FALSE)","v":"Rory Sear"},null,{"$f":"VLOOKUP($A358,Results3,K$3,FALSE)","v":"Andrew Woods"},null,{"$f":"VLOOKUP($A358,Results3,M$3,FALSE)","v":"Jayvana Pramolo"},null,{"$f":"VLOOKUP($A358,Results3,O$3,FALSE)","v":"George Palmer"},null,{"$f":"VLOOKUP($A358,Results3,Q$3,FALSE)","v":""},null,{"$f":"VLOOKUP($A358,Results3,S$3,FALSE)","v":""},null,{"$f":"VLOOKUP($A358,Results3,U$3,FALSE)","v":""},null,null,null,null,null,null,null,null,null,{"$f":"IF(LEN(G358)>1,1,0)","v":1}]
[{"$f":"B359&\"A\"","v":"57A"},57,{"$f":"VLOOKUP(B359,EventsOrder,2,FALSE)","v":3},null,null,null,{"$f":"VLOOKUP($A359,Results3,G$4,FALSE)","v":"Worc"},{"$f":"VLOOKUP($A359,Results3,H$3,FALSE)","v":53.6},{"$f":"VLOOKUP($A359,Results3,I$4,FALSE)","v":"Rad"},{"$f":"VLOOKUP($A359,Results3,J$3,FALSE)","v":57},{"$f":"VLOOKUP($A359,Results3,K$4,FALSE)","v":"Tam"},{"$f":"VLOOKUP($A359,Results3,L$3,FALSE)","v":57.3},{"$f":"VLOOKUP($A359,Results3,M$4,FALSE)","v":"DASH"},{"$f":"VLOOKUP($A359,Results3,N$3,FALSE)","v":58.1},{"$f":"VLOOKUP($A359,Results3,O$4,FALSE)","v":"Wreake"},{"$f":"VLOOKUP($A359,Results3,P$3,FALSE)","v":62.4},{"$f":"VLOOKUP($A359,Results3,Q$4,FALSE)","v":0},{"$f":"VLOOKUP($A359,Results3,R$3,FALSE)","v":0},{"$f":"VLOOKUP($A359,Results3,S$4,FALSE)","v":0},{"$f":"VLOOKUP($A359,Results3,T$3,FALSE)","v":0},{"$f":"VLOOKUP($A359,Results3,U$4,FALSE)","v":0},{"$f":"VLOOKUP($A359,Results3,V$3,FALSE)","v":0},{"$f":"VLOOKUP($A359,Results3,W$4,FALSE)","v":0},{"$f":"VLOOKUP($A359,Results3,X$4,FALSE)","v":0},5,0,7,6,4,8]
[{"$f":"B359&\"B\"","v":"57B"},null,null,{"$f":"VLOOKUP(B359,EventsOrder,3,FALSE)","v":"400m"},"B",null,{"$f":"VLOOKUP($A360,Results3,G$3,FALSE)","v":"Sam Nelson"},null,{"$f":"VLOOKUP($A360,Results3,I$3,FALSE)","v":""},null,{"$f":"VLOOKUP($A360,Results3,K$3,FALSE)","v":""},null,{"$f":"VLOOKUP($A360,Results3,M$3,FALSE)","v":""},null,{"$f":"VLOOKUP($A360,Results3,O$3,FALSE)","v":""},null,{"$f":"VLOOKUP($A360,Results3,Q$3,FALSE)","v":""},null,{"$f":"VLOOKUP($A360,Results3,S$3,FALSE)","v":""},null,{"$f":"VLOOKUP($A360,Results3,U$3,FALSE)","v":""}]
[{"$f":"B359&\"B\"","v":"57B"},null,null,null,null,null,{"$f":"VLOOKUP($A361,Results3,G$4,FALSE)","v":"Rad"},{"$f":"VLOOKUP($A361,Results3,H$3,FALSE)","v":56.9},{"$f":"VLOOKUP($A361,Results3,I$4,FALSE)","v":0},{"$f":"VLOOKUP($A361,Results3,J$3,FALSE)","v":0},{"$f":"VLOOKUP($A361,Results3,K$4,FALSE)","v":0},{"$f":"VLOOKUP($A361,Results3,L$3,FALSE)","v":0},{"$f":"VLOOKUP($A361,Results3,M$4,FALSE)","v":0},{"$f":"VLOOKUP($A361,Results3,N$3,FALSE)","v":0},{"$f":"VLOOKUP($A361,Results3,O$4,FALSE)","v":0},{"$f":"VLOOKUP($A361,Results3,P$3,FALSE)","v":0},{"$f":"VLOOKUP($A361,Results3,Q$4,FALSE)","v":0},{"$f":"VLOOKUP($A361,Results3,R$3,FALSE)","v":0},{"$f":"VLOOKUP($A361,Results3,S$4,FALSE)","v":0},{"$f":"VLOOKUP($A361,Results3,T$3,FALSE)","v":0},{"$f":"VLOOKUP($A361,Results3,U$4,FALSE)","v":0},{"$f":"VLOOKUP($A361,Results3,V$3,FALSE)","v":0},{"$f":"VLOOKUP($A361,Results3,W$4,FALSE)","v":0},0,0,0,8,0,0,0]
[{"$f":"B363&\"A\"","v":"67A"},null,null,{"$f":"VLOOKUP(B363,EventsOrder,4,FALSE)","v":"U17 Men"},"A",null,{"$f":"VLOOKUP($A362,Results3,G$3,FALSE)","v":""},null,{"$f":"VLOOKUP($A362,Results3,I$3,FALSE)","v":""},null,{"$f":"VLOOKUP($A362,Results3,K$3,FALSE)","v":""},null,{"$f":"VLOOKUP($A362,Results3,M$3,FALSE)","v":""},null,{"$f":"VLOOKUP($A362,Results3,O$3,FALSE)","v":""},null,{"$f":"VLOOKUP($A362,Results3,Q$3,FALSE)","v":""},null,{"$f":"VLOOKUP($A362,Results3,S$3,FALSE)","v":""},null,{"$f":"VLOOKUP($A362,Results3,U$3,FALSE)","v":""},null,null,null,null,null,null,null,null,null,{"$f":"IF(LEN(G362)>1,1,0)","v":0}]
[{"$f":"B363&\"A\"","v":"67A"},67,{"$f":"VLOOKUP(B363,EventsOrder,2,FALSE)","v":3.3},null,null,null,{"$f":"VLOOKUP($A363,Results3,G$4,FALSE)","v":0},{"$f":"VLOOKUP($A363,Results3,H$3,FALSE)","v":0},{"$f":"VLOOKUP($A363,Results3,I$4,FALSE)","v":0},{"$f":"VLOOKUP($A363,Results3,J$3,FALSE)","v":0},{"$f":"VLOOKUP($A363,Results3,K$4,FALSE)","v":0},{"$f":"VLOOKUP($A363,Results3,L$3,FALSE)","v":0},{"$f":"VLOOKUP($A363,Results3,M$4,FALSE)","v":0},{"$f":"VLOOKUP($A363,Results3,N$3,FALSE)","v":0},{"$f":"VLOOKUP($A363,Results3,O$4,FALSE)","v":0},{"$f":"VLOOKUP($A363,Results3,P$3,FALSE)","v":0},{"$f":"VLOOKUP($A363,Results3,Q$4,FALSE)","v":0},{"$f":"VLOOKUP($A363,Results3,R$3,FALSE)","v":0},{"$f":"VLOOKUP($A363,Results3,S$4,FALSE)","v":0},{"$f":"VLOOKUP($A363,Results3,T$3,FALSE)","v":0},{"$f":"VLOOKUP($A363,Results3,U$4,FALSE)","v":0},{"$f":"VLOOKUP($A363,Results3,V$3,FALSE)","v":0},{"$f":"VLOOKUP($A363,Results3,W$4,FALSE)","v":0},{"$f":"VLOOKUP($A363,Results3,X$4,FALSE)","v":0},0,0,0,0,0,0]
[{"$f":"B363&\"B\"","v":"67B"},null,null,{"$f":"VLOOKUP(B363,EventsOrder,3,FALSE)","v":"Javelin"},"B",null,{"$f":"VLOOKUP($A364,Results3,G$3,FALSE)","v":""},null,{"$f":"VLOOKUP($A364,Results3,I$3,FALSE)","v":""},null,{"$f":"VLOOKUP($A364,Results3,K$3,FALSE)","v":""},null,{"$f":"VLOOKUP($A364,Results3,M$3,FALSE)","v":""},null,{"$f":"VLOOKUP($A364,Results3,O$3,FALSE)","v":""},null,{"$f":"VLOOKUP($A364,Results3,Q$3,FALSE)","v":""},null,{"$f":"VLOOKUP($A364,Results3,S$3,FALSE)","v":""},null,{"$f":"VLOOKUP($A364,Results3,U$3,FALSE)","v":""}]
[{"$f":"B363&\"B\"","v":"67B"},null,null,null,null,null,{"$f":"VLOOKUP($A365,Results3,G$4,FALSE)","v":0},{"$f":"VLOOKUP($A365,Results3,H$3,FALSE)","v":0},{"$f":"VLOOKUP($A365,Results3,I$4,FALSE)","v":0},{"$f":"VLOOKUP($A365,Results3,J$3,FALSE)","v":0},{"$f":"VLOOKUP($A365,Results3,K$4,FALSE)","v":0},{"$f":"VLOOKUP($A365,Results3,L$3,FALSE)","v":0},{"$f":"VLOOKUP($A365,Results3,M$4,FALSE)","v":0},{"$f":"VLOOKUP($A365,Results3,N$3,FALSE)","v":0},{"$f":"VLOOKUP($A365,Results3,O$4,FALSE)","v":0},{"$f":"VLOOKUP($A365,Results3,P$3,FALSE)","v":0},{"$f":"VLOOKUP($A365,Results3,Q$4,FALSE)","v":0},{"$f":"VLOOKUP($A365,Results3,R$3,FALSE)","v":0},{"$f":"VLOOKUP($A365,Results3,S$4,FALSE)","v":0},{"$f":"VLOOKUP($A365,Results3,T$3,FALSE)","v":0},{"$f":"VLOOKUP($A365,Results3,U$4,FALSE)","v":0},{"$f":"VLOOKUP($A365,Results3,V$3,FALSE)","v":0},{"$f":"VLOOKUP($A365,Results3,W$4,FALSE)","v":0},0,0,0,0,0,0,0]
[{"$f":"B367&\"A\"","v":"72A"},null,null,{"$f":"VLOOKUP(B367,EventsOrder,4,FALSE)","v":"U17 Men"},"A",null,{"$f":"VLOOKUP($A366,Results3,G$3,FALSE)","v":"Ollie Gould"},null,{"$f":"VLOOKUP($A366,Results3,I$3,FALSE)","v":"Harry New"},null,{"$f":"VLOOKUP($A366,Results3,K$3,FALSE)","v":"Ollie Sprio"},null,{"$f":"VLOOKUP($A366,Results3,M$3,FALSE)","v":"Tyrese Paris-Smith"},null,{"$f":"VLOOKUP($A366,Results3,O$3,FALSE)","v":""},null,{"$f":"VLOOKUP($A366,Results3,Q$3,FALSE)","v":""},null,{"$f":"VLOOKUP($A366,Results3,S$3,FALSE)","v":""},null,{"$f":"VLOOKUP($A366,Results3,U$3,FALSE)","v":""},null,null,null,null,null,null,null,null,null,{"$f":"IF(LEN(G366)>1,1,0)","v":1}]
[{"$f":"B367&\"A\"","v":"72A"},72,{"$f":"VLOOKUP(B367,EventsOrder,2,FALSE)","v":4},null,null,null,{"$f":"VLOOKUP($A367,Results3,G$4,FALSE)","v":"Worc"},{"$f":"VLOOKUP($A367,Results3,H$3,FALSE)","v":23},{"$f":"VLOOKUP($A367,Results3,I$4,FALSE)","v":"Rad"},{"$f":"VLOOKUP($A367,Results3,J$3,FALSE)","v":23},{"$f":"VLOOKUP($A367,Results3,K$4,FALSE)","v":"Ban"},{"$f":"VLOOKUP($A367,Results3,L$3,FALSE)","v":23.1},{"$f":"VLOOKUP($A367,Results3,M$4,FALSE)","v":"Kett"},{"$f":"VLOOKUP($A367,Results3,N$3,FALSE)","v":24.6},{"$f":"VLOOKUP($A367,Results3,O$4,FALSE)","v":0},{"$f":"VLOOKUP($A367,Results3,P$3,FALSE)","v":0},{"$f":"VLOOKUP($A367,Results3,Q$4,FALSE)","v":0},{"$f":"VLOOKUP($A367,Results3,R$3,FALSE)","v":0},{"$f":"VLOOKUP($A367,Results3,S$4,FALSE)","v":0},{"$f":"VLOOKUP($A367,Results3,T$3,FALSE)","v":0},{"$f":"VLOOKUP($A367,Results3,U$4,FALSE)","v":0},{"$f":"VLOOKUP($A367,Results3,V$3,FALSE)","v":0},{"$f":"VLOOKUP($A367,Results3,W$4,FALSE)","v":6},{"$f":"VLOOKUP($A367,Results3,X$4,FALSE)","v":0},0,5,7,0,0,8]
[{"$f":"B367&\"B\"","v":"72B"},null,null,{"$f":"VLOOKUP(B367,EventsOrder,3,FALSE)","v":"200m"},"B",null,{"$f":"VLOOKUP($A368,Results3,G$3,FALSE)","v":"Elliot Couse"},null,{"$f":"VLOOKUP($A368,Results3,I$3,FALSE)","v":"Josh Bentley"},null,{"$f":"VLOOKUP($A368,Results3,K$3,FALSE)","v":"Achim Loibl"},null,{"$f":"VLOOKUP($A368,Results3,M$3,FALSE)","v":"Felix Noble"},null,{"$f":"VLOOKUP($A368,Results3,O$3,FALSE)","v":""},null,{"$f":"VLOOKUP($A368,Results3,Q$3,FALSE)","v":""},null,{"$f":"VLOOKUP($A368,Results3,S$3,FALSE)","v":""},null,{"$f":"VLOOKUP($A368,Results3,U$3,FALSE)","v":""}]
[{"$f":"B367&\"B\"","v":"72B"},null,null,null,null,null,{"$f":"VLOOKUP($A369,Results3,G$4,FALSE)","v":"Rad"},{"$f":"VLOOKUP($A369,Results3,H$3,FALSE)","v":23.6},{"$f":"VLOOKUP($A369,Results3,I$4,FALSE)","v":"Worc"},{"$f":"VLOOKUP($A369,Results3,J$3,FALSE)","v":23.9},{"$f":"VLOOKUP($A369,Results3,K$4,FALSE)","v":"Kett"},{"$f":"VLOOKUP($A369,Results3,L$3,FALSE)","v":24.2},{"$f":"VLOOKUP($A369,Results3,M$4,FALSE)","v":"Ban"},{"$f":"VLOOKUP($A369,Results3,N$3,FALSE)","v":24.7},{"$f":"VLOOKUP($A369,Results3,O$4,FALSE)","v":0},{"$f":"VLOOKUP($A369,Results3,P$3,FALSE)","v":0},{"$f":"VLOOKUP($A369,Results3,Q$4,FALSE)","v":0},{"$f":"VLOOKUP($A369,Results3,R$3,FALSE)","v":0},{"$f":"VLOOKUP($A369,Results3,S$4,FALSE)","v":0},{"$f":"VLOOKUP($A369,Results3,T$3,FALSE)","v":0},{"$f":"VLOOKUP($A369,Results3,U$4,FALSE)","v":0},{"$f":"VLOOKUP($A369,Results3,V$3,FALSE)","v":0},{"$f":"VLOOKUP($A369,Results3,W$4,FALSE)","v":5},0,0,6,8,0,0,7]
[{"$f":"B371&\"A\"","v":"74A"},null,null,{"$f":"VLOOKUP(B371,EventsOrder,4,FALSE)","v":"U17 Men"},"A",null,{"$f":"VLOOKUP($A370,Results3,G$3,FALSE)","v":"Reiss Francis"},null,{"$f":"VLOOKUP($A370,Results3,I$3,FALSE)","v":"Brett Halsey"},null,{"$f":"VLOOKUP($A370,Results3,K$3,FALSE)","v":""},null,{"$f":"VLOOKUP($A370,Results3,M$3,FALSE)","v":""},null,{"$f":"VLOOKUP($A370,Results3,O$3,FALSE)","v":""},null,{"$f":"VLOOKUP($A370,Results3,Q$3,FALSE)","v":""},null,{"$f":"VLOOKUP($A370,Results3,S$3,FALSE)","v":""},null,{"$f":"VLOOKUP($A370,Results3,U$3,FALSE)","v":""},null,null,null,null,null,null,null,null,null,{"$f":"IF(LEN(G370)>1,1,0)","v":1}]
[{"$f":"B371&\"A\"","v":"74A"},74,{"$f":"VLOOKUP(B371,EventsOrder,2,FALSE)","v":4.0999999999999996},null,null,null,{"$f":"VLOOKUP($A371,Results3,G$4,FALSE)","v":"Worc"},{"$f":"VLOOKUP($A371,Results3,H$3,FALSE)","v":1.7},{"$f":"VLOOKUP($A371,Results3,I$4,FALSE)","v":"Rad"},{"$f":"VLOOKUP($A371,Results3,J$3,FALSE)","v":1.49},{"$f":"VLOOKUP($A371,Results3,K$4,FALSE)","v":0},{"$f":"VLOOKUP($A371,Results3,L$3,FALSE)","v":0},{"$f":"VLOOKUP($A371,Results3,M$4,FALSE)","v":0},{"$f":"VLOOKUP($A371,Results3,N$3,FALSE)","v":0},{"$f":"VLOOKUP($A371,Results3,O$4,FALSE)","v":0},{"$f":"VLOOKUP($A371,Results3,P$3,FALSE)","v":0},{"$f":"VLOOKUP($A371,Results3,Q$4,FALSE)","v":0},{"$f":"VLOOKUP($A371,Results3,R$3,FALSE)","v":0},{"$f":"VLOOKUP($A371,Results3,S$4,FALSE)","v":0},{"$f":"VLOOKUP($A371,Results3,T$3,FALSE)","v":0},{"$f":"VLOOKUP($A371,Results3,U$4,FALSE)","v":0},{"$f":"VLOOKUP($A371,Results3,V$3,FALSE)","v":0},{"$f":"VLOOKUP($A371,Results3,W$4,FALSE)","v":0},{"$f":"VLOOKUP($A371,Results3,X$4,FALSE)","v":0},0,0,7,0,0,8]
[{"$f":"B371&\"B\"","v":"74B"},null,null,{"$f":"VLOOKUP(B371,EventsOrder,3,FALSE)","v":"High Jump"},"B",null,{"$f":"VLOOKUP($A372,Results3,G$3,FALSE)","v":""},null,{"$f":"VLOOKUP($A372,Results3,I$3,FALSE)","v":""},null,{"$f":"VLOOKUP($A372,Results3,K$3,FALSE)","v":""},null,{"$f":"VLOOKUP($A372,Results3,M$3,FALSE)","v":""},null,{"$f":"VLOOKUP($A372,Results3,O$3,FALSE)","v":""},null,{"$f":"VLOOKUP($A372,Results3,Q$3,FALSE)","v":""},null,{"$f":"VLOOKUP($A372,Results3,S$3,FALSE)","v":""},null,{"$f":"VLOOKUP($A372,Results3,U$3,FALSE)","v":""}]
[{"$f":"B371&\"B\"","v":"74B"},null,null,null,null,null,{"$f":"VLOOKUP($A373,Results3,G$4,FALSE)","v":0},{"$f":"VLOOKUP($A373,Results3,H$3,FALSE)","v":0},{"$f":"VLOOKUP($A373,Results3,I$4,FALSE)","v":0},{"$f":"VLOOKUP($A373,Results3,J$3,FALSE)","v":0},{"$f":"VLOOKUP($A373,Results3,K$4,FALSE)","v":0},{"$f":"VLOOKUP($A373,Results3,L$3,FALSE)","v":0},{"$f":"VLOOKUP($A373,Results3,M$4,FALSE)","v":0},{"$f":"VLOOKUP($A373,Results3,N$3,FALSE)","v":0},{"$f":"VLOOKUP($A373,Results3,O$4,FALSE)","v":0},{"$f":"VLOOKUP($A373,Results3,P$3,FALSE)","v":0},{"$f":"VLOOKUP($A373,Results3,Q$4,FALSE)","v":0},{"$f":"VLOOKUP($A373,Results3,R$3,FALSE)","v":0},{"$f":"VLOOKUP($A373,Results3,S$4,FALSE)","v":0},{"$f":"VLOOKUP($A373,Results3,T$3,FALSE)","v":0},{"$f":"VLOOKUP($A373,Results3,U$4,FALSE)","v":0},{"$f":"VLOOKUP($A373,Results3,V$3,FALSE)","v":0},{"$f":"VLOOKUP($A373,Results3,W$4,FALSE)","v":0},0,0,0,0,0,0,0]
[{"$f":"B375&\"A\"","v":"80A"},null,null,{"$f":"VLOOKUP(B375,EventsOrder,4,FALSE)","v":"U17 Men"},"A",null,{"$f":"VLOOKUP($A374,Results3,G$3,FALSE)","v":"Jake Cavens"},null,{"$f":"VLOOKUP($A374,Results3,I$3,FALSE)","v":"Charlie McGlinchey"},null,{"$f":"VLOOKUP($A374,Results3,K$3,FALSE)","v":"Josh Cannell"},null,{"$f":"VLOOKUP($A374,Results3,M$3,FALSE)","v":"Andrew Woods"},null,{"$f":"VLOOKUP($A374,Results3,O$3,FALSE)","v":""},null,{"$f":"VLOOKUP($A374,Results3,Q$3,FALSE)","v":""},null,{"$f":"VLOOKUP($A374,Results3,S$3,FALSE)","v":""},null,{"$f":"VLOOKUP($A374,Results3,U$3,FALSE)","v":""},null,null,null,null,null,null,null,null,null,{"$f":"IF(LEN(G374)>1,1,0)","v":1}]
[{"$f":"B375&\"A\"","v":"80A"},80,{"$f":"VLOOKUP(B375,EventsOrder,2,FALSE)","v":4.4000000000000004},null,null,null,{"$f":"VLOOKUP($A375,Results3,G$4,FALSE)","v":"Worc"},{"$f":"VLOOKUP($A375,Results3,H$3,FALSE)","v":"4.25.8"},{"$f":"VLOOKUP($A375,Results3,I$4,FALSE)","v":"Wreake"},{"$f":"VLOOKUP($A375,Results3,J$3,FALSE)","v":"4.30.2"},{"$f":"VLOOKUP($A375,Results3,K$4,FALSE)","v":"Kett"},{"$f":"VLOOKUP($A375,Results3,L$3,FALSE)","v":"4.43.8"},{"$f":"VLOOKUP($A375,Results3,M$4,FALSE)","v":"Tam"},{"$f":"VLOOKUP($A375,Results3,N$3,FALSE)","v":"4.44.7"},{"$f":"VLOOKUP($A375,Results3,O$4,FALSE)","v":0},{"$f":"VLOOKUP($A375,Results3,P$3,FALSE)","v":0},{"$f":"VLOOKUP($A375,Results3,Q$4,FALSE)","v":0},{"$f":"VLOOKUP($A375,Results3,R$3,FALSE)","v":0},{"$f":"VLOOKUP($A375,Results3,S$4,FALSE)","v":0},{"$f":"VLOOKUP($A375,Results3,T$3,FALSE)","v":0},{"$f":"VLOOKUP($A375,Results3,U$4,FALSE)","v":0},{"$f":"VLOOKUP($A375,Results3,V$3,FALSE)","v":0},{"$f":"VLOOKUP($A375,Results3,W$4,FALSE)","v":0},{"$f":"VLOOKUP($A375,Results3,X$4,FALSE)","v":0},0,6,0,5,7,8]
[{"$f":"B375&\"B\"","v":"80B"},null,null,{"$f":"VLOOKUP(B375,EventsOrder,3,FALSE)","v":"1500m"},"B",null,{"$f":"VLOOKUP($A376,Results3,G$3,FALSE)","v":"Phil Capewell"},null,{"$f":"VLOOKUP($A376,Results3,I$3,FALSE)","v":""},null,{"$f":"VLOOKUP($A376,Results3,K$3,FALSE)","v":""},null,{"$f":"VLOOKUP($A376,Results3,M$3,FALSE)","v":""},null,{"$f":"VLOOKUP($A376,Results3,O$3,FALSE)","v":""},null,{"$f":"VLOOKUP($A376,Results3,Q$3,FALSE)","v":""},null,{"$f":"VLOOKUP($A376,Results3,S$3,FALSE)","v":""},null,{"$f":"VLOOKUP($A376,Results3,U$3,FALSE)","v":""}]
[{"$f":"B375&\"B\"","v":"80B"},null,null,null,null,null,{"$f":"VLOOKUP($A377,Results3,G$4,FALSE)","v":"Worc"},{"$f":"VLOOKUP($A377,Results3,H$3,FALSE)","v":"4.39.8"},{"$f":"VLOOKUP($A377,Results3,I$4,FALSE)","v":0},{"$f":"VLOOKUP($A377,Results3,J$3,FALSE)","v":0},{"$f":"VLOOKUP($A377,Results3,K$4,FALSE)","v":0},{"$f":"VLOOKUP($A377,Results3,L$3,FALSE)","v":0},{"$f":"VLOOKUP($A377,Results3,M$4,FALSE)","v":0},{"$f":"VLOOKUP($A377,Results3,N$3,FALSE)","v":0},{"$f":"VLOOKUP($A377,Results3,O$4,FALSE)","v":0},{"$f":"VLOOKUP($A377,Results3,P$3,FALSE)","v":0},{"$f":"VLOOKUP($A377,Results3,Q$4,FALSE)","v":0},{"$f":"VLOOKUP($A377,Results3,R$3,FALSE)","v":0},{"$f":"VLOOKUP($A377,Results3,S$4,FALSE)","v":0},{"$f":"VLOOKUP($A377,Results3,T$3,FALSE)","v":0},{"$f":"VLOOKUP($A377,Results3,U$4,FALSE)","v":0},{"$f":"VLOOKUP($A377,Results3,V$3,FALSE)","v":0},{"$f":"VLOOKUP($A377,Results3,W$4,FALSE)","v":0},0,0,0,0,0,0,8]
[{"$f":"B379&\"A\"","v":"87A"},null,null,null,null,null,{"$f":"VLOOKUP($A378,Results3,G$3,FALSE)","v":"Worcester"},null,{"$f":"VLOOKUP($A378,Results3,I$3,FALSE)","v":"Radley"},null,{"$f":"VLOOKUP($A378,Results3,K$3,FALSE)","v":""},null,{"$f":"VLOOKUP($A378,Results3,M$3,FALSE)","v":""},null,{"$f":"VLOOKUP($A378,Results3,O$3,FALSE)","v":""},null,{"$f":"VLOOKUP($A378,Results3,Q$3,FALSE)","v":""},null,{"$f":"VLOOKUP($A378,Results3,S$3,FALSE)","v":""},null,{"$f":"VLOOKUP($A378,Results3,U$3,FALSE)","v":""},null,null,null,null,null,null,null,null,null,{"$f":"IF(LEN(G378)>1,1,0)","v":1}]
[{"$f":"B379&\"A\"","v":"87A"},87,{"$f":"VLOOKUP(B379,EventsOrder,2,FALSE)","v":5.2},{"$f":"VLOOKUP(B379,EventsOrder,4,FALSE)","v":"U17 Men"},null,null,{"$f":"VLOOKUP($A379,Results3,G$4,FALSE)","v":"Worc"},{"$f":"VLOOKUP($A379,Results3,H$3,FALSE)","v":44.7},{"$f":"VLOOKUP($A379,Results3,I$4,FALSE)","v":"Rad"},{"$f":"VLOOKUP($A379,Results3,J$3,FALSE)","v":46.9},{"$f":"VLOOKUP($A379,Results3,K$4,FALSE)","v":0},{"$f":"VLOOKUP($A379,Results3,L$3,FALSE)","v":0},{"$f":"VLOOKUP($A379,Results3,M$4,FALSE)","v":0},{"$f":"VLOOKUP($A379,Results3,N$3,FALSE)","v":0},{"$f":"VLOOKUP($A379,Results3,O$4,FALSE)","v":0},{"$f":"VLOOKUP($A379,Results3,P$3,FALSE)","v":0},{"$f":"VLOOKUP($A379,Results3,Q$4,FALSE)","v":0},{"$f":"VLOOKUP($A379,Results3,R$3,FALSE)","v":0},{"$f":"VLOOKUP($A379,Results3,S$4,FALSE)","v":0},{"$f":"VLOOKUP($A379,Results3,T$3,FALSE)","v":0},{"$f":"VLOOKUP($A379,Results3,U$4,FALSE)","v":0},{"$f":"VLOOKUP($A379,Results3,V$3,FALSE)","v":0},{"$f":"VLOOKUP($A379,Results3,W$4,FALSE)","v":0},0,0,0,7,0,0,8]
[{"$f":"B379&\"B\"","v":"87B"},null,null,null,null,1,{"$f":"IF(LEN(G$379)>1,HLOOKUP(G$379,Relays,$A518,FALSE),\"\")","v":"Josh Bentley"},null,{"$f":"IF(LEN(I$379)>1,HLOOKUP(I$379,Relays,$A518,FALSE),\"\")","v":"Harry New"},null,{"$f":"IF(LEN(K$379)>1,HLOOKUP(K$379,Relays,$A518,FALSE),\"\")","v":""},null,{"$f":"IF(LEN(M$379)>1,HLOOKUP(M$379,Relays,$A518,FALSE),\"\")","v":""},null,{"$f":"IF(LEN(O$379)>1,HLOOKUP(O$379,Relays,$A518,FALSE),\"\")","v":""},null,{"$f":"IF(LEN(Q$379)>1,HLOOKUP(Q$379,Relays,$A518,FALSE),\"\")","v":""},null,{"$f":"IF(LEN(S$379)>1,HLOOKUP(S$379,Relays,$A518,FALSE),\"\")","v":""},null,{"$f":"IF(LEN(U$379)>1,HLOOKUP(U$379,Relays,$A518,FALSE),\"\")","v":""}]
[{"$f":"B379&\"B\"","v":"87B"},null,null,{"$f":"VLOOKUP(B379,EventsOrder,3,FALSE)","v":"4 x 100m"},null,2,{"$f":"IF(LEN(G$379)>1,HLOOKUP(G$379,Relays,$A519,FALSE),\"\")","v":"Reiss Francis"},null,{"$f":"IF(LEN(I$379)>1,HLOOKUP(I$379,Relays,$A519,FALSE),\"\")","v":"Brett Halsey"},null,{"$f":"IF(LEN(K$379)>1,HLOOKUP(K$379,Relays,$A519,FALSE),\"\")","v":""},null,{"$f":"IF(LEN(M$379)>1,HLOOKUP(M$379,Relays,$A519,FALSE),\"\")","v":""},null,{"$f":"IF(LEN(O$379)>1,HLOOKUP(O$379,Relays,$A519,FALSE),\"\")","v":""},null,{"$f":"IF(LEN(Q$379)>1,HLOOKUP(Q$379,Relays,$A519,FALSE),\"\")","v":""},null,{"$f":"IF(LEN(S$379)>1,HLOOKUP(S$379,Relays,$A519,FALSE),\"\")","v":""},null,{"$f":"IF(LEN(U$379)>1,HLOOKUP(U$379,Relays,$A519,FALSE),\"\")","v":""}]
[{"$f":"B379&\"R\"","v":"87R"},null,null,null,null,3,{"$f":"IF(LEN(G$379)>1,HLOOKUP(G$379,Relays,$A520,FALSE),\"\")","v":"Sam Lowe"},null,{"$f":"IF(LEN(I$379)>1,HLOOKUP(I$379,Relays,$A520,FALSE),\"\")","v":"Blake Strickland Bennett"},null,{"$f":"IF(LEN(K$379)>1,HLOOKUP(K$379,Relays,$A520,FALSE),\"\")","v":""},null,{"$f":"IF(LEN(M$379)>1,HLOOKUP(M$379,Relays,$A520,FALSE),\"\")","v":""},null,{"$f":"IF(LEN(O$379)>1,HLOOKUP(O$379,Relays,$A520,FALSE),\"\")","v":""},null,{"$f":"IF(LEN(Q$379)>1,HLOOKUP(Q$379,Relays,$A520,FALSE),\"\")","v":""},null,{"$f":"IF(LEN(S$379)>1,HLOOKUP(S$379,Relays,$A520,FALSE),\"\")","v":""},null,{"$f":"IF(LEN(U$379)>1,HLOOKUP(U$379,Relays,$A520,FALSE),\"\")","v":""}]
[{"$f":"B379&\"S\"","v":"87S"},null,null,null,null,4,{"$f":"IF(LEN(G$379)>1,HLOOKUP(G$379,Relays,$A521,FALSE),\"\")","v":"Ollie Gould"},null,{"$f":"IF(LEN(I$379)>1,HLOOKUP(I$379,Relays,$A521,FALSE),\"\")","v":"Sam Nelson"},null,{"$f":"IF(LEN(K$379)>1,HLOOKUP(K$379,Relays,$A521,FALSE),\"\")","v":""},null,{"$f":"IF(LEN(M$379)>1,HLOOKUP(M$379,Relays,$A521,FALSE),\"\")","v":""},null,{"$f":"IF(LEN(O$379)>1,HLOOKUP(O$379,Relays,$A521,FALSE),\"\")","v":""},null,{"$f":"IF(LEN(Q$379)>1,HLOOKUP(Q$379,Relays,$A521,FALSE),\"\")","v":""},null,{"$f":"IF(LEN(S$379)>1,HLOOKUP(S$379,Relays,$A521,FALSE),\"\")","v":""},null,{"$f":"IF(LEN(U$379)>1,HLOOKUP(U$379,Relays,$A521,FALSE),\"\")","v":""}]
[null,null,null,null,null,null,null,null,null,null,null,null,null,null,null,null,null,null,null,null,"Officials Points",null,{"$f":"Officials!C$20","v":14},{"$f":"Officials!D$20","v":14},{"$f":"Officials!E$20","v":10},{"$f":"Officials!F$20","v":8},{"$f":"Officials!G$20","v":14},{"$f":"Officials!H$20","v":6},{"$f":"Officials!I$20","v":8},{"$f":"Officials!J$20","v":14}]
[null,{"$f":"COUNTIF(B335:B384,\">0\")","v":12},null,null,null,null,null,null,null,null,null,null,null,null,null,null,null,null,null,null,"Total Points",null,{"$f":"SUM(W334:W384)","v":39},14,29,49,137,22,43,119,{"$f":"SUM(AE334:AE378)","v":11}]
[null,null,null,null,null,null,null,null,null,null,null,null,null,null,null,null,null,null,null,null,"Match Position",null,{"$f":"RANK(W385,$W385:$AD385)","v":5},8,6,3,1,7,4,2]
[]
[null,"Event No",null,null,null,null,null,null,null,null,{"$f":"K331","v":"Heart of England League Results"},null,null,null,null,null,null,null,null,null,null,null,{"$f":"W$8","v":"Banbury"},{"$f":"X$8","v":"Bicester"},"Dudley & S'bridge","Kettering","Radley","Tamworth","Wreake Runners","Worcester"]
[null,null,null,"Division",{"$f":"E332","v":2},null,null,"U17 Female/Women",null,null,"Venue",{"$f":"L332","v":"Worcester"},null,null,null,null,"Date",{"$f":"R332","v":"5th June 2016"}]
[null,null,"Time","Event",null,null,"First",null,"Second",null,"Third",null,"Fourth",null,"Fifth",null,"Sixth",null,"Seventh",null,"Eighth",null,{"$f":"W$10","v":"J"},{"$f":"X$10","v":"P"},"B","I","R","F","X","Y"]
[{"$f":"B392&\"A\"","v":"7A"},null,null,{"$f":"VLOOKUP(B392,EventsOrder,4,FALSE)","v":"U17 F/Women"},"A",null,{"$f":"VLOOKUP($A391,Results3,G$3,FALSE)","v":"Charlotte Bush"},null,{"$f":"VLOOKUP($A391,Results3,I$3,FALSE)","v":"Fern Harrison"},null,{"$f":"VLOOKUP($A391,Results3,K$3,FALSE)","v":"Jess Anstice U23"},null,{"$f":"VLOOKUP($A391,Results3,M$3,FALSE)","v":""},null,{"$f":"VLOOKUP($A391,Results3,O$3,FALSE)","v":""},null,{"$f":"VLOOKUP($A391,Results3,Q$3,FALSE)","v":""},null,{"$f":"VLOOKUP($A391,Results3,S$3,FALSE)","v":""},null,{"$f":"VLOOKUP($A391,Results3,U$3,FALSE)","v":""},null,null,null,null,null,null,null,null,null,{"$f":"IF(LEN(G391)>1,1,0)","v":1}]
[{"$f":"B392&\"A\"","v":"7A"},7,{"$f":"VLOOKUP(B392,EventsOrder,2,FALSE)","v":12.05},null,null,null,{"$f":"VLOOKUP($A392,Results3,G$4,FALSE)","v":"Tam"},{"$f":"VLOOKUP($A392,Results3,H$3,FALSE)","v":"5.12.1"},{"$f":"VLOOKUP($A392,Results3,I$4,FALSE)","v":"Wreake"},{"$f":"VLOOKUP($A392,Results3,J$3,FALSE)","v":"5.16.9"},{"$f":"VLOOKUP($A392,Results3,K$4,FALSE)","v":"Rad"},{"$f":"VLOOKUP($A392,Results3,L$3,FALSE)","v":"7.34.8"},{"$f":"VLOOKUP($A392,Results3,M$4,FALSE)","v":0},{"$f":"VLOOKUP($A392,Results3,N$3,FALSE)","v":0},{"$f":"VLOOKUP($A392,Results3,O$4,FALSE)","v":0},{"$f":"VLOOKUP($A392,Results3,P$3,FALSE)","v":0},{"$f":"VLOOKUP($A392,Results3,Q$4,FALSE)","v":0},{"$f":"VLOOKUP($A392,Results3,R$3,FALSE)","v":0},{"$f":"VLOOKUP($A392,Results3,S$4,FALSE)","v":0},{"$f":"VLOOKUP($A392,Results3,T$3,FALSE)","v":0},{"$f":"VLOOKUP($A392,Results3,U$4,FALSE)","v":0},{"$f":"VLOOKUP($A392,Results3,V$3,FALSE)","v":0},{"$f":"VLOOKUP($A392,Results3,W$4,FALSE)","v":0},{"$f":"VLOOKUP($A392,Results3,X$4,FALSE)","v":0},0,0,6,8,7,0]
[{"$f":"B392&\"B\"","v":"7B"},null,null,{"$f":"VLOOKUP(B392,EventsOrder,3,FALSE)","v":"1500m"},"B",null,{"$f":"VLOOKUP($A393,Results3,G$3,FALSE)","v":"Laura Lewis (Senior)"},null,{"$f":"VLOOKUP($A393,Results3,I$3,FALSE)","v":""},null,{"$f":"VLOOKUP($A393,Results3,K$3,FALSE)","v":""},null,{"$f":"VLOOKUP($A393,Results3,M$3,FALSE)","v":""},null,{"$f":"VLOOKUP($A393,Results3,O$3,FALSE)","v":""},null,{"$f":"VLOOKUP($A393,Results3,Q$3,FALSE)","v":""},null,{"$f":"VLOOKUP($A393,Results3,S$3,FALSE)","v":""},null,{"$f":"VLOOKUP($A393,Results3,U$3,FALSE)","v":""}]
[{"$f":"B392&\"B\"","v":"7B"},null,null,null,null,null,{"$f":"VLOOKUP($A394,Results3,G$4,FALSE)","v":"Tam"},{"$f":"VLOOKUP($A394,Results3,H$3,FALSE)","v":"5.59.0"},{"$f":"VLOOKUP($A394,Results3,I$4,FALSE)","v":0},{"$f":"VLOOKUP($A394,Results3,J$3,FALSE)","v":0},{"$f":"VLOOKUP($A394,Results3,K$4,FALSE)","v":0},{"$f":"VLOOKUP($A394,Results3,L$3,FALSE)","v":0},{"$f":"VLOOKUP($A394,Results3,M$4,FALSE)","v":0},{"$f":"VLOOKUP($A394,Results3,N$3,FALSE)","v":0},{"$f":"VLOOKUP($A394,Results3,O$4,FALSE)","v":0},{"$f":"VLOOKUP($A394,Results3,P$3,FALSE)","v":0},{"$f":"VLOOKUP($A394,Results3,Q$4,FALSE)","v":0},{"$f":"VLOOKUP($A394,Results3,R$3,FALSE)","v":0},{"$f":"VLOOKUP($A394,Results3,S$4,FALSE)","v":0},{"$f":"VLOOKUP($A394,Results3,T$3,FALSE)","v":0},{"$f":"VLOOKUP($A394,Results3,U$4,FALSE)","v":0},{"$f":"VLOOKUP($A394,Results3,V$3,FALSE)","v":0},{"$f":"VLOOKUP($A394,Results3,W$4,FALSE)","v":0},0,0,0,0,8,0,0]
[{"$f":"B396&\"A\"","v":"10A"},null,null,{"$f":"VLOOKUP(B396,EventsOrder,4,FALSE)","v":"U17 Female"},"A",null,{"$f":"VLOOKUP($A395,Results3,G$3,FALSE)","v":""},null,{"$f":"VLOOKUP($A395,Results3,I$3,FALSE)","v":""},null,{"$f":"VLOOKUP($A395,Results3,K$3,FALSE)","v":""},null,{"$f":"VLOOKUP($A395,Results3,M$3,FALSE)","v":""},null,{"$f":"VLOOKUP($A395,Results3,O$3,FALSE)","v":""},null,{"$f":"VLOOKUP($A395,Results3,Q$3,FALSE)","v":""},null,{"$f":"VLOOKUP($A395,Results3,S$3,FALSE)","v":""},null,{"$f":"VLOOKUP($A395,Results3,U$3,FALSE)","v":""},null,null,null,null,null,null,null,null,null,{"$f":"IF(LEN(G395)>1,1,0)","v":0}]
[{"$f":"B396&\"A\"","v":"10A"},10,{"$f":"VLOOKUP(B396,EventsOrder,2,FALSE)","v":12.15},null,null,null,{"$f":"VLOOKUP($A396,Results3,G$4,FALSE)","v":0},{"$f":"VLOOKUP($A396,Results3,H$3,FALSE)","v":0},{"$f":"VLOOKUP($A396,Results3,I$4,FALSE)","v":0},{"$f":"VLOOKUP($A396,Results3,J$3,FALSE)","v":0},{"$f":"VLOOKUP($A396,Results3,K$4,FALSE)","v":0},{"$f":"VLOOKUP($A396,Results3,L$3,FALSE)","v":0},{"$f":"VLOOKUP($A396,Results3,M$4,FALSE)","v":0},{"$f":"VLOOKUP($A396,Results3,N$3,FALSE)","v":0},{"$f":"VLOOKUP($A396,Results3,O$4,FALSE)","v":0},{"$f":"VLOOKUP($A396,Results3,P$3,FALSE)","v":0},{"$f":"VLOOKUP($A396,Results3,Q$4,FALSE)","v":0},{"$f":"VLOOKUP($A396,Results3,R$3,FALSE)","v":0},{"$f":"VLOOKUP($A396,Results3,S$4,FALSE)","v":0},{"$f":"VLOOKUP($A396,Results3,T$3,FALSE)","v":0},{"$f":"VLOOKUP($A396,Results3,U$4,FALSE)","v":0},{"$f":"VLOOKUP($A396,Results3,V$3,FALSE)","v":0},{"$f":"VLOOKUP($A396,Results3,W$4,FALSE)","v":0},{"$f":"VLOOKUP($A396,Results3,X$4,FALSE)","v":0},0,0,0,0,0,0]
[{"$f":"B396&\"B\"","v":"10B"},null,null,{"$f":"VLOOKUP(B396,EventsOrder,3,FALSE)","v":"Javelin (U17)"},"B",null,{"$f":"VLOOKUP($A397,Results3,G$3,FALSE)","v":""},null,{"$f":"VLOOKUP($A397,Results3,I$3,FALSE)","v":""},null,{"$f":"VLOOKUP($A397,Results3,K$3,FALSE)","v":""},null,{"$f":"VLOOKUP($A397,Results3,M$3,FALSE)","v":""},null,{"$f":"VLOOKUP($A397,Results3,O$3,FALSE)","v":""},null,{"$f":"VLOOKUP($A397,Results3,Q$3,FALSE)","v":""},null,{"$f":"VLOOKUP($A397,Results3,S$3,FALSE)","v":""},null,{"$f":"VLOOKUP($A397,Results3,U$3,FALSE)","v":""}]
[{"$f":"B396&\"B\"","v":"10B"},null,null,null,null,null,{"$f":"VLOOKUP($A398,Results3,G$4,FALSE)","v":0},{"$f":"VLOOKUP($A398,Results3,H$3,FALSE)","v":0},{"$f":"VLOOKUP($A398,Results3,I$4,FALSE)","v":0},{"$f":"VLOOKUP($A398,Results3,J$3,FALSE)","v":0},{"$f":"VLOOKUP($A398,Results3,K$4,FALSE)","v":0},{"$f":"VLOOKUP($A398,Results3,L$3,FALSE)","v":0},{"$f":"VLOOKUP($A398,Results3,M$4,FALSE)","v":0},{"$f":"VLOOKUP($A398,Results3,N$3,FALSE)","v":0},{"$f":"VLOOKUP($A398,Results3,O$4,FALSE)","v":0},{"$f":"VLOOKUP($A398,Results3,P$3,FALSE)","v":0},{"$f":"VLOOKUP($A398,Results3,Q$4,FALSE)","v":0},{"$f":"VLOOKUP($A398,Results3,R$3,FALSE)","v":0},{"$f":"VLOOKUP($A398,Results3,S$4,FALSE)","v":0},{"$f":"VLOOKUP($A398,Results3,T$3,FALSE)","v":0},{"$f":"VLOOKUP($A398,Results3,U$4,FALSE)","v":0},{"$f":"VLOOKUP($A398,Results3,V$3,FALSE)","v":0},{"$f":"VLOOKUP($A398,Results3,W$4,FALSE)","v":0},0,0,0,0,0,0,0]
[{"$f":"B400&\"A\"","v":"19A"},null,null,{"$f":"VLOOKUP(B400,EventsOrder,4,FALSE)","v":"U17 Female"},"A",null,{"$f":"VLOOKUP($A399,Results3,G$3,FALSE)","v":"Georgia Clarke"},null,{"$f":"VLOOKUP($A399,Results3,I$3,FALSE)","v":"Helen Dubber"},null,{"$f":"VLOOKUP($A399,Results3,K$3,FALSE)","v":"Victoria Harte"},null,{"$f":"VLOOKUP($A399,Results3,M$3,FALSE)","v":""},null,{"$f":"VLOOKUP($A399,Results3,O$3,FALSE)","v":""},null,{"$f":"VLOOKUP($A399,Results3,Q$3,FALSE)","v":""},null,{"$f":"VLOOKUP($A399,Results3,S$3,FALSE)","v":""},null,{"$f":"VLOOKUP($A399,Results3,U$3,FALSE)","v":""},null,null,null,null,null,null,null,null,null,{"$f":"IF(LEN(G399)>1,1,0)","v":1}]
[{"$f":"B400&\"A\"","v":"19A"},19,{"$f":"VLOOKUP(B400,EventsOrder,2,FALSE)","v":1},null,null,null,{"$f":"VLOOKUP($A400,Results3,G$4,FALSE)","v":"Worc"},{"$f":"VLOOKUP($A400,Results3,H$3,FALSE)","v":12.7},{"$f":"VLOOKUP($A400,Results3,I$4,FALSE)","v":"Ban"},{"$f":"VLOOKUP($A400,Results3,J$3,FALSE)","v":12.9},{"$f":"VLOOKUP($A400,Results3,K$4,FALSE)","v":"Rad"},{"$f":"VLOOKUP($A400,Results3,L$3,FALSE)","v":13.8},{"$f":"VLOOKUP($A400,Results3,M$4,FALSE)","v":0},{"$f":"VLOOKUP($A400,Results3,N$3,FALSE)","v":0},{"$f":"VLOOKUP($A400,Results3,O$4,FALSE)","v":0},{"$f":"VLOOKUP($A400,Results3,P$3,FALSE)","v":0},{"$f":"VLOOKUP($A400,Results3,Q$4,FALSE)","v":0},{"$f":"VLOOKUP($A400,Results3,R$3,FALSE)","v":0},{"$f":"VLOOKUP($A400,Results3,S$4,FALSE)","v":0},{"$f":"VLOOKUP($A400,Results3,T$3,FALSE)","v":0},{"$f":"VLOOKUP($A400,Results3,U$4,FALSE)","v":0},{"$f":"VLOOKUP($A400,Results3,V$3,FALSE)","v":0},{"$f":"VLOOKUP($A400,Results3,W$4,FALSE)","v":7},{"$f":"VLOOKUP($A400,Results3,X$4,FALSE)","v":0},0,0,6,0,0,8]
[{"$f":"B400&\"B\"","v":"19B"},null,null,{"$f":"VLOOKUP(B400,EventsOrder,3,FALSE)","v":"80m hurdles (U17)"},"B",null,{"$f":"VLOOKUP($A401,Results3,G$3,FALSE)","v":"Megan Baker"},null,{"$f":"VLOOKUP($A401,Results3,I$3,FALSE)","v":"Abigail Gill"},null,{"$f":"VLOOKUP($A401,Results3,K$3,FALSE)","v":"Paige Cooper"},null,{"$f":"VLOOKUP($A401,Results3,M$3,FALSE)","v":""},null,{"$f":"VLOOKUP($A401,Results3,O$3,FALSE)","v":""},null,{"$f":"VLOOKUP($A401,Results3,Q$3,FALSE)","v":""},null,{"$f":"VLOOKUP($A401,Results3,S$3,FALSE)","v":""},null,{"$f":"VLOOKUP($A401,Results3,U$3,FALSE)","v":""}]
[{"$f":"B400&\"B\"","v":"19B"},null,null,null,null,null,{"$f":"VLOOKUP($A402,Results3,G$4,FALSE)","v":"Rad"},{"$f":"VLOOKUP($A402,Results3,H$3,FALSE)","v":14},{"$f":"VLOOKUP($A402,Results3,I$4,FALSE)","v":"Worc"},{"$f":"VLOOKUP($A402,Results3,J$3,FALSE)","v":16.100000000000001},{"$f":"VLOOKUP($A402,Results3,K$4,FALSE)","v":"Ban"},{"$f":"VLOOKUP($A402,Results3,L$3,FALSE)","v":"DNF"},{"$f":"VLOOKUP($A402,Results3,M$4,FALSE)","v":0},{"$f":"VLOOKUP($A402,Results3,N$3,FALSE)","v":0},{"$f":"VLOOKUP($A402,Results3,O$4,FALSE)","v":0},{"$f":"VLOOKUP($A402,Results3,P$3,FALSE)","v":0},{"$f":"VLOOKUP($A402,Results3,Q$4,FALSE)","v":0},{"$f":"VLOOKUP($A402,Results3,R$3,FALSE)","v":0},{"$f":"VLOOKUP($A402,Results3,S$4,FALSE)","v":0},{"$f":"VLOOKUP($A402,Results3,T$3,FALSE)","v":0},{"$f":"VLOOKUP($A402,Results3,U$4,FALSE)","v":0},{"$f":"VLOOKUP($A402,Results3,V$3,FALSE)","v":0},{"$f":"VLOOKUP($A402,Results3,W$4,FALSE)","v":0},0,0,0,8,0,0,7]
[{"$f":"B404&\"A\"","v":"28A"},null,null,{"$f":"VLOOKUP(B404,EventsOrder,4,FALSE)","v":"U17 F/Women"},"A",null,{"$f":"VLOOKUP($A403,Results3,G$3,FALSE)","v":"Faith Brew U20"},null,{"$f":"VLOOKUP($A403,Results3,I$3,FALSE)","v":"Harriett Jolley"},null,{"$f":"VLOOKUP($A403,Results3,K$3,FALSE)","v":"Fern Harrison"},null,{"$f":"VLOOKUP($A403,Results3,M$3,FALSE)","v":""},null,{"$f":"VLOOKUP($A403,Results3,O$3,FALSE)","v":""},null,{"$f":"VLOOKUP($A403,Results3,Q$3,FALSE)","v":""},null,{"$f":"VLOOKUP($A403,Results3,S$3,FALSE)","v":""},null,{"$f":"VLOOKUP($A403,Results3,U$3,FALSE)","v":""},null,null,null,null,null,null,null,null,null,{"$f":"IF(LEN(G403)>1,1,0)","v":1}]
[{"$f":"B404&\"A\"","v":"28A"},28,{"$f":"VLOOKUP(B404,EventsOrder,2,FALSE)","v":1.4},null,null,null,{"$f":"VLOOKUP($A404,Results3,G$4,FALSE)","v":"Rad"},{"$f":"VLOOKUP($A404,Results3,H$3,FALSE)","v":"2.24.4"},{"$f":"VLOOKUP($A404,Results3,I$4,FALSE)","v":"Kett"},{"$f":"VLOOKUP($A404,Results3,J$3,FALSE)","v":"3.32.2"},{"$f":"VLOOKUP($A404,Results3,K$4,FALSE)","v":"Wreake"},{"$f":"VLOOKUP($A404,Results3,L$3,FALSE)","v":"2.44.5"},{"$f":"VLOOKUP($A404,Results3,M$4,FALSE)","v":0},{"$f":"VLOOKUP($A404,Results3,N$3,FALSE)","v":0},{"$f":"VLOOKUP($A404,Results3,O$4,FALSE)","v":0},{"$f":"VLOOKUP($A404,Results3,P$3,FALSE)","v":0},{"$f":"VLOOKUP($A404,Results3,Q$4,FALSE)","v":0},{"$f":"VLOOKUP($A404,Results3,R$3,FALSE)","v":0},{"$f":"VLOOKUP($A404,Results3,S$4,FALSE)","v":0},{"$f":"VLOOKUP($A404,Results3,T$3,FALSE)","v":0},{"$f":"VLOOKUP($A404,Results3,U$4,FALSE)","v":0},{"$f":"VLOOKUP($A404,Results3,V$3,FALSE)","v":0},{"$f":"VLOOKUP($A404,Results3,W$4,FALSE)","v":0},{"$f":"VLOOKUP($A404,Results3,X$4,FALSE)","v":0},0,7,8,0,6,0]
[{"$f":"B404&\"B\"","v":"28B"},null,null,{"$f":"VLOOKUP(B404,EventsOrder,3,FALSE)","v":"800m"},"B",null,{"$f":"VLOOKUP($A405,Results3,G$3,FALSE)","v":"Jess Anstice U23"},null,{"$f":"VLOOKUP($A405,Results3,I$3,FALSE)","v":"Charlotte Maywood"},null,{"$f":"VLOOKUP($A405,Results3,K$3,FALSE)","v":""},null,{"$f":"VLOOKUP($A405,Results3,M$3,FALSE)","v":""},null,{"$f":"VLOOKUP($A405,Results3,O$3,FALSE)","v":""},null,{"$f":"VLOOKUP($A405,Results3,Q$3,FALSE)","v":""},null,{"$f":"VLOOKUP($A405,Results3,S$3,FALSE)","v":""},null,{"$f":"VLOOKUP($A405,Results3,U$3,FALSE)","v":""}]
[{"$f":"B404&\"B\"","v":"28B"},null,null,null,null,null,{"$f":"VLOOKUP($A406,Results3,G$4,FALSE)","v":"Rad"},{"$f":"VLOOKUP($A406,Results3,H$3,FALSE)","v":"2.28.5"},{"$f":"VLOOKUP($A406,Results3,I$4,FALSE)","v":"Kett"},{"$f":"VLOOKUP($A406,Results3,J$3,FALSE)","v":"2.36.3"},{"$f":"VLOOKUP($A406,Results3,K$4,FALSE)","v":0},{"$f":"VLOOKUP($A406,Results3,L$3,FALSE)","v":0},{"$f":"VLOOKUP($A406,Results3,M$4,FALSE)","v":0},{"$f":"VLOOKUP($A406,Results3,N$3,FALSE)","v":0},{"$f":"VLOOKUP($A406,Results3,O$4,FALSE)","v":0},{"$f":"VLOOKUP($A406,Results3,P$3,FALSE)","v":0},{"$f":"VLOOKUP($A406,Results3,Q$4,FALSE)","v":0},{"$f":"VLOOKUP($A406,Results3,R$3,FALSE)","v":0},{"$f":"VLOOKUP($A406,Results3,S$4,FALSE)","v":0},{"$f":"VLOOKUP($A406,Results3,T$3,FALSE)","v":0},{"$f":"VLOOKUP($A406,Results3,U$4,FALSE)","v":0},{"$f":"VLOOKUP($A406,Results3,V$3,FALSE)","v":0},{"$f":"VLOOKUP($A406,Results3,W$4,FALSE)","v":0},0,0,7,8,0,0,0]
[{"$f":"B408&\"A\"","v":"37A"},null,null,{"$f":"VLOOKUP(B408,EventsOrder,4,FALSE)","v":"U17 Female"},"A",null,{"$f":"VLOOKUP($A407,Results3,G$3,FALSE)","v":"Petrina Chantler-Edmond"},null,{"$f":"VLOOKUP($A407,Results3,I$3,FALSE)","v":"Cara Clarke"},null,{"$f":"VLOOKUP($A407,Results3,K$3,FALSE)","v":"Paige Cooper"},null,{"$f":"VLOOKUP($A407,Results3,M$3,FALSE)","v":"Megan Luxford"},null,{"$f":"VLOOKUP($A407,Results3,O$3,FALSE)","v":"Lauren Millward"},null,{"$f":"VLOOKUP($A407,Results3,Q$3,FALSE)","v":"Laura Lewis (Senior)"},null,{"$f":"VLOOKUP($A407,Results3,S$3,FALSE)","v":"Harriett Jolley"},null,{"$f":"VLOOKUP($A407,Results3,U$3,FALSE)","v":""},null,null,null,null,null,null,null,null,null,{"$f":"IF(LEN(G407)>1,1,0)","v":1}]
[{"$f":"B408&\"A\"","v":"37A"},37,{"$f":"VLOOKUP(B408,EventsOrder,2,FALSE)","v":1.5},null,null,null,{"$f":"VLOOKUP($A408,Results3,G$4,FALSE)","v":"Rad"},{"$f":"VLOOKUP($A408,Results3,H$3,FALSE)","v":10.87},{"$f":"VLOOKUP($A408,Results3,I$4,FALSE)","v":"Worc"},{"$f":"VLOOKUP($A408,Results3,J$3,FALSE)","v":9.58},{"$f":"VLOOKUP($A408,Results3,K$4,FALSE)","v":"Ban"},{"$f":"VLOOKUP($A408,Results3,L$3,FALSE)","v":8.5299999999999994},{"$f":"VLOOKUP($A408,Results3,M$4,FALSE)","v":"Wreake"},{"$f":"VLOOKUP($A408,Results3,N$3,FALSE)","v":7.02},{"$f":"VLOOKUP($A408,Results3,O$4,FALSE)","v":"DASH"},{"$f":"VLOOKUP($A408,Results3,P$3,FALSE)","v":6.78},{"$f":"VLOOKUP($A408,Results3,Q$4,FALSE)","v":"Tam"},{"$f":"VLOOKUP($A408,Results3,R$3,FALSE)","v":6.58},{"$f":"VLOOKUP($A408,Results3,S$4,FALSE)","v":"Kett"},{"$f":"VLOOKUP($A408,Results3,T$3,FALSE)","v":5.38},{"$f":"VLOOKUP($A408,Results3,U$4,FALSE)","v":0},{"$f":"VLOOKUP($A408,Results3,V$3,FALSE)","v":0},{"$f":"VLOOKUP($A408,Results3,W$4,FALSE)","v":6},{"$f":"VLOOKUP($A408,Results3,X$4,FALSE)","v":0},4,2,8,3,5,7]
[{"$f":"B408&\"B\"","v":"37B"},null,null,{"$f":"VLOOKUP(B408,EventsOrder,3,FALSE)","v":"Shot (U17)"},"B",null,{"$f":"VLOOKUP($A409,Results3,G$3,FALSE)","v":"Victoria Harte"},null,{"$f":"VLOOKUP($A409,Results3,I$3,FALSE)","v":"Hannah Kenwright"},null,{"$f":"VLOOKUP($A409,Results3,K$3,FALSE)","v":"Charlotte Maywood"},null,{"$f":"VLOOKUP($A409,Results3,M$3,FALSE)","v":""},null,{"$f":"VLOOKUP($A409,Results3,O$3,FALSE)","v":""},null,{"$f":"VLOOKUP($A409,Results3,Q$3,FALSE)","v":""},null,{"$f":"VLOOKUP($A409,Results3,S$3,FALSE)","v":""},null,{"$f":"VLOOKUP($A409,Results3,U$3,FALSE)","v":""}]
[{"$f":"B408&\"B\"","v":"37B"},null,null,null,null,null,{"$f":"VLOOKUP($A410,Results3,G$4,FALSE)","v":"Rad"},{"$f":"VLOOKUP($A410,Results3,H$3,FALSE)","v":9.92},{"$f":"VLOOKUP($A410,Results3,I$4,FALSE)","v":"Worc"},{"$f":"VLOOKUP($A410,Results3,J$3,FALSE)","v":8.4499999999999993},{"$f":"VLOOKUP($A410,Results3,K$4,FALSE)","v":"Kett"},{"$f":"VLOOKUP($A410,Results3,L$3,FALSE)","v":4.6900000000000004},{"$f":"VLOOKUP($A410,Results3,M$4,FALSE)","v":0},{"$f":"VLOOKUP($A410,Results3,N$3,FALSE)","v":0},{"$f":"VLOOKUP($A410,Results3,O$4,FALSE)","v":0},{"$f":"VLOOKUP($A410,Results3,P$3,FALSE)","v":0},{"$f":"VLOOKUP($A410,Results3,Q$4,FALSE)","v":0},{"$f":"VLOOKUP($A410,Results3,R$3,FALSE)","v":0},{"$f":"VLOOKUP($A410,Results3,S$4,FALSE)","v":0},{"$f":"VLOOKUP($A410,Results3,T$3,FALSE)","v":0},{"$f":"VLOOKUP($A410,Results3,U$4,FALSE)","v":0},{"$f":"VLOOKUP($A410,Results3,V$3,FALSE)","v":0},{"$f":"VLOOKUP($A410,Results3,W$4,FALSE)","v":0},0,0,6,8,0,0,7]
[{"$f":"B412&\"A\"","v":"40A"},null,null,{"$f":"VLOOKUP(B412,EventsOrder,4,FALSE)","v":"U17 F/Women"},"A",null,{"$f":"VLOOKUP($A411,Results3,G$3,FALSE)","v":"Cara Clarke"},null,{"$f":"VLOOKUP($A411,Results3,I$3,FALSE)","v":"Leah Brown"},null,{"$f":"VLOOKUP($A411,Results3,K$3,FALSE)","v":"Ella Grainger"},null,{"$f":"VLOOKUP($A411,Results3,M$3,FALSE)","v":"Lauren Millward"},null,{"$f":"VLOOKUP($A411,Results3,O$3,FALSE)","v":"U20 Emily Benfield"},null,{"$f":"VLOOKUP($A411,Results3,Q$3,FALSE)","v":"Niamh Monaghan"},null,{"$f":"VLOOKUP($A411,Results3,S$3,FALSE)","v":""},null,{"$f":"VLOOKUP($A411,Results3,U$3,FALSE)","v":""},null,null,null,null,null,null,null,null,null,{"$f":"IF(LEN(G411)>1,1,0)","v":1}]
[{"$f":"B412&\"A\"","v":"40A"},40,{"$f":"VLOOKUP(B412,EventsOrder,2,FALSE)","v":2.2000000000000002},null,null,null,{"$f":"VLOOKUP($A412,Results3,G$4,FALSE)","v":"Worc"},{"$f":"VLOOKUP($A412,Results3,H$3,FALSE)","v":13},{"$f":"VLOOKUP($A412,Results3,I$4,FALSE)","v":"Rad"},{"$f":"VLOOKUP($A412,Results3,J$3,FALSE)","v":13.3},{"$f":"VLOOKUP($A412,Results3,K$4,FALSE)","v":"Wreake"},{"$f":"VLOOKUP($A412,Results3,L$3,FALSE)","v":13.5},{"$f":"VLOOKUP($A412,Results3,M$4,FALSE)","v":"DASH"},{"$f":"VLOOKUP($A412,Results3,N$3,FALSE)","v":13.7},{"$f":"VLOOKUP($A412,Results3,O$4,FALSE)","v":"Bic"},{"$f":"VLOOKUP($A412,Results3,P$3,FALSE)","v":14},{"$f":"VLOOKUP($A412,Results3,Q$4,FALSE)","v":"Kett"},{"$f":"VLOOKUP($A412,Results3,R$3,FALSE)","v":14.1},{"$f":"VLOOKUP($A412,Results3,S$4,FALSE)","v":0},{"$f":"VLOOKUP($A412,Results3,T$3,FALSE)","v":0},{"$f":"VLOOKUP($A412,Results3,U$4,FALSE)","v":0},{"$f":"VLOOKUP($A412,Results3,V$3,FALSE)","v":0},{"$f":"VLOOKUP($A412,Results3,W$4,FALSE)","v":0},{"$f":"VLOOKUP($A412,Results3,X$4,FALSE)","v":4},5,3,7,0,6,8]
[{"$f":"B412&\"B\"","v":"40B"},null,null,{"$f":"VLOOKUP(B412,EventsOrder,3,FALSE)","v":"100m"},"B",null,{"$f":"VLOOKUP($A413,Results3,G$3,FALSE)","v":"Georgia Clarke"},null,{"$f":"VLOOKUP($A413,Results3,I$3,FALSE)","v":"Zara Millward"},null,{"$f":"VLOOKUP($A413,Results3,K$3,FALSE)","v":"Megan Baker"},null,{"$f":"VLOOKUP($A413,Results3,M$3,FALSE)","v":"Megan Luxford"},null,{"$f":"VLOOKUP($A413,Results3,O$3,FALSE)","v":"Niamh Ruffles"},null,{"$f":"VLOOKUP($A413,Results3,Q$3,FALSE)","v":""},null,{"$f":"VLOOKUP($A413,Results3,S$3,FALSE)","v":""},null,{"$f":"VLOOKUP($A413,Results3,U$3,FALSE)","v":""}]
[{"$f":"B412&\"B\"","v":"40B"},null,null,null,null,null,{"$f":"VLOOKUP($A414,Results3,G$4,FALSE)","v":"Worc"},{"$f":"VLOOKUP($A414,Results3,H$3,FALSE)","v":13.1},{"$f":"VLOOKUP($A414,Results3,I$4,FALSE)","v":"DASH"},{"$f":"VLOOKUP($A414,Results3,J$3,FALSE)","v":13.7},{"$f":"VLOOKUP($A414,Results3,K$4,FALSE)","v":"Rad"},{"$f":"VLOOKUP($A414,Results3,L$3,FALSE)","v":13.9},{"$f":"VLOOKUP($A414,Results3,M$4,FALSE)","v":"Wreake"},{"$f":"VLOOKUP($A414,Results3,N$3,FALSE)","v":14},{"$f":"VLOOKUP($A414,Results3,O$4,FALSE)","v":"Kett"},{"$f":"VLOOKUP($A414,Results3,P$3,FALSE)","v":14.3},{"$f":"VLOOKUP($A414,Results3,Q$4,FALSE)","v":0},{"$f":"VLOOKUP($A414,Results3,R$3,FALSE)","v":0},{"$f":"VLOOKUP($A414,Results3,S$4,FALSE)","v":0},{"$f":"VLOOKUP($A414,Results3,T$3,FALSE)","v":0},{"$f":"VLOOKUP($A414,Results3,U$4,FALSE)","v":0},{"$f":"VLOOKUP($A414,Results3,V$3,FALSE)","v":0},{"$f":"VLOOKUP($A414,Results3,W$4,FALSE)","v":0},0,7,4,6,0,5,8]
[{"$f":"B416&\"A\"","v":"51A"},null,null,{"$f":"VLOOKUP(B416,EventsOrder,4,FALSE)","v":"U17 F/Women"},"A",null,{"$f":"VLOOKUP($A415,Results3,G$3,FALSE)","v":"Stephanie Mott"},null,{"$f":"VLOOKUP($A415,Results3,I$3,FALSE)","v":"Niamh Monaghan"},null,{"$f":"VLOOKUP($A415,Results3,K$3,FALSE)","v":"Rebecca Scott"},null,{"$f":"VLOOKUP($A415,Results3,M$3,FALSE)","v":""},null,{"$f":"VLOOKUP($A415,Results3,O$3,FALSE)","v":""},null,{"$f":"VLOOKUP($A415,Results3,Q$3,FALSE)","v":""},null,{"$f":"VLOOKUP($A415,Results3,S$3,FALSE)","v":""},null,{"$f":"VLOOKUP($A415,Results3,U$3,FALSE)","v":""},null,null,null,null,null,null,null,null,null,{"$f":"IF(LEN(G415)>1,1,0)","v":1}]
[{"$f":"B416&\"A\"","v":"51A"},51,{"$f":"VLOOKUP(B416,EventsOrder,2,FALSE)","v":2.4500000000000002},null,null,null,{"$f":"VLOOKUP($A416,Results3,G$4,FALSE)","v":"Rad"},{"$f":"VLOOKUP($A416,Results3,H$3,FALSE)","v":45.4},{"$f":"VLOOKUP($A416,Results3,I$4,FALSE)","v":"Kett"},{"$f":"VLOOKUP($A416,Results3,J$3,FALSE)","v":46.3},{"$f":"VLOOKUP($A416,Results3,K$4,FALSE)","v":"Ban"},{"$f":"VLOOKUP($A416,Results3,L$3,FALSE)","v":46.4},{"$f":"VLOOKUP($A416,Results3,M$4,FALSE)","v":0},{"$f":"VLOOKUP($A416,Results3,N$3,FALSE)","v":0},{"$f":"VLOOKUP($A416,Results3,O$4,FALSE)","v":0},{"$f":"VLOOKUP($A416,Results3,P$3,FALSE)","v":0},{"$f":"VLOOKUP($A416,Results3,Q$4,FALSE)","v":0},{"$f":"VLOOKUP($A416,Results3,R$3,FALSE)","v":0},{"$f":"VLOOKUP($A416,Results3,S$4,FALSE)","v":0},{"$f":"VLOOKUP($A416,Results3,T$3,FALSE)","v":0},{"$f":"VLOOKUP($A416,Results3,U$4,FALSE)","v":0},{"$f":"VLOOKUP($A416,Results3,V$3,FALSE)","v":0},{"$f":"VLOOKUP($A416,Results3,W$4,FALSE)","v":6},{"$f":"VLOOKUP($A416,Results3,X$4,FALSE)","v":0},0,7,8,0,0,0]
[{"$f":"B416&\"B\"","v":"51B"},null,null,{"$f":"VLOOKUP(B416,EventsOrder,3,FALSE)","v":"300m"},"B",null,{"$f":"VLOOKUP($A417,Results3,G$3,FALSE)","v":"Harriett Jolley"},null,{"$f":"VLOOKUP($A417,Results3,I$3,FALSE)","v":"Leah Brown"},null,{"$f":"VLOOKUP($A417,Results3,K$3,FALSE)","v":""},null,{"$f":"VLOOKUP($A417,Results3,M$3,FALSE)","v":""},null,{"$f":"VLOOKUP($A417,Results3,O$3,FALSE)","v":""},null,{"$f":"VLOOKUP($A417,Results3,Q$3,FALSE)","v":""},null,{"$f":"VLOOKUP($A417,Results3,S$3,FALSE)","v":""},null,{"$f":"VLOOKUP($A417,Results3,U$3,FALSE)","v":""}]
[{"$f":"B416&\"B\"","v":"51B"},null,null,null,null,null,{"$f":"VLOOKUP($A418,Results3,G$4,FALSE)","v":"Kett"},{"$f":"VLOOKUP($A418,Results3,H$3,FALSE)","v":45.3},{"$f":"VLOOKUP($A418,Results3,I$4,FALSE)","v":"Rad"},{"$f":"VLOOKUP($A418,Results3,J$3,FALSE)","v":46.2},{"$f":"VLOOKUP($A418,Results3,K$4,FALSE)","v":0},{"$f":"VLOOKUP($A418,Results3,L$3,FALSE)","v":0},{"$f":"VLOOKUP($A418,Results3,M$4,FALSE)","v":0},{"$f":"VLOOKUP($A418,Results3,N$3,FALSE)","v":0},{"$f":"VLOOKUP($A418,Results3,O$4,FALSE)","v":0},{"$f":"VLOOKUP($A418,Results3,P$3,FALSE)","v":0},{"$f":"VLOOKUP($A418,Results3,Q$4,FALSE)","v":0},{"$f":"VLOOKUP($A418,Results3,R$3,FALSE)","v":0},{"$f":"VLOOKUP($A418,Results3,S$4,FALSE)","v":0},{"$f":"VLOOKUP($A418,Results3,T$3,FALSE)","v":0},{"$f":"VLOOKUP($A418,Results3,U$4,FALSE)","v":0},{"$f":"VLOOKUP($A418,Results3,V$3,FALSE)","v":0},{"$f":"VLOOKUP($A418,Results3,W$4,FALSE)","v":0},0,0,8,7,0,0,0]
[{"$f":"B420&\"A\"","v":"53A"},null,null,{"$f":"VLOOKUP(B420,EventsOrder,4,FALSE)","v":"U17 Female"},"A",null,{"$f":"VLOOKUP($A419,Results3,G$3,FALSE)","v":"Petrina Chantler-Edmond"},null,{"$f":"VLOOKUP($A419,Results3,I$3,FALSE)","v":"Paige Cooper"},null,{"$f":"VLOOKUP($A419,Results3,K$3,FALSE)","v":"Cara Clarke"},null,{"$f":"VLOOKUP($A419,Results3,M$3,FALSE)","v":"Fern Harrison"},null,{"$f":"VLOOKUP($A419,Results3,O$3,FALSE)","v":""},null,{"$f":"VLOOKUP($A419,Results3,Q$3,FALSE)","v":""},null,{"$f":"VLOOKUP($A419,Results3,S$3,FALSE)","v":""},null,{"$f":"VLOOKUP($A419,Results3,U$3,FALSE)","v":""},null,null,null,null,null,null,null,null,null,{"$f":"IF(LEN(G419)>1,1,0)","v":1}]
[{"$f":"B420&\"A\"","v":"53A"},53,{"$f":"VLOOKUP(B420,EventsOrder,2,FALSE)","v":2.4},null,null,null,{"$f":"VLOOKUP($A420,Results3,G$4,FALSE)","v":"Rad"},{"$f":"VLOOKUP($A420,Results3,H$3,FALSE)","v":22.76},{"$f":"VLOOKUP($A420,Results3,I$4,FALSE)","v":"Ban"},{"$f":"VLOOKUP($A420,Results3,J$3,FALSE)","v":17.940000000000001},{"$f":"VLOOKUP($A420,Results3,K$4,FALSE)","v":"Worc"},{"$f":"VLOOKUP($A420,Results3,L$3,FALSE)","v":13.99},{"$f":"VLOOKUP($A420,Results3,M$4,FALSE)","v":"Wreake"},{"$f":"VLOOKUP($A420,Results3,N$3,FALSE)","v":10.54},{"$f":"VLOOKUP($A420,Results3,O$4,FALSE)","v":0},{"$f":"VLOOKUP($A420,Results3,P$3,FALSE)","v":0},{"$f":"VLOOKUP($A420,Results3,Q$4,FALSE)","v":0},{"$f":"VLOOKUP($A420,Results3,R$3,FALSE)","v":0},{"$f":"VLOOKUP($A420,Results3,S$4,FALSE)","v":0},{"$f":"VLOOKUP($A420,Results3,T$3,FALSE)","v":0},{"$f":"VLOOKUP($A420,Results3,U$4,FALSE)","v":0},{"$f":"VLOOKUP($A420,Results3,V$3,FALSE)","v":0},{"$f":"VLOOKUP($A420,Results3,W$4,FALSE)","v":7},{"$f":"VLOOKUP($A420,Results3,X$4,FALSE)","v":0},0,0,8,0,5,6]
[{"$f":"B420&\"B\"","v":"53B"},null,null,{"$f":"VLOOKUP(B420,EventsOrder,3,FALSE)","v":"Discus (U17)"},"B",null,{"$f":"VLOOKUP($A421,Results3,G$3,FALSE)","v":"Stephanie Mott"},null,{"$f":"VLOOKUP($A421,Results3,I$3,FALSE)","v":"Helen Dubber"},null,{"$f":"VLOOKUP($A421,Results3,K$3,FALSE)","v":""},null,{"$f":"VLOOKUP($A421,Results3,M$3,FALSE)","v":""},null,{"$f":"VLOOKUP($A421,Results3,O$3,FALSE)","v":""},null,{"$f":"VLOOKUP($A421,Results3,Q$3,FALSE)","v":""},null,{"$f":"VLOOKUP($A421,Results3,S$3,FALSE)","v":""},null,{"$f":"VLOOKUP($A421,Results3,U$3,FALSE)","v":""}]
[{"$f":"B420&\"B\"","v":"53B"},null,null,null,null,null,{"$f":"VLOOKUP($A422,Results3,G$4,FALSE)","v":"Rad"},{"$f":"VLOOKUP($A422,Results3,H$3,FALSE)","v":12.75},{"$f":"VLOOKUP($A422,Results3,I$4,FALSE)","v":"Ban"},{"$f":"VLOOKUP($A422,Results3,J$3,FALSE)","v":11.65},{"$f":"VLOOKUP($A422,Results3,K$4,FALSE)","v":0},{"$f":"VLOOKUP($A422,Results3,L$3,FALSE)","v":0},{"$f":"VLOOKUP($A422,Results3,M$4,FALSE)","v":0},{"$f":"VLOOKUP($A422,Results3,N$3,FALSE)","v":0},{"$f":"VLOOKUP($A422,Results3,O$4,FALSE)","v":0},{"$f":"VLOOKUP($A422,Results3,P$3,FALSE)","v":0},{"$f":"VLOOKUP($A422,Results3,Q$4,FALSE)","v":0},{"$f":"VLOOKUP($A422,Results3,R$3,FALSE)","v":0},{"$f":"VLOOKUP($A422,Results3,S$4,FALSE)","v":0},{"$f":"VLOOKUP($A422,Results3,T$3,FALSE)","v":0},{"$f":"VLOOKUP($A422,Results3,U$4,FALSE)","v":0},{"$f":"VLOOKUP($A422,Results3,V$3,FALSE)","v":0},{"$f":"VLOOKUP($A422,Results3,W$4,FALSE)","v":7},0,0,0,8,0,0,0]
[{"$f":"B424&\"A\"","v":"60A"},null,null,{"$f":"VLOOKUP(B424,EventsOrder,4,FALSE)","v":"U17 F/Women"},"A",null,{"$f":"VLOOKUP($A423,Results3,G$3,FALSE)","v":"Rebecca Scott"},null,{"$f":"VLOOKUP($A423,Results3,I$3,FALSE)","v":"Grace Murray"},null,{"$f":"VLOOKUP($A423,Results3,K$3,FALSE)","v":"Megan Baker"},null,{"$f":"VLOOKUP($A423,Results3,M$3,FALSE)","v":""},null,{"$f":"VLOOKUP($A423,Results3,O$3,FALSE)","v":""},null,{"$f":"VLOOKUP($A423,Results3,Q$3,FALSE)","v":""},null,{"$f":"VLOOKUP($A423,Results3,S$3,FALSE)","v":""},null,{"$f":"VLOOKUP($A423,Results3,U$3,FALSE)","v":""},null,null,null,null,null,null,null,null,null,{"$f":"IF(LEN(G423)>1,1,0)","v":1}]
[{"$f":"B424&\"A\"","v":"60A"},60,{"$f":"VLOOKUP(B424,EventsOrder,2,FALSE)","v":3.1},null,null,null,{"$f":"VLOOKUP($A424,Results3,G$4,FALSE)","v":"Ban"},{"$f":"VLOOKUP($A424,Results3,H$3,FALSE)","v":1.45},{"$f":"VLOOKUP($A424,Results3,I$4,FALSE)","v":"Worc"},{"$f":"VLOOKUP($A424,Results3,J$3,FALSE)","v":1.35},{"$f":"VLOOKUP($A424,Results3,K$4,FALSE)","v":"Rad"},{"$f":"VLOOKUP($A424,Results3,L$3,FALSE)","v":1.35},{"$f":"VLOOKUP($A424,Results3,M$4,FALSE)","v":0},{"$f":"VLOOKUP($A424,Results3,N$3,FALSE)","v":0},{"$f":"VLOOKUP($A424,Results3,O$4,FALSE)","v":0},{"$f":"VLOOKUP($A424,Results3,P$3,FALSE)","v":0},{"$f":"VLOOKUP($A424,Results3,Q$4,FALSE)","v":0},{"$f":"VLOOKUP($A424,Results3,R$3,FALSE)","v":0},{"$f":"VLOOKUP($A424,Results3,S$4,FALSE)","v":0},{"$f":"VLOOKUP($A424,Results3,T$3,FALSE)","v":0},{"$f":"VLOOKUP($A424,Results3,U$4,FALSE)","v":0},{"$f":"VLOOKUP($A424,Results3,V$3,FALSE)","v":0},{"$f":"VLOOKUP($A424,Results3,W$4,FALSE)","v":8},{"$f":"VLOOKUP($A424,Results3,X$4,FALSE)","v":0},0,0,6,0,0,7]
[{"$f":"B424&\"B\"","v":"60B"},null,null,{"$f":"VLOOKUP(B424,EventsOrder,3,FALSE)","v":"High Jump"},"B",null,{"$f":"VLOOKUP($A425,Results3,G$3,FALSE)","v":""},null,{"$f":"VLOOKUP($A425,Results3,I$3,FALSE)","v":""},null,{"$f":"VLOOKUP($A425,Results3,K$3,FALSE)","v":""},null,{"$f":"VLOOKUP($A425,Results3,M$3,FALSE)","v":""},null,{"$f":"VLOOKUP($A425,Results3,O$3,FALSE)","v":""},null,{"$f":"VLOOKUP($A425,Results3,Q$3,FALSE)","v":""},null,{"$f":"VLOOKUP($A425,Results3,S$3,FALSE)","v":""},null,{"$f":"VLOOKUP($A425,Results3,U$3,FALSE)","v":""}]
[{"$f":"B424&\"B\"","v":"60B"},null,null,null,null,null,{"$f":"VLOOKUP($A426,Results3,G$4,FALSE)","v":0},{"$f":"VLOOKUP($A426,Results3,H$3,FALSE)","v":0},{"$f":"VLOOKUP($A426,Results3,I$4,FALSE)","v":0},{"$f":"VLOOKUP($A426,Results3,J$3,FALSE)","v":0},{"$f":"VLOOKUP($A426,Results3,K$4,FALSE)","v":0},{"$f":"VLOOKUP($A426,Results3,L$3,FALSE)","v":0},{"$f":"VLOOKUP($A426,Results3,M$4,FALSE)","v":0},{"$f":"VLOOKUP($A426,Results3,N$3,FALSE)","v":0},{"$f":"VLOOKUP($A426,Results3,O$4,FALSE)","v":0},{"$f":"VLOOKUP($A426,Results3,P$3,FALSE)","v":0},{"$f":"VLOOKUP($A426,Results3,Q$4,FALSE)","v":0},{"$f":"VLOOKUP($A426,Results3,R$3,FALSE)","v":0},{"$f":"VLOOKUP($A426,Results3,S$4,FALSE)","v":0},{"$f":"VLOOKUP($A426,Results3,T$3,FALSE)","v":0},{"$f":"VLOOKUP($A426,Results3,U$4,FALSE)","v":0},{"$f":"VLOOKUP($A426,Results3,V$3,FALSE)","v":0},{"$f":"VLOOKUP($A426,Results3,W$4,FALSE)","v":0},0,0,0,0,0,0,0]
[{"$f":"B428&\"A\"","v":"69A"},null,null,{"$f":"VLOOKUP(B428,EventsOrder,4,FALSE)","v":"U17 F/Women"},"A",null,{"$f":"VLOOKUP($A427,Results3,G$3,FALSE)","v":"Erin Healy"},null,{"$f":"VLOOKUP($A427,Results3,I$3,FALSE)","v":"Hannah Kenwright"},null,{"$f":"VLOOKUP($A427,Results3,K$3,FALSE)","v":"Stephanie Mott"},null,{"$f":"VLOOKUP($A427,Results3,M$3,FALSE)","v":"Ella Grainger"},null,{"$f":"VLOOKUP($A427,Results3,O$3,FALSE)","v":"Lauren Millward"},null,{"$f":"VLOOKUP($A427,Results3,Q$3,FALSE)","v":"Helen Dubber"},null,{"$f":"VLOOKUP($A427,Results3,S$3,FALSE)","v":"U20 Emily Benfield"},null,{"$f":"VLOOKUP($A427,Results3,U$3,FALSE)","v":""},null,null,null,null,null,null,null,null,null,{"$f":"IF(LEN(G427)>1,1,0)","v":1}]
[{"$f":"B428&\"A\"","v":"69A"},69,{"$f":"VLOOKUP(B428,EventsOrder,2,FALSE)","v":3.45},null,null,null,{"$f":"VLOOKUP($A428,Results3,G$4,FALSE)","v":"Kett"},{"$f":"VLOOKUP($A428,Results3,H$3,FALSE)","v":26.1},{"$f":"VLOOKUP($A428,Results3,I$4,FALSE)","v":"Worc"},{"$f":"VLOOKUP($A428,Results3,J$3,FALSE)","v":26.8},{"$f":"VLOOKUP($A428,Results3,K$4,FALSE)","v":"Rad"},{"$f":"VLOOKUP($A428,Results3,L$3,FALSE)","v":28.2},{"$f":"VLOOKUP($A428,Results3,M$4,FALSE)","v":"Wreake"},{"$f":"VLOOKUP($A428,Results3,N$3,FALSE)","v":28.5},{"$f":"VLOOKUP($A428,Results3,O$4,FALSE)","v":"DASH"},{"$f":"VLOOKUP($A428,Results3,P$3,FALSE)","v":28.8},{"$f":"VLOOKUP($A428,Results3,Q$4,FALSE)","v":"Ban"},{"$f":"VLOOKUP($A428,Results3,R$3,FALSE)","v":29.9},{"$f":"VLOOKUP($A428,Results3,S$4,FALSE)","v":"Bic"},{"$f":"VLOOKUP($A428,Results3,T$3,FALSE)","v":31},{"$f":"VLOOKUP($A428,Results3,U$4,FALSE)","v":0},{"$f":"VLOOKUP($A428,Results3,V$3,FALSE)","v":0},{"$f":"VLOOKUP($A428,Results3,W$4,FALSE)","v":3},{"$f":"VLOOKUP($A428,Results3,X$4,FALSE)","v":2},4,8,6,0,5,7]
[{"$f":"B428&\"B\"","v":"69B"},null,null,{"$f":"VLOOKUP(B428,EventsOrder,3,FALSE)","v":"200m"},"B",null,{"$f":"VLOOKUP($A429,Results3,G$3,FALSE)","v":"Ellie Boulton"},null,{"$f":"VLOOKUP($A429,Results3,I$3,FALSE)","v":"Jess Anstice U23"},null,{"$f":"VLOOKUP($A429,Results3,K$3,FALSE)","v":"Megan Luxford"},null,{"$f":"VLOOKUP($A429,Results3,M$3,FALSE)","v":"Becky Donnelly (senior)"},null,{"$f":"VLOOKUP($A429,Results3,O$3,FALSE)","v":""},null,{"$f":"VLOOKUP($A429,Results3,Q$3,FALSE)","v":""},null,{"$f":"VLOOKUP($A429,Results3,S$3,FALSE)","v":""},null,{"$f":"VLOOKUP($A429,Results3,U$3,FALSE)","v":""}]
[{"$f":"B428&\"B\"","v":"69B"},null,null,null,null,null,{"$f":"VLOOKUP($A430,Results3,G$4,FALSE)","v":"Kett"},{"$f":"VLOOKUP($A430,Results3,H$3,FALSE)","v":27.7},{"$f":"VLOOKUP($A430,Results3,I$4,FALSE)","v":"Rad"},{"$f":"VLOOKUP($A430,Results3,J$3,FALSE)","v":28.3},{"$f":"VLOOKUP($A430,Results3,K$4,FALSE)","v":"Wreake"},{"$f":"VLOOKUP($A430,Results3,L$3,FALSE)","v":29.6},{"$f":"VLOOKUP($A430,Results3,M$4,FALSE)","v":"Worc"},{"$f":"VLOOKUP($A430,Results3,N$3,FALSE)","v":30.2},{"$f":"VLOOKUP($A430,Results3,O$4,FALSE)","v":0},{"$f":"VLOOKUP($A430,Results3,P$3,FALSE)","v":0},{"$f":"VLOOKUP($A430,Results3,Q$4,FALSE)","v":0},{"$f":"VLOOKUP($A430,Results3,R$3,FALSE)","v":0},{"$f":"VLOOKUP($A430,Results3,S$4,FALSE)","v":0},{"$f":"VLOOKUP($A430,Results3,T$3,FALSE)","v":0},{"$f":"VLOOKUP($A430,Results3,U$4,FALSE)","v":0},{"$f":"VLOOKUP($A430,Results3,V$3,FALSE)","v":0},{"$f":"VLOOKUP($A430,Results3,W$4,FALSE)","v":0},0,0,8,7,0,6,5]
[{"$f":"B432&\"A\"","v":"75A"},null,null,{"$f":"VLOOKUP(B432,EventsOrder,4,FALSE)","v":"U17 F/Women"},"A",null,{"$f":"VLOOKUP($A431,Results3,G$3,FALSE)","v":"Rebecca Scott"},null,{"$f":"VLOOKUP($A431,Results3,I$3,FALSE)","v":"Becky Donnelly (senior)"},null,{"$f":"VLOOKUP($A431,Results3,K$3,FALSE)","v":"Petrina Chantler-Edmond"},null,{"$f":"VLOOKUP($A431,Results3,M$3,FALSE)","v":"Ella Grainger"},null,{"$f":"VLOOKUP($A431,Results3,O$3,FALSE)","v":"U20 Emily Benfield"},null,{"$f":"VLOOKUP($A431,Results3,Q$3,FALSE)","v":"Ellie Boulton"},null,{"$f":"VLOOKUP($A431,Results3,S$3,FALSE)","v":""},null,{"$f":"VLOOKUP($A431,Results3,U$3,FALSE)","v":""},null,null,null,null,null,null,null,null,null,{"$f":"IF(LEN(G431)>1,1,0)","v":1}]
[{"$f":"B432&\"A\"","v":"75A"},75,{"$f":"VLOOKUP(B432,EventsOrder,2,FALSE)","v":4},null,null,null,{"$f":"VLOOKUP($A432,Results3,G$4,FALSE)","v":"Ban"},{"$f":"VLOOKUP($A432,Results3,H$3,FALSE)","v":4.8},{"$f":"VLOOKUP($A432,Results3,I$4,FALSE)","v":"Worc"},{"$f":"VLOOKUP($A432,Results3,J$3,FALSE)","v":4.62},{"$f":"VLOOKUP($A432,Results3,K$4,FALSE)","v":"Rad"},{"$f":"VLOOKUP($A432,Results3,L$3,FALSE)","v":4.58},{"$f":"VLOOKUP($A432,Results3,M$4,FALSE)","v":"Wreake"},{"$f":"VLOOKUP($A432,Results3,N$3,FALSE)","v":4.3099999999999996},{"$f":"VLOOKUP($A432,Results3,O$4,FALSE)","v":"Bic"},{"$f":"VLOOKUP($A432,Results3,P$3,FALSE)","v":4.2300000000000004},{"$f":"VLOOKUP($A432,Results3,Q$4,FALSE)","v":"Kett"},{"$f":"VLOOKUP($A432,Results3,R$3,FALSE)","v":4.1100000000000003},{"$f":"VLOOKUP($A432,Results3,S$4,FALSE)","v":0},{"$f":"VLOOKUP($A432,Results3,T$3,FALSE)","v":0},{"$f":"VLOOKUP($A432,Results3,U$4,FALSE)","v":0},{"$f":"VLOOKUP($A432,Results3,V$3,FALSE)","v":0},{"$f":"VLOOKUP($A432,Results3,W$4,FALSE)","v":8},{"$f":"VLOOKUP($A432,Results3,X$4,FALSE)","v":4},0,3,6,0,5,7]
[{"$f":"B432&\"B\"","v":"75B"},null,null,{"$f":"VLOOKUP(B432,EventsOrder,3,FALSE)","v":"Long Jump"},"B",null,{"$f":"VLOOKUP($A433,Results3,G$3,FALSE)","v":"Leah Brown"},null,{"$f":"VLOOKUP($A433,Results3,I$3,FALSE)","v":"Niamh Monaghan"},null,{"$f":"VLOOKUP($A433,Results3,K$3,FALSE)","v":"Hannah Kenwright"},null,{"$f":"VLOOKUP($A433,Results3,M$3,FALSE)","v":"Eve Cameron"},null,{"$f":"VLOOKUP($A433,Results3,O$3,FALSE)","v":""},null,{"$f":"VLOOKUP($A433,Results3,Q$3,FALSE)","v":""},null,{"$f":"VLOOKUP($A433,Results3,S$3,FALSE)","v":""},null,{"$f":"VLOOKUP($A433,Results3,U$3,FALSE)","v":""}]
[{"$f":"B432&\"B\"","v":"75B"},null,null,null,null,null,{"$f":"VLOOKUP($A434,Results3,G$4,FALSE)","v":"Rad"},{"$f":"VLOOKUP($A434,Results3,H$3,FALSE)","v":4.1399999999999997},{"$f":"VLOOKUP($A434,Results3,I$4,FALSE)","v":"Kett"},{"$f":"VLOOKUP($A434,Results3,J$3,FALSE)","v":3.86},{"$f":"VLOOKUP($A434,Results3,K$4,FALSE)","v":"Worc"},{"$f":"VLOOKUP($A434,Results3,L$3,FALSE)","v":3.68},{"$f":"VLOOKUP($A434,Results3,M$4,FALSE)","v":"Wreake"},{"$f":"VLOOKUP($A434,Results3,N$3,FALSE)","v":2.54},{"$f":"VLOOKUP($A434,Results3,O$4,FALSE)","v":0},{"$f":"VLOOKUP($A434,Results3,P$3,FALSE)","v":0},{"$f":"VLOOKUP($A434,Results3,Q$4,FALSE)","v":0},{"$f":"VLOOKUP($A434,Results3,R$3,FALSE)","v":0},{"$f":"VLOOKUP($A434,Results3,S$4,FALSE)","v":0},{"$f":"VLOOKUP($A434,Results3,T$3,FALSE)","v":0},{"$f":"VLOOKUP($A434,Results3,U$4,FALSE)","v":0},{"$f":"VLOOKUP($A434,Results3,V$3,FALSE)","v":0},{"$f":"VLOOKUP($A434,Results3,W$4,FALSE)","v":0},0,0,7,8,0,5,6]
[{"$f":"B436&\"A\"","v":"84A"},null,null,null,null,null,{"$f":"VLOOKUP($A435,Results3,G$3,FALSE)","v":"Worcester"},null,{"$f":"VLOOKUP($A435,Results3,I$3,FALSE)","v":"Radley"},null,{"$f":"VLOOKUP($A435,Results3,K$3,FALSE)","v":"Kettering"},null,{"$f":"VLOOKUP($A435,Results3,M$3,FALSE)","v":"Wreake Runners"},null,{"$f":"VLOOKUP($A435,Results3,O$3,FALSE)","v":""},null,{"$f":"VLOOKUP($A435,Results3,Q$3,FALSE)","v":""},null,{"$f":"VLOOKUP($A435,Results3,S$3,FALSE)","v":""},null,{"$f":"VLOOKUP($A435,Results3,U$3,FALSE)","v":""},null,null,null,null,null,null,null,null,null,{"$f":"IF(LEN(G435)>1,1,0)","v":1}]
[{"$f":"B436&\"A\"","v":"84A"},84,{"$f":"VLOOKUP(B436,EventsOrder,2,FALSE)","v":5.05},{"$f":"VLOOKUP(B436,EventsOrder,4,FALSE)","v":"U17 F/Women"},null,null,{"$f":"VLOOKUP($A436,Results3,G$4,FALSE)","v":"Worc"},{"$f":"VLOOKUP($A436,Results3,H$3,FALSE)","v":53.4},{"$f":"VLOOKUP($A436,Results3,I$4,FALSE)","v":"Rad"},{"$f":"VLOOKUP($A436,Results3,J$3,FALSE)","v":54},{"$f":"VLOOKUP($A436,Results3,K$4,FALSE)","v":"Kett"},{"$f":"VLOOKUP($A436,Results3,L$3,FALSE)","v":56.3},{"$f":"VLOOKUP($A436,Results3,M$4,FALSE)","v":"Wreake"},{"$f":"VLOOKUP($A436,Results3,N$3,FALSE)","v":56.3},{"$f":"VLOOKUP($A436,Results3,O$4,FALSE)","v":0},{"$f":"VLOOKUP($A436,Results3,P$3,FALSE)","v":0},{"$f":"VLOOKUP($A436,Results3,Q$4,FALSE)","v":0},{"$f":"VLOOKUP($A436,Results3,R$3,FALSE)","v":0},{"$f":"VLOOKUP($A436,Results3,S$4,FALSE)","v":0},{"$f":"VLOOKUP($A436,Results3,T$3,FALSE)","v":0},{"$f":"VLOOKUP($A436,Results3,U$4,FALSE)","v":0},{"$f":"VLOOKUP($A436,Results3,V$3,FALSE)","v":0},{"$f":"VLOOKUP($A436,Results3,W$4,FALSE)","v":0},0,0,6,7,0,5,8]
[{"$f":"B436&\"B\"","v":"84B"},null,null,null,null,1,{"$f":"IF(LEN(G$436)>1,HLOOKUP(G$436,Relays,$A503,FALSE),\"\")","v":"Brooke Clarke"},null,{"$f":"IF(LEN(I$436)>1,HLOOKUP(I$436,Relays,$A503,FALSE),\"\")","v":"Stephanie Mott"},null,{"$f":"IF(LEN(K$436)>1,HLOOKUP(K$436,Relays,$A503,FALSE),\"\")","v":"Niamh Monaghan"},null,{"$f":"IF(LEN(M$436)>1,HLOOKUP(M$436,Relays,$A503,FALSE),\"\")","v":"Megan Luxford"},null,{"$f":"IF(LEN(O$436)>1,HLOOKUP(O$436,Relays,$A503,FALSE),\"\")","v":""},null,{"$f":"IF(LEN(Q$436)>1,HLOOKUP(Q$436,Relays,$A503,FALSE),\"\")","v":""},null,{"$f":"IF(LEN(S$436)>1,HLOOKUP(S$436,Relays,$A503,FALSE),\"\")","v":""},null,{"$f":"IF(LEN(U$436)>1,HLOOKUP(U$436,Relays,$A503,FALSE),\"\")","v":""}]
[{"$f":"B436&\"B\"","v":"84B"},null,null,{"$f":"VLOOKUP(B436,EventsOrder,3,FALSE)","v":"4 x 100m"},null,2,{"$f":"IF(LEN(G$436)>1,HLOOKUP(G$436,Relays,$A504,FALSE),\"\")","v":"Abigail Gill"},null,{"$f":"IF(LEN(I$436)>1,HLOOKUP(I$436,Relays,$A504,FALSE),\"\")","v":"Megan Baker"},null,{"$f":"IF(LEN(K$436)>1,HLOOKUP(K$436,Relays,$A504,FALSE),\"\")","v":"Niamh Ruffles"},null,{"$f":"IF(LEN(M$436)>1,HLOOKUP(M$436,Relays,$A504,FALSE),\"\")","v":"Ella Grainger"},null,{"$f":"IF(LEN(O$436)>1,HLOOKUP(O$436,Relays,$A504,FALSE),\"\")","v":""},null,{"$f":"IF(LEN(Q$436)>1,HLOOKUP(Q$436,Relays,$A504,FALSE),\"\")","v":""},null,{"$f":"IF(LEN(S$436)>1,HLOOKUP(S$436,Relays,$A504,FALSE),\"\")","v":""},null,{"$f":"IF(LEN(U$436)>1,HLOOKUP(U$436,Relays,$A504,FALSE),\"\")","v":""}]
[{"$f":"B436&\"R\"","v":"84R"},null,null,null,null,3,{"$f":"IF(LEN(G$436)>1,HLOOKUP(G$436,Relays,$A505,FALSE),\"\")","v":"Hannah Kenwright"},null,{"$f":"IF(LEN(I$436)>1,HLOOKUP(I$436,Relays,$A505,FALSE),\"\")","v":"Petrina Chantler-Edmond"},null,{"$f":"IF(LEN(K$436)>1,HLOOKUP(K$436,Relays,$A505,FALSE),\"\")","v":"Ellie Boulton"},null,{"$f":"IF(LEN(M$436)>1,HLOOKUP(M$436,Relays,$A505,FALSE),\"\")","v":"Fern Harrison"},null,{"$f":"IF(LEN(O$436)>1,HLOOKUP(O$436,Relays,$A505,FALSE),\"\")","v":""},null,{"$f":"IF(LEN(Q$436)>1,HLOOKUP(Q$436,Relays,$A505,FALSE),\"\")","v":""},null,{"$f":"IF(LEN(S$436)>1,HLOOKUP(S$436,Relays,$A505,FALSE),\"\")","v":""},null,{"$f":"IF(LEN(U$436)>1,HLOOKUP(U$436,Relays,$A505,FALSE),\"\")","v":""}]
[{"$f":"B436&\"S\"","v":"84S"},null,null,null,null,4,{"$f":"IF(LEN(G$436)>1,HLOOKUP(G$436,Relays,$A506,FALSE),\"\")","v":"Becky Donnelly (senior)"},null,{"$f":"IF(LEN(I$436)>1,HLOOKUP(I$436,Relays,$A506,FALSE),\"\")","v":"Leah Brown"},null,{"$f":"IF(LEN(K$436)>1,HLOOKUP(K$436,Relays,$A506,FALSE),\"\")","v":"Harriett Jolley"},null,{"$f":"IF(LEN(M$436)>1,HLOOKUP(M$436,Relays,$A506,FALSE),\"\")","v":0},null,{"$f":"IF(LEN(O$436)>1,HLOOKUP(O$436,Relays,$A506,FALSE),\"\")","v":""},null,{"$f":"IF(LEN(Q$436)>1,HLOOKUP(Q$436,Relays,$A506,FALSE),\"\")","v":""},null,{"$f":"IF(LEN(S$436)>1,HLOOKUP(S$436,Relays,$A506,FALSE),\"\")","v":""},null,{"$f":"IF(LEN(U$436)>1,HLOOKUP(U$436,Relays,$A506,FALSE),\"\")","v":""}]
[null,null,null,null,null,null,null,null,null,null,null,null,null,null,null,null,null,null,null,null,"Officials Points",null,{"$f":"Officials!C$20","v":14},{"$f":"Officials!D$20","v":14},{"$f":"Officials!E$20","v":10},{"$f":"Officials!F$20","v":8},{"$f":"Officials!G$20","v":14},{"$f":"Officials!H$20","v":6},{"$f":"Officials!I$20","v":8},{"$f":"Officials!J$20","v":14}]
[null,{"$f":"COUNTIF(B391:B441,\">0\")","v":12},null,null,null,null,null,null,null,null,null,null,null,null,null,null,null,null,null,null,"Total Points",null,{"$f":"SUM(W391:W441)","v":66},24,30,84,150,25,68,105,{"$f":"SUM(AE391:AE438)","v":11}]
[null,null,null,null,null,null,null,null,null,null,null,null,null,null,null,null,null,null,null,null,"Match Position",null,{"$f":"RANK(W442,$W442:$AD442)","v":5},8,6,3,1,7,4,2]
[]
[null,"Event No",null,null,null,null,null,null,null,null,{"$f":"K388","v":"Heart of England League Results"},null,null,null,null,null,null,null,null,null,null,null,{"$f":"W$8","v":"Banbury"},{"$f":"X$8","v":"Bicester"},"Dudley & S'bridge","Kettering","Radley","Tamworth","Wreake Runners","Worcester"]
[null,null,null,"Division",{"$f":"E389","v":2},null,null,"Guests - Non Scoring",null,null,"Venue",{"$f":"L389","v":"Worcester"},null,null,null,null,"Date",{"$f":"R389","v":"5th June 2016"}]
[null,null,"Time","Event",null,null,"First",null,"Second",null,"Third",null,"Fourth",null,"Fifth",null,"Sixth",null,"Seventh",null,"Eighth",null,{"$f":"W$10","v":"J"},{"$f":"X$10","v":"P"},"B","I","R","F","X","Y"]
[{"$f":"B449&\"A\"","v":"88A"},null,null,{"$f":"VLOOKUP(B449,EventsOrder,4,FALSE)","v":"U13 Female"},"A",null,{"$f":"VLOOKUP($A448,Results3,G$3,FALSE)","v":"Isabelle Wilson"},null,{"$f":"VLOOKUP($A448,Results3,I$3,FALSE)","v":"Emma Pound"},null,{"$f":"VLOOKUP($A448,Results3,K$3,FALSE)","v":""},null,{"$f":"VLOOKUP($A448,Results3,M$3,FALSE)","v":""},null,{"$f":"VLOOKUP($A448,Results3,O$3,FALSE)","v":""},null,{"$f":"VLOOKUP($A448,Results3,Q$3,FALSE)","v":""},null,{"$f":"VLOOKUP($A448,Results3,S$3,FALSE)","v":""},null,{"$f":"VLOOKUP($A448,Results3,U$3,FALSE)","v":""},null,null,null,null,null,null,null,null,null,{"$f":"IF(LEN(G448)>1,1,0)","v":1}]
[null,88,{"$f":"VLOOKUP(B449,EventsOrder,2,FALSE)","v":11.45},{"$f":"VLOOKUP(B449,EventsOrder,3,FALSE)","v":"1500m"},null,null,{"$f":"VLOOKUP($A448,Results3,G$1-8,FALSE)","v":405},null,{"$f":"VLOOKUP($A448,Results3,I$1-8,FALSE)","v":104},null,{"$f":"VLOOKUP($A448,Results3,K$1-8,FALSE)","v":0},null,{"$f":"VLOOKUP($A448,Results3,M$1-8,FALSE)","v":0},null,{"$f":"VLOOKUP($A448,Results3,O$1-8,FALSE)","v":0},null,{"$f":"VLOOKUP($A448,Results3,Q$1-8,FALSE)","v":0},null,{"$f":"VLOOKUP($A448,Results3,S$1-8,FALSE)","v":0},null,{"$f":"VLOOKUP($A448,Results3,U$1-8,FALSE)","v":0}]
[{"$f":"B449&\"A\"","v":"88A"},null,null,null,null,null,{"$f":"VLOOKUP($A450,Results3,G$4,FALSE)","v":"Wreake"},{"$f":"VLOOKUP($A450,Results3,H$3,FALSE)","v":"5.52.0"},{"$f":"VLOOKUP($A450,Results3,I$4,FALSE)","v":"Worc"},{"$f":"VLOOKUP($A450,Results3,J$3,FALSE)","v":"6.12.7"},{"$f":"VLOOKUP($A450,Results3,K$4,FALSE)","v":0},{"$f":"VLOOKUP($A450,Results3,L$3,FALSE)","v":0},{"$f":"VLOOKUP($A450,Results3,M$4,FALSE)","v":0},{"$f":"VLOOKUP($A450,Results3,N$3,FALSE)","v":0},{"$f":"VLOOKUP($A450,Results3,O$4,FALSE)","v":0},{"$f":"VLOOKUP($A450,Results3,P$3,FALSE)","v":0},{"$f":"VLOOKUP($A450,Results3,Q$4,FALSE)","v":0},{"$f":"VLOOKUP($A450,Results3,R$3,FALSE)","v":0},{"$f":"VLOOKUP($A450,Results3,S$4,FALSE)","v":0},{"$f":"VLOOKUP($A450,Results3,T$3,FALSE)","v":0},{"$f":"VLOOKUP($A450,Results3,U$4,FALSE)","v":0},{"$f":"VLOOKUP($A450,Results3,V$3,FALSE)","v":0}]
[{"$f":"B452&\"A\"","v":"89A"},null,null,{"$f":"VLOOKUP(B452,EventsOrder,4,FALSE)","v":"U15 Female"},"A",null,{"$f":"VLOOKUP($A451,Results3,G$3,FALSE)","v":""},null,{"$f":"VLOOKUP($A451,Results3,I$3,FALSE)","v":""},null,{"$f":"VLOOKUP($A451,Results3,K$3,FALSE)","v":""},null,{"$f":"VLOOKUP($A451,Results3,M$3,FALSE)","v":""},null,{"$f":"VLOOKUP($A451,Results3,O$3,FALSE)","v":""},null,{"$f":"VLOOKUP($A451,Results3,Q$3,FALSE)","v":""},null,{"$f":"VLOOKUP($A451,Results3,S$3,FALSE)","v":""},null,{"$f":"VLOOKUP($A451,Results3,U$3,FALSE)","v":""},null,null,null,null,null,null,null,null,null,{"$f":"IF(LEN(G451)>1,1,0)","v":0}]
[null,89,{"$f":"VLOOKUP(B452,EventsOrder,2,FALSE)","v":11.55},{"$f":"VLOOKUP(B452,EventsOrder,3,FALSE)","v":"1500m"},null,null,{"$f":"VLOOKUP($A451,Results3,G$1-8,FALSE)","v":0},null,{"$f":"VLOOKUP($A451,Results3,I$1-8,FALSE)","v":0},null,{"$f":"VLOOKUP($A451,Results3,K$1-8,FALSE)","v":0},null,{"$f":"VLOOKUP($A451,Results3,M$1-8,FALSE)","v":0},null,{"$f":"VLOOKUP($A451,Results3,O$1-8,FALSE)","v":0},null,{"$f":"VLOOKUP($A451,Results3,Q$1-8,FALSE)","v":0},null,{"$f":"VLOOKUP($A451,Results3,S$1-8,FALSE)","v":0},null,{"$f":"VLOOKUP($A451,Results3,U$1-8,FALSE)","v":0}]
[{"$f":"B452&\"A\"","v":"89A"},null,null,null,null,null,{"$f":"VLOOKUP($A453,Results3,G$4,FALSE)","v":0},{"$f":"VLOOKUP($A453,Results3,H$3,FALSE)","v":0},{"$f":"VLOOKUP($A453,Results3,I$4,FALSE)","v":0},{"$f":"VLOOKUP($A453,Results3,J$3,FALSE)","v":0},{"$f":"VLOOKUP($A453,Results3,K$4,FALSE)","v":0},{"$f":"VLOOKUP($A453,Results3,L$3,FALSE)","v":0},{"$f":"VLOOKUP($A453,Results3,M$4,FALSE)","v":0},{"$f":"VLOOKUP($A453,Results3,N$3,FALSE)","v":0},{"$f":"VLOOKUP($A453,Results3,O$4,FALSE)","v":0},{"$f":"VLOOKUP($A453,Results3,P$3,FALSE)","v":0},{"$f":"VLOOKUP($A453,Results3,Q$4,FALSE)","v":0},{"$f":"VLOOKUP($A453,Results3,R$3,FALSE)","v":0},{"$f":"VLOOKUP($A453,Results3,S$4,FALSE)","v":0},{"$f":"VLOOKUP($A453,Results3,T$3,FALSE)","v":0},{"$f":"VLOOKUP($A453,Results3,U$4,FALSE)","v":0},{"$f":"VLOOKUP($A453,Results3,V$3,FALSE)","v":0}]
[{"$f":"B455&\"A\"","v":"90A"},null,null,{"$f":"VLOOKUP(B455,EventsOrder,4,FALSE)","v":"U17 F/Women"},"A",null,{"$f":"VLOOKUP($A454,Results3,G$3,FALSE)","v":""},null,{"$f":"VLOOKUP($A454,Results3,I$3,FALSE)","v":""},null,{"$f":"VLOOKUP($A454,Results3,K$3,FALSE)","v":""},null,{"$f":"VLOOKUP($A454,Results3,M$3,FALSE)","v":""},null,{"$f":"VLOOKUP($A454,Results3,O$3,FALSE)","v":""},null,{"$f":"VLOOKUP($A454,Results3,Q$3,FALSE)","v":""},null,{"$f":"VLOOKUP($A454,Results3,S$3,FALSE)","v":""},null,{"$f":"VLOOKUP($A454,Results3,U$3,FALSE)","v":""},null,null,null,null,null,null,null,null,null,{"$f":"IF(LEN(G454)>1,1,0)","v":0}]
[null,90,{"$f":"VLOOKUP(B455,EventsOrder,2,FALSE)","v":12.05},{"$f":"VLOOKUP(B455,EventsOrder,3,FALSE)","v":"1500m"},null,null,{"$f":"VLOOKUP($A454,Results3,G$1-8,FALSE)","v":0},null,{"$f":"VLOOKUP($A454,Results3,I$1-8,FALSE)","v":0},null,{"$f":"VLOOKUP($A454,Results3,K$1-8,FALSE)","v":0},null,{"$f":"VLOOKUP($A454,Results3,M$1-8,FALSE)","v":0},null,{"$f":"VLOOKUP($A454,Results3,O$1-8,FALSE)","v":0},null,{"$f":"VLOOKUP($A454,Results3,Q$1-8,FALSE)","v":0},null,{"$f":"VLOOKUP($A454,Results3,S$1-8,FALSE)","v":0},null,{"$f":"VLOOKUP($A454,Results3,U$1-8,FALSE)","v":0}]
[{"$f":"B455&\"A\"","v":"90A"},null,null,null,null,null,{"$f":"VLOOKUP($A456,Results3,G$4,FALSE)","v":0},{"$f":"VLOOKUP($A456,Results3,H$3,FALSE)","v":0},{"$f":"VLOOKUP($A456,Results3,I$4,FALSE)","v":0},{"$f":"VLOOKUP($A456,Results3,J$3,FALSE)","v":0},{"$f":"VLOOKUP($A456,Results3,K$4,FALSE)","v":0},{"$f":"VLOOKUP($A456,Results3,L$3,FALSE)","v":0},{"$f":"VLOOKUP($A456,Results3,M$4,FALSE)","v":0},{"$f":"VLOOKUP($A456,Results3,N$3,FALSE)","v":0},{"$f":"VLOOKUP($A456,Results3,O$4,FALSE)","v":0},{"$f":"VLOOKUP($A456,Results3,P$3,FALSE)","v":0},{"$f":"VLOOKUP($A456,Results3,Q$4,FALSE)","v":0},{"$f":"VLOOKUP($A456,Results3,R$3,FALSE)","v":0},{"$f":"VLOOKUP($A456,Results3,S$4,FALSE)","v":0},{"$f":"VLOOKUP($A456,Results3,T$3,FALSE)","v":0},{"$f":"VLOOKUP($A456,Results3,U$4,FALSE)","v":0},{"$f":"VLOOKUP($A456,Results3,V$3,FALSE)","v":0}]
[{"$f":"B458&\"A\"","v":"91A"},null,null,{"$f":"VLOOKUP(B458,EventsOrder,4,FALSE)","v":"U13 Male"},"A",null,{"$f":"VLOOKUP($A457,Results3,G$3,FALSE)","v":"Theo Taylor-George"},null,{"$f":"VLOOKUP($A457,Results3,I$3,FALSE)","v":""},null,{"$f":"VLOOKUP($A457,Results3,K$3,FALSE)","v":""},null,{"$f":"VLOOKUP($A457,Results3,M$3,FALSE)","v":""},null,{"$f":"VLOOKUP($A457,Results3,O$3,FALSE)","v":""},null,{"$f":"VLOOKUP($A457,Results3,Q$3,FALSE)","v":""},null,{"$f":"VLOOKUP($A457,Results3,S$3,FALSE)","v":""},null,{"$f":"VLOOKUP($A457,Results3,U$3,FALSE)","v":""},null,null,null,null,null,null,null,null,null,{"$f":"IF(LEN(G457)>1,1,0)","v":1}]
[null,91,{"$f":"VLOOKUP(B458,EventsOrder,2,FALSE)","v":12.2},{"$f":"VLOOKUP(B458,EventsOrder,3,FALSE)","v":"800m"},null,null,{"$f":"VLOOKUP($A457,Results3,G$1-8,FALSE)","v":113},null,{"$f":"VLOOKUP($A457,Results3,I$1-8,FALSE)","v":0},null,{"$f":"VLOOKUP($A457,Results3,K$1-8,FALSE)","v":0},null,{"$f":"VLOOKUP($A457,Results3,M$1-8,FALSE)","v":0},null,{"$f":"VLOOKUP($A457,Results3,O$1-8,FALSE)","v":0},null,{"$f":"VLOOKUP($A457,Results3,Q$1-8,FALSE)","v":0},null,{"$f":"VLOOKUP($A457,Results3,S$1-8,FALSE)","v":0},null,{"$f":"VLOOKUP($A457,Results3,U$1-8,FALSE)","v":0}]
[{"$f":"B458&\"A\"","v":"91A"},null,null,null,null,null,{"$f":"VLOOKUP($A459,Results3,G$4,FALSE)","v":"Worc"},{"$f":"VLOOKUP($A459,Results3,H$3,FALSE)","v":"2.56.3"},{"$f":"VLOOKUP($A459,Results3,I$4,FALSE)","v":0},{"$f":"VLOOKUP($A459,Results3,J$3,FALSE)","v":0},{"$f":"VLOOKUP($A459,Results3,K$4,FALSE)","v":0},{"$f":"VLOOKUP($A459,Results3,L$3,FALSE)","v":0},{"$f":"VLOOKUP($A459,Results3,M$4,FALSE)","v":0},{"$f":"VLOOKUP($A459,Results3,N$3,FALSE)","v":0},{"$f":"VLOOKUP($A459,Results3,O$4,FALSE)","v":0},{"$f":"VLOOKUP($A459,Results3,P$3,FALSE)","v":0},{"$f":"VLOOKUP($A459,Results3,Q$4,FALSE)","v":0},{"$f":"VLOOKUP($A459,Results3,R$3,FALSE)","v":0},{"$f":"VLOOKUP($A459,Results3,S$4,FALSE)","v":0},{"$f":"VLOOKUP($A459,Results3,T$3,FALSE)","v":0},{"$f":"VLOOKUP($A459,Results3,U$4,FALSE)","v":0},{"$f":"VLOOKUP($A459,Results3,V$3,FALSE)","v":0}]
[{"$f":"B461&\"A\"","v":"92A"},null,null,{"$f":"VLOOKUP(B461,EventsOrder,4,FALSE)","v":"U15 Male"},"A",null,{"$f":"VLOOKUP($A460,Results3,G$3,FALSE)","v":""},null,{"$f":"VLOOKUP($A460,Results3,I$3,FALSE)","v":""},null,{"$f":"VLOOKUP($A460,Results3,K$3,FALSE)","v":""},null,{"$f":"VLOOKUP($A460,Results3,M$3,FALSE)","v":""},null,{"$f":"VLOOKUP($A460,Results3,O$3,FALSE)","v":""},null,{"$f":"VLOOKUP($A460,Results3,Q$3,FALSE)","v":""},null,{"$f":"VLOOKUP($A460,Results3,S$3,FALSE)","v":""},null,{"$f":"VLOOKUP($A460,Results3,U$3,FALSE)","v":""},null,null,null,null,null,null,null,null,null,{"$f":"IF(LEN(G460)>1,1,0)","v":0}]
[null,92,{"$f":"VLOOKUP(B461,EventsOrder,2,FALSE)","v":12.4},{"$f":"VLOOKUP(B461,EventsOrder,3,FALSE)","v":"800m"},null,null,{"$f":"VLOOKUP($A460,Results3,G$1-8,FALSE)","v":0},null,{"$f":"VLOOKUP($A460,Results3,I$1-8,FALSE)","v":0},null,{"$f":"VLOOKUP($A460,Results3,K$1-8,FALSE)","v":0},null,{"$f":"VLOOKUP($A460,Results3,M$1-8,FALSE)","v":0},null,{"$f":"VLOOKUP($A460,Results3,O$1-8,FALSE)","v":0},null,{"$f":"VLOOKUP($A460,Results3,Q$1-8,FALSE)","v":0},null,{"$f":"VLOOKUP($A460,Results3,S$1-8,FALSE)","v":0},null,{"$f":"VLOOKUP($A460,Results3,U$1-8,FALSE)","v":0}]
[{"$f":"B461&\"A\"","v":"92A"},null,null,null,null,null,{"$f":"VLOOKUP($A462,Results3,G$4,FALSE)","v":0},{"$f":"VLOOKUP($A462,Results3,H$3,FALSE)","v":0},{"$f":"VLOOKUP($A462,Results3,I$4,FALSE)","v":0},{"$f":"VLOOKUP($A462,Results3,J$3,FALSE)","v":0},{"$f":"VLOOKUP($A462,Results3,K$4,FALSE)","v":0},{"$f":"VLOOKUP($A462,Results3,L$3,FALSE)","v":0},{"$f":"VLOOKUP($A462,Results3,M$4,FALSE)","v":0},{"$f":"VLOOKUP($A462,Results3,N$3,FALSE)","v":0},{"$f":"VLOOKUP($A462,Results3,O$4,FALSE)","v":0},{"$f":"VLOOKUP($A462,Results3,P$3,FALSE)","v":0},{"$f":"VLOOKUP($A462,Results3,Q$4,FALSE)","v":0},{"$f":"VLOOKUP($A462,Results3,R$3,FALSE)","v":0},{"$f":"VLOOKUP($A462,Results3,S$4,FALSE)","v":0},{"$f":"VLOOKUP($A462,Results3,T$3,FALSE)","v":0},{"$f":"VLOOKUP($A462,Results3,U$4,FALSE)","v":0},{"$f":"VLOOKUP($A462,Results3,V$3,FALSE)","v":0}]
[{"$f":"B464&\"A\"","v":"93A"},null,null,{"$f":"VLOOKUP(B464,EventsOrder,4,FALSE)","v":"U17 Men"},"A",null,{"$f":"VLOOKUP($A463,Results3,G$3,FALSE)","v":""},null,{"$f":"VLOOKUP($A463,Results3,I$3,FALSE)","v":""},null,{"$f":"VLOOKUP($A463,Results3,K$3,FALSE)","v":""},null,{"$f":"VLOOKUP($A463,Results3,M$3,FALSE)","v":""},null,{"$f":"VLOOKUP($A463,Results3,O$3,FALSE)","v":""},null,{"$f":"VLOOKUP($A463,Results3,Q$3,FALSE)","v":""},null,{"$f":"VLOOKUP($A463,Results3,S$3,FALSE)","v":""},null,{"$f":"VLOOKUP($A463,Results3,U$3,FALSE)","v":""},null,null,null,null,null,null,null,null,null,{"$f":"IF(LEN(G463)>1,1,0)","v":0}]
[null,93,{"$f":"VLOOKUP(B464,EventsOrder,2,FALSE)","v":12.5},{"$f":"VLOOKUP(B464,EventsOrder,3,FALSE)","v":"800m"},null,null,{"$f":"VLOOKUP($A463,Results3,G$1-8,FALSE)","v":0},null,{"$f":"VLOOKUP($A463,Results3,I$1-8,FALSE)","v":0},null,{"$f":"VLOOKUP($A463,Results3,K$1-8,FALSE)","v":0},null,{"$f":"VLOOKUP($A463,Results3,M$1-8,FALSE)","v":0},null,{"$f":"VLOOKUP($A463,Results3,O$1-8,FALSE)","v":0},null,{"$f":"VLOOKUP($A463,Results3,Q$1-8,FALSE)","v":0},null,{"$f":"VLOOKUP($A463,Results3,S$1-8,FALSE)","v":0},null,{"$f":"VLOOKUP($A463,Results3,U$1-8,FALSE)","v":0}]
[{"$f":"B464&\"A\"","v":"93A"},null,null,null,null,null,{"$f":"VLOOKUP($A465,Results3,G$4,FALSE)","v":0},{"$f":"VLOOKUP($A465,Results3,H$3,FALSE)","v":0},{"$f":"VLOOKUP($A465,Results3,I$4,FALSE)","v":0},{"$f":"VLOOKUP($A465,Results3,J$3,FALSE)","v":0},{"$f":"VLOOKUP($A465,Results3,K$4,FALSE)","v":0},{"$f":"VLOOKUP($A465,Results3,L$3,FALSE)","v":0},{"$f":"VLOOKUP($A465,Results3,M$4,FALSE)","v":0},{"$f":"VLOOKUP($A465,Results3,N$3,FALSE)","v":0},{"$f":"VLOOKUP($A465,Results3,O$4,FALSE)","v":0},{"$f":"VLOOKUP($A465,Results3,P$3,FALSE)","v":0},{"$f":"VLOOKUP($A465,Results3,Q$4,FALSE)","v":0},{"$f":"VLOOKUP($A465,Results3,R$3,FALSE)","v":0},{"$f":"VLOOKUP($A465,Results3,S$4,FALSE)","v":0},{"$f":"VLOOKUP($A465,Results3,T$3,FALSE)","v":0},{"$f":"VLOOKUP($A465,Results3,U$4,FALSE)","v":0},{"$f":"VLOOKUP($A465,Results3,V$3,FALSE)","v":0}]
[{"$f":"B467&\"A\"","v":"94A"},null,null,{"$f":"VLOOKUP(B467,EventsOrder,4,FALSE)","v":"U13 Female"},"A",null,{"$f":"VLOOKUP($A466,Results3,G$3,FALSE)","v":"Rebecca Cullen"},null,{"$f":"VLOOKUP($A466,Results3,I$3,FALSE)","v":"Maya Stewart"},null,{"$f":"VLOOKUP($A466,Results3,K$3,FALSE)","v":"Georgina Weal"},null,{"$f":"VLOOKUP($A466,Results3,M$3,FALSE)","v":"imogen Ansell"},null,{"$f":"VLOOKUP($A466,Results3,O$3,FALSE)","v":""},null,{"$f":"VLOOKUP($A466,Results3,Q$3,FALSE)","v":""},null,{"$f":"VLOOKUP($A466,Results3,S$3,FALSE)","v":""},null,{"$f":"VLOOKUP($A466,Results3,U$3,FALSE)","v":""},null,null,null,null,null,null,null,null,null,{"$f":"IF(LEN(G466)>1,1,0)","v":1}]
[null,94,{"$f":"VLOOKUP(B467,EventsOrder,2,FALSE)","v":1.1499999999999999},{"$f":"VLOOKUP(B467,EventsOrder,3,FALSE)","v":"800m"},null,null,{"$f":"VLOOKUP($A466,Results3,G$1-8,FALSE)","v":403},null,{"$f":"VLOOKUP($A466,Results3,I$1-8,FALSE)","v":106},null,{"$f":"VLOOKUP($A466,Results3,K$1-8,FALSE)","v":30},null,{"$f":"VLOOKUP($A466,Results3,M$1-8,FALSE)","v":802},null,{"$f":"VLOOKUP($A466,Results3,O$1-8,FALSE)","v":0},null,{"$f":"VLOOKUP($A466,Results3,Q$1-8,FALSE)","v":0},null,{"$f":"VLOOKUP($A466,Results3,S$1-8,FALSE)","v":0},null,{"$f":"VLOOKUP($A466,Results3,U$1-8,FALSE)","v":0}]
[{"$f":"B467&\"A\"","v":"94A"},null,null,null,null,null,{"$f":"VLOOKUP($A468,Results3,G$4,FALSE)","v":"Wreake"},{"$f":"VLOOKUP($A468,Results3,H$3,FALSE)","v":"2.44.1"},{"$f":"VLOOKUP($A468,Results3,I$4,FALSE)","v":"Worc"},{"$f":"VLOOKUP($A468,Results3,J$3,FALSE)","v":"3.01.2"},{"$f":"VLOOKUP($A468,Results3,K$4,FALSE)","v":"Tam"},{"$f":"VLOOKUP($A468,Results3,L$3,FALSE)","v":"3.04.5"},{"$f":"VLOOKUP($A468,Results3,M$4,FALSE)","v":"Bic"},{"$f":"VLOOKUP($A468,Results3,N$3,FALSE)","v":"3.11.1"},{"$f":"VLOOKUP($A468,Results3,O$4,FALSE)","v":0},{"$f":"VLOOKUP($A468,Results3,P$3,FALSE)","v":0},{"$f":"VLOOKUP($A468,Results3,Q$4,FALSE)","v":0},{"$f":"VLOOKUP($A468,Results3,R$3,FALSE)","v":0},{"$f":"VLOOKUP($A468,Results3,S$4,FALSE)","v":0},{"$f":"VLOOKUP($A468,Results3,T$3,FALSE)","v":0},{"$f":"VLOOKUP($A468,Results3,U$4,FALSE)","v":0},{"$f":"VLOOKUP($A468,Results3,V$3,FALSE)","v":0}]
[{"$f":"B470&\"A\"","v":"95A"},null,null,{"$f":"VLOOKUP(B470,EventsOrder,4,FALSE)","v":"U15 Female"},"A",null,{"$f":"VLOOKUP($A469,Results3,G$3,FALSE)","v":"Ravenn Cook"},null,{"$f":"VLOOKUP($A469,Results3,I$3,FALSE)","v":""},null,{"$f":"VLOOKUP($A469,Results3,K$3,FALSE)","v":""},null,{"$f":"VLOOKUP($A469,Results3,M$3,FALSE)","v":""},null,{"$f":"VLOOKUP($A469,Results3,O$3,FALSE)","v":""},null,{"$f":"VLOOKUP($A469,Results3,Q$3,FALSE)","v":""},null,{"$f":"VLOOKUP($A469,Results3,S$3,FALSE)","v":""},null,{"$f":"VLOOKUP($A469,Results3,U$3,FALSE)","v":""},null,null,null,null,null,null,null,null,null,{"$f":"IF(LEN(G469)>1,1,0)","v":1}]
[null,95,{"$f":"VLOOKUP(B470,EventsOrder,2,FALSE)","v":1.25},{"$f":"VLOOKUP(B470,EventsOrder,3,FALSE)","v":"800m"},null,null,{"$f":"VLOOKUP($A469,Results3,G$1-8,FALSE)","v":404},null,{"$f":"VLOOKUP($A469,Results3,I$1-8,FALSE)","v":0},null,{"$f":"VLOOKUP($A469,Results3,K$1-8,FALSE)","v":0},null,{"$f":"VLOOKUP($A469,Results3,M$1-8,FALSE)","v":0},null,{"$f":"VLOOKUP($A469,Results3,O$1-8,FALSE)","v":0},null,{"$f":"VLOOKUP($A469,Results3,Q$1-8,FALSE)","v":0},null,{"$f":"VLOOKUP($A469,Results3,S$1-8,FALSE)","v":0},null,{"$f":"VLOOKUP($A469,Results3,U$1-8,FALSE)","v":0}]
[{"$f":"B470&\"A\"","v":"95A"},null,null,null,null,null,{"$f":"VLOOKUP($A471,Results3,G$4,FALSE)","v":"Wreake"},{"$f":"VLOOKUP($A471,Results3,H$3,FALSE)","v":"2.51.5"},{"$f":"VLOOKUP($A471,Results3,I$4,FALSE)","v":0},{"$f":"VLOOKUP($A471,Results3,J$3,FALSE)","v":0},{"$f":"VLOOKUP($A471,Results3,K$4,FALSE)","v":0},{"$f":"VLOOKUP($A471,Results3,L$3,FALSE)","v":0},{"$f":"VLOOKUP($A471,Results3,M$4,FALSE)","v":0},{"$f":"VLOOKUP($A471,Results3,N$3,FALSE)","v":0},{"$f":"VLOOKUP($A471,Results3,O$4,FALSE)","v":0},{"$f":"VLOOKUP($A471,Results3,P$3,FALSE)","v":0},{"$f":"VLOOKUP($A471,Results3,Q$4,FALSE)","v":0},{"$f":"VLOOKUP($A471,Results3,R$3,FALSE)","v":0},{"$f":"VLOOKUP($A471,Results3,S$4,FALSE)","v":0},{"$f":"VLOOKUP($A471,Results3,T$3,FALSE)","v":0},{"$f":"VLOOKUP($A471,Results3,U$4,FALSE)","v":0},{"$f":"VLOOKUP($A471,Results3,V$3,FALSE)","v":0}]
[{"$f":"B473&\"A\"","v":"96A"},null,null,{"$f":"VLOOKUP(B473,EventsOrder,4,FALSE)","v":"U17 F/Women"},"A",null,{"$f":"VLOOKUP($A472,Results3,G$3,FALSE)","v":""},null,{"$f":"VLOOKUP($A472,Results3,I$3,FALSE)","v":""},null,{"$f":"VLOOKUP($A472,Results3,K$3,FALSE)","v":""},null,{"$f":"VLOOKUP($A472,Results3,M$3,FALSE)","v":""},null,{"$f":"VLOOKUP($A472,Results3,O$3,FALSE)","v":""},null,{"$f":"VLOOKUP($A472,Results3,Q$3,FALSE)","v":""},null,{"$f":"VLOOKUP($A472,Results3,S$3,FALSE)","v":""},null,{"$f":"VLOOKUP($A472,Results3,U$3,FALSE)","v":""},null,null,null,null,null,null,null,null,null,{"$f":"IF(LEN(G472)>1,1,0)","v":0}]
[null,96,{"$f":"VLOOKUP(B473,EventsOrder,2,FALSE)","v":1.4},{"$f":"VLOOKUP(B473,EventsOrder,3,FALSE)","v":"800m"},null,null,{"$f":"VLOOKUP($A472,Results3,G$1-8,FALSE)","v":0},null,{"$f":"VLOOKUP($A472,Results3,I$1-8,FALSE)","v":0},null,{"$f":"VLOOKUP($A472,Results3,K$1-8,FALSE)","v":0},null,{"$f":"VLOOKUP($A472,Results3,M$1-8,FALSE)","v":0},null,{"$f":"VLOOKUP($A472,Results3,O$1-8,FALSE)","v":0},null,{"$f":"VLOOKUP($A472,Results3,Q$1-8,FALSE)","v":0},null,{"$f":"VLOOKUP($A472,Results3,S$1-8,FALSE)","v":0},null,{"$f":"VLOOKUP($A472,Results3,U$1-8,FALSE)","v":0}]
[{"$f":"B473&\"A\"","v":"96A"},null,null,null,null,null,{"$f":"VLOOKUP($A474,Results3,G$4,FALSE)","v":0},{"$f":"VLOOKUP($A474,Results3,H$3,FALSE)","v":0},{"$f":"VLOOKUP($A474,Results3,I$4,FALSE)","v":0},{"$f":"VLOOKUP($A474,Results3,J$3,FALSE)","v":0},{"$f":"VLOOKUP($A474,Results3,K$4,FALSE)","v":0},{"$f":"VLOOKUP($A474,Results3,L$3,FALSE)","v":0},{"$f":"VLOOKUP($A474,Results3,M$4,FALSE)","v":0},{"$f":"VLOOKUP($A474,Results3,N$3,FALSE)","v":0},{"$f":"VLOOKUP($A474,Results3,O$4,FALSE)","v":0},{"$f":"VLOOKUP($A474,Results3,P$3,FALSE)","v":0},{"$f":"VLOOKUP($A474,Results3,Q$4,FALSE)","v":0},{"$f":"VLOOKUP($A474,Results3,R$3,FALSE)","v":0},{"$f":"VLOOKUP($A474,Results3,S$4,FALSE)","v":0},{"$f":"VLOOKUP($A474,Results3,T$3,FALSE)","v":0},{"$f":"VLOOKUP($A474,Results3,U$4,FALSE)","v":0},{"$f":"VLOOKUP($A474,Results3,V$3,FALSE)","v":0}]
[{"$f":"B476&\"A\"","v":"97A"},null,null,{"$f":"VLOOKUP(B476,EventsOrder,4,FALSE)","v":"U13 Male"},"A",null,{"$f":"VLOOKUP($A475,Results3,G$3,FALSE)","v":"Josh Capewell"},null,{"$f":"VLOOKUP($A475,Results3,I$3,FALSE)","v":""},null,{"$f":"VLOOKUP($A475,Results3,K$3,FALSE)","v":""},null,{"$f":"VLOOKUP($A475,Results3,M$3,FALSE)","v":""},null,{"$f":"VLOOKUP($A475,Results3,O$3,FALSE)","v":""},null,{"$f":"VLOOKUP($A475,Results3,Q$3,FALSE)","v":""},null,{"$f":"VLOOKUP($A475,Results3,S$3,FALSE)","v":""},null,{"$f":"VLOOKUP($A475,Results3,U$3,FALSE)","v":""},null,null,null,null,null,null,null,null,null,{"$f":"IF(LEN(G475)>1,1,0)","v":1}]
[null,97,{"$f":"VLOOKUP(B476,EventsOrder,2,FALSE)","v":4.2},{"$f":"VLOOKUP(B476,EventsOrder,3,FALSE)","v":"1500m"},null,null,{"$f":"VLOOKUP($A475,Results3,G$1-8,FALSE)","v":149},null,{"$f":"VLOOKUP($A475,Results3,I$1-8,FALSE)","v":0},null,{"$f":"VLOOKUP($A475,Results3,K$1-8,FALSE)","v":0},null,{"$f":"VLOOKUP($A475,Results3,M$1-8,FALSE)","v":0},null,{"$f":"VLOOKUP($A475,Results3,O$1-8,FALSE)","v":0},null,{"$f":"VLOOKUP($A475,Results3,Q$1-8,FALSE)","v":0},null,{"$f":"VLOOKUP($A475,Results3,S$1-8,FALSE)","v":0},null,{"$f":"VLOOKUP($A475,Results3,U$1-8,FALSE)","v":0}]
[{"$f":"B476&\"A\"","v":"97A"},null,null,null,null,null,{"$f":"VLOOKUP($A477,Results3,G$4,FALSE)","v":"Worc"},{"$f":"VLOOKUP($A477,Results3,H$3,FALSE)","v":"5.59.2"},{"$f":"VLOOKUP($A477,Results3,I$4,FALSE)","v":0},{"$f":"VLOOKUP($A477,Results3,J$3,FALSE)","v":0},{"$f":"VLOOKUP($A477,Results3,K$4,FALSE)","v":0},{"$f":"VLOOKUP($A477,Results3,L$3,FALSE)","v":0},{"$f":"VLOOKUP($A477,Results3,M$4,FALSE)","v":0},{"$f":"VLOOKUP($A477,Results3,N$3,FALSE)","v":0},{"$f":"VLOOKUP($A477,Results3,O$4,FALSE)","v":0},{"$f":"VLOOKUP($A477,Results3,P$3,FALSE)","v":0},{"$f":"VLOOKUP($A477,Results3,Q$4,FALSE)","v":0},{"$f":"VLOOKUP($A477,Results3,R$3,FALSE)","v":0},{"$f":"VLOOKUP($A477,Results3,S$4,FALSE)","v":0},{"$f":"VLOOKUP($A477,Results3,T$3,FALSE)","v":0},{"$f":"VLOOKUP($A477,Results3,U$4,FALSE)","v":0},{"$f":"VLOOKUP($A477,Results3,V$3,FALSE)","v":0}]
[{"$f":"B479&\"A\"","v":"98A"},null,null,{"$f":"VLOOKUP(B479,EventsOrder,4,FALSE)","v":"U15 Male"},"A",null,{"$f":"VLOOKUP($A478,Results3,G$3,FALSE)","v":""},null,{"$f":"VLOOKUP($A478,Results3,I$3,FALSE)","v":""},null,{"$f":"VLOOKUP($A478,Results3,K$3,FALSE)","v":""},null,{"$f":"VLOOKUP($A478,Results3,M$3,FALSE)","v":""},null,{"$f":"VLOOKUP($A478,Results3,O$3,FALSE)","v":""},null,{"$f":"VLOOKUP($A478,Results3,Q$3,FALSE)","v":""},null,{"$f":"VLOOKUP($A478,Results3,S$3,FALSE)","v":""},null,{"$f":"VLOOKUP($A478,Results3,U$3,FALSE)","v":""},null,null,null,null,null,null,null,null,null,{"$f":"IF(LEN(G478)>1,1,0)","v":0}]
[null,98,{"$f":"VLOOKUP(B479,EventsOrder,2,FALSE)","v":4.3},{"$f":"VLOOKUP(B479,EventsOrder,3,FALSE)","v":"1500m"},null,null,{"$f":"VLOOKUP($A478,Results3,G$1-8,FALSE)","v":0},null,{"$f":"VLOOKUP($A478,Results3,I$1-8,FALSE)","v":0},null,{"$f":"VLOOKUP($A478,Results3,K$1-8,FALSE)","v":0},null,{"$f":"VLOOKUP($A478,Results3,M$1-8,FALSE)","v":0},null,{"$f":"VLOOKUP($A478,Results3,O$1-8,FALSE)","v":0},null,{"$f":"VLOOKUP($A478,Results3,Q$1-8,FALSE)","v":0},null,{"$f":"VLOOKUP($A478,Results3,S$1-8,FALSE)","v":0},null,{"$f":"VLOOKUP($A478,Results3,U$1-8,FALSE)","v":0}]
[{"$f":"B479&\"A\"","v":"98A"},null,null,null,null,null,{"$f":"VLOOKUP($A480,Results3,G$4,FALSE)","v":0},{"$f":"VLOOKUP($A480,Results3,H$3,FALSE)","v":0},{"$f":"VLOOKUP($A480,Results3,I$4,FALSE)","v":0},{"$f":"VLOOKUP($A480,Results3,J$3,FALSE)","v":0},{"$f":"VLOOKUP($A480,Results3,K$4,FALSE)","v":0},{"$f":"VLOOKUP($A480,Results3,L$3,FALSE)","v":0},{"$f":"VLOOKUP($A480,Results3,M$4,FALSE)","v":0},{"$f":"VLOOKUP($A480,Results3,N$3,FALSE)","v":0},{"$f":"VLOOKUP($A480,Results3,O$4,FALSE)","v":0},{"$f":"VLOOKUP($A480,Results3,P$3,FALSE)","v":0},{"$f":"VLOOKUP($A480,Results3,Q$4,FALSE)","v":0},{"$f":"VLOOKUP($A480,Results3,R$3,FALSE)","v":0},{"$f":"VLOOKUP($A480,Results3,S$4,FALSE)","v":0},{"$f":"VLOOKUP($A480,Results3,T$3,FALSE)","v":0},{"$f":"VLOOKUP($A480,Results3,U$4,FALSE)","v":0},{"$f":"VLOOKUP($A480,Results3,V$3,FALSE)","v":0}]
[{"$f":"B482&\"A\"","v":"99A"},null,null,{"$f":"VLOOKUP(B482,EventsOrder,4,FALSE)","v":"U17 Men"},"A",null,{"$f":"VLOOKUP($A481,Results3,G$3,FALSE)","v":""},null,{"$f":"VLOOKUP($A481,Results3,I$3,FALSE)","v":""},null,{"$f":"VLOOKUP($A481,Results3,K$3,FALSE)","v":""},null,{"$f":"VLOOKUP($A481,Results3,M$3,FALSE)","v":""},null,{"$f":"VLOOKUP($A481,Results3,O$3,FALSE)","v":""},null,{"$f":"VLOOKUP($A481,Results3,Q$3,FALSE)","v":""},null,{"$f":"VLOOKUP($A481,Results3,S$3,FALSE)","v":""},null,{"$f":"VLOOKUP($A481,Results3,U$3,FALSE)","v":""},null,null,null,null,null,null,null,null,null,{"$f":"IF(LEN(G481)>1,1,0)","v":0}]
[null,99,{"$f":"VLOOKUP(B482,EventsOrder,2,FALSE)","v":4.4000000000000004},{"$f":"VLOOKUP(B482,EventsOrder,3,FALSE)","v":"1500m"},null,null,{"$f":"VLOOKUP($A481,Results3,G$1-8,FALSE)","v":0},null,{"$f":"VLOOKUP($A481,Results3,I$1-8,FALSE)","v":0},null,{"$f":"VLOOKUP($A481,Results3,K$1-8,FALSE)","v":0},null,{"$f":"VLOOKUP($A481,Results3,M$1-8,FALSE)","v":0},null,{"$f":"VLOOKUP($A481,Results3,O$1-8,FALSE)","v":0},null,{"$f":"VLOOKUP($A481,Results3,Q$1-8,FALSE)","v":0},null,{"$f":"VLOOKUP($A481,Results3,S$1-8,FALSE)","v":0},null,{"$f":"VLOOKUP($A481,Results3,U$1-8,FALSE)","v":0}]
[{"$f":"B482&\"A\"","v":"99A"},null,null,null,null,null,{"$f":"VLOOKUP($A483,Results3,G$4,FALSE)","v":0},{"$f":"VLOOKUP($A483,Results3,H$3,FALSE)","v":0},{"$f":"VLOOKUP($A483,Results3,I$4,FALSE)","v":0},{"$f":"VLOOKUP($A483,Results3,J$3,FALSE)","v":0},{"$f":"VLOOKUP($A483,Results3,K$4,FALSE)","v":0},{"$f":"VLOOKUP($A483,Results3,L$3,FALSE)","v":0},{"$f":"VLOOKUP($A483,Results3,M$4,FALSE)","v":0},{"$f":"VLOOKUP($A483,Results3,N$3,FALSE)","v":0},{"$f":"VLOOKUP($A483,Results3,O$4,FALSE)","v":0},{"$f":"VLOOKUP($A483,Results3,P$3,FALSE)","v":0},{"$f":"VLOOKUP($A483,Results3,Q$4,FALSE)","v":0},{"$f":"VLOOKUP($A483,Results3,R$3,FALSE)","v":0},{"$f":"VLOOKUP($A483,Results3,S$4,FALSE)","v":0},{"$f":"VLOOKUP($A483,Results3,T$3,FALSE)","v":0},{"$f":"VLOOKUP($A483,Results3,U$4,FALSE)","v":0},{"$f":"VLOOKUP($A483,Results3,V$3,FALSE)","v":0}]
[]
[]
[null,null,null,"Relays"]
[null,null,null,null,null,{"$f":"IF(MID(D488,5,1)=\"F\",\"F\",\"M\")","v":"F"},{"$f":"'Event Details'!G22","v":"Ban"},null,{"$f":"'Event Details'!G23","v":"Bic"},null,{"$f":"'Event Details'!G24","v":"DASH"},null,{"$f":"'Event Details'!G25","v":"Kett"},null,{"$f":"'Event Details'!G26","v":"Rad"},null,{"$f":"'Event Details'!G27","v":"Tam"},null,{"$f":"'Event Details'!G28","v":"Wreake"},null,{"$f":"'Event Details'!G29","v":"Worc"}]
[2,81,{"$f":"VLOOKUP(B488,EventsOrder,2,FALSE)","v":4.5},{"$f":"VLOOKUP(B488,EventsOrder,4,FALSE)","v":"U11 Fem/Male"},"A",1,{"$f":"VLOOKUP($B489,IF($F487=\"F\",TeamSheetFemale,TeamSheetMale),W488,FALSE)","v":"Tilly Lainchbury"},null,{"$f":"VLOOKUP($B489,IF($F487=\"F\",TeamSheetFemale,TeamSheetMale),X488,FALSE)","v":"Isla Bohannon"},null,{"$f":"VLOOKUP($B489,IF($F487=\"F\",TeamSheetFemale,TeamSheetMale),Y488,FALSE)","v":0},null,{"$f":"VLOOKUP($B489,IF($F487=\"F\",TeamSheetFemale,TeamSheetMale),Z488,FALSE)","v":"Alfie Frayne"},null,{"$f":"VLOOKUP($B489,IF($F487=\"F\",TeamSheetFemale,TeamSheetMale),AA488,FALSE)","v":"Lily Black"},null,{"$f":"VLOOKUP($B489,IF($F487=\"F\",TeamSheetFemale,TeamSheetMale),AB488,FALSE)","v":"Daisy Smith"},null,{"$f":"VLOOKUP($B489,IF($F487=\"F\",TeamSheetFemale,TeamSheetMale),AC488,FALSE)","v":"Kiyomi Topham"},null,{"$f":"VLOOKUP($B489,IF($F487=\"F\",TeamSheetFemale,TeamSheetMale),AD488,FALSE)","v":"Beth Hallam"},null,7,12,17,22,27,32,37,42]
[3,{"$f":"B488&\"R\"","v":"81R"},null,null,null,2,{"$f":"VLOOKUP($B489,IF($F487=\"F\",TeamSheetFemale,TeamSheetMale),W489,FALSE)","v":"Ethan Aldous"},null,{"$f":"VLOOKUP($B489,IF($F487=\"F\",TeamSheetFemale,TeamSheetMale),X489,FALSE)","v":"Josephine Parker"},null,{"$f":"VLOOKUP($B489,IF($F487=\"F\",TeamSheetFemale,TeamSheetMale),Y489,FALSE)","v":0},null,{"$f":"VLOOKUP($B489,IF($F487=\"F\",TeamSheetFemale,TeamSheetMale),Z489,FALSE)","v":"Aaron Holloway"},null,{"$f":"VLOOKUP($B489,IF($F487=\"F\",TeamSheetFemale,TeamSheetMale),AA489,FALSE)","v":"Audrey Winstone"},null,{"$f":"VLOOKUP($B489,IF($F487=\"F\",TeamSheetFemale,TeamSheetMale),AB489,FALSE)","v":"Angelica Ramkee"},null,{"$f":"VLOOKUP($B489,IF($F487=\"F\",TeamSheetFemale,TeamSheetMale),AC489,FALSE)","v":"Isla Cullen"},null,{"$f":"VLOOKUP($B489,IF($F487=\"F\",TeamSheetFemale,TeamSheetMale),AD489,FALSE)","v":"Ellis Hartland"},null,"9","14","19","24","29","34","39","44"]
[4,{"$f":"B488&\"S\"","v":"81S"},null,{"$f":"VLOOKUP(B488,EventsOrder,3,FALSE)","v":"4 x 100m Mixed"},"B",3,{"$f":"VLOOKUP($B490,IF($F487=\"F\",TeamSheetFemale,TeamSheetMale),W490,FALSE)","v":"Eimear Moss"},null,{"$f":"VLOOKUP($B490,IF($F487=\"F\",TeamSheetFemale,TeamSheetMale),X490,FALSE)","v":"Seion Alexander"},null,{"$f":"VLOOKUP($B490,IF($F487=\"F\",TeamSheetFemale,TeamSheetMale),Y490,FALSE)","v":0},null,{"$f":"VLOOKUP($B490,IF($F487=\"F\",TeamSheetFemale,TeamSheetMale),Z490,FALSE)","v":"Kate Nelis"},null,{"$f":"VLOOKUP($B490,IF($F487=\"F\",TeamSheetFemale,TeamSheetMale),AA490,FALSE)","v":"Jake Edwards"},null,{"$f":"VLOOKUP($B490,IF($F487=\"F\",TeamSheetFemale,TeamSheetMale),AB490,FALSE)","v":"Madison Rose Blencowe"},null,{"$f":"VLOOKUP($B490,IF($F487=\"F\",TeamSheetFemale,TeamSheetMale),AC490,FALSE)","v":"Finley Venables"},null,{"$f":"VLOOKUP($B490,IF($F487=\"F\",TeamSheetFemale,TeamSheetMale),AD490,FALSE)","v":"Molly Davey"},null,7,12,17,22,27,32,37,42]
[5,null,null,null,null,4,{"$f":"VLOOKUP($B490,IF($F487=\"F\",TeamSheetFemale,TeamSheetMale),W491,FALSE)","v":"Archie Street"},null,{"$f":"VLOOKUP($B490,IF($F487=\"F\",TeamSheetFemale,TeamSheetMale),X491,FALSE)","v":"Joshua Parker"},null,{"$f":"VLOOKUP($B490,IF($F487=\"F\",TeamSheetFemale,TeamSheetMale),Y491,FALSE)","v":0},null,{"$f":"VLOOKUP($B490,IF($F487=\"F\",TeamSheetFemale,TeamSheetMale),Z491,FALSE)","v":"Niamh Sinnott"},null,{"$f":"VLOOKUP($B490,IF($F487=\"F\",TeamSheetFemale,TeamSheetMale),AA491,FALSE)","v":"Quinn Miell-Ingram"},null,{"$f":"VLOOKUP($B490,IF($F487=\"F\",TeamSheetFemale,TeamSheetMale),AB491,FALSE)","v":"Saoirse Au"},null,{"$f":"VLOOKUP($B490,IF($F487=\"F\",TeamSheetFemale,TeamSheetMale),AC491,FALSE)","v":"Sam Orange"},null,{"$f":"VLOOKUP($B490,IF($F487=\"F\",TeamSheetFemale,TeamSheetMale),AD491,FALSE)","v":"Linus Burnage"},null,"9","14","19","24","29","34","39","44"]
[6,null,null,null,null,{"$f":"IF(MID(D493,5,1)=\"F\",\"F\",\"M\")","v":"F"},{"$f":"G487","v":"Ban"},null,{"$f":"I487","v":"Bic"},null,"DASH",null,"Kett",null,"Rad",null,"Tam",null,"Wreake",null,{"$f":"U487","v":"Worc"}]
[7,82,{"$f":"VLOOKUP(B493,EventsOrder,2,FALSE)","v":4.55},{"$f":"VLOOKUP(B493,EventsOrder,4,FALSE)","v":"U13 Female"},"A",1,{"$f":"VLOOKUP($B494,IF($F492=\"F\",TeamSheetFemale,TeamSheetMale),W493,FALSE)","v":"Maddy Dowden"},null,{"$f":"VLOOKUP($B494,IF($F492=\"F\",TeamSheetFemale,TeamSheetMale),X493,FALSE)","v":"Erin Fabri"},null,{"$f":"VLOOKUP($B494,IF($F492=\"F\",TeamSheetFemale,TeamSheetMale),Y493,FALSE)","v":"Kiki Thurley"},null,{"$f":"VLOOKUP($B494,IF($F492=\"F\",TeamSheetFemale,TeamSheetMale),Z493,FALSE)","v":"Millie Webb"},null,{"$f":"VLOOKUP($B494,IF($F492=\"F\",TeamSheetFemale,TeamSheetMale),AA493,FALSE)","v":"Erin Mcmillan"},null,{"$f":"VLOOKUP($B494,IF($F492=\"F\",TeamSheetFemale,TeamSheetMale),AB493,FALSE)","v":"Niamh Kilgallen"},null,{"$f":"VLOOKUP($B494,IF($F492=\"F\",TeamSheetFemale,TeamSheetMale),AC493,FALSE)","v":"Isobel Orencas"},null,{"$f":"VLOOKUP($B494,IF($F492=\"F\",TeamSheetFemale,TeamSheetMale),AD493,FALSE)","v":"Lottie Bentley"},null,7,12,17,22,27,32,37,42]
[8,{"$f":"B493&\"R\"","v":"82R"},null,null,null,2,{"$f":"VLOOKUP($B494,IF($F492=\"F\",TeamSheetFemale,TeamSheetMale),W494,FALSE)","v":"Raegan Sellers"},null,{"$f":"VLOOKUP($B494,IF($F492=\"F\",TeamSheetFemale,TeamSheetMale),X494,FALSE)","v":"Emilia Simms"},null,{"$f":"VLOOKUP($B494,IF($F492=\"F\",TeamSheetFemale,TeamSheetMale),Y494,FALSE)","v":"Hannah Gadd"},null,{"$f":"VLOOKUP($B494,IF($F492=\"F\",TeamSheetFemale,TeamSheetMale),Z494,FALSE)","v":"Scarlett Maxwell-Munn"},null,{"$f":"VLOOKUP($B494,IF($F492=\"F\",TeamSheetFemale,TeamSheetMale),AA494,FALSE)","v":"Kaela Nelson"},null,{"$f":"VLOOKUP($B494,IF($F492=\"F\",TeamSheetFemale,TeamSheetMale),AB494,FALSE)","v":"Tegan Vickery"},null,{"$f":"VLOOKUP($B494,IF($F492=\"F\",TeamSheetFemale,TeamSheetMale),AC494,FALSE)","v":"Flora Miskin-Young"},null,{"$f":"VLOOKUP($B494,IF($F492=\"F\",TeamSheetFemale,TeamSheetMale),AD494,FALSE)","v":"Aimee Cochrane"},null,"9","14","19","24","29","34","39","44"]
[9,{"$f":"B493&\"S\"","v":"82S"},null,{"$f":"VLOOKUP(B493,EventsOrder,3,FALSE)","v":"4 x 100m"},"B",3,{"$f":"VLOOKUP($B495,IF($F492=\"F\",TeamSheetFemale,TeamSheetMale),W495,FALSE)","v":"Sophie Howie"},null,{"$f":"VLOOKUP($B495,IF($F492=\"F\",TeamSheetFemale,TeamSheetMale),X495,FALSE)","v":"imogen ansell"},null,{"$f":"VLOOKUP($B495,IF($F492=\"F\",TeamSheetFemale,TeamSheetMale),Y495,FALSE)","v":"Libby Davis"},null,{"$f":"VLOOKUP($B495,IF($F492=\"F\",TeamSheetFemale,TeamSheetMale),Z495,FALSE)","v":"Charlotte Cox"},null,{"$f":"VLOOKUP($B495,IF($F492=\"F\",TeamSheetFemale,TeamSheetMale),AA495,FALSE)","v":"Poppy Edwards"},null,{"$f":"VLOOKUP($B495,IF($F492=\"F\",TeamSheetFemale,TeamSheetMale),AB495,FALSE)","v":"Emily Pearce"},null,{"$f":"VLOOKUP($B495,IF($F492=\"F\",TeamSheetFemale,TeamSheetMale),AC495,FALSE)","v":"Indie King"},null,{"$f":"VLOOKUP($B495,IF($F492=\"F\",TeamSheetFemale,TeamSheetMale),AD495,FALSE)","v":"Millie Stanley"},null,7,12,17,22,27,32,37,42]
[10,null,null,null,null,4,{"$f":"VLOOKUP($B495,IF($F492=\"F\",TeamSheetFemale,TeamSheetMale),W496,FALSE)","v":"Tegan Armstrong"},null,{"$f":"VLOOKUP($B495,IF($F492=\"F\",TeamSheetFemale,TeamSheetMale),X496,FALSE)","v":"Amelia Cox"},null,{"$f":"VLOOKUP($B495,IF($F492=\"F\",TeamSheetFemale,TeamSheetMale),Y496,FALSE)","v":"Zara Gibbs"},null,{"$f":"VLOOKUP($B495,IF($F492=\"F\",TeamSheetFemale,TeamSheetMale),Z496,FALSE)","v":"Mia Brockway"},null,{"$f":"VLOOKUP($B495,IF($F492=\"F\",TeamSheetFemale,TeamSheetMale),AA496,FALSE)","v":"Maddison Hurley"},null,{"$f":"VLOOKUP($B495,IF($F492=\"F\",TeamSheetFemale,TeamSheetMale),AB496,FALSE)","v":"Sian Hubbard"},null,{"$f":"VLOOKUP($B495,IF($F492=\"F\",TeamSheetFemale,TeamSheetMale),AC496,FALSE)","v":"Katie Parker"},null,{"$f":"VLOOKUP($B495,IF($F492=\"F\",TeamSheetFemale,TeamSheetMale),AD496,FALSE)","v":"Jemima Hobby"},null,"9","14","19","24","29","34","39","44"]
[11,null,null,null,null,{"$f":"IF(MID(D498,5,1)=\"F\",\"F\",\"M\")","v":"F"},{"$f":"G492","v":"Ban"},null,{"$f":"I492","v":"Bic"},null,{"$f":"K492","v":"DASH"},null,{"$f":"M492","v":"Kett"},null,{"$f":"O492","v":"Rad"},null,{"$f":"Q492","v":"Tam"},null,{"$f":"S492","v":"Wreake"},null,{"$f":"U492","v":"Worc"}]
[12,83,{"$f":"VLOOKUP(B498,EventsOrder,2,FALSE)","v":5},{"$f":"VLOOKUP(B498,EventsOrder,4,FALSE)","v":"U15 Female"},"A",1,{"$f":"VLOOKUP($B499,IF($F497=\"F\",TeamSheetFemale,TeamSheetMale),W498,FALSE)","v":0},null,{"$f":"VLOOKUP($B499,IF($F497=\"F\",TeamSheetFemale,TeamSheetMale),X498,FALSE)","v":"Charlotte Hewett"},null,{"$f":"VLOOKUP($B499,IF($F497=\"F\",TeamSheetFemale,TeamSheetMale),Y498,FALSE)","v":"Grace Slater"},null,{"$f":"VLOOKUP($B499,IF($F497=\"F\",TeamSheetFemale,TeamSheetMale),Z498,FALSE)","v":"Annabelle Clotworthy"},null,{"$f":"VLOOKUP($B499,IF($F497=\"F\",TeamSheetFemale,TeamSheetMale),AA498,FALSE)","v":"Holly Griffith Brown"},null,{"$f":"VLOOKUP($B499,IF($F497=\"F\",TeamSheetFemale,TeamSheetMale),AB498,FALSE)","v":0},null,{"$f":"VLOOKUP($B499,IF($F497=\"F\",TeamSheetFemale,TeamSheetMale),AC498,FALSE)","v":"Poppy Tott-Buswell"},null,{"$f":"VLOOKUP($B499,IF($F497=\"F\",TeamSheetFemale,TeamSheetMale),AD498,FALSE)","v":"Emily Kavanagh"},null,7,12,17,22,27,32,37,42]
[13,{"$f":"B498&\"R\"","v":"83R"},null,null,null,2,{"$f":"VLOOKUP($B499,IF($F497=\"F\",TeamSheetFemale,TeamSheetMale),W499,FALSE)","v":0},null,{"$f":"VLOOKUP($B499,IF($F497=\"F\",TeamSheetFemale,TeamSheetMale),X499,FALSE)","v":"Lauren Garside"},null,{"$f":"VLOOKUP($B499,IF($F497=\"F\",TeamSheetFemale,TeamSheetMale),Y499,FALSE)","v":"Niamh Darby"},null,{"$f":"VLOOKUP($B499,IF($F497=\"F\",TeamSheetFemale,TeamSheetMale),Z499,FALSE)","v":"Ellen Smith"},null,{"$f":"VLOOKUP($B499,IF($F497=\"F\",TeamSheetFemale,TeamSheetMale),AA499,FALSE)","v":"Robyn Swain"},null,{"$f":"VLOOKUP($B499,IF($F497=\"F\",TeamSheetFemale,TeamSheetMale),AB499,FALSE)","v":0},null,{"$f":"VLOOKUP($B499,IF($F497=\"F\",TeamSheetFemale,TeamSheetMale),AC499,FALSE)","v":"Josie Orange"},null,{"$f":"VLOOKUP($B499,IF($F497=\"F\",TeamSheetFemale,TeamSheetMale),AD499,FALSE)","v":"Ellie Harrison"},null,"9","14","19","24","29","34","39","44"]
[14,{"$f":"B498&\"S\"","v":"83S"},null,{"$f":"VLOOKUP(B498,EventsOrder,3,FALSE)","v":"4 x 100m"},"B",3,{"$f":"VLOOKUP($B500,IF($F497=\"F\",TeamSheetFemale,TeamSheetMale),W500,FALSE)","v":0},null,{"$f":"VLOOKUP($B500,IF($F497=\"F\",TeamSheetFemale,TeamSheetMale),X500,FALSE)","v":"Molly Acton"},null,{"$f":"VLOOKUP($B500,IF($F497=\"F\",TeamSheetFemale,TeamSheetMale),Y500,FALSE)","v":"Jessica Grainger"},null,{"$f":"VLOOKUP($B500,IF($F497=\"F\",TeamSheetFemale,TeamSheetMale),Z500,FALSE)","v":"Harmony Hart"},null,{"$f":"VLOOKUP($B500,IF($F497=\"F\",TeamSheetFemale,TeamSheetMale),AA500,FALSE)","v":"Olivia Butler"},null,{"$f":"VLOOKUP($B500,IF($F497=\"F\",TeamSheetFemale,TeamSheetMale),AB500,FALSE)","v":0},null,{"$f":"VLOOKUP($B500,IF($F497=\"F\",TeamSheetFemale,TeamSheetMale),AC500,FALSE)","v":"Zena Challenger"},null,{"$f":"VLOOKUP($B500,IF($F497=\"F\",TeamSheetFemale,TeamSheetMale),AD500,FALSE)","v":"Sarah-Jane Ollis"},null,7,12,17,22,27,32,37,42]
[15,null,null,null,null,4,{"$f":"VLOOKUP($B500,IF($F497=\"F\",TeamSheetFemale,TeamSheetMale),W501,FALSE)","v":0},null,{"$f":"VLOOKUP($B500,IF($F497=\"F\",TeamSheetFemale,TeamSheetMale),X501,FALSE)","v":"Holly Hunter"},null,{"$f":"VLOOKUP($B500,IF($F497=\"F\",TeamSheetFemale,TeamSheetMale),Y501,FALSE)","v":"Emma Shorwood"},null,{"$f":"VLOOKUP($B500,IF($F497=\"F\",TeamSheetFemale,TeamSheetMale),Z501,FALSE)","v":"Alex Beale"},null,{"$f":"VLOOKUP($B500,IF($F497=\"F\",TeamSheetFemale,TeamSheetMale),AA501,FALSE)","v":"Rachel Burton"},null,{"$f":"VLOOKUP($B500,IF($F497=\"F\",TeamSheetFemale,TeamSheetMale),AB501,FALSE)","v":0},null,{"$f":"VLOOKUP($B500,IF($F497=\"F\",TeamSheetFemale,TeamSheetMale),AC501,FALSE)","v":"Sophie Thorpe"},null,{"$f":"VLOOKUP($B500,IF($F497=\"F\",TeamSheetFemale,TeamSheetMale),AD501,FALSE)","v":"Danielle Hopkins"},null,"9","14","19","24","29","34","39","44"]
[16,null,null,null,null,{"$f":"IF(MID(D503,5,1)=\"F\",\"F\",\"M\")","v":"F"},{"$f":"G497","v":"Ban"},null,{"$f":"I497","v":"Bic"},null,{"$f":"K497","v":"DASH"},null,{"$f":"M497","v":"Kett"},null,{"$f":"O497","v":"Rad"},null,{"$f":"Q497","v":"Tam"},null,{"$f":"S497","v":"Wreake"},null,{"$f":"U497","v":"Worc"}]
[17,84,{"$f":"VLOOKUP(B503,EventsOrder,2,FALSE)","v":5.05},{"$f":"VLOOKUP(B503,EventsOrder,4,FALSE)","v":"U17 F/Women"},"A",1,{"$f":"VLOOKUP($B504,IF($F502=\"F\",TeamSheetFemale,TeamSheetMale),W503,FALSE)","v":0},null,{"$f":"VLOOKUP($B504,IF($F502=\"F\",TeamSheetFemale,TeamSheetMale),X503,FALSE)","v":0},null,{"$f":"VLOOKUP($B504,IF($F502=\"F\",TeamSheetFemale,TeamSheetMale),Y503,FALSE)","v":"Lauren Millward"},null,{"$f":"VLOOKUP($B504,IF($F502=\"F\",TeamSheetFemale,TeamSheetMale),Z503,FALSE)","v":"Niamh Monaghan"},null,{"$f":"VLOOKUP($B504,IF($F502=\"F\",TeamSheetFemale,TeamSheetMale),AA503,FALSE)","v":"Stephanie Mott"},null,{"$f":"VLOOKUP($B504,IF($F502=\"F\",TeamSheetFemale,TeamSheetMale),AB503,FALSE)","v":0},null,{"$f":"VLOOKUP($B504,IF($F502=\"F\",TeamSheetFemale,TeamSheetMale),AC503,FALSE)","v":"Megan Luxford"},null,{"$f":"VLOOKUP($B504,IF($F502=\"F\",TeamSheetFemale,TeamSheetMale),AD503,FALSE)","v":"Brooke Clarke"},null,7,12,17,22,27,32,37,42]
[18,{"$f":"B503&\"R\"","v":"84R"},null,null,null,2,{"$f":"VLOOKUP($B504,IF($F502=\"F\",TeamSheetFemale,TeamSheetMale),W504,FALSE)","v":0},null,{"$f":"VLOOKUP($B504,IF($F502=\"F\",TeamSheetFemale,TeamSheetMale),X504,FALSE)","v":0},null,{"$f":"VLOOKUP($B504,IF($F502=\"F\",TeamSheetFemale,TeamSheetMale),Y504,FALSE)","v":"Zara Millward"},null,{"$f":"VLOOKUP($B504,IF($F502=\"F\",TeamSheetFemale,TeamSheetMale),Z504,FALSE)","v":"Niamh Ruffles"},null,{"$f":"VLOOKUP($B504,IF($F502=\"F\",TeamSheetFemale,TeamSheetMale),AA504,FALSE)","v":"Megan Baker"},null,{"$f":"VLOOKUP($B504,IF($F502=\"F\",TeamSheetFemale,TeamSheetMale),AB504,FALSE)","v":0},null,{"$f":"VLOOKUP($B504,IF($F502=\"F\",TeamSheetFemale,TeamSheetMale),AC504,FALSE)","v":"Ella Grainger"},null,{"$f":"VLOOKUP($B504,IF($F502=\"F\",TeamSheetFemale,TeamSheetMale),AD504,FALSE)","v":"Abigail Gill"},null,"9","14","19","24","29","34","39","44"]
[19,{"$f":"B503&\"S\"","v":"84S"},null,{"$f":"VLOOKUP(B503,EventsOrder,3,FALSE)","v":"4 x 100m"},"B",3,{"$f":"VLOOKUP($B505,IF($F502=\"F\",TeamSheetFemale,TeamSheetMale),W505,FALSE)","v":0},null,{"$f":"VLOOKUP($B505,IF($F502=\"F\",TeamSheetFemale,TeamSheetMale),X505,FALSE)","v":0},null,{"$f":"VLOOKUP($B505,IF($F502=\"F\",TeamSheetFemale,TeamSheetMale),Y505,FALSE)","v":"Becky Freeman"},null,{"$f":"VLOOKUP($B505,IF($F502=\"F\",TeamSheetFemale,TeamSheetMale),Z505,FALSE)","v":"Ellie Boulton"},null,{"$f":"VLOOKUP($B505,IF($F502=\"F\",TeamSheetFemale,TeamSheetMale),AA505,FALSE)","v":"Petrina Chantler-Edmond"},null,{"$f":"VLOOKUP($B505,IF($F502=\"F\",TeamSheetFemale,TeamSheetMale),AB505,FALSE)","v":0},null,{"$f":"VLOOKUP($B505,IF($F502=\"F\",TeamSheetFemale,TeamSheetMale),AC505,FALSE)","v":"Fern Harrison"},null,{"$f":"VLOOKUP($B505,IF($F502=\"F\",TeamSheetFemale,TeamSheetMale),AD505,FALSE)","v":"Hannah Kenwright"},null,7,12,17,22,27,32,37,42]
[20,null,null,null,null,4,{"$f":"VLOOKUP($B505,IF($F502=\"F\",TeamSheetFemale,TeamSheetMale),W506,FALSE)","v":0},null,{"$f":"VLOOKUP($B505,IF($F502=\"F\",TeamSheetFemale,TeamSheetMale),X506,FALSE)","v":0},null,{"$f":"VLOOKUP($B505,IF($F502=\"F\",TeamSheetFemale,TeamSheetMale),Y506,FALSE)","v":"Claudia Lee"},null,{"$f":"VLOOKUP($B505,IF($F502=\"F\",TeamSheetFemale,TeamSheetMale),Z506,FALSE)","v":"Harriett Jolley"},null,{"$f":"VLOOKUP($B505,IF($F502=\"F\",TeamSheetFemale,TeamSheetMale),AA506,FALSE)","v":"Leah Brown"},null,{"$f":"VLOOKUP($B505,IF($F502=\"F\",TeamSheetFemale,TeamSheetMale),AB506,FALSE)","v":0},null,{"$f":"VLOOKUP($B505,IF($F502=\"F\",TeamSheetFemale,TeamSheetMale),AC506,FALSE)","v":0},null,{"$f":"VLOOKUP($B505,IF($F502=\"F\",TeamSheetFemale,TeamSheetMale),AD506,FALSE)","v":"Becky Donnelly (senior)"},null,"9","14","19","24","29","34","39","44"]
[21,null,null,null,null,{"$f":"IF(MID(D508,5,1)=\"F\",\"F\",\"M\")","v":"M"},{"$f":"G502","v":"Ban"},null,{"$f":"I502","v":"Bic"},null,{"$f":"K502","v":"DASH"},null,{"$f":"M502","v":"Kett"},null,{"$f":"O502","v":"Rad"},null,{"$f":"Q502","v":"Tam"},null,{"$f":"S502","v":"Wreake"},null,{"$f":"U502","v":"Worc"}]
[22,85,{"$f":"VLOOKUP(B508,EventsOrder,2,FALSE)","v":5.0999999999999996},{"$f":"VLOOKUP(B508,EventsOrder,4,FALSE)","v":"U13 Male"},"A",1,{"$f":"VLOOKUP($B509,IF($F507=\"F\",TeamSheetFemale,TeamSheetMale),W508,FALSE)","v":0},null,{"$f":"VLOOKUP($B509,IF($F507=\"F\",TeamSheetFemale,TeamSheetMale),X508,FALSE)","v":"Ben Groves"},null,{"$f":"VLOOKUP($B509,IF($F507=\"F\",TeamSheetFemale,TeamSheetMale),Y508,FALSE)","v":"Jack Compton"},null,{"$f":"VLOOKUP($B509,IF($F507=\"F\",TeamSheetFemale,TeamSheetMale),Z508,FALSE)","v":"Cole Sinnott"},null,{"$f":"VLOOKUP($B509,IF($F507=\"F\",TeamSheetFemale,TeamSheetMale),AA508,FALSE)","v":"Theau Seabrrok"},null,{"$f":"VLOOKUP($B509,IF($F507=\"F\",TeamSheetFemale,TeamSheetMale),AB508,FALSE)","v":"Daniel Aston"},null,{"$f":"VLOOKUP($B509,IF($F507=\"F\",TeamSheetFemale,TeamSheetMale),AC508,FALSE)","v":"David Seidu"},null,{"$f":"VLOOKUP($B509,IF($F507=\"F\",TeamSheetFemale,TeamSheetMale),AD508,FALSE)","v":"Ronan Williams"},null,7,12,17,22,27,32,37,42]
[23,{"$f":"B508&\"R\"","v":"85R"},null,null,null,2,{"$f":"VLOOKUP($B509,IF($F507=\"F\",TeamSheetFemale,TeamSheetMale),W509,FALSE)","v":0},null,{"$f":"VLOOKUP($B509,IF($F507=\"F\",TeamSheetFemale,TeamSheetMale),X509,FALSE)","v":"Ciaran Flynn"},null,{"$f":"VLOOKUP($B509,IF($F507=\"F\",TeamSheetFemale,TeamSheetMale),Y509,FALSE)","v":"Nathan Pearson"},null,{"$f":"VLOOKUP($B509,IF($F507=\"F\",TeamSheetFemale,TeamSheetMale),Z509,FALSE)","v":"Oliver Laskey"},null,{"$f":"VLOOKUP($B509,IF($F507=\"F\",TeamSheetFemale,TeamSheetMale),AA509,FALSE)","v":"Roan Stillion"},null,{"$f":"VLOOKUP($B509,IF($F507=\"F\",TeamSheetFemale,TeamSheetMale),AB509,FALSE)","v":"Kian Dickson"},null,{"$f":"VLOOKUP($B509,IF($F507=\"F\",TeamSheetFemale,TeamSheetMale),AC509,FALSE)","v":"Mackenzie Bloxham"},null,{"$f":"VLOOKUP($B509,IF($F507=\"F\",TeamSheetFemale,TeamSheetMale),AD509,FALSE)","v":"Adam Dudley"},null,"9","14","19","24","29","34","39","44"]
[24,{"$f":"B508&\"S\"","v":"85S"},null,{"$f":"VLOOKUP(B508,EventsOrder,3,FALSE)","v":"4 x 100m"},"B",3,{"$f":"VLOOKUP($B510,IF($F507=\"F\",TeamSheetFemale,TeamSheetMale),W510,FALSE)","v":0},null,{"$f":"VLOOKUP($B510,IF($F507=\"F\",TeamSheetFemale,TeamSheetMale),X510,FALSE)","v":"Callum Hewett"},null,{"$f":"VLOOKUP($B510,IF($F507=\"F\",TeamSheetFemale,TeamSheetMale),Y510,FALSE)","v":"Tom Fallon"},null,{"$f":"VLOOKUP($B510,IF($F507=\"F\",TeamSheetFemale,TeamSheetMale),Z510,FALSE)","v":"Samuel Harrison"},null,{"$f":"VLOOKUP($B510,IF($F507=\"F\",TeamSheetFemale,TeamSheetMale),AA510,FALSE)","v":"Samuel Rose"},null,{"$f":"VLOOKUP($B510,IF($F507=\"F\",TeamSheetFemale,TeamSheetMale),AB510,FALSE)","v":"Kai Buckley"},null,{"$f":"VLOOKUP($B510,IF($F507=\"F\",TeamSheetFemale,TeamSheetMale),AC510,FALSE)","v":"Euan Gibbs"},null,{"$f":"VLOOKUP($B510,IF($F507=\"F\",TeamSheetFemale,TeamSheetMale),AD510,FALSE)","v":"Reuben Taylor-George"},null,7,12,17,22,27,32,37,42]
[25,null,null,null,null,4,{"$f":"VLOOKUP($B510,IF($F507=\"F\",TeamSheetFemale,TeamSheetMale),W511,FALSE)","v":0},null,{"$f":"VLOOKUP($B510,IF($F507=\"F\",TeamSheetFemale,TeamSheetMale),X511,FALSE)","v":"Ryan Simpson"},null,{"$f":"VLOOKUP($B510,IF($F507=\"F\",TeamSheetFemale,TeamSheetMale),Y511,FALSE)","v":"John Sparry"},null,{"$f":"VLOOKUP($B510,IF($F507=\"F\",TeamSheetFemale,TeamSheetMale),Z511,FALSE)","v":"Max Mowforth"},null,{"$f":"VLOOKUP($B510,IF($F507=\"F\",TeamSheetFemale,TeamSheetMale),AA511,FALSE)","v":"Benjanim Cumberland"},null,{"$f":"VLOOKUP($B510,IF($F507=\"F\",TeamSheetFemale,TeamSheetMale),AB511,FALSE)","v":"Oran Au"},null,{"$f":"VLOOKUP($B510,IF($F507=\"F\",TeamSheetFemale,TeamSheetMale),AC511,FALSE)","v":"Ethan Patel"},null,{"$f":"VLOOKUP($B510,IF($F507=\"F\",TeamSheetFemale,TeamSheetMale),AD511,FALSE)","v":"Jacob Khan"},null,"9","14","19","24","29","34","39","44"]
[26,null,null,null,null,{"$f":"IF(MID(D513,5,1)=\"F\",\"F\",\"M\")","v":"M"},{"$f":"G507","v":"Ban"},null,{"$f":"I507","v":"Bic"},null,{"$f":"K507","v":"DASH"},null,{"$f":"M507","v":"Kett"},null,{"$f":"O507","v":"Rad"},null,{"$f":"Q507","v":"Tam"},null,{"$f":"S507","v":"Wreake"},null,{"$f":"U507","v":"Worc"}]
[27,86,{"$f":"VLOOKUP(B513,EventsOrder,2,FALSE)","v":5.15},{"$f":"VLOOKUP(B513,EventsOrder,4,FALSE)","v":"U15 Male"},"A",1,{"$f":"VLOOKUP($B514,IF($F512=\"F\",TeamSheetFemale,TeamSheetMale),W513,FALSE)","v":0},null,{"$f":"VLOOKUP($B514,IF($F512=\"F\",TeamSheetFemale,TeamSheetMale),X513,FALSE)","v":0},null,{"$f":"VLOOKUP($B514,IF($F512=\"F\",TeamSheetFemale,TeamSheetMale),Y513,FALSE)","v":"Tom Slater"},null,{"$f":"VLOOKUP($B514,IF($F512=\"F\",TeamSheetFemale,TeamSheetMale),Z513,FALSE)","v":"Lewis-Morgan Barton"},null,{"$f":"VLOOKUP($B514,IF($F512=\"F\",TeamSheetFemale,TeamSheetMale),AA513,FALSE)","v":0},null,{"$f":"VLOOKUP($B514,IF($F512=\"F\",TeamSheetFemale,TeamSheetMale),AB513,FALSE)","v":0},null,{"$f":"VLOOKUP($B514,IF($F512=\"F\",TeamSheetFemale,TeamSheetMale),AC513,FALSE)","v":"Euan Jones"},null,{"$f":"VLOOKUP($B514,IF($F512=\"F\",TeamSheetFemale,TeamSheetMale),AD513,FALSE)","v":"Charlie Bloomfield"},null,7,12,17,22,27,32,37,42]
[28,{"$f":"B513&\"R\"","v":"86R"},null,null,null,2,{"$f":"VLOOKUP($B514,IF($F512=\"F\",TeamSheetFemale,TeamSheetMale),W514,FALSE)","v":0},null,{"$f":"VLOOKUP($B514,IF($F512=\"F\",TeamSheetFemale,TeamSheetMale),X514,FALSE)","v":0},null,{"$f":"VLOOKUP($B514,IF($F512=\"F\",TeamSheetFemale,TeamSheetMale),Y514,FALSE)","v":"Jamie Tranter"},null,{"$f":"VLOOKUP($B514,IF($F512=\"F\",TeamSheetFemale,TeamSheetMale),Z514,FALSE)","v":"Dylan Bowley"},null,{"$f":"VLOOKUP($B514,IF($F512=\"F\",TeamSheetFemale,TeamSheetMale),AA514,FALSE)","v":0},null,{"$f":"VLOOKUP($B514,IF($F512=\"F\",TeamSheetFemale,TeamSheetMale),AB514,FALSE)","v":0},null,{"$f":"VLOOKUP($B514,IF($F512=\"F\",TeamSheetFemale,TeamSheetMale),AC514,FALSE)","v":"Josh Rocks"},null,{"$f":"VLOOKUP($B514,IF($F512=\"F\",TeamSheetFemale,TeamSheetMale),AD514,FALSE)","v":"Andrew Jay"},null,"9","14","19","24","29","34","39","44"]
[29,{"$f":"B513&\"S\"","v":"86S"},null,{"$f":"VLOOKUP(B513,EventsOrder,3,FALSE)","v":"4 x 100m"},"B",3,{"$f":"VLOOKUP($B515,IF($F512=\"F\",TeamSheetFemale,TeamSheetMale),W515,FALSE)","v":0},null,{"$f":"VLOOKUP($B515,IF($F512=\"F\",TeamSheetFemale,TeamSheetMale),X515,FALSE)","v":0},null,{"$f":"VLOOKUP($B515,IF($F512=\"F\",TeamSheetFemale,TeamSheetMale),Y515,FALSE)","v":"Talinder Kumar"},null,{"$f":"VLOOKUP($B515,IF($F512=\"F\",TeamSheetFemale,TeamSheetMale),Z515,FALSE)","v":"Dylan Mukhtar"},null,{"$f":"VLOOKUP($B515,IF($F512=\"F\",TeamSheetFemale,TeamSheetMale),AA515,FALSE)","v":0},null,{"$f":"VLOOKUP($B515,IF($F512=\"F\",TeamSheetFemale,TeamSheetMale),AB515,FALSE)","v":0},null,{"$f":"VLOOKUP($B515,IF($F512=\"F\",TeamSheetFemale,TeamSheetMale),AC515,FALSE)","v":"Roman Watson-Quilter"},null,{"$f":"VLOOKUP($B515,IF($F512=\"F\",TeamSheetFemale,TeamSheetMale),AD515,FALSE)","v":"Marco Miller"},null,7,12,17,22,27,32,37,42]
[30,null,null,null,null,4,{"$f":"VLOOKUP($B515,IF($F512=\"F\",TeamSheetFemale,TeamSheetMale),W516,FALSE)","v":0},null,{"$f":"VLOOKUP($B515,IF($F512=\"F\",TeamSheetFemale,TeamSheetMale),X516,FALSE)","v":0},null,{"$f":"VLOOKUP($B515,IF($F512=\"F\",TeamSheetFemale,TeamSheetMale),Y516,FALSE)","v":"Adam Boon"},null,{"$f":"VLOOKUP($B515,IF($F512=\"F\",TeamSheetFemale,TeamSheetMale),Z516,FALSE)","v":"Henri-Codling"},null,{"$f":"VLOOKUP($B515,IF($F512=\"F\",TeamSheetFemale,TeamSheetMale),AA516,FALSE)","v":0},null,{"$f":"VLOOKUP($B515,IF($F512=\"F\",TeamSheetFemale,TeamSheetMale),AB516,FALSE)","v":0},null,{"$f":"VLOOKUP($B515,IF($F512=\"F\",TeamSheetFemale,TeamSheetMale),AC516,FALSE)","v":"Lucca Watson-Quilter"},null,{"$f":"VLOOKUP($B515,IF($F512=\"F\",TeamSheetFemale,TeamSheetMale),AD516,FALSE)","v":"Darian Moore"},null,"9","14","19","24","29","34","39","44"]
[31,null,null,null,null,{"$f":"IF(MID(D518,5,1)=\"F\",\"F\",\"M\")","v":"M"},{"$f":"G512","v":"Ban"},null,{"$f":"I512","v":"Bic"},null,{"$f":"K512","v":"DASH"},null,{"$f":"M512","v":"Kett"},null,{"$f":"O512","v":"Rad"},null,{"$f":"Q512","v":"Tam"},null,{"$f":"S512","v":"Wreake"},null,{"$f":"U512","v":"Worc"}]
[32,87,{"$f":"VLOOKUP(B518,EventsOrder,2,FALSE)","v":5.2},{"$f":"VLOOKUP(B518,EventsOrder,4,FALSE)","v":"U17 Men"},"A",1,{"$f":"VLOOKUP($B519,IF($F517=\"F\",TeamSheetFemale,TeamSheetMale),W518,FALSE)","v":0},null,{"$f":"VLOOKUP($B519,IF($F517=\"F\",TeamSheetFemale,TeamSheetMale),X518,FALSE)","v":0},null,{"$f":"VLOOKUP($B519,IF($F517=\"F\",TeamSheetFemale,TeamSheetMale),Y518,FALSE)","v":0},null,{"$f":"VLOOKUP($B519,IF($F517=\"F\",TeamSheetFemale,TeamSheetMale),Z518,FALSE)","v":"Tyrese Paris-Smith"},null,{"$f":"VLOOKUP($B519,IF($F517=\"F\",TeamSheetFemale,TeamSheetMale),AA518,FALSE)","v":"Harry New"},null,{"$f":"VLOOKUP($B519,IF($F517=\"F\",TeamSheetFemale,TeamSheetMale),AB518,FALSE)","v":0},null,{"$f":"VLOOKUP($B519,IF($F517=\"F\",TeamSheetFemale,TeamSheetMale),AC518,FALSE)","v":0},null,{"$f":"VLOOKUP($B519,IF($F517=\"F\",TeamSheetFemale,TeamSheetMale),AD518,FALSE)","v":"Josh Bentley"},null,7,12,17,22,27,32,37,42]
[33,{"$f":"B518&\"R\"","v":"87R"},null,null,null,2,{"$f":"VLOOKUP($B519,IF($F517=\"F\",TeamSheetFemale,TeamSheetMale),W519,FALSE)","v":0},null,{"$f":"VLOOKUP($B519,IF($F517=\"F\",TeamSheetFemale,TeamSheetMale),X519,FALSE)","v":0},null,{"$f":"VLOOKUP($B519,IF($F517=\"F\",TeamSheetFemale,TeamSheetMale),Y519,FALSE)","v":0},null,{"$f":"VLOOKUP($B519,IF($F517=\"F\",TeamSheetFemale,TeamSheetMale),Z519,FALSE)","v":"Achim Loibl"},null,{"$f":"VLOOKUP($B519,IF($F517=\"F\",TeamSheetFemale,TeamSheetMale),AA519,FALSE)","v":"Brett Halsey"},null,{"$f":"VLOOKUP($B519,IF($F517=\"F\",TeamSheetFemale,TeamSheetMale),AB519,FALSE)","v":0},null,{"$f":"VLOOKUP($B519,IF($F517=\"F\",TeamSheetFemale,TeamSheetMale),AC519,FALSE)","v":0},null,{"$f":"VLOOKUP($B519,IF($F517=\"F\",TeamSheetFemale,TeamSheetMale),AD519,FALSE)","v":"Reiss Francis"},null,"9","14","19","24","29","34","39","44"]
[34,{"$f":"B518&\"S\"","v":"87S"},null,{"$f":"VLOOKUP(B518,EventsOrder,3,FALSE)","v":"4 x 100m"},"B",3,{"$f":"VLOOKUP($B520,IF($F517=\"F\",TeamSheetFemale,TeamSheetMale),W520,FALSE)","v":0},null,{"$f":"VLOOKUP($B520,IF($F517=\"F\",TeamSheetFemale,TeamSheetMale),X520,FALSE)","v":0},null,{"$f":"VLOOKUP($B520,IF($F517=\"F\",TeamSheetFemale,TeamSheetMale),Y520,FALSE)","v":0},null,{"$f":"VLOOKUP($B520,IF($F517=\"F\",TeamSheetFemale,TeamSheetMale),Z520,FALSE)","v":"Josh Cannell"},null,{"$f":"VLOOKUP($B520,IF($F517=\"F\",TeamSheetFemale,TeamSheetMale),AA520,FALSE)","v":"Blake Strickland Bennett"},null,{"$f":"VLOOKUP($B520,IF($F517=\"F\",TeamSheetFemale,TeamSheetMale),AB520,FALSE)","v":0},null,{"$f":"VLOOKUP($B520,IF($F517=\"F\",TeamSheetFemale,TeamSheetMale),AC520,FALSE)","v":0},null,{"$f":"VLOOKUP($B520,IF($F517=\"F\",TeamSheetFemale,TeamSheetMale),AD520,FALSE)","v":"Sam Lowe"},null,7,12,17,22,27,32,37,42]
[35,null,null,null,null,4,{"$f":"VLOOKUP($B520,IF($F517=\"F\",TeamSheetFemale,TeamSheetMale),W521,FALSE)","v":0},null,{"$f":"VLOOKUP($B520,IF($F517=\"F\",TeamSheetFemale,TeamSheetMale),X521,FALSE)","v":0},null,{"$f":"VLOOKUP($B520,IF($F517=\"F\",TeamSheetFemale,TeamSheetMale),Y521,FALSE)","v":0},null,{"$f":"VLOOKUP($B520,IF($F517=\"F\",TeamSheetFemale,TeamSheetMale),Z521,FALSE)","v":"Josh Owen"},null,{"$f":"VLOOKUP($B520,IF($F517=\"F\",TeamSheetFemale,TeamSheetMale),AA521,FALSE)","v":"Sam Nelson"},null,{"$f":"VLOOKUP($B520,IF($F517=\"F\",TeamSheetFemale,TeamSheetMale),AB521,FALSE)","v":0},null,{"$f":"VLOOKUP($B520,IF($F517=\"F\",TeamSheetFemale,TeamSheetMale),AC521,FALSE)","v":0},null,{"$f":"VLOOKUP($B520,IF($F517=\"F\",TeamSheetFemale,TeamSheetMale),AD521,FALSE)","v":"Ollie Gould"},null,"9","14","19","24","29","34","39","44"]

{"sheet":"Match Positions","index":9,"n_rows":39,"n_cols":13,"rows_kept":39,"cut":false,"hidden":false,"merged":[[1,1,1,9],[19,8,19,9],[3,10,3,11],[19,10,19,11]]}
[null,null,1,2,3,4,5,6,7,8]
[null,{"$f":"'Event Details'!D5","v":"Heart of England League"}]
[null,null,null,null,"Male",null,null,null,null,null,"After",{"$f":"K16+K32","v":77},"Events"]
[null,"Division",{"$f":"'Event Details'!D9","v":2},null,"Venue:",{"$f":"+'Event Details'!D17","v":"Nunnery Wood"},null,"Date:",{"$f":"'Event Details'!B17","v":"5th June 2016"},null,"No of Events"]
[null,null,"1st","2nd","3rd","4th","5th","6th","7th","8th","So Far","Total"]
[null,"U11 Male",{"$f":"VLOOKUP($C$1,U11b,5,FALSE)","v":"Ban"},{"$f":"VLOOKUP($D$1,U11b,5,FALSE)","v":"Kett"},{"$f":"VLOOKUP($E$1,U11b,5,FALSE)","v":"Bic"},{"$f":"VLOOKUP($F$1,U11b,5,FALSE)","v":"Worc"},{"$f":"VLOOKUP($G$1,U11b,5,FALSE)","v":"Rad"},{"$f":"VLOOKUP($H$1,U11b,5,FALSE)","v":"Wreake"},{"$f":"VLOOKUP($I$1,U11b,5,FALSE)","v":"Tam"},{"$f":"VLOOKUP($J$1,U11b,5,FALSE)","v":"DASH"}]
[null,null,{"$f":"'Results Summary'!$D6","v":54},{"$f":"'Results Summary'!$D7","v":47},{"$f":"'Results Summary'!$D8","v":40},{"$f":"'Results Summary'!$D9","v":34},{"$f":"'Results Summary'!$D10","v":32},{"$f":"'Results Summary'!$D11","v":32},{"$f":"'Results Summary'!$D12","v":26},{"$f":"'Results Summary'!$D13","v":17},{"$f":"'Results by Age Group'!AE52","v":7},{"$f":"'Results by Age Group'!B52","v":6}]
[null,"U13 Male",{"$f":"VLOOKUP($C$1,U13B,5,FALSE)","v":"Worc"},{"$f":"VLOOKUP($D$1,U13B,5,FALSE)","v":"Rad"},{"$f":"VLOOKUP($E$1,U13B,5,FALSE)","v":"Kett"},{"$f":"VLOOKUP($F$1,U13B,5,FALSE)","v":"Bic"},{"$f":"VLOOKUP($G$1,U13B,5,FALSE)","v":"Wreake"},{"$f":"VLOOKUP($H$1,U13B,5,FALSE)","v":"Tam"},{"$f":"VLOOKUP($I$1,U13B,5,FALSE)","v":"DASH"},{"$f":"VLOOKUP($J$1,U13B,5,FALSE)","v":"Ban"}]
[null,null,{"$f":"'Results Summary'!J6","v":115},{"$f":"'Results Summary'!J7","v":112},{"$f":"'Results Summary'!J8","v":93},{"$f":"'Results Summary'!J9","v":83},{"$f":"'Results Summary'!J10","v":81},{"$f":"'Results Summary'!J11","v":63},{"$f":"'Results Summary'!J12","v":58},{"$f":"'Results Summary'!J13","v":47},{"$f":"'Results by Age Group'!AE160","v":9},{"$f":"'Results by Age Group'!B160","v":11}]
[null,"U15 Male",{"$f":"VLOOKUP($C$1,U15B,5,FALSE)","v":"Worc"},{"$f":"VLOOKUP($D$1,U15B,5,FALSE)","v":"Kett"},{"$f":"VLOOKUP($E$1,U15B,5,FALSE)","v":"Wreake"},{"$f":"VLOOKUP($F$1,U15B,5,FALSE)","v":"DASH"},{"$f":"VLOOKUP($G$1,U15B,5,FALSE)","v":"Rad"},{"$f":"VLOOKUP($H$1,U15B,5,FALSE)","v":"Bic"},{"$f":"VLOOKUP($I$1,U15B,5,FALSE)","v":"Tam"},{"$f":"VLOOKUP($J$1,U15B,5,FALSE)","v":"Ban"}]
[null,null,{"$f":"'Results Summary'!P6","v":106},{"$f":"'Results Summary'!P7","v":105},{"$f":"'Results Summary'!P8","v":91},{"$f":"'Results Summary'!P9","v":85},{"$f":"'Results Summary'!P10","v":67},{"$f":"'Results Summary'!P11","v":61},{"$f":"'Results Summary'!P12","v":46},{"$f":"'Results Summary'!P13","v":36},{"$f":"'Results by Age Group'!AE271","v":11},{"$f":"'Results by Age Group'!B271","v":12}]
[null,"U17 Men",{"$f":"VLOOKUP($C$1,U17M,5,FALSE)","v":"Rad"},{"$f":"VLOOKUP($D$1,U17M,5,FALSE)","v":"Worc"},{"$f":"VLOOKUP($E$1,U17M,5,FALSE)","v":"Kett"},{"$f":"VLOOKUP($F$1,U17M,5,FALSE)","v":"Wreake"},{"$f":"VLOOKUP($G$1,U17M,5,FALSE)","v":"Ban"},{"$f":"VLOOKUP($H$1,U17M,5,FALSE)","v":"DASH"},{"$f":"VLOOKUP($I$1,U17M,5,FALSE)","v":"Tam"},{"$f":"VLOOKUP($J$1,U17M,5,FALSE)","v":"Bic"}]
[null,null,{"$f":"'Results Summary'!D19","v":137},{"$f":"'Results Summary'!D20","v":119},{"$f":"'Results Summary'!D21","v":49},{"$f":"'Results Summary'!D22","v":43},{"$f":"'Results Summary'!D23","v":39},{"$f":"'Results Summary'!D24","v":29},{"$f":"'Results Summary'!D25","v":22},{"$f":"'Results Summary'!D26","v":14},{"$f":"'Results by Age Group'!AE385","v":11},{"$f":"'Results by Age Group'!B385","v":12}]
[null,"Male Total",{"$f":"VLOOKUP($C$1,MenTot,6,FALSE)","v":"Worc"},{"$f":"VLOOKUP($D$1,MenTot,6,FALSE)","v":"Rad"},{"$f":"VLOOKUP($E$1,MenTot,6,FALSE)","v":"Kett"},{"$f":"VLOOKUP($F$1,MenTot,6,FALSE)","v":"Wreake"},{"$f":"VLOOKUP($G$1,MenTot,6,FALSE)","v":"DASH"},{"$f":"VLOOKUP($H$1,MenTot,6,FALSE)","v":"Bic"},{"$f":"VLOOKUP($I$1,MenTot,6,FALSE)","v":"Tam"},{"$f":"VLOOKUP($J$1,MenTot,6,FALSE)","v":"Ban"}]
[null,"Pts",{"$f":"'Results Summary'!I19","v":340},{"$f":"'Results Summary'!I20","v":316},{"$f":"'Results Summary'!I21","v":247},{"$f":"'Results Summary'!I22","v":215},{"$f":"'Results Summary'!I23","v":172},{"$f":"'Results Summary'!I24","v":158},{"$f":"'Results Summary'!I25","v":131},{"$f":"'Results Summary'!I26","v":122}]
[null,"A/Pts",{"$f":"'Results Summary'!J19","v":23},{"$f":"'Results Summary'!J20","v":19},{"$f":"'Results Summary'!J21","v":19},{"$f":"'Results Summary'!J22","v":15},{"$f":"'Results Summary'!J23","v":10},{"$f":"'Results Summary'!J24","v":9},{"$f":"'Results Summary'!J25","v":7},{"$f":"'Results Summary'!J26","v":6},{"$f":"SUM(K7:K13)","v":38},{"$f":"SUM(L7:L14)","v":41}]
[null,"Position",{"$f":"RANK(C16,$C16:$J16)","v":1},2,2,4,5,6,7,8]
[]
[null,null,null,null,"Female"]
[null,"Division",{"$f":"C4","v":2},null,"Venue:",{"$f":"F4","v":"Nunnery Wood"},null,"Date:",{"$f":"I4","v":"5th June 2016"},null,"No of Events"]
[null,null,"1st","2nd","3rd","4th","5th","6th","7th","8th","So Far","Total"]
[null,"U11 Female",{"$f":"VLOOKUP($C$1,U11G,5,FALSE)","v":"Bic"},{"$f":"VLOOKUP($D$1,U11G,5,FALSE)","v":"Wreake"},{"$f":"VLOOKUP($E$1,U11G,5,FALSE)","v":"Ban"},{"$f":"VLOOKUP($F$1,U11G,5,FALSE)","v":"Rad"},{"$f":"VLOOKUP($G$1,U11G,5,FALSE)","v":"Tam"},{"$f":"VLOOKUP($H$1,U11G,5,FALSE)","v":"Kett"},{"$f":"VLOOKUP($I$1,U11G,5,FALSE)","v":"Worc"},{"$f":"VLOOKUP($J$1,U11G,5,FALSE)","v":"DASH"}]
[null,null,{"$f":"'Results Summary'!$D32","v":53},{"$f":"'Results Summary'!$D33","v":49},{"$f":"'Results Summary'!$D34","v":44},{"$f":"'Results Summary'!$D35","v":41},{"$f":"'Results Summary'!$D36","v":31},{"$f":"'Results Summary'!$D37","v":26},{"$f":"'Results Summary'!$D38","v":24},{"$f":"'Results Summary'!$D39","v":10},{"$f":"'Results by Age Group'!AE106","v":7},{"$f":"'Results by Age Group'!B106","v":7}]
[null,"U13 Female",{"$f":"VLOOKUP(C$1,U13G,5,FALSE)","v":"Worc"},"Wreake","Ban","Kett","Rad","Tam","Bic","DASH"]
[null,null,{"$f":"'Results Summary'!J32","v":126},{"$f":"'Results Summary'!J33","v":117},{"$f":"'Results Summary'!J34","v":112.5},{"$f":"'Results Summary'!J35","v":80.5},{"$f":"'Results Summary'!J36","v":79},{"$f":"'Results Summary'!J37","v":74},{"$f":"'Results Summary'!J38","v":68},{"$f":"'Results Summary'!J39","v":46},{"$f":"'Results by Age Group'!AE214","v":10},{"$f":"'Results by Age Group'!B214","v":11}]
[null,"U15 Female",{"$f":"VLOOKUP(C$1,U15G,5,FALSE)","v":"Worc"},"Rad","Kett","DASH","Wreake","Bic","Ban","Tam"]
[null,null,{"$f":"'Results Summary'!P32","v":143},{"$f":"'Results Summary'!P33","v":122},{"$f":"'Results Summary'!P34","v":102},{"$f":"'Results Summary'!P35","v":101},{"$f":"'Results Summary'!P36","v":100},{"$f":"'Results Summary'!P37","v":68},{"$f":"'Results Summary'!P38","v":49},{"$f":"'Results Summary'!P39","v":40},{"$f":"'Results by Age Group'!AE328","v":11},{"$f":"'Results by Age Group'!B328","v":12}]
[null,"U17 Female",{"$f":"VLOOKUP(C$1,U17W,5,FALSE)","v":"Rad"},"Worc","Kett","Wreake","Ban","DASH","Tam","Bic"]
[null,null,{"$f":"'Results Summary'!D46","v":150},{"$f":"'Results Summary'!D47","v":105},{"$f":"'Results Summary'!D48","v":84},{"$f":"'Results Summary'!D49","v":68},{"$f":"'Results Summary'!D50","v":66},{"$f":"'Results Summary'!D51","v":30},{"$f":"'Results Summary'!D52","v":25},{"$f":"'Results Summary'!D53","v":24},{"$f":"'Results by Age Group'!AE442","v":11},{"$f":"'Results by Age Group'!B442","v":12}]
[null,"Female Total",{"$f":"VLOOKUP(C$1,WomTot,6,FALSE)","v":"Worc"},"Rad","Kett","Wreake","Ban","DASH","Bic","Tam"]
[null,"Pts",{"$f":"'Results Summary'!I46","v":374},{"$f":"'Results Summary'!I47","v":351},{"$f":"'Results Summary'!I48","v":266.5},{"$f":"'Results Summary'!I49","v":285},{"$f":"'Results Summary'!I50","v":227.5},{"$f":"'Results Summary'!I51","v":177},{"$f":"'Results Summary'!I52","v":160},{"$f":"'Results Summary'!I53","v":139}]
[null,"A/Pts",{"$f":"'Results Summary'!J46","v":23},{"$f":"'Results Summary'!J47","v":19},{"$f":"'Results Summary'!J48","v":17},{"$f":"'Results Summary'!J49","v":16},{"$f":"'Results Summary'!J50","v":12},{"$f":"'Results Summary'!J51","v":9},{"$f":"'Results Summary'!J52","v":6},{"$f":"'Results Summary'!J53","v":6},{"$f":"SUM(K23:K29)","v":39},{"$f":"SUM(L23:L30)","v":42}]
[null,"Position",{"$f":"RANK(C32,$C32:$J32)","v":1},2,3,4,5,6,7,7]
[]
[null,"Overall",{"$f":"VLOOKUP(C$1,OverTot,6,FALSE)","v":"Worc"},"Rad","Kett","Wreake","DASH","Ban","Bic","Tam"]
[null,"Pts",{"$f":"'Results Summary'!O46","v":714},{"$f":"'Results Summary'!O47","v":667},{"$f":"'Results Summary'!O48","v":513.5},{"$f":"'Results Summary'!O49","v":500},{"$f":"'Results Summary'!O50","v":349},{"$f":"'Results Summary'!O51","v":349.5},{"$f":"'Results Summary'!O52","v":318},{"$f":"'Results Summary'!O53","v":270}]
[null,"A/Pts",{"$f":"'Results Summary'!P46","v":16},{"$f":"'Results Summary'!P47","v":13.5},{"$f":"'Results Summary'!P48","v":12.5},{"$f":"'Results Summary'!P49","v":10},{"$f":"'Results Summary'!P50","v":7},{"$f":"'Results Summary'!P51","v":5},{"$f":"'Results Summary'!P52","v":4.5},{"$f":"'Results Summary'!P53","v":3.5}]
[null,"L/Pts",{"$f":"'Results Summary'!Q46","v":8},{"$f":"'Results Summary'!Q47","v":7},{"$f":"'Results Summary'!Q48","v":6},{"$f":"'Results Summary'!Q49","v":5},{"$f":"'Results Summary'!Q50","v":4},{"$f":"'Results Summary'!Q51","v":3},{"$f":"'Results Summary'!Q52","v":2},{"$f":"'Results Summary'!Q53","v":1}]
[null,"Position",{"$f":"RANK(C38,$C38:$J38)","v":1},2,3,4,5,6,7,8]

{"sheet":"Results Summary","index":10,"n_rows":71,"n_cols":60,"rows_kept":71,"cut":false,"hidden":false,"merged":[[14,47,14,58],[41,47,41,58],[57,47,57,58],[3,1,4,1],[3,6,4,6],[3,12,4,12],[16,1,17,1],[16,6,17,6],[43,1,44,1],[43,6,44,6],[43,12,44,12],[29,1,30,1],[29,12,30,12],[29,6,30,6]]}
[]
[null,{"$f":"'Event Details'!D5","v":"Heart of England League"},null,null,null,{"$f":"'Event Details'!B17","v":"5th June 2016"},null,null,null,{"$f":"\"Division \"&'Event Details'!D9","v":"Division 2"},null,null,{"$f":"'Event Details'!F17","v":"Worcester"}]
[]
["rev","points","Under 11 Male",null,null,null,"points","Under 13 Male",null,null,null,null,"points","Under 15 Male",null,null,null,null,null,null,null,null,"rev","act","Under 11 Boys",null,null,null,"rev","act","Under 13 Boys",null,null,null,"rev","act","Under 15 Boys"]
[null,null,"Club","A/Pts","L/Pts",null,null,"Club",null,"A/Pts","L/Pts",null,null,"Club",null,"A/Pts","L/Pts",null,null,null,null,null,"pos","pos","Club","A/Pts",null,null,"pos","pos","Club","A/Pts",null,null,"pos","pos","Club","A/Pts"]
[1,{"$f":"'Event Details'!C32","v":8},{"$f":"VLOOKUP($A6,U11b,3,FALSE)","v":"Banbury"},{"$f":"VLOOKUP($A6,U11b,4,FALSE)","v":54},{"$f":"IF(AND(D6>0,D6<>\"\"),SUMIF(D$6:D$13,D6,B$6:B$13)/COUNTIF(D$6:D$13,D6),0)","v":8},null,{"$f":"B6","v":8},{"$f":"VLOOKUP($A6,U13B,3,FALSE)","v":"Worcester"},null,{"$f":"VLOOKUP($A6,U13B,4,FALSE)","v":115},{"$f":"IF(AND(J6>0,J6<>\"\"),SUMIF(J$6:J$13,J6,G$6:G$13)/COUNTIF(J$6:J$13,J6),0)","v":8},null,{"$f":"B6","v":8},{"$f":"VLOOKUP($A6,U15B,3,FALSE)","v":"Worcester"},null,{"$f":"VLOOKUP($A6,U15B,4,FALSE)","v":106},{"$f":"IF(AND(P6>0,P6<>\"\"),SUMIF(P$6:P$13,P6,M$6:M$13)/COUNTIF(P$6:P$13,P6),0)","v":8},null,null,null,null,null,{"$f":"RANK(Z6,Z$6:Z$13,0)+COUNTIF(Z$6:Z6,Z6)-1","v":1},{"$f":"'Results by Age Group'!$W53","v":1},{"$f":"'Event Details'!D22","v":"Banbury"},{"$f":"'Results by Age Group'!$W52","v":54},{"$f":"'Event Details'!$G22","v":"Ban"},null,{"$f":"RANK(AF6,AF$6:AF$13,0)+COUNTIF(AF$6:AF6,AF6)-1","v":8},{"$f":"'Results by Age Group'!$W161","v":8},{"$f":"Y6","v":"Banbury"},{"$f":"'Results by Age Group'!$W160","v":47},{"$f":"'Event Details'!$G22","v":"Ban"},null,{"$f":"RANK(AL6,AL$6:AL$13,0)+COUNTIF(AL$6:AL6,AL6)-1","v":8},{"$f":"'Results by Age Group'!$W272","v":8},{"$f":"AE6","v":"Banbury"},{"$f":"'Results by Age Group'!$W271","v":36},{"$f":"'Event Details'!$G22","v":"Ban"}]
[2,{"$f":"B6-1","v":7},{"$f":"VLOOKUP($A7,U11b,3,FALSE)","v":"Kettering"},{"$f":"VLOOKUP($A7,U11b,4,FALSE)","v":47},{"$f":"IF(AND(D7>0,D7<>\"\"),SUMIF(D$6:D$13,D7,B$6:B$13)/COUNTIF(D$6:D$13,D7),0)","v":7},null,{"$f":"B7","v":7},{"$f":"VLOOKUP($A7,U13B,3,FALSE)","v":"Radley"},null,{"$f":"VLOOKUP($A7,U13B,4,FALSE)","v":112},{"$f":"IF(AND(J7>0,J7<>\"\"),SUMIF(J$6:J$13,J7,G$6:G$13)/COUNTIF(J$6:J$13,J7),0)","v":7},null,{"$f":"B7","v":7},{"$f":"VLOOKUP($A7,U15B,3,FALSE)","v":"Kettering"},null,{"$f":"VLOOKUP($A7,U15B,4,FALSE)","v":105},{"$f":"IF(AND(P7>0,P7<>\"\"),SUMIF(P$6:P$13,P7,M$6:M$13)/COUNTIF(P$6:P$13,P7),0)","v":7},null,null,null,null,null,{"$f":"RANK(Z7,Z$6:Z$13,0)+COUNTIF(Z$6:Z7,Z7)-1","v":3},{"$f":"'Results by Age Group'!$X53","v":3},{"$f":"'Event Details'!D23","v":"Bicester"},{"$f":"'Results by Age Group'!$X52","v":40},{"$f":"'Event Details'!$G23","v":"Bic"},null,{"$f":"RANK(AF7,AF$6:AF$13,0)+COUNTIF(AF$6:AF7,AF7)-1","v":4},{"$f":"'Results by Age Group'!$X161","v":4},{"$f":"Y7","v":"Bicester"},{"$f":"'Results by Age Group'!$X160","v":83},{"$f":"'Event Details'!$G23","v":"Bic"},null,{"$f":"RANK(AL7,AL$6:AL$13,0)+COUNTIF(AL$6:AL7,AL7)-1","v":6},{"$f":"'Results by Age Group'!$X272","v":6},{"$f":"AE7","v":"Bicester"},{"$f":"'Results by Age Group'!$X271","v":61},{"$f":"'Event Details'!$G23","v":"Bic"}]
[3,{"$f":"B7-1","v":6},"Bicester",40,6,null,6,"Kettering",null,93,6,null,6,"Wreake Runners",null,91,6,null,null,null,null,null,{"$f":"RANK(Z8,Z$6:Z$13,0)+COUNTIF(Z$6:Z8,Z8)-1","v":8},{"$f":"'Results by Age Group'!$Y53","v":8},{"$f":"'Event Details'!D24","v":"Dudley & S'bridge"},{"$f":"'Results by Age Group'!$Y52","v":17},{"$f":"'Event Details'!$G24","v":"DASH"},null,{"$f":"RANK(AF8,AF$6:AF$13,0)+COUNTIF(AF$6:AF8,AF8)-1","v":7},{"$f":"'Results by Age Group'!$Y161","v":7},"Dudley & S'bridge",{"$f":"'Results by Age Group'!$Y160","v":58},{"$f":"'Event Details'!$G24","v":"DASH"},null,{"$f":"RANK(AL8,AL$6:AL$13,0)+COUNTIF(AL$6:AL8,AL8)-1","v":4},{"$f":"'Results by Age Group'!$Y272","v":4},"Dudley & S'bridge",{"$f":"'Results by Age Group'!$Y271","v":85},{"$f":"'Event Details'!$G24","v":"DASH"}]
[4,5,"Worcester",34,5,null,5,"Bicester",null,83,5,null,5,"Dudley & S'bridge",null,85,5,null,null,null,null,null,{"$f":"RANK(Z9,Z$6:Z$13,0)+COUNTIF(Z$6:Z9,Z9)-1","v":2},{"$f":"'Results by Age Group'!$Z53","v":2},{"$f":"'Event Details'!D25","v":"Kettering"},{"$f":"'Results by Age Group'!$Z52","v":47},{"$f":"'Event Details'!$G25","v":"Kett"},null,{"$f":"RANK(AF9,AF$6:AF$13,0)+COUNTIF(AF$6:AF9,AF9)-1","v":3},{"$f":"'Results by Age Group'!$Z161","v":3},"Kettering",{"$f":"'Results by Age Group'!$Z160","v":93},{"$f":"'Event Details'!$G25","v":"Kett"},null,{"$f":"RANK(AL9,AL$6:AL$13,0)+COUNTIF(AL$6:AL9,AL9)-1","v":2},{"$f":"'Results by Age Group'!$Z272","v":2},"Kettering",{"$f":"'Results by Age Group'!$Z271","v":105},{"$f":"'Event Details'!$G25","v":"Kett"}]
[5,4,"Radley",32,3.5,null,4,"Wreake Runners",null,81,4,null,4,"Radley",null,67,4,null,null,null,null,null,{"$f":"RANK(Z10,Z$6:Z$13,0)+COUNTIF(Z$6:Z10,Z10)-1","v":5},{"$f":"'Results by Age Group'!$AA53","v":5},{"$f":"'Event Details'!D26","v":"Radley"},{"$f":"'Results by Age Group'!$AA52","v":32},{"$f":"'Event Details'!$G26","v":"Rad"},null,{"$f":"RANK(AF10,AF$6:AF$13,0)+COUNTIF(AF$6:AF10,AF10)-1","v":2},{"$f":"'Results by Age Group'!$AA161","v":2},"Radley",{"$f":"'Results by Age Group'!$AA160","v":112},{"$f":"'Event Details'!$G26","v":"Rad"},null,{"$f":"RANK(AL10,AL$6:AL$13,0)+COUNTIF(AL$6:AL10,AL10)-1","v":5},{"$f":"'Results by Age Group'!$AA272","v":5},"Radley",{"$f":"'Results by Age Group'!$AA271","v":67},{"$f":"'Event Details'!$G26","v":"Rad"}]
[6,3,"Wreake Runners",32,3.5,null,3,"Tamworth",null,63,3,null,3,"Bicester",null,61,3,null,null,null,null,null,{"$f":"RANK(Z11,Z$6:Z$13,0)+COUNTIF(Z$6:Z11,Z11)-1","v":7},{"$f":"'Results by Age Group'!$AB53","v":7},{"$f":"'Event Details'!D27","v":"Tamworth"},{"$f":"'Results by Age Group'!$AB52","v":26},{"$f":"'Event Details'!$G27","v":"Tam"},null,{"$f":"RANK(AF11,AF$6:AF$13,0)+COUNTIF(AF$6:AF11,AF11)-1","v":6},{"$f":"'Results by Age Group'!$AB161","v":6},"Tamworth",{"$f":"'Results by Age Group'!$AB160","v":63},{"$f":"'Event Details'!$G27","v":"Tam"},null,{"$f":"RANK(AL11,AL$6:AL$13,0)+COUNTIF(AL$6:AL11,AL11)-1","v":7},{"$f":"'Results by Age Group'!$AB272","v":7},"Tamworth",{"$f":"'Results by Age Group'!$AB271","v":46},{"$f":"'Event Details'!$G27","v":"Tam"}]
[7,{"$f":"IF(B11<=1,0,B11-1)","v":2},"Tamworth",26,2,null,2,"Dudley & S'bridge",null,58,2,null,2,"Tamworth",null,46,2,null,null,null,null,null,{"$f":"RANK(Z12,Z$6:Z$13,0)+COUNTIF(Z$6:Z12,Z12)-1","v":6},{"$f":"'Results by Age Group'!$AC53","v":5},{"$f":"'Event Details'!D28","v":"Wreake Runners"},{"$f":"'Results by Age Group'!$AC52","v":32},{"$f":"'Event Details'!$G28","v":"Wreake"},null,{"$f":"RANK(AF12,AF$6:AF$13,0)+COUNTIF(AF$6:AF12,AF12)-1","v":5},{"$f":"'Results by Age Group'!$AC161","v":5},"Wreake Runners",{"$f":"'Results by Age Group'!$AC160","v":81},{"$f":"'Event Details'!$G28","v":"Wreake"},null,{"$f":"RANK(AL12,AL$6:AL$13,0)+COUNTIF(AL$6:AL12,AL12)-1","v":3},{"$f":"'Results by Age Group'!$AC272","v":3},"Wreake Runners",{"$f":"'Results by Age Group'!$AC271","v":91},{"$f":"'Event Details'!$G28","v":"Wreake"}]
[8,{"$f":"IF(B12<=1,0,B12-1)","v":1},"Dudley & S'bridge",17,1,null,1,"Banbury",null,47,1,null,1,"Banbury",null,36,1,null,null,null,null,null,{"$f":"RANK(Z13,Z$6:Z$13,0)+COUNTIF(Z$6:Z13,Z13)-1","v":4},{"$f":"'Results by Age Group'!$AD53","v":4},{"$f":"'Event Details'!D29","v":"Worcester"},{"$f":"'Results by Age Group'!$AD52","v":34},{"$f":"'Event Details'!$G29","v":"Worc"},null,{"$f":"RANK(AF13,AF$6:AF$13,0)+COUNTIF(AF$6:AF13,AF13)-1","v":1},{"$f":"'Results by Age Group'!$AD161","v":1},"Worcester",{"$f":"'Results by Age Group'!$AD160","v":115},{"$f":"'Event Details'!$G29","v":"Worc"},null,{"$f":"RANK(AL13,AL$6:AL$13,0)+COUNTIF(AL$6:AL13,AL13)-1","v":1},{"$f":"'Results by Age Group'!$AD272","v":1},"Worcester",{"$f":"'Results by Age Group'!$AD271","v":106},{"$f":"'Event Details'!$G29","v":"Worc"},null,null,null,null,3,null,null,null,2,3,2,4]
[null,null,null,null,{"$f":"SUM(E6:E13)","v":36},null,null,null,null,null,{"$f":"SUM(K6:K13)","v":36},null,null,null,null,null,{"$f":"SUM(Q6:Q13)","v":36}]
[]
[null,null,null,null,null,null,null,null,null,null,null,null,null,null,null,null,null,null,null,null,null,null,null,null,null,null,null,null,null,null,null,null,null,null,null,null,null,null,null,null,"Teams",null,null,null,null,null,null,null,null,null,null,"Rev."]
["rev","points","Under 17 Men",null,null,null,"points","Male Total","Tot",null,null,null,null,"Scoring System",null,null,null,null,null,null,null,null,"rev","act","Under 17 Men",null,null,null,"rev","act","Men Total","Tot",null,null,null,null,null,null,null,null,null,"Club","A/Pts","L/Pts","Pos","Club",null,"Club","L/Pts","A/Pts","Pts","Pos"]
["position",null,"Club","A/Pts","L/Pts",null,null,"Club","Pts","A/Pts","L/Pts",null,null,null,null,null,null,null,null,null,null,null,"pos","pos","Club","A/Pts",null,null,"pos","pos","Club","Pts","A/Pts"]
[1,{"$f":"B6","v":8},{"$f":"VLOOKUP($A19,U17M,3,FALSE)","v":"Radley"},{"$f":"VLOOKUP($A19,U17M,4,FALSE)","v":137},{"$f":"IF(AND(D19>0,D19<>\"\"),SUMIF(D$19:D$26,D19,B$19:B$26)/COUNTIF(D$19:D$26,D19),0)","v":8},null,{"$f":"B6","v":8},{"$f":"VLOOKUP($A19,MenTot,3,FALSE)","v":"Worcester"},{"$f":"VLOOKUP(A19,MenTot,4,FALSE)","v":340},{"$f":"VLOOKUP(A19,MenTot,5,FALSE)","v":23},{"$f":"IF(AND(J19>0,J19<>\"\"),SUMIF(J$19:J$26,J19,G$19:G$26)/COUNTIF(J$19:J$26,J19),0)","v":8},null,null,"To obtain Male & Female",null,null,null,null,null,null,null,null,{"$f":"RANK(Z19,Z$19:Z$26,0)+COUNTIF(Z$19:Z19,Z19)-1","v":5},{"$f":"'Results by Age Group'!$W386","v":5},{"$f":"Y6","v":"Banbury"},{"$f":"'Results by Age Group'!$W385","v":39},{"$f":"'Event Details'!$G22","v":"Ban"},null,{"$f":"VLOOKUP(AE19,AV$19:AZ$26,5,FALSE)","v":8},{"$f":"RANK(AG19,AG$19:AG$26)","v":8},{"$f":"Y19","v":"Banbury"},{"$f":"VLOOKUP(AE19,U13BSum,3,FALSE)+VLOOKUP(AE19,U15BSum,3,FALSE)+VLOOKUP(AE19,U17MSum,2,FALSE)","v":122},{"$f":"VLOOKUP(AE19,U13BSum,4,FALSE)+VLOOKUP(AE19,U15BSum,4,FALSE)+VLOOKUP(AE19,U17MSum,3,FALSE)","v":6},{"$f":"'Event Details'!$G22","v":"Ban"},null,null,null,null,null,null,1,{"$f":"Y6","v":"Banbury"},{"$f":"AF19","v":122},{"$f":"AG19","v":6},{"$f":"RANK(AR19,AR$19:AR$26,0)+COUNTIF(AR$19:AR19,AR19)-1","v":8},{"$f":"Y6","v":"Banbury"},null,{"$f":"IF(AO19>0,VLOOKUP(AO19,AS$19:AT$26,AV$13,FALSE),0)","v":"Worcester"},{"$f":"IF(AO19>0,VLOOKUP(AV19,AE$19:AG$26,AW$13,FALSE),0)","v":23},{"$f":"IF(AO19>0,VLOOKUP(AV19,AE$19:AG$26,AX$13,FALSE),0)","v":340},{"$f":"IF(AW19>0,SUMIF(AW$19:AW$26,AW19,G$19:G$26)/COUNTIF(AW$19:AW$26,AW19),0)","v":8},{"$f":"VLOOKUP(AV19,AP$19:AS$26,4,FALSE)+SUM(BA19:BG19)","v":1},{"$f":"IF(AND($AW19=$AW20,$AX19<$AX20),1,0)","v":0},{"$f":"IF(AND($AW19=$AW21,$AX19<$AX21),1,0)","v":0},{"$f":"IF(AND($AW19=$AW22,$AX19<$AX22),1,0)","v":0},{"$f":"IF(AND($AW19=$AW23,$AX19<$AX23),1,0)","v":0},{"$f":"IF(AND($AW19=$AW24,$AX19<$AX24),1,0)","v":0},{"$f":"IF(AND($AW19=$AW25,$AX19<$AX25),1,0)","v":0},{"$f":"IF(AND($AW19=$AW26,$AX19<$AX26),1,0)","v":0}]
[2,{"$f":"B7","v":7},{"$f":"VLOOKUP($A20,U17M,3,FALSE)","v":"Worcester"},{"$f":"VLOOKUP($A20,U17M,4,FALSE)","v":119},{"$f":"IF(AND(D20>0,D20<>\"\"),SUMIF(D$19:D$26,D20,B$19:B$26)/COUNTIF(D$19:D$26,D20),0)","v":7},null,{"$f":"B7","v":7},{"$f":"VLOOKUP($A20,MenTot,3,FALSE)","v":"Radley"},316,19,{"$f":"IF(AND(J20>0,J20<>\"\"),SUMIF(J$19:J$26,J20,G$19:G$26)/COUNTIF(J$19:J$26,J20),0)","v":6.5},null,null,"Aggregate Points Score (A/Pts)",null,null,null,null,null,null,null,null,{"$f":"RANK(Z20,Z$19:Z$26,0)+COUNTIF(Z$19:Z20,Z20)-1","v":8},{"$f":"'Results by Age Group'!$X386","v":8},"Bicester",{"$f":"'Results by Age Group'!$X385","v":14},{"$f":"'Event Details'!$G23","v":"Bic"},null,{"$f":"VLOOKUP(AE20,AV$19:AZ$26,5,FALSE)","v":6},{"$f":"RANK(AG20,AG$19:AG$26)","v":6},{"$f":"Y20","v":"Bicester"},158,9,{"$f":"'Event Details'!$G23","v":"Bic"},null,null,null,null,null,null,2,{"$f":"Y7","v":"Bicester"},{"$f":"AF20","v":158},{"$f":"AG20","v":9},{"$f":"RANK(AR20,AR$19:AR$26,0)+COUNTIF(AR$19:AR20,AR20)-1","v":6},{"$f":"Y7","v":"Bicester"},null,"Kettering",19,247,6.5,3,1,0,{"$f":"IF(AND($AW20=$AW23,$AX20<$AX23),1,0)","v":0},{"$f":"IF(AND($AW20=$AW24,$AX20<$AX24),1,0)","v":0},{"$f":"IF(AND($AW20=$AW25,$AX20<$AX25),1,0)","v":0},{"$f":"IF(AND($AW20=$AW26,$AX20<$AX26),1,0)","v":0},{"$f":"IF(AND($AW20=$AW19,$AX20>$AX19),-1,0)","v":0}]
[3,6,"Kettering",49,6,null,6,"Kettering",247,19,6.5,null,null,"add the three sections League",null,null,null,null,null,null,null,null,{"$f":"RANK(Z21,Z$19:Z$26,0)+COUNTIF(Z$19:Z21,Z21)-1","v":6},{"$f":"'Results by Age Group'!$Y386","v":6},"Dudley & S'bridge",{"$f":"'Results by Age Group'!$Y385","v":29},{"$f":"'Event Details'!$G24","v":"DASH"},null,5,5,"Dudley & S'bridge",172,10,{"$f":"'Event Details'!$G24","v":"DASH"},null,null,null,null,null,null,3,"Dudley & S'bridge",172,10,{"$f":"RANK(AR21,AR$19:AR$26,0)+COUNTIF(AR$19:AR21,AR21)-1","v":5},"Dudley & S'bridge",null,"Radley",19,316,6.5,2,0,0,{"$f":"IF(AND($AW21=$AW24,$AX21<$AX24),1,0)","v":0},{"$f":"IF(AND($AW21=$AW25,$AX21<$AX25),1,0)","v":0},{"$f":"IF(AND($AW21=$AW26,$AX21<$AX26),1,0)","v":0},{"$f":"IF(AND($AW21=$AW20,$AX21>$AX20),-1,0)","v":-1},{"$f":"IF(AND($AW21=$AW19,$AX21>$AX19),-1,0)","v":0}]
[4,5,"Wreake Runners",43,5,null,5,"Wreake Runners",215,15,5,null,null,"Points (L/Pts) together (not U11s).",null,null,null,null,null,null,null,null,{"$f":"RANK(Z22,Z$19:Z$26,0)+COUNTIF(Z$19:Z22,Z22)-1","v":3},{"$f":"'Results by Age Group'!$Z386","v":3},"Kettering",{"$f":"'Results by Age Group'!$Z385","v":49},{"$f":"'Event Details'!$G25","v":"Kett"},null,3,2,"Kettering",247,19,{"$f":"'Event Details'!$G25","v":"Kett"},null,null,null,null,null,null,4,"Kettering",247,19,{"$f":"RANK(AR22,AR$19:AR$26,0)+COUNTIF(AR$19:AR22,AR22)-1","v":2},"Kettering",null,"Wreake Runners",15,215,5,4,0,0,{"$f":"IF(AND($AW22=$AW25,$AX22<$AX25),1,0)","v":0},{"$f":"IF(AND($AW22=$AW26,$AX22<$AX26),1,0)","v":0},{"$f":"IF(AND($AW22=$AW21,$AX22>$AX21),-1,0)","v":0},{"$f":"IF(AND($AW22=$AW20,$AX22>$AX20),-1,0)","v":0},{"$f":"IF(AND($AW22=$AW19,$AX22>$AX19),-1,0)","v":0}]
[5,4,"Banbury",39,4,null,4,"Dudley & S'bridge",172,10,4,null,null,"To obtain match Aggregate score",null,null,null,null,null,null,null,null,{"$f":"RANK(Z23,Z$19:Z$26,0)+COUNTIF(Z$19:Z23,Z23)-1","v":1},{"$f":"'Results by Age Group'!$AA386","v":1},"Radley",{"$f":"'Results by Age Group'!$AA385","v":137},{"$f":"'Event Details'!$G26","v":"Rad"},null,2,2,"Radley",316,19,{"$f":"'Event Details'!$G26","v":"Rad"},null,null,null,null,null,null,5,"Radley",316,19,{"$f":"RANK(AR23,AR$19:AR$26,0)+COUNTIF(AR$19:AR23,AR23)-1","v":3},"Radley",null,"Dudley & S'bridge",10,172,4,5,0,0,{"$f":"IF(AND($AW23=$AW26,$AX23<$AX26),1,0)","v":0},{"$f":"IF(AND($AW23=$AW22,$AX23>$AX22),-1,0)","v":0},{"$f":"IF(AND($AW23=$AW21,$AX23>$AX21),-1,0)","v":0},{"$f":"IF(AND($AW23=$AW20,$AX23>$AX20),-1,0)","v":0},{"$f":"IF(AND($AW23=$AW19,$AX23>$AX19),-1,0)","v":0}]
[6,3,"Dudley & S'bridge",29,3,null,3,"Bicester",158,9,3,null,null,"add Male & Female League",null,null,null,null,null,null,null,null,{"$f":"RANK(Z24,Z$19:Z$26,0)+COUNTIF(Z$19:Z24,Z24)-1","v":7},{"$f":"'Results by Age Group'!$AB386","v":7},"Tamworth",{"$f":"'Results by Age Group'!$AB385","v":22},{"$f":"'Event Details'!$G27","v":"Tam"},null,7,7,"Tamworth",131,7,{"$f":"'Event Details'!$G27","v":"Tam"},null,null,null,null,null,null,6,"Tamworth",131,7,{"$f":"RANK(AR24,AR$19:AR$26,0)+COUNTIF(AR$19:AR24,AR24)-1","v":7},"Tamworth",null,"Bicester",9,158,3,6,0,0,{"$f":"IF(AND($AW24=$AW23,$AX24>$AX23),-1,0)","v":0},{"$f":"IF(AND($AW24=$AW22,$AX24>$AX22),-1,0)","v":0},{"$f":"IF(AND($AW24=$AW21,$AX24>$AX21),-1,0)","v":0},{"$f":"IF(AND($AW24=$AW20,$AX24>$AX20),-1,0)","v":0},{"$f":"IF(AND($AW24=$AW19,$AX24>$AX19),-1,0)","v":0}]
[7,2,"Tamworth",22,2,null,2,"Tamworth",131,7,2,null,null,"Points together.",null,null,null,null,null,null,null,null,{"$f":"RANK(Z25,Z$19:Z$26,0)+COUNTIF(Z$19:Z25,Z25)-1","v":4},{"$f":"'Results by Age Group'!$AC386","v":4},"Wreake Runners",{"$f":"'Results by Age Group'!$AC385","v":43},{"$f":"'Event Details'!$G28","v":"Wreake"},null,4,4,"Wreake Runners",215,15,{"$f":"'Event Details'!$G28","v":"Wreake"},null,null,null,null,null,null,7,"Wreake Runners",215,15,{"$f":"RANK(AR25,AR$19:AR$26,0)+COUNTIF(AR$19:AR25,AR25)-1","v":4},"Wreake Runners",null,"Tamworth",7,131,2,7,0,{"$f":"IF(AND($AW25=$AW24,$AX25>$AX24),-1,0)","v":0},{"$f":"IF(AND($AW25=$AW23,$AX25>$AX23),-1,0)","v":0},{"$f":"IF(AND($AW25=$AW22,$AX25>$AX22),-1,0)","v":0},{"$f":"IF(AND($AW25=$AW21,$AX25>$AX21),-1,0)","v":0},{"$f":"IF(AND($AW25=$AW20,$AX25>$AX20),-1,0)","v":0},{"$f":"IF(AND($AW25=$AW19,$AX25>$AX19),-1,0)","v":0}]
[8,1,"Bicester",14,1,null,1,"Banbury",122,6,1,null,null,null,null,null,null,null,null,null,null,null,{"$f":"RANK(Z26,Z$19:Z$26,0)+COUNTIF(Z$19:Z26,Z26)-1","v":2},{"$f":"'Results by Age Group'!$AD386","v":2},"Worcester",{"$f":"'Results by Age Group'!$AD385","v":119},{"$f":"'Event Details'!$G29","v":"Worc"},null,{"$f":"IF(AE26=0,8,VLOOKUP(AE26,AV$19:AZ$26,5,FALSE))","v":1},1,"Worcester",340,23,{"$f":"'Event Details'!$G29","v":"Worc"},null,null,null,null,null,null,8,"Worcester",340,23,{"$f":"RANK(AR26,AR$19:AR$26,0)+COUNTIF(AR$19:AR26,AR26)-1","v":1},"Worcester",null,"Banbury",6,122,1,{"$f":"IF(AV26=0,AZ25+1,VLOOKUP(AV26,AP$19:AS$26,4,FALSE)+SUM(BA26:BG26))","v":8},{"$f":"IF(AND($AW26=$AW25,$AX26>$AX25),-1,0)","v":0},{"$f":"IF(AND($AW26=$AW24,$AX26>$AX24),-1,0)","v":0},{"$f":"IF(AND($AW26=$AW23,$AX26>$AX23),-1,0)","v":0},{"$f":"IF(AND($AW26=$AW22,$AX26>$AX22),-1,0)","v":0},{"$f":"IF(AND($AW26=$AW21,$AX26>$AX21),-1,0)","v":0},{"$f":"IF(AND($AW26=$AW20,$AX26>$AX20),-1,0)","v":0},{"$f":"IF(AND($AW26=$AW19,$AX26>$AX19),-1,0)","v":0}]
[null,null,null,null,{"$f":"SUM(E19:E26)","v":36},null,null,null,null,null,{"$f":"SUM(K19:K26)","v":36},null,null,null,null,null,null,null,null,null,null,null,null,null,null,null,null,null,null,null,null,null,null,null,null,null,null,null,null,null,{"$f":"IF(T$2>=9,9,\"\")","v":""},"",null,null,null,""]
[null,null,null,null,null,null,null,null,null,null,null,null,null,null,null,null,null,null,null,null,null,null,null,null,null,null,null,null,null,null,null,null,null,null,null,null,null,null,null,null,null,null,null,null,null,null,null,null,null,null,{"$f":"SUM(AY19:AY27)","v":36}]
[]
["rev","points","Under 11 Female",null,null,null,"points","Under 13 Female",null,null,null,null,"points","Under 15 Female",null,null,null,null,null,null,null,null,"rev","act","Under 11 Girls",null,null,null,"rev","act","Under 13 Girls",null,null,null,"rev","act","Under 15 Girls"]
["position",null,"Club","A/Pts","L/Pts",null,null,"Club",null,"A/Pts","L/Pts",null,null,"Club",null,"A/Pts","L/Pts",null,null,null,null,null,"pos","pos","Club","A/Pts",null,null,"pos","pos","Club","A/Pts",null,null,"pos","pos","Club","A/Pts"]
[1,{"$f":"B6","v":8},{"$f":"VLOOKUP($A32,U11G,3,FALSE)","v":"Bicester"},{"$f":"VLOOKUP($A32,U11G,4,FALSE)","v":53},{"$f":"IF(AND(D32>0,D32<>\"\"),SUMIF(D$32:D$39,D32,B$32:B$39)/COUNTIF(D$32:D$39,D32),0)","v":8},null,{"$f":"B6","v":8},{"$f":"VLOOKUP($A32,U13G,3,FALSE)","v":"Worcester"},null,{"$f":"VLOOKUP($A32,U13G,4,FALSE)","v":126},{"$f":"IF(AND(J32>0,J32<>\"\"),SUMIF(J$32:J$39,J32,G$32:G$39)/COUNTIF(J$32:J$39,J32),0)","v":8},null,{"$f":"B6","v":8},{"$f":"VLOOKUP($A32,U15G,3,FALSE)","v":"Worcester"},null,{"$f":"VLOOKUP($A32,U15G,4,FALSE)","v":143},{"$f":"IF(AND(P32>0,P32<>\"\"),SUMIF(P$32:P$39,P32,M$32:M$39)/COUNTIF(P$32:P$39,P32),0)","v":8},null,null,null,null,null,{"$f":"RANK(Z32,Z$32:Z$39,0)+COUNTIF(Z$32:Z32,Z32)-1","v":3},{"$f":"'Results by Age Group'!$W107","v":3},{"$f":"'Event Details'!D22","v":"Banbury"},{"$f":"'Results by Age Group'!$W106","v":44},{"$f":"'Event Details'!$G22","v":"Ban"},null,{"$f":"RANK(AF32,AF$32:AF$39,0)+COUNTIF(AF$32:AF32,AF32)-1","v":3},{"$f":"'Results by Age Group'!$W215","v":3},{"$f":"Y32","v":"Banbury"},{"$f":"'Results by Age Group'!$W214","v":112.5},{"$f":"'Event Details'!$G22","v":"Ban"},null,{"$f":"RANK(AL32,AL$32:AL$39,0)+COUNTIF(AL$32:AL32,AL32)-1","v":7},{"$f":"'Results by Age Group'!$W329","v":7},{"$f":"AE32","v":"Banbury"},{"$f":"'Results by Age Group'!$W328","v":49},{"$f":"'Event Details'!$G22","v":"Ban"}]
[2,{"$f":"B7","v":7},{"$f":"VLOOKUP($A33,U11G,3,FALSE)","v":"Wreake Runners"},{"$f":"VLOOKUP($A33,U11G,4,FALSE)","v":49},{"$f":"IF(AND(D33>0,D33<>\"\"),SUMIF(D$32:D$39,D33,B$32:B$39)/COUNTIF(D$32:D$39,D33),0)","v":7},null,{"$f":"B7","v":7},{"$f":"VLOOKUP($A33,U13G,3,FALSE)","v":"Wreake Runners"},null,{"$f":"VLOOKUP($A33,U13G,4,FALSE)","v":117},{"$f":"IF(AND(J33>0,J33<>\"\"),SUMIF(J$32:J$39,J33,G$32:G$39)/COUNTIF(J$32:J$39,J33),0)","v":7},null,{"$f":"B7","v":7},{"$f":"VLOOKUP($A33,U15G,3,FALSE)","v":"Radley"},null,{"$f":"VLOOKUP($A33,U15G,4,FALSE)","v":122},{"$f":"IF(AND(P33>0,P33<>\"\"),SUMIF(P$32:P$39,P33,M$32:M$39)/COUNTIF(P$32:P$39,P33),0)","v":7},null,null,null,null,null,{"$f":"RANK(Z33,Z$32:Z$39,0)+COUNTIF(Z$32:Z33,Z33)-1","v":1},{"$f":"'Results by Age Group'!$X107","v":1},{"$f":"'Event Details'!D23","v":"Bicester"},{"$f":"'Results by Age Group'!$X106","v":53},{"$f":"'Event Details'!$G23","v":"Bic"},null,{"$f":"RANK(AF33,AF$32:AF$39,0)+COUNTIF(AF$32:AF33,AF33)-1","v":7},{"$f":"'Results by Age Group'!$X215","v":7},{"$f":"Y33","v":"Bicester"},{"$f":"'Results by Age Group'!$X214","v":68},{"$f":"'Event Details'!$G23","v":"Bic"},null,{"$f":"RANK(AL33,AL$32:AL$39,0)+COUNTIF(AL$32:AL33,AL33)-1","v":6},{"$f":"'Results by Age Group'!$X329","v":6},{"$f":"AE33","v":"Bicester"},{"$f":"'Results by Age Group'!$X328","v":68},{"$f":"'Event Details'!$G23","v":"Bic"}]
[3,6,"Banbury",44,6,null,6,"Banbury",null,112.5,6,null,6,"Kettering",null,102,6,null,null,null,null,null,{"$f":"RANK(Z34,Z$32:Z$39,0)+COUNTIF(Z$32:Z34,Z34)-1","v":8},{"$f":"'Results by Age Group'!$Y107","v":8},{"$f":"'Event Details'!D24","v":"Dudley & S'bridge"},{"$f":"'Results by Age Group'!$Y106","v":10},{"$f":"'Event Details'!$G24","v":"DASH"},null,{"$f":"RANK(AF34,AF$32:AF$39,0)+COUNTIF(AF$32:AF34,AF34)-1","v":8},{"$f":"'Results by Age Group'!$Y215","v":8},"Dudley & S'bridge",{"$f":"'Results by Age Group'!$Y214","v":46},{"$f":"'Event Details'!$G24","v":"DASH"},null,{"$f":"RANK(AL34,AL$32:AL$39,0)+COUNTIF(AL$32:AL34,AL34)-1","v":4},{"$f":"'Results by Age Group'!$Y329","v":4},"Dudley & S'bridge",{"$f":"'Results by Age Group'!$Y328","v":101},{"$f":"'Event Details'!$G24","v":"DASH"}]
[4,5,"Radley",41,5,null,5,"Kettering",null,80.5,5,null,5,"Dudley & S'bridge",null,101,5,null,null,null,null,null,{"$f":"RANK(Z35,Z$32:Z$39,0)+COUNTIF(Z$32:Z35,Z35)-1","v":6},{"$f":"'Results by Age Group'!$Z107","v":6},{"$f":"'Event Details'!D25","v":"Kettering"},{"$f":"'Results by Age Group'!$Z106","v":26},{"$f":"'Event Details'!$G25","v":"Kett"},null,{"$f":"RANK(AF35,AF$32:AF$39,0)+COUNTIF(AF$32:AF35,AF35)-1","v":4},{"$f":"'Results by Age Group'!$Z215","v":4},"Kettering",{"$f":"'Results by Age Group'!$Z214","v":80.5},{"$f":"'Event Details'!$G25","v":"Kett"},null,{"$f":"RANK(AL35,AL$32:AL$39,0)+COUNTIF(AL$32:AL35,AL35)-1","v":3},{"$f":"'Results by Age Group'!$Z329","v":3},"Kettering",{"$f":"'Results by Age Group'!$Z328","v":102},{"$f":"'Event Details'!$G25","v":"Kett"}]
[5,4,"Tamworth",31,4,null,4,"Radley",null,79,4,null,4,"Wreake Runners",null,100,4,null,null,null,null,null,{"$f":"RANK(Z36,Z$32:Z$39,0)+COUNTIF(Z$32:Z36,Z36)-1","v":4},{"$f":"'Results by Age Group'!$AA107","v":4},{"$f":"'Event Details'!D26","v":"Radley"},{"$f":"'Results by Age Group'!$AA106","v":41},{"$f":"'Event Details'!$G26","v":"Rad"},null,{"$f":"RANK(AF36,AF$32:AF$39,0)+COUNTIF(AF$32:AF36,AF36)-1","v":5},{"$f":"'Results by Age Group'!$AA215","v":5},"Radley",{"$f":"'Results by Age Group'!$AA214","v":79},{"$f":"'Event Details'!$G26","v":"Rad"},null,{"$f":"RANK(AL36,AL$32:AL$39,0)+COUNTIF(AL$32:AL36,AL36)-1","v":2},{"$f":"'Results by Age Group'!$AA329","v":2},"Radley",{"$f":"'Results by Age Group'!$AA328","v":122},{"$f":"'Event Details'!$G26","v":"Rad"}]
[6,3,"Kettering",26,3,null,3,"Tamworth",null,74,3,null,3,"Bicester",null,68,3,null,null,null,null,null,{"$f":"RANK(Z37,Z$32:Z$39,0)+COUNTIF(Z$32:Z37,Z37)-1","v":5},{"$f":"'Results by Age Group'!$AB107","v":5},{"$f":"'Event Details'!D27","v":"Tamworth"},{"$f":"'Results by Age Group'!$AB106","v":31},{"$f":"'Event Details'!$G27","v":"Tam"},null,{"$f":"RANK(AF37,AF$32:AF$39,0)+COUNTIF(AF$32:AF37,AF37)-1","v":6},{"$f":"'Results by Age Group'!$AB215","v":6},"Tamworth",{"$f":"'Results by Age Group'!$AB214","v":74},{"$f":"'Event Details'!$G27","v":"Tam"},null,{"$f":"RANK(AL37,AL$32:AL$39,0)+COUNTIF(AL$32:AL37,AL37)-1","v":8},{"$f":"'Results by Age Group'!$AB329","v":8},"Tamworth",{"$f":"'Results by Age Group'!$AB328","v":40},{"$f":"'Event Details'!$G27","v":"Tam"}]
[7,2,"Worcester",24,2,null,2,"Bicester",null,68,2,null,2,"Banbury",null,49,2,null,null,null,null,null,{"$f":"RANK(Z38,Z$32:Z$39,0)+COUNTIF(Z$32:Z38,Z38)-1","v":2},{"$f":"'Results by Age Group'!$AC107","v":2},{"$f":"'Event Details'!D28","v":"Wreake Runners"},{"$f":"'Results by Age Group'!$AC106","v":49},{"$f":"'Event Details'!$G28","v":"Wreake"},null,{"$f":"RANK(AF38,AF$32:AF$39,0)+COUNTIF(AF$32:AF38,AF38)-1","v":2},{"$f":"'Results by Age Group'!$AC215","v":2},"Wreake Runners",{"$f":"'Results by Age Group'!$AC214","v":117},{"$f":"'Event Details'!$G28","v":"Wreake"},null,{"$f":"RANK(AL38,AL$32:AL$39,0)+COUNTIF(AL$32:AL38,AL38)-1","v":5},{"$f":"'Results by Age Group'!$AC329","v":5},"Wreake Runners",{"$f":"'Results by Age Group'!$AC328","v":100},{"$f":"'Event Details'!$G28","v":"Wreake"}]
[8,1,"Dudley & S'bridge",10,1,null,1,"Dudley & S'bridge",null,46,1,null,1,"Tamworth",null,40,1,null,null,null,null,null,{"$f":"RANK(Z39,Z$32:Z$39,0)+COUNTIF(Z$32:Z39,Z39)-1","v":7},{"$f":"'Results by Age Group'!$AD107","v":7},{"$f":"'Event Details'!D29","v":"Worcester"},{"$f":"'Results by Age Group'!$AD106","v":24},{"$f":"'Event Details'!$G29","v":"Worc"},null,{"$f":"RANK(AF39,AF$32:AF$39,0)+COUNTIF(AF$32:AF39,AF39)-1","v":1},{"$f":"'Results by Age Group'!$AD215","v":1},"Worcester",{"$f":"'Results by Age Group'!$AD214","v":126},{"$f":"'Event Details'!$G29","v":"Worc"},null,{"$f":"RANK(AL39,AL$32:AL$39,0)+COUNTIF(AL$32:AL39,AL39)-1","v":1},{"$f":"'Results by Age Group'!$AD329","v":1},"Worcester",{"$f":"'Results by Age Group'!$AD328","v":143},{"$f":"'Event Details'!$G29","v":"Worc"}]
[null,null,null,null,{"$f":"SUM(E32:E39)","v":36},null,null,null,null,null,{"$f":"SUM(K32:K39)","v":36},null,null,null,null,null,{"$f":"SUM(Q32:Q39)","v":36},null,null,null,null,null,null,null,null,null,null,null,null,null,null,null,null,null,null,null,null,null,null,null,null,null,null,3,null,null,null,2,3,2,4]
[]
[]
[null,null,null,null,null,null,null,null,null,null,null,null,null,null,null,null,null,null,null,null,null,null,null,null,null,null,null,null,null,null,null,null,null,null,null,null,null,null,null,null,"Teams",null,null,null,null,null,null,null,null,null,null,"Rev."]
["rev","points","Under 17 Female/ Women",null,null,null,"points","Female Total","Tot",null,null,null,"points","Overall Total","Tot",null,null,null,null,null,null,null,"rev","act","Under 17 Women",null,null,null,"rev","act","Women Total","Tot",null,null,null,null,null,null,null,null,null,"Club","A/Pts","L/Pts","Pos","Club",null,"Club","L/Pts","A/Pts","Pts","Pos"]
["position",null,"Club","A/Pts","L/Pts",null,null,"Club","Pts","A/Pts","L/Pts",null,null,"Club","Pts","A/Pts","L/Pts",null,null,null,null,null,"pos","pos","Club","A/Pts",null,null,"pos","pos","Club","Pts","A/Pts"]
[1,{"$f":"B6","v":8},{"$f":"VLOOKUP($A46,U17W,3,FALSE)","v":"Radley"},{"$f":"VLOOKUP($A46,U17W,4,FALSE)","v":150},{"$f":"IF(AND(D46>0,D46<>\"\"),SUMIF(D$46:D$53,D46,B$46:B$53)/COUNTIF(D$46:D$53,D46),0)","v":8},null,{"$f":"B6","v":8},{"$f":"VLOOKUP($A46,WomTot,3,FALSE)","v":"Worcester"},{"$f":"VLOOKUP(A46,WomTot,4,FALSE)","v":374},{"$f":"VLOOKUP(A46,WomTot,5,FALSE)","v":23},{"$f":"IF(AND(J46>0,J46<>\"\"),SUMIF(J$46:J$53,J46,G$46:G$53)/COUNTIF(J$46:J$53,J46),0)","v":8},null,{"$f":"B6","v":8},{"$f":"VLOOKUP($A46,OverTot,3,FALSE)","v":"Worcester"},{"$f":"VLOOKUP($A46,OverTot,4,FALSE)","v":714},{"$f":"VLOOKUP($A46,OverTot,5,FALSE)","v":16},{"$f":"IF(AND(P46>0,P46<>\"\"),SUMIF(P$46:P$53,P46,M$46:M$53)/COUNTIF(P$46:P$53,P46),0)","v":8},null,null,null,null,null,{"$f":"RANK(Z46,Z$46:Z$53,0)+COUNTIF(Z$46:Z46,Z46)-1","v":5},{"$f":"'Results by Age Group'!$W443","v":5},{"$f":"Y32","v":"Banbury"},{"$f":"'Results by Age Group'!$W442","v":66},{"$f":"'Event Details'!$G22","v":"Ban"},null,{"$f":"VLOOKUP(AE46,AV$46:AZ$53,5,FALSE)","v":5},{"$f":"RANK(AG46,AG$46:AG$53)","v":5},{"$f":"Y46","v":"Banbury"},{"$f":"VLOOKUP(AE46,U13GSum,3,FALSE)+VLOOKUP(AE46,U15GSum,3,FALSE)+VLOOKUP(AE46,U17GSum,2,FALSE)","v":227.5},{"$f":"VLOOKUP(AE46,U13GSum,4,FALSE)+VLOOKUP(AE46,U15GSum,4,FALSE)+VLOOKUP(AE46,U17GSum,3,FALSE)","v":12},{"$f":"'Event Details'!$G22","v":"Ban"},null,null,null,null,null,null,1,{"$f":"Y6","v":"Banbury"},{"$f":"AF46","v":227.5},{"$f":"AG46","v":12},{"$f":"RANK(AR46,AR$46:AR$53,0)+COUNTIF(AR$46:AR46,AR46)-1","v":5},{"$f":"Y6","v":"Banbury"},null,{"$f":"IF(AO46>0,VLOOKUP(AO46,AS$46:AT$53,AV$40,FALSE),0)","v":"Worcester"},{"$f":"IF(AO46>0,VLOOKUP(AV46,AE$46:AG$53,AW$40,FALSE),0)","v":23},{"$f":"IF(AO46>0,VLOOKUP(AV46,AE$46:AG$53,AX$40,FALSE),0)","v":374},{"$f":"IF(AW46>0,SUMIF(AW$46:AW$53,AW46,G$46:G$53)/COUNTIF(AW$46:AW$53,AW46),0)","v":8},{"$f":"VLOOKUP(AV46,AP$46:AS$53,4,FALSE)+SUM(BA46:BG46)","v":1},{"$f":"IF(AND($AW46=$AW47,$AX46<$AX47),1,0)","v":0},{"$f":"IF(AND($AW46=$AW48,$AX46<$AX48),1,0)","v":0},{"$f":"IF(AND($AW46=$AW49,$AX46<$AX49),1,0)","v":0},{"$f":"IF(AND($AW46=$AW50,$AX46<$AX50),1,0)","v":0},{"$f":"IF(AND($AW46=$AW51,$AX46<$AX51),1,0)","v":0},{"$f":"IF(AND($AW46=$AW52,$AX46<$AX52),1,0)","v":0},{"$f":"IF(AND($AW46=$AW53,$AX46<$AX53),1,0)","v":0}]
[2,{"$f":"B7","v":7},{"$f":"VLOOKUP($A47,U17W,3,FALSE)","v":"Worcester"},{"$f":"VLOOKUP($A47,U17W,4,FALSE)","v":105},{"$f":"IF(AND(D47>0,D47<>\"\"),SUMIF(D$46:D$53,D47,B$46:B$53)/COUNTIF(D$46:D$53,D47),0)","v":7},null,{"$f":"B7","v":7},{"$f":"VLOOKUP($A47,WomTot,3,FALSE)","v":"Radley"},351,19,{"$f":"IF(AND(J47>0,J47<>\"\"),SUMIF(J$46:J$53,J47,G$46:G$53)/COUNTIF(J$46:J$53,J47),0)","v":7},null,{"$f":"B7","v":7},{"$f":"VLOOKUP($A47,OverTot,3,FALSE)","v":"Radley"},667,13.5,{"$f":"IF(AND(P47>0,P47<>\"\"),SUMIF(P$46:P$53,P47,M$46:M$53)/COUNTIF(P$46:P$53,P47),0)","v":7},null,null,null,null,null,{"$f":"RANK(Z47,Z$46:Z$53,0)+COUNTIF(Z$46:Z47,Z47)-1","v":8},{"$f":"'Results by Age Group'!$X443","v":8},"Bicester",{"$f":"'Results by Age Group'!$X442","v":24},{"$f":"'Event Details'!$G23","v":"Bic"},null,{"$f":"VLOOKUP(AE47,AV$46:AZ$53,5,FALSE)","v":7},{"$f":"RANK(AG47,AG$46:AG$53)","v":7},{"$f":"Y47","v":"Bicester"},160,6,{"$f":"'Event Details'!$G23","v":"Bic"},null,null,null,null,null,null,2,{"$f":"Y7","v":"Bicester"},{"$f":"AF47","v":160},{"$f":"AG47","v":6},{"$f":"RANK(AR47,AR$46:AR$53,0)+COUNTIF(AR$46:AR47,AR47)-1","v":7},{"$f":"Y7","v":"Bicester"},null,{"$f":"IF(AO47>0,VLOOKUP(AO47,AS$46:AT$53,AV$40,FALSE),0)","v":"Radley"},{"$f":"IF(AO47>0,VLOOKUP(AV47,AE$46:AG$53,AW$40,FALSE),0)","v":19},{"$f":"IF(AO47>0,VLOOKUP(AV47,AE$46:AG$53,AX$40,FALSE),0)","v":351},{"$f":"IF(AW47>0,SUMIF(AW$46:AW$53,AW47,G$46:G$53)/COUNTIF(AW$46:AW$53,AW47),0)","v":7},{"$f":"VLOOKUP(AV47,AP$46:AS$53,4,FALSE)+SUM(BA47:BG47)","v":2},0,0,{"$f":"IF(AND($AW47=$AW50,$AX47<$AX50),1,0)","v":0},{"$f":"IF(AND($AW47=$AW51,$AX47<$AX51),1,0)","v":0},{"$f":"IF(AND($AW47=$AW52,$AX47<$AX52),1,0)","v":0},{"$f":"IF(AND($AW47=$AW53,$AX47<$AX53),1,0)","v":0},{"$f":"IF(AND($AW47=$AW46,$AX47>$AX46),-1,0)","v":0}]
[3,6,"Kettering",84,6,null,6,"Kettering",266.5,17,6,null,6,"Kettering",513.5,12.5,6,null,null,null,null,null,{"$f":"RANK(Z48,Z$46:Z$53,0)+COUNTIF(Z$46:Z48,Z48)-1","v":6},{"$f":"'Results by Age Group'!$Y443","v":6},"Dudley & S'bridge",{"$f":"'Results by Age Group'!$Y442","v":30},{"$f":"'Event Details'!$G24","v":"DASH"},null,6,6,"Dudley & S'bridge",177,9,{"$f":"'Event Details'!$G24","v":"DASH"},null,null,null,null,null,null,3,"Dudley & S'bridge",177,9,{"$f":"RANK(AR48,AR$46:AR$53,0)+COUNTIF(AR$46:AR48,AR48)-1","v":6},"Dudley & S'bridge",null,"Kettering",17,266.5,6,3,0,0,{"$f":"IF(AND($AW48=$AW51,$AX48<$AX51),1,0)","v":0},{"$f":"IF(AND($AW48=$AW52,$AX48<$AX52),1,0)","v":0},{"$f":"IF(AND($AW48=$AW53,$AX48<$AX53),1,0)","v":0},{"$f":"IF(AND($AW48=$AW47,$AX48>$AX47),-1,0)","v":0},{"$f":"IF(AND($AW48=$AW46,$AX48>$AX46),-1,0)","v":0}]
[4,5,"Wreake Runners",68,5,null,5,"Wreake Runners",285,16,5,null,5,"Wreake Runners",500,10,5,null,null,null,null,null,{"$f":"RANK(Z49,Z$46:Z$53,0)+COUNTIF(Z$46:Z49,Z49)-1","v":3},{"$f":"'Results by Age Group'!$Z443","v":3},"Kettering",{"$f":"'Results by Age Group'!$Z442","v":84},{"$f":"'Event Details'!$G25","v":"Kett"},null,3,3,"Kettering",266.5,17,{"$f":"'Event Details'!$G25","v":"Kett"},null,null,null,null,null,null,4,"Kettering",266.5,17,{"$f":"RANK(AR49,AR$46:AR$53,0)+COUNTIF(AR$46:AR49,AR49)-1","v":3},"Kettering",null,"Wreake Runners",16,285,5,4,0,0,{"$f":"IF(AND($AW49=$AW52,$AX49<$AX52),1,0)","v":0},{"$f":"IF(AND($AW49=$AW53,$AX49<$AX53),1,0)","v":0},{"$f":"IF(AND($AW49=$AW48,$AX49>$AX48),-1,0)","v":0},{"$f":"IF(AND($AW49=$AW47,$AX49>$AX47),-1,0)","v":0},{"$f":"IF(AND($AW49=$AW46,$AX49>$AX46),-1,0)","v":0}]
[5,4,"Banbury",66,4,null,4,"Banbury",227.5,12,4,null,4,"Dudley & S'bridge",349,7,4,null,null,null,null,null,{"$f":"RANK(Z50,Z$46:Z$53,0)+COUNTIF(Z$46:Z50,Z50)-1","v":1},{"$f":"'Results by Age Group'!$AA443","v":1},"Radley",{"$f":"'Results by Age Group'!$AA442","v":150},{"$f":"'Event Details'!$G26","v":"Rad"},null,2,2,"Radley",351,19,{"$f":"'Event Details'!$G26","v":"Rad"},null,null,null,null,null,null,5,"Radley",351,19,{"$f":"RANK(AR50,AR$46:AR$53,0)+COUNTIF(AR$46:AR50,AR50)-1","v":2},"Radley",null,"Banbury",12,227.5,4,5,0,0,{"$f":"IF(AND($AW50=$AW53,$AX50<$AX53),1,0)","v":0},{"$f":"IF(AND($AW50=$AW49,$AX50>$AX49),-1,0)","v":0},{"$f":"IF(AND($AW50=$AW48,$AX50>$AX48),-1,0)","v":0},{"$f":"IF(AND($AW50=$AW47,$AX50>$AX47),-1,0)","v":0},{"$f":"IF(AND($AW50=$AW46,$AX50>$AX46),-1,0)","v":0}]
[6,3,"Dudley & S'bridge",30,3,null,3,"Dudley & S'bridge",177,9,3,null,3,"Banbury",349.5,5,3,null,null,null,null,null,{"$f":"RANK(Z51,Z$46:Z$53,0)+COUNTIF(Z$46:Z51,Z51)-1","v":7},{"$f":"'Results by Age Group'!$AB443","v":7},"Tamworth",{"$f":"'Results by Age Group'!$AB442","v":25},{"$f":"'Event Details'!$G27","v":"Tam"},null,8,7,"Tamworth",139,6,{"$f":"'Event Details'!$G27","v":"Tam"},null,null,null,null,null,null,6,"Tamworth",139,6,{"$f":"RANK(AR51,AR$46:AR$53,0)+COUNTIF(AR$46:AR51,AR51)-1","v":8},"Tamworth",null,"Dudley & S'bridge",9,177,3,6,0,0,{"$f":"IF(AND($AW51=$AW50,$AX51>$AX50),-1,0)","v":0},{"$f":"IF(AND($AW51=$AW49,$AX51>$AX49),-1,0)","v":0},{"$f":"IF(AND($AW51=$AW48,$AX51>$AX48),-1,0)","v":0},{"$f":"IF(AND($AW51=$AW47,$AX51>$AX47),-1,0)","v":0},{"$f":"IF(AND($AW51=$AW46,$AX51>$AX46),-1,0)","v":0}]
[7,2,"Tamworth",25,2,null,2,"Bicester",160,6,1.5,null,2,"Bicester",318,4.5,2,null,null,null,null,null,{"$f":"RANK(Z52,Z$46:Z$53,0)+COUNTIF(Z$46:Z52,Z52)-1","v":4},{"$f":"'Results by Age Group'!$AC443","v":4},"Wreake Runners",{"$f":"'Results by Age Group'!$AC442","v":68},{"$f":"'Event Details'!$G28","v":"Wreake"},null,4,4,"Wreake Runners",285,16,{"$f":"'Event Details'!$G28","v":"Wreake"},null,null,null,null,null,null,7,"Wreake Runners",285,16,{"$f":"RANK(AR52,AR$46:AR$53,0)+COUNTIF(AR$46:AR52,AR52)-1","v":4},"Wreake Runners",null,"Bicester",6,160,1.5,7,0,{"$f":"IF(AND($AW52=$AW51,$AX52>$AX51),-1,0)","v":0},{"$f":"IF(AND($AW52=$AW50,$AX52>$AX50),-1,0)","v":0},{"$f":"IF(AND($AW52=$AW49,$AX52>$AX49),-1,0)","v":0},{"$f":"IF(AND($AW52=$AW48,$AX52>$AX48),-1,0)","v":0},{"$f":"IF(AND($AW52=$AW47,$AX52>$AX47),-1,0)","v":0},{"$f":"IF(AND($AW52=$AW46,$AX52>$AX46),-1,0)","v":0}]
[8,1,"Bicester",24,1,null,1,"Tamworth",139,6,1.5,null,1,"Tamworth",270,3.5,1,null,null,null,null,null,{"$f":"RANK(Z53,Z$46:Z$53,0)+COUNTIF(Z$46:Z53,Z53)-1","v":2},{"$f":"'Results by Age Group'!$AD443","v":2},"Worcester",{"$f":"'Results by Age Group'!$AD442","v":105},{"$f":"'Event Details'!$G29","v":"Worc"},null,{"$f":"IF(AE53=0,8,VLOOKUP(AE53,AV$46:AZ$53,5,FALSE))","v":1},1,"Worcester",374,23,{"$f":"'Event Details'!$G29","v":"Worc"},null,null,null,null,null,null,8,"Worcester",374,23,{"$f":"RANK(AR53,AR$46:AR$53,0)+COUNTIF(AR$46:AR53,AR53)-1","v":1},"Worcester",null,"Tamworth",6,139,1.5,{"$f":"IF(AV53=0,AZ52+1,VLOOKUP(AV53,AP$46:AS$53,4,FALSE)+SUM(BA53:BG53))","v":8},{"$f":"IF(AND($AW53=$AW52,$AX53>$AX52),-1,0)","v":0},{"$f":"IF(AND($AW53=$AW51,$AX53>$AX51),-1,0)","v":0},{"$f":"IF(AND($AW53=$AW50,$AX53>$AX50),-1,0)","v":0},{"$f":"IF(AND($AW53=$AW49,$AX53>$AX49),-1,0)","v":0},{"$f":"IF(AND($AW53=$AW48,$AX53>$AX48),-1,0)","v":0},{"$f":"IF(AND($AW53=$AW47,$AX53>$AX47),-1,0)","v":0},{"$f":"IF(AND($AW53=$AW46,$AX53>$AX46),-1,0)","v":0}]
[null,null,null,null,{"$f":"SUM(E46:E53)","v":36},null,null,null,null,null,{"$f":"SUM(K46:K53)","v":36},null,null,null,null,null,{"$f":"SUM(Q46:Q53)","v":36},null,null,null,null,null,null,null,null,null,null,null,null,null,null,null,null,null,null,null,null,null,null,null,{"$f":"IF(T$2>=9,9,\"\")","v":""},"",null,null,null,""]
[null,null,null,null,null,null,null,null,null,null,null,null,null,null,null,null,null,null,null,null,null,null,null,null,null,null,null,null,null,null,null,null,null,null,null,null,null,null,null,null,null,null,null,null,null,null,null,null,null,null,{"$f":"SUM(AY46:AY54)","v":36},null,null,null,null,null,null,null,null,"revised"]
[null,null,null,null,null,null,null,null,null,null,null,null,null,null,null,null,null,null,null,null,null,null,null,null,null,null,null,null,null,null,null,null,null,null,null,null,null,null,null,null,null,null,null,3,null,null,null,2,3,2,4]
[]
[]
[null,null,null,null,null,null,null,null,null,null,null,null,null,null,null,null,null,null,null,null,null,null,null,null,null,null,null,null,null,null,null,null,null,null,null,null,null,null,null,null,"Teams",null,null,null,null,null,null,null,null,null,null,"Rev."]
[null,null,null,null,null,null,null,null,null,null,null,null,null,null,null,null,null,null,null,null,null,null,null,null,null,null,null,null,"rev","act","Overall Total","Tot",null,null,null,null,null,null,null,null,null,"Club","A/Pts","L/Pts","Pos","Club",null,"Club","L/Pts","A/Pts","Pts","Pos"]
[null,null,null,null,null,null,null,null,null,null,null,null,null,null,null,null,null,null,null,null,null,null,null,null,null,null,null,null,"pos","pos","Club","Pts","A/Pts"]
[null,null,null,null,null,null,null,null,null,null,null,null,null,null,null,null,null,null,null,null,null,null,null,null,null,null,null,null,{"$f":"VLOOKUP(AE62,AV$62:AZ$69,5,FALSE)","v":6},{"$f":"RANK(AG62,AG$62:AG$69)","v":6},{"$f":"AE46","v":"Banbury"},{"$f":"AF19+AF46","v":349.5},{"$f":"VLOOKUP(AE62,MenPoints,4,FALSE)+VLOOKUP(AE62,WomPoints,4,FALSE)","v":5},{"$f":"'Event Details'!$G22","v":"Ban"},null,null,null,null,null,null,1,{"$f":"Y6","v":"Banbury"},{"$f":"AF62","v":349.5},{"$f":"AG62","v":5},{"$f":"RANK(AR62,AR$62:AR$69,0)+COUNTIF(AR$62:AR62,AR62)-1","v":6},{"$f":"Y6","v":"Banbury"},null,{"$f":"IF(AO62>0,VLOOKUP(AO62,AS$62:AT$69,AV$56,FALSE),0)","v":"Worcester"},{"$f":"IF(AO62>0,VLOOKUP(AV62,AE$62:AG$69,AW$56,FALSE),0)","v":16},{"$f":"IF(AO62>0,VLOOKUP(AV62,AE$62:AG$69,AX$56,FALSE),0)","v":714},{"$f":"IF(AW62>0,SUMIF(AW$62:AW$69,AW62,G$46:G$53)/COUNTIF(AW$62:AW$69,AW62),0)","v":8},{"$f":"VLOOKUP(AV62,AP$62:AS$69,4,FALSE)+SUM(BA62:BG62)","v":1},{"$f":"IF(AND($AW62=$AW63,$AX62<$AX63),1,0)","v":0},{"$f":"IF(AND($AW62=$AW64,$AX62<$AX64),1,0)","v":0},{"$f":"IF(AND($AW62=$AW65,$AX62<$AX65),1,0)","v":0},{"$f":"IF(AND($AW62=$AW66,$AX62<$AX66),1,0)","v":0},{"$f":"IF(AND($AW62=$AW67,$AX62<$AX67),1,0)","v":0},{"$f":"IF(AND($AW62=$AW68,$AX62<$AX68),1,0)","v":0},{"$f":"IF(AND($AW62=$AW69,$AX62<$AX69),1,0)","v":0}]
[null,null,null,null,null,null,null,null,null,null,null,null,null,null,null,null,null,null,null,null,null,null,null,null,null,null,null,null,7,{"$f":"RANK(AG63,AG$62:AG$69)","v":7},{"$f":"AE47","v":"Bicester"},318,4.5,{"$f":"'Event Details'!$G23","v":"Bic"},null,null,null,null,null,null,2,{"$f":"Y7","v":"Bicester"},{"$f":"AF63","v":318},{"$f":"AG63","v":4.5},{"$f":"RANK(AR63,AR$62:AR$69,0)+COUNTIF(AR$62:AR63,AR63)-1","v":7},{"$f":"Y7","v":"Bicester"},null,{"$f":"IF(AO63>0,VLOOKUP(AO63,AS$62:AT$69,AV$56,FALSE),0)","v":"Radley"},{"$f":"IF(AO63>0,VLOOKUP(AV63,AE$62:AG$69,AW$56,FALSE),0)","v":13.5},{"$f":"IF(AO63>0,VLOOKUP(AV63,AE$62:AG$69,AX$56,FALSE),0)","v":667},{"$f":"IF(AW63>0,SUMIF(AW$62:AW$69,AW63,G$46:G$53)/COUNTIF(AW$62:AW$69,AW63),0)","v":7},{"$f":"VLOOKUP(AV63,AP$62:AS$69,4,FALSE)+SUM(BA63:BG63)","v":2},0,0,{"$f":"IF(AND($AW63=$AW66,$AX63<$AX66),1,0)","v":0},{"$f":"IF(AND($AW63=$AW67,$AX63<$AX67),1,0)","v":0},{"$f":"IF(AND($AW63=$AW68,$AX63<$AX68),1,0)","v":0},{"$f":"IF(AND($AW63=$AW69,$AX63<$AX69),1,0)","v":0},{"$f":"IF(AND($AW63=$AW62,$AX63>$AX62),-1,0)","v":0}]
[null,null,null,null,null,null,null,null,null,null,null,null,null,null,null,null,null,null,null,null,null,null,null,null,null,null,null,null,5,5,"Dudley & S'bridge",349,7,{"$f":"'Event Details'!$G24","v":"DASH"},null,null,null,null,null,null,3,"Dudley & S'bridge",349,7,{"$f":"RANK(AR64,AR$62:AR$69,0)+COUNTIF(AR$62:AR64,AR64)-1","v":5},"Dudley & S'bridge",null,"Kettering",12.5,513.5,6,3,0,0,{"$f":"IF(AND($AW64=$AW67,$AX64<$AX67),1,0)","v":0},{"$f":"IF(AND($AW64=$AW68,$AX64<$AX68),1,0)","v":0},{"$f":"IF(AND($AW64=$AW69,$AX64<$AX69),1,0)","v":0},{"$f":"IF(AND($AW64=$AW63,$AX64>$AX63),-1,0)","v":0},{"$f":"IF(AND($AW64=$AW62,$AX64>$AX62),-1,0)","v":0}]
[null,null,null,null,null,null,null,null,null,null,null,null,null,null,null,null,null,null,null,null,null,null,null,null,null,null,null,null,3,3,"Kettering",513.5,12.5,{"$f":"'Event Details'!$G25","v":"Kett"},null,null,null,null,null,null,4,"Kettering",513.5,12.5,{"$f":"RANK(AR65,AR$62:AR$69,0)+COUNTIF(AR$62:AR65,AR65)-1","v":3},"Kettering",null,"Wreake Runners",10,500,5,4,0,0,{"$f":"IF(AND($AW65=$AW68,$AX65<$AX68),1,0)","v":0},{"$f":"IF(AND($AW65=$AW69,$AX65<$AX69),1,0)","v":0},{"$f":"IF(AND($AW65=$AW64,$AX65>$AX64),-1,0)","v":0},{"$f":"IF(AND($AW65=$AW63,$AX65>$AX63),-1,0)","v":0},{"$f":"IF(AND($AW65=$AW62,$AX65>$AX62),-1,0)","v":0}]
[null,null,null,null,null,null,null,null,null,null,null,null,null,null,null,null,null,null,null,null,null,null,null,null,null,null,null,null,{"$f":"VLOOKUP(AE66,AV$62:AZ$69,5,FALSE)","v":2},2,"Radley",667,13.5,{"$f":"'Event Details'!$G26","v":"Rad"},null,null,null,null,null,null,5,"Radley",667,13.5,{"$f":"RANK(AR66,AR$62:AR$69,0)+COUNTIF(AR$62:AR66,AR66)-1","v":2},"Radley",null,"Dudley & S'bridge",7,349,4,5,0,0,{"$f":"IF(AND($AW66=$AW69,$AX66<$AX69),1,0)","v":0},{"$f":"IF(AND($AW66=$AW65,$AX66>$AX65),-1,0)","v":0},{"$f":"IF(AND($AW66=$AW64,$AX66>$AX64),-1,0)","v":0},{"$f":"IF(AND($AW66=$AW63,$AX66>$AX63),-1,0)","v":0},{"$f":"IF(AND($AW66=$AW62,$AX66>$AX62),-1,0)","v":0}]
[null,null,null,null,null,null,null,null,null,null,null,null,null,null,null,null,null,null,null,null,null,null,null,null,null,null,null,null,{"$f":"VLOOKUP(AE67,AV$62:AZ$69,5,FALSE)","v":8},8,"Tamworth",270,3.5,{"$f":"'Event Details'!$G27","v":"Tam"},null,null,null,null,null,null,6,"Tamworth",270,3.5,{"$f":"RANK(AR67,AR$62:AR$69,0)+COUNTIF(AR$62:AR67,AR67)-1","v":8},"Tamworth",null,"Banbury",5,349.5,3,6,0,0,{"$f":"IF(AND($AW67=$AW66,$AX67>$AX66),-1,0)","v":0},{"$f":"IF(AND($AW67=$AW65,$AX67>$AX65),-1,0)","v":0},{"$f":"IF(AND($AW67=$AW64,$AX67>$AX64),-1,0)","v":0},{"$f":"IF(AND($AW67=$AW63,$AX67>$AX63),-1,0)","v":0},{"$f":"IF(AND($AW67=$AW62,$AX67>$AX62),-1,0)","v":0}]
[null,null,null,null,null,null,null,null,null,null,null,null,null,null,null,null,null,null,null,null,null,null,null,null,null,null,null,null,4,4,"Wreake Runners",500,10,{"$f":"'Event Details'!$G28","v":"Wreake"},null,null,null,null,null,null,7,"Wreake Runners",500,10,{"$f":"RANK(AR68,AR$62:AR$69,0)+COUNTIF(AR$62:AR68,AR68)-1","v":4},"Wreake Runners",null,"Bicester",4.5,318,2,7,0,{"$f":"IF(AND($AW68=$AW67,$AX68>$AX67),-1,0)","v":0},{"$f":"IF(AND($AW68=$AW66,$AX68>$AX66),-1,0)","v":0},{"$f":"IF(AND($AW68=$AW65,$AX68>$AX65),-1,0)","v":0},{"$f":"IF(AND($AW68=$AW64,$AX68>$AX64),-1,0)","v":0},{"$f":"IF(AND($AW68=$AW63,$AX68>$AX63),-1,0)","v":0},{"$f":"IF(AND($AW68=$AW62,$AX68>$AX62),-1,0)","v":0}]
[null,null,null,null,null,null,null,null,null,null,null,null,null,null,null,null,null,null,null,null,null,null,null,null,null,null,null,null,{"$f":"IF(AE69=0,8,VLOOKUP(AE69,AV$62:AZ$69,5,FALSE))","v":1},1,"Worcester",714,16,{"$f":"'Event Details'!$G29","v":"Worc"},null,null,null,null,null,null,8,"Worcester",714,16,{"$f":"RANK(AR69,AR$62:AR$69,0)+COUNTIF(AR$62:AR69,AR69)-1","v":1},"Worcester",null,"Tamworth",3.5,270,1,{"$f":"IF(AV69=0,AZ68+1,VLOOKUP(AV69,AP$62:AS$69,4,FALSE)+SUM(BA69:BG69))","v":8},{"$f":"IF(AND($AW69=$AW68,$AX69>$AX68),-1,0)","v":0},{"$f":"IF(AND($AW69=$AW67,$AX69>$AX67),-1,0)","v":0},{"$f":"IF(AND($AW69=$AW66,$AX69>$AX66),-1,0)","v":0},{"$f":"IF(AND($AW69=$AW65,$AX69>$AX65),-1,0)","v":0},{"$f":"IF(AND($AW69=$AW64,$AX69>$AX64),-1,0)","v":0},{"$f":"IF(AND($AW69=$AW63,$AX69>$AX63),-1,0)","v":0},{"$f":"IF(AND($AW69=$AW62,$AX69>$AX62),-1,0)","v":0}]
[null,null,null,null,null,null,null,null,null,null,null,null,null,null,null,null,null,null,null,null,null,null,null,null,null,null,null,null,null,null,null,null,null,null,null,null,null,null,null,null,{"$f":"IF(T$2>=9,9,\"\")","v":""},"",null,null,null,""]
[null,null,null,null,null,null,null,null,null,null,null,null,null,null,null,null,null,null,null,null,null,null,null,null,null,null,null,null,null,null,null,null,null,null,null,null,null,null,null,null,null,null,null,null,null,null,null,null,null,null,{"$f":"SUM(AY62:AY70)","v":36},null,null,null,null,null,null,null,null,"revised"]

{"sheet":"Results by Club","index":11,"n_rows":192,"n_cols":18,"rows_kept":192,"cut":false,"hidden":false,"merged":[[3,8,3,9],[3,10,3,11],[3,12,3,13],[87,8,87,9],[63,8,63,9],[18,8,18,9],[18,10,18,11],[40,8,40,9],[63,10,63,11],[18,12,18,13],[40,10,40,11],[173,8,173,9],[173,10,173,11],[173,12,173,13],[40,12,40,13],[87,10,87,11],[63,12,63,13],[87,12,87,13],[148,8,148,9],[148,10,148,11],[148,12,148,13],[125,8,125,9],[125,10,125,11],[125,12,125,13],[103,8,103,9],[103,10,103,11],[103,12,103,13]]}
[null,null,null,null,{"$f":"'Event Details'!D5","v":"Heart of England League"}]
[null,"Letter","Club",null,"Venue",null,"Date"]
[null,"Y",{"$f":"VLOOKUP(B3,Clubs,2,FALSE)","v":"Worcester"},null,{"$f":"'Event Details'!F17","v":"Worcester"},null,{"$f":"'Event Details'!B17","v":"5th June 2016"}]
[null,null,null,null,"Name",null,"Name",null,"Time / Distance",null,"Position",null,"Points"]
[null,null,null,null,"A",null,"B",null,"A","B","A","B","A","B",{"$f":"'Event Details'!C32+1","v":9},{"$f":"VLOOKUP(B3,P8:Q15,2,FALSE)","v":8},{"$f":"VLOOKUP(B3,P8:R15,3,FALSE)","v":"Worc"}]
["Event","Event","Under 11 Male",null,"(inc. first name)",null,"(inc. first name)"]
["No","Time",null,null,"A",null,"B",null,"A","B","A","B","A","B"]
[{"$f":"'Team Declaration Sheet'!B7","v":0},{"$f":"'Team Declaration Sheet'!C7","v":0},{"$f":"'Team Declaration Sheet'!D7","v":"Under 11 Male"},null,{"$f":"IF(A8>0,VLOOKUP(A8&\"A\",Results3,30+$K8,FALSE),0)","v":0},null,{"$f":"IF(A8>0,VLOOKUP(A8&\"B\",Results3,30+$L8,FALSE),0)","v":0},null,{"$f":"IF(A8>0,VLOOKUP(A8,Data2,I$6,FALSE),\" \")","v":" "},{"$f":"IF(A8>0,VLOOKUP(A8,Data2,J$6,FALSE),\" \")","v":" "},{"$f":"IF(A8>0,VLOOKUP(A8,Data2,K$6,FALSE),\" \")","v":" "},{"$f":"IF(A8>0,VLOOKUP(A8,Data2,L$6,FALSE),\" \")","v":" "},{"$f":"IF(OR(I8=\"DNF\",ISTEXT(K8)),0,IF(K8>0,$O$5-K8,0))","v":0},0,null,{"$f":"'Event Details'!C22","v":"J"},1,{"$f":"'Event Details'!G22","v":"Ban"}]
[2,{"$f":"IF($A9>0,VLOOKUP($A9,EventsOrder,2,FALSE),\" \")","v":11.45},{"$f":"IF($A9>0,VLOOKUP($A9,EventsOrder,6,FALSE),\" \")","v":"Howler "},null,{"$f":"IF(A9>0,VLOOKUP(A9&\"A\",Results3,30+$K9,FALSE),0)","v":"Linus Burnage"},null,{"$f":"IF(A9>0,VLOOKUP(A9&\"B\",Results3,30+$L9,FALSE),0)","v":"Ellis Hartland"},null,{"$f":"IF(A9>0,VLOOKUP(A9&\"A\",Results3,46+$P$5,FALSE),\" \")","v":23.67},{"$f":"IF(A9>0,VLOOKUP(A9&\"B\",Results3,46+$P$5,FALSE),\" \")","v":15.76},{"$f":"IF(A9>0,VLOOKUP(A9&\"A\",Results3,54+$P$5,FALSE),\" \")","v":6},{"$f":"IF(A9>0,VLOOKUP(A9&\"B\",Results3,54+$P$5,FALSE),\" \")","v":5},{"$f":"IF(OR(I9=\"DNF\",ISTEXT(K9)),0,IF(K9>0,$O$5-K9,0))","v":3},{"$f":"IF(OR(J9=\"DNF\",ISTEXT(L9)),0,IF(L9>0,$O$5-L9,0))","v":4},null,{"$f":"'Event Details'!C23","v":"P"},2,{"$f":"'Event Details'!G23","v":"Bic"}]
[14,{"$f":"IF($A10>0,VLOOKUP($A10,EventsOrder,2,FALSE),\" \")","v":12.3},{"$f":"IF($A10>0,VLOOKUP($A10,EventsOrder,6,FALSE),\" \")","v":"Long Jump Pit 1"},null,{"$f":"IF(A10>0,VLOOKUP(A10&\"A\",Results3,30+$K10,FALSE),0)","v":"Harry Ferrett"},null,{"$f":"IF(A10>0,VLOOKUP(A10&\"B\",Results3,30+$L10,FALSE),0)","v":"Jack Adams"},null,{"$f":"IF(A10>0,VLOOKUP(A10&\"A\",Results3,46+$P$5,FALSE),\" \")","v":3.92},{"$f":"IF(A10>0,VLOOKUP(A10&\"B\",Results3,46+$P$5,FALSE),\" \")","v":2.76},{"$f":"IF(A10>0,VLOOKUP(A10&\"A\",Results3,54+$P$5,FALSE),\" \")","v":1},{"$f":"IF(A10>0,VLOOKUP(A10&\"B\",Results3,54+$P$5,FALSE),\" \")","v":5},8,4,null,{"$f":"'Event Details'!C24","v":"B"},3,{"$f":"'Event Details'!G24","v":"DASH"}]
[33,{"$f":"IF($A11>0,VLOOKUP($A11,EventsOrder,2,FALSE),\" \")","v":2},{"$f":"IF($A11>0,VLOOKUP($A11,EventsOrder,6,FALSE),\" \")","v":"600m "},null,{"$f":"IF(A11>0,VLOOKUP(A11&\"A\",Results3,30+$K11,FALSE),0)","v":"Ellis Hartland"},null,{"$f":"IF(A11>0,VLOOKUP(A11&\"B\",Results3,30+$L11,FALSE),0)","v":"Jack Adams"},null,{"$f":"IF(A11>0,VLOOKUP(A11&\"A\",Results3,46+$P$5,FALSE),\" \")","v":"2.04.7"},{"$f":"IF(A11>0,VLOOKUP(A11&\"B\",Results3,46+$P$5,FALSE),\" \")","v":"2.16.9"},{"$f":"IF(A11>0,VLOOKUP(A11&\"A\",Results3,54+$P$5,FALSE),\" \")","v":6},{"$f":"IF(A11>0,VLOOKUP(A11&\"B\",Results3,54+$P$5,FALSE),\" \")","v":6},3,3,null,{"$f":"'Event Details'!C25","v":"I"},4,{"$f":"'Event Details'!G25","v":"Kett"}]
[61,{"$f":"IF($A12>0,VLOOKUP($A12,EventsOrder,2,FALSE),\" \")","v":3.2},{"$f":"IF($A12>0,VLOOKUP($A12,EventsOrder,6,FALSE),\" \")","v":"75m "},null,{"$f":"IF(A12>0,VLOOKUP(A12&\"A\",Results3,30+$K12,FALSE),0)","v":"Linus Burnage"},null,{"$f":"IF(A12>0,VLOOKUP(A12&\"B\",Results3,30+$L12,FALSE),0)","v":"Harry Ferrett"},null,{"$f":"IF(A12>0,VLOOKUP(A12&\"A\",Results3,46+$P$5,FALSE),\" \")","v":12.4},{"$f":"IF(A12>0,VLOOKUP(A12&\"B\",Results3,46+$P$5,FALSE),\" \")","v":11.9},{"$f":"IF(A12>0,VLOOKUP(A12&\"A\",Results3,54+$P$5,FALSE),\" \")","v":6},{"$f":"IF(A12>0,VLOOKUP(A12&\"B\",Results3,54+$P$5,FALSE),\" \")","v":3},3,6,null,{"$f":"'Event Details'!C26","v":"R"},5,{"$f":"'Event Details'!G26","v":"Rad"}]
["Non-Scoring",null,null,"No's",null,"No's",null,null,null,null,null,null,null,null,null,{"$f":"'Event Details'!C27","v":"F"},6,{"$f":"'Event Details'!G27","v":"Tam"}]
[0,{"$f":"IF($A14>0,VLOOKUP($A14,EventsOrder,2,FALSE),\" \")","v":" "},{"$f":"IF($A14>0,VLOOKUP($A14,EventsOrder,6,FALSE),\" \")","v":" "},{"$f":"IF(A14>0,VLOOKUP(A14&\"A\",Results3,22+$K14,FALSE),0)","v":0},{"$f":"IF(A14>0,VLOOKUP(A14&\"A\",Results3,30+$K14,FALSE),0)","v":0},{"$f":"IF(A14>0,VLOOKUP(A14&\"B\",Results3,22+$L14,FALSE),0)","v":0},{"$f":"IF(A14>0,VLOOKUP(A14&\"B\",Results3,30+$L14,FALSE),0)","v":0},null,{"$f":"IF(A14>0,VLOOKUP(A14&\"A\",Results3,46+$P$5,FALSE),\" \")","v":" "},{"$f":"IF(A14>0,VLOOKUP(A14&\"B\",Results3,46+$P$5,FALSE),\" \")","v":" "},{"$f":"IF(A14>0,VLOOKUP(A14&\"A\",Results3,54+$P$5,FALSE),\" \")","v":" "},{"$f":"IF(A14>0,VLOOKUP(A14&\"B\",Results3,54+$P$5,FALSE),\" \")","v":" "},null,null,null,{"$f":"'Event Details'!C28","v":"X"},7,{"$f":"'Event Details'!G28","v":"Wreake"}]
[34,{"$f":"IF($A15>0,VLOOKUP($A15,EventsOrder,2,FALSE),\" \")","v":2.0499999999999998},{"$f":"IF($A15>0,VLOOKUP($A15,EventsOrder,6,FALSE),\" \")","v":"600m NS"},{"$f":"IF(A15>0,VLOOKUP(A15&\"A\",Results3,22+$K15,FALSE),0)","v":108},{"$f":"IF(A15>0,VLOOKUP(A15&\"A\",Results3,30+$K15,FALSE),0)","v":"Linus Burnage"},{"$f":"IF(A15>0,VLOOKUP(A15&\"B\",Results3,22+$L15,FALSE),0)","v":0},{"$f":"IF(A15>0,VLOOKUP(A15&\"B\",Results3,30+$L15,FALSE),0)","v":0},null,{"$f":"IF(A15>0,VLOOKUP(A15&\"A\",Results3,46+$P$5,FALSE),\" \")","v":"2.03.5"},{"$f":"IF(A15>0,VLOOKUP(A15&\"B\",Results3,46+$P$5,FALSE),\" \")","v":0},{"$f":"IF(A15>0,VLOOKUP(A15&\"A\",Results3,54+$P$5,FALSE),\" \")","v":2},{"$f":"IF(A15>0,VLOOKUP(A15&\"B\",Results3,54+$P$5,FALSE),\" \")","v":0},null,null,null,{"$f":"'Event Details'!C29","v":"Y"},8,{"$f":"'Event Details'!G29","v":"Worc"}]
[62,{"$f":"IF($A16>0,VLOOKUP($A16,EventsOrder,2,FALSE),\" \")","v":3.25},{"$f":"IF($A16>0,VLOOKUP($A16,EventsOrder,6,FALSE),\" \")","v":"75m NS"},{"$f":"IF(A16>0,VLOOKUP(A16&\"A\",Results3,22+$K16,FALSE),0)","v":109},{"$f":"IF(A16>0,VLOOKUP(A16&\"A\",Results3,30+$K16,FALSE),0)","v":"Jack Adams"},{"$f":"IF(A16>0,VLOOKUP(A16&\"B\",Results3,22+$L16,FALSE),0)","v":0},{"$f":"IF(A16>0,VLOOKUP(A16&\"B\",Results3,30+$L16,FALSE),0)","v":0},null,{"$f":"IF(A16>0,VLOOKUP(A16&\"A\",Results3,46+$P$5,FALSE),\" \")","v":12.6},{"$f":"IF(A16>0,VLOOKUP(A16&\"B\",Results3,46+$P$5,FALSE),\" \")","v":0},{"$f":"IF(A16>0,VLOOKUP(A16&\"A\",Results3,54+$P$5,FALSE),\" \")","v":3},{"$f":"IF(A16>0,VLOOKUP(A16&\"B\",Results3,54+$P$5,FALSE),\" \")","v":0}]
[null,null,null,null,null,null,null,null,null,null,null,"Total",{"$f":"SUM(M8:M16)","v":17},{"$f":"SUM(N8:N16)","v":17}]
[]
["Event","Event","Under 13 Male",null,"(inc. first name)",null,"(inc. first name)",null,"Time / Distance",null,"Position",null,"Points"]
["No","Time",null,null,"A",null,"B",null,"A","B","A","B","A","B"]
[null,null,"Track"]
[12,{"$f":"IF($A22>0,VLOOKUP($A22,EventsOrder,2,FALSE),\" \")","v":12.2},{"$f":"IF($A22>0,VLOOKUP($A22,EventsOrder,6,FALSE),\" \")","v":"800m "},null,{"$f":"IF(A22>0,VLOOKUP(A22&\"A\",Results3,30+$K22,FALSE),0)","v":"Ben Harle"},null,{"$f":"IF(A22>0,VLOOKUP(A22&\"B\",Results3,30+$L22,FALSE),0)","v":"Riley Carpenter"},null,{"$f":"IF(A22>0,VLOOKUP(A22&\"A\",Results3,46+$P$5,FALSE),\" \")","v":"2.38.7"},{"$f":"IF(A22>0,VLOOKUP(A22&\"B\",Results3,46+$P$5,FALSE),\" \")","v":"2.44.0"},{"$f":"IF(A22>0,VLOOKUP(A22&\"A\",Results3,54+$P$5,FALSE),\" \")","v":2},{"$f":"IF(A22>0,VLOOKUP(A22&\"B\",Results3,54+$P$5,FALSE),\" \")","v":3},{"$f":"IF(OR(I22=\"DNF\",ISTEXT(K22)),0,IF(K22>0,$O$5-K22,0))","v":7},{"$f":"IF(OR(J22=\"DNF\",ISTEXT(L22)),0,IF(L22>0,$O$5-L22,0))","v":6}]
[15,12.35,"75m hurdles ",null,"Alfie Robbins",null,0,null,{"$f":"IF(A23>0,VLOOKUP(A23&\"A\",Results3,46+$P$5,FALSE),\" \")","v":16.899999999999999},0,{"$f":"IF(A23>0,VLOOKUP(A23&\"A\",Results3,54+$P$5,FALSE),\" \")","v":5},0,4,0]
[41,2.25,"100m ",null,"Adam Dudley",null,"Harry Cunningham",null,{"$f":"IF(A24>0,VLOOKUP(A24&\"A\",Results3,46+$P$5,FALSE),\" \")","v":14},14.9,{"$f":"IF(A24>0,VLOOKUP(A24&\"A\",Results3,54+$P$5,FALSE),\" \")","v":5},6,4,3]
[70,3.5,"200m ",null,"Adam Dudley",null,"Reuben Taylor-George",null,29.6,30.1,4,2,5,7]
[73,4.2,"1500m ",null,"Ronan Williams",null,"Hugo Robinson",null,"5.26.0","5.37.6",4,2,5,7]
[null," "," ",null,0,null,0,null," "," "," "," ",0,0]
[null,null,"Relays"]
[85,{"$f":"IF($A29>0,VLOOKUP($A29,EventsOrder,2,FALSE),\" \")","v":5.0999999999999996},{"$f":"IF($A29>0,VLOOKUP($A29,EventsOrder,6,FALSE),\" \")","v":"4 x 100m "},null,{"$f":"C3","v":"Worcester"},null,null,null,57.5,null,2,null,7]
[{"$f":"A29&\"R\"","v":"85R"},null,null,1,{"$f":"HLOOKUP($Q$5,Relays,22,FALSE)","v":"Ronan Williams"},2,{"$f":"HLOOKUP($Q$5,Relays,23,FALSE)","v":"Adam Dudley"}]
[{"$f":"A29&\"S\"","v":"85S"},null,null,3,{"$f":"HLOOKUP($Q$5,Relays,24,FALSE)","v":"Reuben Taylor-George"},4,{"$f":"HLOOKUP($Q$5,Relays,25,FALSE)","v":"Jacob Khan"}]
[null,null,"Field Events"]
[5,{"$f":"IF($A33>0,VLOOKUP($A33,EventsOrder,2,FALSE),\" \")","v":12},{"$f":"IF($A33>0,VLOOKUP($A33,EventsOrder,6,FALSE),\" \")","v":"High Jump "},null,{"$f":"IF(A33>0,VLOOKUP(A33&\"A\",Results3,30+$K33,FALSE),0)","v":"Jacob Khan"},null,{"$f":"IF(A33>0,VLOOKUP(A33&\"B\",Results3,30+$L33,FALSE),0)","v":0},null,{"$f":"IF(A33>0,VLOOKUP(A33&\"A\",Results3,46+$P$5,FALSE),\" \")","v":1.1000000000000001},null,{"$f":"IF(A33>0,VLOOKUP(A33&\"A\",Results3,54+$P$5,FALSE),\" \")","v":4},null,{"$f":"IF(OR(I33=\"DNF\",ISTEXT(K33)),0,IF(K33>0,$O$5-K33,0))","v":5},{"$f":"IF(OR(J33=\"DNF\",ISTEXT(L33)),0,IF(L33>0,$O$5-L33,0))","v":0}]
[24,{"$f":"IF($A34>0,VLOOKUP($A34,EventsOrder,2,FALSE),\" \")","v":1},{"$f":"IF($A34>0,VLOOKUP($A34,EventsOrder,6,FALSE),\" \")","v":"Javelin Match 1 & 3"},null,0,null,0,null,0,{"$f":"IF(A34>0,VLOOKUP(A34&\"B\",Results3,46+$P$5,FALSE),\" \")","v":0},0,{"$f":"IF(A34>0,VLOOKUP(A34&\"B\",Results3,54+$P$5,FALSE),\" \")","v":0},{"$f":"IF(OR(I34=\"DNF\",ISTEXT(K34)),0,IF(K34>0,$O$5-K34,0))","v":0},0]
[52,{"$f":"IF($A35>0,VLOOKUP($A35,EventsOrder,2,FALSE),\" \")","v":2.4},{"$f":"IF($A35>0,VLOOKUP($A35,EventsOrder,6,FALSE),\" \")","v":"Shot "},null,"Alex Santafe",null,"Spike Burnage",null,5.78,{"$f":"IF(A35>0,VLOOKUP(A35&\"B\",Results3,46+$P$5,FALSE),\" \")","v":5.78},2,{"$f":"IF(A35>0,VLOOKUP(A35&\"B\",Results3,54+$P$5,FALSE),\" \")","v":1},{"$f":"IF(OR(I35=\"DNF\",ISTEXT(K35)),0,IF(K35>0,$O$5-K35,0))","v":7},8]
[64,{"$f":"IF($A36>0,VLOOKUP($A36,EventsOrder,2,FALSE),\" \")","v":3.2},{"$f":"IF($A36>0,VLOOKUP($A36,EventsOrder,6,FALSE),\" \")","v":"Long Jump Pit 2"},null,"Reuben Taylor-George",null,"Harry Cunningham",null,3.89,{"$f":"IF(A36>0,VLOOKUP(A36&\"B\",Results3,46+$P$5,FALSE),\" \")","v":3.78},6,{"$f":"IF(A36>0,VLOOKUP(A36&\"B\",Results3,54+$P$5,FALSE),\" \")","v":2},{"$f":"IF(OR(I36=\"DNF\",ISTEXT(K36)),0,IF(K36>0,$O$5-K36,0))","v":3},7]
[78,{"$f":"IF($A37>0,VLOOKUP($A37,EventsOrder,2,FALSE),\" \")","v":4.2},{"$f":"IF($A37>0,VLOOKUP($A37,EventsOrder,6,FALSE),\" \")","v":"Discus Match 2"},null,"Riley Carpenter",null,"Alex Santafe",null,14.17,{"$f":"IF(A37>0,VLOOKUP(A37&\"B\",Results3,46+$P$5,FALSE),\" \")","v":13.67},1,{"$f":"IF(A37>0,VLOOKUP(A37&\"B\",Results3,54+$P$5,FALSE),\" \")","v":1},{"$f":"IF(OR(I37=\"DNF\",ISTEXT(K37)),0,IF(K37>0,$O$5-K37,0))","v":8},8]
[0,{"$f":"'Team Declaration Sheet'!C32","v":" "},"Officials",null,0,null,0,null," ",{"$f":"IF(A38>0,VLOOKUP(A38&\"B\",Results3,46+$P$5,FALSE),\" \")","v":" "}," ",{"$f":"IF(A38>0,VLOOKUP(A38&\"B\",Results3,54+$P$5,FALSE),\" \")","v":" "},{"$f":"HLOOKUP(B$3,Officials,10,FALSE)","v":14},0]
[null,null,null,null,null,null,null,null,null,null,null,"Total",{"$f":"SUM(M22:M38)","v":69},{"$f":"SUM(N22:N38)","v":46}]
[]
["Event","Event","Under 15 Male",null,"(inc. first name)",null,"(inc. first name)",null,"Time / Distance",null,"Position",null,"Points"]
["No","Time",null,null,"A",null,"B",null,"A","B","A","B","A","B"]
[null,null,"Track"]
[16,{"$f":"IF($A44>0,VLOOKUP($A44,EventsOrder,2,FALSE),\" \")","v":12.4},{"$f":"IF($A44>0,VLOOKUP($A44,EventsOrder,6,FALSE),\" \")","v":"800m "},null,{"$f":"IF(A44>0,VLOOKUP(A44&\"A\",Results3,30+$K44,FALSE),0)","v":"Reece Westwood"},null,{"$f":"IF(A44>0,VLOOKUP(A44&\"B\",Results3,30+$L44,FALSE),0)","v":"Reece Westwood"},null,{"$f":"IF(A44>0,VLOOKUP(A44&\"A\",Results3,46+$P$5,FALSE),\" \")","v":0},{"$f":"IF(A44>0,VLOOKUP(A44&\"B\",Results3,46+$P$5,FALSE),\" \")","v":"2.50.3"},{"$f":"IF(A44>0,VLOOKUP(A44&\"A\",Results3,54+$P$5,FALSE),\" \")","v":5},{"$f":"IF(A44>0,VLOOKUP(A44&\"B\",Results3,54+$P$5,FALSE),\" \")","v":2},{"$f":"IF(OR(I44=\"DNF\",ISTEXT(K44)),0,IF(K44>0,$O$5-K44,0))","v":4},{"$f":"IF(OR(J44=\"DNF\",ISTEXT(L44)),0,IF(L44>0,$O$5-L44,0))","v":7}]
[20,1.05,"80m hurdles ",null,0,null,0,null,0,0,0,0,0,0]
[42,2.2999999999999998,"100m ",null,"Marco Miller",null,"Charlie Bloomfield",null,12.6,13.5,5,2,4,7]
[55,2.5499999999999998,"300m ",null,"Sam Davey",null,0,null,47.2,0,7,0,2,0]
[71,3.55,"200m ",null,"Darian Moore",null,"Andrew Jay",null,24.2,"NTR",1,2,8,7]
[76,4.3,"1500m ",null,"James Dale",null,0,null,"4.47.4",0,3,0,6,0]
[null,null,null,null,0,null,0,null," "," "," "," ",0,0]
[null,null,"Relays",null,null,null,null,null,null,null,null,null,null,{"$f":"IF(OR(J51=\"DNF\",ISTEXT(L51)),0,IF(L51>0,$O$5-L51,0))","v":0}]
[86,{"$f":"IF($A52>0,VLOOKUP($A52,EventsOrder,2,FALSE),\" \")","v":5.15},{"$f":"IF($A52>0,VLOOKUP($A52,EventsOrder,6,FALSE),\" \")","v":"4 x 100m "},null,{"$f":"C3","v":"Worcester"},null,null,null,51.2,null,1,null,{"$f":"IF(OR(I52=\"DNF\",ISTEXT(K52)),0,IF(K52>0,$O$5-K52,0))","v":8},{"$f":"IF(OR(J52=\"DNF\",ISTEXT(L52)),0,IF(L52>0,$O$5-L52,0))","v":0}]
[{"$f":"A52&\"R\"","v":"86R"},null,null,1,{"$f":"HLOOKUP($Q$5,Relays,27,FALSE)","v":"Charlie Bloomfield"},2,{"$f":"HLOOKUP($Q$5,Relays,28,FALSE)","v":"Andrew Jay"}]
[{"$f":"A52&\"S\"","v":"86S"},null,null,3,{"$f":"HLOOKUP($Q$5,Relays,29,FALSE)","v":"Marco Miller"},4,{"$f":"HLOOKUP($Q$5,Relays,30,FALSE)","v":"Darian Moore"}]
[null,null,"Field Events"]
[6,{"$f":"IF($A56>0,VLOOKUP($A56,EventsOrder,2,FALSE),\" \")","v":12},{"$f":"IF($A56>0,VLOOKUP($A56,EventsOrder,6,FALSE),\" \")","v":"Long Jump Pit 2"},null,{"$f":"IF(A56>0,VLOOKUP(A56&\"A\",Results3,30+$K56,FALSE),0)","v":"Darian Moore"},null,{"$f":"IF(A56>0,VLOOKUP(A56&\"B\",Results3,30+$L56,FALSE),0)","v":"Marco Miller"},null,{"$f":"IF(A56>0,VLOOKUP(A56&\"A\",Results3,46+$P$5,FALSE),\" \")","v":5.58},{"$f":"IF(A56>0,VLOOKUP(A56&\"B\",Results3,46+$P$5,FALSE),\" \")","v":4.03},{"$f":"IF(A56>0,VLOOKUP(A56&\"A\",Results3,54+$P$5,FALSE),\" \")","v":1},{"$f":"IF(A56>0,VLOOKUP(A56&\"B\",Results3,54+$P$5,FALSE),\" \")","v":1},{"$f":"IF(OR(I56=\"DNF\",ISTEXT(K56)),0,IF(K56>0,$O$5-K56,0))","v":8},{"$f":"IF(OR(J56=\"DNF\",ISTEXT(L56)),0,IF(L56>0,$O$5-L56,0))","v":8}]
[22,{"$f":"IF($A57>0,VLOOKUP($A57,EventsOrder,2,FALSE),\" \")","v":1},{"$f":"IF($A57>0,VLOOKUP($A57,EventsOrder,6,FALSE),\" \")","v":"Shot "},null,"Andrew Jay",null,"Reece Westwood",null,7.98,5.75,3,3,{"$f":"IF(OR(I57=\"DNF\",ISTEXT(K57)),0,IF(K57>0,$O$5-K57,0))","v":6},6]
[39,{"$f":"IF($A58>0,VLOOKUP($A58,EventsOrder,2,FALSE),\" \")","v":1.5},{"$f":"IF($A58>0,VLOOKUP($A58,EventsOrder,6,FALSE),\" \")","v":"Javelin Match 1 & 3"},null,0,null,0,null,0,0,0,0,{"$f":"IF(OR(I58=\"DNF\",ISTEXT(K58)),0,IF(K58>0,$O$5-K58,0))","v":0},0]
[45,{"$f":"IF($A59>0,VLOOKUP($A59,EventsOrder,2,FALSE),\" \")","v":2.25},{"$f":"IF($A59>0,VLOOKUP($A59,EventsOrder,6,FALSE),\" \")","v":"High Jump "},null,"Andrew Jay",null,0,null,1.57,null,2,null,{"$f":"IF(OR(I59=\"DNF\",ISTEXT(K59)),0,IF(K59>0,$O$5-K59,0))","v":7},0]
[66,{"$f":"IF($A60>0,VLOOKUP($A60,EventsOrder,2,FALSE),\" \")","v":3.3},{"$f":"IF($A60>0,VLOOKUP($A60,EventsOrder,6,FALSE),\" \")","v":"Discus Match 2"},null,"Reece Westwood",null,0,null,13.4,0,5,0,{"$f":"IF(OR(I60=\"DNF\",ISTEXT(K60)),0,IF(K60>0,$O$5-K60,0))","v":4},0]
[{"$f":"'Team Declaration Sheet'!B50","v":0},{"$f":"'Team Declaration Sheet'!C50","v":" "},"Officials",null,0,null,0,null," "," "," "," ",{"$f":"HLOOKUP(B$3,Officials,10,FALSE)","v":14},0]
[null,null,null,null,null,null,null,null,null,null,null,"Total",{"$f":"SUM(M44:M61)","v":71},{"$f":"SUM(N44:N61)","v":35}]
[]
["Event","Event","Under 17 Men",null,"(inc. first name)",null,"(inc. first name)",null,"Time / Distance",null,"Position",null,"Points"]
["No","Time",null,null,"A",null,"B",null,"A","B","A","B","A","B"]
[null,null,"Track"]
[18,{"$f":"IF($A67>0,VLOOKUP($A67,EventsOrder,2,FALSE),\" \")","v":12.5},{"$f":"IF($A67>0,VLOOKUP($A67,EventsOrder,6,FALSE),\" \")","v":"800m "},null,{"$f":"IF(A67>0,VLOOKUP(A67&\"A\",Results3,30+$K67,FALSE),0)","v":"Phil Capewell"},null,{"$f":"IF(A67>0,VLOOKUP(A67&\"B\",Results3,30+$L67,FALSE),0)","v":0},null,{"$f":"IF(A67>0,VLOOKUP(A67&\"A\",Results3,46+$P$5,FALSE),\" \")","v":"2.15.8"},{"$f":"IF(A67>0,VLOOKUP(A67&\"B\",Results3,46+$P$5,FALSE),\" \")","v":0},{"$f":"IF(A67>0,VLOOKUP(A67&\"A\",Results3,54+$P$5,FALSE),\" \")","v":4},{"$f":"IF(A67>0,VLOOKUP(A67&\"B\",Results3,54+$P$5,FALSE),\" \")","v":0},{"$f":"IF(OR(I67=\"DNF\",ISTEXT(K67)),0,IF(K67>0,$O$5-K67,0))","v":5},{"$f":"IF(OR(J67=\"DNF\",ISTEXT(L67)),0,IF(L67>0,$O$5-L67,0))","v":0}]
[27,1.35,"100m hurdles ",null,0,null,0,null,0,0,0,0,0,0]
[43,2.35,"100m ",null,"Claudio Oliviera",null,"Reiss Francis",null,11.7,11.8,2,1,7,8]
[57,3,"400m ",null,"Sam Lowe",null,0,null,53.6,0,1,0,8,0]
[72,4,"200m ",null,"Ollie Gould",null,"Josh Bentley",null,23,23.9,1,2,8,7]
[80,4.4000000000000004,"1500m ",null,"Jake Cavens",null,"Phil Capewell",null,"4.25.8","4.39.8",1,1,8,8]
[null,null,null,null,0,null,0,null," "," "," "," ",0,0]
[null,null,"Relays"]
[87,{"$f":"IF($A75>0,VLOOKUP($A75,EventsOrder,2,FALSE),\" \")","v":5.2},{"$f":"IF($A75>0,VLOOKUP($A75,EventsOrder,6,FALSE),\" \")","v":"4 x 100m "},null,{"$f":"C3","v":"Worcester"},null,null,null,44.7,null,1,null,8]
[{"$f":"A75&\"R\"","v":"87R"},null,null,1,{"$f":"HLOOKUP($Q$5,Relays,32,FALSE)","v":"Josh Bentley"},2,{"$f":"HLOOKUP($Q$5,Relays,33,FALSE)","v":"Reiss Francis"},null,null,null,null,null,null,{"$f":"IF(OR(J76=\"DNF\",ISTEXT(L76)),0,IF(L76>0,$O$5-L76,0))","v":0}]
[{"$f":"A75&\"S\"","v":"87S"},null,null,3,{"$f":"HLOOKUP($Q$5,Relays,34,FALSE)","v":"Sam Lowe"},4,{"$f":"HLOOKUP($Q$5,Relays,35,FALSE)","v":"Ollie Gould"}]
[null,null,"Field Events"]
[8,{"$f":"IF($A79>0,VLOOKUP($A79,EventsOrder,2,FALSE),\" \")","v":12.15},{"$f":"IF($A79>0,VLOOKUP($A79,EventsOrder,6,FALSE),\" \")","v":"Shot "},null,{"$f":"IF(A79>0,VLOOKUP(A79&\"A\",Results3,30+$K79,FALSE),0)","v":"Reiss Francis"},null,{"$f":"IF(A79>0,VLOOKUP(A79&\"B\",Results3,30+$L79,FALSE),0)","v":"Josh Bentley"},null,{"$f":"IF(A79>0,VLOOKUP(A79&\"A\",Results3,46+$P$5,FALSE),\" \")","v":8.41},{"$f":"IF(A79>0,VLOOKUP(A79&\"B\",Results3,46+$P$5,FALSE),\" \")","v":6.8},{"$f":"IF(A79>0,VLOOKUP(A79&\"A\",Results3,54+$P$5,FALSE),\" \")","v":1},{"$f":"IF(A79>0,VLOOKUP(A79&\"B\",Results3,54+$P$5,FALSE),\" \")","v":2},{"$f":"IF(OR(I79=\"DNF\",ISTEXT(K79)),0,IF(K79>0,$O$5-K79,0))","v":8},{"$f":"IF(OR(J79=\"DNF\",ISTEXT(L79)),0,IF(L79>0,$O$5-L79,0))","v":7}]
[23,1,{"$f":"IF($A80>0,VLOOKUP($A80,EventsOrder,6,FALSE),\" \")","v":"Discus Match 2"},null,0,null,0,null,0,0,0,0,{"$f":"IF(OR(I80=\"DNF\",ISTEXT(K80)),0,IF(K80>0,$O$5-K80,0))","v":0},0]
[32,1.3,{"$f":"IF($A81>0,VLOOKUP($A81,EventsOrder,6,FALSE),\" \")","v":"Long Jump Pit1"},null,"Ollie Gould",null,"Josh Bentley",null,6.23,5.08,1,2,{"$f":"IF(OR(I81=\"DNF\",ISTEXT(K81)),0,IF(K81>0,$O$5-K81,0))","v":8},7]
[67,3.3,{"$f":"IF($A82>0,VLOOKUP($A82,EventsOrder,6,FALSE),\" \")","v":"Javelin Match 1 & 3"},null,0,null,0,null,0,0,0,0,{"$f":"IF(OR(I82=\"DNF\",ISTEXT(K82)),0,IF(K82>0,$O$5-K82,0))","v":0},0]
[74,4.0999999999999996,{"$f":"IF($A83>0,VLOOKUP($A83,EventsOrder,6,FALSE),\" \")","v":"High Jump "},null,"Reiss Francis",null,0,null,1.7,null,1,null,{"$f":"IF(OR(I83=\"DNF\",ISTEXT(K83)),0,IF(K83>0,$O$5-K83,0))","v":8},0]
[{"$f":"'Team Declaration Sheet'!B68","v":0}," ","Officials",null,0,null,0,null," "," "," "," ",{"$f":"HLOOKUP(B$3,Officials,10,FALSE)","v":14},0]
[null,null,null,null,null,null,null,null,null,null,null,"Total",{"$f":"SUM(M67:M84)","v":82},{"$f":"SUM(N67:N84)","v":37}]
[null,null,null,null,null,null,null,null,null,null,null,"Total Male",{"$f":"M85+M62+M39","v":222},{"$f":"N85+N62+N39","v":118}]
[]
["Event","Event","Under 11 Female",null,"(inc. first name)",null,"(inc. first name)",null,"Time / Distance",null,"Position",null,"Points"]
["No","Time",null,null,"A",null,"B",null,"A","B","A","B","A","B"]
[3,{"$f":"IF($A90>0,VLOOKUP($A90,EventsOrder,2,FALSE),\" \")","v":11.45},{"$f":"IF($A90>0,VLOOKUP($A90,EventsOrder,6,FALSE),\" \")","v":"Howler "},null,{"$f":"IF(A90>0,VLOOKUP(A90&\"A\",Results3,30+$K90,FALSE),0)","v":"Jasmine Stokes"},null,{"$f":"IF(A90>0,VLOOKUP(A90&\"B\",Results3,30+$L90,FALSE),0)","v":0},null,{"$f":"IF(A90>0,VLOOKUP(A90&\"A\",Results3,46+$P$5,FALSE),\" \")","v":23.63},{"$f":"IF(A90>0,VLOOKUP(A90&\"B\",Results3,46+$P$5,FALSE),\" \")","v":0},{"$f":"IF(A90>0,VLOOKUP(A90&\"A\",Results3,54+$P$5,FALSE),\" \")","v":1},{"$f":"IF(A90>0,VLOOKUP(A90&\"B\",Results3,54+$P$5,FALSE),\" \")","v":0},{"$f":"IF(OR(I90=\"DNF\",ISTEXT(K90)),0,IF(K90>0,$O$5-K90,0))","v":8},{"$f":"IF(OR(J90=\"DNF\",ISTEXT(L90)),0,IF(L90>0,$O$5-L90,0))","v":0}]
[29,{"$f":"IF($A91>0,VLOOKUP($A91,EventsOrder,2,FALSE),\" \")","v":1.5},{"$f":"IF($A91>0,VLOOKUP($A91,EventsOrder,6,FALSE),\" \")","v":"600m "},null,{"$f":"IF(A91>0,VLOOKUP(A91&\"A\",Results3,30+$K91,FALSE),0)","v":"Molly Davey"},null,{"$f":"IF(A91>0,VLOOKUP(A91&\"B\",Results3,30+$L91,FALSE),0)","v":"Georgia Wharton"},null,{"$f":"IF(A91>0,VLOOKUP(A91&\"A\",Results3,46+$P$5,FALSE),\" \")","v":"2.27.0"},{"$f":"IF(A91>0,VLOOKUP(A91&\"B\",Results3,46+$P$5,FALSE),\" \")","v":"2.24.6"},{"$f":"IF(A91>0,VLOOKUP(A91&\"A\",Results3,54+$P$5,FALSE),\" \")","v":5},{"$f":"IF(A91>0,VLOOKUP(A91&\"B\",Results3,54+$P$5,FALSE),\" \")","v":5},{"$f":"IF(OR(I91=\"DNF\",ISTEXT(K91)),0,IF(K91>0,$O$5-K91,0))","v":4},4]
[44,{"$f":"IF($A92>0,VLOOKUP($A92,EventsOrder,2,FALSE),\" \")","v":2.1},{"$f":"IF($A92>0,VLOOKUP($A92,EventsOrder,6,FALSE),\" \")","v":"Long Jump Pit 2"},null,{"$f":"IF(A92>0,VLOOKUP(A92&\"A\",Results3,30+$K92,FALSE),0)","v":"Alice Dixon"},null,{"$f":"IF(A92>0,VLOOKUP(A92&\"B\",Results3,30+$L92,FALSE),0)","v":"Beth Hallam"},null,{"$f":"IF(A92>0,VLOOKUP(A92&\"A\",Results3,46+$P$5,FALSE),\" \")","v":2.89},{"$f":"IF(A92>0,VLOOKUP(A92&\"B\",Results3,46+$P$5,FALSE),\" \")","v":2.33},{"$f":"IF(A92>0,VLOOKUP(A92&\"A\",Results3,54+$P$5,FALSE),\" \")","v":6},{"$f":"IF(A92>0,VLOOKUP(A92&\"B\",Results3,54+$P$5,FALSE),\" \")","v":7},3,2]
[58,{"$f":"IF($A93>0,VLOOKUP($A93,EventsOrder,2,FALSE),\" \")","v":3.1},{"$f":"IF($A93>0,VLOOKUP($A93,EventsOrder,6,FALSE),\" \")","v":"75m "},null,{"$f":"IF(A93>0,VLOOKUP(A93&\"A\",Results3,30+$K93,FALSE),0)","v":"Molly Davey"},null,{"$f":"IF(A93>0,VLOOKUP(A93&\"B\",Results3,30+$L93,FALSE),0)","v":"Georgia Wharton"},null,{"$f":"IF(A93>0,VLOOKUP(A93&\"A\",Results3,46+$P$5,FALSE),\" \")","v":13},{"$f":"IF(A93>0,VLOOKUP(A93&\"B\",Results3,46+$P$5,FALSE),\" \")","v":13.4},{"$f":"IF(A93>0,VLOOKUP(A93&\"A\",Results3,54+$P$5,FALSE),\" \")","v":7},{"$f":"IF(A93>0,VLOOKUP(A93&\"B\",Results3,54+$P$5,FALSE),\" \")","v":8},2,1]
[null,{"$f":"IF($A94>0,VLOOKUP($A94,EventsOrder,2,FALSE),\" \")","v":" "},{"$f":"IF($A94>0,VLOOKUP($A94,EventsOrder,6,FALSE),\" \")","v":" "},null,{"$f":"IF(A94>0,VLOOKUP(A94&\"A\",Results3,30+$K94,FALSE),0)","v":0},null,{"$f":"IF(A94>0,VLOOKUP(A94&\"B\",Results3,30+$L94,FALSE),0)","v":0},null,{"$f":"IF(A94>0,VLOOKUP(A94&\"A\",Results3,46+$P$5,FALSE),\" \")","v":" "},{"$f":"IF(A94>0,VLOOKUP(A94&\"B\",Results3,46+$P$5,FALSE),\" \")","v":" "},{"$f":"IF(A94>0,VLOOKUP(A94&\"A\",Results3,54+$P$5,FALSE),\" \")","v":" "},{"$f":"IF(A94>0,VLOOKUP(A94&\"B\",Results3,54+$P$5,FALSE),\" \")","v":" "},0,0]
["Non-Scoring",null,null,"No's",null,"No's"]
[0,{"$f":"IF($A96>0,VLOOKUP($A96,EventsOrder,2,FALSE),\" \")","v":" "},{"$f":"IF($A96>0,VLOOKUP($A96,EventsOrder,6,FALSE),\" \")","v":" "},{"$f":"IF(A96>0,VLOOKUP(A96&\"A\",Results3,22+$K96,FALSE),0)","v":0},{"$f":"IF(A96>0,VLOOKUP(A96&\"A\",Results3,30+$K96,FALSE),0)","v":0},{"$f":"IF(A96>0,VLOOKUP(A96&\"B\",Results3,22+$L96,FALSE),0)","v":0},{"$f":"IF(A96>0,VLOOKUP(A96&\"B\",Results3,30+$L96,FALSE),0)","v":0},null,{"$f":"IF(A96>0,VLOOKUP(A96&\"A\",Results3,46+$P$5,FALSE),\" \")","v":" "},{"$f":"IF(A96>0,VLOOKUP(A96&\"B\",Results3,46+$P$5,FALSE),\" \")","v":" "},{"$f":"IF(A96>0,VLOOKUP(A96&\"A\",Results3,54+$P$5,FALSE),\" \")","v":" "},{"$f":"IF(A96>0,VLOOKUP(A96&\"B\",Results3,54+$P$5,FALSE),\" \")","v":" "}]
[30,{"$f":"IF($A97>0,VLOOKUP($A97,EventsOrder,2,FALSE),\" \")","v":1.55},{"$f":"IF($A97>0,VLOOKUP($A97,EventsOrder,6,FALSE),\" \")","v":"600m NS"},{"$f":"IF(A97>0,VLOOKUP(A97&\"A\",Results3,22+$K97,FALSE),0)","v":115},{"$f":"IF(A97>0,VLOOKUP(A97&\"A\",Results3,30+$K97,FALSE),0)","v":"Beth Hallam"},{"$f":"IF(A97>0,VLOOKUP(A97&\"B\",Results3,22+$L97,FALSE),0)","v":0},{"$f":"IF(A97>0,VLOOKUP(A97&\"B\",Results3,30+$L97,FALSE),0)","v":0},null,{"$f":"IF(A97>0,VLOOKUP(A97&\"A\",Results3,46+$P$5,FALSE),\" \")","v":"2.37.5"},{"$f":"IF(A97>0,VLOOKUP(A97&\"B\",Results3,46+$P$5,FALSE),\" \")","v":0},{"$f":"IF(A97>0,VLOOKUP(A97&\"A\",Results3,54+$P$5,FALSE),\" \")","v":5},{"$f":"IF(A97>0,VLOOKUP(A97&\"B\",Results3,54+$P$5,FALSE),\" \")","v":0}]
[59,{"$f":"IF($A98>0,VLOOKUP($A98,EventsOrder,2,FALSE),\" \")","v":3.15},{"$f":"IF($A98>0,VLOOKUP($A98,EventsOrder,6,FALSE),\" \")","v":"75m   NS"},{"$f":"IF(A98>0,VLOOKUP(A98&\"A\",Results3,22+$K98,FALSE),0)","v":117},{"$f":"IF(A98>0,VLOOKUP(A98&\"A\",Results3,30+$K98,FALSE),0)","v":"Jasmine Stokes"},{"$f":"IF(A98>0,VLOOKUP(A98&\"B\",Results3,22+$L98,FALSE),0)","v":120},{"$f":"IF(A98>0,VLOOKUP(A98&\"B\",Results3,30+$L98,FALSE),0)","v":"Alice Dixon"},null,{"$f":"IF(A98>0,VLOOKUP(A98&\"A\",Results3,46+$P$5,FALSE),\" \")","v":14.5},{"$f":"IF(A98>0,VLOOKUP(A98&\"B\",Results3,46+$P$5,FALSE),\" \")","v":13.5},{"$f":"IF(A98>0,VLOOKUP(A98&\"A\",Results3,54+$P$5,FALSE),\" \")","v":5},{"$f":"IF(A98>0,VLOOKUP(A98&\"B\",Results3,54+$P$5,FALSE),\" \")","v":4}]
[81,{"$f":"IF($A99>0,VLOOKUP($A99,EventsOrder,2,FALSE),\" \")","v":4.5},{"$f":"IF($A99>0,VLOOKUP($A99,EventsOrder,6,FALSE),\" \")","v":"4 x 100m Mixed NS"},null,{"$f":"C3","v":"Worcester"},null,null,null,{"$f":"IF(A99>0,VLOOKUP(A99&\"A\",Results3,46+$P$5,FALSE),\" \")","v":70.2},{"$f":"IF(A99>0,VLOOKUP(A99&\"B\",Results3,46+$P$5,FALSE),\" \")","v":0},{"$f":"VLOOKUP(A99&\"A\",Results3,54+$P$5,FALSE)","v":7},{"$f":"VLOOKUP(A99&\"B\",Results3,54+$P$5,FALSE)","v":0}]
[{"$f":"A99&\"R\"","v":"81R"},null,null,1,{"$f":"HLOOKUP($Q$5,Relays,2,FALSE)","v":"Beth Hallam"},2,{"$f":"HLOOKUP($Q$5,Relays,3,FALSE)","v":"Ellis Hartland"},null,null,null,null,null,null,{"$f":"IF(OR(J100=\"DNF\",ISTEXT(L100)),0,IF(L100>0,$O$5-L100,0))","v":0}]
[{"$f":"A99&\"S\"","v":"81S"},null,null,3,{"$f":"HLOOKUP($Q$5,Relays,4,FALSE)","v":"Molly Davey"},4,{"$f":"HLOOKUP($Q$5,Relays,5,FALSE)","v":"Linus Burnage"}]
[null,null,null,null,null,null,null,null,null,null,null,"Total",{"$f":"SUM(M90:M101)","v":17},{"$f":"SUM(N90:N101)","v":7}]
[]
["Event","Event","Under 13 Female",null,"(inc. first name)",null,"(inc. first name)",null,"Time / Distance",null,"Position",null,"Points"]
["No","Time",null,null,"A",null,"B",null,"A","B","A","B","A","B"]
[null,null,"Track"]
[1,{"$f":"IF($A107>0,VLOOKUP($A107,EventsOrder,2,FALSE),\" \")","v":11.45},{"$f":"IF($A107>0,VLOOKUP($A107,EventsOrder,6,FALSE),\" \")","v":"1500m "},null,{"$f":"IF(A107>0,VLOOKUP(A107&\"A\",Results3,30+$K107,FALSE),0)","v":"Ruby Jarman"},null,{"$f":"IF(A107>0,VLOOKUP(A107&\"B\",Results3,30+$L107,FALSE),0)","v":"Megan Williams"},null,{"$f":"IF(A107>0,VLOOKUP(A107&\"A\",Results3,46+$P$5,FALSE),\" \")","v":"5.44.0"},{"$f":"IF(A107>0,VLOOKUP(A107&\"B\",Results3,46+$P$5,FALSE),\" \")","v":"5.55.1"},{"$f":"IF(A107>0,VLOOKUP(A107&\"A\",Results3,54+$P$5,FALSE),\" \")","v":3},{"$f":"IF(A107>0,VLOOKUP(A107&\"B\",Results3,54+$P$5,FALSE),\" \")","v":2},{"$f":"IF(OR(I107=\"DNF\",ISTEXT(K107)),0,IF(K107>0,$O$5-K107,0))","v":6},{"$f":"IF(OR(J107=\"DNF\",ISTEXT(L107)),0,IF(L107>0,$O$5-L107,0))","v":7}]
[11,{"$f":"IF($A108>0,VLOOKUP($A108,EventsOrder,2,FALSE),\" \")","v":12.15},{"$f":"IF($A108>0,VLOOKUP($A108,EventsOrder,6,FALSE),\" \")","v":"70m hurdles "},null,"Lucy Marriott",null,"Amber Hopkins",null,{"$f":"IF(A108>0,VLOOKUP(A108&\"A\",Results3,46+$P$5,FALSE),\" \")","v":12.5},13.9,4,4,{"$f":"IF(OR(I108=\"DNF\",ISTEXT(K108)),0,IF(K108>0,$O$5-K108,0))","v":5},5]
[25,{"$f":"IF($A109>0,VLOOKUP($A109,EventsOrder,2,FALSE),\" \")","v":1.1499999999999999},{"$f":"IF($A109>0,VLOOKUP($A109,EventsOrder,6,FALSE),\" \")","v":"800m "},null,"Katelyn Griffiths",null,"Olivia Tonkinson",null,"2.39.5","2.46.8",2,2,7,7]
[35,{"$f":"IF($A110>0,VLOOKUP($A110,EventsOrder,2,FALSE),\" \")","v":2.1},{"$f":"IF($A110>0,VLOOKUP($A110,EventsOrder,6,FALSE),\" \")","v":"100m "},null,"Lottie Bentley",null,"Evelyn Clarke",null,14.7,14.8,4,1,5,8]
[63,{"$f":"IF($A111>0,VLOOKUP($A111,EventsOrder,2,FALSE),\" \")","v":3.35},{"$f":"IF($A111>0,VLOOKUP($A111,EventsOrder,6,FALSE),\" \")","v":"200m "},null,"Aimee Cochrane",null,"Jemima Hobby",null,30.1,30.5,1,1,8,8]
[null,null,null,null,0,null,0,null," "," "," "," ",0,0]
[null,null,"Relays"]
[82,{"$f":"IF($A114>0,VLOOKUP($A114,EventsOrder,2,FALSE),\" \")","v":4.55},{"$f":"IF($A114>0,VLOOKUP($A114,EventsOrder,6,FALSE),\" \")","v":"4 x 100m "},null,{"$f":"C3","v":"Worcester"},null,null,null,60.6,null,{"$f":"IF(A114>0,VLOOKUP(A114&\"A\",Results3,54+$P$5,FALSE),\" \")","v":3},null,{"$f":"IF(OR(I114=\"DNF\",ISTEXT(K114)),0,IF(K114>0,$O$5-K114,0))","v":6}]
[{"$f":"A114&\"R\"","v":"82R"},null,null,1,{"$f":"HLOOKUP($Q$5,Relays,7,FALSE)","v":"Lottie Bentley"},2,{"$f":"HLOOKUP($Q$5,Relays,8,FALSE)","v":"Aimee Cochrane"}]
[{"$f":"A114&\"S\"","v":"82S"},null,null,3,{"$f":"HLOOKUP($Q$5,Relays,9,FALSE)","v":"Millie Stanley"},4,{"$f":"HLOOKUP($Q$5,Relays,10,FALSE)","v":"Jemima Hobby"}]
[null,null,"Field Events"]
[31,{"$f":"IF($A118>0,VLOOKUP($A118,EventsOrder,2,FALSE),\" \")","v":1.4},{"$f":"IF($A118>0,VLOOKUP($A118,EventsOrder,6,FALSE),\" \")","v":"High Jump "},null,{"$f":"IF(A118>0,VLOOKUP(A118&\"A\",Results3,30+$K118,FALSE),0)","v":"Amber Hopkins"},null,{"$f":"IF(A118>0,VLOOKUP(A118&\"B\",Results3,30+$L118,FALSE),0)","v":0},null,{"$f":"IF(A118>0,VLOOKUP(A118&\"A\",Results3,46+$P$5,FALSE),\" \")","v":1.38},null,{"$f":"IF(A118>0,VLOOKUP(A118&\"A\",Results3,54+$P$5,FALSE),\" \")","v":1},null,{"$f":"IF(OR(I118=\"DNF\",ISTEXT(K118)),0,IF(K118>0,$O$5-K118,0))","v":8},{"$f":"IF(OR(J118=\"DNF\",ISTEXT(L118)),0,IF(L118>0,$O$5-L118,0))","v":0}]
[38,{"$f":"IF($A119>0,VLOOKUP($A119,EventsOrder,2,FALSE),\" \")","v":1.5},{"$f":"IF($A119>0,VLOOKUP($A119,EventsOrder,6,FALSE),\" \")","v":"Discus Match 2"},null,"Lucy Marriott",null,"Amy Dale",null,18.38,{"$f":"IF(A119>0,VLOOKUP(A119&\"B\",Results3,46+$P$5,FALSE),\" \")","v":10.4},1,{"$f":"IF(A119>0,VLOOKUP(A119&\"B\",Results3,54+$P$5,FALSE),\" \")","v":3},{"$f":"IF(OR(I119=\"DNF\",ISTEXT(K119)),0,IF(K119>0,$O$5-K119,0))","v":8},6]
[56,{"$f":"IF($A120>0,VLOOKUP($A120,EventsOrder,2,FALSE),\" \")","v":2.5},{"$f":"IF($A120>0,VLOOKUP($A120,EventsOrder,6,FALSE),\" \")","v":"Long Jump Pit 1"},null,"Katie Dudley",null,"Bethany Harris",null,3.01,{"$f":"IF(A120>0,VLOOKUP(A120&\"B\",Results3,46+$P$5,FALSE),\" \")","v":2.44},8,{"$f":"IF(A120>0,VLOOKUP(A120&\"B\",Results3,54+$P$5,FALSE),\" \")","v":8},{"$f":"IF(OR(I120=\"DNF\",ISTEXT(K120)),0,IF(K120>0,$O$5-K120,0))","v":1},1]
[65,{"$f":"IF($A121>0,VLOOKUP($A121,EventsOrder,2,FALSE),\" \")","v":3.3},{"$f":"IF($A121>0,VLOOKUP($A121,EventsOrder,6,FALSE),\" \")","v":"Shot "},null,"Amber Hopkins",null,"Ani Patrick",null,6.35,{"$f":"IF(A121>0,VLOOKUP(A121&\"B\",Results3,46+$P$5,FALSE),\" \")","v":6.07},1,{"$f":"IF(A121>0,VLOOKUP(A121&\"B\",Results3,54+$P$5,FALSE),\" \")","v":1},{"$f":"IF(OR(I121=\"DNF\",ISTEXT(K121)),0,IF(K121>0,$O$5-K121,0))","v":8},8]
[79,{"$f":"IF($A122>0,VLOOKUP($A122,EventsOrder,2,FALSE),\" \")","v":4.2},{"$f":"IF($A122>0,VLOOKUP($A122,EventsOrder,6,FALSE),\" \")","v":"Javelin Match 1 & 3"},null,0,null,0,null,0,{"$f":"IF(A122>0,VLOOKUP(A122&\"B\",Results3,46+$P$5,FALSE),\" \")","v":0},0,{"$f":"IF(A122>0,VLOOKUP(A122&\"B\",Results3,54+$P$5,FALSE),\" \")","v":0},{"$f":"IF(OR(I122=\"DNF\",ISTEXT(K122)),0,IF(K122>0,$O$5-K122,0))","v":0},0]
[null,null,"Officials",null,0,null,0,null," ",{"$f":"IF(A123>0,VLOOKUP(A123&\"B\",Results3,46+$P$5,FALSE),\" \")","v":" "}," ",{"$f":"IF(A123>0,VLOOKUP(A123&\"B\",Results3,54+$P$5,FALSE),\" \")","v":" "},{"$f":"HLOOKUP(B$3,Officials,10,FALSE)","v":14},0]
[null,null,null,null,null,null,null,null,null,null,null,"Total",{"$f":"SUM(M107:M123)","v":76},{"$f":"SUM(N107:N123)","v":50}]
[]
["Event","Event","Under 15 Female",null,"(inc. first name)",null,"(inc. first name)",null,"Time / Distance",null,"Position",null,"Points"]
["No","Time",null,null,"A",null,"B",null,"A","B","A","B","A","B"]
[null,null,"Track"]
[4,{"$f":"IF($A129>0,VLOOKUP($A129,EventsOrder,2,FALSE),\" \")","v":11.55},{"$f":"IF($A129>0,VLOOKUP($A129,EventsOrder,6,FALSE),\" \")","v":"1500m "},null,{"$f":"IF(A129>0,VLOOKUP(A129&\"A\",Results3,30+$K129,FALSE),0)","v":"Holly Love"},null,{"$f":"IF(A129>0,VLOOKUP(A129&\"B\",Results3,30+$L129,FALSE),0)","v":"Lauren Matthews"},null,{"$f":"IF(A129>0,VLOOKUP(A129&\"A\",Results3,46+$P$5,FALSE),\" \")","v":"5.13.3"},{"$f":"IF(A129>0,VLOOKUP(A129&\"B\",Results3,46+$P$5,FALSE),\" \")","v":"5.31.6"},{"$f":"IF(A129>0,VLOOKUP(A129&\"A\",Results3,54+$P$5,FALSE),\" \")","v":3},{"$f":"IF(A129>0,VLOOKUP(A129&\"B\",Results3,54+$P$5,FALSE),\" \")","v":3},{"$f":"IF(OR(I129=\"DNF\",ISTEXT(K129)),0,IF(K129>0,$O$5-K129,0))","v":6},{"$f":"IF(OR(J129=\"DNF\",ISTEXT(L129)),0,IF(L129>0,$O$5-L129,0))","v":6}]
[13,12.3,"75m hurdles ",null,"Deanna Clarke",null,"Sarah-Jane Ollis",null,12.9,13.4,1,1,8,8]
[26,1.25,"800m ",null,"Deanna Clarke",null,"Elise Blake",null,"2.31.6","2.52.5",4,3,5,6]
[36,2.15,"100m ",null,"Sarah-Jane Ollis",null,0,null,13.5,0,2,0,7,0]
[50,2.4,"300m ",null,"Danielle Hopkins",null,"Elise Blake",null,43.2,49.7,2,5,7,4]
[68,3.4,"200m ",null,"Lydia Wehling",null,"Deanna Clarke",null,28.4,28.4,5,2,4,7]
[null,null,"Relays"]
[83,{"$f":"IF($A136>0,VLOOKUP($A136,EventsOrder,2,FALSE),\" \")","v":5},{"$f":"IF($A136>0,VLOOKUP($A136,EventsOrder,6,FALSE),\" \")","v":"4 x 100m "},null,{"$f":"C3","v":"Worcester"},null,null,null,52.2,null,1,null,8]
[{"$f":"A136&\"R\"","v":"83R"},null,null,1,{"$f":"HLOOKUP($Q$5,Relays,12,FALSE)","v":"Emily Kavanagh"},2,{"$f":"HLOOKUP($Q$5,Relays,13,FALSE)","v":"Ellie Harrison"}]
[{"$f":"A136&\"S\"","v":"83S"},null,null,3,{"$f":"HLOOKUP($Q$5,Relays,14,FALSE)","v":"Sarah-Jane Ollis"},4,{"$f":"HLOOKUP($Q$5,Relays,15,FALSE)","v":"Danielle Hopkins"}]
[null,null,"Field Events"]
[9,{"$f":"IF($A140>0,VLOOKUP($A140,EventsOrder,2,FALSE),\" \")","v":12.15},{"$f":"IF($A140>0,VLOOKUP($A140,EventsOrder,6,FALSE),\" \")","v":"Discus Match 2"},null,{"$f":"IF(A140>0,VLOOKUP(A140&\"A\",Results3,30+$K140,FALSE),0)","v":"Samantha Bowkett"},null,{"$f":"IF(A140>0,VLOOKUP(A140&\"B\",Results3,30+$L140,FALSE),0)","v":"Katie Harris"},null,{"$f":"IF(A140>0,VLOOKUP(A140&\"A\",Results3,46+$P$5,FALSE),\" \")","v":16.010000000000002},{"$f":"IF(A140>0,VLOOKUP(A140&\"B\",Results3,46+$P$5,FALSE),\" \")","v":13.8},{"$f":"IF(A140>0,VLOOKUP(A140&\"A\",Results3,54+$P$5,FALSE),\" \")","v":3},{"$f":"IF(A140>0,VLOOKUP(A140&\"B\",Results3,54+$P$5,FALSE),\" \")","v":1},{"$f":"IF(OR(I140=\"DNF\",ISTEXT(K140)),0,IF(K140>0,$O$5-K140,0))","v":6},{"$f":"IF(OR(J140=\"DNF\",ISTEXT(L140)),0,IF(L140>0,$O$5-L140,0))","v":8}]
[17,12.55,"High Jump ",null,"Danielle Hopkins",null,0,null,1.6,0,2,0,7,0]
[21,1,"Long Jump Pit 2",null,"Ellie Harrison",null,"Sarah-Jane Ollis",null,4.53,{"$f":"IF(A142>0,VLOOKUP(A142&\"B\",Results3,46+$P$5,FALSE),\" \")","v":4.2},{"$f":"IF(A142>0,VLOOKUP(A142&\"A\",Results3,54+$P$5,FALSE),\" \")","v":1},{"$f":"IF(A142>0,VLOOKUP(A142&\"B\",Results3,54+$P$5,FALSE),\" \")","v":1},8,8]
[54,2.4,"Javelin Match 1 & 3",null,0,null,0,null,0,0,0,0,0,0]
[77,4.2,"Shot ",null,{"$f":"IF(A144>0,VLOOKUP(A144&\"A\",Results3,30+$K144,FALSE),0)","v":"Danielle Hopkins"},null,{"$f":"IF(A144>0,VLOOKUP(A144&\"B\",Results3,30+$L144,FALSE),0)","v":"Katie Harris"},null,{"$f":"IF(A144>0,VLOOKUP(A144&\"A\",Results3,46+$P$5,FALSE),\" \")","v":9.35},{"$f":"IF(A144>0,VLOOKUP(A144&\"B\",Results3,46+$P$5,FALSE),\" \")","v":8.0299999999999994},{"$f":"IF(A144>0,VLOOKUP(A144&\"A\",Results3,54+$P$5,FALSE),\" \")","v":1},{"$f":"IF(A144>0,VLOOKUP(A144&\"B\",Results3,54+$P$5,FALSE),\" \")","v":1},8,{"$f":"IF(OR(J144=\"DNF\",ISTEXT(L144)),0,IF(L144>0,$O$5-L144,0))","v":8}]
[null," "," ",null,0,null,0,null," "," "," "," ",0,0]
[null,null,"Officials",null,0,null,0,null," "," "," "," ",{"$f":"HLOOKUP(B$3,Officials,10,FALSE)","v":14},0]
[null,null,null,null,null,null,null,null,null,null,null,"Total",{"$f":"SUM(M129:M146)","v":88},{"$f":"SUM(N129:N146)","v":55}]
[]
["Event","Event","Under 17 Female",null,"(inc. first name)",null,"(inc. first name)",null,"Time / Distance",null,"Position",null,"Points"]
["No","Time",null,null,"A",null,"B",null,"A","B","A","B","A","B"]
[null,null,"Track"]
[7,{"$f":"IF($A152>0,VLOOKUP($A152,EventsOrder,2,FALSE),\" \")","v":12.05},{"$f":"IF($A152>0,VLOOKUP($A152,EventsOrder,6,FALSE),\" \")","v":"1500m "},null,{"$f":"IF(A152>0,VLOOKUP(A152&\"A\",Results3,30+$K152,FALSE),0)","v":0},null,{"$f":"IF(A152>0,VLOOKUP(A152&\"B\",Results3,30+$L152,FALSE),0)","v":0},null,{"$f":"IF(A152>0,VLOOKUP(A152&\"A\",Results3,46+$P$5,FALSE),\" \")","v":0},{"$f":"IF(A152>0,VLOOKUP(A152&\"B\",Results3,46+$P$5,FALSE),\" \")","v":0},{"$f":"IF(A152>0,VLOOKUP(A152&\"A\",Results3,54+$P$5,FALSE),\" \")","v":0},{"$f":"IF(A152>0,VLOOKUP(A152&\"B\",Results3,54+$P$5,FALSE),\" \")","v":0},{"$f":"IF(OR(I152=\"DNF\",ISTEXT(K152)),0,IF(K152>0,$O$5-K152,0))","v":0},{"$f":"IF(OR(J152=\"DNF\",ISTEXT(L152)),0,IF(L152>0,$O$5-L152,0))","v":0}]
[19,1,"80m hurdles (U17) ",null,"Georgia Clarke",null,"Abigail Gill",null,12.7,16.100000000000001,1,2,8,7]
[28,1.4,"800m ",null,0,null,0,null,0,0,0,0,0,0]
[40,2.2000000000000002,"100m ",null,"Cara Clarke",null,"Georgia Clarke",null,13,13.1,1,1,8,8]
[51,2.4500000000000002,"300m ",null,0,null,0,null,0,0,0,0,0,0]
[69,3.45,"200m ",null,"Hannah Kenwright",null,"Becky Donnelly (senior)",null,26.8,30.2,2,4,7,5]
[null," "," ",null,0,null,0,null," "," "," "," ",0,0]
[null,null,"Relays"]
[84,{"$f":"IF($A160>0,VLOOKUP($A160,EventsOrder,2,FALSE),\" \")","v":5.05},{"$f":"IF($A160>0,VLOOKUP($A160,EventsOrder,6,FALSE),\" \")","v":"4 x 100m "},null,{"$f":"C3","v":"Worcester"},null,null,null,53.4,null,1,null,{"$f":"IF(OR(I160=\"DNF\",ISTEXT(K160)),0,IF(K160>0,$O$5-K160,0))","v":8}]
[{"$f":"A160&\"R\"","v":"84R"},null,null,1,{"$f":"HLOOKUP($Q$5,Relays,17,FALSE)","v":"Brooke Clarke"},2,{"$f":"HLOOKUP($Q$5,Relays,18,FALSE)","v":"Abigail Gill"}]
[{"$f":"A160&\"S\"","v":"84S"},null,null,3,{"$f":"HLOOKUP($Q$5,Relays,19,FALSE)","v":"Hannah Kenwright"},4,{"$f":"HLOOKUP($Q$5,Relays,20,FALSE)","v":"Becky Donnelly (senior)"}]
[null,null,"Field Events"]
[10,{"$f":"IF($A164>0,VLOOKUP($A164,EventsOrder,2,FALSE),\" \")","v":12.15},{"$f":"IF($A164>0,VLOOKUP($A164,EventsOrder,6,FALSE),\" \")","v":"Javelin (U17) Match 1 & 3"},null,{"$f":"IF(A164>0,VLOOKUP(A164&\"A\",Results3,30+$K164,FALSE),0)","v":0},null,{"$f":"IF(A164>0,VLOOKUP(A164&\"B\",Results3,30+$L164,FALSE),0)","v":0},null,{"$f":"IF(A164>0,VLOOKUP(A164&\"A\",Results3,46+$P$5,FALSE),\" \")","v":0},{"$f":"IF(A164>0,VLOOKUP(A164&\"B\",Results3,46+$P$5,FALSE),\" \")","v":0},{"$f":"IF(A164>0,VLOOKUP(A164&\"A\",Results3,54+$P$5,FALSE),\" \")","v":0},{"$f":"IF(A164>0,VLOOKUP(A164&\"B\",Results3,54+$P$5,FALSE),\" \")","v":0},{"$f":"IF(OR(I164=\"DNF\",ISTEXT(K164)),0,IF(K164>0,$O$5-K164,0))","v":0},0]
[37,{"$f":"IF($A165>0,VLOOKUP($A165,EventsOrder,2,FALSE),\" \")","v":1.5},{"$f":"IF($A165>0,VLOOKUP($A165,EventsOrder,6,FALSE),\" \")","v":"Shot (U17) "},null,"Cara Clarke",null,"Hannah Kenwright",null,9.58,8.4499999999999993,2,2,7,7]
[53,{"$f":"IF($A166>0,VLOOKUP($A166,EventsOrder,2,FALSE),\" \")","v":2.4},{"$f":"IF($A166>0,VLOOKUP($A166,EventsOrder,6,FALSE),\" \")","v":"Discus (U17) Match 2"},null,"Cara Clarke",null,0,null,13.99,0,3,0,6,0]
[60,{"$f":"IF($A167>0,VLOOKUP($A167,EventsOrder,2,FALSE),\" \")","v":3.1},{"$f":"IF($A167>0,VLOOKUP($A167,EventsOrder,6,FALSE),\" \")","v":"High Jump "},null,"Grace Murray",null,0,null,1.35,null,2,null,7,0]
[75,{"$f":"IF($A168>0,VLOOKUP($A168,EventsOrder,2,FALSE),\" \")","v":4},{"$f":"IF($A168>0,VLOOKUP($A168,EventsOrder,6,FALSE),\" \")","v":"Long Jump Pit1"},null,"Becky Donnelly (senior)",null,"Hannah Kenwright",null,4.62,3.68,2,3,7,6]
[null,null,"Officials",null,0,null,0,null," "," "," "," ",{"$f":"HLOOKUP(B$3,Officials,10,FALSE)","v":14},0]
[null,null,null,null,null,null,null,null,null,null,null,"Total",{"$f":"SUM(M152:M169)","v":72},{"$f":"SUM(N152:N169)","v":33}]
[null,null,null,null,null,null,null,null,null,null,null,"Total Female",{"$f":"M170+M147+M124","v":236},{"$f":"N170+N147+N124","v":138}]
[null,null,null,null,null,null,null,null,null,null,null,"GrandTotal",{"$f":"M86+M171","v":458},{"$f":"N86+N171","v":256}]
[]
["Event","Event","Guests - Non Scoring",null,"(inc. first name)",null,"(inc. first name)",null,"Time / Distance",null,"Position",null,"Points"]
["No","Time",null,null,"A",null,"B",null,"A","B","A","B","A","B"]
[null,null,"Male"]
[91,{"$f":"IF($A177>0,VLOOKUP($A177,EventsOrder,2,FALSE),\" \")","v":12.2},{"$f":"IF($A177>0,VLOOKUP($A177,EventsOrder,6,FALSE),\" \")","v":"800m U13 Male"},{"$f":"IF(A177>0,VLOOKUP(A177&\"A\",Results3,22+$K177,FALSE),0)","v":113},{"$f":"IF(A177>0,VLOOKUP(A177&\"A\",Results3,30+$K177,FALSE),0)","v":"Theo Taylor-George"},null,{"$f":"IF(A177>0,VLOOKUP(A177&\"B\",Results3,30+$L177,FALSE),0)","v":0},null,{"$f":"IF(A177>0,VLOOKUP(A177&\"A\",Results3,46+$P$5,FALSE),\" \")","v":"2.56.3"},{"$f":"IF(A177>0,VLOOKUP(A177&\"B\",Results3,46+$P$5,FALSE),\" \")","v":0},{"$f":"IF(A177>0,VLOOKUP(A177&\"A\",Results3,54+$P$5,FALSE),\" \")","v":1},{"$f":"IF(A177>0,VLOOKUP(A177&\"B\",Results3,54+$P$5,FALSE),\" \")","v":0}]
[92,12.4,"800m U15 Male",0,0,null,0,null,0,0,0,0]
[93,12.5,"800m U17 Men",0,0,null,0,null,0,0,0,0]
[97,4.2,"1500m U13 Male",149,"Josh Capewell",null,0,null,"5.59.2",0,1,0]
[98,4.3,"1500m U15 Male",0,0,null,0,null,0,0,0,0]
[99,4.4000000000000004,"1500m U17 Men",0,0,null,0,null,0,0,0,0]
[null," "," ",null,0,null,0,null," "," "," "," ",{"$f":"IF(OR(I183=\"DNF\",ISTEXT(K183)),0,IF(K183>0,$O$5-K183,0))","v":0},{"$f":"IF(OR(J183=\"DNF\",ISTEXT(L183)),0,IF(L183>0,$O$5-L183,0))","v":0}]
[]
[null,null,"Female"]
[88,{"$f":"IF($A186>0,VLOOKUP($A186,EventsOrder,2,FALSE),\" \")","v":11.45},{"$f":"IF($A186>0,VLOOKUP($A186,EventsOrder,6,FALSE),\" \")","v":"1500m U13 Female"},{"$f":"IF(A186>0,VLOOKUP(A186&\"A\",Results3,22+$K186,FALSE),0)","v":104},{"$f":"IF(A186>0,VLOOKUP(A186&\"A\",Results3,30+$K186,FALSE),0)","v":"Emma Pound"},null,{"$f":"IF(A186>0,VLOOKUP(A186&\"B\",Results3,30+$L186,FALSE),0)","v":0},null,{"$f":"IF(A186>0,VLOOKUP(A186&\"A\",Results3,46+$P$5,FALSE),\" \")","v":"6.12.7"},{"$f":"IF(A186>0,VLOOKUP(A186&\"B\",Results3,46+$P$5,FALSE),\" \")","v":0},{"$f":"IF(A186>0,VLOOKUP(A186&\"A\",Results3,54+$P$5,FALSE),\" \")","v":2},{"$f":"IF(A186>0,VLOOKUP(A186&\"B\",Results3,54+$P$5,FALSE),\" \")","v":0}]
[89,11.55,"1500m U15 Female",{"$f":"IF(A187>0,VLOOKUP(A187&\"A\",Results3,22+$K187,FALSE),0)","v":0},0,null,0,null,0,0,0,0]
[90,12.05,"1500m U17 F/Women",{"$f":"IF(A188>0,VLOOKUP(A188&\"A\",Results3,22+$K188,FALSE),0)","v":0},0,null,0,null,0,0,0,0]
[94,1.1499999999999999,"800m U13 Female",null,"Maya Stewart",null,0,null,"3.01.2",0,2,0]
[95,1.25,"800m U15 Female",null,0,null,0,null,0,0,0,0]
[96,1.4,"800m U17 F/Women",null,0,null,0,null,0,0,0,0]
[null," "," ",null,0,null,0,null," "," "," "," ",{"$f":"IF(OR(I192=\"DNF\",ISTEXT(K192)),0,IF(K192>0,$O$5-K192,0))","v":0},{"$f":"IF(OR(J192=\"DNF\",ISTEXT(L192)),0,IF(L192>0,$O$5-L192,0))","v":0}]

{"sheet":"Officials","index":12,"n_rows":35,"n_cols":12,"rows_kept":35,"cut":false,"hidden":false,"merged":[[8,11,9,11],[8,8,9,8],[8,9,9,9],[8,2,9,2],[8,3,9,3],[8,4,9,4],[8,5,9,5],[8,6,9,6],[8,7,9,7]]}
[]
[]
[null,null,null,"Adjustment for Officials"]
[]
[null,null,null,"Add 2 Points for each Official Provided."]
[null,null,null,"Add 4 Points for Official 2b and above."]
[]
[]
[null,null,{"$f":"'Event Details'!$D22","v":"Banbury"},{"$f":"'Event Details'!$D23","v":"Bicester"},{"$f":"'Event Details'!$D24","v":"Dudley & S'bridge"},{"$f":"'Event Details'!$D25","v":"Kettering"},{"$f":"'Event Details'!$D26","v":"Radley"},{"$f":"'Event Details'!$D27","v":"Tamworth"},{"$f":"'Event Details'!$D28","v":"Wreake Runners"},{"$f":"'Event Details'!$D29","v":"Worcester"},null,"Example"]
[]
[null,null,{"$f":"'Event Details'!$C22","v":"J"},{"$f":"'Event Details'!$C23","v":"P"},{"$f":"'Event Details'!$C24","v":"B"},{"$f":"'Event Details'!$C25","v":"I"},{"$f":"'Event Details'!$C26","v":"R"},{"$f":"'Event Details'!$C27","v":"F"},{"$f":"'Event Details'!$C28","v":"X"},{"$f":"'Event Details'!$C29","v":"Y"}]
[]
[null,"Track Judge",2,2,2,null,2,null,2,2,null,2]
[null,"Time Keeper",2,2,2,2,2,null,null,2,null,2]
[null,"Field Judge 1",2,2,2,2,2,2,2,2,null,2]
[null,"Field Judge 2",2,2,2,2,2,2,2,2,null,2]
[null,"Field Judge 3",2,2,2,2,2,2,2,2,null,2]
[null,"Officials 2b &above **",4,4,null,null,4,null,null,4,null,4]
[]
[null,"Total",{"$f":"SUM(C13:C19)","v":14},{"$f":"SUM(D13:D19)","v":14},10,8,14,6,8,14,null,{"$f":"SUM(L13:L19)","v":14}]
[]
[]
[null,"Note"]
[null,"2 points per Official will be added up to a maximum of 10 Points (Max 5 Officials)."]
[null,"** for 2016, Bonus points are given for providing qualified officials of 2b and above.  i.e. 4 points for each age category."]
[null,"Max of 14 points added to each category  i.e. U13Girls,U15Girls, Combined Ladies, U13Boys,U15Boys and U17men."]
[]
[]
[null,"Maximum for each club would be:"]
[]
[null,"For providing 5 officials",null,"(2 points ea)",10]
[null,"Bonus for Officials 2b & above ",null,"(4 Points)",4]
[null,"Total",null,null,14]
[null,"Add to 6 Age Groups",null,null,6,"X"]
[null,"Max total points per club",null,null,84]

{"sheet":"Club Details","index":13,"n_rows":19,"n_cols":28,"rows_kept":19,"cut":false,"hidden":false,"merged":[]}
[]
[null,null,null,"Club Details by Division"]
[]
[null,null,"Letter","Division 1",null,null,"Short",null,null,"Letter","Division 2",null,null,"Short",null,null,"Letter","Division 3",null,null,"Short",null,null,"Letter","Division 4",null,null,"Short"]
[null,null,null,"Club","U 11 No's",null,"Name",null,null,null,"Club","U 11 No's",null,"Name",null,null,null,"Club","U 11 No's",null,"Name",null,null,null,"Club","U 11 No's",null,"Name"]
[null,1,"V","Amber Valley",700,749,"Amber",null,{"$f":"IF(LEN(J6)>0,1,\"\")","v":1},"J","Banbury",550,599,"Ban",null,{"$f":"IF(LEN(Q6)>0,1,\"\")","v":1},"S","BRAT",750,799,"BRAT",null,{"$f":"IF(LEN(X6)>0,1,\"\")","v":1},"L","Daventry",850,899,"Dav"]
[null,2,"C","Brom & Redditch ",650,699,"B&R",null,{"$f":"IF(LEN(J7)>0,I6+1,\"\")","v":2},"P","Bicester",800,849,"Bic",null,{"$f":"IF(LEN(Q7)>0,P6+1,\"\")","v":2},"O","Corby",400,449,"Corby",null,{"$f":"IF(LEN(X7)>0,W6+1,\"\")","v":2},"E","Droitwich ",150,199,"Droit"]
[null,3,"S","Coventry Godiva",750,799,"CovG",null,{"$f":"IF(LEN(J8)>0,I7+1,\"\")","v":3},"B","Dudley & S'bridge",200,249,"DASH",null,3,"T","Harborough",350,399,"Harb",null,3,"Z","Newcastle",450,499,"New"]
[null,4,"H","Halesowen",200,249,"Hales",null,4,"I","Kettering",50,99,"Kett",null,4,"U","Kidder & Stourport",250,299,"K&S",null,4,"Q","Saffron AC",50,99,"Saff"]
[null,5,"G","Royal Sutton",300,349,"Royal",null,5,"R","Radley",500,549,"Rad",null,5,"N","Nuneaton",600,649,"Nun",null,5,"K","Sparkhill",400,449,"Spark"]
[null,6,"R","Rugby & N'hampton",500,549,"Rugby",null,6,"F","Tamworth",1,49,"Tam",null,6,"V","Telford",700,749,"Tel",null,6,"W","Witney AC",950,999,"Wit"]
[null,7,"M","Solihull & S.Heath",150,199,"Sol",null,7,"X","Wreake Runners",400,449,"Wreake",null,"",null,null,null,null,null,null,""]
[null,8,"D","Stratford",250,299,"Strat",null,8,"Y","Worcester",100,149,"Worc",null,"",null,null,null,null,null,null,""]
[null,9,null,null,null,null,null,null,{"$f":"IF(LEN(J14)>0,I13+1,\"\")","v":""},null,null,null,null,null,null,{"$f":"IF(LEN(Q14)>0,P13+1,\"\")","v":""},null,null,null,null,null,null,{"$f":"IF(LEN(X14)>0,W13+1,\"\")","v":""}]
[null,null,null,null,null,null,null,null,null,null,null,null,null,null,null,{"$f":"MAX(P6:P14)","v":6}]
[null,"Date",null,"Venue","Host",null,null,null,"Date",null,"Venue","Host",null,null,null,"Date",null,"Venue","Host",null,null,null,"Date",null,"Venue","Host"]
[1,"7th May 2016",null,"Rugby","Rugby & N'hampton",null,null,null,"7th May 2016",null,"Kettering","Kettering",null,null,null,"7th May 2016",null,"Stourport","Kidder & Stourport",null,null,null,"7th May 2016",null,"Banbury","Witney &Droitwich"]
[2,"12th June 2016",null,"Coventry","Coventry Godiva",null,null,null,"5th June 2016",null,"Nunnery Wood","Worcester",null,null,null,"12th June 2016",null,"Corby","Corby",null,null,null,"12th June 2016",null,"Leamington","Daventry"]
[3,"10th July 2016",null,"Redditch","Brom & Redditch",null,null,null,"10th July 2016",null,"Banbury","Banbury &Bicester",null,null,null,"10th July 2016",null,"Pingles Stadium","Nuneaton",null,null,null,"10th July 2016",null,"Leicester","Saffron"]

{"sheet":"Change Form","index":14,"n_rows":41,"n_cols":10,"rows_kept":41,"cut":false,"hidden":false,"merged":[[0,1,0,9],[7,4,7,7],[9,3,9,8]]}
[null,"Heart of England Team Change Sheet"]
[]
[null,null,"Please fill in details of changes and hand to the Results Team."]
[null,null,"Ensure athletes wear the correct letters as declared"]
[]
[null,"Club Name",null,null,null,null,null,null,"Date"]
[]
[null,"Event","Event","Male or"," Age Group",null,null,null,"A or","New Athlete's "]
[null,"No.","Name","Female",null,null,null,null,"B","Name"]
[null,null,null,"Circle as appropriate"]
[null,null,null,"M    F","U11","U13","U15","U17","A     B"]
[null,null,null,"M    F","U11","U13","U15","U17","A     B"]
[null,null,null,"M    F","U11","U13","U15","U17","A     B"]
[null,null,null,"M    F","U11","U13","U15","U17","A     B"]
[null,null,null,"M    F","U11","U13","U15","U17","A     B"]
[null,null,null,"M    F","U11","U13","U15","U17","A     B"]
[null,null,null,"M    F","U11","U13","U15","U17","A     B"]
[null,null,null,"M    F","U11","U13","U15","U17","A     B"]
[null,null,null,"M    F","U11","U13","U15","U17","A     B"]
[null,null,null,"M    F","U11","U13","U15","U17","A     B"]
[null,null,null,"M    F","U11","U13","U15","U17","A     B"]
[null,null,null,"M    F","U11","U13","U15","U17","A     B"]
[null,null,null,"M    F","U11","U13","U15","U17","A     B"]
[null,null,null,"M    F","U11","U13","U15","U17","A     B"]
[null,null,null,"M    F","U11","U13","U15","U17","A     B"]
[null,null,null,"M    F","U11","U13","U15","U17","A     B"]
[null,null,null,"M    F","U11","U13","U15","U17","A     B"]
[null,null,null,"M    F","U11","U13","U15","U17","A     B"]
[null,null,null,"M    F","U11","U13","U15","U17","A     B"]
[null,null,null,"M    F","U11","U13","U15","U17","A     B"]
[null,null,null,"M    F","U11","U13","U15","U17","A     B"]
[null,null,null,"M    F","U11","U13","U15","U17","A     B"]
[null,null,null,"M    F","U11","U13","U15","U17","A     B"]
[null,null,null,"M    F","U11","U13","U15","U17","A     B"]
[null,null,null,"M    F","U11","U13","U15","U17","A     B"]
[null,null,null,"M    F","U11","U13","U15","U17","A     B"]
[null,null,null,"M    F","U11","U13","U15","U17","A     B"]
[null,null,null,"M    F","U11","U13","U15","U17","A     B"]
[null,null,null,"M    F","U11","U13","U15","U17","A     B"]
[null,null,null,"M    F","U11","U13","U15","U17","A     B"]
[null,null,null,"M    F","U11","U13","U15","U17","A     B"]

{"sheet":"Track Lane Draw","index":15,"n_rows":75,"n_cols":21,"rows_kept":75,"cut":false,"hidden":false,"merged":[[17,4,17,11]]}
[]
[null,null,null,null,null,null,null,null,null,null,null,null,"No of time in each lane"]
[null,null,null,null,"Lane Draw",null,null,null,null,null,null,null,1,2,3,4,5,6,7,8]
[]
[null,null,null,1,{"$f":"'Event Details'!C22","v":"J"},{"$f":"'Event Details'!D22","v":"Banbury"},{"$f":"'Event Details'!G22","v":"Ban"},{"$f":"E5&\" - \"&G5","v":"J - Ban"},null,null,null,{"$f":"H5","v":"J - Ban"},{"$f":"COUNTIF(M$21:M$72,$D5)","v":5},6,5,4,8,7,7,7,{"$f":"SUM(M5:T5)","v":49}]
[null,null,null,2,{"$f":"'Event Details'!C23","v":"P"},{"$f":"'Event Details'!D23","v":"Bicester"},{"$f":"'Event Details'!G23","v":"Bic"},{"$f":"E6&\" - \"&G6","v":"P - Bic"},null,null,null,{"$f":"H6","v":"P - Bic"},7,7,8,6,5,3,7,6,49]
[null,null,null,3,{"$f":"'Event Details'!C24","v":"B"},{"$f":"'Event Details'!D24","v":"Dudley & S'bridge"},{"$f":"'Event Details'!G24","v":"DASH"},"B - DASH",null,null,null,"B - DASH",4,8,5,6,5,6,7,8,49]
[null,null,null,4,{"$f":"'Event Details'!C25","v":"I"},{"$f":"'Event Details'!D25","v":"Kettering"},{"$f":"'Event Details'!G25","v":"Kett"},"I - Kett",null,null,null,"I - Kett",7,5,7,7,6,8,6,3,49]
[null,null,null,5,{"$f":"'Event Details'!C26","v":"R"},{"$f":"'Event Details'!D26","v":"Radley"},{"$f":"'Event Details'!G26","v":"Rad"},"R - Rad",null,null,null,"R - Rad",7,7,5,5,6,7,5,7,49]
[null,null,null,6,{"$f":"'Event Details'!C27","v":"F"},{"$f":"'Event Details'!D27","v":"Tamworth"},{"$f":"'Event Details'!G27","v":"Tam"},"F - Tam",null,null,null,"F - Tam",4,7,7,7,6,5,5,8,49]
[null,null,null,7,{"$f":"'Event Details'!C28","v":"X"},{"$f":"'Event Details'!D28","v":"Wreake Runners"},{"$f":"'Event Details'!G28","v":"Wreake"},"X - Wreake",null,null,null,"X - Wreake",8,4,6,8,7,6,5,5,49]
[null,null,null,8,{"$f":"'Event Details'!C29","v":"Y"},{"$f":"'Event Details'!D29","v":"Worcester"},{"$f":"'Event Details'!G29","v":"Worc"},"Y - Worc",null,null,null,"Y - Worc",7,5,6,6,6,7,7,5,49]
[null,null,null,null,null,null,null,null,null,null,null,null,{"$f":"SUM(M5:M12)","v":49},{"$f":"SUM(N5:N12)","v":49},49,49,49,49,49,49]
["Random Sequence",null,null,null,3,5,4,2,7,6,1,8]
[]
[null,null,null,"Venue",{"$f":"'Event Details'!D17","v":"Nunnery Wood"},null,null,"Date",{"$f":"'Event Details'!B17","v":"5th June 2016"}]
[]
[null,null,null,null,"Lane Number"]
["Event","Time","Event","Age",1,2,3,4,5,6,7,8,1,2,3,4,5,6,7,8,"Check Count"]
[]
[{"$f":"Timetable!C9","v":1},{"$f":"Timetable!D9","v":11.45},{"$f":"Timetable!E9","v":"1500m"},{"$f":"Timetable!F9","v":"U13 Female"},{"$f":"IF(M21=0,\"\",VLOOKUP(M21,LaneDraw,5,FALSE))","v":"B - DASH"},{"$f":"IF(N21=0,\"\",VLOOKUP(N21,LaneDraw,5,FALSE))","v":"R - Rad"},{"$f":"IF(O21=0,\"\",VLOOKUP(O21,LaneDraw,5,FALSE))","v":"I - Kett"},"P - Bic","X - Wreake","F - Tam","J - Ban","Y - Worc",{"$f":"$E$14","v":3},{"$f":"$F$14","v":5},{"$f":"$G$14","v":4},{"$f":"$H$14","v":2},{"$f":"$I$14","v":7},{"$f":"$J$14","v":6},{"$f":"$K$14","v":1},{"$f":"$L$14","v":8},{"$f":"SUM(M21:T21)","v":36}]
[{"$f":"Timetable!C10","v":4},{"$f":"Timetable!D10","v":11.55},{"$f":"Timetable!E10","v":"1500m"},{"$f":"Timetable!F10","v":"U15 Female"},{"$f":"IF(M22=0,\"\",VLOOKUP(M22,LaneDraw,5,FALSE))","v":"P - Bic"},{"$f":"IF(N22=0,\"\",VLOOKUP(N22,LaneDraw,5,FALSE))","v":"F - Tam"},{"$f":"IF(O22=0,\"\",VLOOKUP(O22,LaneDraw,5,FALSE))","v":"J - Ban"},{"$f":"IF(P22=0,\"\",VLOOKUP(P22,LaneDraw,5,FALSE))","v":"Y - Worc"},{"$f":"IF(Q22=0,\"\",VLOOKUP(Q22,LaneDraw,5,FALSE))","v":"I - Kett"},{"$f":"IF(R22=0,\"\",VLOOKUP(R22,LaneDraw,5,FALSE))","v":"B - DASH"},{"$f":"IF(S22=0,\"\",VLOOKUP(S22,LaneDraw,5,FALSE))","v":"X - Wreake"},{"$f":"IF(T22=0,\"\",VLOOKUP(T22,LaneDraw,5,FALSE))","v":"R - Rad"},{"$f":"$H$14","v":2},{"$f":"$J$14","v":6},{"$f":"$K$14","v":1},{"$f":"$L$14","v":8},{"$f":"$G$14","v":4},{"$f":"$E$14","v":3},{"$f":"$I$14","v":7},{"$f":"$F$14","v":5},36]
[{"$f":"Timetable!C11","v":7},{"$f":"Timetable!D11","v":12.05},{"$f":"Timetable!E11","v":"1500m"},{"$f":"Timetable!F11","v":"U17 F/Women"},"I - Kett","Y - Worc","B - DASH","X - Wreake","P - Bic","J - Ban","R - Rad","F - Tam",{"$f":"$G$14","v":4},{"$f":"$L$14","v":8},{"$f":"$E$14","v":3},{"$f":"$I$14","v":7},{"$f":"$H$14","v":2},{"$f":"$K$14","v":1},{"$f":"$F$14","v":5},{"$f":"$J$14","v":6},36]
[{"$f":"Timetable!C12","v":11},{"$f":"Timetable!D12","v":12.15},{"$f":"Timetable!E12","v":"70m hurdles"},{"$f":"Timetable!F12","v":"U13 Female"},"X - Wreake","P - Bic","F - Tam","B - DASH","I - Kett","Y - Worc","J - Ban","R - Rad",{"$f":"$I$14","v":7},{"$f":"$H$14","v":2},{"$f":"$J$14","v":6},{"$f":"$E$14","v":3},{"$f":"$G$14","v":4},{"$f":"$L$14","v":8},{"$f":"$K$14","v":1},{"$f":"$F$14","v":5},{"$f":"SUM(M24:T24)","v":36}]
[{"$f":"Timetable!C13","v":12},{"$f":"Timetable!D13","v":12.2},{"$f":"Timetable!E13","v":"800m"},{"$f":"Timetable!F13","v":"U13 Male"},"J - Ban","B - DASH","R - Rad","I - Kett","Y - Worc","X - Wreake","F - Tam","P - Bic",{"$f":"$K$14","v":1},{"$f":"$E$14","v":3},{"$f":"$F$14","v":5},{"$f":"$G$14","v":4},{"$f":"$L$14","v":8},{"$f":"$I$14","v":7},{"$f":"$J$14","v":6},{"$f":"$H$14","v":2},36]
[{"$f":"Timetable!C14","v":13},{"$f":"Timetable!D14","v":12.3},{"$f":"Timetable!E14","v":"75m hurdles"},{"$f":"Timetable!F14","v":"U15 Female"},"R - Rad","J - Ban","X - Wreake","Y - Worc","F - Tam","B - DASH","P - Bic","I - Kett",{"$f":"$F$14","v":5},{"$f":"$K$14","v":1},{"$f":"$I$14","v":7},{"$f":"$L$14","v":8},{"$f":"$J$14","v":6},{"$f":"$E$14","v":3},{"$f":"$H$14","v":2},{"$f":"$G$14","v":4},36]
[{"$f":"Timetable!C15","v":15},{"$f":"Timetable!D15","v":12.35},{"$f":"Timetable!E15","v":"75m hurdles"},{"$f":"Timetable!F15","v":"U13 Male"},"F - Tam","I - Kett","Y - Worc","J - Ban","R - Rad","P - Bic","B - DASH","X - Wreake",{"$f":"$J$14","v":6},{"$f":"$G$14","v":4},{"$f":"$L$14","v":8},{"$f":"$K$14","v":1},{"$f":"$F$14","v":5},{"$f":"$H$14","v":2},{"$f":"$E$14","v":3},{"$f":"$I$14","v":7},36]
[{"$f":"Timetable!C16","v":16},{"$f":"Timetable!D16","v":12.4},{"$f":"Timetable!E16","v":"800m"},{"$f":"Timetable!F16","v":"U15 Male"},"Y - Worc","B - DASH","P - Bic","F - Tam","J - Ban","X - Wreake","I - Kett","R - Rad",{"$f":"$L$14","v":8},{"$f":"$E$14","v":3},{"$f":"$H$14","v":2},{"$f":"$J$14","v":6},{"$f":"$K$14","v":1},{"$f":"$I$14","v":7},{"$f":"$G$14","v":4},{"$f":"$F$14","v":5},36]
[{"$f":"Timetable!C17","v":18},{"$f":"Timetable!D17","v":12.5},{"$f":"Timetable!E17","v":"800m"},{"$f":"Timetable!F17","v":"U17 Men"},"X - Wreake","Y - Worc","R - Rad","J - Ban","I - Kett","B - DASH","P - Bic","F - Tam",{"$f":"$I$14","v":7},{"$f":"$L$14","v":8},{"$f":"$F$14","v":5},{"$f":"$K$14","v":1},{"$f":"$G$14","v":4},{"$f":"$E$14","v":3},{"$f":"$H$14","v":2},{"$f":"$J$14","v":6},36]
[{"$f":"Timetable!C18","v":19},{"$f":"Timetable!D18","v":1},{"$f":"Timetable!E18","v":"80m hurdles (U17)"},{"$f":"Timetable!F18","v":"U17 Female"},"I - Kett","R - Rad","F - Tam","X - Wreake","P - Bic","J - Ban","B - DASH","Y - Worc",{"$f":"$G$14","v":4},{"$f":"$F$14","v":5},{"$f":"$J$14","v":6},{"$f":"$I$14","v":7},{"$f":"$H$14","v":2},{"$f":"$K$14","v":1},{"$f":"$E$14","v":3},{"$f":"$L$14","v":8},36]
[{"$f":"Timetable!C19","v":20},{"$f":"Timetable!D19","v":1.05},{"$f":"Timetable!E19","v":"80m hurdles"},{"$f":"Timetable!F19","v":"U15 Male"},"P - Bic","F - Tam","Y - Worc","R - Rad","B - DASH","I - Kett","X - Wreake","J - Ban",{"$f":"$H$14","v":2},{"$f":"$J$14","v":6},{"$f":"$L$14","v":8},{"$f":"$F$14","v":5},{"$f":"$E$14","v":3},{"$f":"$G$14","v":4},{"$f":"$I$14","v":7},{"$f":"$K$14","v":1},36]
[{"$f":"Timetable!C20","v":25},{"$f":"Timetable!D20","v":1.1499999999999999},{"$f":"Timetable!E20","v":"800m"},{"$f":"Timetable!F20","v":"U13 Female"},"B - DASH","J - Ban","Y - Worc","I - Kett","F - Tam","X - Wreake","R - Rad","P - Bic",{"$f":"$E$14","v":3},{"$f":"$K$14","v":1},{"$f":"$L$14","v":8},{"$f":"$G$14","v":4},{"$f":"$J$14","v":6},{"$f":"$I$14","v":7},{"$f":"$F$14","v":5},{"$f":"$H$14","v":2},36]
[{"$f":"Timetable!C21","v":26},{"$f":"Timetable!D21","v":1.25},{"$f":"Timetable!E21","v":"800m"},{"$f":"Timetable!F21","v":"U15 Female"},"Y - Worc","P - Bic","B - DASH","F - Tam","R - Rad","J - Ban","I - Kett","X - Wreake",{"$f":"$L$14","v":8},{"$f":"$H$14","v":2},{"$f":"$E$14","v":3},{"$f":"$J$14","v":6},{"$f":"$F$14","v":5},{"$f":"$K$14","v":1},{"$f":"$G$14","v":4},{"$f":"$I$14","v":7},36]
[{"$f":"Timetable!C22","v":27},{"$f":"Timetable!D22","v":1.35},{"$f":"Timetable!E22","v":"100m hurdles"},{"$f":"Timetable!F22","v":"U17 Men"},"F - Tam","I - Kett","J - Ban","P - Bic","X - Wreake","R - Rad","Y - Worc","B - DASH",{"$f":"$J$14","v":6},{"$f":"$G$14","v":4},{"$f":"$K$14","v":1},{"$f":"$H$14","v":2},{"$f":"$I$14","v":7},{"$f":"$F$14","v":5},{"$f":"$L$14","v":8},{"$f":"$E$14","v":3},36]
[{"$f":"Timetable!C23","v":28},{"$f":"Timetable!D23","v":1.4},{"$f":"Timetable!E23","v":"800m"},{"$f":"Timetable!F23","v":"U17 F/Women"},"R - Rad","X - Wreake","I - Kett","B - DASH","Y - Worc","F - Tam","J - Ban","P - Bic",{"$f":"$F$14","v":5},{"$f":"$I$14","v":7},{"$f":"$G$14","v":4},{"$f":"$E$14","v":3},{"$f":"$L$14","v":8},{"$f":"$J$14","v":6},{"$f":"$K$14","v":1},{"$f":"$H$14","v":2},36]
[{"$f":"Timetable!C24","v":29},{"$f":"Timetable!D24","v":1.5},{"$f":"Timetable!E24","v":"600m"},{"$f":"Timetable!F24","v":"U11 Female"},"J - Ban","B - DASH","X - Wreake","I - Kett","P - Bic","Y - Worc","F - Tam","R - Rad",{"$f":"$K$14","v":1},{"$f":"$E$14","v":3},{"$f":"$I$14","v":7},{"$f":"$G$14","v":4},{"$f":"$H$14","v":2},{"$f":"$L$14","v":8},{"$f":"$J$14","v":6},{"$f":"$F$14","v":5},{"$f":"SUM(M36:T36)","v":36}]
[{"$f":"Timetable!C25","v":30},{"$f":"Timetable!D25","v":1.55},{"$f":"Timetable!E25","v":"600m"},{"$f":"Timetable!F25","v":"U11 Female"},"X - Wreake","B - DASH","F - Tam","Y - Worc","J - Ban","I - Kett","P - Bic","R - Rad",{"$f":"$I$14","v":7},{"$f":"$E$14","v":3},{"$f":"$J$14","v":6},{"$f":"$L$14","v":8},{"$f":"$K$14","v":1},{"$f":"$G$14","v":4},{"$f":"$H$14","v":2},5,36]
[{"$f":"Timetable!C26","v":33},{"$f":"Timetable!D26","v":2},{"$f":"Timetable!E26","v":"600m"},{"$f":"Timetable!F26","v":"U11 Male"},"I - Kett","P - Bic","R - Rad","F - Tam","X - Wreake","J - Ban","B - DASH","Y - Worc",{"$f":"$G$14","v":4},{"$f":"$H$14","v":2},{"$f":"$F$14","v":5},{"$f":"$J$14","v":6},{"$f":"$I$14","v":7},{"$f":"$K$14","v":1},{"$f":"$E$14","v":3},{"$f":"$L$14","v":8},36]
[{"$f":"Timetable!C27","v":34},{"$f":"Timetable!D27","v":2.0499999999999998},{"$f":"Timetable!E27","v":"600m"},{"$f":"Timetable!F27","v":"U11 Male"},"P - Bic","I - Kett","F - Tam","Y - Worc","R - Rad","B - DASH","X - Wreake","J - Ban",{"$f":"$H$14","v":2},{"$f":"$G$14","v":4},{"$f":"$J$14","v":6},{"$f":"$L$14","v":8},{"$f":"$F$14","v":5},{"$f":"$E$14","v":3},{"$f":"$I$14","v":7},{"$f":"$K$14","v":1},36]
[{"$f":"Timetable!C28","v":35},{"$f":"Timetable!D28","v":2.1},{"$f":"Timetable!E28","v":"100m"},{"$f":"Timetable!F28","v":"U13 Female"},"B - DASH","X - Wreake","J - Ban","P - Bic","I - Kett","F - Tam","R - Rad","Y - Worc",{"$f":"$E$14","v":3},{"$f":"$I$14","v":7},{"$f":"$K$14","v":1},{"$f":"$H$14","v":2},{"$f":"$G$14","v":4},{"$f":"$J$14","v":6},{"$f":"$F$14","v":5},{"$f":"$L$14","v":8},36]
[{"$f":"Timetable!C29","v":36},{"$f":"Timetable!D29","v":2.15},{"$f":"Timetable!E29","v":"100m"},{"$f":"Timetable!F29","v":"U15 Female"},"Y - Worc","J - Ban","P - Bic","B - DASH","F - Tam","R - Rad","I - Kett","X - Wreake",{"$f":"$L$14","v":8},{"$f":"$K$14","v":1},{"$f":"$H$14","v":2},{"$f":"$E$14","v":3},{"$f":"$J$14","v":6},{"$f":"$F$14","v":5},{"$f":"$G$14","v":4},{"$f":"$I$14","v":7},36]
[{"$f":"Timetable!C30","v":40},{"$f":"Timetable!D30","v":2.2000000000000002},{"$f":"Timetable!E30","v":"100m"},{"$f":"Timetable!F30","v":"U17 F/Women"},"P - Bic","R - Rad","I - Kett","J - Ban","F - Tam","X - Wreake","Y - Worc","B - DASH",{"$f":"$H$14","v":2},{"$f":"$F$14","v":5},{"$f":"$G$14","v":4},{"$f":"$K$14","v":1},{"$f":"$J$14","v":6},{"$f":"$I$14","v":7},{"$f":"$L$14","v":8},{"$f":"$E$14","v":3},36]
[{"$f":"Timetable!C31","v":41},{"$f":"Timetable!D31","v":2.25},{"$f":"Timetable!E31","v":"100m"},{"$f":"Timetable!F31","v":"U13 Male"},"R - Rad","F - Tam","X - Wreake","I - Kett","B - DASH","Y - Worc","J - Ban","P - Bic",{"$f":"$F$14","v":5},{"$f":"$J$14","v":6},{"$f":"$I$14","v":7},{"$f":"$G$14","v":4},{"$f":"$E$14","v":3},{"$f":"$L$14","v":8},{"$f":"$K$14","v":1},{"$f":"$H$14","v":2},36]
[{"$f":"Timetable!C32","v":42},{"$f":"Timetable!D32","v":2.2999999999999998},{"$f":"Timetable!E32","v":"100m"},{"$f":"Timetable!F32","v":"U15 Male"},"J - Ban","Y - Worc","B - DASH","X - Wreake","R - Rad","P - Bic","F - Tam","I - Kett",{"$f":"$K$14","v":1},{"$f":"$L$14","v":8},{"$f":"$E$14","v":3},{"$f":"$I$14","v":7},{"$f":"$F$14","v":5},{"$f":"$H$14","v":2},{"$f":"$J$14","v":6},{"$f":"$G$14","v":4},36]
[{"$f":"Timetable!C33","v":43},{"$f":"Timetable!D33","v":2.35},{"$f":"Timetable!E33","v":"100m"},{"$f":"Timetable!F33","v":"U17 Men"},"I - Kett","X - Wreake","F - Tam","Y - Worc","P - Bic","R - Rad","J - Ban","B - DASH",{"$f":"$G$14","v":4},{"$f":"$I$14","v":7},{"$f":"$J$14","v":6},{"$f":"$L$14","v":8},{"$f":"$H$14","v":2},{"$f":"$F$14","v":5},{"$f":"$K$14","v":1},{"$f":"$E$14","v":3},36]
[{"$f":"Timetable!C34","v":50},{"$f":"Timetable!D34","v":2.4},{"$f":"Timetable!E34","v":"300m"},{"$f":"Timetable!F34","v":"U15 Female"},"R - Rad","Y - Worc","X - Wreake","P - Bic","I - Kett","B - DASH","F - Tam","J - Ban",{"$f":"$F$14","v":5},{"$f":"$L$14","v":8},{"$f":"$I$14","v":7},{"$f":"$H$14","v":2},{"$f":"$G$14","v":4},{"$f":"$E$14","v":3},{"$f":"$J$14","v":6},{"$f":"$K$14","v":1},36]
[{"$f":"Timetable!C35","v":51},{"$f":"Timetable!D35","v":2.4500000000000002},{"$f":"Timetable!E35","v":"300m"},{"$f":"Timetable!F35","v":"U17 F/Women"},"X - Wreake","F - Tam","B - DASH","I - Kett","Y - Worc","J - Ban","P - Bic","R - Rad",{"$f":"$I$14","v":7},{"$f":"$J$14","v":6},{"$f":"$E$14","v":3},{"$f":"$G$14","v":4},{"$f":"$L$14","v":8},{"$f":"$K$14","v":1},{"$f":"$H$14","v":2},{"$f":"$F$14","v":5},36]
[{"$f":"Timetable!C36","v":55},{"$f":"Timetable!D36","v":2.5499999999999998},{"$f":"Timetable!E36","v":"300m"},{"$f":"Timetable!F36","v":"U15 Male"},"Y - Worc","R - Rad","P - Bic","X - Wreake","J - Ban","I - Kett","B - DASH","F - Tam",{"$f":"$L$14","v":8},{"$f":"$F$14","v":5},{"$f":"$H$14","v":2},{"$f":"$I$14","v":7},{"$f":"$K$14","v":1},{"$f":"$G$14","v":4},{"$f":"$E$14","v":3},{"$f":"$J$14","v":6},36]
[{"$f":"Timetable!C37","v":57},{"$f":"Timetable!D37","v":3},{"$f":"Timetable!E37","v":"400m"},{"$f":"Timetable!F37","v":"U17 Men"},"P - Bic","J - Ban","I - Kett","B - DASH","F - Tam","X - Wreake","R - Rad","Y - Worc",{"$f":"$H$14","v":2},{"$f":"$K$14","v":1},{"$f":"$G$14","v":4},{"$f":"$E$14","v":3},{"$f":"$J$14","v":6},{"$f":"$I$14","v":7},{"$f":"$F$14","v":5},{"$f":"$L$14","v":8},36]
[{"$f":"Timetable!C38","v":58},{"$f":"Timetable!D38","v":3.1},{"$f":"Timetable!E38","v":"75m"},{"$f":"Timetable!F38","v":"U11 Female"},"X - Wreake","I - Kett","B - DASH","P - Bic","Y - Worc","J - Ban","F - Tam","R - Rad",{"$f":"$I$14","v":7},{"$f":"$G$14","v":4},{"$f":"$E$14","v":3},{"$f":"$H$14","v":2},{"$f":"$L$14","v":8},{"$f":"$K$14","v":1},{"$f":"$J$14","v":6},{"$f":"$F$14","v":5},36]
[{"$f":"Timetable!C39","v":59},{"$f":"Timetable!D39","v":3.15},{"$f":"Timetable!E39","v":"75m  "},{"$f":"Timetable!F39","v":"U11 Female"},"R - Rad","P - Bic","I - Kett","X - Wreake","J - Ban","B - DASH","Y - Worc","F - Tam",{"$f":"$F$14","v":5},{"$f":"$H$14","v":2},{"$f":"$G$14","v":4},{"$f":"$I$14","v":7},{"$f":"$K$14","v":1},{"$f":"$E$14","v":3},{"$f":"$L$14","v":8},{"$f":"$J$14","v":6},36]
[{"$f":"Timetable!C40","v":61},{"$f":"Timetable!D40","v":3.2},{"$f":"Timetable!E40","v":"75m"},{"$f":"Timetable!F40","v":"U11 Male"},"I - Kett","B - DASH","X - Wreake","R - Rad","Y - Worc","F - Tam","P - Bic","J - Ban",{"$f":"$G$14","v":4},{"$f":"$E$14","v":3},{"$f":"$I$14","v":7},{"$f":"$F$14","v":5},{"$f":"$L$14","v":8},{"$f":"$J$14","v":6},{"$f":"$H$14","v":2},{"$f":"$K$14","v":1},36]
[{"$f":"Timetable!C41","v":62},{"$f":"Timetable!D41","v":3.25},{"$f":"Timetable!E41","v":"75m"},{"$f":"Timetable!F41","v":"U11 Male"},"F - Tam","Y - Worc","J - Ban","I - Kett","X - Wreake","R - Rad","B - DASH","P - Bic",{"$f":"$J$14","v":6},{"$f":"$L$14","v":8},{"$f":"$K$14","v":1},{"$f":"$G$14","v":4},{"$f":"$I$14","v":7},{"$f":"$F$14","v":5},{"$f":"$E$14","v":3},{"$f":"$H$14","v":2},36]
[{"$f":"Timetable!C42","v":63},{"$f":"Timetable!D42","v":3.35},{"$f":"Timetable!E42","v":"200m"},{"$f":"Timetable!F42","v":"U13 Female"},"P - Bic","F - Tam","R - Rad","Y - Worc","B - DASH","X - Wreake","J - Ban","I - Kett",{"$f":"$H$14","v":2},{"$f":"$J$14","v":6},{"$f":"$F$14","v":5},{"$f":"$L$14","v":8},{"$f":"$E$14","v":3},{"$f":"$I$14","v":7},{"$f":"$K$14","v":1},{"$f":"$G$14","v":4},36]
[{"$f":"Timetable!C43","v":68},{"$f":"Timetable!D43","v":3.4},{"$f":"Timetable!E43","v":"200m"},{"$f":"Timetable!F43","v":"U15 Female"},"B - DASH","R - Rad","F - Tam","J - Ban","P - Bic","Y - Worc","I - Kett","X - Wreake",{"$f":"$E$14","v":3},{"$f":"$F$14","v":5},{"$f":"$J$14","v":6},{"$f":"$K$14","v":1},{"$f":"$H$14","v":2},{"$f":"$L$14","v":8},{"$f":"$G$14","v":4},{"$f":"$I$14","v":7},36]
[{"$f":"Timetable!C44","v":69},{"$f":"Timetable!D44","v":3.45},{"$f":"Timetable!E44","v":"200m"},{"$f":"Timetable!F44","v":"U17 F/Women"},"R - Rad","J - Ban","Y - Worc","F - Tam","I - Kett","P - Bic","X - Wreake","B - DASH",{"$f":"$F$14","v":5},{"$f":"$K$14","v":1},{"$f":"$L$14","v":8},{"$f":"$J$14","v":6},{"$f":"$G$14","v":4},{"$f":"$H$14","v":2},{"$f":"$I$14","v":7},{"$f":"$E$14","v":3},36]
[{"$f":"Timetable!C45","v":70},{"$f":"Timetable!D45","v":3.5},{"$f":"Timetable!E45","v":"200m"},{"$f":"Timetable!F45","v":"U13 Male"},"I - Kett","B - DASH","R - Rad","X - Wreake","Y - Worc","F - Tam","P - Bic","J - Ban",{"$f":"$G$14","v":4},{"$f":"$E$14","v":3},{"$f":"$F$14","v":5},{"$f":"$I$14","v":7},{"$f":"$L$14","v":8},{"$f":"$J$14","v":6},{"$f":"$H$14","v":2},{"$f":"$K$14","v":1},36]
[{"$f":"Timetable!C46","v":71},{"$f":"Timetable!D46","v":3.55},{"$f":"Timetable!E46","v":"200m"},{"$f":"Timetable!F46","v":"U15 Male"},"R - Rad","F - Tam","X - Wreake","I - Kett","B - DASH","Y - Worc","J - Ban","P - Bic",{"$f":"$F$14","v":5},{"$f":"$J$14","v":6},{"$f":"$I$14","v":7},{"$f":"$G$14","v":4},{"$f":"$E$14","v":3},{"$f":"$L$14","v":8},{"$f":"$K$14","v":1},{"$f":"$H$14","v":2},36]
[{"$f":"Timetable!C47","v":72},{"$f":"Timetable!D47","v":4},{"$f":"Timetable!E47","v":"200m"},{"$f":"Timetable!F47","v":"U17 Men"},"Y - Worc","J - Ban","P - Bic","B - DASH","F - Tam","R - Rad","I - Kett","X - Wreake",{"$f":"$L$14","v":8},{"$f":"$K$14","v":1},{"$f":"$H$14","v":2},{"$f":"$E$14","v":3},{"$f":"$J$14","v":6},{"$f":"$F$14","v":5},{"$f":"$G$14","v":4},{"$f":"$I$14","v":7},36]
[{"$f":"Timetable!C48","v":73},{"$f":"Timetable!D48","v":4.2},{"$f":"Timetable!E48","v":"1500m"},{"$f":"Timetable!F48","v":"U13 Male"},"F - Tam","I - Kett","J - Ban","P - Bic","X - Wreake","R - Rad","Y - Worc","B - DASH",{"$f":"$J$14","v":6},{"$f":"$G$14","v":4},{"$f":"$K$14","v":1},{"$f":"$H$14","v":2},{"$f":"$I$14","v":7},{"$f":"$F$14","v":5},{"$f":"$L$14","v":8},{"$f":"$E$14","v":3},36]
[{"$f":"Timetable!C49","v":76},{"$f":"Timetable!D49","v":4.3},{"$f":"Timetable!E49","v":"1500m"},{"$f":"Timetable!F49","v":"U15 Male"},"X - Wreake","P - Bic","F - Tam","R - Rad","B - DASH","Y - Worc","I - Kett","J - Ban",{"$f":"$I$14","v":7},{"$f":"$H$14","v":2},{"$f":"$J$14","v":6},{"$f":"$F$14","v":5},{"$f":"$E$14","v":3},{"$f":"$L$14","v":8},{"$f":"$G$14","v":4},{"$f":"$K$14","v":1},36]
[{"$f":"Timetable!C50","v":80},{"$f":"Timetable!D50","v":4.4000000000000004},{"$f":"Timetable!E50","v":"1500m"},{"$f":"Timetable!F50","v":"U17 Men"},"P - Bic","F - Tam","Y - Worc","B - DASH","R - Rad","I - Kett","X - Wreake","J - Ban",{"$f":"$H$14","v":2},{"$f":"$J$14","v":6},{"$f":"$L$14","v":8},{"$f":"$E$14","v":3},{"$f":"$F$14","v":5},{"$f":"$G$14","v":4},{"$f":"$I$14","v":7},{"$f":"$K$14","v":1},36]
[{"$f":"Timetable!C51","v":81},{"$f":"Timetable!D51","v":4.5},{"$f":"Timetable!E51","v":"4 x 100m Mixed"},{"$f":"Timetable!F51","v":"U11 Fem/Male"},{"$f":"IF(M63=0,\"\",VLOOKUP(M63,LaneDraw,5,FALSE))","v":"X - Wreake"},"B - DASH","P - Bic","R - Rad","J - Ban","I - Kett","Y - Worc","F - Tam",{"$f":"$I$14","v":7},{"$f":"$E$14","v":3},{"$f":"$H$14","v":2},{"$f":"$F$14","v":5},{"$f":"$K$14","v":1},{"$f":"$G$14","v":4},{"$f":"$L$14","v":8},{"$f":"$J$14","v":6},{"$f":"SUM(M63:T63)","v":36}]
[{"$f":"Timetable!C52","v":82},{"$f":"Timetable!D52","v":4.55},{"$f":"Timetable!E52","v":"4 x 100m"},{"$f":"Timetable!F52","v":"U13 Female"},"J - Ban","P - Bic","I - Kett","F - Tam","X - Wreake","Y - Worc","R - Rad","B - DASH",{"$f":"$K$14","v":1},{"$f":"$H$14","v":2},{"$f":"$G$14","v":4},{"$f":"$J$14","v":6},{"$f":"$I$14","v":7},{"$f":"$L$14","v":8},{"$f":"$F$14","v":5},{"$f":"$E$14","v":3},{"$f":"SUM(M64:T64)","v":36}]
[{"$f":"Timetable!C53","v":83},{"$f":"Timetable!D53","v":5},{"$f":"Timetable!E53","v":"4 x 100m"},{"$f":"Timetable!F53","v":"U15 Female"},"Y - Worc","R - Rad","P - Bic","X - Wreake","J - Ban","I - Kett","B - DASH","F - Tam",{"$f":"$L$14","v":8},{"$f":"$F$14","v":5},{"$f":"$H$14","v":2},{"$f":"$I$14","v":7},{"$f":"$K$14","v":1},{"$f":"$G$14","v":4},{"$f":"$E$14","v":3},{"$f":"$J$14","v":6},{"$f":"SUM(M65:T65)","v":36}]
[{"$f":"Timetable!C54","v":84},{"$f":"Timetable!D54","v":5.05},{"$f":"Timetable!E54","v":"4 x 100m"},{"$f":"Timetable!F54","v":"U17 F/Women"},"I - Kett","X - Wreake","P - Bic","F - Tam","R - Rad","J - Ban","Y - Worc","B - DASH",{"$f":"$G$14","v":4},{"$f":"$I$14","v":7},{"$f":"$H$14","v":2},{"$f":"$J$14","v":6},{"$f":"$F$14","v":5},{"$f":"$K$14","v":1},{"$f":"$L$14","v":8},{"$f":"$E$14","v":3},{"$f":"SUM(M66:T66)","v":36}]
[{"$f":"Timetable!C55","v":85},{"$f":"Timetable!D55","v":5.0999999999999996},{"$f":"Timetable!E55","v":"4 x 100m"},{"$f":"Timetable!F55","v":"U13 Male"},"X - Wreake","B - DASH","Y - Worc","R - Rad","J - Ban","I - Kett","P - Bic","F - Tam",{"$f":"$I$14","v":7},{"$f":"$E$14","v":3},{"$f":"$L$14","v":8},{"$f":"$F$14","v":5},{"$f":"$K$14","v":1},{"$f":"$G$14","v":4},{"$f":"$H$14","v":2},{"$f":"$J$14","v":6},36]
[{"$f":"Timetable!C56","v":86},{"$f":"Timetable!D56","v":5.15},{"$f":"Timetable!E56","v":"4 x 100m"},{"$f":"Timetable!F56","v":"U15 Male"},"J - Ban","P - Bic","I - Kett","F - Tam","X - Wreake","R - Rad","Y - Worc","B - DASH",{"$f":"$K$14","v":1},{"$f":"$H$14","v":2},{"$f":"$G$14","v":4},{"$f":"$J$14","v":6},{"$f":"$I$14","v":7},{"$f":"$F$14","v":5},{"$f":"$L$14","v":8},{"$f":"$E$14","v":3},36]
[{"$f":"Timetable!C57","v":87},{"$f":"Timetable!D57","v":5.2},{"$f":"Timetable!E57","v":"4 x 100m"},{"$f":"Timetable!F57","v":"U17 Men"},"Y - Worc","R - Rad","P - Bic","X - Wreake","J - Ban","I - Kett","B - DASH","F - Tam",{"$f":"$L$14","v":8},{"$f":"$F$14","v":5},{"$f":"$H$14","v":2},{"$f":"$I$14","v":7},{"$f":"$K$14","v":1},{"$f":"$G$14","v":4},{"$f":"$E$14","v":3},{"$f":"$J$14","v":6},36]
[{"$f":"Timetable!C65","v":0},{"$f":"Timetable!D65","v":0},{"$f":"Timetable!E65","v":0},{"$f":"Timetable!F65","v":0},"","","","","","","","",null,null,null,null,null,null,null,null,0]
[{"$f":"Timetable!C66","v":0},{"$f":"Timetable!D66","v":0},{"$f":"Timetable!E66","v":0},{"$f":"Timetable!F66","v":0},"","","","","","","","",null,null,null,null,null,null,null,null,0]
[{"$f":"Timetable!C67","v":0},{"$f":"Timetable!D67","v":0},{"$f":"Timetable!E67","v":0},{"$f":"Timetable!F67","v":0},"","","","","","","","",null,null,null,null,null,null,null,null,0]
[null,null,null,null,null,null,null,null,null,null,null,null,null,null,null,null,null,null,null,null,0]
[null,null,null,null,null,null,null,null,null,null,null,null,{"$f":"SUM(M21:M73)","v":230},209,221,233,220,226,212,213,1764]
[null,null,null,null,null,null,null,null,null,null,null,null,null,{"$f":"$M74-N74","v":21},{"$f":"$M74-O74","v":9},-3,10,4,18,17]

{"sheet":"Throws & Jumps","index":16,"n_rows":37,"n_cols":27,"rows_kept":37,"cut":false,"hidden":false,"merged":[[26,10,26,12],[26,14,26,17]]}
[]
[]
[null,null,null,null,null,null,null,null,null,"Event No","Event","Age","M/F",null,"Do you wish to show COMPETITORS NAMES (Y/N)",null,null,null,"Y"]
[null,"Enter the Event No. from the list below :-",null,null,null,null,null,null,null,2,{"$f":"VLOOKUP(J4,EventsOrder,6,FALSE)","v":"Howler "},{"$f":"VLOOKUP(J4,FieldEventDraw,3,FALSE)","v":"U11 Male"},{"$f":"IF(MID(L4,5,1)=\"F\",\"F\",\"M\")","v":"M"}]
[]
[]
[null,"Event","Time","Events","Wt","Age",{"$f":"CONCATENATE(M5,O5)","v":""},null,null,{"$f":"'Event Details'!D5","v":"Heart of England League"},null,{"$f":"\"Event  No \"&J4&\"      \"&K4&\"       \"&L4","v":"Event  No 2      Howler        U11 Male"},null,null,null,{"$f":"VLOOKUP($J4,EventsOrder,2,FALSE)","v":11.45},"p.m.","Division",{"$f":"'Event Details'!D9","v":2}]
[null,null,null,null,null,null,null,null,null,null,null,{"$f":"\"   Date      \"&'Event Details'!B17","v":"   Date      5th June 2016"},null,null,{"$f":"\"Weight \"&VLOOKUP($J4,B9:E36,4,FALSE)","v":"Weight "},null,null,"Venue",{"$f":"'Event Details'!F17","v":"Worcester"},null,null,null,"Club","Club","Event A","Event B","Col"]
[null,2,{"$f":"IF($B9>0,VLOOKUP($B9,EventsOrder,2,FALSE),\" \")","v":11.45},{"$f":"IF($B9>0,VLOOKUP($B9,EventsOrder,6,FALSE),\" \")","v":"Howler "},null,{"$f":"IF($B9>0,VLOOKUP($B9,EventsOrder,4,FALSE),\" \")","v":"U11 Male"},null,null,"Order","Letter","Name (including first Name)","Club","First Trial","Second Trial",null,"Third Trial","Fourth trial","Best of All ","Final Position","A ","B",null,"Letter",null,"Name","Name"]
[null,3,{"$f":"IF($B10>0,VLOOKUP($B10,EventsOrder,2,FALSE),\" \")","v":11.45},{"$f":"IF($B10>0,VLOOKUP($B10,EventsOrder,6,FALSE),\" \")","v":"Howler "},null,{"$f":"IF($B10>0,VLOOKUP($B10,EventsOrder,4,FALSE),\" \")","v":"U11 Female"},{"$f":"VLOOKUP($J$4,FieldEventDraw,I10+3,FALSE)","v":3},null,"1",{"$f":"IF($G10=0,\"\",VLOOKUP($G10,LaneDraw,2,FALSE))","v":"B"},{"$f":"IF(OR(S$3<>\"Y\",LEN(J10)<1),\"\",VLOOKUP(J10,W$10:Z$17,3,FALSE))","v":"Corey Lees"},{"$f":"IF($G10=0,\"\",VLOOKUP($G10,LaneDraw,3,FALSE))","v":"Dudley & S'bridge"},null,null,null,null,null,null,null,null,null,null,{"$f":"'Event Details'!C22","v":"J"},{"$f":"'Event Details'!D22","v":"Banbury"},{"$f":"IF(S$3=\"Y\",VLOOKUP($J$4,IF($M$4=\"F\",TeamSheetFemale,TeamSheetMale),AA10,FALSE),\"\")","v":"Archie Street"},{"$f":"IF(S$3=\"Y\",VLOOKUP($J$4,IF($M$4=\"F\",TeamSheetFemale,TeamSheetMale),AA10+2,FALSE),\"\")","v":"Toby Jones"},7]
[null,6,12,"Long Jump Pit 2",null,"U15 Male",{"$f":"VLOOKUP($J$4,FieldEventDraw,I11+3,FALSE)","v":5},null,"2","R","Quinn Miell-Ingram","Radley",null,null,null,null,null,null,null,null,null,null,{"$f":"'Event Details'!C23","v":"P"},{"$f":"'Event Details'!D23","v":"Bicester"},"Seion Alexander","Timothy Jones",12]
[null,8,12.15,"Shot ","5.00kg","U17 Men",4,null,"3","I","Alfie Frayne","Kettering",null,null,null,null,null,null,null,null,null,null,{"$f":"'Event Details'!C24","v":"B"},{"$f":"'Event Details'!D24","v":"Dudley & S'bridge"},"Corey Lees","Reece Lees",17]
[null,9,12.15,"Discus Match 2","1.00kg","U15 Female",8,null,"4","Y",{"$f":"IF(OR(S$3<>\"Y\",LEN(J13)<1),\"\",VLOOKUP(J13,W$10:Z$17,3,FALSE))","v":"Linus Burnage"},"Worcester",null,null,null,null,null,null,null,null,null,null,{"$f":"'Event Details'!C25","v":"I"},{"$f":"'Event Details'!D25","v":"Kettering"},"Alfie Frayne","Aaron Holloway",22]
[null,10,12.15,"Javelin (U17) Match 1 & 3","500gm(U17)","U17 Female",7,null,"5","X",{"$f":"IF(OR(S$3<>\"Y\",LEN(J14)<1),\"\",VLOOKUP(J14,W$10:Z$17,3,FALSE))","v":"Jonty Brotherton"},"Wreake Runners",null,null,null,null,null,null,null,null,null,null,{"$f":"'Event Details'!C26","v":"R"},{"$f":"'Event Details'!D26","v":"Radley"},"Quinn Miell-Ingram","Caspar Cumberland",27]
[null,14,12.3,"Long Jump Pit 1",null,"U11 Male",2,null,"6","P","Seion Alexander","Bicester",null,null,null,null,null,null,null,null,null,null,{"$f":"'Event Details'!C27","v":"F"},{"$f":"'Event Details'!D27","v":"Tamworth"},0,0,32]
[null,21,1,"Long Jump Pit 2",null,"U15 Female",6,null,"7","F",0,"Tamworth",null,null,null,null,null,null,null,null,null,null,{"$f":"'Event Details'!C28","v":"X"},{"$f":"'Event Details'!D28","v":"Wreake Runners"},"Jonty Brotherton","Sam Orange",37]
[null,22,1,"Shot ","4.00kg","U15 Male",1,null,"8","J","Archie Street","Banbury",null,null,null,null,null,null,null,null,null,null,{"$f":"'Event Details'!C29","v":"Y"},{"$f":"'Event Details'!D29","v":"Worcester"},"Linus Burnage","Ellis Hartland",42]
[null,23,1,"Discus Match 2","1.5kg","U17 Men",{"$f":"VLOOKUP($J$4,FieldEventDraw,I10+3,FALSE)","v":3},null,"9",{"$f":"IF(J10=0,\"\",J10&J10)","v":"BB"},{"$f":"IF(OR(S$3<>\"Y\",LEN(J18)<1),\"\",VLOOKUP(LEFT(J18,1),W$10:Z$17,4,FALSE))","v":"Reece Lees"},"Dudley & S'bridge"]
[null,24,1,"Javelin Match 1 & 3","400gm","U13 Male",{"$f":"VLOOKUP($J$4,FieldEventDraw,I11+3,FALSE)","v":5},null,"10","RR","Caspar Cumberland","Radley"]
[null,32,1.3,"Long Jump Pit1",null,"U17 Men",4,null,"11","II","Aaron Holloway","Kettering"]
[null,37,1.5,"Shot (U17) ","3kg (U17)","U17 Female",8,null,"12","YY",{"$f":"IF(OR(S$3<>\"Y\",LEN(J21)<1),\"\",VLOOKUP(LEFT(J21,1),W$10:Z$17,4,FALSE))","v":"Ellis Hartland"},"Worcester"]
[null,38,1.5,"Discus Match 2","0.75kg","U13 Female",7,null,"13","XX",{"$f":"IF(OR(S$3<>\"Y\",LEN(J22)<1),\"\",VLOOKUP(LEFT(J22,1),W$10:Z$17,4,FALSE))","v":"Sam Orange"},"Wreake Runners"]
[null,39,1.5,"Javelin Match 1 & 3","600gm","U15 Male",2,null,"14","PP","Timothy Jones","Bicester"]
[null,44,2.1,"Long Jump Pit 2",null,"U11 Female",6,null,"15","FF",0,"Tamworth"]
[null,52,2.4,"Shot ","3.25kg","U13 Male",1,null,"16","JJ","Toby Jones","Banbury"]
[null,53,2.4,"Discus (U17) Match 2","1.00kg","U17 Female"]
[null,54,2.4,"Javelin Match 1 & 3","500gm","U15 Female",null,null,null,null,"Result \"A\" String",null,null,null,"Result \"B\" String"]
[null,56,2.5,"Long Jump Pit 1",null,"U13 Female",null,null,null,"Letter","Name ","Club","Distance","Letter","Name ",null,null,"Club",null,"Distance"]
[null,64,3.2,"Long Jump Pit 2",null,"U13 Male",null,null,null,null,"1",null,null,null,"1"]
[null,65,3.3,"Shot ","2.72kg","U13 Female",null,null,null,null,"2",null,null,null,"2"]
[null,66,3.3,"Discus Match 2","1.25kg","U15 Male",null,null,null,null,"3",null,null,null,"3"]
[null,67,3.3,"Javelin Match 1 & 3","700gm","U17 Men",null,null,null,null,"4",null,null,null,"4"]
[null,75,4,"Long Jump Pit1",null,"U17 F/Women",null,null,null,null,"5",null,null,null,"5"]
[null,77,4.2,"Shot ","3Kg","U15 Female",null,null,null,null,"6",null,null,null,"6"]
[null,78,4.2,"Discus Match 2","1.00kg","U13 Male",null,null,null,null,"7",null,null,null,"7"]
[null,79,4.2,"Javelin Match 1 & 3","400gm","U13 Female",null,null,null,null,"8",null,null,null,"8"]
[null,null,null,null,null,null,null,null,"Judges",null,null,null,null,null,null,null,"Referee"]

{"sheet":"High Jump","index":17,"n_rows":38,"n_cols":31,"rows_kept":38,"cut":false,"hidden":false,"merged":[[27,10,27,12],[27,14,27,18]]}
[]
[]
[null,null,null,null,null,null,null,null,null,"Event No","Event","Age","M/F",null,"Do you wish to show COMPETITORS NAMES (Y/N)",null,null,null,null,null,"Y"]
[null,"Enter the Event No. from the list below :-",null,null,null,null,null,null,null,5,{"$f":"VLOOKUP(J4,EventsOrder,6,FALSE)","v":"High Jump "},{"$f":"IF($J4>0,VLOOKUP($J4,EventsOrder,4,FALSE),\" \")","v":"U13 Male"},{"$f":"IF(MID(L4,5,1)=\"F\",\"F\",\"M\")","v":"M"}]
[]
[]
[null,"Event","Time","Events","Op/Ht","Age",null,null,null,{"$f":"'Event Details'!D5","v":"Heart of England League"},null,null,{"$f":"\"Event No \"&J4&\"         \"&K4&\"        \"&L4","v":"Event No 5         High Jump         U13 Male"},null,null,null,null,null,{"$f":"VLOOKUP($J4,EventsOrder,2,FALSE)","v":12},"p.m.","Division",null,{"$f":"'Event Details'!D9","v":2}]
[null,null,null,null,"Mts",null,null,null,null,null,"5cm intervals until 3 athletes remain, then 3cm.",null,"Date",null,{"$f":"'Event Details'!B17","v":"5th June 2016"},null,null,"Op/Ht",{"$f":"VLOOKUP($J4,B9:E29,4,FALSE)","v":1.1000000000000001},"Mts","Venue",null,{"$f":"'Event Details'!D17","v":"Nunnery Wood"}]
[null,5,{"$f":"IF($B9>0,VLOOKUP($B9,EventsOrder,2,FALSE),\" \")","v":12},{"$f":"IF($B9>0,VLOOKUP($B9,EventsOrder,6,FALSE),\" \")","v":"High Jump "},1.1000000000000001,{"$f":"IF($B9>0,VLOOKUP($B9,EventsOrder,4,FALSE),\" \")","v":"U13 Male"},null,null,null,null,null,null,"Metres","Metres","Metres","Metres","Metres","Metres","Metres","Metres","Metres","Best Ht","trials/ht","Total","Pos",null,"Club","Club","Event A","Event b","Col"]
[null,17,{"$f":"IF($B10>0,VLOOKUP($B10,EventsOrder,2,FALSE),\" \")","v":12.55},{"$f":"IF($B10>0,VLOOKUP($B10,EventsOrder,6,FALSE),\" \")","v":"High Jump "},1.2,{"$f":"IF($B10>0,VLOOKUP($B10,EventsOrder,4,FALSE),\" \")","v":"U15 Female"},null,null,"Order","Letter","Name (including first Name)","Club",null,null,null,null,null,null,null,null,null,null,"cleared","Failures",null,null,"Letter",null,"Name","Name"]
[null,31,1.4,"High Jump ",1,"U13 Female",{"$f":"VLOOKUP($J$4,FieldEventDraw,I11+3,FALSE)","v":4},null,"1",{"$f":"IF($G11=0,\"\",VLOOKUP($G11,LaneDraw,2,FALSE))","v":"I"},{"$f":"IF(OR(U$3<>\"Y\",LEN(J11)<1),\"\",VLOOKUP(J11,AA$11:AE$18,3,FALSE))","v":"Cole Sinnott"},{"$f":"IF($G11=0,\"\",VLOOKUP($G11,LaneDraw,3,FALSE))","v":"Kettering"},null,null,null,null,null,null,null,null,null,null,null,null,null,null,{"$f":"'Event Details'!C22","v":"J"},{"$f":"'Event Details'!D22","v":"Banbury"},{"$f":"IF(U$3=\"Y\",VLOOKUP($J$4,IF($M$4=\"F\",TeamSheetFemale,TeamSheetMale),AE11,FALSE),\"\")","v":0},{"$f":"IF(U$3=\"Y\",VLOOKUP($J$4,IF($M$4=\"F\",TeamSheetFemale,TeamSheetMale),AE11+2,FALSE),\"\")","v":0},7]
[null,45,2.25,"High Jump ",1.1000000000000001,"U15 Male",{"$f":"VLOOKUP($J$4,FieldEventDraw,I12+3,FALSE)","v":1},null,"2",{"$f":"IF($G12=0,\"\",VLOOKUP($G12,LaneDraw,2,FALSE))","v":"J"},{"$f":"IF(OR(U$3<>\"Y\",LEN(J12)<1),\"\",VLOOKUP(J12,AA$11:AE$18,3,FALSE))","v":0},{"$f":"IF($G12=0,\"\",VLOOKUP($G12,LaneDraw,3,FALSE))","v":"Banbury"},null,null,null,null,null,null,null,null,null,null,null,null,null,null,{"$f":"'Event Details'!C23","v":"P"},{"$f":"'Event Details'!D23","v":"Bicester"},"Ben Groves","A String only",12]
[null,60,3.1,"High Jump ",1.2,"U17 F/Women",3,null,"3",{"$f":"IF($G13=0,\"\",VLOOKUP($G13,LaneDraw,2,FALSE))","v":"B"},"Jack Compton",{"$f":"IF($G13=0,\"\",VLOOKUP($G13,LaneDraw,3,FALSE))","v":"Dudley & S'bridge"},null,null,null,null,null,null,null,null,null,null,null,null,null,null,{"$f":"'Event Details'!C24","v":"B"},{"$f":"'Event Details'!D24","v":"Dudley & S'bridge"},"Jack Compton",0,17]
[null,74,4.0999999999999996,"High Jump ",1.3,"U17 Men",7,null,"4",{"$f":"IF($G14=0,\"\",VLOOKUP($G14,LaneDraw,2,FALSE))","v":"X"},0,{"$f":"IF($G14=0,\"\",VLOOKUP($G14,LaneDraw,3,FALSE))","v":"Wreake Runners"},null,null,null,null,null,null,null,null,null,null,null,null,null,null,{"$f":"'Event Details'!C25","v":"I"},{"$f":"'Event Details'!D25","v":"Kettering"},"Cole Sinnott","A String only",22]
[null,null," "," ",null," ",8,null,"5",{"$f":"IF($G15=0,\"\",VLOOKUP($G15,LaneDraw,2,FALSE))","v":"Y"},"Jacob Khan",{"$f":"IF($G15=0,\"\",VLOOKUP($G15,LaneDraw,3,FALSE))","v":"Worcester"},null,null,null,null,null,null,null,null,null,null,null,null,null,null,{"$f":"'Event Details'!C26","v":"R"},{"$f":"'Event Details'!D26","v":"Radley"},"Theau Seabrook","A String only",27]
[null,null," "," ",null," ",6,null,"6","F",0,"Tamworth",null,null,null,null,null,null,null,null,null,null,null,null,null,null,{"$f":"'Event Details'!C27","v":"F"},{"$f":"'Event Details'!D27","v":"Tamworth"},0,0,32]
[null,null," "," ",null," ",5,null,"7","R","Theau Seabrook","Radley",null,null,null,null,null,null,null,null,null,null,null,null,null,null,{"$f":"'Event Details'!C28","v":"X"},{"$f":"'Event Details'!D28","v":"Wreake Runners"},0,"A String only",37]
[null,null," "," ",null," ",2,null,"8","P","Ben Groves","Bicester",null,null,null,null,null,null,null,null,null,null,null,null,null,null,{"$f":"'Event Details'!C29","v":"Y"},{"$f":"'Event Details'!D29","v":"Worcester"},"Jacob Khan","A String only",42]
[null,null," "," ",null," ",{"$f":"VLOOKUP($J$4,FieldEventDraw,I11+3,FALSE)","v":4},null,"9",{"$f":"IF(J11=0,\"\",J11&J11)","v":"II"},{"$f":"IF(OR(U$3<>\"Y\",LEN(J19)<1),\"\",VLOOKUP(LEFT(J19,1),AA$11:AE$18,4,FALSE))","v":"A String only"},"Kettering"]
[null,null," "," ",null," ",{"$f":"VLOOKUP($J$4,FieldEventDraw,I12+3,FALSE)","v":1},null,"10","JJ",{"$f":"IF(OR(U$3<>\"Y\",LEN(J20)<1),\"\",VLOOKUP(LEFT(J20,1),AA$11:AE$18,4,FALSE))","v":0},"Banbury"]
[null,null," "," ",null," ",3,null,"11","BB",0,"Dudley & S'bridge"]
[null,null," "," ",null," ",7,null,"12","XX","A String only","Wreake Runners"]
[null,null," "," ",null," ",8,null,"13","YY","A String only","Worcester"]
[null,null," "," ",null," ",6,null,"14","FF",0,"Tamworth"]
[null,null," "," ",null," ",5,null,"15","RR","A String only","Radley"]
[null,null," "," ",null," ",2,null,"16","PP","A String only","Bicester"]
[null,null," "," ",null," "]
[null,null," "," ",null," ",null,null,null,null,"Result \"A\" String"]
[null,null," "," ",null," ",null,null,null,"Letter","Name (including first Name)","Club","Height",null,"Name (including first Name)",null,null,null,null,"Club",null,"Height"]
[null,null,null,null,null,null,null,null,null,null,"1",null,null,null,"1"]
[null,null,null,null,null,null,null,null,null,null,"2",null,null,null,"2"]
[null,null,null,null,null,null,null,null,null,null,"3",null,null,null,"3"]
[null,null,null,null,null,null,null,null,null,null,"4",null,null,null,"4"]
[null,null,null,null,null,null,null,null,null,null,"5",null,null,null,"5"]
[null,null,null,null,null,null,null,null,null,null,"6",null,null,null,"6"]
[null,null,null,null,null,null,null,null,null,null,"7",null,null,null,"7"]
[null,null,null,null,null,null,null,null,null,null,"8",null,null,null,"8"]
[null,null,null,null,null,null,null,null,"Judges",null,null,null,null,null,null,null,"Referee"]

{"sheet":"Timekeepers Slip","index":18,"n_rows":33,"n_cols":18,"rows_kept":33,"cut":false,"hidden":false,"merged":[[7,3,7,4],[24,3,24,4],[7,12,7,13],[24,12,24,13]]}
[]
[]
[]
[null,"Track Result",null,null,"Venue:",{"$f":"'Event Details'!$D$17","v":"Nunnery Wood"},null,null,null,null,"Track Result",null,null,"Venue:",{"$f":"'Event Details'!$D$17","v":"Nunnery Wood"}]
[null,"Time:",null,null,"Date :",{"$f":"'Event Details'!$B$17","v":"5th June 2016"},null,null,null,null,"Time:",null,null,"Date :",{"$f":"'Event Details'!$B$17","v":"5th June 2016"}]
[null,"  Event Number:",null,null,"Event: ",null,null,null,null,null,"  Event Number:",null,null,"Event: "]
[]
[null,null,"Letter","Name",null,"Club","Time","A/B","Points",null,null,"Letter","Name",null,"Club","Time","A/B","Points"]
[null,"1st",null,null,null,null,null,null,null,null,"1st"]
[null,"2nd",null,null,null,null,null,null,null,null,"2nd"]
[null,"3rd",null,null,null,null,null,null,null,null,"3rd"]
[null,"4th",null,null,null,null,null,null,null,null,"4th"]
[null,"5th",null,null,null,null,null,null,null,null,"5th"]
[null,"6th",null,null,null,null,null,null,null,null,"6th"]
[null,"7th",null,null,null,null,null,null,null,null,"7th"]
[null,"8th",null,null,null,null,null,null,null,null,"8th"]
[]
[]
[]
[]
[null,"Track Result",null,null,"Venue:",{"$f":"'Event Details'!$D$17","v":"Nunnery Wood"},null,null,null,null,"Track Result",null,null,"Venue:",{"$f":"'Event Details'!$D$17","v":"Nunnery Wood"}]
[null,"Time:",null,null,"Date :",{"$f":"'Event Details'!$B$17","v":"5th June 2016"},null,null,null,null,"Time:",null,null,"Date :",{"$f":"'Event Details'!$B$17","v":"5th June 2016"}]
[null,"  Event Number:",null,null,"Event: ",null,null,null,null,null,"  Event Number:",null,null,"Event: "]
[]
[null,null,"Letter","Name",null,"Club","Time","A/B","Points",null,null,"Letter","Name",null,"Club","Time","A/B","Points"]
[null,"1st",null,null,null,null,null,null,null,null,"1st"]
[null,"2nd",null,null,null,null,null,null,null,null,"2nd"]
[null,"3rd",null,null,null,null,null,null,null,null,"3rd"]
[null,"4th",null,null,null,null,null,null,null,null,"4th"]
[null,"5th",null,null,null,null,null,null,null,null,"5th"]
[null,"6th",null,null,null,null,null,null,null,null,"6th"]
[null,"7th",null,null,null,null,null,null,null,null,"7th"]
[null,"8th",null,null,null,null,null,null,null,null,"8th"]

{"sheet":"Field Draw","index":19,"n_rows":55,"n_cols":12,"rows_kept":55,"cut":false,"hidden":false,"merged":[]}
[]
[null,null,null,"Field Sequence Draw"]
[]
[null,null,1,{"$f":"'Event Details'!C22","v":"J"},{"$f":"'Event Details'!D22","v":"Banbury"},{"$f":"'Event Details'!G22","v":"Ban"}]
[null,null,2,{"$f":"'Event Details'!C23","v":"P"},{"$f":"'Event Details'!D23","v":"Bicester"},{"$f":"'Event Details'!G23","v":"Bic"}]
[null,null,3,{"$f":"'Event Details'!C24","v":"B"},{"$f":"'Event Details'!D24","v":"Dudley & S'bridge"},{"$f":"'Event Details'!G24","v":"DASH"}]
[null,null,4,{"$f":"'Event Details'!C25","v":"I"},{"$f":"'Event Details'!D25","v":"Kettering"},{"$f":"'Event Details'!G25","v":"Kett"}]
[null,null,5,{"$f":"'Event Details'!C26","v":"R"},{"$f":"'Event Details'!D26","v":"Radley"},{"$f":"'Event Details'!G26","v":"Rad"}]
[null,null,6,{"$f":"'Event Details'!C27","v":"F"},{"$f":"'Event Details'!D27","v":"Tamworth"},{"$f":"'Event Details'!G27","v":"Tam"}]
[null,null,7,{"$f":"'Event Details'!C28","v":"X"},{"$f":"'Event Details'!D28","v":"Wreake Runners"},{"$f":"'Event Details'!G28","v":"Wreake"}]
[null,null,8,{"$f":"'Event Details'!C29","v":"Y"},{"$f":"'Event Details'!D29","v":"Worcester"},{"$f":"'Event Details'!G29","v":"Worc"}]
[]
["Lane Number",null,null,1,2,3,4,5,6,7,8]
[]
["Random Sequence",null,null,3,5,4,8,7,2,6,1]
[]
[null,null,"Venue",{"$f":"'Event Details'!D17","v":"Nunnery Wood"},null,null,"Date",{"$f":"'Event Details'!B17","v":"5th June 2016"}]
[]
["Event No","Event","Age",null,null,null,null,null,null,null,null,"Check Count"]
[{"$f":"Timetable!I9","v":2},{"$f":"IF($A20>0,VLOOKUP($A20,EventsOrder,6,FALSE),\" \")","v":"Howler "},{"$f":"IF($A20>0,VLOOKUP($A20,EventsOrder,4,FALSE),\" \")","v":"U11 Male"},{"$f":"$D$15","v":3},{"$f":"$E$15","v":5},{"$f":"$F$15","v":4},{"$f":"$G$15","v":8},{"$f":"$H$15","v":7},{"$f":"$I$15","v":2},{"$f":"$J$15","v":6},{"$f":"$K$15","v":1},{"$f":"SUM(D20:K20)","v":36}]
[{"$f":"Timetable!I10","v":3},{"$f":"IF($A21>0,VLOOKUP($A21,EventsOrder,6,FALSE),\" \")","v":"Howler "},{"$f":"IF($A21>0,VLOOKUP($A21,EventsOrder,4,FALSE),\" \")","v":"U11 Female"},{"$f":"$G$15","v":8},{"$f":"$I$15","v":2},{"$f":"$J$15","v":6},{"$f":"$D$15","v":3},{"$f":"$F$15","v":4},{"$f":"$K$15","v":1},{"$f":"$H$15","v":7},{"$f":"$E$15","v":5},{"$f":"SUM(D21:K21)","v":36}]
[{"$f":"Timetable!I11","v":5},"High Jump ","U13 Male",{"$f":"$F$15","v":4},{"$f":"$K$15","v":1},{"$f":"$D$15","v":3},{"$f":"$H$15","v":7},{"$f":"$G$15","v":8},{"$f":"$J$15","v":6},{"$f":"$E$15","v":5},{"$f":"$I$15","v":2},36]
[{"$f":"Timetable!I12","v":6},"Long Jump Pit 2","U15 Male",{"$f":"$H$15","v":7},{"$f":"$G$15","v":8},{"$f":"$I$15","v":2},{"$f":"$E$15","v":5},{"$f":"$D$15","v":3},{"$f":"$K$15","v":1},{"$f":"$F$15","v":4},{"$f":"$J$15","v":6},36]
[{"$f":"Timetable!I13","v":8},"Shot ","U17 Men",{"$f":"$J$15","v":6},{"$f":"$D$15","v":3},{"$f":"$E$15","v":5},{"$f":"$F$15","v":4},{"$f":"$K$15","v":1},{"$f":"$H$15","v":7},{"$f":"$I$15","v":2},{"$f":"$G$15","v":8},36]
[{"$f":"Timetable!I14","v":9},"Discus Match 2","U15 Female",{"$f":"$E$15","v":5},{"$f":"$J$15","v":6},{"$f":"$H$15","v":7},{"$f":"$K$15","v":1},{"$f":"$I$15","v":2},{"$f":"$D$15","v":3},{"$f":"$G$15","v":8},{"$f":"$F$15","v":4},36]
[{"$f":"Timetable!I15","v":10},"Javelin (U17) Match 1 & 3","U17 Female",{"$f":"$I$15","v":2},{"$f":"$F$15","v":4},{"$f":"$K$15","v":1},{"$f":"$J$15","v":6},{"$f":"$E$15","v":5},{"$f":"$G$15","v":8},{"$f":"$D$15","v":3},{"$f":"$H$15","v":7},36]
[{"$f":"Timetable!I16","v":14},"Long Jump Pit 1","U11 Male",{"$f":"$K$15","v":1},{"$f":"$H$15","v":7},{"$f":"$G$15","v":8},{"$f":"$I$15","v":2},{"$f":"$J$15","v":6},{"$f":"$F$15","v":4},{"$f":"$E$15","v":5},{"$f":"$D$15","v":3},36]
[{"$f":"Timetable!I17","v":17},"High Jump ","U15 Female",{"$f":"$H$15","v":7},{"$f":"$K$15","v":1},{"$f":"$E$15","v":5},{"$f":"$J$15","v":6},{"$f":"$F$15","v":4},{"$f":"$D$15","v":3},{"$f":"$G$15","v":8},{"$f":"$I$15","v":2},36]
[{"$f":"Timetable!I18","v":21},"Long Jump Pit 2","U15 Female",{"$f":"$F$15","v":4},{"$f":"$E$15","v":5},{"$f":"$I$15","v":2},{"$f":"$H$15","v":7},{"$f":"$J$15","v":6},{"$f":"$G$15","v":8},{"$f":"$D$15","v":3},{"$f":"$K$15","v":1},36]
[{"$f":"Timetable!I19","v":22},"Shot ","U15 Male",{"$f":"$G$15","v":8},{"$f":"$I$15","v":2},{"$f":"$K$15","v":1},{"$f":"$E$15","v":5},{"$f":"$D$15","v":3},{"$f":"$F$15","v":4},{"$f":"$H$15","v":7},{"$f":"$J$15","v":6},36]
[{"$f":"Timetable!I20","v":23},"Discus Match 2","U17 Men",{"$f":"$D$15","v":3},{"$f":"$J$15","v":6},{"$f":"$G$15","v":8},{"$f":"$F$15","v":4},{"$f":"$I$15","v":2},{"$f":"$H$15","v":7},{"$f":"$E$15","v":5},{"$f":"$K$15","v":1},36]
[{"$f":"Timetable!I21","v":24},"Javelin Match 1 & 3","U13 Male",{"$f":"$K$15","v":1},{"$f":"$G$15","v":8},{"$f":"$D$15","v":3},{"$f":"$I$15","v":2},{"$f":"$E$15","v":5},{"$f":"$J$15","v":6},{"$f":"$F$15","v":4},{"$f":"$H$15","v":7},36]
[{"$f":"Timetable!I22","v":31},"High Jump ","U13 Female",{"$f":"$I$15","v":2},{"$f":"$F$15","v":4},{"$f":"$J$15","v":6},{"$f":"$G$15","v":8},{"$f":"$H$15","v":7},{"$f":"$E$15","v":5},{"$f":"$K$15","v":1},{"$f":"$D$15","v":3},36]
[{"$f":"Timetable!I23","v":32},"Long Jump Pit1","U17 Men",{"$f":"$E$15","v":5},{"$f":"$H$15","v":7},{"$f":"$F$15","v":4},{"$f":"$D$15","v":3},{"$f":"$K$15","v":1},{"$f":"$I$15","v":2},{"$f":"$J$15","v":6},{"$f":"$G$15","v":8},36]
[{"$f":"Timetable!I24","v":37},"Shot (U17) ","U17 Female",{"$f":"$J$15","v":6},{"$f":"$D$15","v":3},{"$f":"$H$15","v":7},{"$f":"$E$15","v":5},{"$f":"$G$15","v":8},{"$f":"$K$15","v":1},{"$f":"$I$15","v":2},{"$f":"$F$15","v":4},36]
[{"$f":"Timetable!I25","v":38},"Discus Match 2","U13 Female",{"$f":"$H$15","v":7},{"$f":"$D$15","v":3},{"$f":"$K$15","v":1},{"$f":"$E$15","v":5},{"$f":"$J$15","v":6},{"$f":"$F$15","v":4},{"$f":"$G$15","v":8},{"$f":"$I$15","v":2},36]
[{"$f":"Timetable!I26","v":39},"Javelin Match 1 & 3","U15 Male",{"$f":"$F$15","v":4},{"$f":"$G$15","v":8},{"$f":"$E$15","v":5},{"$f":"$I$15","v":2},{"$f":"$H$15","v":7},{"$f":"$J$15","v":6},{"$f":"$D$15","v":3},{"$f":"$K$15","v":1},36]
[{"$f":"Timetable!I27","v":44},"Long Jump Pit 2","U11 Female",{"$f":"$G$15","v":8},{"$f":"$F$15","v":4},{"$f":"$I$15","v":2},{"$f":"$K$15","v":1},{"$f":"$E$15","v":5},{"$f":"$D$15","v":3},{"$f":"$H$15","v":7},{"$f":"$J$15","v":6},36]
[{"$f":"Timetable!I28","v":45},"High Jump ","U15 Male",{"$f":"$D$15","v":3},{"$f":"$H$15","v":7},{"$f":"$J$15","v":6},{"$f":"$G$15","v":8},{"$f":"$F$15","v":4},{"$f":"$I$15","v":2},{"$f":"$E$15","v":5},{"$f":"$K$15","v":1},36]
[{"$f":"Timetable!I43","v":0}," "," ",{"$f":"$K$15","v":1},{"$f":"$J$15","v":6},{"$f":"$G$15","v":8},{"$f":"$D$15","v":3},{"$f":"$I$15","v":2},{"$f":"$E$15","v":5},{"$f":"$F$15","v":4},{"$f":"$H$15","v":7},36]
[{"$f":"Timetable!I29","v":52},"Shot ","U13 Male",{"$f":"$J$15","v":6},{"$f":"$K$15","v":1},{"$f":"$D$15","v":3},{"$f":"$H$15","v":7},{"$f":"$E$15","v":5},{"$f":"$G$15","v":8},{"$f":"$I$15","v":2},{"$f":"$F$15","v":4},36]
[{"$f":"Timetable!I30","v":53},"Discus (U17) Match 2","U17 Female",{"$f":"$F$15","v":4},{"$f":"$H$15","v":7},{"$f":"$I$15","v":2},{"$f":"$K$15","v":1},{"$f":"$G$15","v":8},{"$f":"$E$15","v":5},{"$f":"$J$15","v":6},{"$f":"$D$15","v":3},36]
[{"$f":"Timetable!I31","v":54},"Javelin Match 1 & 3","U15 Female",{"$f":"$J$15","v":6},{"$f":"$F$15","v":4},{"$f":"$K$15","v":1},{"$f":"$E$15","v":5},{"$f":"$D$15","v":3},{"$f":"$I$15","v":2},{"$f":"$H$15","v":7},{"$f":"$G$15","v":8},36]
[{"$f":"Timetable!I32","v":56},"Long Jump Pit 1","U13 Female",{"$f":"$D$15","v":3},{"$f":"$G$15","v":8},{"$f":"$J$15","v":6},{"$f":"$I$15","v":2},{"$f":"$H$15","v":7},{"$f":"$K$15","v":1},{"$f":"$E$15","v":5},{"$f":"$F$15","v":4},36]
[{"$f":"Timetable!I33","v":60},"High Jump ","U17 F/Women",{"$f":"$I$15","v":2},{"$f":"$D$15","v":3},{"$f":"$K$15","v":1},{"$f":"$J$15","v":6},{"$f":"$E$15","v":5},{"$f":"$G$15","v":8},{"$f":"$F$15","v":4},{"$f":"$H$15","v":7},36]
[{"$f":"Timetable!I34","v":64},"Long Jump Pit 2","U13 Male",{"$f":"$E$15","v":5},{"$f":"$K$15","v":1},{"$f":"$H$15","v":7},{"$f":"$G$15","v":8},{"$f":"$F$15","v":4},{"$f":"$D$15","v":3},{"$f":"$I$15","v":2},{"$f":"$J$15","v":6},36]
[{"$f":"Timetable!I35","v":65},"Shot ","U13 Female",{"$f":"$H$15","v":7},{"$f":"$I$15","v":2},{"$f":"$D$15","v":3},{"$f":"$F$15","v":4},{"$f":"$K$15","v":1},{"$f":"$J$15","v":6},{"$f":"$G$15","v":8},{"$f":"$E$15","v":5},36]
[{"$f":"Timetable!I36","v":66},"Discus Match 2","U15 Male",{"$f":"$K$15","v":1},{"$f":"$E$15","v":5},{"$f":"$G$15","v":8},{"$f":"$H$15","v":7},{"$f":"$J$15","v":6},{"$f":"$F$15","v":4},{"$f":"$D$15","v":3},{"$f":"$I$15","v":2},36]
[{"$f":"Timetable!I37","v":67},"Javelin Match 1 & 3","U17 Men",{"$f":"$G$15","v":8},{"$f":"$J$15","v":6},{"$f":"$F$15","v":4},{"$f":"$D$15","v":3},{"$f":"$I$15","v":2},{"$f":"$H$15","v":7},{"$f":"$E$15","v":5},{"$f":"$K$15","v":1},36]
[{"$f":"Timetable!I38","v":74},"High Jump ","U17 Men",{"$f":"$H$15","v":7},{"$f":"$F$15","v":4},{"$f":"$G$15","v":8},{"$f":"$D$15","v":3},{"$f":"$K$15","v":1},{"$f":"$J$15","v":6},{"$f":"$I$15","v":2},{"$f":"$E$15","v":5},36]
[{"$f":"Timetable!I39","v":75},"Long Jump Pit1","U17 F/Women",{"$f":"$E$15","v":5},{"$f":"$G$15","v":8},{"$f":"$F$15","v":4},{"$f":"$H$15","v":7},{"$f":"$J$15","v":6},{"$f":"$D$15","v":3},{"$f":"$K$15","v":1},{"$f":"$I$15","v":2},36]
[{"$f":"Timetable!I40","v":77},"Shot ","U15 Female",{"$f":"$F$15","v":4},{"$f":"$D$15","v":3},{"$f":"$H$15","v":7},{"$f":"$E$15","v":5},{"$f":"$K$15","v":1},{"$f":"$I$15","v":2},{"$f":"$G$15","v":8},{"$f":"$J$15","v":6},36]
[{"$f":"Timetable!I41","v":78},"Discus Match 2","U13 Male",{"$f":"$I$15","v":2},{"$f":"$K$15","v":1},{"$f":"$J$15","v":6},{"$f":"$F$15","v":4},{"$f":"$H$15","v":7},{"$f":"$E$15","v":5},{"$f":"$D$15","v":3},{"$f":"$G$15","v":8},36]
[{"$f":"Timetable!I42","v":79},"Javelin Match 1 & 3","U13 Female",{"$f":"$G$15","v":8},{"$f":"$I$15","v":2},{"$f":"$E$15","v":5},{"$f":"$K$15","v":1},{"$f":"$D$15","v":3},{"$f":"$H$15","v":7},{"$f":"$J$15","v":6},{"$f":"$F$15","v":4},36]
[null,null,null,{"$f":"$D$15","v":3},{"$f":"$E$15","v":5},{"$f":"$I$15","v":2},{"$f":"$J$15","v":6},{"$f":"$G$15","v":8},{"$f":"$K$15","v":1},{"$f":"$F$15","v":4},{"$f":"$H$15","v":7},36]

{"sheet":"Sheet1","index":20,"n_rows":0,"n_cols":0,"rows_kept":0,"cut":false,"hidden":false,"merged":[]}