{"text_format":"1","workbook":"xlsx","n_sheets":18,"sheets":["Year 7 Girls ","Year 7 Girls Teams","Year 7 Boys","Year 7 Boys Teams","Junior Girls","Junior Girls Teams","Junior Boys","Junior Boys Teams","Inter Girls","Inter Girls Teams","Inter Boys","Inter Boys Teams","Senior Girls","Senior Girls Teams","Senior Boys","Senior Boys Teams","Summary Sheet","Schools List"],"not_rendered":{"charts":0,"images":0,"macros":1,"external_links":0,"defined_names":18,"comments":0,"pivot_tables":0},"unopened":[],"bounds":{"document_bytes":16777216,"sheet_cells":100000,"rows_first":2000,"rows_last":500,"rows_between":2000,"halvings":0,"cell_chars":16384,"cell_head_chars":4096},"cells_cut":0,"cells_raw":0,"read":"whole","date_system":"1900"}

{"sheet":"Year 7 Girls ","index":0,"n_rows":154,"n_cols":38,"rows_kept":154,"cut":false,"hidden":false,"merged":[]}
[null,"Total Number of Runners","Race Complete (Y/N) ","Y",null,"Y",null,"Y",null,"Y",null,"Y",null,null,null,null,null,null,null,null,{"$f":"IF(D1=\"Y\",1,0)","v":1},null,{"$f":"IF(F1=\"Y\",1,0)","v":1},null,{"$f":"IF(H1=\"Y\",1,0)","v":1},null,{"$f":"IF(J1=\"Y\",1,0)","v":1},null,{"$f":"IF(L1=\"Y\",1,0)","v":1},null,{"$f":"SUM(U1:AC1)","v":5}]
[null,{"$f":"COUNTA(B5:B300)","v":87},"No of Finishers",{"$f":"MAX(D5:D151)","v":59},{"$f":"MAX(E5:E151)","v":59},50,50,50,50,39,39,47]
[null,null,"Number of results recorded",{"$f":"COUNTIF(D5:D150,\">0\")","v":59},null,{"$f":"COUNTIF(G5:G150,\">0\")","v":50},null,48,null,39,null,45]
["Reset Column","Name","School","Race 1","Normalised result -1","Race 2","Normalised result -2","Race 3","Normalised result -3","Race 4","Normalised result -4","Race 5","Normalised result -5",null,"Total\n(All Races)","Lowest Place Finish","Final Total","Number of Races Completed","League contender?\n(No. of races - missed)","Elidgible For League Title","Competed in race 1\n0 = YES",null,"Competed in race 2\n0 = YES",null,"Competed in race 3\n0 = YES",null,"Competed in race 4\n0 = YES",null,"Competed in race 5\n0 = YES",null,null,null,null,null,null,null,null," "]
[58,"Rachel Nealon","Brookvale High School",1,{"$f":"IF(D5=\"-\",0,D5)","v":1},2,{"$f":"IF(F5=\"-\",0,F5)","v":2},1,{"$f":"IF(H5=\"-\",0,H5)","v":1},7,{"$f":"IF(J5=\"-\",0,J5)","v":7},1,{"$f":"IF(L5=\"-\",0,L5)","v":1},null,{"$f":"E5+G5+I5+K5+M5","v":12},{"$f":"MAX(D5,F5,H5,J5,L5)","v":7},{"$f":"IF(S5=1,O5,IF(S5=0,(O5-P5),\"-\"))","v":5},{"$f":"COUNTIF(U5:AD5,\"=TRUE\")","v":5},{"$f":"AE$1-R5","v":0},{"$f":"IF(S5<2,\"Yes\",\"No\")","v":"Yes"},{"$f":"IF(D5=\"-\",1,0)*U$1","v":0},{"$f":"AND(U5=0,U$1=1)","v":true},{"$f":"IF(F5=\"-\",1,0)*W$1","v":0},{"$f":"AND(W5=0,W$1=1)","v":true},{"$f":"IF(H5=\"-\",1,0)*Y$1","v":0},{"$f":"AND(Y5=0,Y$1=1)","v":true},{"$f":"IF(J5=\"-\",1,0)*AA$1","v":0},{"$f":"AND(AA5=0,AA$1=1)","v":true},{"$f":"IF(L5=\"-\",1,0)*AC$1","v":0},{"$f":"AND(AC5=0,AC$1=1)","v":true}]
[21,"Hollie Gamble","Brookvale High School",2,{"$f":"IF(D6=\"-\",0,D6)","v":2},1,{"$f":"IF(F6=\"-\",0,F6)","v":1},2,{"$f":"IF(H6=\"-\",0,H6)","v":2},1,{"$f":"IF(J6=\"-\",0,J6)","v":1},2,{"$f":"IF(L6=\"-\",0,L6)","v":2},null,{"$f":"E6+G6+I6+K6+M6","v":8},{"$f":"MAX(D6,F6,H6,J6,L6)","v":2},{"$f":"IF(S6=1,O6,IF(S6=0,(O6-P6),\"-\"))","v":6},{"$f":"COUNTIF(U6:AD6,\"=TRUE\")","v":5},{"$f":"AE$1-R6","v":0},{"$f":"IF(S6<2,\"Yes\",\"No\")","v":"Yes"},{"$f":"IF(D6=\"-\",1,0)*U$1","v":0},{"$f":"AND(U6=0,U$1=1)","v":true},{"$f":"IF(F6=\"-\",1,0)*W$1","v":0},{"$f":"AND(W6=0,W$1=1)","v":true},{"$f":"IF(H6=\"-\",1,0)*Y$1","v":0},{"$f":"AND(Y6=0,Y$1=1)","v":true},{"$f":"IF(J6=\"-\",1,0)*AA$1","v":0},{"$f":"AND(AA6=0,AA$1=1)","v":true},{"$f":"IF(L6=\"-\",1,0)*AC$1","v":0},{"$f":"AND(AC6=0,AC$1=1)","v":true}]
[30,"Maya Stokes","Castle Rock High School",7,{"$f":"IF(D7=\"-\",0,D7)","v":7},7,{"$f":"IF(F7=\"-\",0,F7)","v":7},4,{"$f":"IF(H7=\"-\",0,H7)","v":4},3,{"$f":"IF(J7=\"-\",0,J7)","v":3},3,{"$f":"IF(L7=\"-\",0,L7)","v":3},null,{"$f":"E7+G7+I7+K7+M7","v":24},{"$f":"MAX(D7,F7,H7,J7,L7)","v":7},{"$f":"IF(S7=1,O7,IF(S7=0,(O7-P7),\"-\"))","v":17},{"$f":"COUNTIF(U7:AD7,\"=TRUE\")","v":5},{"$f":"AE$1-R7","v":0},{"$f":"IF(S7<2,\"Yes\",\"No\")","v":"Yes"},{"$f":"IF(D7=\"-\",1,0)*U$1","v":0},{"$f":"AND(U7=0,U$1=1)","v":true},{"$f":"IF(F7=\"-\",1,0)*W$1","v":0},{"$f":"AND(W7=0,W$1=1)","v":true},{"$f":"IF(H7=\"-\",1,0)*Y$1","v":0},{"$f":"AND(Y7=0,Y$1=1)","v":true},{"$f":"IF(J7=\"-\",1,0)*AA$1","v":0},{"$f":"AND(AA7=0,AA$1=1)","v":true},{"$f":"IF(L7=\"-\",1,0)*AC$1","v":0},{"$f":"AND(AC7=0,AC$1=1)","v":true}]
[47,"Rosie Timlock","The Martin High School",4,{"$f":"IF(D8=\"-\",0,D8)","v":4},3,{"$f":"IF(F8=\"-\",0,F8)","v":3},3,{"$f":"IF(H8=\"-\",0,H8)","v":3},2,{"$f":"IF(J8=\"-\",0,J8)","v":2},4,{"$f":"IF(L8=\"-\",0,L8)","v":4},null,{"$f":"E8+G8+I8+K8+M8","v":16},{"$f":"MAX(D8,F8,H8,J8,L8)","v":4},{"$f":"IF(S8=1,O8,IF(S8=0,(O8-P8),\"-\"))","v":12},{"$f":"COUNTIF(U8:AD8,\"=TRUE\")","v":5},{"$f":"AE$1-R8","v":0},{"$f":"IF(S8<2,\"Yes\",\"No\")","v":"Yes"},{"$f":"IF(D8=\"-\",1,0)*U$1","v":0},{"$f":"AND(U8=0,U$1=1)","v":true},{"$f":"IF(F8=\"-\",1,0)*W$1","v":0},{"$f":"AND(W8=0,W$1=1)","v":true},{"$f":"IF(H8=\"-\",1,0)*Y$1","v":0},{"$f":"AND(Y8=0,Y$1=1)","v":true},{"$f":"IF(J8=\"-\",1,0)*AA$1","v":0},{"$f":"AND(AA8=0,AA$1=1)","v":true},{"$f":"IF(L8=\"-\",1,0)*AC$1","v":0},{"$f":"AND(AC8=0,AC$1=1)","v":true}]
[37,"Lizzie Clapp","Welland Park Academy",5,{"$f":"IF(D9=\"-\",0,D9)","v":5},4,{"$f":"IF(F9=\"-\",0,F9)","v":4},"-",{"$f":"IF(H9=\"-\",0,H9)","v":0},4,{"$f":"IF(J9=\"-\",0,J9)","v":4},5,{"$f":"IF(L9=\"-\",0,L9)","v":5},null,{"$f":"E9+G9+I9+K9+M9","v":18},{"$f":"MAX(D9,F9,H9,J9,L9)","v":5},{"$f":"IF(S9=1,O9,IF(S9=0,(O9-P9),\"-\"))","v":18},{"$f":"COUNTIF(U9:AD9,\"=TRUE\")","v":4},{"$f":"AE$1-R9","v":1},{"$f":"IF(S9<2,\"Yes\",\"No\")","v":"Yes"},{"$f":"IF(D9=\"-\",1,0)*U$1","v":0},{"$f":"AND(U9=0,U$1=1)","v":true},{"$f":"IF(F9=\"-\",1,0)*W$1","v":0},{"$f":"AND(W9=0,W$1=1)","v":true},{"$f":"IF(H9=\"-\",1,0)*Y$1","v":1},{"$f":"AND(Y9=0,Y$1=1)","v":false},{"$f":"IF(J9=\"-\",1,0)*AA$1","v":0},{"$f":"AND(AA9=0,AA$1=1)","v":true},{"$f":"IF(L9=\"-\",1,0)*AC$1","v":0},{"$f":"AND(AC9=0,AC$1=1)","v":true}]
[8,"Sophie Thorpe","English Martyrs Catholic School",6,{"$f":"IF(D10=\"-\",0,D10)","v":6},5,{"$f":"IF(F10=\"-\",0,F10)","v":5},6,{"$f":"IF(H10=\"-\",0,H10)","v":6},8,{"$f":"IF(J10=\"-\",0,J10)","v":8},6,{"$f":"IF(L10=\"-\",0,L10)","v":6},null,{"$f":"E10+G10+I10+K10+M10","v":31},{"$f":"MAX(D10,F10,H10,J10,L10)","v":8},{"$f":"IF(S10=1,O10,IF(S10=0,(O10-P10),\"-\"))","v":23},{"$f":"COUNTIF(U10:AD10,\"=TRUE\")","v":5},{"$f":"AE$1-R10","v":0},{"$f":"IF(S10<2,\"Yes\",\"No\")","v":"Yes"},{"$f":"IF(D10=\"-\",1,0)*U$1","v":0},{"$f":"AND(U10=0,U$1=1)","v":true},{"$f":"IF(F10=\"-\",1,0)*W$1","v":0},{"$f":"AND(W10=0,W$1=1)","v":true},{"$f":"IF(H10=\"-\",1,0)*Y$1","v":0},{"$f":"AND(Y10=0,Y$1=1)","v":true},{"$f":"IF(J10=\"-\",1,0)*AA$1","v":0},{"$f":"AND(AA10=0,AA$1=1)","v":true},{"$f":"IF(L10=\"-\",1,0)*AC$1","v":0},{"$f":"AND(AC10=0,AC$1=1)","v":true}]
[79,"Olivia Godsell","Ivanhoe College",13,{"$f":"IF(D11=\"-\",0,D11)","v":13},"-",{"$f":"IF(F11=\"-\",0,F11)","v":0},10,{"$f":"IF(H11=\"-\",0,H11)","v":10},9,{"$f":"IF(J11=\"-\",0,J11)","v":9},7,{"$f":"IF(L11=\"-\",0,L11)","v":7},null,{"$f":"E11+G11+I11+K11+M11","v":39},{"$f":"MAX(D11,F11,H11,J11,L11)","v":13},{"$f":"IF(S11=1,O11,IF(S11=0,(O11-P11),\"-\"))","v":39},{"$f":"COUNTIF(U11:AD11,\"=TRUE\")","v":4},{"$f":"AE$1-R11","v":1},{"$f":"IF(S11<2,\"Yes\",\"No\")","v":"Yes"},{"$f":"IF(D11=\"-\",1,0)*U$1","v":0},{"$f":"AND(U11=0,U$1=1)","v":true},{"$f":"IF(F11=\"-\",1,0)*W$1","v":1},{"$f":"AND(W11=0,W$1=1)","v":false},{"$f":"IF(H11=\"-\",1,0)*Y$1","v":0},{"$f":"AND(Y11=0,Y$1=1)","v":true},{"$f":"IF(J11=\"-\",1,0)*AA$1","v":0},{"$f":"AND(AA11=0,AA$1=1)","v":true},{"$f":"IF(L11=\"-\",1,0)*AC$1","v":0},{"$f":"AND(AC11=0,AC$1=1)","v":true}]
[68,"Grace Alvey","Woodbrook Vale School",8,{"$f":"IF(D12=\"-\",0,D12)","v":8},6,{"$f":"IF(F12=\"-\",0,F12)","v":6},5,{"$f":"IF(H12=\"-\",0,H12)","v":5},5,{"$f":"IF(J12=\"-\",0,J12)","v":5},8,{"$f":"IF(L12=\"-\",0,L12)","v":8},null,{"$f":"E12+G12+I12+K12+M12","v":32},{"$f":"MAX(D12,F12,H12,J12,L12)","v":8},{"$f":"IF(S12=1,O12,IF(S12=0,(O12-P12),\"-\"))","v":24},{"$f":"COUNTIF(U12:AD12,\"=TRUE\")","v":5},{"$f":"AE$1-R12","v":0},{"$f":"IF(S12<2,\"Yes\",\"No\")","v":"Yes"},{"$f":"IF(D12=\"-\",1,0)*U$1","v":0},{"$f":"AND(U12=0,U$1=1)","v":true},{"$f":"IF(F12=\"-\",1,0)*W$1","v":0},{"$f":"AND(W12=0,W$1=1)","v":true},{"$f":"IF(H12=\"-\",1,0)*Y$1","v":0},{"$f":"AND(Y12=0,Y$1=1)","v":true},{"$f":"IF(J12=\"-\",1,0)*AA$1","v":0},{"$f":"AND(AA12=0,AA$1=1)","v":true},{"$f":"IF(L12=\"-\",1,0)*AC$1","v":0},{"$f":"AND(AC12=0,AC$1=1)","v":true}]
[49,"Eva Walters","Thomas Estley CC",11,{"$f":"IF(D13=\"-\",0,D13)","v":11},8,{"$f":"IF(F13=\"-\",0,F13)","v":8},8,{"$f":"IF(H13=\"-\",0,H13)","v":8},6,{"$f":"IF(J13=\"-\",0,J13)","v":6},9,{"$f":"IF(L13=\"-\",0,L13)","v":9},null,{"$f":"E13+G13+I13+K13+M13","v":42},{"$f":"MAX(D13,F13,H13,J13,L13)","v":11},{"$f":"IF(S13=1,O13,IF(S13=0,(O13-P13),\"-\"))","v":31},{"$f":"COUNTIF(U13:AD13,\"=TRUE\")","v":5},{"$f":"AE$1-R13","v":0},{"$f":"IF(S13<2,\"Yes\",\"No\")","v":"Yes"},{"$f":"IF(D13=\"-\",1,0)*U$1","v":0},{"$f":"AND(U13=0,U$1=1)","v":true},{"$f":"IF(F13=\"-\",1,0)*W$1","v":0},{"$f":"AND(W13=0,W$1=1)","v":true},{"$f":"IF(H13=\"-\",1,0)*Y$1","v":0},{"$f":"AND(Y13=0,Y$1=1)","v":true},{"$f":"IF(J13=\"-\",1,0)*AA$1","v":0},{"$f":"AND(AA13=0,AA$1=1)","v":true},{"$f":"IF(L13=\"-\",1,0)*AC$1","v":0},{"$f":"AND(AC13=0,AC$1=1)","v":true}]
[10,"Karandeep Thandi","Brookvale High School",18,{"$f":"IF(D14=\"-\",0,D14)","v":18},11,{"$f":"IF(F14=\"-\",0,F14)","v":11},11,{"$f":"IF(H14=\"-\",0,H14)","v":11},"-",{"$f":"IF(J14=\"-\",0,J14)","v":0},10,{"$f":"IF(L14=\"-\",0,L14)","v":10},null,{"$f":"E14+G14+I14+K14+M14","v":50},{"$f":"MAX(D14,F14,H14,J14,L14)","v":18},{"$f":"IF(S14=1,O14,IF(S14=0,(O14-P14),\"-\"))","v":50},{"$f":"COUNTIF(U14:AD14,\"=TRUE\")","v":4},{"$f":"AE$1-R14","v":1},{"$f":"IF(S14<2,\"Yes\",\"No\")","v":"Yes"},{"$f":"IF(D14=\"-\",1,0)*U$1","v":0},{"$f":"AND(U14=0,U$1=1)","v":true},{"$f":"IF(F14=\"-\",1,0)*W$1","v":0},{"$f":"AND(W14=0,W$1=1)","v":true},{"$f":"IF(H14=\"-\",1,0)*Y$1","v":0},{"$f":"AND(Y14=0,Y$1=1)","v":true},{"$f":"IF(J14=\"-\",1,0)*AA$1","v":1},{"$f":"AND(AA14=0,AA$1=1)","v":false},{"$f":"IF(L14=\"-\",1,0)*AC$1","v":0},{"$f":"AND(AC14=0,AC$1=1)","v":true}]
[81,"Henrietta Magill","Manor High School",12,{"$f":"IF(D15=\"-\",0,D15)","v":12},10,{"$f":"IF(F15=\"-\",0,F15)","v":10},9,{"$f":"IF(H15=\"-\",0,H15)","v":9},10,{"$f":"IF(J15=\"-\",0,J15)","v":10},11,{"$f":"IF(L15=\"-\",0,L15)","v":11},null,{"$f":"E15+G15+I15+K15+M15","v":52},{"$f":"MAX(D15,F15,H15,J15,L15)","v":12},{"$f":"IF(S15=1,O15,IF(S15=0,(O15-P15),\"-\"))","v":40},{"$f":"COUNTIF(U15:AD15,\"=TRUE\")","v":5},{"$f":"AE$1-R15","v":0},{"$f":"IF(S15<2,\"Yes\",\"No\")","v":"Yes"},{"$f":"IF(D15=\"-\",1,0)*U$1","v":0},{"$f":"AND(U15=0,U$1=1)","v":true},{"$f":"IF(F15=\"-\",1,0)*W$1","v":0},{"$f":"AND(W15=0,W$1=1)","v":true},{"$f":"IF(H15=\"-\",1,0)*Y$1","v":0},{"$f":"AND(Y15=0,Y$1=1)","v":true},{"$f":"IF(J15=\"-\",1,0)*AA$1","v":0},{"$f":"AND(AA15=0,AA$1=1)","v":true},{"$f":"IF(L15=\"-\",1,0)*AC$1","v":0},{"$f":"AND(AC15=0,AC$1=1)","v":true}]
[18,"Maddy Holohan","English Martyrs Catholic School",14,{"$f":"IF(D16=\"-\",0,D16)","v":14},"-",{"$f":"IF(F16=\"-\",0,F16)","v":0},14,{"$f":"IF(H16=\"-\",0,H16)","v":14},13,{"$f":"IF(J16=\"-\",0,J16)","v":13},12,{"$f":"IF(L16=\"-\",0,L16)","v":12},null,{"$f":"E16+G16+I16+K16+M16","v":53},{"$f":"MAX(D16,F16,H16,J16,L16)","v":14},{"$f":"IF(S16=1,O16,IF(S16=0,(O16-P16),\"-\"))","v":53},{"$f":"COUNTIF(U16:AD16,\"=TRUE\")","v":4},{"$f":"AE$1-R16","v":1},{"$f":"IF(S16<2,\"Yes\",\"No\")","v":"Yes"},{"$f":"IF(D16=\"-\",1,0)*U$1","v":0},{"$f":"AND(U16=0,U$1=1)","v":true},{"$f":"IF(F16=\"-\",1,0)*W$1","v":1},{"$f":"AND(W16=0,W$1=1)","v":false},{"$f":"IF(H16=\"-\",1,0)*Y$1","v":0},{"$f":"AND(Y16=0,Y$1=1)","v":true},{"$f":"IF(J16=\"-\",1,0)*AA$1","v":0},{"$f":"AND(AA16=0,AA$1=1)","v":true},{"$f":"IF(L16=\"-\",1,0)*AC$1","v":0},{"$f":"AND(AC16=0,AC$1=1)","v":true}]
[28,"Sophie Ward","Kibworth High School",20,{"$f":"IF(D17=\"-\",0,D17)","v":20},15,{"$f":"IF(F17=\"-\",0,F17)","v":15},35,{"$f":"IF(H17=\"-\",0,H17)","v":35},25,{"$f":"IF(J17=\"-\",0,J17)","v":25},13,{"$f":"IF(L17=\"-\",0,L17)","v":13},null,{"$f":"E17+G17+I17+K17+M17","v":108},{"$f":"MAX(D17,F17,H17,J17,L17)","v":35},{"$f":"IF(S17=1,O17,IF(S17=0,(O17-P17),\"-\"))","v":73},{"$f":"COUNTIF(U17:AD17,\"=TRUE\")","v":5},{"$f":"AE$1-R17","v":0},{"$f":"IF(S17<2,\"Yes\",\"No\")","v":"Yes"},{"$f":"IF(D17=\"-\",1,0)*U$1","v":0},{"$f":"AND(U17=0,U$1=1)","v":true},{"$f":"IF(F17=\"-\",1,0)*W$1","v":0},{"$f":"AND(W17=0,W$1=1)","v":true},{"$f":"IF(H17=\"-\",1,0)*Y$1","v":0},{"$f":"AND(Y17=0,Y$1=1)","v":true},{"$f":"IF(J17=\"-\",1,0)*AA$1","v":0},{"$f":"AND(AA17=0,AA$1=1)","v":true},{"$f":"IF(L17=\"-\",1,0)*AC$1","v":0},{"$f":"AND(AC17=0,AC$1=1)","v":true}]
[75,"Sinead Kirk","Kibworth High School",17,{"$f":"IF(D18=\"-\",0,D18)","v":17},14,{"$f":"IF(F18=\"-\",0,F18)","v":14},12,{"$f":"IF(H18=\"-\",0,H18)","v":12},"-",{"$f":"IF(J18=\"-\",0,J18)","v":0},14,{"$f":"IF(L18=\"-\",0,L18)","v":14},null,{"$f":"E18+G18+I18+K18+M18","v":57},{"$f":"MAX(D18,F18,H18,J18,L18)","v":17},{"$f":"IF(S18=1,O18,IF(S18=0,(O18-P18),\"-\"))","v":57},{"$f":"COUNTIF(U18:AD18,\"=TRUE\")","v":4},{"$f":"AE$1-R18","v":1},{"$f":"IF(S18<2,\"Yes\",\"No\")","v":"Yes"},{"$f":"IF(D18=\"-\",1,0)*U$1","v":0},{"$f":"AND(U18=0,U$1=1)","v":true},{"$f":"IF(F18=\"-\",1,0)*W$1","v":0},{"$f":"AND(W18=0,W$1=1)","v":true},{"$f":"IF(H18=\"-\",1,0)*Y$1","v":0},{"$f":"AND(Y18=0,Y$1=1)","v":true},{"$f":"IF(J18=\"-\",1,0)*AA$1","v":1},{"$f":"AND(AA18=0,AA$1=1)","v":false},{"$f":"IF(L18=\"-\",1,0)*AC$1","v":0},{"$f":"AND(AC18=0,AC$1=1)","v":true}]
[36,"Grace Lovett-Brunt","Uppingham CC","-",{"$f":"IF(D19=\"-\",0,D19)","v":0},12,{"$f":"IF(F19=\"-\",0,F19)","v":12},16,{"$f":"IF(H19=\"-\",0,H19)","v":16},12,{"$f":"IF(J19=\"-\",0,J19)","v":12},15,{"$f":"IF(L19=\"-\",0,L19)","v":15},null,{"$f":"E19+G19+I19+K19+M19","v":55},{"$f":"MAX(D19,F19,H19,J19,L19)","v":16},{"$f":"IF(S19=1,O19,IF(S19=0,(O19-P19),\"-\"))","v":55},{"$f":"COUNTIF(U19:AD19,\"=TRUE\")","v":4},{"$f":"AE$1-R19","v":1},{"$f":"IF(S19<2,\"Yes\",\"No\")","v":"Yes"},{"$f":"IF(D19=\"-\",1,0)*U$1","v":1},{"$f":"AND(U19=0,U$1=1)","v":false},{"$f":"IF(F19=\"-\",1,0)*W$1","v":0},{"$f":"AND(W19=0,W$1=1)","v":true},{"$f":"IF(H19=\"-\",1,0)*Y$1","v":0},{"$f":"AND(Y19=0,Y$1=1)","v":true},{"$f":"IF(J19=\"-\",1,0)*AA$1","v":0},{"$f":"AND(AA19=0,AA$1=1)","v":true},{"$f":"IF(L19=\"-\",1,0)*AC$1","v":0},{"$f":"AND(AC19=0,AC$1=1)","v":true}]
[80,"Tameika Clarke","Thomas Estley CC","-",{"$f":"IF(D20=\"-\",0,D20)","v":0},"-",{"$f":"IF(F20=\"-\",0,F20)","v":0},22,{"$f":"IF(H20=\"-\",0,H20)","v":22},21,{"$f":"IF(J20=\"-\",0,J20)","v":21},16,{"$f":"IF(L20=\"-\",0,L20)","v":16},null,{"$f":"E20+G20+I20+K20+M20","v":59},{"$f":"MAX(D20,F20,H20,J20,L20)","v":22},{"$f":"IF(S20=1,O20,IF(S20=0,(O20-P20),\"-\"))","v":"-"},{"$f":"COUNTIF(U20:AD20,\"=TRUE\")","v":3},{"$f":"AE$1-R20","v":2},{"$f":"IF(S20<2,\"Yes\",\"No\")","v":"No"},{"$f":"IF(D20=\"-\",1,0)*U$1","v":1},{"$f":"AND(U20=0,U$1=1)","v":false},{"$f":"IF(F20=\"-\",1,0)*W$1","v":1},{"$f":"AND(W20=0,W$1=1)","v":false},{"$f":"IF(H20=\"-\",1,0)*Y$1","v":0},{"$f":"AND(Y20=0,Y$1=1)","v":true},{"$f":"IF(J20=\"-\",1,0)*AA$1","v":0},{"$f":"AND(AA20=0,AA$1=1)","v":true},{"$f":"IF(L20=\"-\",1,0)*AC$1","v":0},{"$f":"AND(AC20=0,AC$1=1)","v":true}]
[73,"Charlotte Perry","The Market Bosworth School",24,{"$f":"IF(D21=\"-\",0,D21)","v":24},"-",{"$f":"IF(F21=\"-\",0,F21)","v":0},20,{"$f":"IF(H21=\"-\",0,H21)","v":20},11,{"$f":"IF(J21=\"-\",0,J21)","v":11},17,{"$f":"IF(L21=\"-\",0,L21)","v":17},null,{"$f":"E21+G21+I21+K21+M21","v":72},{"$f":"MAX(D21,F21,H21,J21,L21)","v":24},{"$f":"IF(S21=1,O21,IF(S21=0,(O21-P21),\"-\"))","v":72},{"$f":"COUNTIF(U21:AD21,\"=TRUE\")","v":4},{"$f":"AE$1-R21","v":1},{"$f":"IF(S21<2,\"Yes\",\"No\")","v":"Yes"},{"$f":"IF(D21=\"-\",1,0)*U$1","v":0},{"$f":"AND(U21=0,U$1=1)","v":true},{"$f":"IF(F21=\"-\",1,0)*W$1","v":1},{"$f":"AND(W21=0,W$1=1)","v":false},{"$f":"IF(H21=\"-\",1,0)*Y$1","v":0},{"$f":"AND(Y21=0,Y$1=1)","v":true},{"$f":"IF(J21=\"-\",1,0)*AA$1","v":0},{"$f":"AND(AA21=0,AA$1=1)","v":true},{"$f":"IF(L21=\"-\",1,0)*AC$1","v":0},{"$f":"AND(AC21=0,AC$1=1)","v":true}]
[1,"Holly Benzie","Humphrey Perkins School","-",{"$f":"IF(D22=\"-\",0,D22)","v":0},"-",{"$f":"IF(F22=\"-\",0,F22)","v":0},31,{"$f":"IF(H22=\"-\",0,H22)","v":31},"-",{"$f":"IF(J22=\"-\",0,J22)","v":0},18,{"$f":"IF(L22=\"-\",0,L22)","v":18},null,{"$f":"E22+G22+I22+K22+M22","v":49},{"$f":"MAX(D22,F22,H22,J22,L22)","v":31},{"$f":"IF(S22=1,O22,IF(S22=0,(O22-P22),\"-\"))","v":"-"},{"$f":"COUNTIF(U22:AD22,\"=TRUE\")","v":2},{"$f":"AE$1-R22","v":3},{"$f":"IF(S22<2,\"Yes\",\"No\")","v":"No"},{"$f":"IF(D22=\"-\",1,0)*U$1","v":1},{"$f":"AND(U22=0,U$1=1)","v":false},{"$f":"IF(F22=\"-\",1,0)*W$1","v":1},{"$f":"AND(W22=0,W$1=1)","v":false},{"$f":"IF(H22=\"-\",1,0)*Y$1","v":0},{"$f":"AND(Y22=0,Y$1=1)","v":true},{"$f":"IF(J22=\"-\",1,0)*AA$1","v":1},{"$f":"AND(AA22=0,AA$1=1)","v":false},{"$f":"IF(L22=\"-\",1,0)*AC$1","v":0},{"$f":"AND(AC22=0,AC$1=1)","v":true}]
[25,"Ashlynne Scott","Welland Park Academy","-",{"$f":"IF(D23=\"-\",0,D23)","v":0},"-",{"$f":"IF(F23=\"-\",0,F23)","v":0},19,{"$f":"IF(H23=\"-\",0,H23)","v":19},16,{"$f":"IF(J23=\"-\",0,J23)","v":16},19,{"$f":"IF(L23=\"-\",0,L23)","v":19},null,{"$f":"E23+G23+I23+K23+M23","v":54},{"$f":"MAX(D23,F23,H23,J23,L23)","v":19},{"$f":"IF(S23=1,O23,IF(S23=0,(O23-P23),\"-\"))","v":"-"},{"$f":"COUNTIF(U23:AD23,\"=TRUE\")","v":3},{"$f":"AE$1-R23","v":2},{"$f":"IF(S23<2,\"Yes\",\"No\")","v":"No"},{"$f":"IF(D23=\"-\",1,0)*U$1","v":1},{"$f":"AND(U23=0,U$1=1)","v":false},{"$f":"IF(F23=\"-\",1,0)*W$1","v":1},{"$f":"AND(W23=0,W$1=1)","v":false},{"$f":"IF(H23=\"-\",1,0)*Y$1","v":0},{"$f":"AND(Y23=0,Y$1=1)","v":true},{"$f":"IF(J23=\"-\",1,0)*AA$1","v":0},{"$f":"AND(AA23=0,AA$1=1)","v":true},{"$f":"IF(L23=\"-\",1,0)*AC$1","v":0},{"$f":"AND(AC23=0,AC$1=1)","v":true}]
[43,"Samantha Dyson-Jackson","The Market Bosworth School",26,{"$f":"IF(D24=\"-\",0,D24)","v":26},21,{"$f":"IF(F24=\"-\",0,F24)","v":21},21,{"$f":"IF(H24=\"-\",0,H24)","v":21},20,{"$f":"IF(J24=\"-\",0,J24)","v":20},20,{"$f":"IF(L24=\"-\",0,L24)","v":20},null,{"$f":"E24+G24+I24+K24+M24","v":108},{"$f":"MAX(D24,F24,H24,J24,L24)","v":26},{"$f":"IF(S24=1,O24,IF(S24=0,(O24-P24),\"-\"))","v":82},{"$f":"COUNTIF(U24:AD24,\"=TRUE\")","v":5},{"$f":"AE$1-R24","v":0},{"$f":"IF(S24<2,\"Yes\",\"No\")","v":"Yes"},{"$f":"IF(D24=\"-\",1,0)*U$1","v":0},{"$f":"AND(U24=0,U$1=1)","v":true},{"$f":"IF(F24=\"-\",1,0)*W$1","v":0},{"$f":"AND(W24=0,W$1=1)","v":true},{"$f":"IF(H24=\"-\",1,0)*Y$1","v":0},{"$f":"AND(Y24=0,Y$1=1)","v":true},{"$f":"IF(J24=\"-\",1,0)*AA$1","v":0},{"$f":"AND(AA24=0,AA$1=1)","v":true},{"$f":"IF(L24=\"-\",1,0)*AC$1","v":0},{"$f":"AND(AC24=0,AC$1=1)","v":true}]
[83,"Hannah Gillespie","John Ferneley College",16,{"$f":"IF(D25=\"-\",0,D25)","v":16},18,{"$f":"IF(F25=\"-\",0,F25)","v":18},24,{"$f":"IF(H25=\"-\",0,H25)","v":24},24,{"$f":"IF(J25=\"-\",0,J25)","v":24},21,{"$f":"IF(L25=\"-\",0,L25)","v":21},null,{"$f":"E25+G25+I25+K25+M25","v":103},{"$f":"MAX(D25,F25,H25,J25,L25)","v":24},{"$f":"IF(S25=1,O25,IF(S25=0,(O25-P25),\"-\"))","v":79},{"$f":"COUNTIF(U25:AD25,\"=TRUE\")","v":5},{"$f":"AE$1-R25","v":0},{"$f":"IF(S25<2,\"Yes\",\"No\")","v":"Yes"},{"$f":"IF(D25=\"-\",1,0)*U$1","v":0},{"$f":"AND(U25=0,U$1=1)","v":true},{"$f":"IF(F25=\"-\",1,0)*W$1","v":0},{"$f":"AND(W25=0,W$1=1)","v":true},{"$f":"IF(H25=\"-\",1,0)*Y$1","v":0},{"$f":"AND(Y25=0,Y$1=1)","v":true},{"$f":"IF(J25=\"-\",1,0)*AA$1","v":0},{"$f":"AND(AA25=0,AA$1=1)","v":true},{"$f":"IF(L25=\"-\",1,0)*AC$1","v":0},{"$f":"AND(AC25=0,AC$1=1)","v":true}]
[11,"Bethany Wallis","Welland Park Academy",15,{"$f":"IF(D26=\"-\",0,D26)","v":15},16,{"$f":"IF(F26=\"-\",0,F26)","v":16},15,{"$f":"IF(H26=\"-\",0,H26)","v":15},15,{"$f":"IF(J26=\"-\",0,J26)","v":15},22,{"$f":"IF(L26=\"-\",0,L26)","v":22},null,{"$f":"E26+G26+I26+K26+M26","v":83},{"$f":"MAX(D26,F26,H26,J26,L26)","v":22},{"$f":"IF(S26=1,O26,IF(S26=0,(O26-P26),\"-\"))","v":61},{"$f":"COUNTIF(U26:AD26,\"=TRUE\")","v":5},{"$f":"AE$1-R26","v":0},{"$f":"IF(S26<2,\"Yes\",\"No\")","v":"Yes"},{"$f":"IF(D26=\"-\",1,0)*U$1","v":0},{"$f":"AND(U26=0,U$1=1)","v":true},{"$f":"IF(F26=\"-\",1,0)*W$1","v":0},{"$f":"AND(W26=0,W$1=1)","v":true},{"$f":"IF(H26=\"-\",1,0)*Y$1","v":0},{"$f":"AND(Y26=0,Y$1=1)","v":true},{"$f":"IF(J26=\"-\",1,0)*AA$1","v":0},{"$f":"AND(AA26=0,AA$1=1)","v":true},{"$f":"IF(L26=\"-\",1,0)*AC$1","v":0},{"$f":"AND(AC26=0,AC$1=1)","v":true}]
[50,"Sian Edwards","Lutterworth High School",23,{"$f":"IF(D27=\"-\",0,D27)","v":23},22,{"$f":"IF(F27=\"-\",0,F27)","v":22},18,{"$f":"IF(H27=\"-\",0,H27)","v":18},18,{"$f":"IF(J27=\"-\",0,J27)","v":18},23,{"$f":"IF(L27=\"-\",0,L27)","v":23},null,{"$f":"E27+G27+I27+K27+M27","v":104},{"$f":"MAX(D27,F27,H27,J27,L27)","v":23},{"$f":"IF(S27=1,O27,IF(S27=0,(O27-P27),\"-\"))","v":81},{"$f":"COUNTIF(U27:AD27,\"=TRUE\")","v":5},{"$f":"AE$1-R27","v":0},{"$f":"IF(S27<2,\"Yes\",\"No\")","v":"Yes"},{"$f":"IF(D27=\"-\",1,0)*U$1","v":0},{"$f":"AND(U27=0,U$1=1)","v":true},{"$f":"IF(F27=\"-\",1,0)*W$1","v":0},{"$f":"AND(W27=0,W$1=1)","v":true},{"$f":"IF(H27=\"-\",1,0)*Y$1","v":0},{"$f":"AND(Y27=0,Y$1=1)","v":true},{"$f":"IF(J27=\"-\",1,0)*AA$1","v":0},{"$f":"AND(AA27=0,AA$1=1)","v":true},{"$f":"IF(L27=\"-\",1,0)*AC$1","v":0},{"$f":"AND(AC27=0,AC$1=1)","v":true}]
[52,"Lauren Uptold","Welland Park Academy",21,{"$f":"IF(D28=\"-\",0,D28)","v":21},13,{"$f":"IF(F28=\"-\",0,F28)","v":13},23,{"$f":"IF(H28=\"-\",0,H28)","v":23},"-",{"$f":"IF(J28=\"-\",0,J28)","v":0},24,{"$f":"IF(L28=\"-\",0,L28)","v":24},null,{"$f":"E28+G28+I28+K28+M28","v":81},{"$f":"MAX(D28,F28,H28,J28,L28)","v":24},{"$f":"IF(S28=1,O28,IF(S28=0,(O28-P28),\"-\"))","v":81},{"$f":"COUNTIF(U28:AD28,\"=TRUE\")","v":4},{"$f":"AE$1-R28","v":1},{"$f":"IF(S28<2,\"Yes\",\"No\")","v":"Yes"},{"$f":"IF(D28=\"-\",1,0)*U$1","v":0},{"$f":"AND(U28=0,U$1=1)","v":true},{"$f":"IF(F28=\"-\",1,0)*W$1","v":0},{"$f":"AND(W28=0,W$1=1)","v":true},{"$f":"IF(H28=\"-\",1,0)*Y$1","v":0},{"$f":"AND(Y28=0,Y$1=1)","v":true},{"$f":"IF(J28=\"-\",1,0)*AA$1","v":1},{"$f":"AND(AA28=0,AA$1=1)","v":false},{"$f":"IF(L28=\"-\",1,0)*AC$1","v":0},{"$f":"AND(AC28=0,AC$1=1)","v":true}]
[5,"Marleen Thandi","Brookvale High School","-",{"$f":"IF(D29=\"-\",0,D29)","v":0},"-",{"$f":"IF(F29=\"-\",0,F29)","v":0},"-",{"$f":"IF(H29=\"-\",0,H29)","v":0},"-",{"$f":"IF(J29=\"-\",0,J29)","v":0},25,{"$f":"IF(L29=\"-\",0,L29)","v":25},null,{"$f":"E29+G29+I29+K29+M29","v":25},{"$f":"MAX(D29,F29,H29,J29,L29)","v":25},{"$f":"IF(S29=1,O29,IF(S29=0,(O29-P29),\"-\"))","v":"-"},{"$f":"COUNTIF(U29:AD29,\"=TRUE\")","v":1},{"$f":"AE$1-R29","v":4},{"$f":"IF(S29<2,\"Yes\",\"No\")","v":"No"},{"$f":"IF(D29=\"-\",1,0)*U$1","v":1},{"$f":"AND(U29=0,U$1=1)","v":false},{"$f":"IF(F29=\"-\",1,0)*W$1","v":1},{"$f":"AND(W29=0,W$1=1)","v":false},{"$f":"IF(H29=\"-\",1,0)*Y$1","v":1},{"$f":"AND(Y29=0,Y$1=1)","v":false},{"$f":"IF(J29=\"-\",1,0)*AA$1","v":1},{"$f":"AND(AA29=0,AA$1=1)","v":false},{"$f":"IF(L29=\"-\",1,0)*AC$1","v":0},{"$f":"AND(AC29=0,AC$1=1)","v":true}]
[29,"Holly Jones","Leysland High School","-",null,24,{"$f":"IF(F30=\"-\",0,F30)","v":24},28,{"$f":"IF(H30=\"-\",0,H30)","v":28},"-",{"$f":"IF(J30=\"-\",0,J30)","v":0},26,{"$f":"IF(L30=\"-\",0,L30)","v":26},null,{"$f":"E30+G30+I30+K30+M30","v":78},{"$f":"MAX(D30,F30,H30,J30,L30)","v":28},{"$f":"IF(S30=1,O30,IF(S30=0,(O30-P30),\"-\"))","v":"-"},{"$f":"COUNTIF(U30:AD30,\"=TRUE\")","v":3},{"$f":"AE$1-R30","v":2},{"$f":"IF(S30<2,\"Yes\",\"No\")","v":"No"},{"$f":"IF(D30=\"-\",1,0)*U$1","v":1},{"$f":"AND(U30=0,U$1=1)","v":false},{"$f":"IF(F30=\"-\",1,0)*W$1","v":0},{"$f":"AND(W30=0,W$1=1)","v":true},{"$f":"IF(H30=\"-\",1,0)*Y$1","v":0},{"$f":"AND(Y30=0,Y$1=1)","v":true},{"$f":"IF(J30=\"-\",1,0)*AA$1","v":1},{"$f":"AND(AA30=0,AA$1=1)","v":false},{"$f":"IF(L30=\"-\",1,0)*AC$1","v":0},{"$f":"AND(AC30=0,AC$1=1)","v":true}]
[14,"Jenny Sharpe","John Ferneley College",30,{"$f":"IF(D31=\"-\",0,D31)","v":30},"-",{"$f":"IF(F31=\"-\",0,F31)","v":0},"-",{"$f":"IF(H31=\"-\",0,H31)","v":0},30,{"$f":"IF(J31=\"-\",0,J31)","v":30},27,{"$f":"IF(L31=\"-\",0,L31)","v":27},null,{"$f":"E31+G31+I31+K31+M31","v":87},{"$f":"MAX(D31,F31,H31,J31,L31)","v":30},{"$f":"IF(S31=1,O31,IF(S31=0,(O31-P31),\"-\"))","v":"-"},{"$f":"COUNTIF(U31:AD31,\"=TRUE\")","v":3},{"$f":"AE$1-R31","v":2},{"$f":"IF(S31<2,\"Yes\",\"No\")","v":"No"},{"$f":"IF(D31=\"-\",1,0)*U$1","v":0},{"$f":"AND(U31=0,U$1=1)","v":true},{"$f":"IF(F31=\"-\",1,0)*W$1","v":1},{"$f":"AND(W31=0,W$1=1)","v":false},{"$f":"IF(H31=\"-\",1,0)*Y$1","v":1},{"$f":"AND(Y31=0,Y$1=1)","v":false},{"$f":"IF(J31=\"-\",1,0)*AA$1","v":0},{"$f":"AND(AA31=0,AA$1=1)","v":true},{"$f":"IF(L31=\"-\",1,0)*AC$1","v":0},{"$f":"AND(AC31=0,AC$1=1)","v":true}]
[61,"Sophie Perry ","The Market Bosworth School",27,{"$f":"IF(D32=\"-\",0,D32)","v":27},30,{"$f":"IF(F32=\"-\",0,F32)","v":30},33,{"$f":"IF(H32=\"-\",0,H32)","v":33},19,{"$f":"IF(J32=\"-\",0,J32)","v":19},28,{"$f":"IF(L32=\"-\",0,L32)","v":28},null,{"$f":"E32+G32+I32+K32+M32","v":137},{"$f":"MAX(D32,F32,H32,J32,L32)","v":33},{"$f":"IF(S32=1,O32,IF(S32=0,(O32-P32),\"-\"))","v":104},{"$f":"COUNTIF(U32:AD32,\"=TRUE\")","v":5},{"$f":"AE$1-R32","v":0},{"$f":"IF(S32<2,\"Yes\",\"No\")","v":"Yes"},{"$f":"IF(D32=\"-\",1,0)*U$1","v":0},{"$f":"AND(U32=0,U$1=1)","v":true},{"$f":"IF(F32=\"-\",1,0)*W$1","v":0},{"$f":"AND(W32=0,W$1=1)","v":true},{"$f":"IF(H32=\"-\",1,0)*Y$1","v":0},{"$f":"AND(Y32=0,Y$1=1)","v":true},{"$f":"IF(J32=\"-\",1,0)*AA$1","v":0},{"$f":"AND(AA32=0,AA$1=1)","v":true},{"$f":"IF(L32=\"-\",1,0)*AC$1","v":0},{"$f":"AND(AC32=0,AC$1=1)","v":true}]
[72,"Kerry Christie","Lutterworth High School",43,{"$f":"IF(D33=\"-\",0,D33)","v":43},38,{"$f":"IF(F33=\"-\",0,F33)","v":38},38,{"$f":"IF(H33=\"-\",0,H33)","v":38},28,{"$f":"IF(J33=\"-\",0,J33)","v":28},30,{"$f":"IF(L33=\"-\",0,L33)","v":30},null,{"$f":"E33+G33+I33+K33+M33","v":177},{"$f":"MAX(D33,F33,H33,J33,L33)","v":43},{"$f":"IF(S33=1,O33,IF(S33=0,(O33-P33),\"-\"))","v":134},{"$f":"COUNTIF(U33:AD33,\"=TRUE\")","v":5},{"$f":"AE$1-R33","v":0},{"$f":"IF(S33<2,\"Yes\",\"No\")","v":"Yes"},{"$f":"IF(D33=\"-\",1,0)*U$1","v":0},{"$f":"AND(U33=0,U$1=1)","v":true},{"$f":"IF(F33=\"-\",1,0)*W$1","v":0},{"$f":"AND(W33=0,W$1=1)","v":true},{"$f":"IF(H33=\"-\",1,0)*Y$1","v":0},{"$f":"AND(Y33=0,Y$1=1)","v":true},{"$f":"IF(J33=\"-\",1,0)*AA$1","v":0},{"$f":"AND(AA33=0,AA$1=1)","v":true},{"$f":"IF(L33=\"-\",1,0)*AC$1","v":0},{"$f":"AND(AC33=0,AC$1=1)","v":true}]
[17,"Megan Webster","Woodbrook Vale School","-",{"$f":"IF(D34=\"-\",0,D34)","v":0},23,{"$f":"IF(F34=\"-\",0,F34)","v":23},25,{"$f":"IF(H34=\"-\",0,H34)","v":25},17,{"$f":"IF(J34=\"-\",0,J34)","v":17},31,{"$f":"IF(L34=\"-\",0,L34)","v":31},null,{"$f":"E34+G34+I34+K34+M34","v":96},{"$f":"MAX(D34,F34,H34,J34,L34)","v":31},{"$f":"IF(S34=1,O34,IF(S34=0,(O34-P34),\"-\"))","v":96},{"$f":"COUNTIF(U34:AD34,\"=TRUE\")","v":4},{"$f":"AE$1-R34","v":1},{"$f":"IF(S34<2,\"Yes\",\"No\")","v":"Yes"},{"$f":"IF(D34=\"-\",1,0)*U$1","v":1},{"$f":"AND(U34=0,U$1=1)","v":false},{"$f":"IF(F34=\"-\",1,0)*W$1","v":0},{"$f":"AND(W34=0,W$1=1)","v":true},{"$f":"IF(H34=\"-\",1,0)*Y$1","v":0},{"$f":"AND(Y34=0,Y$1=1)","v":true},{"$f":"IF(J34=\"-\",1,0)*AA$1","v":0},{"$f":"AND(AA34=0,AA$1=1)","v":true},{"$f":"IF(L34=\"-\",1,0)*AC$1","v":0},{"$f":"AND(AC34=0,AC$1=1)","v":true}]
[42,"Grace Hobson","Thomas Estley CC",32,{"$f":"IF(D35=\"-\",0,D35)","v":32},"-",{"$f":"IF(F35=\"-\",0,F35)","v":0},32,{"$f":"IF(H35=\"-\",0,H35)","v":32},27,{"$f":"IF(J35=\"-\",0,J35)","v":27},32,{"$f":"IF(L35=\"-\",0,L35)","v":32},null,{"$f":"E35+G35+I35+K35+M35","v":123},{"$f":"MAX(D35,F35,H35,J35,L35)","v":32},{"$f":"IF(S35=1,O35,IF(S35=0,(O35-P35),\"-\"))","v":123},{"$f":"COUNTIF(U35:AD35,\"=TRUE\")","v":4},{"$f":"AE$1-R35","v":1},{"$f":"IF(S35<2,\"Yes\",\"No\")","v":"Yes"},{"$f":"IF(D35=\"-\",1,0)*U$1","v":0},{"$f":"AND(U35=0,U$1=1)","v":true},{"$f":"IF(F35=\"-\",1,0)*W$1","v":1},{"$f":"AND(W35=0,W$1=1)","v":false},{"$f":"IF(H35=\"-\",1,0)*Y$1","v":0},{"$f":"AND(Y35=0,Y$1=1)","v":true},{"$f":"IF(J35=\"-\",1,0)*AA$1","v":0},{"$f":"AND(AA35=0,AA$1=1)","v":true},{"$f":"IF(L35=\"-\",1,0)*AC$1","v":0},{"$f":"AND(AC35=0,AC$1=1)","v":true}]
[51,"Ravenn Cook","Woodbrook Vale School",22,{"$f":"IF(D36=\"-\",0,D36)","v":22},19,{"$f":"IF(F36=\"-\",0,F36)","v":19},29,{"$f":"IF(H36=\"-\",0,H36)","v":29},14,{"$f":"IF(J36=\"-\",0,J36)","v":14},33,{"$f":"IF(L36=\"-\",0,L36)","v":33},null,{"$f":"E36+G36+I36+K36+M36","v":117},{"$f":"MAX(D36,F36,H36,J36,L36)","v":33},{"$f":"IF(S36=1,O36,IF(S36=0,(O36-P36),\"-\"))","v":84},{"$f":"COUNTIF(U36:AD36,\"=TRUE\")","v":5},{"$f":"AE$1-R36","v":0},{"$f":"IF(S36<2,\"Yes\",\"No\")","v":"Yes"},{"$f":"IF(D36=\"-\",1,0)*U$1","v":0},{"$f":"AND(U36=0,U$1=1)","v":true},{"$f":"IF(F36=\"-\",1,0)*W$1","v":0},{"$f":"AND(W36=0,W$1=1)","v":true},{"$f":"IF(H36=\"-\",1,0)*Y$1","v":0},{"$f":"AND(Y36=0,Y$1=1)","v":true},{"$f":"IF(J36=\"-\",1,0)*AA$1","v":0},{"$f":"AND(AA36=0,AA$1=1)","v":true},{"$f":"IF(L36=\"-\",1,0)*AC$1","v":0},{"$f":"AND(AC36=0,AC$1=1)","v":true}]
[15,"Libby Cooper","Humphrey Perkins School",34,{"$f":"IF(D37=\"-\",0,D37)","v":34},33,{"$f":"IF(F37=\"-\",0,F37)","v":33},36,{"$f":"IF(H37=\"-\",0,H37)","v":36},26,{"$f":"IF(J37=\"-\",0,J37)","v":26},34,{"$f":"IF(L37=\"-\",0,L37)","v":34},null,{"$f":"E37+G37+I37+K37+M37","v":163},{"$f":"MAX(D37,F37,H37,J37,L37)","v":36},{"$f":"IF(S37=1,O37,IF(S37=0,(O37-P37),\"-\"))","v":127},{"$f":"COUNTIF(U37:AD37,\"=TRUE\")","v":5},{"$f":"AE$1-R37","v":0},{"$f":"IF(S37<2,\"Yes\",\"No\")","v":"Yes"},{"$f":"IF(D37=\"-\",1,0)*U$1","v":0},{"$f":"AND(U37=0,U$1=1)","v":true},{"$f":"IF(F37=\"-\",1,0)*W$1","v":0},{"$f":"AND(W37=0,W$1=1)","v":true},{"$f":"IF(H37=\"-\",1,0)*Y$1","v":0},{"$f":"AND(Y37=0,Y$1=1)","v":true},{"$f":"IF(J37=\"-\",1,0)*AA$1","v":0},{"$f":"AND(AA37=0,AA$1=1)","v":true},{"$f":"IF(L37=\"-\",1,0)*AC$1","v":0},{"$f":"AND(AC37=0,AC$1=1)","v":true}]
[41,"Lillian Smith","Woodbrook Vale School","-",{"$f":"IF(D38=\"-\",0,D38)","v":0},32,{"$f":"IF(F38=\"-\",0,F38)","v":32},"-",{"$f":"IF(H38=\"-\",0,H38)","v":0},29,{"$f":"IF(J38=\"-\",0,J38)","v":29},35,{"$f":"IF(L38=\"-\",0,L38)","v":35},null,{"$f":"E38+G38+I38+K38+M38","v":96},{"$f":"MAX(D38,F38,H38,J38,L38)","v":35},{"$f":"IF(S38=1,O38,IF(S38=0,(O38-P38),\"-\"))","v":"-"},{"$f":"COUNTIF(U38:AD38,\"=TRUE\")","v":3},{"$f":"AE$1-R38","v":2},{"$f":"IF(S38<2,\"Yes\",\"No\")","v":"No"},{"$f":"IF(D38=\"-\",1,0)*U$1","v":1},{"$f":"AND(U38=0,U$1=1)","v":false},{"$f":"IF(F38=\"-\",1,0)*W$1","v":0},{"$f":"AND(W38=0,W$1=1)","v":true},{"$f":"IF(H38=\"-\",1,0)*Y$1","v":1},{"$f":"AND(Y38=0,Y$1=1)","v":false},{"$f":"IF(J38=\"-\",1,0)*AA$1","v":0},{"$f":"AND(AA38=0,AA$1=1)","v":true},{"$f":"IF(L38=\"-\",1,0)*AC$1","v":0},{"$f":"AND(AC38=0,AC$1=1)","v":true}]
[27,"Nazar Hamude","Kibworth High School",49,{"$f":"IF(D39=\"-\",0,D39)","v":49},"-",{"$f":"IF(F39=\"-\",0,F39)","v":0},50,{"$f":"IF(H39=\"-\",0,H39)","v":50},32,{"$f":"IF(J39=\"-\",0,J39)","v":32},37,{"$f":"IF(L39=\"-\",0,L39)","v":37},null,{"$f":"E39+G39+I39+K39+M39","v":168},{"$f":"MAX(D39,F39,H39,J39,L39)","v":50},{"$f":"IF(S39=1,O39,IF(S39=0,(O39-P39),\"-\"))","v":168},{"$f":"COUNTIF(U39:AD39,\"=TRUE\")","v":4},{"$f":"AE$1-R39","v":1},{"$f":"IF(S39<2,\"Yes\",\"No\")","v":"Yes"},{"$f":"IF(D39=\"-\",1,0)*U$1","v":0},{"$f":"AND(U39=0,U$1=1)","v":true},{"$f":"IF(F39=\"-\",1,0)*W$1","v":1},{"$f":"AND(W39=0,W$1=1)","v":false},{"$f":"IF(H39=\"-\",1,0)*Y$1","v":0},{"$f":"AND(Y39=0,Y$1=1)","v":true},{"$f":"IF(J39=\"-\",1,0)*AA$1","v":0},{"$f":"AND(AA39=0,AA$1=1)","v":true},{"$f":"IF(L39=\"-\",1,0)*AC$1","v":0},{"$f":"AND(AC39=0,AC$1=1)","v":true}]
[40,"Isobelle Wilebore","Redmoor Academy",36,{"$f":"IF(D40=\"-\",0,D40)","v":36},25,{"$f":"IF(F40=\"-\",0,F40)","v":25},39,{"$f":"IF(H40=\"-\",0,H40)","v":39},34,{"$f":"IF(J40=\"-\",0,J40)","v":34},38,{"$f":"IF(L40=\"-\",0,L40)","v":38},null,{"$f":"E40+G40+I40+K40+M40","v":172},{"$f":"MAX(D40,F40,H40,J40,L40)","v":39},{"$f":"IF(S40=1,O40,IF(S40=0,(O40-P40),\"-\"))","v":133},{"$f":"COUNTIF(U40:AD40,\"=TRUE\")","v":5},{"$f":"AE$1-R40","v":0},{"$f":"IF(S40<2,\"Yes\",\"No\")","v":"Yes"},{"$f":"IF(D40=\"-\",1,0)*U$1","v":0},{"$f":"AND(U40=0,U$1=1)","v":true},{"$f":"IF(F40=\"-\",1,0)*W$1","v":0},{"$f":"AND(W40=0,W$1=1)","v":true},{"$f":"IF(H40=\"-\",1,0)*Y$1","v":0},{"$f":"AND(Y40=0,Y$1=1)","v":true},{"$f":"IF(J40=\"-\",1,0)*AA$1","v":0},{"$f":"AND(AA40=0,AA$1=1)","v":true},{"$f":"IF(L40=\"-\",1,0)*AC$1","v":0},{"$f":"AND(AC40=0,AC$1=1)","v":true}]
[31,"Holly Kennerson","Redmoor Academy","-",{"$f":"IF(D41=\"-\",0,D41)","v":0},"-",{"$f":"IF(F41=\"-\",0,F41)","v":0},46,{"$f":"IF(H41=\"-\",0,H41)","v":46},39,{"$f":"IF(J41=\"-\",0,J41)","v":39},39,{"$f":"IF(L41=\"-\",0,L41)","v":39},null,{"$f":"E41+G41+I41+K41+M41","v":124},{"$f":"MAX(D41,F41,H41,J41,L41)","v":46},{"$f":"IF(S41=1,O41,IF(S41=0,(O41-P41),\"-\"))","v":"-"},{"$f":"COUNTIF(U41:AD41,\"=TRUE\")","v":3},{"$f":"AE$1-R41","v":2},{"$f":"IF(S41<2,\"Yes\",\"No\")","v":"No"},{"$f":"IF(D41=\"-\",1,0)*U$1","v":1},{"$f":"AND(U41=0,U$1=1)","v":false},{"$f":"IF(F41=\"-\",1,0)*W$1","v":1},{"$f":"AND(W41=0,W$1=1)","v":false},{"$f":"IF(H41=\"-\",1,0)*Y$1","v":0},{"$f":"AND(Y41=0,Y$1=1)","v":true},{"$f":"IF(J41=\"-\",1,0)*AA$1","v":0},{"$f":"AND(AA41=0,AA$1=1)","v":true},{"$f":"IF(L41=\"-\",1,0)*AC$1","v":0},{"$f":"AND(AC41=0,AC$1=1)","v":true}]
[48,"Ella Moore","Thomas Estley CC",42,{"$f":"IF(D42=\"-\",0,D42)","v":42},36,{"$f":"IF(F42=\"-\",0,F42)","v":36},"-",{"$f":"IF(H42=\"-\",0,H42)","v":0},33,{"$f":"IF(J42=\"-\",0,J42)","v":33},40,{"$f":"IF(L42=\"-\",0,L42)","v":40},null,{"$f":"E42+G42+I42+K42+M42","v":151},{"$f":"MAX(D42,F42,H42,J42,L42)","v":42},{"$f":"IF(S42=1,O42,IF(S42=0,(O42-P42),\"-\"))","v":151},{"$f":"COUNTIF(U42:AD42,\"=TRUE\")","v":4},{"$f":"AE$1-R42","v":1},{"$f":"IF(S42<2,\"Yes\",\"No\")","v":"Yes"},{"$f":"IF(D42=\"-\",1,0)*U$1","v":0},{"$f":"AND(U42=0,U$1=1)","v":true},{"$f":"IF(F42=\"-\",1,0)*W$1","v":0},{"$f":"AND(W42=0,W$1=1)","v":true},{"$f":"IF(H42=\"-\",1,0)*Y$1","v":1},{"$f":"AND(Y42=0,Y$1=1)","v":false},{"$f":"IF(J42=\"-\",1,0)*AA$1","v":0},{"$f":"AND(AA42=0,AA$1=1)","v":true},{"$f":"IF(L42=\"-\",1,0)*AC$1","v":0},{"$f":"AND(AC42=0,AC$1=1)","v":true}]
[16,"Emma Thomas","Redmoor Academy",33,{"$f":"IF(D43=\"-\",0,D43)","v":33},29,{"$f":"IF(F43=\"-\",0,F43)","v":29},40,{"$f":"IF(H43=\"-\",0,H43)","v":40},37,{"$f":"IF(J43=\"-\",0,J43)","v":37},41,{"$f":"IF(L43=\"-\",0,L43)","v":41},null,{"$f":"E43+G43+I43+K43+M43","v":180},{"$f":"MAX(D43,F43,H43,J43,L43)","v":41},{"$f":"IF(S43=1,O43,IF(S43=0,(O43-P43),\"-\"))","v":139},{"$f":"COUNTIF(U43:AD43,\"=TRUE\")","v":5},{"$f":"AE$1-R43","v":0},{"$f":"IF(S43<2,\"Yes\",\"No\")","v":"Yes"},{"$f":"IF(D43=\"-\",1,0)*U$1","v":0},{"$f":"AND(U43=0,U$1=1)","v":true},{"$f":"IF(F43=\"-\",1,0)*W$1","v":0},{"$f":"AND(W43=0,W$1=1)","v":true},{"$f":"IF(H43=\"-\",1,0)*Y$1","v":0},{"$f":"AND(Y43=0,Y$1=1)","v":true},{"$f":"IF(J43=\"-\",1,0)*AA$1","v":0},{"$f":"AND(AA43=0,AA$1=1)","v":true},{"$f":"IF(L43=\"-\",1,0)*AC$1","v":0},{"$f":"AND(AC43=0,AC$1=1)","v":true}]
[64,"Molly Smallwood","St Pauls Catholic School","-",{"$f":"IF(D44=\"-\",0,D44)","v":0},"-",{"$f":"IF(F44=\"-\",0,F44)","v":0},"-",{"$f":"IF(H44=\"-\",0,H44)","v":0},"-",{"$f":"IF(J44=\"-\",0,J44)","v":0},42,{"$f":"IF(L44=\"-\",0,L44)","v":42},null,{"$f":"E44+G44+I44+K44+M44","v":42},{"$f":"MAX(D44,F44,H44,J44,L44)","v":42},{"$f":"IF(S44=1,O44,IF(S44=0,(O44-P44),\"-\"))","v":"-"},{"$f":"COUNTIF(U44:AD44,\"=TRUE\")","v":1},{"$f":"AE$1-R44","v":4},{"$f":"IF(S44<2,\"Yes\",\"No\")","v":"No"},{"$f":"IF(D44=\"-\",1,0)*U$1","v":1},{"$f":"AND(U44=0,U$1=1)","v":false},{"$f":"IF(F44=\"-\",1,0)*W$1","v":1},{"$f":"AND(W44=0,W$1=1)","v":false},{"$f":"IF(H44=\"-\",1,0)*Y$1","v":1},{"$f":"AND(Y44=0,Y$1=1)","v":false},{"$f":"IF(J44=\"-\",1,0)*AA$1","v":1},{"$f":"AND(AA44=0,AA$1=1)","v":false},{"$f":"IF(L44=\"-\",1,0)*AC$1","v":0},{"$f":"AND(AC44=0,AC$1=1)","v":true}]
[32,"Amy Roulston","Humphrey Perkins School",41,{"$f":"IF(D45=\"-\",0,D45)","v":41},28,{"$f":"IF(F45=\"-\",0,F45)","v":28},"-",{"$f":"IF(H45=\"-\",0,H45)","v":0},23,{"$f":"IF(J45=\"-\",0,J45)","v":23},43,{"$f":"IF(L45=\"-\",0,L45)","v":43},null,{"$f":"E45+G45+I45+K45+M45","v":135},{"$f":"MAX(D45,F45,H45,J45,L45)","v":43},{"$f":"IF(S45=1,O45,IF(S45=0,(O45-P45),\"-\"))","v":135},{"$f":"COUNTIF(U45:AD45,\"=TRUE\")","v":4},{"$f":"AE$1-R45","v":1},{"$f":"IF(S45<2,\"Yes\",\"No\")","v":"Yes"},{"$f":"IF(D45=\"-\",1,0)*U$1","v":0},{"$f":"AND(U45=0,U$1=1)","v":true},{"$f":"IF(F45=\"-\",1,0)*W$1","v":0},{"$f":"AND(W45=0,W$1=1)","v":true},{"$f":"IF(H45=\"-\",1,0)*Y$1","v":1},{"$f":"AND(Y45=0,Y$1=1)","v":false},{"$f":"IF(J45=\"-\",1,0)*AA$1","v":0},{"$f":"AND(AA45=0,AA$1=1)","v":true},{"$f":"IF(L45=\"-\",1,0)*AC$1","v":0},{"$f":"AND(AC45=0,AC$1=1)","v":true}]
[4,"Lucy James","Kibworth High School","-",{"$f":"IF(D46=\"-\",0,D46)","v":0},42,{"$f":"IF(F46=\"-\",0,F46)","v":42},47,{"$f":"IF(H46=\"-\",0,H46)","v":47},38,{"$f":"IF(J46=\"-\",0,J46)","v":38},44,{"$f":"IF(L46=\"-\",0,L46)","v":44},null,{"$f":"E46+G46+I46+K46+M46","v":171},{"$f":"MAX(D46,F46,H46,J46,L46)","v":47},{"$f":"IF(S46=1,O46,IF(S46=0,(O46-P46),\"-\"))","v":171},{"$f":"COUNTIF(U46:AD46,\"=TRUE\")","v":4},{"$f":"AE$1-R46","v":1},{"$f":"IF(S46<2,\"Yes\",\"No\")","v":"Yes"},{"$f":"IF(D46=\"-\",1,0)*U$1","v":1},{"$f":"AND(U46=0,U$1=1)","v":false},{"$f":"IF(F46=\"-\",1,0)*W$1","v":0},{"$f":"AND(W46=0,W$1=1)","v":true},{"$f":"IF(H46=\"-\",1,0)*Y$1","v":0},{"$f":"AND(Y46=0,Y$1=1)","v":true},{"$f":"IF(J46=\"-\",1,0)*AA$1","v":0},{"$f":"AND(AA46=0,AA$1=1)","v":true},{"$f":"IF(L46=\"-\",1,0)*AC$1","v":0},{"$f":"AND(AC46=0,AC$1=1)","v":true}]
[77,"Chloe Burgess","Redmoor Academy","-",{"$f":"IF(D47=\"-\",0,D47)","v":0},"-",{"$f":"IF(F47=\"-\",0,F47)","v":0},"-",{"$f":"IF(H47=\"-\",0,H47)","v":0},"-",{"$f":"IF(J47=\"-\",0,J47)","v":0},45,{"$f":"IF(L47=\"-\",0,L47)","v":45},null,{"$f":"E47+G47+I47+K47+M47","v":45},{"$f":"MAX(D47,F47,H47,J47,L47)","v":45},{"$f":"IF(S47=1,O47,IF(S47=0,(O47-P47),\"-\"))","v":"-"},{"$f":"COUNTIF(U47:AD47,\"=TRUE\")","v":1},{"$f":"AE$1-R47","v":4},{"$f":"IF(S47<2,\"Yes\",\"No\")","v":"No"},{"$f":"IF(D47=\"-\",1,0)*U$1","v":1},{"$f":"AND(U47=0,U$1=1)","v":false},{"$f":"IF(F47=\"-\",1,0)*W$1","v":1},{"$f":"AND(W47=0,W$1=1)","v":false},{"$f":"IF(H47=\"-\",1,0)*Y$1","v":1},{"$f":"AND(Y47=0,Y$1=1)","v":false},{"$f":"IF(J47=\"-\",1,0)*AA$1","v":1},{"$f":"AND(AA47=0,AA$1=1)","v":false},{"$f":"IF(L47=\"-\",1,0)*AC$1","v":0},{"$f":"AND(AC47=0,AC$1=1)","v":true}]
[22,"Darcy Lewis","Uppingham CC","-",{"$f":"IF(D48=\"-\",0,D48)","v":0},"-",{"$f":"IF(F48=\"-\",0,F48)","v":0},"-",{"$f":"IF(H48=\"-\",0,H48)","v":0},"-",{"$f":"IF(J48=\"-\",0,J48)","v":0},46,{"$f":"IF(L48=\"-\",0,L48)","v":46},null,{"$f":"E48+G48+I48+K48+M48","v":46},{"$f":"MAX(D48,F48,H48,J48,L48)","v":46},{"$f":"IF(S48=1,O48,IF(S48=0,(O48-P48),\"-\"))","v":"-"},{"$f":"COUNTIF(U48:AD48,\"=TRUE\")","v":1},{"$f":"AE$1-R48","v":4},{"$f":"IF(S48<2,\"Yes\",\"No\")","v":"No"},{"$f":"IF(D48=\"-\",1,0)*U$1","v":1},{"$f":"AND(U48=0,U$1=1)","v":false},{"$f":"IF(F48=\"-\",1,0)*W$1","v":1},{"$f":"AND(W48=0,W$1=1)","v":false},{"$f":"IF(H48=\"-\",1,0)*Y$1","v":1},{"$f":"AND(Y48=0,Y$1=1)","v":false},{"$f":"IF(J48=\"-\",1,0)*AA$1","v":1},{"$f":"AND(AA48=0,AA$1=1)","v":false},{"$f":"IF(L48=\"-\",1,0)*AC$1","v":0},{"$f":"AND(AC48=0,AC$1=1)","v":true}]
[6,"Jessica Jones","Uppingham CC","-",{"$f":"IF(D49=\"-\",0,D49)","v":0},"-",{"$f":"IF(F49=\"-\",0,F49)","v":0},"-",{"$f":"IF(H49=\"-\",0,H49)","v":0},"-",{"$f":"IF(J49=\"-\",0,J49)","v":0},47,{"$f":"IF(L49=\"-\",0,L49)","v":47},null,{"$f":"E49+G49+I49+K49+M49","v":47},{"$f":"MAX(D49,F49,H49,J49,L49)","v":47},{"$f":"IF(S49=1,O49,IF(S49=0,(O49-P49),\"-\"))","v":"-"},{"$f":"COUNTIF(U49:AD49,\"=TRUE\")","v":1},{"$f":"AE$1-R49","v":4},{"$f":"IF(S49<2,\"Yes\",\"No\")","v":"No"},{"$f":"IF(D49=\"-\",1,0)*U$1","v":1},{"$f":"AND(U49=0,U$1=1)","v":false},{"$f":"IF(F49=\"-\",1,0)*W$1","v":1},{"$f":"AND(W49=0,W$1=1)","v":false},{"$f":"IF(H49=\"-\",1,0)*Y$1","v":1},{"$f":"AND(Y49=0,Y$1=1)","v":false},{"$f":"IF(J49=\"-\",1,0)*AA$1","v":1},{"$f":"AND(AA49=0,AA$1=1)","v":false},{"$f":"IF(L49=\"-\",1,0)*AC$1","v":0},{"$f":"AND(AC49=0,AC$1=1)","v":true}]
[19,"Jessica Tansley","Brookvale High School",28,{"$f":"IF(D50=\"-\",0,D50)","v":28},"-",{"$f":"IF(F50=\"-\",0,F50)","v":0},27,{"$f":"IF(H50=\"-\",0,H50)","v":27},22,{"$f":"IF(J50=\"-\",0,J50)","v":22},"-",{"$f":"IF(L50=\"-\",0,L50)","v":0},null,{"$f":"E50+G50+I50+K50+M50","v":77},{"$f":"MAX(D50,F50,H50,J50,L50)","v":28},{"$f":"IF(S50=1,O50,IF(S50=0,(O50-P50),\"-\"))","v":"-"},{"$f":"COUNTIF(U50:AD50,\"=TRUE\")","v":3},{"$f":"AE$1-R50","v":2},{"$f":"IF(S50<2,\"Yes\",\"No\")","v":"No"},{"$f":"IF(D50=\"-\",1,0)*U$1","v":0},{"$f":"AND(U50=0,U$1=1)","v":true},{"$f":"IF(F50=\"-\",1,0)*W$1","v":1},{"$f":"AND(W50=0,W$1=1)","v":false},{"$f":"IF(H50=\"-\",1,0)*Y$1","v":0},{"$f":"AND(Y50=0,Y$1=1)","v":true},{"$f":"IF(J50=\"-\",1,0)*AA$1","v":0},{"$f":"AND(AA50=0,AA$1=1)","v":true},{"$f":"IF(L50=\"-\",1,0)*AC$1","v":1},{"$f":"AND(AC50=0,AC$1=1)","v":false}]
[53,"Lucy Smith","Thomas Estley CC",38,{"$f":"IF(D51=\"-\",0,D51)","v":38},"-",{"$f":"IF(F51=\"-\",0,F51)","v":0},37,{"$f":"IF(H51=\"-\",0,H51)","v":37},31,{"$f":"IF(J51=\"-\",0,J51)","v":31},"-",{"$f":"IF(L51=\"-\",0,L51)","v":0},null,{"$f":"E51+G51+I51+K51+M51","v":106},{"$f":"MAX(D51,F51,H51,J51,L51)","v":38},{"$f":"IF(S51=1,O51,IF(S51=0,(O51-P51),\"-\"))","v":"-"},{"$f":"COUNTIF(U51:AD51,\"=TRUE\")","v":3},{"$f":"AE$1-R51","v":2},{"$f":"IF(S51<2,\"Yes\",\"No\")","v":"No"},{"$f":"IF(D51=\"-\",1,0)*U$1","v":0},{"$f":"AND(U51=0,U$1=1)","v":true},{"$f":"IF(F51=\"-\",1,0)*W$1","v":1},{"$f":"AND(W51=0,W$1=1)","v":false},{"$f":"IF(H51=\"-\",1,0)*Y$1","v":0},{"$f":"AND(Y51=0,Y$1=1)","v":true},{"$f":"IF(J51=\"-\",1,0)*AA$1","v":0},{"$f":"AND(AA51=0,AA$1=1)","v":true},{"$f":"IF(L51=\"-\",1,0)*AC$1","v":1},{"$f":"AND(AC51=0,AC$1=1)","v":false}]
[54,"Evie Anderson","Welland Park Academy",44,{"$f":"IF(D52=\"-\",0,D52)","v":44},47,{"$f":"IF(F52=\"-\",0,F52)","v":47},42,{"$f":"IF(H52=\"-\",0,H52)","v":42},35,{"$f":"IF(J52=\"-\",0,J52)","v":35},"-",{"$f":"IF(L52=\"-\",0,L52)","v":0},null,{"$f":"E52+G52+I52+K52+M52","v":168},{"$f":"MAX(D52,F52,H52,J52,L52)","v":47},{"$f":"IF(S52=1,O52,IF(S52=0,(O52-P52),\"-\"))","v":168},{"$f":"COUNTIF(U52:AD52,\"=TRUE\")","v":4},{"$f":"AE$1-R52","v":1},{"$f":"IF(S52<2,\"Yes\",\"No\")","v":"Yes"},{"$f":"IF(D52=\"-\",1,0)*U$1","v":0},{"$f":"AND(U52=0,U$1=1)","v":true},{"$f":"IF(F52=\"-\",1,0)*W$1","v":0},{"$f":"AND(W52=0,W$1=1)","v":true},{"$f":"IF(H52=\"-\",1,0)*Y$1","v":0},{"$f":"AND(Y52=0,Y$1=1)","v":true},{"$f":"IF(J52=\"-\",1,0)*AA$1","v":0},{"$f":"AND(AA52=0,AA$1=1)","v":true},{"$f":"IF(L52=\"-\",1,0)*AC$1","v":1},{"$f":"AND(AC52=0,AC$1=1)","v":false}]
[84,"Isobel Collinson","Woodbrook Vale School",40,{"$f":"IF(D53=\"-\",0,D53)","v":40},39,{"$f":"IF(F53=\"-\",0,F53)","v":39},48,{"$f":"IF(H53=\"-\",0,H53)","v":48},36,{"$f":"IF(J53=\"-\",0,J53)","v":36},"-",{"$f":"IF(L53=\"-\",0,L53)","v":0},null,{"$f":"E53+G53+I53+K53+M53","v":163},{"$f":"MAX(D53,F53,H53,J53,L53)","v":48},{"$f":"IF(S53=1,O53,IF(S53=0,(O53-P53),\"-\"))","v":163},{"$f":"COUNTIF(U53:AD53,\"=TRUE\")","v":4},{"$f":"AE$1-R53","v":1},{"$f":"IF(S53<2,\"Yes\",\"No\")","v":"Yes"},{"$f":"IF(D53=\"-\",1,0)*U$1","v":0},{"$f":"AND(U53=0,U$1=1)","v":true},{"$f":"IF(F53=\"-\",1,0)*W$1","v":0},{"$f":"AND(W53=0,W$1=1)","v":true},{"$f":"IF(H53=\"-\",1,0)*Y$1","v":0},{"$f":"AND(Y53=0,Y$1=1)","v":true},{"$f":"IF(J53=\"-\",1,0)*AA$1","v":0},{"$f":"AND(AA53=0,AA$1=1)","v":true},{"$f":"IF(L53=\"-\",1,0)*AC$1","v":1},{"$f":"AND(AC53=0,AC$1=1)","v":false}]
[44,"Margot Buchanan","Leicester Grammar School","-",{"$f":"IF(D54=\"-\",0,D54)","v":0},"-",{"$f":"IF(F54=\"-\",0,F54)","v":0},7,{"$f":"IF(H54=\"-\",0,H54)","v":7},"-",{"$f":"IF(J54=\"-\",0,J54)","v":0},"-",{"$f":"IF(L54=\"-\",0,L54)","v":0},null,{"$f":"E54+G54+I54+K54+M54","v":7},{"$f":"MAX(D54,F54,H54,J54,L54)","v":7},{"$f":"IF(S54=1,O54,IF(S54=0,(O54-P54),\"-\"))","v":"-"},{"$f":"COUNTIF(U54:AD54,\"=TRUE\")","v":1},{"$f":"AE$1-R54","v":4},{"$f":"IF(S54<2,\"Yes\",\"No\")","v":"No"},{"$f":"IF(D54=\"-\",1,0)*U$1","v":1},{"$f":"AND(U54=0,U$1=1)","v":false},{"$f":"IF(F54=\"-\",1,0)*W$1","v":1},{"$f":"AND(W54=0,W$1=1)","v":false},{"$f":"IF(H54=\"-\",1,0)*Y$1","v":0},{"$f":"AND(Y54=0,Y$1=1)","v":true},{"$f":"IF(J54=\"-\",1,0)*AA$1","v":1},{"$f":"AND(AA54=0,AA$1=1)","v":false},{"$f":"IF(L54=\"-\",1,0)*AC$1","v":1},{"$f":"AND(AC54=0,AC$1=1)","v":false}]
[39,"Jasmine Greenaway","Ivanhoe College",9,{"$f":"IF(D55=\"-\",0,D55)","v":9},9,{"$f":"IF(F55=\"-\",0,F55)","v":9},13,{"$f":"IF(H55=\"-\",0,H55)","v":13},"-",{"$f":"IF(J55=\"-\",0,J55)","v":0},"-",{"$f":"IF(L55=\"-\",0,L55)","v":0},null,{"$f":"E55+G55+I55+K55+M55","v":31},{"$f":"MAX(D55,F55,H55,J55,L55)","v":13},{"$f":"IF(S55=1,O55,IF(S55=0,(O55-P55),\"-\"))","v":"-"},{"$f":"COUNTIF(U55:AD55,\"=TRUE\")","v":3},{"$f":"AE$1-R55","v":2},{"$f":"IF(S55<2,\"Yes\",\"No\")","v":"No"},{"$f":"IF(D55=\"-\",1,0)*U$1","v":0},{"$f":"AND(U55=0,U$1=1)","v":true},{"$f":"IF(F55=\"-\",1,0)*W$1","v":0},{"$f":"AND(W55=0,W$1=1)","v":true},{"$f":"IF(H55=\"-\",1,0)*Y$1","v":0},{"$f":"AND(Y55=0,Y$1=1)","v":true},{"$f":"IF(J55=\"-\",1,0)*AA$1","v":1},{"$f":"AND(AA55=0,AA$1=1)","v":false},{"$f":"IF(L55=\"-\",1,0)*AC$1","v":1},{"$f":"AND(AC55=0,AC$1=1)","v":false}]
[3,"Prianka Dhokia","Leicester Grammar School","-",{"$f":"IF(D56=\"-\",0,D56)","v":0},17,{"$f":"IF(F56=\"-\",0,F56)","v":17},17,{"$f":"IF(H56=\"-\",0,H56)","v":17},"-",{"$f":"IF(J56=\"-\",0,J56)","v":0},"-",{"$f":"IF(L56=\"-\",0,L56)","v":0},null,{"$f":"E56+G56+I56+K56+M56","v":34},{"$f":"MAX(D56,F56,H56,J56,L56)","v":17},{"$f":"IF(S56=1,O56,IF(S56=0,(O56-P56),\"-\"))","v":"-"},{"$f":"COUNTIF(U56:AD56,\"=TRUE\")","v":2},{"$f":"AE$1-R56","v":3},{"$f":"IF(S56<2,\"Yes\",\"No\")","v":"No"},{"$f":"IF(D56=\"-\",1,0)*U$1","v":1},{"$f":"AND(U56=0,U$1=1)","v":false},{"$f":"IF(F56=\"-\",1,0)*W$1","v":0},{"$f":"AND(W56=0,W$1=1)","v":true},{"$f":"IF(H56=\"-\",1,0)*Y$1","v":0},{"$f":"AND(Y56=0,Y$1=1)","v":true},{"$f":"IF(J56=\"-\",1,0)*AA$1","v":1},{"$f":"AND(AA56=0,AA$1=1)","v":false},{"$f":"IF(L56=\"-\",1,0)*AC$1","v":1},{"$f":"AND(AC56=0,AC$1=1)","v":false}]
[76,"Bea Spencer","Welland Park Academy",25,{"$f":"IF(D57=\"-\",0,D57)","v":25},27,{"$f":"IF(F57=\"-\",0,F57)","v":27},26,{"$f":"IF(H57=\"-\",0,H57)","v":26},"-",{"$f":"IF(J57=\"-\",0,J57)","v":0},"-",{"$f":"IF(L57=\"-\",0,L57)","v":0},null,{"$f":"E57+G57+I57+K57+M57","v":78},{"$f":"MAX(D57,F57,H57,J57,L57)","v":27},{"$f":"IF(S57=1,O57,IF(S57=0,(O57-P57),\"-\"))","v":"-"},{"$f":"COUNTIF(U57:AD57,\"=TRUE\")","v":3},{"$f":"AE$1-R57","v":2},{"$f":"IF(S57<2,\"Yes\",\"No\")","v":"No"},{"$f":"IF(D57=\"-\",1,0)*U$1","v":0},{"$f":"AND(U57=0,U$1=1)","v":true},{"$f":"IF(F57=\"-\",1,0)*W$1","v":0},{"$f":"AND(W57=0,W$1=1)","v":true},{"$f":"IF(H57=\"-\",1,0)*Y$1","v":0},{"$f":"AND(Y57=0,Y$1=1)","v":true},{"$f":"IF(J57=\"-\",1,0)*AA$1","v":1},{"$f":"AND(AA57=0,AA$1=1)","v":false},{"$f":"IF(L57=\"-\",1,0)*AC$1","v":1},{"$f":"AND(AC57=0,AC$1=1)","v":false}]
[55,"Niamh Heneghan","Lutterworth High School","-",{"$f":"IF(D58=\"-\",0,D58)","v":0},"-",{"$f":"IF(F58=\"-\",0,F58)","v":0},30,{"$f":"IF(H58=\"-\",0,H58)","v":30},"-",{"$f":"IF(J58=\"-\",0,J58)","v":0},"-",{"$f":"IF(L58=\"-\",0,L58)","v":0},null,{"$f":"E58+G58+I58+K58+M58","v":30},{"$f":"MAX(D58,F58,H58,J58,L58)","v":30},{"$f":"IF(S58=1,O58,IF(S58=0,(O58-P58),\"-\"))","v":"-"},{"$f":"COUNTIF(U58:AD58,\"=TRUE\")","v":1},{"$f":"AE$1-R58","v":4},{"$f":"IF(S58<2,\"Yes\",\"No\")","v":"No"},{"$f":"IF(D58=\"-\",1,0)*U$1","v":1},{"$f":"AND(U58=0,U$1=1)","v":false},{"$f":"IF(F58=\"-\",1,0)*W$1","v":1},{"$f":"AND(W58=0,W$1=1)","v":false},{"$f":"IF(H58=\"-\",1,0)*Y$1","v":0},{"$f":"AND(Y58=0,Y$1=1)","v":true},{"$f":"IF(J58=\"-\",1,0)*AA$1","v":1},{"$f":"AND(AA58=0,AA$1=1)","v":false},{"$f":"IF(L58=\"-\",1,0)*AC$1","v":1},{"$f":"AND(AC58=0,AC$1=1)","v":false}]
[69,"Sophie Williams","Leicester Grammar School","-",{"$f":"IF(D59=\"-\",0,D59)","v":0},"-",{"$f":"IF(F59=\"-\",0,F59)","v":0},34,{"$f":"IF(H59=\"-\",0,H59)","v":34},"-",{"$f":"IF(J59=\"-\",0,J59)","v":0},"-",{"$f":"IF(L59=\"-\",0,L59)","v":0},null,{"$f":"E59+G59+I59+K59+M59","v":34},{"$f":"MAX(D59,F59,H59,J59,L59)","v":34},{"$f":"IF(S59=1,O59,IF(S59=0,(O59-P59),\"-\"))","v":"-"},{"$f":"COUNTIF(U59:AD59,\"=TRUE\")","v":1},{"$f":"AE$1-R59","v":4},{"$f":"IF(S59<2,\"Yes\",\"No\")","v":"No"},{"$f":"IF(D59=\"-\",1,0)*U$1","v":1},{"$f":"AND(U59=0,U$1=1)","v":false},{"$f":"IF(F59=\"-\",1,0)*W$1","v":1},{"$f":"AND(W59=0,W$1=1)","v":false},{"$f":"IF(H59=\"-\",1,0)*Y$1","v":0},{"$f":"AND(Y59=0,Y$1=1)","v":true},{"$f":"IF(J59=\"-\",1,0)*AA$1","v":1},{"$f":"AND(AA59=0,AA$1=1)","v":false},{"$f":"IF(L59=\"-\",1,0)*AC$1","v":1},{"$f":"AND(AC59=0,AC$1=1)","v":false}]
[63,"Sally Herron","Catmose College","-",null,"-",{"$f":"IF(F60=\"-\",0,F60)","v":0},41,{"$f":"IF(H60=\"-\",0,H60)","v":41},"-",{"$f":"IF(J60=\"-\",0,J60)","v":0},"-",{"$f":"IF(L60=\"-\",0,L60)","v":0},null,{"$f":"E60+G60+I60+K60+M60","v":41},{"$f":"MAX(D60,F60,H60,J60,L60)","v":41},{"$f":"IF(S60=1,O60,IF(S60=0,(O60-P60),\"-\"))","v":"-"},{"$f":"COUNTIF(U60:AD60,\"=TRUE\")","v":1},{"$f":"AE$1-R60","v":4},{"$f":"IF(S60<2,\"Yes\",\"No\")","v":"No"},{"$f":"IF(D60=\"-\",1,0)*U$1","v":1},{"$f":"AND(U60=0,U$1=1)","v":false},{"$f":"IF(F60=\"-\",1,0)*W$1","v":1},{"$f":"AND(W60=0,W$1=1)","v":false},{"$f":"IF(H60=\"-\",1,0)*Y$1","v":0},{"$f":"AND(Y60=0,Y$1=1)","v":true},{"$f":"IF(J60=\"-\",1,0)*AA$1","v":1},{"$f":"AND(AA60=0,AA$1=1)","v":false},{"$f":"IF(L60=\"-\",1,0)*AC$1","v":1},{"$f":"AND(AC60=0,AC$1=1)","v":false}]
[33,"Naomi Clarke-Myers","Sir Jonathon North CC","-",{"$f":"IF(D61=\"-\",0,D61)","v":0},31,{"$f":"IF(F61=\"-\",0,F61)","v":31},43,{"$f":"IF(H61=\"-\",0,H61)","v":43},"-",{"$f":"IF(J61=\"-\",0,J61)","v":0},"-",{"$f":"IF(L61=\"-\",0,L61)","v":0},null,{"$f":"E61+G61+I61+K61+M61","v":74},{"$f":"MAX(D61,F61,H61,J61,L61)","v":43},{"$f":"IF(S61=1,O61,IF(S61=0,(O61-P61),\"-\"))","v":"-"},{"$f":"COUNTIF(U61:AD61,\"=TRUE\")","v":2},{"$f":"AE$1-R61","v":3},{"$f":"IF(S61<2,\"Yes\",\"No\")","v":"No"},{"$f":"IF(D61=\"-\",1,0)*U$1","v":1},{"$f":"AND(U61=0,U$1=1)","v":false},{"$f":"IF(F61=\"-\",1,0)*W$1","v":0},{"$f":"AND(W61=0,W$1=1)","v":true},{"$f":"IF(H61=\"-\",1,0)*Y$1","v":0},{"$f":"AND(Y61=0,Y$1=1)","v":true},{"$f":"IF(J61=\"-\",1,0)*AA$1","v":1},{"$f":"AND(AA61=0,AA$1=1)","v":false},{"$f":"IF(L61=\"-\",1,0)*AC$1","v":1},{"$f":"AND(AC61=0,AC$1=1)","v":false}]
[46,"Maha Malik","Manor High School",50,{"$f":"IF(D62=\"-\",0,D62)","v":50},"-",{"$f":"IF(F62=\"-\",0,F62)","v":0},49,{"$f":"IF(H62=\"-\",0,H62)","v":49},"-",{"$f":"IF(J62=\"-\",0,J62)","v":0},"-",{"$f":"IF(L62=\"-\",0,L62)","v":0},null,{"$f":"E62+G62+I62+K62+M62","v":99},{"$f":"MAX(D62,F62,H62,J62,L62)","v":50},{"$f":"IF(S62=1,O62,IF(S62=0,(O62-P62),\"-\"))","v":"-"},{"$f":"COUNTIF(U62:AD62,\"=TRUE\")","v":2},{"$f":"AE$1-R62","v":3},{"$f":"IF(S62<2,\"Yes\",\"No\")","v":"No"},{"$f":"IF(D62=\"-\",1,0)*U$1","v":0},{"$f":"AND(U62=0,U$1=1)","v":true},{"$f":"IF(F62=\"-\",1,0)*W$1","v":1},{"$f":"AND(W62=0,W$1=1)","v":false},{"$f":"IF(H62=\"-\",1,0)*Y$1","v":0},{"$f":"AND(Y62=0,Y$1=1)","v":true},{"$f":"IF(J62=\"-\",1,0)*AA$1","v":1},{"$f":"AND(AA62=0,AA$1=1)","v":false},{"$f":"IF(L62=\"-\",1,0)*AC$1","v":1},{"$f":"AND(AC62=0,AC$1=1)","v":false}]
[9,"Holly Cook","Leicester Grammar School",29,{"$f":"IF(D63=\"-\",0,D63)","v":29},20,{"$f":"IF(F63=\"-\",0,F63)","v":20},"-",{"$f":"IF(H63=\"-\",0,H63)","v":0},"-",{"$f":"IF(J63=\"-\",0,J63)","v":0},"-",{"$f":"IF(L63=\"-\",0,L63)","v":0},null,{"$f":"E63+G63+I63+K63+M63","v":49},{"$f":"MAX(D63,F63,H63,J63,L63)","v":29},{"$f":"IF(S63=1,O63,IF(S63=0,(O63-P63),\"-\"))","v":"-"},{"$f":"COUNTIF(U63:AD63,\"=TRUE\")","v":2},{"$f":"AE$1-R63","v":3},{"$f":"IF(S63<2,\"Yes\",\"No\")","v":"No"},{"$f":"IF(D63=\"-\",1,0)*U$1","v":0},{"$f":"AND(U63=0,U$1=1)","v":true},{"$f":"IF(F63=\"-\",1,0)*W$1","v":0},{"$f":"AND(W63=0,W$1=1)","v":true},{"$f":"IF(H63=\"-\",1,0)*Y$1","v":1},{"$f":"AND(Y63=0,Y$1=1)","v":false},{"$f":"IF(J63=\"-\",1,0)*AA$1","v":1},{"$f":"AND(AA63=0,AA$1=1)","v":false},{"$f":"IF(L63=\"-\",1,0)*AC$1","v":1},{"$f":"AND(AC63=0,AC$1=1)","v":false}]
[62,"Charlotte Lethbridge","De Lisle College","-",{"$f":"IF(D64=\"-\",0,D64)","v":0},26,{"$f":"IF(F64=\"-\",0,F64)","v":26},"-",{"$f":"IF(H64=\"-\",0,H64)","v":0},"-",{"$f":"IF(J64=\"-\",0,J64)","v":0},"-",{"$f":"IF(L64=\"-\",0,L64)","v":0},null,{"$f":"E64+G64+I64+K64+M64","v":26},{"$f":"MAX(D64,F64,H64,J64,L64)","v":26},{"$f":"IF(S64=1,O64,IF(S64=0,(O64-P64),\"-\"))","v":"-"},{"$f":"COUNTIF(U64:AD64,\"=TRUE\")","v":1},{"$f":"AE$1-R64","v":4},{"$f":"IF(S64<2,\"Yes\",\"No\")","v":"No"},{"$f":"IF(D64=\"-\",1,0)*U$1","v":1},{"$f":"AND(U64=0,U$1=1)","v":false},{"$f":"IF(F64=\"-\",1,0)*W$1","v":0},{"$f":"AND(W64=0,W$1=1)","v":true},{"$f":"IF(H64=\"-\",1,0)*Y$1","v":1},{"$f":"AND(Y64=0,Y$1=1)","v":false},{"$f":"IF(J64=\"-\",1,0)*AA$1","v":1},{"$f":"AND(AA64=0,AA$1=1)","v":false},{"$f":"IF(L64=\"-\",1,0)*AC$1","v":1},{"$f":"AND(AC64=0,AC$1=1)","v":false}]
[34,"Harriet Bird","Brookvale High School",45,{"$f":"IF(D65=\"-\",0,D65)","v":45},34,{"$f":"IF(F65=\"-\",0,F65)","v":34},"-",{"$f":"IF(H65=\"-\",0,H65)","v":0},"-",{"$f":"IF(J65=\"-\",0,J65)","v":0},"-",{"$f":"IF(L65=\"-\",0,L65)","v":0},null,{"$f":"E65+G65+I65+K65+M65","v":79},{"$f":"MAX(D65,F65,H65,J65,L65)","v":45},{"$f":"IF(S65=1,O65,IF(S65=0,(O65-P65),\"-\"))","v":"-"},{"$f":"COUNTIF(U65:AD65,\"=TRUE\")","v":2},{"$f":"AE$1-R65","v":3},{"$f":"IF(S65<2,\"Yes\",\"No\")","v":"No"},{"$f":"IF(D65=\"-\",1,0)*U$1","v":0},{"$f":"AND(U65=0,U$1=1)","v":true},{"$f":"IF(F65=\"-\",1,0)*W$1","v":0},{"$f":"AND(W65=0,W$1=1)","v":true},{"$f":"IF(H65=\"-\",1,0)*Y$1","v":1},{"$f":"AND(Y65=0,Y$1=1)","v":false},{"$f":"IF(J65=\"-\",1,0)*AA$1","v":1},{"$f":"AND(AA65=0,AA$1=1)","v":false},{"$f":"IF(L65=\"-\",1,0)*AC$1","v":1},{"$f":"AND(AC65=0,AC$1=1)","v":false}]
[59,"Kiara Weaver","De Lisle College","-",{"$f":"IF(D66=\"-\",0,D66)","v":0},35,{"$f":"IF(F66=\"-\",0,F66)","v":35},"-",{"$f":"IF(H66=\"-\",0,H66)","v":0},"-",{"$f":"IF(J66=\"-\",0,J66)","v":0},"-",{"$f":"IF(L66=\"-\",0,L66)","v":0},null,{"$f":"E66+G66+I66+K66+M66","v":35},{"$f":"MAX(D66,F66,H66,J66,L66)","v":35},{"$f":"IF(S66=1,O66,IF(S66=0,(O66-P66),\"-\"))","v":"-"},{"$f":"COUNTIF(U66:AD66,\"=TRUE\")","v":1},{"$f":"AE$1-R66","v":4},{"$f":"IF(S66<2,\"Yes\",\"No\")","v":"No"},{"$f":"IF(D66=\"-\",1,0)*U$1","v":1},{"$f":"AND(U66=0,U$1=1)","v":false},{"$f":"IF(F66=\"-\",1,0)*W$1","v":0},{"$f":"AND(W66=0,W$1=1)","v":true},{"$f":"IF(H66=\"-\",1,0)*Y$1","v":1},{"$f":"AND(Y66=0,Y$1=1)","v":false},{"$f":"IF(J66=\"-\",1,0)*AA$1","v":1},{"$f":"AND(AA66=0,AA$1=1)","v":false},{"$f":"IF(L66=\"-\",1,0)*AC$1","v":1},{"$f":"AND(AC66=0,AC$1=1)","v":false}]
[23,"Anna Young","Kibworth High School","-",{"$f":"IF(D67=\"-\",0,D67)","v":0},37,{"$f":"IF(F67=\"-\",0,F67)","v":37},"-",{"$f":"IF(H67=\"-\",0,H67)","v":0},"-",{"$f":"IF(J67=\"-\",0,J67)","v":0},"-",{"$f":"IF(L67=\"-\",0,L67)","v":0},null,{"$f":"E67+G67+I67+K67+M67","v":37},{"$f":"MAX(D67,F67,H67,J67,L67)","v":37},{"$f":"IF(S67=1,O67,IF(S67=0,(O67-P67),\"-\"))","v":"-"},{"$f":"COUNTIF(U67:AD67,\"=TRUE\")","v":1},{"$f":"AE$1-R67","v":4},{"$f":"IF(S67<2,\"Yes\",\"No\")","v":"No"},{"$f":"IF(D67=\"-\",1,0)*U$1","v":1},{"$f":"AND(U67=0,U$1=1)","v":false},{"$f":"IF(F67=\"-\",1,0)*W$1","v":0},{"$f":"AND(W67=0,W$1=1)","v":true},{"$f":"IF(H67=\"-\",1,0)*Y$1","v":1},{"$f":"AND(Y67=0,Y$1=1)","v":false},{"$f":"IF(J67=\"-\",1,0)*AA$1","v":1},{"$f":"AND(AA67=0,AA$1=1)","v":false},{"$f":"IF(L67=\"-\",1,0)*AC$1","v":1},{"$f":"AND(AC67=0,AC$1=1)","v":false}]
[65,"Aisha Amos-Howell","Kibworth High School","-",{"$f":"IF(D68=\"-\",0,D68)","v":0},40,{"$f":"IF(F68=\"-\",0,F68)","v":40},"-",{"$f":"IF(H68=\"-\",0,H68)","v":0},"-",{"$f":"IF(J68=\"-\",0,J68)","v":0},"-",{"$f":"IF(L68=\"-\",0,L68)","v":0},null,{"$f":"E68+G68+I68+K68+M68","v":40},{"$f":"MAX(D68,F68,H68,J68,L68)","v":40},{"$f":"IF(S68=1,O68,IF(S68=0,(O68-P68),\"-\"))","v":"-"},{"$f":"COUNTIF(U68:AD68,\"=TRUE\")","v":1},{"$f":"AE$1-R68","v":4},{"$f":"IF(S68<2,\"Yes\",\"No\")","v":"No"},{"$f":"IF(D68=\"-\",1,0)*U$1","v":1},{"$f":"AND(U68=0,U$1=1)","v":false},{"$f":"IF(F68=\"-\",1,0)*W$1","v":0},{"$f":"AND(W68=0,W$1=1)","v":true},{"$f":"IF(H68=\"-\",1,0)*Y$1","v":1},{"$f":"AND(Y68=0,Y$1=1)","v":false},{"$f":"IF(J68=\"-\",1,0)*AA$1","v":1},{"$f":"AND(AA68=0,AA$1=1)","v":false},{"$f":"IF(L68=\"-\",1,0)*AC$1","v":1},{"$f":"AND(AC68=0,AC$1=1)","v":false}]
[45,"Lucy James","Brookvale High School","-",{"$f":"IF(D69=\"-\",0,D69)","v":0},41,{"$f":"IF(F69=\"-\",0,F69)","v":41},"-",{"$f":"IF(H69=\"-\",0,H69)","v":0},"-",{"$f":"IF(J69=\"-\",0,J69)","v":0},"-",{"$f":"IF(L69=\"-\",0,L69)","v":0},null,{"$f":"E69+G69+I69+K69+M69","v":41},{"$f":"MAX(D69,F69,H69,J69,L69)","v":41},{"$f":"IF(S69=1,O69,IF(S69=0,(O69-P69),\"-\"))","v":"-"},{"$f":"COUNTIF(U69:AD69,\"=TRUE\")","v":1},{"$f":"AE$1-R69","v":4},{"$f":"IF(S69<2,\"Yes\",\"No\")","v":"No"},{"$f":"IF(D69=\"-\",1,0)*U$1","v":1},{"$f":"AND(U69=0,U$1=1)","v":false},{"$f":"IF(F69=\"-\",1,0)*W$1","v":0},{"$f":"AND(W69=0,W$1=1)","v":true},{"$f":"IF(H69=\"-\",1,0)*Y$1","v":1},{"$f":"AND(Y69=0,Y$1=1)","v":false},{"$f":"IF(J69=\"-\",1,0)*AA$1","v":1},{"$f":"AND(AA69=0,AA$1=1)","v":false},{"$f":"IF(L69=\"-\",1,0)*AC$1","v":1},{"$f":"AND(AC69=0,AC$1=1)","v":false}]
[87,"Autumn Bates","The Martin High School",55,{"$f":"IF(D70=\"-\",0,D70)","v":55},43,{"$f":"IF(F70=\"-\",0,F70)","v":43},"-",{"$f":"IF(H70=\"-\",0,H70)","v":0},"-",{"$f":"IF(J70=\"-\",0,J70)","v":0},"-",{"$f":"IF(L70=\"-\",0,L70)","v":0},null,{"$f":"E70+G70+I70+K70+M70","v":98},{"$f":"MAX(D70,F70,H70,J70,L70)","v":55},{"$f":"IF(S70=1,O70,IF(S70=0,(O70-P70),\"-\"))","v":"-"},{"$f":"COUNTIF(U70:AD70,\"=TRUE\")","v":2},{"$f":"AE$1-R70","v":3},{"$f":"IF(S70<2,\"Yes\",\"No\")","v":"No"},{"$f":"IF(D70=\"-\",1,0)*U$1","v":0},{"$f":"AND(U70=0,U$1=1)","v":true},{"$f":"IF(F70=\"-\",1,0)*W$1","v":0},{"$f":"AND(W70=0,W$1=1)","v":true},{"$f":"IF(H70=\"-\",1,0)*Y$1","v":1},{"$f":"AND(Y70=0,Y$1=1)","v":false},{"$f":"IF(J70=\"-\",1,0)*AA$1","v":1},{"$f":"AND(AA70=0,AA$1=1)","v":false},{"$f":"IF(L70=\"-\",1,0)*AC$1","v":1},{"$f":"AND(AC70=0,AC$1=1)","v":false}]
[7,"Momina Khan","Manor High School","-",{"$f":"IF(D71=\"-\",0,D71)","v":0},44,{"$f":"IF(F71=\"-\",0,F71)","v":44},"-",{"$f":"IF(H71=\"-\",0,H71)","v":0},"-",{"$f":"IF(J71=\"-\",0,J71)","v":0},"-",{"$f":"IF(L71=\"-\",0,L71)","v":0},null,{"$f":"E71+G71+I71+K71+M71","v":44},{"$f":"MAX(D71,F71,H71,J71,L71)","v":44},{"$f":"IF(S71=1,O71,IF(S71=0,(O71-P71),\"-\"))","v":"-"},{"$f":"COUNTIF(U71:AD71,\"=TRUE\")","v":1},{"$f":"AE$1-R71","v":4},{"$f":"IF(S71<2,\"Yes\",\"No\")","v":"No"},{"$f":"IF(D71=\"-\",1,0)*U$1","v":1},{"$f":"AND(U71=0,U$1=1)","v":false},{"$f":"IF(F71=\"-\",1,0)*W$1","v":0},{"$f":"AND(W71=0,W$1=1)","v":true},{"$f":"IF(H71=\"-\",1,0)*Y$1","v":1},{"$f":"AND(Y71=0,Y$1=1)","v":false},{"$f":"IF(J71=\"-\",1,0)*AA$1","v":1},{"$f":"AND(AA71=0,AA$1=1)","v":false},{"$f":"IF(L71=\"-\",1,0)*AC$1","v":1},{"$f":"AND(AC71=0,AC$1=1)","v":false}]
[78,"Saniyah Sheikh","Crown Hills CC",48,{"$f":"IF(D72=\"-\",0,D72)","v":48},45,{"$f":"IF(F72=\"-\",0,F72)","v":45},"-",{"$f":"IF(H72=\"-\",0,H72)","v":0},"-",{"$f":"IF(J72=\"-\",0,J72)","v":0},"-",{"$f":"IF(L72=\"-\",0,L72)","v":0},null,{"$f":"E72+G72+I72+K72+M72","v":93},{"$f":"MAX(D72,F72,H72,J72,L72)","v":48},{"$f":"IF(S72=1,O72,IF(S72=0,(O72-P72),\"-\"))","v":"-"},{"$f":"COUNTIF(U72:AD72,\"=TRUE\")","v":2},{"$f":"AE$1-R72","v":3},{"$f":"IF(S72<2,\"Yes\",\"No\")","v":"No"},{"$f":"IF(D72=\"-\",1,0)*U$1","v":0},{"$f":"AND(U72=0,U$1=1)","v":true},{"$f":"IF(F72=\"-\",1,0)*W$1","v":0},{"$f":"AND(W72=0,W$1=1)","v":true},{"$f":"IF(H72=\"-\",1,0)*Y$1","v":1},{"$f":"AND(Y72=0,Y$1=1)","v":false},{"$f":"IF(J72=\"-\",1,0)*AA$1","v":1},{"$f":"AND(AA72=0,AA$1=1)","v":false},{"$f":"IF(L72=\"-\",1,0)*AC$1","v":1},{"$f":"AND(AC72=0,AC$1=1)","v":false}]
[26,"Holly Hunt","De Lisle College","-",{"$f":"IF(D73=\"-\",0,D73)","v":0},46,{"$f":"IF(F73=\"-\",0,F73)","v":46},"-",{"$f":"IF(H73=\"-\",0,H73)","v":0},"-",{"$f":"IF(J73=\"-\",0,J73)","v":0},"-",{"$f":"IF(L73=\"-\",0,L73)","v":0},null,{"$f":"E73+G73+I73+K73+M73","v":46},{"$f":"MAX(D73,F73,H73,J73,L73)","v":46},{"$f":"IF(S73=1,O73,IF(S73=0,(O73-P73),\"-\"))","v":"-"},{"$f":"COUNTIF(U73:AD73,\"=TRUE\")","v":1},{"$f":"AE$1-R73","v":4},{"$f":"IF(S73<2,\"Yes\",\"No\")","v":"No"},{"$f":"IF(D73=\"-\",1,0)*U$1","v":1},{"$f":"AND(U73=0,U$1=1)","v":false},{"$f":"IF(F73=\"-\",1,0)*W$1","v":0},{"$f":"AND(W73=0,W$1=1)","v":true},{"$f":"IF(H73=\"-\",1,0)*Y$1","v":1},{"$f":"AND(Y73=0,Y$1=1)","v":false},{"$f":"IF(J73=\"-\",1,0)*AA$1","v":1},{"$f":"AND(AA73=0,AA$1=1)","v":false},{"$f":"IF(L73=\"-\",1,0)*AC$1","v":1},{"$f":"AND(AC73=0,AC$1=1)","v":false}]
[35,"Millie Currnock","John Ferneley College","-",{"$f":"IF(D74=\"-\",0,D74)","v":0},48,{"$f":"IF(F74=\"-\",0,F74)","v":48},"-",{"$f":"IF(H74=\"-\",0,H74)","v":0},"-",{"$f":"IF(J74=\"-\",0,J74)","v":0},"-",{"$f":"IF(L74=\"-\",0,L74)","v":0},null,{"$f":"E74+G74+I74+K74+M74","v":48},{"$f":"MAX(D74,F74,H74,J74,L74)","v":48},{"$f":"IF(S74=1,O74,IF(S74=0,(O74-P74),\"-\"))","v":"-"},{"$f":"COUNTIF(U74:AD74,\"=TRUE\")","v":1},{"$f":"AE$1-R74","v":4},{"$f":"IF(S74<2,\"Yes\",\"No\")","v":"No"},{"$f":"IF(D74=\"-\",1,0)*U$1","v":1},{"$f":"AND(U74=0,U$1=1)","v":false},{"$f":"IF(F74=\"-\",1,0)*W$1","v":0},{"$f":"AND(W74=0,W$1=1)","v":true},{"$f":"IF(H74=\"-\",1,0)*Y$1","v":1},{"$f":"AND(Y74=0,Y$1=1)","v":false},{"$f":"IF(J74=\"-\",1,0)*AA$1","v":1},{"$f":"AND(AA74=0,AA$1=1)","v":false},{"$f":"IF(L74=\"-\",1,0)*AC$1","v":1},{"$f":"AND(AC74=0,AC$1=1)","v":false}]
[38,"Holly Godden","Welland Park Academy",58,{"$f":"IF(D75=\"-\",0,D75)","v":58},49,{"$f":"IF(F75=\"-\",0,F75)","v":49},"-",{"$f":"IF(H75=\"-\",0,H75)","v":0},"-",{"$f":"IF(J75=\"-\",0,J75)","v":0},"-",{"$f":"IF(L75=\"-\",0,L75)","v":0},null,{"$f":"E75+G75+I75+K75+M75","v":107},{"$f":"MAX(D75,F75,H75,J75,L75)","v":58},{"$f":"IF(S75=1,O75,IF(S75=0,(O75-P75),\"-\"))","v":"-"},{"$f":"COUNTIF(U75:AD75,\"=TRUE\")","v":2},{"$f":"AE$1-R75","v":3},{"$f":"IF(S75<2,\"Yes\",\"No\")","v":"No"},{"$f":"IF(D75=\"-\",1,0)*U$1","v":0},{"$f":"AND(U75=0,U$1=1)","v":true},{"$f":"IF(F75=\"-\",1,0)*W$1","v":0},{"$f":"AND(W75=0,W$1=1)","v":true},{"$f":"IF(H75=\"-\",1,0)*Y$1","v":1},{"$f":"AND(Y75=0,Y$1=1)","v":false},{"$f":"IF(J75=\"-\",1,0)*AA$1","v":1},{"$f":"AND(AA75=0,AA$1=1)","v":false},{"$f":"IF(L75=\"-\",1,0)*AC$1","v":1},{"$f":"AND(AC75=0,AC$1=1)","v":false}]
[70,"Khadija Nabi","Crown Hills CC",59,{"$f":"IF(D76=\"-\",0,D76)","v":59},50,{"$f":"IF(F76=\"-\",0,F76)","v":50},"-",{"$f":"IF(H76=\"-\",0,H76)","v":0},"-",{"$f":"IF(J76=\"-\",0,J76)","v":0},"-",{"$f":"IF(L76=\"-\",0,L76)","v":0},null,{"$f":"E76+G76+I76+K76+M76","v":109},{"$f":"MAX(D76,F76,H76,J76,L76)","v":59},{"$f":"IF(S76=1,O76,IF(S76=0,(O76-P76),\"-\"))","v":"-"},{"$f":"COUNTIF(U76:AD76,\"=TRUE\")","v":2},{"$f":"AE$1-R76","v":3},{"$f":"IF(S76<2,\"Yes\",\"No\")","v":"No"},{"$f":"IF(D76=\"-\",1,0)*U$1","v":0},{"$f":"AND(U76=0,U$1=1)","v":true},{"$f":"IF(F76=\"-\",1,0)*W$1","v":0},{"$f":"AND(W76=0,W$1=1)","v":true},{"$f":"IF(H76=\"-\",1,0)*Y$1","v":1},{"$f":"AND(Y76=0,Y$1=1)","v":false},{"$f":"IF(J76=\"-\",1,0)*AA$1","v":1},{"$f":"AND(AA76=0,AA$1=1)","v":false},{"$f":"IF(L76=\"-\",1,0)*AC$1","v":1},{"$f":"AND(AC76=0,AC$1=1)","v":false}]
[2,"Maisie Elliott","Lutterworth High School",3,{"$f":"IF(D77=\"-\",0,D77)","v":3},"-",{"$f":"IF(F77=\"-\",0,F77)","v":0},"-",{"$f":"IF(H77=\"-\",0,H77)","v":0},"-",{"$f":"IF(J77=\"-\",0,J77)","v":0},"-",{"$f":"IF(L77=\"-\",0,L77)","v":0},null,{"$f":"E77+G77+I77+K77+M77","v":3},{"$f":"MAX(D77,F77,H77,J77,L77)","v":3},{"$f":"IF(S77=1,O77,IF(S77=0,(O77-P77),\"-\"))","v":"-"},{"$f":"COUNTIF(U77:AD77,\"=TRUE\")","v":1},{"$f":"AE$1-R77","v":4},{"$f":"IF(S77<2,\"Yes\",\"No\")","v":"No"},{"$f":"IF(D77=\"-\",1,0)*U$1","v":0},{"$f":"AND(U77=0,U$1=1)","v":true},{"$f":"IF(F77=\"-\",1,0)*W$1","v":1},{"$f":"AND(W77=0,W$1=1)","v":false},{"$f":"IF(H77=\"-\",1,0)*Y$1","v":1},{"$f":"AND(Y77=0,Y$1=1)","v":false},{"$f":"IF(J77=\"-\",1,0)*AA$1","v":1},{"$f":"AND(AA77=0,AA$1=1)","v":false},{"$f":"IF(L77=\"-\",1,0)*AC$1","v":1},{"$f":"AND(AC77=0,AC$1=1)","v":false}]
[13,"Rachel Lawrence","De Lisle College",10,{"$f":"IF(D78=\"-\",0,D78)","v":10},"-",{"$f":"IF(F78=\"-\",0,F78)","v":0},"-",{"$f":"IF(H78=\"-\",0,H78)","v":0},"-",{"$f":"IF(J78=\"-\",0,J78)","v":0},"-",{"$f":"IF(L78=\"-\",0,L78)","v":0},null,{"$f":"E78+G78+I78+K78+M78","v":10},{"$f":"MAX(D78,F78,H78,J78,L78)","v":10},{"$f":"IF(S78=1,O78,IF(S78=0,(O78-P78),\"-\"))","v":"-"},{"$f":"COUNTIF(U78:AD78,\"=TRUE\")","v":1},{"$f":"AE$1-R78","v":4},{"$f":"IF(S78<2,\"Yes\",\"No\")","v":"No"},{"$f":"IF(D78=\"-\",1,0)*U$1","v":0},{"$f":"AND(U78=0,U$1=1)","v":true},{"$f":"IF(F78=\"-\",1,0)*W$1","v":1},{"$f":"AND(W78=0,W$1=1)","v":false},{"$f":"IF(H78=\"-\",1,0)*Y$1","v":1},{"$f":"AND(Y78=0,Y$1=1)","v":false},{"$f":"IF(J78=\"-\",1,0)*AA$1","v":1},{"$f":"AND(AA78=0,AA$1=1)","v":false},{"$f":"IF(L78=\"-\",1,0)*AC$1","v":1},{"$f":"AND(AC78=0,AC$1=1)","v":false}]
[88,"Natasha Martin","Thomas Estley CC",19,{"$f":"IF(D79=\"-\",0,D79)","v":19},"-",{"$f":"IF(F79=\"-\",0,F79)","v":0},"-",{"$f":"IF(H79=\"-\",0,H79)","v":0},"-",{"$f":"IF(J79=\"-\",0,J79)","v":0},"-",{"$f":"IF(L79=\"-\",0,L79)","v":0},null,{"$f":"E79+G79+I79+K79+M79","v":19},{"$f":"MAX(D79,F79,H79,J79,L79)","v":19},{"$f":"IF(S79=1,O79,IF(S79=0,(O79-P79),\"-\"))","v":"-"},{"$f":"COUNTIF(U79:AD79,\"=TRUE\")","v":1},{"$f":"AE$1-R79","v":4},{"$f":"IF(S79<2,\"Yes\",\"No\")","v":"No"},{"$f":"IF(D79=\"-\",1,0)*U$1","v":0},{"$f":"AND(U79=0,U$1=1)","v":true},{"$f":"IF(F79=\"-\",1,0)*W$1","v":1},{"$f":"AND(W79=0,W$1=1)","v":false},{"$f":"IF(H79=\"-\",1,0)*Y$1","v":1},{"$f":"AND(Y79=0,Y$1=1)","v":false},{"$f":"IF(J79=\"-\",1,0)*AA$1","v":1},{"$f":"AND(AA79=0,AA$1=1)","v":false},{"$f":"IF(L79=\"-\",1,0)*AC$1","v":1},{"$f":"AND(AC79=0,AC$1=1)","v":false}]
[57,"Mia Champneys-Davies","Castle Donington CC",31,{"$f":"IF(D80=\"-\",0,D80)","v":31},"-",{"$f":"IF(F80=\"-\",0,F80)","v":0},"-",{"$f":"IF(H80=\"-\",0,H80)","v":0},"-",{"$f":"IF(J80=\"-\",0,J80)","v":0},"-",{"$f":"IF(L80=\"-\",0,L80)","v":0},null,{"$f":"E80+G80+I80+K80+M80","v":31},{"$f":"MAX(D80,F80,H80,J80,L80)","v":31},{"$f":"IF(S80=1,O80,IF(S80=0,(O80-P80),\"-\"))","v":"-"},{"$f":"COUNTIF(U80:AD80,\"=TRUE\")","v":1},{"$f":"AE$1-R80","v":4},{"$f":"IF(S80<2,\"Yes\",\"No\")","v":"No"},{"$f":"IF(D80=\"-\",1,0)*U$1","v":0},{"$f":"AND(U80=0,U$1=1)","v":true},{"$f":"IF(F80=\"-\",1,0)*W$1","v":1},{"$f":"AND(W80=0,W$1=1)","v":false},{"$f":"IF(H80=\"-\",1,0)*Y$1","v":1},{"$f":"AND(Y80=0,Y$1=1)","v":false},{"$f":"IF(J80=\"-\",1,0)*AA$1","v":1},{"$f":"AND(AA80=0,AA$1=1)","v":false},{"$f":"IF(L80=\"-\",1,0)*AC$1","v":1},{"$f":"AND(AC80=0,AC$1=1)","v":false}]
[85,"Celia ?","Woodbrook Vale School",35,{"$f":"IF(D81=\"-\",0,D81)","v":35},"-",{"$f":"IF(F81=\"-\",0,F81)","v":0},"-",{"$f":"IF(H81=\"-\",0,H81)","v":0},"-",{"$f":"IF(J81=\"-\",0,J81)","v":0},"-",{"$f":"IF(L81=\"-\",0,L81)","v":0},null,{"$f":"E81+G81+I81+K81+M81","v":35},{"$f":"MAX(D81,F81,H81,J81,L81)","v":35},{"$f":"IF(S81=1,O81,IF(S81=0,(O81-P81),\"-\"))","v":"-"},{"$f":"COUNTIF(U81:AD81,\"=TRUE\")","v":1},{"$f":"AE$1-R81","v":4},{"$f":"IF(S81<2,\"Yes\",\"No\")","v":"No"},{"$f":"IF(D81=\"-\",1,0)*U$1","v":0},{"$f":"AND(U81=0,U$1=1)","v":true},{"$f":"IF(F81=\"-\",1,0)*W$1","v":1},{"$f":"AND(W81=0,W$1=1)","v":false},{"$f":"IF(H81=\"-\",1,0)*Y$1","v":1},{"$f":"AND(Y81=0,Y$1=1)","v":false},{"$f":"IF(J81=\"-\",1,0)*AA$1","v":1},{"$f":"AND(AA81=0,AA$1=1)","v":false},{"$f":"IF(L81=\"-\",1,0)*AC$1","v":1},{"$f":"AND(AC81=0,AC$1=1)","v":false}]
[56,"Olivia Young","John Ferneley College",37,{"$f":"IF(D82=\"-\",0,D82)","v":37},"-",{"$f":"IF(F82=\"-\",0,F82)","v":0},"-",{"$f":"IF(H82=\"-\",0,H82)","v":0},"-",{"$f":"IF(J82=\"-\",0,J82)","v":0},"-",{"$f":"IF(L82=\"-\",0,L82)","v":0},null,{"$f":"E82+G82+I82+K82+M82","v":37},{"$f":"MAX(D82,F82,H82,J82,L82)","v":37},{"$f":"IF(S82=1,O82,IF(S82=0,(O82-P82),\"-\"))","v":"-"},{"$f":"COUNTIF(U82:AD82,\"=TRUE\")","v":1},{"$f":"AE$1-R82","v":4},{"$f":"IF(S82<2,\"Yes\",\"No\")","v":"No"},{"$f":"IF(D82=\"-\",1,0)*U$1","v":0},{"$f":"AND(U82=0,U$1=1)","v":true},{"$f":"IF(F82=\"-\",1,0)*W$1","v":1},{"$f":"AND(W82=0,W$1=1)","v":false},{"$f":"IF(H82=\"-\",1,0)*Y$1","v":1},{"$f":"AND(Y82=0,Y$1=1)","v":false},{"$f":"IF(J82=\"-\",1,0)*AA$1","v":1},{"$f":"AND(AA82=0,AA$1=1)","v":false},{"$f":"IF(L82=\"-\",1,0)*AC$1","v":1},{"$f":"AND(AC82=0,AC$1=1)","v":false}]
[86,"Erin Tattersall","The Martin High School",39,{"$f":"IF(D83=\"-\",0,D83)","v":39},"-",{"$f":"IF(F83=\"-\",0,F83)","v":0},"-",{"$f":"IF(H83=\"-\",0,H83)","v":0},"-",{"$f":"IF(J83=\"-\",0,J83)","v":0},"-",{"$f":"IF(L83=\"-\",0,L83)","v":0},null,{"$f":"E83+G83+I83+K83+M83","v":39},{"$f":"MAX(D83,F83,H83,J83,L83)","v":39},{"$f":"IF(S83=1,O83,IF(S83=0,(O83-P83),\"-\"))","v":"-"},{"$f":"COUNTIF(U83:AD83,\"=TRUE\")","v":1},{"$f":"AE$1-R83","v":4},{"$f":"IF(S83<2,\"Yes\",\"No\")","v":"No"},{"$f":"IF(D83=\"-\",1,0)*U$1","v":0},{"$f":"AND(U83=0,U$1=1)","v":true},{"$f":"IF(F83=\"-\",1,0)*W$1","v":1},{"$f":"AND(W83=0,W$1=1)","v":false},{"$f":"IF(H83=\"-\",1,0)*Y$1","v":1},{"$f":"AND(Y83=0,Y$1=1)","v":false},{"$f":"IF(J83=\"-\",1,0)*AA$1","v":1},{"$f":"AND(AA83=0,AA$1=1)","v":false},{"$f":"IF(L83=\"-\",1,0)*AC$1","v":1},{"$f":"AND(AC83=0,AC$1=1)","v":false}]
[67,"Jade Beeson","De Lisle College",46,{"$f":"IF(D84=\"-\",0,D84)","v":46},"-",{"$f":"IF(F84=\"-\",0,F84)","v":0},"-",{"$f":"IF(H84=\"-\",0,H84)","v":0},"-",{"$f":"IF(J84=\"-\",0,J84)","v":0},"-",{"$f":"IF(L84=\"-\",0,L84)","v":0},null,{"$f":"E84+G84+I84+K84+M84","v":46},{"$f":"MAX(D84,F84,H84,J84,L84)","v":46},{"$f":"IF(S84=1,O84,IF(S84=0,(O84-P84),\"-\"))","v":"-"},{"$f":"COUNTIF(U84:AD84,\"=TRUE\")","v":1},{"$f":"AE$1-R84","v":4},{"$f":"IF(S84<2,\"Yes\",\"No\")","v":"No"},{"$f":"IF(D84=\"-\",1,0)*U$1","v":0},{"$f":"AND(U84=0,U$1=1)","v":true},{"$f":"IF(F84=\"-\",1,0)*W$1","v":1},{"$f":"AND(W84=0,W$1=1)","v":false},{"$f":"IF(H84=\"-\",1,0)*Y$1","v":1},{"$f":"AND(Y84=0,Y$1=1)","v":false},{"$f":"IF(J84=\"-\",1,0)*AA$1","v":1},{"$f":"AND(AA84=0,AA$1=1)","v":false},{"$f":"IF(L84=\"-\",1,0)*AC$1","v":1},{"$f":"AND(AC84=0,AC$1=1)","v":false}]
[24,"Lily Ingram","Loughborough High School",47,{"$f":"IF(D85=\"-\",0,D85)","v":47},"-",{"$f":"IF(F85=\"-\",0,F85)","v":0},"-",{"$f":"IF(H85=\"-\",0,H85)","v":0},"-",{"$f":"IF(J85=\"-\",0,J85)","v":0},"-",{"$f":"IF(L85=\"-\",0,L85)","v":0},null,{"$f":"E85+G85+I85+K85+M85","v":47},{"$f":"MAX(D85,F85,H85,J85,L85)","v":47},{"$f":"IF(S85=1,O85,IF(S85=0,(O85-P85),\"-\"))","v":"-"},{"$f":"COUNTIF(U85:AD85,\"=TRUE\")","v":1},{"$f":"AE$1-R85","v":4},{"$f":"IF(S85<2,\"Yes\",\"No\")","v":"No"},{"$f":"IF(D85=\"-\",1,0)*U$1","v":0},{"$f":"AND(U85=0,U$1=1)","v":true},{"$f":"IF(F85=\"-\",1,0)*W$1","v":1},{"$f":"AND(W85=0,W$1=1)","v":false},{"$f":"IF(H85=\"-\",1,0)*Y$1","v":1},{"$f":"AND(Y85=0,Y$1=1)","v":false},{"$f":"IF(J85=\"-\",1,0)*AA$1","v":1},{"$f":"AND(AA85=0,AA$1=1)","v":false},{"$f":"IF(L85=\"-\",1,0)*AC$1","v":1},{"$f":"AND(AC85=0,AC$1=1)","v":false}]
[74,"Eva Macdonald","Loughborough High School",51,{"$f":"IF(D86=\"-\",0,D86)","v":51},"-",{"$f":"IF(F86=\"-\",0,F86)","v":0},"-",{"$f":"IF(H86=\"-\",0,H86)","v":0},"-",{"$f":"IF(J86=\"-\",0,J86)","v":0},"-",{"$f":"IF(L86=\"-\",0,L86)","v":0},null,{"$f":"E86+G86+I86+K86+M86","v":51},{"$f":"MAX(D86,F86,H86,J86,L86)","v":51},{"$f":"IF(S86=1,O86,IF(S86=0,(O86-P86),\"-\"))","v":"-"},{"$f":"COUNTIF(U86:AD86,\"=TRUE\")","v":1},{"$f":"AE$1-R86","v":4},{"$f":"IF(S86<2,\"Yes\",\"No\")","v":"No"},{"$f":"IF(D86=\"-\",1,0)*U$1","v":0},{"$f":"AND(U86=0,U$1=1)","v":true},{"$f":"IF(F86=\"-\",1,0)*W$1","v":1},{"$f":"AND(W86=0,W$1=1)","v":false},{"$f":"IF(H86=\"-\",1,0)*Y$1","v":1},{"$f":"AND(Y86=0,Y$1=1)","v":false},{"$f":"IF(J86=\"-\",1,0)*AA$1","v":1},{"$f":"AND(AA86=0,AA$1=1)","v":false},{"$f":"IF(L86=\"-\",1,0)*AC$1","v":1},{"$f":"AND(AC86=0,AC$1=1)","v":false}]
[82,"Ellie Barton","John Ferneley College",52,{"$f":"IF(D87=\"-\",0,D87)","v":52},"-",{"$f":"IF(F87=\"-\",0,F87)","v":0},"-",{"$f":"IF(H87=\"-\",0,H87)","v":0},"-",{"$f":"IF(J87=\"-\",0,J87)","v":0},"-",{"$f":"IF(L87=\"-\",0,L87)","v":0},null,{"$f":"E87+G87+I87+K87+M87","v":52},{"$f":"MAX(D87,F87,H87,J87,L87)","v":52},{"$f":"IF(S87=1,O87,IF(S87=0,(O87-P87),\"-\"))","v":"-"},{"$f":"COUNTIF(U87:AD87,\"=TRUE\")","v":1},{"$f":"AE$1-R87","v":4},{"$f":"IF(S87<2,\"Yes\",\"No\")","v":"No"},{"$f":"IF(D87=\"-\",1,0)*U$1","v":0},{"$f":"AND(U87=0,U$1=1)","v":true},{"$f":"IF(F87=\"-\",1,0)*W$1","v":1},{"$f":"AND(W87=0,W$1=1)","v":false},{"$f":"IF(H87=\"-\",1,0)*Y$1","v":1},{"$f":"AND(Y87=0,Y$1=1)","v":false},{"$f":"IF(J87=\"-\",1,0)*AA$1","v":1},{"$f":"AND(AA87=0,AA$1=1)","v":false},{"$f":"IF(L87=\"-\",1,0)*AC$1","v":1},{"$f":"AND(AC87=0,AC$1=1)","v":false}]
[71,"Ayesha Patel","Loughborough High School",53,{"$f":"IF(D88=\"-\",0,D88)","v":53},"-",{"$f":"IF(F88=\"-\",0,F88)","v":0},"-",{"$f":"IF(H88=\"-\",0,H88)","v":0},"-",{"$f":"IF(J88=\"-\",0,J88)","v":0},"-",{"$f":"IF(L88=\"-\",0,L88)","v":0},null,{"$f":"E88+G88+I88+K88+M88","v":53},{"$f":"MAX(D88,F88,H88,J88,L88)","v":53},{"$f":"IF(S88=1,O88,IF(S88=0,(O88-P88),\"-\"))","v":"-"},{"$f":"COUNTIF(U88:AD88,\"=TRUE\")","v":1},{"$f":"AE$1-R88","v":4},{"$f":"IF(S88<2,\"Yes\",\"No\")","v":"No"},{"$f":"IF(D88=\"-\",1,0)*U$1","v":0},{"$f":"AND(U88=0,U$1=1)","v":true},{"$f":"IF(F88=\"-\",1,0)*W$1","v":1},{"$f":"AND(W88=0,W$1=1)","v":false},{"$f":"IF(H88=\"-\",1,0)*Y$1","v":1},{"$f":"AND(Y88=0,Y$1=1)","v":false},{"$f":"IF(J88=\"-\",1,0)*AA$1","v":1},{"$f":"AND(AA88=0,AA$1=1)","v":false},{"$f":"IF(L88=\"-\",1,0)*AC$1","v":1},{"$f":"AND(AC88=0,AC$1=1)","v":false}]
[60,"Francesca Gosling","St Martins",54,{"$f":"IF(D89=\"-\",0,D89)","v":54},"-",{"$f":"IF(F89=\"-\",0,F89)","v":0},"-",{"$f":"IF(H89=\"-\",0,H89)","v":0},"-",{"$f":"IF(J89=\"-\",0,J89)","v":0},"-",{"$f":"IF(L89=\"-\",0,L89)","v":0},null,{"$f":"E89+G89+I89+K89+M89","v":54},{"$f":"MAX(D89,F89,H89,J89,L89)","v":54},{"$f":"IF(S89=1,O89,IF(S89=0,(O89-P89),\"-\"))","v":"-"},{"$f":"COUNTIF(U89:AD89,\"=TRUE\")","v":1},{"$f":"AE$1-R89","v":4},{"$f":"IF(S89<2,\"Yes\",\"No\")","v":"No"},{"$f":"IF(D89=\"-\",1,0)*U$1","v":0},{"$f":"AND(U89=0,U$1=1)","v":true},{"$f":"IF(F89=\"-\",1,0)*W$1","v":1},{"$f":"AND(W89=0,W$1=1)","v":false},{"$f":"IF(H89=\"-\",1,0)*Y$1","v":1},{"$f":"AND(Y89=0,Y$1=1)","v":false},{"$f":"IF(J89=\"-\",1,0)*AA$1","v":1},{"$f":"AND(AA89=0,AA$1=1)","v":false},{"$f":"IF(L89=\"-\",1,0)*AC$1","v":1},{"$f":"AND(AC89=0,AC$1=1)","v":false}]
[20,"Holly Lewis","John Ferneley College",56,{"$f":"IF(D90=\"-\",0,D90)","v":56},"-",{"$f":"IF(F90=\"-\",0,F90)","v":0},"-",{"$f":"IF(H90=\"-\",0,H90)","v":0},"-",{"$f":"IF(J90=\"-\",0,J90)","v":0},"-",{"$f":"IF(L90=\"-\",0,L90)","v":0},null,{"$f":"E90+G90+I90+K90+M90","v":56},{"$f":"MAX(D90,F90,H90,J90,L90)","v":56},{"$f":"IF(S90=1,O90,IF(S90=0,(O90-P90),\"-\"))","v":"-"},{"$f":"COUNTIF(U90:AD90,\"=TRUE\")","v":1},{"$f":"AE$1-R90","v":4},{"$f":"IF(S90<2,\"Yes\",\"No\")","v":"No"},{"$f":"IF(D90=\"-\",1,0)*U$1","v":0},{"$f":"AND(U90=0,U$1=1)","v":true},{"$f":"IF(F90=\"-\",1,0)*W$1","v":1},{"$f":"AND(W90=0,W$1=1)","v":false},{"$f":"IF(H90=\"-\",1,0)*Y$1","v":1},{"$f":"AND(Y90=0,Y$1=1)","v":false},{"$f":"IF(J90=\"-\",1,0)*AA$1","v":1},{"$f":"AND(AA90=0,AA$1=1)","v":false},{"$f":"IF(L90=\"-\",1,0)*AC$1","v":1},{"$f":"AND(AC90=0,AC$1=1)","v":false}]
[12,"Grace Weston","John Ferneley College",57,{"$f":"IF(D91=\"-\",0,D91)","v":57},"-",{"$f":"IF(F91=\"-\",0,F91)","v":0},"-",{"$f":"IF(H91=\"-\",0,H91)","v":0},"-",{"$f":"IF(J91=\"-\",0,J91)","v":0},"-",{"$f":"IF(L91=\"-\",0,L91)","v":0},null,{"$f":"E91+G91+I91+K91+M91","v":57},{"$f":"MAX(D91,F91,H91,J91,L91)","v":57},{"$f":"IF(S91=1,O91,IF(S91=0,(O91-P91),\"-\"))","v":"-"},{"$f":"COUNTIF(U91:AD91,\"=TRUE\")","v":1},{"$f":"AE$1-R91","v":4},{"$f":"IF(S91<2,\"Yes\",\"No\")","v":"No"},{"$f":"IF(D91=\"-\",1,0)*U$1","v":0},{"$f":"AND(U91=0,U$1=1)","v":true},{"$f":"IF(F91=\"-\",1,0)*W$1","v":1},{"$f":"AND(W91=0,W$1=1)","v":false},{"$f":"IF(H91=\"-\",1,0)*Y$1","v":1},{"$f":"AND(Y91=0,Y$1=1)","v":false},{"$f":"IF(J91=\"-\",1,0)*AA$1","v":1},{"$f":"AND(AA91=0,AA$1=1)","v":false},{"$f":"IF(L91=\"-\",1,0)*AC$1","v":1},{"$f":"AND(AC91=0,AC$1=1)","v":false}]
[66,null,"-","-",{"$f":"IF(D92=\"-\",0,D92)","v":0},"-",{"$f":"IF(F92=\"-\",0,F92)","v":0},"-",{"$f":"IF(H92=\"-\",0,H92)","v":0},"-",{"$f":"IF(J92=\"-\",0,J92)","v":0},"-",{"$f":"IF(L92=\"-\",0,L92)","v":0},null,{"$f":"E92+G92+I92+K92+M92","v":0},{"$f":"MAX(D92,F92,H92,J92,L92)","v":0},{"$f":"IF(S92=1,O92,IF(S92=0,(O92-P92),\"-\"))","v":"-"},{"$f":"COUNTIF(U92:AD92,\"=TRUE\")","v":0},{"$f":"AE$1-R92","v":5},{"$f":"IF(S92<2,\"Yes\",\"No\")","v":"No"},{"$f":"IF(D92=\"-\",1,0)*U$1","v":1},{"$f":"AND(U92=0,U$1=1)","v":false},{"$f":"IF(F92=\"-\",1,0)*W$1","v":1},{"$f":"AND(W92=0,W$1=1)","v":false},{"$f":"IF(H92=\"-\",1,0)*Y$1","v":1},{"$f":"AND(Y92=0,Y$1=1)","v":false},{"$f":"IF(J92=\"-\",1,0)*AA$1","v":1},{"$f":"AND(AA92=0,AA$1=1)","v":false},{"$f":"IF(L92=\"-\",1,0)*AC$1","v":1},{"$f":"AND(AC92=0,AC$1=1)","v":false}]
[89,null,"-","-",{"$f":"IF(D93=\"-\",0,D93)","v":0},"-",{"$f":"IF(F93=\"-\",0,F93)","v":0},"-",{"$f":"IF(H93=\"-\",0,H93)","v":0},"-",{"$f":"IF(J93=\"-\",0,J93)","v":0},"-",{"$f":"IF(L93=\"-\",0,L93)","v":0},null,{"$f":"E93+G93+I93+K93+M93","v":0},{"$f":"MAX(D93,F93,H93,J93,L93)","v":0},{"$f":"IF(S93=1,O93,IF(S93=0,(O93-P93),\"-\"))","v":"-"},{"$f":"COUNTIF(U93:AD93,\"=TRUE\")","v":0},{"$f":"AE$1-R93","v":5},{"$f":"IF(S93<2,\"Yes\",\"No\")","v":"No"},{"$f":"IF(D93=\"-\",1,0)*U$1","v":1},{"$f":"AND(U93=0,U$1=1)","v":false},{"$f":"IF(F93=\"-\",1,0)*W$1","v":1},{"$f":"AND(W93=0,W$1=1)","v":false},{"$f":"IF(H93=\"-\",1,0)*Y$1","v":1},{"$f":"AND(Y93=0,Y$1=1)","v":false},{"$f":"IF(J93=\"-\",1,0)*AA$1","v":1},{"$f":"AND(AA93=0,AA$1=1)","v":false},{"$f":"IF(L93=\"-\",1,0)*AC$1","v":1},{"$f":"AND(AC93=0,AC$1=1)","v":false}]
[90,null,"-","-",{"$f":"IF(D94=\"-\",0,D94)","v":0},"-",{"$f":"IF(F94=\"-\",0,F94)","v":0},"-",{"$f":"IF(H94=\"-\",0,H94)","v":0},"-",{"$f":"IF(J94=\"-\",0,J94)","v":0},"-",{"$f":"IF(L94=\"-\",0,L94)","v":0},null,{"$f":"E94+G94+I94+K94+M94","v":0},{"$f":"MAX(D94,F94,H94,J94,L94)","v":0},{"$f":"IF(S94=1,O94,IF(S94=0,(O94-P94),\"-\"))","v":"-"},{"$f":"COUNTIF(U94:AD94,\"=TRUE\")","v":0},{"$f":"AE$1-R94","v":5},{"$f":"IF(S94<2,\"Yes\",\"No\")","v":"No"},{"$f":"IF(D94=\"-\",1,0)*U$1","v":1},{"$f":"AND(U94=0,U$1=1)","v":false},{"$f":"IF(F94=\"-\",1,0)*W$1","v":1},{"$f":"AND(W94=0,W$1=1)","v":false},{"$f":"IF(H94=\"-\",1,0)*Y$1","v":1},{"$f":"AND(Y94=0,Y$1=1)","v":false},{"$f":"IF(J94=\"-\",1,0)*AA$1","v":1},{"$f":"AND(AA94=0,AA$1=1)","v":false},{"$f":"IF(L94=\"-\",1,0)*AC$1","v":1},{"$f":"AND(AC94=0,AC$1=1)","v":false}]
[91,null,"-","-",{"$f":"IF(D95=\"-\",0,D95)","v":0},"-",{"$f":"IF(F95=\"-\",0,F95)","v":0},"-",{"$f":"IF(H95=\"-\",0,H95)","v":0},"-",{"$f":"IF(J95=\"-\",0,J95)","v":0},"-",{"$f":"IF(L95=\"-\",0,L95)","v":0},null,{"$f":"E95+G95+I95+K95+M95","v":0},{"$f":"MAX(D95,F95,H95,J95,L95)","v":0},{"$f":"IF(S95=1,O95,IF(S95=0,(O95-P95),\"-\"))","v":"-"},{"$f":"COUNTIF(U95:AD95,\"=TRUE\")","v":0},{"$f":"AE$1-R95","v":5},{"$f":"IF(S95<2,\"Yes\",\"No\")","v":"No"},{"$f":"IF(D95=\"-\",1,0)*U$1","v":1},{"$f":"AND(U95=0,U$1=1)","v":false},{"$f":"IF(F95=\"-\",1,0)*W$1","v":1},{"$f":"AND(W95=0,W$1=1)","v":false},{"$f":"IF(H95=\"-\",1,0)*Y$1","v":1},{"$f":"AND(Y95=0,Y$1=1)","v":false},{"$f":"IF(J95=\"-\",1,0)*AA$1","v":1},{"$f":"AND(AA95=0,AA$1=1)","v":false},{"$f":"IF(L95=\"-\",1,0)*AC$1","v":1},{"$f":"AND(AC95=0,AC$1=1)","v":false}]
[92,null,"-","-",{"$f":"IF(D96=\"-\",0,D96)","v":0},"-",{"$f":"IF(F96=\"-\",0,F96)","v":0},"-",{"$f":"IF(H96=\"-\",0,H96)","v":0},"-",{"$f":"IF(J96=\"-\",0,J96)","v":0},"-",{"$f":"IF(L96=\"-\",0,L96)","v":0},null,{"$f":"E96+G96+I96+K96+M96","v":0},{"$f":"MAX(D96,F96,H96,J96,L96)","v":0},{"$f":"IF(S96=1,O96,IF(S96=0,(O96-P96),\"-\"))","v":"-"},{"$f":"COUNTIF(U96:AD96,\"=TRUE\")","v":0},{"$f":"AE$1-R96","v":5},{"$f":"IF(S96<2,\"Yes\",\"No\")","v":"No"},{"$f":"IF(D96=\"-\",1,0)*U$1","v":1},{"$f":"AND(U96=0,U$1=1)","v":false},{"$f":"IF(F96=\"-\",1,0)*W$1","v":1},{"$f":"AND(W96=0,W$1=1)","v":false},{"$f":"IF(H96=\"-\",1,0)*Y$1","v":1},{"$f":"AND(Y96=0,Y$1=1)","v":false},{"$f":"IF(J96=\"-\",1,0)*AA$1","v":1},{"$f":"AND(AA96=0,AA$1=1)","v":false},{"$f":"IF(L96=\"-\",1,0)*AC$1","v":1},{"$f":"AND(AC96=0,AC$1=1)","v":false}]
[93,null,"-","-",{"$f":"IF(D97=\"-\",0,D97)","v":0},"-",{"$f":"IF(F97=\"-\",0,F97)","v":0},"-",{"$f":"IF(H97=\"-\",0,H97)","v":0},"-",{"$f":"IF(J97=\"-\",0,J97)","v":0},"-",{"$f":"IF(L97=\"-\",0,L97)","v":0},null,{"$f":"E97+G97+I97+K97+M97","v":0},{"$f":"MAX(D97,F97,H97,J97,L97)","v":0},{"$f":"IF(S97=1,O97,IF(S97=0,(O97-P97),\"-\"))","v":"-"},{"$f":"COUNTIF(U97:AD97,\"=TRUE\")","v":0},{"$f":"AE$1-R97","v":5},{"$f":"IF(S97<2,\"Yes\",\"No\")","v":"No"},{"$f":"IF(D97=\"-\",1,0)*U$1","v":1},{"$f":"AND(U97=0,U$1=1)","v":false},{"$f":"IF(F97=\"-\",1,0)*W$1","v":1},{"$f":"AND(W97=0,W$1=1)","v":false},{"$f":"IF(H97=\"-\",1,0)*Y$1","v":1},{"$f":"AND(Y97=0,Y$1=1)","v":false},{"$f":"IF(J97=\"-\",1,0)*AA$1","v":1},{"$f":"AND(AA97=0,AA$1=1)","v":false},{"$f":"IF(L97=\"-\",1,0)*AC$1","v":1},{"$f":"AND(AC97=0,AC$1=1)","v":false}]
[94,null,"-","-",{"$f":"IF(D98=\"-\",0,D98)","v":0},"-",{"$f":"IF(F98=\"-\",0,F98)","v":0},"-",{"$f":"IF(H98=\"-\",0,H98)","v":0},"-",{"$f":"IF(J98=\"-\",0,J98)","v":0},"-",{"$f":"IF(L98=\"-\",0,L98)","v":0},null,{"$f":"E98+G98+I98+K98+M98","v":0},{"$f":"MAX(D98,F98,H98,J98,L98)","v":0},{"$f":"IF(S98=1,O98,IF(S98=0,(O98-P98),\"-\"))","v":"-"},{"$f":"COUNTIF(U98:AD98,\"=TRUE\")","v":0},{"$f":"AE$1-R98","v":5},{"$f":"IF(S98<2,\"Yes\",\"No\")","v":"No"},{"$f":"IF(D98=\"-\",1,0)*U$1","v":1},{"$f":"AND(U98=0,U$1=1)","v":false},{"$f":"IF(F98=\"-\",1,0)*W$1","v":1},{"$f":"AND(W98=0,W$1=1)","v":false},{"$f":"IF(H98=\"-\",1,0)*Y$1","v":1},{"$f":"AND(Y98=0,Y$1=1)","v":false},{"$f":"IF(J98=\"-\",1,0)*AA$1","v":1},{"$f":"AND(AA98=0,AA$1=1)","v":false},{"$f":"IF(L98=\"-\",1,0)*AC$1","v":1},{"$f":"AND(AC98=0,AC$1=1)","v":false}]
[95,null,"-","-",{"$f":"IF(D99=\"-\",0,D99)","v":0},"-",{"$f":"IF(F99=\"-\",0,F99)","v":0},"-",{"$f":"IF(H99=\"-\",0,H99)","v":0},"-",{"$f":"IF(J99=\"-\",0,J99)","v":0},"-",{"$f":"IF(L99=\"-\",0,L99)","v":0},null,{"$f":"E99+G99+I99+K99+M99","v":0},{"$f":"MAX(D99,F99,H99,J99,L99)","v":0},{"$f":"IF(S99=1,O99,IF(S99=0,(O99-P99),\"-\"))","v":"-"},{"$f":"COUNTIF(U99:AD99,\"=TRUE\")","v":0},{"$f":"AE$1-R99","v":5},{"$f":"IF(S99<2,\"Yes\",\"No\")","v":"No"},{"$f":"IF(D99=\"-\",1,0)*U$1","v":1},{"$f":"AND(U99=0,U$1=1)","v":false},{"$f":"IF(F99=\"-\",1,0)*W$1","v":1},{"$f":"AND(W99=0,W$1=1)","v":false},{"$f":"IF(H99=\"-\",1,0)*Y$1","v":1},{"$f":"AND(Y99=0,Y$1=1)","v":false},{"$f":"IF(J99=\"-\",1,0)*AA$1","v":1},{"$f":"AND(AA99=0,AA$1=1)","v":false},{"$f":"IF(L99=\"-\",1,0)*AC$1","v":1},{"$f":"AND(AC99=0,AC$1=1)","v":false}]
[96,null,"-","-",{"$f":"IF(D100=\"-\",0,D100)","v":0},"-",{"$f":"IF(F100=\"-\",0,F100)","v":0},"-",{"$f":"IF(H100=\"-\",0,H100)","v":0},"-",{"$f":"IF(J100=\"-\",0,J100)","v":0},"-",{"$f":"IF(L100=\"-\",0,L100)","v":0},null,{"$f":"E100+G100+I100+K100+M100","v":0},{"$f":"MAX(D100,F100,H100,J100,L100)","v":0},{"$f":"IF(S100=1,O100,IF(S100=0,(O100-P100),\"-\"))","v":"-"},{"$f":"COUNTIF(U100:AD100,\"=TRUE\")","v":0},{"$f":"AE$1-R100","v":5},{"$f":"IF(S100<2,\"Yes\",\"No\")","v":"No"},{"$f":"IF(D100=\"-\",1,0)*U$1","v":1},{"$f":"AND(U100=0,U$1=1)","v":false},{"$f":"IF(F100=\"-\",1,0)*W$1","v":1},{"$f":"AND(W100=0,W$1=1)","v":false},{"$f":"IF(H100=\"-\",1,0)*Y$1","v":1},{"$f":"AND(Y100=0,Y$1=1)","v":false},{"$f":"IF(J100=\"-\",1,0)*AA$1","v":1},{"$f":"AND(AA100=0,AA$1=1)","v":false},{"$f":"IF(L100=\"-\",1,0)*AC$1","v":1},{"$f":"AND(AC100=0,AC$1=1)","v":false}]
[97,null,"-","-",{"$f":"IF(D101=\"-\",0,D101)","v":0},"-",{"$f":"IF(F101=\"-\",0,F101)","v":0},"-",{"$f":"IF(H101=\"-\",0,H101)","v":0},"-",{"$f":"IF(J101=\"-\",0,J101)","v":0},"-",{"$f":"IF(L101=\"-\",0,L101)","v":0},null,{"$f":"E101+G101+I101+K101+M101","v":0},{"$f":"MAX(D101,F101,H101,J101,L101)","v":0},{"$f":"IF(S101=1,O101,IF(S101=0,(O101-P101),\"-\"))","v":"-"},{"$f":"COUNTIF(U101:AD101,\"=TRUE\")","v":0},{"$f":"AE$1-R101","v":5},{"$f":"IF(S101<2,\"Yes\",\"No\")","v":"No"},{"$f":"IF(D101=\"-\",1,0)*U$1","v":1},{"$f":"AND(U101=0,U$1=1)","v":false},{"$f":"IF(F101=\"-\",1,0)*W$1","v":1},{"$f":"AND(W101=0,W$1=1)","v":false},{"$f":"IF(H101=\"-\",1,0)*Y$1","v":1},{"$f":"AND(Y101=0,Y$1=1)","v":false},{"$f":"IF(J101=\"-\",1,0)*AA$1","v":1},{"$f":"AND(AA101=0,AA$1=1)","v":false},{"$f":"IF(L101=\"-\",1,0)*AC$1","v":1},{"$f":"AND(AC101=0,AC$1=1)","v":false}]
[98,null,"-","-",{"$f":"IF(D102=\"-\",0,D102)","v":0},"-",{"$f":"IF(F102=\"-\",0,F102)","v":0},"-",{"$f":"IF(H102=\"-\",0,H102)","v":0},"-",{"$f":"IF(J102=\"-\",0,J102)","v":0},"-",{"$f":"IF(L102=\"-\",0,L102)","v":0},null,{"$f":"E102+G102+I102+K102+M102","v":0},{"$f":"MAX(D102,F102,H102,J102,L102)","v":0},{"$f":"IF(S102=1,O102,IF(S102=0,(O102-P102),\"-\"))","v":"-"},{"$f":"COUNTIF(U102:AD102,\"=TRUE\")","v":0},{"$f":"AE$1-R102","v":5},{"$f":"IF(S102<2,\"Yes\",\"No\")","v":"No"},{"$f":"IF(D102=\"-\",1,0)*U$1","v":1},{"$f":"AND(U102=0,U$1=1)","v":false},{"$f":"IF(F102=\"-\",1,0)*W$1","v":1},{"$f":"AND(W102=0,W$1=1)","v":false},{"$f":"IF(H102=\"-\",1,0)*Y$1","v":1},{"$f":"AND(Y102=0,Y$1=1)","v":false},{"$f":"IF(J102=\"-\",1,0)*AA$1","v":1},{"$f":"AND(AA102=0,AA$1=1)","v":false},{"$f":"IF(L102=\"-\",1,0)*AC$1","v":1},{"$f":"AND(AC102=0,AC$1=1)","v":false}]
[99,null,"-","-",{"$f":"IF(D103=\"-\",0,D103)","v":0},"-",{"$f":"IF(F103=\"-\",0,F103)","v":0},"-",{"$f":"IF(H103=\"-\",0,H103)","v":0},"-",{"$f":"IF(J103=\"-\",0,J103)","v":0},"-",{"$f":"IF(L103=\"-\",0,L103)","v":0},null,{"$f":"E103+G103+I103+K103+M103","v":0},{"$f":"MAX(D103,F103,H103,J103,L103)","v":0},{"$f":"IF(S103=1,O103,IF(S103=0,(O103-P103),\"-\"))","v":"-"},{"$f":"COUNTIF(U103:AD103,\"=TRUE\")","v":0},{"$f":"AE$1-R103","v":5},{"$f":"IF(S103<2,\"Yes\",\"No\")","v":"No"},{"$f":"IF(D103=\"-\",1,0)*U$1","v":1},{"$f":"AND(U103=0,U$1=1)","v":false},{"$f":"IF(F103=\"-\",1,0)*W$1","v":1},{"$f":"AND(W103=0,W$1=1)","v":false},{"$f":"IF(H103=\"-\",1,0)*Y$1","v":1},{"$f":"AND(Y103=0,Y$1=1)","v":false},{"$f":"IF(J103=\"-\",1,0)*AA$1","v":1},{"$f":"AND(AA103=0,AA$1=1)","v":false},{"$f":"IF(L103=\"-\",1,0)*AC$1","v":1},{"$f":"AND(AC103=0,AC$1=1)","v":false}]
[100,null,"-","-",{"$f":"IF(D104=\"-\",0,D104)","v":0},"-",{"$f":"IF(F104=\"-\",0,F104)","v":0},"-",{"$f":"IF(H104=\"-\",0,H104)","v":0},"-",{"$f":"IF(J104=\"-\",0,J104)","v":0},"-",{"$f":"IF(L104=\"-\",0,L104)","v":0},null,{"$f":"E104+G104+I104+K104+M104","v":0},{"$f":"MAX(D104,F104,H104,J104,L104)","v":0},{"$f":"IF(S104=1,O104,IF(S104=0,(O104-P104),\"-\"))","v":"-"},{"$f":"COUNTIF(U104:AD104,\"=TRUE\")","v":0},{"$f":"AE$1-R104","v":5},{"$f":"IF(S104<2,\"Yes\",\"No\")","v":"No"},{"$f":"IF(D104=\"-\",1,0)*U$1","v":1},{"$f":"AND(U104=0,U$1=1)","v":false},{"$f":"IF(F104=\"-\",1,0)*W$1","v":1},{"$f":"AND(W104=0,W$1=1)","v":false},{"$f":"IF(H104=\"-\",1,0)*Y$1","v":1},{"$f":"AND(Y104=0,Y$1=1)","v":false},{"$f":"IF(J104=\"-\",1,0)*AA$1","v":1},{"$f":"AND(AA104=0,AA$1=1)","v":false},{"$f":"IF(L104=\"-\",1,0)*AC$1","v":1},{"$f":"AND(AC104=0,AC$1=1)","v":false}]
[101,null,"-","-",{"$f":"IF(D105=\"-\",0,D105)","v":0},"-",{"$f":"IF(F105=\"-\",0,F105)","v":0},"-",{"$f":"IF(H105=\"-\",0,H105)","v":0},"-",{"$f":"IF(J105=\"-\",0,J105)","v":0},"-",{"$f":"IF(L105=\"-\",0,L105)","v":0},null,{"$f":"E105+G105+I105+K105+M105","v":0},{"$f":"MAX(D105,F105,H105,J105,L105)","v":0},{"$f":"IF(S105=1,O105,IF(S105=0,(O105-P105),\"-\"))","v":"-"},{"$f":"COUNTIF(U105:AD105,\"=TRUE\")","v":0},{"$f":"AE$1-R105","v":5},{"$f":"IF(S105<2,\"Yes\",\"No\")","v":"No"},{"$f":"IF(D105=\"-\",1,0)*U$1","v":1},{"$f":"AND(U105=0,U$1=1)","v":false},{"$f":"IF(F105=\"-\",1,0)*W$1","v":1},{"$f":"AND(W105=0,W$1=1)","v":false},{"$f":"IF(H105=\"-\",1,0)*Y$1","v":1},{"$f":"AND(Y105=0,Y$1=1)","v":false},{"$f":"IF(J105=\"-\",1,0)*AA$1","v":1},{"$f":"AND(AA105=0,AA$1=1)","v":false},{"$f":"IF(L105=\"-\",1,0)*AC$1","v":1},{"$f":"AND(AC105=0,AC$1=1)","v":false}]
[102,null,"-","-",{"$f":"IF(D106=\"-\",0,D106)","v":0},"-",{"$f":"IF(F106=\"-\",0,F106)","v":0},"-",{"$f":"IF(H106=\"-\",0,H106)","v":0},"-",{"$f":"IF(J106=\"-\",0,J106)","v":0},"-",{"$f":"IF(L106=\"-\",0,L106)","v":0},null,{"$f":"E106+G106+I106+K106+M106","v":0},{"$f":"MAX(D106,F106,H106,J106,L106)","v":0},{"$f":"IF(S106=1,O106,IF(S106=0,(O106-P106),\"-\"))","v":"-"},{"$f":"COUNTIF(U106:AD106,\"=TRUE\")","v":0},{"$f":"AE$1-R106","v":5},{"$f":"IF(S106<2,\"Yes\",\"No\")","v":"No"},{"$f":"IF(D106=\"-\",1,0)*U$1","v":1},{"$f":"AND(U106=0,U$1=1)","v":false},{"$f":"IF(F106=\"-\",1,0)*W$1","v":1},{"$f":"AND(W106=0,W$1=1)","v":false},{"$f":"IF(H106=\"-\",1,0)*Y$1","v":1},{"$f":"AND(Y106=0,Y$1=1)","v":false},{"$f":"IF(J106=\"-\",1,0)*AA$1","v":1},{"$f":"AND(AA106=0,AA$1=1)","v":false},{"$f":"IF(L106=\"-\",1,0)*AC$1","v":1},{"$f":"AND(AC106=0,AC$1=1)","v":false}]
[103,null,"-","-",{"$f":"IF(D107=\"-\",0,D107)","v":0},"-",{"$f":"IF(F107=\"-\",0,F107)","v":0},"-",{"$f":"IF(H107=\"-\",0,H107)","v":0},"-",{"$f":"IF(J107=\"-\",0,J107)","v":0},"-",{"$f":"IF(L107=\"-\",0,L107)","v":0},null,{"$f":"E107+G107+I107+K107+M107","v":0},{"$f":"MAX(D107,F107,H107,J107,L107)","v":0},{"$f":"IF(S107=1,O107,IF(S107=0,(O107-P107),\"-\"))","v":"-"},{"$f":"COUNTIF(U107:AD107,\"=TRUE\")","v":0},{"$f":"AE$1-R107","v":5},{"$f":"IF(S107<2,\"Yes\",\"No\")","v":"No"},{"$f":"IF(D107=\"-\",1,0)*U$1","v":1},{"$f":"AND(U107=0,U$1=1)","v":false},{"$f":"IF(F107=\"-\",1,0)*W$1","v":1},{"$f":"AND(W107=0,W$1=1)","v":false},{"$f":"IF(H107=\"-\",1,0)*Y$1","v":1},{"$f":"AND(Y107=0,Y$1=1)","v":false},{"$f":"IF(J107=\"-\",1,0)*AA$1","v":1},{"$f":"AND(AA107=0,AA$1=1)","v":false},{"$f":"IF(L107=\"-\",1,0)*AC$1","v":1},{"$f":"AND(AC107=0,AC$1=1)","v":false}]
[104,null,"-","-",{"$f":"IF(D108=\"-\",0,D108)","v":0},"-",{"$f":"IF(F108=\"-\",0,F108)","v":0},"-",{"$f":"IF(H108=\"-\",0,H108)","v":0},"-",{"$f":"IF(J108=\"-\",0,J108)","v":0},"-",{"$f":"IF(L108=\"-\",0,L108)","v":0},null,{"$f":"E108+G108+I108+K108+M108","v":0},{"$f":"MAX(D108,F108,H108,J108,L108)","v":0},{"$f":"IF(S108=1,O108,IF(S108=0,(O108-P108),\"-\"))","v":"-"},{"$f":"COUNTIF(U108:AD108,\"=TRUE\")","v":0},{"$f":"AE$1-R108","v":5},{"$f":"IF(S108<2,\"Yes\",\"No\")","v":"No"},{"$f":"IF(D108=\"-\",1,0)*U$1","v":1},{"$f":"AND(U108=0,U$1=1)","v":false},{"$f":"IF(F108=\"-\",1,0)*W$1","v":1},{"$f":"AND(W108=0,W$1=1)","v":false},{"$f":"IF(H108=\"-\",1,0)*Y$1","v":1},{"$f":"AND(Y108=0,Y$1=1)","v":false},{"$f":"IF(J108=\"-\",1,0)*AA$1","v":1},{"$f":"AND(AA108=0,AA$1=1)","v":false},{"$f":"IF(L108=\"-\",1,0)*AC$1","v":1},{"$f":"AND(AC108=0,AC$1=1)","v":false}]
[105,null,"-","-",{"$f":"IF(D109=\"-\",0,D109)","v":0},"-",{"$f":"IF(F109=\"-\",0,F109)","v":0},"-",{"$f":"IF(H109=\"-\",0,H109)","v":0},"-",{"$f":"IF(J109=\"-\",0,J109)","v":0},"-",{"$f":"IF(L109=\"-\",0,L109)","v":0},null,{"$f":"E109+G109+I109+K109+M109","v":0},{"$f":"MAX(D109,F109,H109,J109,L109)","v":0},{"$f":"IF(S109=1,O109,IF(S109=0,(O109-P109),\"-\"))","v":"-"},{"$f":"COUNTIF(U109:AD109,\"=TRUE\")","v":0},{"$f":"AE$1-R109","v":5},{"$f":"IF(S109<2,\"Yes\",\"No\")","v":"No"},{"$f":"IF(D109=\"-\",1,0)*U$1","v":1},{"$f":"AND(U109=0,U$1=1)","v":false},{"$f":"IF(F109=\"-\",1,0)*W$1","v":1},{"$f":"AND(W109=0,W$1=1)","v":false},{"$f":"IF(H109=\"-\",1,0)*Y$1","v":1},{"$f":"AND(Y109=0,Y$1=1)","v":false},{"$f":"IF(J109=\"-\",1,0)*AA$1","v":1},{"$f":"AND(AA109=0,AA$1=1)","v":false},{"$f":"IF(L109=\"-\",1,0)*AC$1","v":1},{"$f":"AND(AC109=0,AC$1=1)","v":false}]
[106,null,"-","-",{"$f":"IF(D110=\"-\",0,D110)","v":0},"-",{"$f":"IF(F110=\"-\",0,F110)","v":0},"-",{"$f":"IF(H110=\"-\",0,H110)","v":0},"-",{"$f":"IF(J110=\"-\",0,J110)","v":0},"-",{"$f":"IF(L110=\"-\",0,L110)","v":0},null,{"$f":"E110+G110+I110+K110+M110","v":0},{"$f":"MAX(D110,F110,H110,J110,L110)","v":0},{"$f":"IF(S110=1,O110,IF(S110=0,(O110-P110),\"-\"))","v":"-"},{"$f":"COUNTIF(U110:AD110,\"=TRUE\")","v":0},{"$f":"AE$1-R110","v":5},{"$f":"IF(S110<2,\"Yes\",\"No\")","v":"No"},{"$f":"IF(D110=\"-\",1,0)*U$1","v":1},{"$f":"AND(U110=0,U$1=1)","v":false},{"$f":"IF(F110=\"-\",1,0)*W$1","v":1},{"$f":"AND(W110=0,W$1=1)","v":false},{"$f":"IF(H110=\"-\",1,0)*Y$1","v":1},{"$f":"AND(Y110=0,Y$1=1)","v":false},{"$f":"IF(J110=\"-\",1,0)*AA$1","v":1},{"$f":"AND(AA110=0,AA$1=1)","v":false},{"$f":"IF(L110=\"-\",1,0)*AC$1","v":1},{"$f":"AND(AC110=0,AC$1=1)","v":false}]
[107,null,"-","-",{"$f":"IF(D111=\"-\",0,D111)","v":0},"-",{"$f":"IF(F111=\"-\",0,F111)","v":0},"-",{"$f":"IF(H111=\"-\",0,H111)","v":0},"-",{"$f":"IF(J111=\"-\",0,J111)","v":0},"-",{"$f":"IF(L111=\"-\",0,L111)","v":0},null,{"$f":"E111+G111+I111+K111+M111","v":0},{"$f":"MAX(D111,F111,H111,J111,L111)","v":0},{"$f":"IF(S111=1,O111,IF(S111=0,(O111-P111),\"-\"))","v":"-"},{"$f":"COUNTIF(U111:AD111,\"=TRUE\")","v":0},{"$f":"AE$1-R111","v":5},{"$f":"IF(S111<2,\"Yes\",\"No\")","v":"No"},{"$f":"IF(D111=\"-\",1,0)*U$1","v":1},{"$f":"AND(U111=0,U$1=1)","v":false},{"$f":"IF(F111=\"-\",1,0)*W$1","v":1},{"$f":"AND(W111=0,W$1=1)","v":false},{"$f":"IF(H111=\"-\",1,0)*Y$1","v":1},{"$f":"AND(Y111=0,Y$1=1)","v":false},{"$f":"IF(J111=\"-\",1,0)*AA$1","v":1},{"$f":"AND(AA111=0,AA$1=1)","v":false},{"$f":"IF(L111=\"-\",1,0)*AC$1","v":1},{"$f":"AND(AC111=0,AC$1=1)","v":false}]
[108,null,"-","-",{"$f":"IF(D112=\"-\",0,D112)","v":0},"-",{"$f":"IF(F112=\"-\",0,F112)","v":0},"-",{"$f":"IF(H112=\"-\",0,H112)","v":0},"-",{"$f":"IF(J112=\"-\",0,J112)","v":0},"-",{"$f":"IF(L112=\"-\",0,L112)","v":0},null,{"$f":"E112+G112+I112+K112+M112","v":0},{"$f":"MAX(D112,F112,H112,J112,L112)","v":0},{"$f":"IF(S112=1,O112,IF(S112=0,(O112-P112),\"-\"))","v":"-"},{"$f":"COUNTIF(U112:AD112,\"=TRUE\")","v":0},{"$f":"AE$1-R112","v":5},{"$f":"IF(S112<2,\"Yes\",\"No\")","v":"No"},{"$f":"IF(D112=\"-\",1,0)*U$1","v":1},{"$f":"AND(U112=0,U$1=1)","v":false},{"$f":"IF(F112=\"-\",1,0)*W$1","v":1},{"$f":"AND(W112=0,W$1=1)","v":false},{"$f":"IF(H112=\"-\",1,0)*Y$1","v":1},{"$f":"AND(Y112=0,Y$1=1)","v":false},{"$f":"IF(J112=\"-\",1,0)*AA$1","v":1},{"$f":"AND(AA112=0,AA$1=1)","v":false},{"$f":"IF(L112=\"-\",1,0)*AC$1","v":1},{"$f":"AND(AC112=0,AC$1=1)","v":false}]
[109,null,"-","-",{"$f":"IF(D113=\"-\",0,D113)","v":0},"-",{"$f":"IF(F113=\"-\",0,F113)","v":0},"-",{"$f":"IF(H113=\"-\",0,H113)","v":0},"-",{"$f":"IF(J113=\"-\",0,J113)","v":0},"-",{"$f":"IF(L113=\"-\",0,L113)","v":0},null,{"$f":"E113+G113+I113+K113+M113","v":0},{"$f":"MAX(D113,F113,H113,J113,L113)","v":0},{"$f":"IF(S113=1,O113,IF(S113=0,(O113-P113),\"-\"))","v":"-"},{"$f":"COUNTIF(U113:AD113,\"=TRUE\")","v":0},{"$f":"AE$1-R113","v":5},{"$f":"IF(S113<2,\"Yes\",\"No\")","v":"No"},{"$f":"IF(D113=\"-\",1,0)*U$1","v":1},{"$f":"AND(U113=0,U$1=1)","v":false},{"$f":"IF(F113=\"-\",1,0)*W$1","v":1},{"$f":"AND(W113=0,W$1=1)","v":false},{"$f":"IF(H113=\"-\",1,0)*Y$1","v":1},{"$f":"AND(Y113=0,Y$1=1)","v":false},{"$f":"IF(J113=\"-\",1,0)*AA$1","v":1},{"$f":"AND(AA113=0,AA$1=1)","v":false},{"$f":"IF(L113=\"-\",1,0)*AC$1","v":1},{"$f":"AND(AC113=0,AC$1=1)","v":false}]
[110,null,"-","-",{"$f":"IF(D114=\"-\",0,D114)","v":0},"-",{"$f":"IF(F114=\"-\",0,F114)","v":0},"-",{"$f":"IF(H114=\"-\",0,H114)","v":0},"-",{"$f":"IF(J114=\"-\",0,J114)","v":0},"-",{"$f":"IF(L114=\"-\",0,L114)","v":0},null,{"$f":"E114+G114+I114+K114+M114","v":0},{"$f":"MAX(D114,F114,H114,J114,L114)","v":0},{"$f":"IF(S114=1,O114,IF(S114=0,(O114-P114),\"-\"))","v":"-"},{"$f":"COUNTIF(U114:AD114,\"=TRUE\")","v":0},{"$f":"AE$1-R114","v":5},{"$f":"IF(S114<2,\"Yes\",\"No\")","v":"No"},{"$f":"IF(D114=\"-\",1,0)*U$1","v":1},{"$f":"AND(U114=0,U$1=1)","v":false},{"$f":"IF(F114=\"-\",1,0)*W$1","v":1},{"$f":"AND(W114=0,W$1=1)","v":false},{"$f":"IF(H114=\"-\",1,0)*Y$1","v":1},{"$f":"AND(Y114=0,Y$1=1)","v":false},{"$f":"IF(J114=\"-\",1,0)*AA$1","v":1},{"$f":"AND(AA114=0,AA$1=1)","v":false},{"$f":"IF(L114=\"-\",1,0)*AC$1","v":1},{"$f":"AND(AC114=0,AC$1=1)","v":false}]
[111,null,"-","-",{"$f":"IF(D115=\"-\",0,D115)","v":0},"-",{"$f":"IF(F115=\"-\",0,F115)","v":0},"-",{"$f":"IF(H115=\"-\",0,H115)","v":0},"-",{"$f":"IF(J115=\"-\",0,J115)","v":0},"-",{"$f":"IF(L115=\"-\",0,L115)","v":0},null,{"$f":"E115+G115+I115+K115+M115","v":0},{"$f":"MAX(D115,F115,H115,J115,L115)","v":0},{"$f":"IF(S115=1,O115,IF(S115=0,(O115-P115),\"-\"))","v":"-"},{"$f":"COUNTIF(U115:AD115,\"=TRUE\")","v":0},{"$f":"AE$1-R115","v":5},{"$f":"IF(S115<2,\"Yes\",\"No\")","v":"No"},{"$f":"IF(D115=\"-\",1,0)*U$1","v":1},{"$f":"AND(U115=0,U$1=1)","v":false},{"$f":"IF(F115=\"-\",1,0)*W$1","v":1},{"$f":"AND(W115=0,W$1=1)","v":false},{"$f":"IF(H115=\"-\",1,0)*Y$1","v":1},{"$f":"AND(Y115=0,Y$1=1)","v":false},{"$f":"IF(J115=\"-\",1,0)*AA$1","v":1},{"$f":"AND(AA115=0,AA$1=1)","v":false},{"$f":"IF(L115=\"-\",1,0)*AC$1","v":1},{"$f":"AND(AC115=0,AC$1=1)","v":false}]
[112,null,"-","-",{"$f":"IF(D116=\"-\",0,D116)","v":0},"-",{"$f":"IF(F116=\"-\",0,F116)","v":0},"-",{"$f":"IF(H116=\"-\",0,H116)","v":0},"-",{"$f":"IF(J116=\"-\",0,J116)","v":0},"-",{"$f":"IF(L116=\"-\",0,L116)","v":0},null,{"$f":"E116+G116+I116+K116+M116","v":0},{"$f":"MAX(D116,F116,H116,J116,L116)","v":0},{"$f":"IF(S116=1,O116,IF(S116=0,(O116-P116),\"-\"))","v":"-"},{"$f":"COUNTIF(U116:AD116,\"=TRUE\")","v":0},{"$f":"AE$1-R116","v":5},{"$f":"IF(S116<2,\"Yes\",\"No\")","v":"No"},{"$f":"IF(D116=\"-\",1,0)*U$1","v":1},{"$f":"AND(U116=0,U$1=1)","v":false},{"$f":"IF(F116=\"-\",1,0)*W$1","v":1},{"$f":"AND(W116=0,W$1=1)","v":false},{"$f":"IF(H116=\"-\",1,0)*Y$1","v":1},{"$f":"AND(Y116=0,Y$1=1)","v":false},{"$f":"IF(J116=\"-\",1,0)*AA$1","v":1},{"$f":"AND(AA116=0,AA$1=1)","v":false},{"$f":"IF(L116=\"-\",1,0)*AC$1","v":1},{"$f":"AND(AC116=0,AC$1=1)","v":false}]
[113,null,"-","-",{"$f":"IF(D117=\"-\",0,D117)","v":0},"-",{"$f":"IF(F117=\"-\",0,F117)","v":0},"-",{"$f":"IF(H117=\"-\",0,H117)","v":0},"-",{"$f":"IF(J117=\"-\",0,J117)","v":0},"-",{"$f":"IF(L117=\"-\",0,L117)","v":0},null,{"$f":"E117+G117+I117+K117+M117","v":0},{"$f":"MAX(D117,F117,H117,J117,L117)","v":0},{"$f":"IF(S117=1,O117,IF(S117=0,(O117-P117),\"-\"))","v":"-"},{"$f":"COUNTIF(U117:AD117,\"=TRUE\")","v":0},{"$f":"AE$1-R117","v":5},{"$f":"IF(S117<2,\"Yes\",\"No\")","v":"No"},{"$f":"IF(D117=\"-\",1,0)*U$1","v":1},{"$f":"AND(U117=0,U$1=1)","v":false},{"$f":"IF(F117=\"-\",1,0)*W$1","v":1},{"$f":"AND(W117=0,W$1=1)","v":false},{"$f":"IF(H117=\"-\",1,0)*Y$1","v":1},{"$f":"AND(Y117=0,Y$1=1)","v":false},{"$f":"IF(J117=\"-\",1,0)*AA$1","v":1},{"$f":"AND(AA117=0,AA$1=1)","v":false},{"$f":"IF(L117=\"-\",1,0)*AC$1","v":1},{"$f":"AND(AC117=0,AC$1=1)","v":false}]
[114,null,"-","-",{"$f":"IF(D118=\"-\",0,D118)","v":0},"-",{"$f":"IF(F118=\"-\",0,F118)","v":0},"-",{"$f":"IF(H118=\"-\",0,H118)","v":0},"-",{"$f":"IF(J118=\"-\",0,J118)","v":0},"-",{"$f":"IF(L118=\"-\",0,L118)","v":0},null,{"$f":"E118+G118+I118+K118+M118","v":0},{"$f":"MAX(D118,F118,H118,J118,L118)","v":0},{"$f":"IF(S118=1,O118,IF(S118=0,(O118-P118),\"-\"))","v":"-"},{"$f":"COUNTIF(U118:AD118,\"=TRUE\")","v":0},{"$f":"AE$1-R118","v":5},{"$f":"IF(S118<2,\"Yes\",\"No\")","v":"No"},{"$f":"IF(D118=\"-\",1,0)*U$1","v":1},{"$f":"AND(U118=0,U$1=1)","v":false},{"$f":"IF(F118=\"-\",1,0)*W$1","v":1},{"$f":"AND(W118=0,W$1=1)","v":false},{"$f":"IF(H118=\"-\",1,0)*Y$1","v":1},{"$f":"AND(Y118=0,Y$1=1)","v":false},{"$f":"IF(J118=\"-\",1,0)*AA$1","v":1},{"$f":"AND(AA118=0,AA$1=1)","v":false},{"$f":"IF(L118=\"-\",1,0)*AC$1","v":1},{"$f":"AND(AC118=0,AC$1=1)","v":false}]
[115,null,"-","-",{"$f":"IF(D119=\"-\",0,D119)","v":0},"-",{"$f":"IF(F119=\"-\",0,F119)","v":0},"-",{"$f":"IF(H119=\"-\",0,H119)","v":0},"-",{"$f":"IF(J119=\"-\",0,J119)","v":0},"-",{"$f":"IF(L119=\"-\",0,L119)","v":0},null,{"$f":"E119+G119+I119+K119+M119","v":0},{"$f":"MAX(D119,F119,H119,J119,L119)","v":0},{"$f":"IF(S119=1,O119,IF(S119=0,(O119-P119),\"-\"))","v":"-"},{"$f":"COUNTIF(U119:AD119,\"=TRUE\")","v":0},{"$f":"AE$1-R119","v":5},{"$f":"IF(S119<2,\"Yes\",\"No\")","v":"No"},{"$f":"IF(D119=\"-\",1,0)*U$1","v":1},{"$f":"AND(U119=0,U$1=1)","v":false},{"$f":"IF(F119=\"-\",1,0)*W$1","v":1},{"$f":"AND(W119=0,W$1=1)","v":false},{"$f":"IF(H119=\"-\",1,0)*Y$1","v":1},{"$f":"AND(Y119=0,Y$1=1)","v":false},{"$f":"IF(J119=\"-\",1,0)*AA$1","v":1},{"$f":"AND(AA119=0,AA$1=1)","v":false},{"$f":"IF(L119=\"-\",1,0)*AC$1","v":1},{"$f":"AND(AC119=0,AC$1=1)","v":false}]
[116,null,"-","-",{"$f":"IF(D120=\"-\",0,D120)","v":0},"-",{"$f":"IF(F120=\"-\",0,F120)","v":0},"-",{"$f":"IF(H120=\"-\",0,H120)","v":0},"-",{"$f":"IF(J120=\"-\",0,J120)","v":0},"-",{"$f":"IF(L120=\"-\",0,L120)","v":0},null,{"$f":"E120+G120+I120+K120+M120","v":0},{"$f":"MAX(D120,F120,H120,J120,L120)","v":0},{"$f":"IF(S120=1,O120,IF(S120=0,(O120-P120),\"-\"))","v":"-"},{"$f":"COUNTIF(U120:AD120,\"=TRUE\")","v":0},{"$f":"AE$1-R120","v":5},{"$f":"IF(S120<2,\"Yes\",\"No\")","v":"No"},{"$f":"IF(D120=\"-\",1,0)*U$1","v":1},{"$f":"AND(U120=0,U$1=1)","v":false},{"$f":"IF(F120=\"-\",1,0)*W$1","v":1},{"$f":"AND(W120=0,W$1=1)","v":false},{"$f":"IF(H120=\"-\",1,0)*Y$1","v":1},{"$f":"AND(Y120=0,Y$1=1)","v":false},{"$f":"IF(J120=\"-\",1,0)*AA$1","v":1},{"$f":"AND(AA120=0,AA$1=1)","v":false},{"$f":"IF(L120=\"-\",1,0)*AC$1","v":1},{"$f":"AND(AC120=0,AC$1=1)","v":false}]
[117,null,"-","-",{"$f":"IF(D121=\"-\",0,D121)","v":0},"-",{"$f":"IF(F121=\"-\",0,F121)","v":0},"-",{"$f":"IF(H121=\"-\",0,H121)","v":0},"-",{"$f":"IF(J121=\"-\",0,J121)","v":0},"-",{"$f":"IF(L121=\"-\",0,L121)","v":0},null,{"$f":"E121+G121+I121+K121+M121","v":0},{"$f":"MAX(D121,F121,H121,J121,L121)","v":0},{"$f":"IF(S121=1,O121,IF(S121=0,(O121-P121),\"-\"))","v":"-"},{"$f":"COUNTIF(U121:AD121,\"=TRUE\")","v":0},{"$f":"AE$1-R121","v":5},{"$f":"IF(S121<2,\"Yes\",\"No\")","v":"No"},{"$f":"IF(D121=\"-\",1,0)*U$1","v":1},{"$f":"AND(U121=0,U$1=1)","v":false},{"$f":"IF(F121=\"-\",1,0)*W$1","v":1},{"$f":"AND(W121=0,W$1=1)","v":false},{"$f":"IF(H121=\"-\",1,0)*Y$1","v":1},{"$f":"AND(Y121=0,Y$1=1)","v":false},{"$f":"IF(J121=\"-\",1,0)*AA$1","v":1},{"$f":"AND(AA121=0,AA$1=1)","v":false},{"$f":"IF(L121=\"-\",1,0)*AC$1","v":1},{"$f":"AND(AC121=0,AC$1=1)","v":false}]
[118,null,"-","-",{"$f":"IF(D122=\"-\",0,D122)","v":0},"-",{"$f":"IF(F122=\"-\",0,F122)","v":0},"-",{"$f":"IF(H122=\"-\",0,H122)","v":0},"-",{"$f":"IF(J122=\"-\",0,J122)","v":0},"-",{"$f":"IF(L122=\"-\",0,L122)","v":0},null,{"$f":"E122+G122+I122+K122+M122","v":0},{"$f":"MAX(D122,F122,H122,J122,L122)","v":0},{"$f":"IF(S122=1,O122,IF(S122=0,(O122-P122),\"-\"))","v":"-"},{"$f":"COUNTIF(U122:AD122,\"=TRUE\")","v":0},{"$f":"AE$1-R122","v":5},{"$f":"IF(S122<2,\"Yes\",\"No\")","v":"No"},{"$f":"IF(D122=\"-\",1,0)*U$1","v":1},{"$f":"AND(U122=0,U$1=1)","v":false},{"$f":"IF(F122=\"-\",1,0)*W$1","v":1},{"$f":"AND(W122=0,W$1=1)","v":false},{"$f":"IF(H122=\"-\",1,0)*Y$1","v":1},{"$f":"AND(Y122=0,Y$1=1)","v":false},{"$f":"IF(J122=\"-\",1,0)*AA$1","v":1},{"$f":"AND(AA122=0,AA$1=1)","v":false},{"$f":"IF(L122=\"-\",1,0)*AC$1","v":1},{"$f":"AND(AC122=0,AC$1=1)","v":false}]
[119,null,"-","-",{"$f":"IF(D123=\"-\",0,D123)","v":0},"-",{"$f":"IF(F123=\"-\",0,F123)","v":0},"-",{"$f":"IF(H123=\"-\",0,H123)","v":0},"-",{"$f":"IF(J123=\"-\",0,J123)","v":0},"-",{"$f":"IF(L123=\"-\",0,L123)","v":0},null,{"$f":"E123+G123+I123+K123+M123","v":0},{"$f":"MAX(D123,F123,H123,J123,L123)","v":0},{"$f":"IF(S123=1,O123,IF(S123=0,(O123-P123),\"-\"))","v":"-"},{"$f":"COUNTIF(U123:AD123,\"=TRUE\")","v":0},{"$f":"AE$1-R123","v":5},{"$f":"IF(S123<2,\"Yes\",\"No\")","v":"No"},{"$f":"IF(D123=\"-\",1,0)*U$1","v":1},{"$f":"AND(U123=0,U$1=1)","v":false},{"$f":"IF(F123=\"-\",1,0)*W$1","v":1},{"$f":"AND(W123=0,W$1=1)","v":false},{"$f":"IF(H123=\"-\",1,0)*Y$1","v":1},{"$f":"AND(Y123=0,Y$1=1)","v":false},{"$f":"IF(J123=\"-\",1,0)*AA$1","v":1},{"$f":"AND(AA123=0,AA$1=1)","v":false},{"$f":"IF(L123=\"-\",1,0)*AC$1","v":1},{"$f":"AND(AC123=0,AC$1=1)","v":false}]
[120,null,"-","-",{"$f":"IF(D124=\"-\",0,D124)","v":0},"-",{"$f":"IF(F124=\"-\",0,F124)","v":0},"-",{"$f":"IF(H124=\"-\",0,H124)","v":0},"-",{"$f":"IF(J124=\"-\",0,J124)","v":0},"-",{"$f":"IF(L124=\"-\",0,L124)","v":0},null,{"$f":"E124+G124+I124+K124+M124","v":0},{"$f":"MAX(D124,F124,H124,J124,L124)","v":0},{"$f":"IF(S124=1,O124,IF(S124=0,(O124-P124),\"-\"))","v":"-"},{"$f":"COUNTIF(U124:AD124,\"=TRUE\")","v":0},{"$f":"AE$1-R124","v":5},{"$f":"IF(S124<2,\"Yes\",\"No\")","v":"No"},{"$f":"IF(D124=\"-\",1,0)*U$1","v":1},{"$f":"AND(U124=0,U$1=1)","v":false},{"$f":"IF(F124=\"-\",1,0)*W$1","v":1},{"$f":"AND(W124=0,W$1=1)","v":false},{"$f":"IF(H124=\"-\",1,0)*Y$1","v":1},{"$f":"AND(Y124=0,Y$1=1)","v":false},{"$f":"IF(J124=\"-\",1,0)*AA$1","v":1},{"$f":"AND(AA124=0,AA$1=1)","v":false},{"$f":"IF(L124=\"-\",1,0)*AC$1","v":1},{"$f":"AND(AC124=0,AC$1=1)","v":false}]
[121,null,"-","-",{"$f":"IF(D125=\"-\",0,D125)","v":0},"-",{"$f":"IF(F125=\"-\",0,F125)","v":0},"-",{"$f":"IF(H125=\"-\",0,H125)","v":0},"-",{"$f":"IF(J125=\"-\",0,J125)","v":0},"-",{"$f":"IF(L125=\"-\",0,L125)","v":0},null,{"$f":"E125+G125+I125+K125+M125","v":0},{"$f":"MAX(D125,F125,H125,J125,L125)","v":0},{"$f":"IF(S125=1,O125,IF(S125=0,(O125-P125),\"-\"))","v":"-"},{"$f":"COUNTIF(U125:AD125,\"=TRUE\")","v":0},{"$f":"AE$1-R125","v":5},{"$f":"IF(S125<2,\"Yes\",\"No\")","v":"No"},{"$f":"IF(D125=\"-\",1,0)*U$1","v":1},{"$f":"AND(U125=0,U$1=1)","v":false},{"$f":"IF(F125=\"-\",1,0)*W$1","v":1},{"$f":"AND(W125=0,W$1=1)","v":false},{"$f":"IF(H125=\"-\",1,0)*Y$1","v":1},{"$f":"AND(Y125=0,Y$1=1)","v":false},{"$f":"IF(J125=\"-\",1,0)*AA$1","v":1},{"$f":"AND(AA125=0,AA$1=1)","v":false},{"$f":"IF(L125=\"-\",1,0)*AC$1","v":1},{"$f":"AND(AC125=0,AC$1=1)","v":false}]
[122,null,"-","-",{"$f":"IF(D126=\"-\",0,D126)","v":0},"-",{"$f":"IF(F126=\"-\",0,F126)","v":0},"-",{"$f":"IF(H126=\"-\",0,H126)","v":0},"-",{"$f":"IF(J126=\"-\",0,J126)","v":0},"-",{"$f":"IF(L126=\"-\",0,L126)","v":0},null,{"$f":"E126+G126+I126+K126+M126","v":0},{"$f":"MAX(D126,F126,H126,J126,L126)","v":0},{"$f":"IF(S126=1,O126,IF(S126=0,(O126-P126),\"-\"))","v":"-"},{"$f":"COUNTIF(U126:AD126,\"=TRUE\")","v":0},{"$f":"AE$1-R126","v":5},{"$f":"IF(S126<2,\"Yes\",\"No\")","v":"No"},{"$f":"IF(D126=\"-\",1,0)*U$1","v":1},{"$f":"AND(U126=0,U$1=1)","v":false},{"$f":"IF(F126=\"-\",1,0)*W$1","v":1},{"$f":"AND(W126=0,W$1=1)","v":false},{"$f":"IF(H126=\"-\",1,0)*Y$1","v":1},{"$f":"AND(Y126=0,Y$1=1)","v":false},{"$f":"IF(J126=\"-\",1,0)*AA$1","v":1},{"$f":"AND(AA126=0,AA$1=1)","v":false},{"$f":"IF(L126=\"-\",1,0)*AC$1","v":1},{"$f":"AND(AC126=0,AC$1=1)","v":false}]
[123,null,"-","-",{"$f":"IF(D127=\"-\",0,D127)","v":0},"-",{"$f":"IF(F127=\"-\",0,F127)","v":0},"-",{"$f":"IF(H127=\"-\",0,H127)","v":0},"-",{"$f":"IF(J127=\"-\",0,J127)","v":0},"-",{"$f":"IF(L127=\"-\",0,L127)","v":0},null,{"$f":"E127+G127+I127+K127+M127","v":0},{"$f":"MAX(D127,F127,H127,J127,L127)","v":0},{"$f":"IF(S127=1,O127,IF(S127=0,(O127-P127),\"-\"))","v":"-"},{"$f":"COUNTIF(U127:AD127,\"=TRUE\")","v":0},{"$f":"AE$1-R127","v":5},{"$f":"IF(S127<2,\"Yes\",\"No\")","v":"No"},{"$f":"IF(D127=\"-\",1,0)*U$1","v":1},{"$f":"AND(U127=0,U$1=1)","v":false},{"$f":"IF(F127=\"-\",1,0)*W$1","v":1},{"$f":"AND(W127=0,W$1=1)","v":false},{"$f":"IF(H127=\"-\",1,0)*Y$1","v":1},{"$f":"AND(Y127=0,Y$1=1)","v":false},{"$f":"IF(J127=\"-\",1,0)*AA$1","v":1},{"$f":"AND(AA127=0,AA$1=1)","v":false},{"$f":"IF(L127=\"-\",1,0)*AC$1","v":1},{"$f":"AND(AC127=0,AC$1=1)","v":false}]
[124,null,"-","-",{"$f":"IF(D128=\"-\",0,D128)","v":0},"-",{"$f":"IF(F128=\"-\",0,F128)","v":0},"-",{"$f":"IF(H128=\"-\",0,H128)","v":0},"-",{"$f":"IF(J128=\"-\",0,J128)","v":0},"-",{"$f":"IF(L128=\"-\",0,L128)","v":0},null,{"$f":"E128+G128+I128+K128+M128","v":0},{"$f":"MAX(D128,F128,H128,J128,L128)","v":0},{"$f":"IF(S128=1,O128,IF(S128=0,(O128-P128),\"-\"))","v":"-"},{"$f":"COUNTIF(U128:AD128,\"=TRUE\")","v":0},{"$f":"AE$1-R128","v":5},{"$f":"IF(S128<2,\"Yes\",\"No\")","v":"No"},{"$f":"IF(D128=\"-\",1,0)*U$1","v":1},{"$f":"AND(U128=0,U$1=1)","v":false},{"$f":"IF(F128=\"-\",1,0)*W$1","v":1},{"$f":"AND(W128=0,W$1=1)","v":false},{"$f":"IF(H128=\"-\",1,0)*Y$1","v":1},{"$f":"AND(Y128=0,Y$1=1)","v":false},{"$f":"IF(J128=\"-\",1,0)*AA$1","v":1},{"$f":"AND(AA128=0,AA$1=1)","v":false},{"$f":"IF(L128=\"-\",1,0)*AC$1","v":1},{"$f":"AND(AC128=0,AC$1=1)","v":false}]
[125,null,"-","-",{"$f":"IF(D129=\"-\",0,D129)","v":0},"-",{"$f":"IF(F129=\"-\",0,F129)","v":0},"-",{"$f":"IF(H129=\"-\",0,H129)","v":0},"-",{"$f":"IF(J129=\"-\",0,J129)","v":0},"-",{"$f":"IF(L129=\"-\",0,L129)","v":0},null,{"$f":"E129+G129+I129+K129+M129","v":0},{"$f":"MAX(D129,F129,H129,J129,L129)","v":0},{"$f":"IF(S129=1,O129,IF(S129=0,(O129-P129),\"-\"))","v":"-"},{"$f":"COUNTIF(U129:AD129,\"=TRUE\")","v":0},{"$f":"AE$1-R129","v":5},{"$f":"IF(S129<2,\"Yes\",\"No\")","v":"No"},{"$f":"IF(D129=\"-\",1,0)*U$1","v":1},{"$f":"AND(U129=0,U$1=1)","v":false},{"$f":"IF(F129=\"-\",1,0)*W$1","v":1},{"$f":"AND(W129=0,W$1=1)","v":false},{"$f":"IF(H129=\"-\",1,0)*Y$1","v":1},{"$f":"AND(Y129=0,Y$1=1)","v":false},{"$f":"IF(J129=\"-\",1,0)*AA$1","v":1},{"$f":"AND(AA129=0,AA$1=1)","v":false},{"$f":"IF(L129=\"-\",1,0)*AC$1","v":1},{"$f":"AND(AC129=0,AC$1=1)","v":false}]
[126,null,"-","-",{"$f":"IF(D130=\"-\",0,D130)","v":0},"-",{"$f":"IF(F130=\"-\",0,F130)","v":0},"-",{"$f":"IF(H130=\"-\",0,H130)","v":0},"-",{"$f":"IF(J130=\"-\",0,J130)","v":0},"-",{"$f":"IF(L130=\"-\",0,L130)","v":0},null,{"$f":"E130+G130+I130+K130+M130","v":0},{"$f":"MAX(D130,F130,H130,J130,L130)","v":0},{"$f":"IF(S130=1,O130,IF(S130=0,(O130-P130),\"-\"))","v":"-"},{"$f":"COUNTIF(U130:AD130,\"=TRUE\")","v":0},{"$f":"AE$1-R130","v":5},{"$f":"IF(S130<2,\"Yes\",\"No\")","v":"No"},{"$f":"IF(D130=\"-\",1,0)*U$1","v":1},{"$f":"AND(U130=0,U$1=1)","v":false},{"$f":"IF(F130=\"-\",1,0)*W$1","v":1},{"$f":"AND(W130=0,W$1=1)","v":false},{"$f":"IF(H130=\"-\",1,0)*Y$1","v":1},{"$f":"AND(Y130=0,Y$1=1)","v":false},{"$f":"IF(J130=\"-\",1,0)*AA$1","v":1},{"$f":"AND(AA130=0,AA$1=1)","v":false},{"$f":"IF(L130=\"-\",1,0)*AC$1","v":1},{"$f":"AND(AC130=0,AC$1=1)","v":false}]
[127,null,"-","-",{"$f":"IF(D131=\"-\",0,D131)","v":0},"-",{"$f":"IF(F131=\"-\",0,F131)","v":0},"-",{"$f":"IF(H131=\"-\",0,H131)","v":0},"-",{"$f":"IF(J131=\"-\",0,J131)","v":0},"-",{"$f":"IF(L131=\"-\",0,L131)","v":0},null,{"$f":"E131+G131+I131+K131+M131","v":0},{"$f":"MAX(D131,F131,H131,J131,L131)","v":0},{"$f":"IF(S131=1,O131,IF(S131=0,(O131-P131),\"-\"))","v":"-"},{"$f":"COUNTIF(U131:AD131,\"=TRUE\")","v":0},{"$f":"AE$1-R131","v":5},{"$f":"IF(S131<2,\"Yes\",\"No\")","v":"No"},{"$f":"IF(D131=\"-\",1,0)*U$1","v":1},{"$f":"AND(U131=0,U$1=1)","v":false},{"$f":"IF(F131=\"-\",1,0)*W$1","v":1},{"$f":"AND(W131=0,W$1=1)","v":false},{"$f":"IF(H131=\"-\",1,0)*Y$1","v":1},{"$f":"AND(Y131=0,Y$1=1)","v":false},{"$f":"IF(J131=\"-\",1,0)*AA$1","v":1},{"$f":"AND(AA131=0,AA$1=1)","v":false},{"$f":"IF(L131=\"-\",1,0)*AC$1","v":1},{"$f":"AND(AC131=0,AC$1=1)","v":false}]
[128,null,"-","-",{"$f":"IF(D132=\"-\",0,D132)","v":0},"-",{"$f":"IF(F132=\"-\",0,F132)","v":0},"-",{"$f":"IF(H132=\"-\",0,H132)","v":0},"-",{"$f":"IF(J132=\"-\",0,J132)","v":0},"-",{"$f":"IF(L132=\"-\",0,L132)","v":0},null,{"$f":"E132+G132+I132+K132+M132","v":0},{"$f":"MAX(D132,F132,H132,J132,L132)","v":0},{"$f":"IF(S132=1,O132,IF(S132=0,(O132-P132),\"-\"))","v":"-"},{"$f":"COUNTIF(U132:AD132,\"=TRUE\")","v":0},{"$f":"AE$1-R132","v":5},{"$f":"IF(S132<2,\"Yes\",\"No\")","v":"No"},{"$f":"IF(D132=\"-\",1,0)*U$1","v":1},{"$f":"AND(U132=0,U$1=1)","v":false},{"$f":"IF(F132=\"-\",1,0)*W$1","v":1},{"$f":"AND(W132=0,W$1=1)","v":false},{"$f":"IF(H132=\"-\",1,0)*Y$1","v":1},{"$f":"AND(Y132=0,Y$1=1)","v":false},{"$f":"IF(J132=\"-\",1,0)*AA$1","v":1},{"$f":"AND(AA132=0,AA$1=1)","v":false},{"$f":"IF(L132=\"-\",1,0)*AC$1","v":1},{"$f":"AND(AC132=0,AC$1=1)","v":false}]
[129,null,"-","-",{"$f":"IF(D133=\"-\",0,D133)","v":0},"-",{"$f":"IF(F133=\"-\",0,F133)","v":0},"-",{"$f":"IF(H133=\"-\",0,H133)","v":0},"-",{"$f":"IF(J133=\"-\",0,J133)","v":0},"-",{"$f":"IF(L133=\"-\",0,L133)","v":0},null,{"$f":"E133+G133+I133+K133+M133","v":0},{"$f":"MAX(D133,F133,H133,J133,L133)","v":0},{"$f":"IF(S133=1,O133,IF(S133=0,(O133-P133),\"-\"))","v":"-"},{"$f":"COUNTIF(U133:AD133,\"=TRUE\")","v":0},{"$f":"AE$1-R133","v":5},{"$f":"IF(S133<2,\"Yes\",\"No\")","v":"No"},{"$f":"IF(D133=\"-\",1,0)*U$1","v":1},{"$f":"AND(U133=0,U$1=1)","v":false},{"$f":"IF(F133=\"-\",1,0)*W$1","v":1},{"$f":"AND(W133=0,W$1=1)","v":false},{"$f":"IF(H133=\"-\",1,0)*Y$1","v":1},{"$f":"AND(Y133=0,Y$1=1)","v":false},{"$f":"IF(J133=\"-\",1,0)*AA$1","v":1},{"$f":"AND(AA133=0,AA$1=1)","v":false},{"$f":"IF(L133=\"-\",1,0)*AC$1","v":1},{"$f":"AND(AC133=0,AC$1=1)","v":false}]
[130,null,"-","-",{"$f":"IF(D134=\"-\",0,D134)","v":0},"-",{"$f":"IF(F134=\"-\",0,F134)","v":0},"-",{"$f":"IF(H134=\"-\",0,H134)","v":0},"-",{"$f":"IF(J134=\"-\",0,J134)","v":0},"-",{"$f":"IF(L134=\"-\",0,L134)","v":0},null,{"$f":"E134+G134+I134+K134+M134","v":0},{"$f":"MAX(D134,F134,H134,J134,L134)","v":0},{"$f":"IF(S134=1,O134,IF(S134=0,(O134-P134),\"-\"))","v":"-"},{"$f":"COUNTIF(U134:AD134,\"=TRUE\")","v":0},{"$f":"AE$1-R134","v":5},{"$f":"IF(S134<2,\"Yes\",\"No\")","v":"No"},{"$f":"IF(D134=\"-\",1,0)*U$1","v":1},{"$f":"AND(U134=0,U$1=1)","v":false},{"$f":"IF(F134=\"-\",1,0)*W$1","v":1},{"$f":"AND(W134=0,W$1=1)","v":false},{"$f":"IF(H134=\"-\",1,0)*Y$1","v":1},{"$f":"AND(Y134=0,Y$1=1)","v":false},{"$f":"IF(J134=\"-\",1,0)*AA$1","v":1},{"$f":"AND(AA134=0,AA$1=1)","v":false},{"$f":"IF(L134=\"-\",1,0)*AC$1","v":1},{"$f":"AND(AC134=0,AC$1=1)","v":false}]
[131,null,"-","-",{"$f":"IF(D135=\"-\",0,D135)","v":0},"-",{"$f":"IF(F135=\"-\",0,F135)","v":0},"-",{"$f":"IF(H135=\"-\",0,H135)","v":0},"-",{"$f":"IF(J135=\"-\",0,J135)","v":0},"-",{"$f":"IF(L135=\"-\",0,L135)","v":0},null,{"$f":"E135+G135+I135+K135+M135","v":0},{"$f":"MAX(D135,F135,H135,J135,L135)","v":0},{"$f":"IF(S135=1,O135,IF(S135=0,(O135-P135),\"-\"))","v":"-"},{"$f":"COUNTIF(U135:AD135,\"=TRUE\")","v":0},{"$f":"AE$1-R135","v":5},{"$f":"IF(S135<2,\"Yes\",\"No\")","v":"No"},{"$f":"IF(D135=\"-\",1,0)*U$1","v":1},{"$f":"AND(U135=0,U$1=1)","v":false},{"$f":"IF(F135=\"-\",1,0)*W$1","v":1},{"$f":"AND(W135=0,W$1=1)","v":false},{"$f":"IF(H135=\"-\",1,0)*Y$1","v":1},{"$f":"AND(Y135=0,Y$1=1)","v":false},{"$f":"IF(J135=\"-\",1,0)*AA$1","v":1},{"$f":"AND(AA135=0,AA$1=1)","v":false},{"$f":"IF(L135=\"-\",1,0)*AC$1","v":1},{"$f":"AND(AC135=0,AC$1=1)","v":false}]
[132,null,"-","-",{"$f":"IF(D136=\"-\",0,D136)","v":0},"-",{"$f":"IF(F136=\"-\",0,F136)","v":0},"-",{"$f":"IF(H136=\"-\",0,H136)","v":0},"-",{"$f":"IF(J136=\"-\",0,J136)","v":0},"-",{"$f":"IF(L136=\"-\",0,L136)","v":0},null,{"$f":"E136+G136+I136+K136+M136","v":0},{"$f":"MAX(D136,F136,H136,J136,L136)","v":0},{"$f":"IF(S136=1,O136,IF(S136=0,(O136-P136),\"-\"))","v":"-"},{"$f":"COUNTIF(U136:AD136,\"=TRUE\")","v":0},{"$f":"AE$1-R136","v":5},{"$f":"IF(S136<2,\"Yes\",\"No\")","v":"No"},{"$f":"IF(D136=\"-\",1,0)*U$1","v":1},{"$f":"AND(U136=0,U$1=1)","v":false},{"$f":"IF(F136=\"-\",1,0)*W$1","v":1},{"$f":"AND(W136=0,W$1=1)","v":false},{"$f":"IF(H136=\"-\",1,0)*Y$1","v":1},{"$f":"AND(Y136=0,Y$1=1)","v":false},{"$f":"IF(J136=\"-\",1,0)*AA$1","v":1},{"$f":"AND(AA136=0,AA$1=1)","v":false},{"$f":"IF(L136=\"-\",1,0)*AC$1","v":1},{"$f":"AND(AC136=0,AC$1=1)","v":false}]
[133,null,"-","-",{"$f":"IF(D137=\"-\",0,D137)","v":0},"-",{"$f":"IF(F137=\"-\",0,F137)","v":0},"-",{"$f":"IF(H137=\"-\",0,H137)","v":0},"-",{"$f":"IF(J137=\"-\",0,J137)","v":0},"-",{"$f":"IF(L137=\"-\",0,L137)","v":0},null,{"$f":"E137+G137+I137+K137+M137","v":0},{"$f":"MAX(D137,F137,H137,J137,L137)","v":0},{"$f":"IF(S137=1,O137,IF(S137=0,(O137-P137),\"-\"))","v":"-"},{"$f":"COUNTIF(U137:AD137,\"=TRUE\")","v":0},{"$f":"AE$1-R137","v":5},{"$f":"IF(S137<2,\"Yes\",\"No\")","v":"No"},{"$f":"IF(D137=\"-\",1,0)*U$1","v":1},{"$f":"AND(U137=0,U$1=1)","v":false},{"$f":"IF(F137=\"-\",1,0)*W$1","v":1},{"$f":"AND(W137=0,W$1=1)","v":false},{"$f":"IF(H137=\"-\",1,0)*Y$1","v":1},{"$f":"AND(Y137=0,Y$1=1)","v":false},{"$f":"IF(J137=\"-\",1,0)*AA$1","v":1},{"$f":"AND(AA137=0,AA$1=1)","v":false},{"$f":"IF(L137=\"-\",1,0)*AC$1","v":1},{"$f":"AND(AC137=0,AC$1=1)","v":false}]
[134,null,"-","-",{"$f":"IF(D138=\"-\",0,D138)","v":0},"-",{"$f":"IF(F138=\"-\",0,F138)","v":0},"-",{"$f":"IF(H138=\"-\",0,H138)","v":0},"-",{"$f":"IF(J138=\"-\",0,J138)","v":0},"-",{"$f":"IF(L138=\"-\",0,L138)","v":0},null,{"$f":"E138+G138+I138+K138+M138","v":0},{"$f":"MAX(D138,F138,H138,J138,L138)","v":0},{"$f":"IF(S138=1,O138,IF(S138=0,(O138-P138),\"-\"))","v":"-"},{"$f":"COUNTIF(U138:AD138,\"=TRUE\")","v":0},{"$f":"AE$1-R138","v":5},{"$f":"IF(S138<2,\"Yes\",\"No\")","v":"No"},{"$f":"IF(D138=\"-\",1,0)*U$1","v":1},{"$f":"AND(U138=0,U$1=1)","v":false},{"$f":"IF(F138=\"-\",1,0)*W$1","v":1},{"$f":"AND(W138=0,W$1=1)","v":false},{"$f":"IF(H138=\"-\",1,0)*Y$1","v":1},{"$f":"AND(Y138=0,Y$1=1)","v":false},{"$f":"IF(J138=\"-\",1,0)*AA$1","v":1},{"$f":"AND(AA138=0,AA$1=1)","v":false},{"$f":"IF(L138=\"-\",1,0)*AC$1","v":1},{"$f":"AND(AC138=0,AC$1=1)","v":false}]
[135,null,"-","-",{"$f":"IF(D139=\"-\",0,D139)","v":0},"-",{"$f":"IF(F139=\"-\",0,F139)","v":0},"-",{"$f":"IF(H139=\"-\",0,H139)","v":0},"-",{"$f":"IF(J139=\"-\",0,J139)","v":0},"-",{"$f":"IF(L139=\"-\",0,L139)","v":0},null,{"$f":"E139+G139+I139+K139+M139","v":0},{"$f":"MAX(D139,F139,H139,J139,L139)","v":0},{"$f":"IF(S139=1,O139,IF(S139=0,(O139-P139),\"-\"))","v":"-"},{"$f":"COUNTIF(U139:AD139,\"=TRUE\")","v":0},{"$f":"AE$1-R139","v":5},{"$f":"IF(S139<2,\"Yes\",\"No\")","v":"No"},{"$f":"IF(D139=\"-\",1,0)*U$1","v":1},{"$f":"AND(U139=0,U$1=1)","v":false},{"$f":"IF(F139=\"-\",1,0)*W$1","v":1},{"$f":"AND(W139=0,W$1=1)","v":false},{"$f":"IF(H139=\"-\",1,0)*Y$1","v":1},{"$f":"AND(Y139=0,Y$1=1)","v":false},{"$f":"IF(J139=\"-\",1,0)*AA$1","v":1},{"$f":"AND(AA139=0,AA$1=1)","v":false},{"$f":"IF(L139=\"-\",1,0)*AC$1","v":1},{"$f":"AND(AC139=0,AC$1=1)","v":false}]
[136,null,"-","-",{"$f":"IF(D140=\"-\",0,D140)","v":0},"-",{"$f":"IF(F140=\"-\",0,F140)","v":0},"-",{"$f":"IF(H140=\"-\",0,H140)","v":0},"-",{"$f":"IF(J140=\"-\",0,J140)","v":0},"-",{"$f":"IF(L140=\"-\",0,L140)","v":0},null,{"$f":"E140+G140+I140+K140+M140","v":0},{"$f":"MAX(D140,F140,H140,J140,L140)","v":0},{"$f":"IF(S140=1,O140,IF(S140=0,(O140-P140),\"-\"))","v":"-"},{"$f":"COUNTIF(U140:AD140,\"=TRUE\")","v":0},{"$f":"AE$1-R140","v":5},{"$f":"IF(S140<2,\"Yes\",\"No\")","v":"No"},{"$f":"IF(D140=\"-\",1,0)*U$1","v":1},{"$f":"AND(U140=0,U$1=1)","v":false},{"$f":"IF(F140=\"-\",1,0)*W$1","v":1},{"$f":"AND(W140=0,W$1=1)","v":false},{"$f":"IF(H140=\"-\",1,0)*Y$1","v":1},{"$f":"AND(Y140=0,Y$1=1)","v":false},{"$f":"IF(J140=\"-\",1,0)*AA$1","v":1},{"$f":"AND(AA140=0,AA$1=1)","v":false},{"$f":"IF(L140=\"-\",1,0)*AC$1","v":1},{"$f":"AND(AC140=0,AC$1=1)","v":false}]
[137,null,"-","-",{"$f":"IF(D141=\"-\",0,D141)","v":0},"-",{"$f":"IF(F141=\"-\",0,F141)","v":0},"-",{"$f":"IF(H141=\"-\",0,H141)","v":0},"-",{"$f":"IF(J141=\"-\",0,J141)","v":0},"-",{"$f":"IF(L141=\"-\",0,L141)","v":0},null,{"$f":"E141+G141+I141+K141+M141","v":0},{"$f":"MAX(D141,F141,H141,J141,L141)","v":0},{"$f":"IF(S141=1,O141,IF(S141=0,(O141-P141),\"-\"))","v":"-"},{"$f":"COUNTIF(U141:AD141,\"=TRUE\")","v":0},{"$f":"AE$1-R141","v":5},{"$f":"IF(S141<2,\"Yes\",\"No\")","v":"No"},{"$f":"IF(D141=\"-\",1,0)*U$1","v":1},{"$f":"AND(U141=0,U$1=1)","v":false},{"$f":"IF(F141=\"-\",1,0)*W$1","v":1},{"$f":"AND(W141=0,W$1=1)","v":false},{"$f":"IF(H141=\"-\",1,0)*Y$1","v":1},{"$f":"AND(Y141=0,Y$1=1)","v":false},{"$f":"IF(J141=\"-\",1,0)*AA$1","v":1},{"$f":"AND(AA141=0,AA$1=1)","v":false},{"$f":"IF(L141=\"-\",1,0)*AC$1","v":1},{"$f":"AND(AC141=0,AC$1=1)","v":false}]
[138,null,"-","-",{"$f":"IF(D142=\"-\",0,D142)","v":0},"-",{"$f":"IF(F142=\"-\",0,F142)","v":0},"-",{"$f":"IF(H142=\"-\",0,H142)","v":0},"-",{"$f":"IF(J142=\"-\",0,J142)","v":0},"-",{"$f":"IF(L142=\"-\",0,L142)","v":0},null,{"$f":"E142+G142+I142+K142+M142","v":0},{"$f":"MAX(D142,F142,H142,J142,L142)","v":0},{"$f":"IF(S142=1,O142,IF(S142=0,(O142-P142),\"-\"))","v":"-"},{"$f":"COUNTIF(U142:AD142,\"=TRUE\")","v":0},{"$f":"AE$1-R142","v":5},{"$f":"IF(S142<2,\"Yes\",\"No\")","v":"No"},{"$f":"IF(D142=\"-\",1,0)*U$1","v":1},{"$f":"AND(U142=0,U$1=1)","v":false},{"$f":"IF(F142=\"-\",1,0)*W$1","v":1},{"$f":"AND(W142=0,W$1=1)","v":false},{"$f":"IF(H142=\"-\",1,0)*Y$1","v":1},{"$f":"AND(Y142=0,Y$1=1)","v":false},{"$f":"IF(J142=\"-\",1,0)*AA$1","v":1},{"$f":"AND(AA142=0,AA$1=1)","v":false},{"$f":"IF(L142=\"-\",1,0)*AC$1","v":1},{"$f":"AND(AC142=0,AC$1=1)","v":false}]
[139,null,"-","-",{"$f":"IF(D143=\"-\",0,D143)","v":0},"-",{"$f":"IF(F143=\"-\",0,F143)","v":0},"-",{"$f":"IF(H143=\"-\",0,H143)","v":0},"-",{"$f":"IF(J143=\"-\",0,J143)","v":0},"-",{"$f":"IF(L143=\"-\",0,L143)","v":0},null,{"$f":"E143+G143+I143+K143+M143","v":0},{"$f":"MAX(D143,F143,H143,J143,L143)","v":0},{"$f":"IF(S143=1,O143,IF(S143=0,(O143-P143),\"-\"))","v":"-"},{"$f":"COUNTIF(U143:AD143,\"=TRUE\")","v":0},{"$f":"AE$1-R143","v":5},{"$f":"IF(S143<2,\"Yes\",\"No\")","v":"No"},{"$f":"IF(D143=\"-\",1,0)*U$1","v":1},{"$f":"AND(U143=0,U$1=1)","v":false},{"$f":"IF(F143=\"-\",1,0)*W$1","v":1},{"$f":"AND(W143=0,W$1=1)","v":false},{"$f":"IF(H143=\"-\",1,0)*Y$1","v":1},{"$f":"AND(Y143=0,Y$1=1)","v":false},{"$f":"IF(J143=\"-\",1,0)*AA$1","v":1},{"$f":"AND(AA143=0,AA$1=1)","v":false},{"$f":"IF(L143=\"-\",1,0)*AC$1","v":1},{"$f":"AND(AC143=0,AC$1=1)","v":false}]
[140,null,"-","-",{"$f":"IF(D144=\"-\",0,D144)","v":0},"-",{"$f":"IF(F144=\"-\",0,F144)","v":0},"-",{"$f":"IF(H144=\"-\",0,H144)","v":0},"-",{"$f":"IF(J144=\"-\",0,J144)","v":0},"-",{"$f":"IF(L144=\"-\",0,L144)","v":0},null,{"$f":"E144+G144+I144+K144+M144","v":0},{"$f":"MAX(D144,F144,H144,J144,L144)","v":0},{"$f":"IF(S144=1,O144,IF(S144=0,(O144-P144),\"-\"))","v":"-"},{"$f":"COUNTIF(U144:AD144,\"=TRUE\")","v":0},{"$f":"AE$1-R144","v":5},{"$f":"IF(S144<2,\"Yes\",\"No\")","v":"No"},{"$f":"IF(D144=\"-\",1,0)*U$1","v":1},{"$f":"AND(U144=0,U$1=1)","v":false},{"$f":"IF(F144=\"-\",1,0)*W$1","v":1},{"$f":"AND(W144=0,W$1=1)","v":false},{"$f":"IF(H144=\"-\",1,0)*Y$1","v":1},{"$f":"AND(Y144=0,Y$1=1)","v":false},{"$f":"IF(J144=\"-\",1,0)*AA$1","v":1},{"$f":"AND(AA144=0,AA$1=1)","v":false},{"$f":"IF(L144=\"-\",1,0)*AC$1","v":1},{"$f":"AND(AC144=0,AC$1=1)","v":false}]
[141,null,"-","-",{"$f":"IF(D145=\"-\",0,D145)","v":0},"-",{"$f":"IF(F145=\"-\",0,F145)","v":0},"-",{"$f":"IF(H145=\"-\",0,H145)","v":0},"-",{"$f":"IF(J145=\"-\",0,J145)","v":0},"-",{"$f":"IF(L145=\"-\",0,L145)","v":0},null,{"$f":"E145+G145+I145+K145+M145","v":0},{"$f":"MAX(D145,F145,H145,J145,L145)","v":0},{"$f":"IF(S145=1,O145,IF(S145=0,(O145-P145),\"-\"))","v":"-"},{"$f":"COUNTIF(U145:AD145,\"=TRUE\")","v":0},{"$f":"AE$1-R145","v":5},{"$f":"IF(S145<2,\"Yes\",\"No\")","v":"No"},{"$f":"IF(D145=\"-\",1,0)*U$1","v":1},{"$f":"AND(U145=0,U$1=1)","v":false},{"$f":"IF(F145=\"-\",1,0)*W$1","v":1},{"$f":"AND(W145=0,W$1=1)","v":false},{"$f":"IF(H145=\"-\",1,0)*Y$1","v":1},{"$f":"AND(Y145=0,Y$1=1)","v":false},{"$f":"IF(J145=\"-\",1,0)*AA$1","v":1},{"$f":"AND(AA145=0,AA$1=1)","v":false},{"$f":"IF(L145=\"-\",1,0)*AC$1","v":1},{"$f":"AND(AC145=0,AC$1=1)","v":false}]
[142,null,"-","-",{"$f":"IF(D146=\"-\",0,D146)","v":0},"-",{"$f":"IF(F146=\"-\",0,F146)","v":0},"-",{"$f":"IF(H146=\"-\",0,H146)","v":0},"-",{"$f":"IF(J146=\"-\",0,J146)","v":0},"-",{"$f":"IF(L146=\"-\",0,L146)","v":0},null,{"$f":"E146+G146+I146+K146+M146","v":0},{"$f":"MAX(D146,F146,H146,J146,L146)","v":0},{"$f":"IF(S146=1,O146,IF(S146=0,(O146-P146),\"-\"))","v":"-"},{"$f":"COUNTIF(U146:AD146,\"=TRUE\")","v":0},{"$f":"AE$1-R146","v":5},{"$f":"IF(S146<2,\"Yes\",\"No\")","v":"No"},{"$f":"IF(D146=\"-\",1,0)*U$1","v":1},{"$f":"AND(U146=0,U$1=1)","v":false},{"$f":"IF(F146=\"-\",1,0)*W$1","v":1},{"$f":"AND(W146=0,W$1=1)","v":false},{"$f":"IF(H146=\"-\",1,0)*Y$1","v":1},{"$f":"AND(Y146=0,Y$1=1)","v":false},{"$f":"IF(J146=\"-\",1,0)*AA$1","v":1},{"$f":"AND(AA146=0,AA$1=1)","v":false},{"$f":"IF(L146=\"-\",1,0)*AC$1","v":1},{"$f":"AND(AC146=0,AC$1=1)","v":false}]
[143,null,"-","-",{"$f":"IF(D147=\"-\",0,D147)","v":0},"-",{"$f":"IF(F147=\"-\",0,F147)","v":0},"-",{"$f":"IF(H147=\"-\",0,H147)","v":0},"-",{"$f":"IF(J147=\"-\",0,J147)","v":0},"-",{"$f":"IF(L147=\"-\",0,L147)","v":0},null,{"$f":"E147+G147+I147+K147+M147","v":0},{"$f":"MAX(D147,F147,H147,J147,L147)","v":0},{"$f":"IF(S147=1,O147,IF(S147=0,(O147-P147),\"-\"))","v":"-"},{"$f":"COUNTIF(U147:AD147,\"=TRUE\")","v":0},{"$f":"AE$1-R147","v":5},{"$f":"IF(S147<2,\"Yes\",\"No\")","v":"No"},{"$f":"IF(D147=\"-\",1,0)*U$1","v":1},{"$f":"AND(U147=0,U$1=1)","v":false},{"$f":"IF(F147=\"-\",1,0)*W$1","v":1},{"$f":"AND(W147=0,W$1=1)","v":false},{"$f":"IF(H147=\"-\",1,0)*Y$1","v":1},{"$f":"AND(Y147=0,Y$1=1)","v":false},{"$f":"IF(J147=\"-\",1,0)*AA$1","v":1},{"$f":"AND(AA147=0,AA$1=1)","v":false},{"$f":"IF(L147=\"-\",1,0)*AC$1","v":1},{"$f":"AND(AC147=0,AC$1=1)","v":false}]
[144,null,"-","-",{"$f":"IF(D148=\"-\",0,D148)","v":0},"-",{"$f":"IF(F148=\"-\",0,F148)","v":0},"-",{"$f":"IF(H148=\"-\",0,H148)","v":0},"-",{"$f":"IF(J148=\"-\",0,J148)","v":0},"-",{"$f":"IF(L148=\"-\",0,L148)","v":0},null,{"$f":"E148+G148+I148+K148+M148","v":0},{"$f":"MAX(D148,F148,H148,J148,L148)","v":0},{"$f":"IF(S148=1,O148,IF(S148=0,(O148-P148),\"-\"))","v":"-"},{"$f":"COUNTIF(U148:AD148,\"=TRUE\")","v":0},{"$f":"AE$1-R148","v":5},{"$f":"IF(S148<2,\"Yes\",\"No\")","v":"No"},{"$f":"IF(D148=\"-\",1,0)*U$1","v":1},{"$f":"AND(U148=0,U$1=1)","v":false},{"$f":"IF(F148=\"-\",1,0)*W$1","v":1},{"$f":"AND(W148=0,W$1=1)","v":false},{"$f":"IF(H148=\"-\",1,0)*Y$1","v":1},{"$f":"AND(Y148=0,Y$1=1)","v":false},{"$f":"IF(J148=\"-\",1,0)*AA$1","v":1},{"$f":"AND(AA148=0,AA$1=1)","v":false},{"$f":"IF(L148=\"-\",1,0)*AC$1","v":1},{"$f":"AND(AC148=0,AC$1=1)","v":false}]
[145,null,"-","-",{"$f":"IF(D149=\"-\",0,D149)","v":0},"-",{"$f":"IF(F149=\"-\",0,F149)","v":0},"-",{"$f":"IF(H149=\"-\",0,H149)","v":0},"-",{"$f":"IF(J149=\"-\",0,J149)","v":0},"-",{"$f":"IF(L149=\"-\",0,L149)","v":0},null,{"$f":"E149+G149+I149+K149+M149","v":0},{"$f":"MAX(D149,F149,H149,J149,L149)","v":0},{"$f":"IF(S149=1,O149,IF(S149=0,(O149-P149),\"-\"))","v":"-"},{"$f":"COUNTIF(U149:AD149,\"=TRUE\")","v":0},{"$f":"AE$1-R149","v":5},{"$f":"IF(S149<2,\"Yes\",\"No\")","v":"No"},{"$f":"IF(D149=\"-\",1,0)*U$1","v":1},{"$f":"AND(U149=0,U$1=1)","v":false},{"$f":"IF(F149=\"-\",1,0)*W$1","v":1},{"$f":"AND(W149=0,W$1=1)","v":false},{"$f":"IF(H149=\"-\",1,0)*Y$1","v":1},{"$f":"AND(Y149=0,Y$1=1)","v":false},{"$f":"IF(J149=\"-\",1,0)*AA$1","v":1},{"$f":"AND(AA149=0,AA$1=1)","v":false},{"$f":"IF(L149=\"-\",1,0)*AC$1","v":1},{"$f":"AND(AC149=0,AC$1=1)","v":false}]
[146,null,"-","-",{"$f":"IF(D150=\"-\",0,D150)","v":0},"-",{"$f":"IF(F150=\"-\",0,F150)","v":0},"-",{"$f":"IF(H150=\"-\",0,H150)","v":0},"-",{"$f":"IF(J150=\"-\",0,J150)","v":0},"-",{"$f":"IF(L150=\"-\",0,L150)","v":0},null,{"$f":"E150+G150+I150+K150+M150","v":0},{"$f":"MAX(D150,F150,H150,J150,L150)","v":0},{"$f":"IF(S150=1,O150,IF(S150=0,(O150-P150),\"-\"))","v":"-"},{"$f":"COUNTIF(U150:AD150,\"=TRUE\")","v":0},{"$f":"AE$1-R150","v":5},{"$f":"IF(S150<2,\"Yes\",\"No\")","v":"No"},{"$f":"IF(D150=\"-\",1,0)*U$1","v":1},{"$f":"AND(U150=0,U$1=1)","v":false},{"$f":"IF(F150=\"-\",1,0)*W$1","v":1},{"$f":"AND(W150=0,W$1=1)","v":false},{"$f":"IF(H150=\"-\",1,0)*Y$1","v":1},{"$f":"AND(Y150=0,Y$1=1)","v":false},{"$f":"IF(J150=\"-\",1,0)*AA$1","v":1},{"$f":"AND(AA150=0,AA$1=1)","v":false},{"$f":"IF(L150=\"-\",1,0)*AC$1","v":1},{"$f":"AND(AC150=0,AC$1=1)","v":false}]
[147]
[148]
[149]
[150]

{"sheet":"Year 7 Girls Teams","index":1,"n_rows":19,"n_cols":25,"rows_kept":19,"cut":false,"hidden":false,"merged":[[2,1,2,4],[2,5,2,8],[2,9,2,12],[2,13,2,16],[2,17,2,20]]}
[null,"Claimed Last Place",null,"Y","N","-"]
[]
["Total Finishers",{"$f":"'Year 7 Girls '!D2","v":59},null,null,null,{"$f":"'Year 7 Girls '!G2","v":50},null,null,null,{"$f":"'Year 7 Girls '!H2","v":50},null,null,null,{"$f":"'Year 7 Girls '!J2","v":39},null,null,null,{"$f":"'Year 7 Girls '!L2","v":47}]
["Team","Race 1 Position",null,"Race 1 Points Total","Claimed Last Place?","Race 2 Postion",null,"Race 2 Points Total","Claimed Last Place?","Race 3 Postion",null,"Race 3 Points Total","Claimed Last Place?","Race 4 Postion",null,"Race 4 Points Total","Claimed Last Place?","Race 5 Postion",null,"Race 5 Points Total","Claimed Last Place?","Number of claimed last places","Number of Races Without","Number of Races Completed","Total (All Races)"]
["Brookvale High School",1,{"$f":"IF(B5=\"-\",0,B5)","v":1},49,"N",1,{"$f":"IF(F5=\"-\",0,F5)","v":1},48,"N",1,{"$f":"IF(J5=\"-\",0,J5)","v":1},41,"N",2,{"$f":"IF(N5=\"-\",0,N5)","v":2},70,"Y",1,{"$f":"IF(R5=\"-\",0,R5)","v":1},38,"N",{"$f":"COUNTIF(B5:U5,\"Y\")","v":1},{"$f":"COUNTIF(B5:U5,\"n\")","v":4},{"$f":"V5+W5","v":5},{"$f":"C5+G5+K5+O5+S5","v":6}]
["Welland Park Academy",2,{"$f":"IF(B6=\"-\",0,B6)","v":2},66,"N",2,{"$f":"IF(F6=\"-\",0,F6)","v":2},60,"N",2,{"$f":"IF(J6=\"-\",0,J6)","v":2},83,"N",2,{"$f":"IF(N6=\"-\",0,N6)","v":2},70,"N",2,{"$f":"IF(R6=\"-\",0,R6)","v":2},70,"N",{"$f":"COUNTIF(B6:U6,\"Y\")","v":0},{"$f":"COUNTIF(B6:U6,\"n\")","v":5},{"$f":"V6+W6","v":5},{"$f":"C6+G6+K6+O6+S6","v":10}]
["Thomas Estley CC",3,3,100,"N","-",0,"-","-",3,3,99,"N",4,4,85,"N",3,3,97,"N",0,4,4,13]
["Woodbrook Vale School",4,4,105,"N",3,3,80,"N",4,4,107,"N",1,1,65,"N",4,4,107,"N",0,5,5,16]
["Lutterworth High School",5,{"$f":"IF(B9=\"-\",0,B9)","v":5},129,"Y","-",0,"-","-",7,7,137,"Y","-",0,"-","-","-",0,"-","-",2,0,2,12]
["John Ferneley College",6,6,135,"N","-",0,"-","-","-",0,"-","-","-",0,"-","-","-",0,"-","-",0,1,1,6]
["The Market Bosworth School",7,7,137,"Y","-",0,"-","-",6,6,125,"N",5,5,90,"Y",6,6,114,"Y",3,1,4,24]
["Kibworth High School",8,8,146,"Y",4,4,106,"N",8,8,144,"N",6,6,135,"Y",5,5,108,"N",2,3,5,31]
["The Martin High School",9,9,158,"Y","-",0,"-","-","-",0,"-","-","-",0,"-","-","-",0,"-","-",1,0,1,9]
["Loughborough High School",10,10,211,"Y","-",0,"-","-","-",0,"-","-","-",0,"-","-","-",0,"-","-",1,0,1,10]
["De Lisle College","-",0,"-","-",5,5,158,"Y","-",0,"-","-","-",0,"-","-","-",0,"-","-",1,0,1,5]
["Redmoor Acadmey","-",0,"-","-","-",0,"-","-",9,9,176,"Y",7,7,150,"Y",9,9,163,"N",2,1,3,25]
["Leicester Grammar School","-",0,"-","-","-",0,"-","-",5,5,109,"Y","-",0,"-","-","-",0,"-","-",1,0,1,5]
["Humphrey Perkins School","-",0,"-","-","-",0,"-","-","-",0,"-","-","-",0,"-","-",7,7,144,"Y",1,0,1,7]
["Uppingham CC","-",0,"-","-","-",{"$f":"IF(F19=\"-\",0,F19)","v":0},"-","-","-",{"$f":"IF(J19=\"-\",0,J19)","v":0},"-",null,"-",{"$f":"IF(N19=\"-\",0,N19)","v":0},"-","-",8,{"$f":"IF(R19=\"-\",0,R19)","v":8},157,"Y",1,0,1,8]

{"sheet":"Year 7 Boys","index":2,"n_rows":153,"n_cols":38,"rows_kept":153,"cut":false,"hidden":false,"merged":[]}
[null,"Total Number of Runners","Race Complete (Y/N) ",{"$f":"'Year 7 Girls '!D1","v":"Y"},null,{"$f":"'Year 7 Girls '!F1","v":"Y"},null,{"$f":"'Year 7 Girls '!H1","v":"Y"},null,{"$f":"'Year 7 Girls '!J1","v":"Y"},null,"Y",null,null,null,null,null,null,null,null,{"$f":"IF(D1=\"Y\",1,0)","v":1},null,{"$f":"IF(F1=\"Y\",1,0)","v":1},null,{"$f":"IF(H1=\"Y\",1,0)","v":1},null,{"$f":"IF(J1=\"Y\",1,0)","v":1},null,{"$f":"IF(L1=\"Y\",1,0)","v":1},null,{"$f":"SUM(U1:AC1)","v":5}]
[null,{"$f":"COUNTA(B5:B300)","v":104},"No of Finishers",{"$f":"MAX(D5:D150)","v":68},68,66,66,51,51,46,46,40]
[null,null,"Number of results recorded",{"$f":"COUNTIF(D5:D149,\">0\")","v":68},null,{"$f":"COUNTIF(G5:G149,\">0\")","v":66},null,51,null,45,null,40]
["Reset Column","Name","School","Race 1","Normalised result -1","Race 2","Normalised result -2","Race 3","Normalised result -3","Race 4","Normalised result -4","Race 5","Normalised result -5",null,"Total\n(All Races)","Lowest Place Finish","Final Total","Number of Races Completed","League contender?\n(No. of races - missed)","Elidgible For League Title","Competed in race 1\n0 = YES",null,"Competed in race 2\n0 = YES",null,"Competed in race 3\n0 = YES",null,"Competed in race 4\n0 = YES",null,"Competed in race 5\n0 = YES",null,null,null,null,null,null,null,null," "]
[74,"Lucca Watson-Quilter","Brookvale High School",1,{"$f":"IF(D5=\"-\",0,D5)","v":1},1,{"$f":"IF(F5=\"-\",0,F5)","v":1},1,{"$f":"IF(H5=\"-\",0,H5)","v":1},1,{"$f":"IF(J5=\"-\",0,J5)","v":1},1,{"$f":"IF(L5=\"-\",0,L5)","v":1},null,{"$f":"E5+G5+I5+K5+M5","v":5},{"$f":"MAX(D5,F5,H5,J5,L5)","v":1},{"$f":"IF(S5=1,O5,IF(S5=0,(O5-P5),\"-\"))","v":4},{"$f":"COUNTIF(U5:AD5,\"=TRUE\")","v":5},{"$f":"AE$1-R5","v":0},{"$f":"IF(S5<2,\"Yes\",\"No\")","v":"Yes"},{"$f":"IF(D5=\"-\",1,0)*U$1","v":0},{"$f":"AND(U5=0,U$1=1)","v":true},{"$f":"IF(F5=\"-\",1,0)*W$1","v":0},{"$f":"AND(W5=0,W$1=1)","v":true},{"$f":"IF(H5=\"-\",1,0)*Y$1","v":0},{"$f":"AND(Y5=0,Y$1=1)","v":true},{"$f":"IF(J5=\"-\",1,0)*AA$1","v":0},{"$f":"AND(AA5=0,AA$1=1)","v":true},{"$f":"IF(L5=\"-\",1,0)*AC$1","v":0},{"$f":"AND(AC5=0,AC$1=1)","v":true}]
[2,"Roman Watson-Quilter","Brookvale High School",2,{"$f":"IF(D6=\"-\",0,D6)","v":2},2,{"$f":"IF(F6=\"-\",0,F6)","v":2},2,{"$f":"IF(H6=\"-\",0,H6)","v":2},2,{"$f":"IF(J6=\"-\",0,J6)","v":2},2,{"$f":"IF(L6=\"-\",0,L6)","v":2},null,{"$f":"E6+G6+I6+K6+M6","v":10},{"$f":"MAX(D6,F6,H6,J6,L6)","v":2},{"$f":"IF(S6=1,O6,IF(S6=0,(O6-P6),\"-\"))","v":8},{"$f":"COUNTIF(U6:AD6,\"=TRUE\")","v":5},{"$f":"AE$1-R6","v":0},{"$f":"IF(S6<2,\"Yes\",\"No\")","v":"Yes"},{"$f":"IF(D6=\"-\",1,0)*U$1","v":0},{"$f":"AND(U6=0,U$1=1)","v":true},{"$f":"IF(F6=\"-\",1,0)*W$1","v":0},{"$f":"AND(W6=0,W$1=1)","v":true},{"$f":"IF(H6=\"-\",1,0)*Y$1","v":0},{"$f":"AND(Y6=0,Y$1=1)","v":true},{"$f":"IF(J6=\"-\",1,0)*AA$1","v":0},{"$f":"AND(AA6=0,AA$1=1)","v":true},{"$f":"IF(L6=\"-\",1,0)*AC$1","v":0},{"$f":"AND(AC6=0,AC$1=1)","v":true}]
[5,"George Lowe","Welland Park Academy",8,{"$f":"IF(D7=\"-\",0,D7)","v":8},7,{"$f":"IF(F7=\"-\",0,F7)","v":7},"-",{"$f":"IF(H7=\"-\",0,H7)","v":0},3,{"$f":"IF(J7=\"-\",0,J7)","v":3},3,{"$f":"IF(L7=\"-\",0,L7)","v":3},null,{"$f":"E7+G7+I7+K7+M7","v":21},{"$f":"MAX(D7,F7,H7,J7,L7)","v":8},{"$f":"IF(S7=1,O7,IF(S7=0,(O7-P7),\"-\"))","v":21},{"$f":"COUNTIF(U7:AD7,\"=TRUE\")","v":4},{"$f":"AE$1-R7","v":1},{"$f":"IF(S7<2,\"Yes\",\"No\")","v":"Yes"},{"$f":"IF(D7=\"-\",1,0)*U$1","v":0},{"$f":"AND(U7=0,U$1=1)","v":true},{"$f":"IF(F7=\"-\",1,0)*W$1","v":0},{"$f":"AND(W7=0,W$1=1)","v":true},{"$f":"IF(H7=\"-\",1,0)*Y$1","v":1},{"$f":"AND(Y7=0,Y$1=1)","v":false},{"$f":"IF(J7=\"-\",1,0)*AA$1","v":0},{"$f":"AND(AA7=0,AA$1=1)","v":true},{"$f":"IF(L7=\"-\",1,0)*AC$1","v":0},{"$f":"AND(AC7=0,AC$1=1)","v":true}]
[36,"Tyler Chapman","Welland Park Academy",6,{"$f":"IF(D8=\"-\",0,D8)","v":6},8,{"$f":"IF(F8=\"-\",0,F8)","v":8},5,{"$f":"IF(H8=\"-\",0,H8)","v":5},4,{"$f":"IF(J8=\"-\",0,J8)","v":4},4,{"$f":"IF(L8=\"-\",0,L8)","v":4},null,{"$f":"E8+G8+I8+K8+M8","v":27},{"$f":"MAX(D8,F8,H8,J8,L8)","v":8},{"$f":"IF(S8=1,O8,IF(S8=0,(O8-P8),\"-\"))","v":19},{"$f":"COUNTIF(U8:AD8,\"=TRUE\")","v":5},{"$f":"AE$1-R8","v":0},{"$f":"IF(S8<2,\"Yes\",\"No\")","v":"Yes"},{"$f":"IF(D8=\"-\",1,0)*U$1","v":0},{"$f":"AND(U8=0,U$1=1)","v":true},{"$f":"IF(F8=\"-\",1,0)*W$1","v":0},{"$f":"AND(W8=0,W$1=1)","v":true},{"$f":"IF(H8=\"-\",1,0)*Y$1","v":0},{"$f":"AND(Y8=0,Y$1=1)","v":true},{"$f":"IF(J8=\"-\",1,0)*AA$1","v":0},{"$f":"AND(AA8=0,AA$1=1)","v":true},{"$f":"IF(L8=\"-\",1,0)*AC$1","v":0},{"$f":"AND(AC8=0,AC$1=1)","v":true}]
[23,"Oliver Lewin","Uppingham CC","-",{"$f":"IF(D9=\"-\",0,D9)","v":0},"-",{"$f":"IF(F9=\"-\",0,F9)","v":0},6,{"$f":"IF(H9=\"-\",0,H9)","v":6},10,{"$f":"IF(J9=\"-\",0,J9)","v":10},5,{"$f":"IF(L9=\"-\",0,L9)","v":5},null,{"$f":"E9+G9+I9+K9+M9","v":21},{"$f":"MAX(D9,F9,H9,J9,L9)","v":10},{"$f":"IF(S9=1,O9,IF(S9=0,(O9-P9),\"-\"))","v":"-"},{"$f":"COUNTIF(U9:AD9,\"=TRUE\")","v":3},{"$f":"AE$1-R9","v":2},{"$f":"IF(S9<2,\"Yes\",\"No\")","v":"No"},{"$f":"IF(D9=\"-\",1,0)*U$1","v":1},{"$f":"AND(U9=0,U$1=1)","v":false},{"$f":"IF(F9=\"-\",1,0)*W$1","v":1},{"$f":"AND(W9=0,W$1=1)","v":false},{"$f":"IF(H9=\"-\",1,0)*Y$1","v":0},{"$f":"AND(Y9=0,Y$1=1)","v":true},{"$f":"IF(J9=\"-\",1,0)*AA$1","v":0},{"$f":"AND(AA9=0,AA$1=1)","v":true},{"$f":"IF(L9=\"-\",1,0)*AC$1","v":0},{"$f":"AND(AC9=0,AC$1=1)","v":true}]
[43,"Harvey Finch","Welland Park Academy",12,{"$f":"IF(D10=\"-\",0,D10)","v":12},12,{"$f":"IF(F10=\"-\",0,F10)","v":12},8,{"$f":"IF(H10=\"-\",0,H10)","v":8},7,{"$f":"IF(J10=\"-\",0,J10)","v":7},6,{"$f":"IF(L10=\"-\",0,L10)","v":6},null,{"$f":"E10+G10+I10+K10+M10","v":45},{"$f":"MAX(D10,F10,H10,J10,L10)","v":12},{"$f":"IF(S10=1,O10,IF(S10=0,(O10-P10),\"-\"))","v":33},{"$f":"COUNTIF(U10:AD10,\"=TRUE\")","v":5},{"$f":"AE$1-R10","v":0},{"$f":"IF(S10<2,\"Yes\",\"No\")","v":"Yes"},{"$f":"IF(D10=\"-\",1,0)*U$1","v":0},{"$f":"AND(U10=0,U$1=1)","v":true},{"$f":"IF(F10=\"-\",1,0)*W$1","v":0},{"$f":"AND(W10=0,W$1=1)","v":true},{"$f":"IF(H10=\"-\",1,0)*Y$1","v":0},{"$f":"AND(Y10=0,Y$1=1)","v":true},{"$f":"IF(J10=\"-\",1,0)*AA$1","v":0},{"$f":"AND(AA10=0,AA$1=1)","v":true},{"$f":"IF(L10=\"-\",1,0)*AC$1","v":0},{"$f":"AND(AC10=0,AC$1=1)","v":true}]
[19,"Charlie Combey","Brockington College",5,{"$f":"IF(D11=\"-\",0,D11)","v":5},13,{"$f":"IF(F11=\"-\",0,F11)","v":13},12,{"$f":"IF(H11=\"-\",0,H11)","v":12},8,{"$f":"IF(J11=\"-\",0,J11)","v":8},7,{"$f":"IF(L11=\"-\",0,L11)","v":7},null,{"$f":"E11+G11+I11+K11+M11","v":45},{"$f":"MAX(D11,F11,H11,J11,L11)","v":13},{"$f":"IF(S11=1,O11,IF(S11=0,(O11-P11),\"-\"))","v":32},{"$f":"COUNTIF(U11:AD11,\"=TRUE\")","v":5},{"$f":"AE$1-R11","v":0},{"$f":"IF(S11<2,\"Yes\",\"No\")","v":"Yes"},{"$f":"IF(D11=\"-\",1,0)*U$1","v":0},{"$f":"AND(U11=0,U$1=1)","v":true},{"$f":"IF(F11=\"-\",1,0)*W$1","v":0},{"$f":"AND(W11=0,W$1=1)","v":true},{"$f":"IF(H11=\"-\",1,0)*Y$1","v":0},{"$f":"AND(Y11=0,Y$1=1)","v":true},{"$f":"IF(J11=\"-\",1,0)*AA$1","v":0},{"$f":"AND(AA11=0,AA$1=1)","v":true},{"$f":"IF(L11=\"-\",1,0)*AC$1","v":0},{"$f":"AND(AC11=0,AC$1=1)","v":true}]
[42,"Seamus Hurst","De Lisle College",11,{"$f":"IF(D12=\"-\",0,D12)","v":11},15,{"$f":"IF(F12=\"-\",0,F12)","v":15},4,{"$f":"IF(H12=\"-\",0,H12)","v":4},5,{"$f":"IF(J12=\"-\",0,J12)","v":5},8,{"$f":"IF(L12=\"-\",0,L12)","v":8},null,{"$f":"E12+G12+I12+K12+M12","v":43},{"$f":"MAX(D12,F12,H12,J12,L12)","v":15},{"$f":"IF(S12=1,O12,IF(S12=0,(O12-P12),\"-\"))","v":28},{"$f":"COUNTIF(U12:AD12,\"=TRUE\")","v":5},{"$f":"AE$1-R12","v":0},{"$f":"IF(S12<2,\"Yes\",\"No\")","v":"Yes"},{"$f":"IF(D12=\"-\",1,0)*U$1","v":0},{"$f":"AND(U12=0,U$1=1)","v":true},{"$f":"IF(F12=\"-\",1,0)*W$1","v":0},{"$f":"AND(W12=0,W$1=1)","v":true},{"$f":"IF(H12=\"-\",1,0)*Y$1","v":0},{"$f":"AND(Y12=0,Y$1=1)","v":true},{"$f":"IF(J12=\"-\",1,0)*AA$1","v":0},{"$f":"AND(AA12=0,AA$1=1)","v":true},{"$f":"IF(L12=\"-\",1,0)*AC$1","v":0},{"$f":"AND(AC12=0,AC$1=1)","v":true}]
[84,"Odhran Palmer-Holmes","Bosworth Academy",20,{"$f":"IF(D13=\"-\",0,D13)","v":20},10,{"$f":"IF(F13=\"-\",0,F13)","v":10},9,{"$f":"IF(H13=\"-\",0,H13)","v":9},20,{"$f":"IF(J13=\"-\",0,J13)","v":20},9,{"$f":"IF(L13=\"-\",0,L13)","v":9},null,{"$f":"E13+G13+I13+K13+M13","v":68},{"$f":"MAX(D13,F13,H13,J13,L13)","v":20},{"$f":"IF(S13=1,O13,IF(S13=0,(O13-P13),\"-\"))","v":48},{"$f":"COUNTIF(U13:AD13,\"=TRUE\")","v":5},{"$f":"AE$1-R13","v":0},{"$f":"IF(S13<2,\"Yes\",\"No\")","v":"Yes"},{"$f":"IF(D13=\"-\",1,0)*U$1","v":0},{"$f":"AND(U13=0,U$1=1)","v":true},{"$f":"IF(F13=\"-\",1,0)*W$1","v":0},{"$f":"AND(W13=0,W$1=1)","v":true},{"$f":"IF(H13=\"-\",1,0)*Y$1","v":0},{"$f":"AND(Y13=0,Y$1=1)","v":true},{"$f":"IF(J13=\"-\",1,0)*AA$1","v":0},{"$f":"AND(AA13=0,AA$1=1)","v":true},{"$f":"IF(L13=\"-\",1,0)*AC$1","v":0},{"$f":"AND(AC13=0,AC$1=1)","v":true}]
[22,"Elliott Butler","Thomas Estley CC",4,{"$f":"IF(D14=\"-\",0,D14)","v":4},4,{"$f":"IF(F14=\"-\",0,F14)","v":4},7,{"$f":"IF(H14=\"-\",0,H14)","v":7},9,{"$f":"IF(J14=\"-\",0,J14)","v":9},10,{"$f":"IF(L14=\"-\",0,L14)","v":10},null,{"$f":"E14+G14+I14+K14+M14","v":34},{"$f":"MAX(D14,F14,H14,J14,L14)","v":10},{"$f":"IF(S14=1,O14,IF(S14=0,(O14-P14),\"-\"))","v":24},{"$f":"COUNTIF(U14:AD14,\"=TRUE\")","v":5},{"$f":"AE$1-R14","v":0},{"$f":"IF(S14<2,\"Yes\",\"No\")","v":"Yes"},{"$f":"IF(D14=\"-\",1,0)*U$1","v":0},{"$f":"AND(U14=0,U$1=1)","v":true},{"$f":"IF(F14=\"-\",1,0)*W$1","v":0},{"$f":"AND(W14=0,W$1=1)","v":true},{"$f":"IF(H14=\"-\",1,0)*Y$1","v":0},{"$f":"AND(Y14=0,Y$1=1)","v":true},{"$f":"IF(J14=\"-\",1,0)*AA$1","v":0},{"$f":"AND(AA14=0,AA$1=1)","v":true},{"$f":"IF(L14=\"-\",1,0)*AC$1","v":0},{"$f":"AND(AC14=0,AC$1=1)","v":true}]
[46,"Owen Blair","John Ferneley College","-",{"$f":"IF(D15=\"-\",0,D15)","v":0},3,{"$f":"IF(F15=\"-\",0,F15)","v":3},"-",{"$f":"IF(H15=\"-\",0,H15)","v":0},6,{"$f":"IF(J15=\"-\",0,J15)","v":6},11,{"$f":"IF(L15=\"-\",0,L15)","v":11},null,{"$f":"E15+G15+I15+K15+M15","v":20},{"$f":"MAX(D15,F15,H15,J15,L15)","v":11},{"$f":"IF(S15=1,O15,IF(S15=0,(O15-P15),\"-\"))","v":"-"},{"$f":"COUNTIF(U15:AD15,\"=TRUE\")","v":3},{"$f":"AE$1-R15","v":2},{"$f":"IF(S15<2,\"Yes\",\"No\")","v":"No"},{"$f":"IF(D15=\"-\",1,0)*U$1","v":1},{"$f":"AND(U15=0,U$1=1)","v":false},{"$f":"IF(F15=\"-\",1,0)*W$1","v":0},{"$f":"AND(W15=0,W$1=1)","v":true},{"$f":"IF(H15=\"-\",1,0)*Y$1","v":1},{"$f":"AND(Y15=0,Y$1=1)","v":false},{"$f":"IF(J15=\"-\",1,0)*AA$1","v":0},{"$f":"AND(AA15=0,AA$1=1)","v":true},{"$f":"IF(L15=\"-\",1,0)*AC$1","v":0},{"$f":"AND(AC15=0,AC$1=1)","v":true}]
[24,"Fabien Faria","Hastings High School",17,{"$f":"IF(D16=\"-\",0,D16)","v":17},11,{"$f":"IF(F16=\"-\",0,F16)","v":11},14,{"$f":"IF(H16=\"-\",0,H16)","v":14},14,{"$f":"IF(J16=\"-\",0,J16)","v":14},12,{"$f":"IF(L16=\"-\",0,L16)","v":12},null,{"$f":"E16+G16+I16+K16+M16","v":68},{"$f":"MAX(D16,F16,H16,J16,L16)","v":17},{"$f":"IF(S16=1,O16,IF(S16=0,(O16-P16),\"-\"))","v":51},{"$f":"COUNTIF(U16:AD16,\"=TRUE\")","v":5},{"$f":"AE$1-R16","v":0},{"$f":"IF(S16<2,\"Yes\",\"No\")","v":"Yes"},{"$f":"IF(D16=\"-\",1,0)*U$1","v":0},{"$f":"AND(U16=0,U$1=1)","v":true},{"$f":"IF(F16=\"-\",1,0)*W$1","v":0},{"$f":"AND(W16=0,W$1=1)","v":true},{"$f":"IF(H16=\"-\",1,0)*Y$1","v":0},{"$f":"AND(Y16=0,Y$1=1)","v":true},{"$f":"IF(J16=\"-\",1,0)*AA$1","v":0},{"$f":"AND(AA16=0,AA$1=1)","v":true},{"$f":"IF(L16=\"-\",1,0)*AC$1","v":0},{"$f":"AND(AC16=0,AC$1=1)","v":true}]
[68,"Matthew Hollingsworth","Brookvale High School",10,{"$f":"IF(D17=\"-\",0,D17)","v":10},30,{"$f":"IF(F17=\"-\",0,F17)","v":30},11,{"$f":"IF(H17=\"-\",0,H17)","v":11},16,{"$f":"IF(J17=\"-\",0,J17)","v":16},13,{"$f":"IF(L17=\"-\",0,L17)","v":13},null,{"$f":"E17+G17+I17+K17+M17","v":80},{"$f":"MAX(D17,F17,H17,J17,L17)","v":30},{"$f":"IF(S17=1,O17,IF(S17=0,(O17-P17),\"-\"))","v":50},{"$f":"COUNTIF(U17:AD17,\"=TRUE\")","v":5},{"$f":"AE$1-R17","v":0},{"$f":"IF(S17<2,\"Yes\",\"No\")","v":"Yes"},{"$f":"IF(D17=\"-\",1,0)*U$1","v":0},{"$f":"AND(U17=0,U$1=1)","v":true},{"$f":"IF(F17=\"-\",1,0)*W$1","v":0},{"$f":"AND(W17=0,W$1=1)","v":true},{"$f":"IF(H17=\"-\",1,0)*Y$1","v":0},{"$f":"AND(Y17=0,Y$1=1)","v":true},{"$f":"IF(J17=\"-\",1,0)*AA$1","v":0},{"$f":"AND(AA17=0,AA$1=1)","v":true},{"$f":"IF(L17=\"-\",1,0)*AC$1","v":0},{"$f":"AND(AC17=0,AC$1=1)","v":true}]
[62,"Hisham Alkhamesi","Hastings High School",27,{"$f":"IF(D18=\"-\",0,D18)","v":27},27,{"$f":"IF(F18=\"-\",0,F18)","v":27},22,{"$f":"IF(H18=\"-\",0,H18)","v":22},22,{"$f":"IF(J18=\"-\",0,J18)","v":22},14,{"$f":"IF(L18=\"-\",0,L18)","v":14},null,{"$f":"E18+G18+I18+K18+M18","v":112},{"$f":"MAX(D18,F18,H18,J18,L18)","v":27},{"$f":"IF(S18=1,O18,IF(S18=0,(O18-P18),\"-\"))","v":85},{"$f":"COUNTIF(U18:AD18,\"=TRUE\")","v":5},{"$f":"AE$1-R18","v":0},{"$f":"IF(S18<2,\"Yes\",\"No\")","v":"Yes"},{"$f":"IF(D18=\"-\",1,0)*U$1","v":0},{"$f":"AND(U18=0,U$1=1)","v":true},{"$f":"IF(F18=\"-\",1,0)*W$1","v":0},{"$f":"AND(W18=0,W$1=1)","v":true},{"$f":"IF(H18=\"-\",1,0)*Y$1","v":0},{"$f":"AND(Y18=0,Y$1=1)","v":true},{"$f":"IF(J18=\"-\",1,0)*AA$1","v":0},{"$f":"AND(AA18=0,AA$1=1)","v":true},{"$f":"IF(L18=\"-\",1,0)*AC$1","v":0},{"$f":"AND(AC18=0,AC$1=1)","v":true}]
[105,"Jake Lawson","Uppingham CC","-",{"$f":"IF(D19=\"-\",0,D19)","v":0},"-",{"$f":"IF(F19=\"-\",0,F19)","v":0},"-",{"$f":"IF(H19=\"-\",0,H19)","v":0},"-",{"$f":"IF(J19=\"-\",0,J19)","v":0},15,{"$f":"IF(L19=\"-\",0,L19)","v":15},null,{"$f":"E19+G19+I19+K19+M19","v":15},{"$f":"MAX(D19,F19,H19,J19,L19)","v":15},{"$f":"IF(S19=1,O19,IF(S19=0,(O19-P19),\"-\"))","v":"-"},{"$f":"COUNTIF(U19:AD19,\"=TRUE\")","v":1},{"$f":"AE$1-R19","v":4},{"$f":"IF(S19<2,\"Yes\",\"No\")","v":"No"},{"$f":"IF(D19=\"-\",1,0)*U$1","v":1},{"$f":"AND(U19=0,U$1=1)","v":false},{"$f":"IF(F19=\"-\",1,0)*W$1","v":1},{"$f":"AND(W19=0,W$1=1)","v":false},{"$f":"IF(H19=\"-\",1,0)*Y$1","v":1},{"$f":"AND(Y19=0,Y$1=1)","v":false},{"$f":"IF(J19=\"-\",1,0)*AA$1","v":1},{"$f":"AND(AA19=0,AA$1=1)","v":false},{"$f":"IF(L19=\"-\",1,0)*AC$1","v":0},{"$f":"AND(AC19=0,AC$1=1)","v":true}]
[69,"Ethan Hill","Thomas Estley CC",26,{"$f":"IF(D20=\"-\",0,D20)","v":26},22,{"$f":"IF(F20=\"-\",0,F20)","v":22},21,{"$f":"IF(H20=\"-\",0,H20)","v":21},17,{"$f":"IF(J20=\"-\",0,J20)","v":17},16,{"$f":"IF(L20=\"-\",0,L20)","v":16},null,{"$f":"E20+G20+I20+K20+M20","v":102},{"$f":"MAX(D20,F20,H20,J20,L20)","v":26},{"$f":"IF(S20=1,O20,IF(S20=0,(O20-P20),\"-\"))","v":76},{"$f":"COUNTIF(U20:AD20,\"=TRUE\")","v":5},{"$f":"AE$1-R20","v":0},{"$f":"IF(S20<2,\"Yes\",\"No\")","v":"Yes"},{"$f":"IF(D20=\"-\",1,0)*U$1","v":0},{"$f":"AND(U20=0,U$1=1)","v":true},{"$f":"IF(F20=\"-\",1,0)*W$1","v":0},{"$f":"AND(W20=0,W$1=1)","v":true},{"$f":"IF(H20=\"-\",1,0)*Y$1","v":0},{"$f":"AND(Y20=0,Y$1=1)","v":true},{"$f":"IF(J20=\"-\",1,0)*AA$1","v":0},{"$f":"AND(AA20=0,AA$1=1)","v":true},{"$f":"IF(L20=\"-\",1,0)*AC$1","v":0},{"$f":"AND(AC20=0,AC$1=1)","v":true}]
[78,"Elliott Hodson","Brookvale High School",29,{"$f":"IF(D21=\"-\",0,D21)","v":29},"-",{"$f":"IF(F21=\"-\",0,F21)","v":0},13,{"$f":"IF(H21=\"-\",0,H21)","v":13},23,{"$f":"IF(J21=\"-\",0,J21)","v":23},17,{"$f":"IF(L21=\"-\",0,L21)","v":17},null,{"$f":"E21+G21+I21+K21+M21","v":82},{"$f":"MAX(D21,F21,H21,J21,L21)","v":29},{"$f":"IF(S21=1,O21,IF(S21=0,(O21-P21),\"-\"))","v":82},{"$f":"COUNTIF(U21:AD21,\"=TRUE\")","v":4},{"$f":"AE$1-R21","v":1},{"$f":"IF(S21<2,\"Yes\",\"No\")","v":"Yes"},{"$f":"IF(D21=\"-\",1,0)*U$1","v":0},{"$f":"AND(U21=0,U$1=1)","v":true},{"$f":"IF(F21=\"-\",1,0)*W$1","v":1},{"$f":"AND(W21=0,W$1=1)","v":false},{"$f":"IF(H21=\"-\",1,0)*Y$1","v":0},{"$f":"AND(Y21=0,Y$1=1)","v":true},{"$f":"IF(J21=\"-\",1,0)*AA$1","v":0},{"$f":"AND(AA21=0,AA$1=1)","v":true},{"$f":"IF(L21=\"-\",1,0)*AC$1","v":0},{"$f":"AND(AC21=0,AC$1=1)","v":true}]
[4,"Connor Paul","Redmoor Academy",25,{"$f":"IF(D22=\"-\",0,D22)","v":25},19,{"$f":"IF(F22=\"-\",0,F22)","v":19},26,{"$f":"IF(H22=\"-\",0,H22)","v":26},26,{"$f":"IF(J22=\"-\",0,J22)","v":26},18,{"$f":"IF(L22=\"-\",0,L22)","v":18},null,{"$f":"E22+G22+I22+K22+M22","v":114},{"$f":"MAX(D22,F22,H22,J22,L22)","v":26},{"$f":"IF(S22=1,O22,IF(S22=0,(O22-P22),\"-\"))","v":88},{"$f":"COUNTIF(U22:AD22,\"=TRUE\")","v":5},{"$f":"AE$1-R22","v":0},{"$f":"IF(S22<2,\"Yes\",\"No\")","v":"Yes"},{"$f":"IF(D22=\"-\",1,0)*U$1","v":0},{"$f":"AND(U22=0,U$1=1)","v":true},{"$f":"IF(F22=\"-\",1,0)*W$1","v":0},{"$f":"AND(W22=0,W$1=1)","v":true},{"$f":"IF(H22=\"-\",1,0)*Y$1","v":0},{"$f":"AND(Y22=0,Y$1=1)","v":true},{"$f":"IF(J22=\"-\",1,0)*AA$1","v":0},{"$f":"AND(AA22=0,AA$1=1)","v":true},{"$f":"IF(L22=\"-\",1,0)*AC$1","v":0},{"$f":"AND(AC22=0,AC$1=1)","v":true}]
[85,"Sandy Jarvis","Loughborough Grammar School",18,{"$f":"IF(D23=\"-\",0,D23)","v":18},"-",{"$f":"IF(F23=\"-\",0,F23)","v":0},15,{"$f":"IF(H23=\"-\",0,H23)","v":15},27,{"$f":"IF(J23=\"-\",0,J23)","v":27},19,{"$f":"IF(L23=\"-\",0,L23)","v":19},null,{"$f":"E23+G23+I23+K23+M23","v":79},{"$f":"MAX(D23,F23,H23,J23,L23)","v":27},{"$f":"IF(S23=1,O23,IF(S23=0,(O23-P23),\"-\"))","v":79},{"$f":"COUNTIF(U23:AD23,\"=TRUE\")","v":4},{"$f":"AE$1-R23","v":1},{"$f":"IF(S23<2,\"Yes\",\"No\")","v":"Yes"},{"$f":"IF(D23=\"-\",1,0)*U$1","v":0},{"$f":"AND(U23=0,U$1=1)","v":true},{"$f":"IF(F23=\"-\",1,0)*W$1","v":1},{"$f":"AND(W23=0,W$1=1)","v":false},{"$f":"IF(H23=\"-\",1,0)*Y$1","v":0},{"$f":"AND(Y23=0,Y$1=1)","v":true},{"$f":"IF(J23=\"-\",1,0)*AA$1","v":0},{"$f":"AND(AA23=0,AA$1=1)","v":true},{"$f":"IF(L23=\"-\",1,0)*AC$1","v":0},{"$f":"AND(AC23=0,AC$1=1)","v":true}]
[64,"Lewis Neale","Thomas Estley CC","-",{"$f":"IF(D24=\"-\",0,D24)","v":0},"-",{"$f":"IF(F24=\"-\",0,F24)","v":0},18,{"$f":"IF(H24=\"-\",0,H24)","v":18},"-",{"$f":"IF(J24=\"-\",0,J24)","v":0},20,{"$f":"IF(L24=\"-\",0,L24)","v":20},null,{"$f":"E24+G24+I24+K24+M24","v":38},{"$f":"MAX(D24,F24,H24,J24,L24)","v":20},{"$f":"IF(S24=1,O24,IF(S24=0,(O24-P24),\"-\"))","v":"-"},{"$f":"COUNTIF(U24:AD24,\"=TRUE\")","v":2},{"$f":"AE$1-R24","v":3},{"$f":"IF(S24<2,\"Yes\",\"No\")","v":"No"},{"$f":"IF(D24=\"-\",1,0)*U$1","v":1},{"$f":"AND(U24=0,U$1=1)","v":false},{"$f":"IF(F24=\"-\",1,0)*W$1","v":1},{"$f":"AND(W24=0,W$1=1)","v":false},{"$f":"IF(H24=\"-\",1,0)*Y$1","v":0},{"$f":"AND(Y24=0,Y$1=1)","v":true},{"$f":"IF(J24=\"-\",1,0)*AA$1","v":1},{"$f":"AND(AA24=0,AA$1=1)","v":false},{"$f":"IF(L24=\"-\",1,0)*AC$1","v":0},{"$f":"AND(AC24=0,AC$1=1)","v":true}]
[94,"Jo Waters","Loughborough Grammar School",22,{"$f":"IF(D25=\"-\",0,D25)","v":22},20,{"$f":"IF(F25=\"-\",0,F25)","v":20},"-",{"$f":"IF(H25=\"-\",0,H25)","v":0},"-",{"$f":"IF(J25=\"-\",0,J25)","v":0},21,{"$f":"IF(L25=\"-\",0,L25)","v":21},null,{"$f":"E25+G25+I25+K25+M25","v":63},{"$f":"MAX(D25,F25,H25,J25,L25)","v":22},{"$f":"IF(S25=1,O25,IF(S25=0,(O25-P25),\"-\"))","v":"-"},{"$f":"COUNTIF(U25:AD25,\"=TRUE\")","v":3},{"$f":"AE$1-R25","v":2},{"$f":"IF(S25<2,\"Yes\",\"No\")","v":"No"},{"$f":"IF(D25=\"-\",1,0)*U$1","v":0},{"$f":"AND(U25=0,U$1=1)","v":true},{"$f":"IF(F25=\"-\",1,0)*W$1","v":0},{"$f":"AND(W25=0,W$1=1)","v":true},{"$f":"IF(H25=\"-\",1,0)*Y$1","v":1},{"$f":"AND(Y25=0,Y$1=1)","v":false},{"$f":"IF(J25=\"-\",1,0)*AA$1","v":1},{"$f":"AND(AA25=0,AA$1=1)","v":false},{"$f":"IF(L25=\"-\",1,0)*AC$1","v":0},{"$f":"AND(AC25=0,AC$1=1)","v":true}]
[96,"Ben Hyde","Uppingham CC","-",{"$f":"IF(D26=\"-\",0,D26)","v":0},"-",{"$f":"IF(F26=\"-\",0,F26)","v":0},20,{"$f":"IF(H26=\"-\",0,H26)","v":20},24,{"$f":"IF(J26=\"-\",0,J26)","v":24},22,{"$f":"IF(L26=\"-\",0,L26)","v":22},null,{"$f":"E26+G26+I26+K26+M26","v":66},{"$f":"MAX(D26,F26,H26,J26,L26)","v":24},{"$f":"IF(S26=1,O26,IF(S26=0,(O26-P26),\"-\"))","v":"-"},{"$f":"COUNTIF(U26:AD26,\"=TRUE\")","v":3},{"$f":"AE$1-R26","v":2},{"$f":"IF(S26<2,\"Yes\",\"No\")","v":"No"},{"$f":"IF(D26=\"-\",1,0)*U$1","v":1},{"$f":"AND(U26=0,U$1=1)","v":false},{"$f":"IF(F26=\"-\",1,0)*W$1","v":1},{"$f":"AND(W26=0,W$1=1)","v":false},{"$f":"IF(H26=\"-\",1,0)*Y$1","v":0},{"$f":"AND(Y26=0,Y$1=1)","v":true},{"$f":"IF(J26=\"-\",1,0)*AA$1","v":0},{"$f":"AND(AA26=0,AA$1=1)","v":true},{"$f":"IF(L26=\"-\",1,0)*AC$1","v":0},{"$f":"AND(AC26=0,AC$1=1)","v":true}]
[17,"Josh Smith","Brookvale High School",42,{"$f":"IF(D27=\"-\",0,D27)","v":42},24,{"$f":"IF(F27=\"-\",0,F27)","v":24},16,{"$f":"IF(H27=\"-\",0,H27)","v":16},13,{"$f":"IF(J27=\"-\",0,J27)","v":13},23,{"$f":"IF(L27=\"-\",0,L27)","v":23},null,{"$f":"E27+G27+I27+K27+M27","v":118},{"$f":"MAX(D27,F27,H27,J27,L27)","v":42},{"$f":"IF(S27=1,O27,IF(S27=0,(O27-P27),\"-\"))","v":76},{"$f":"COUNTIF(U27:AD27,\"=TRUE\")","v":5},{"$f":"AE$1-R27","v":0},{"$f":"IF(S27<2,\"Yes\",\"No\")","v":"Yes"},{"$f":"IF(D27=\"-\",1,0)*U$1","v":0},{"$f":"AND(U27=0,U$1=1)","v":true},{"$f":"IF(F27=\"-\",1,0)*W$1","v":0},{"$f":"AND(W27=0,W$1=1)","v":true},{"$f":"IF(H27=\"-\",1,0)*Y$1","v":0},{"$f":"AND(Y27=0,Y$1=1)","v":true},{"$f":"IF(J27=\"-\",1,0)*AA$1","v":0},{"$f":"AND(AA27=0,AA$1=1)","v":true},{"$f":"IF(L27=\"-\",1,0)*AC$1","v":0},{"$f":"AND(AC27=0,AC$1=1)","v":true}]
[102,"Alex Villamanti","Welland Park Academy","-",{"$f":"IF(D28=\"-\",0,D28)","v":0},"-",{"$f":"IF(F28=\"-\",0,F28)","v":0},"-",{"$f":"IF(H28=\"-\",0,H28)","v":0},25,{"$f":"IF(J28=\"-\",0,J28)","v":25},24,{"$f":"IF(L28=\"-\",0,L28)","v":24},null,{"$f":"E28+G28+I28+K28+M28","v":49},{"$f":"MAX(D28,F28,H28,J28,L28)","v":25},{"$f":"IF(S28=1,O28,IF(S28=0,(O28-P28),\"-\"))","v":"-"},{"$f":"COUNTIF(U28:AD28,\"=TRUE\")","v":2},{"$f":"AE$1-R28","v":3},{"$f":"IF(S28<2,\"Yes\",\"No\")","v":"No"},{"$f":"IF(D28=\"-\",1,0)*U$1","v":1},{"$f":"AND(U28=0,U$1=1)","v":false},{"$f":"IF(F28=\"-\",1,0)*W$1","v":1},{"$f":"AND(W28=0,W$1=1)","v":false},{"$f":"IF(H28=\"-\",1,0)*Y$1","v":1},{"$f":"AND(Y28=0,Y$1=1)","v":false},{"$f":"IF(J28=\"-\",1,0)*AA$1","v":0},{"$f":"AND(AA28=0,AA$1=1)","v":true},{"$f":"IF(L28=\"-\",1,0)*AC$1","v":0},{"$f":"AND(AC28=0,AC$1=1)","v":true}]
[81,"Jack Roe","Ivanhoe College",16,{"$f":"IF(D29=\"-\",0,D29)","v":16},"-",{"$f":"IF(F29=\"-\",0,F29)","v":0},24,{"$f":"IF(H29=\"-\",0,H29)","v":24},31,{"$f":"IF(J29=\"-\",0,J29)","v":31},25,{"$f":"IF(L29=\"-\",0,L29)","v":25},null,{"$f":"E29+G29+I29+K29+M29","v":96},{"$f":"MAX(D29,F29,H29,J29,L29)","v":31},{"$f":"IF(S29=1,O29,IF(S29=0,(O29-P29),\"-\"))","v":96},{"$f":"COUNTIF(U29:AD29,\"=TRUE\")","v":4},{"$f":"AE$1-R29","v":1},{"$f":"IF(S29<2,\"Yes\",\"No\")","v":"Yes"},{"$f":"IF(D29=\"-\",1,0)*U$1","v":0},{"$f":"AND(U29=0,U$1=1)","v":true},{"$f":"IF(F29=\"-\",1,0)*W$1","v":1},{"$f":"AND(W29=0,W$1=1)","v":false},{"$f":"IF(H29=\"-\",1,0)*Y$1","v":0},{"$f":"AND(Y29=0,Y$1=1)","v":true},{"$f":"IF(J29=\"-\",1,0)*AA$1","v":0},{"$f":"AND(AA29=0,AA$1=1)","v":true},{"$f":"IF(L29=\"-\",1,0)*AC$1","v":0},{"$f":"AND(AC29=0,AC$1=1)","v":true}]
[90,"Gabriel Hurst","De Lisle College",48,{"$f":"IF(D30=\"-\",0,D30)","v":48},40,{"$f":"IF(F30=\"-\",0,F30)","v":40},34,{"$f":"IF(H30=\"-\",0,H30)","v":34},28,{"$f":"IF(J30=\"-\",0,J30)","v":28},26,{"$f":"IF(L30=\"-\",0,L30)","v":26},null,{"$f":"E30+G30+I30+K30+M30","v":176},{"$f":"MAX(D30,F30,H30,J30,L30)","v":48},{"$f":"IF(S30=1,O30,IF(S30=0,(O30-P30),\"-\"))","v":128},{"$f":"COUNTIF(U30:AD30,\"=TRUE\")","v":5},{"$f":"AE$1-R30","v":0},{"$f":"IF(S30<2,\"Yes\",\"No\")","v":"Yes"},{"$f":"IF(D30=\"-\",1,0)*U$1","v":0},{"$f":"AND(U30=0,U$1=1)","v":true},{"$f":"IF(F30=\"-\",1,0)*W$1","v":0},{"$f":"AND(W30=0,W$1=1)","v":true},{"$f":"IF(H30=\"-\",1,0)*Y$1","v":0},{"$f":"AND(Y30=0,Y$1=1)","v":true},{"$f":"IF(J30=\"-\",1,0)*AA$1","v":0},{"$f":"AND(AA30=0,AA$1=1)","v":true},{"$f":"IF(L30=\"-\",1,0)*AC$1","v":0},{"$f":"AND(AC30=0,AC$1=1)","v":true}]
[16,"Matthew Hull","Loughborough Grammar School",21,{"$f":"IF(D31=\"-\",0,D31)","v":21},33,{"$f":"IF(F31=\"-\",0,F31)","v":33},"-",{"$f":"IF(H31=\"-\",0,H31)","v":0},"-",{"$f":"IF(J31=\"-\",0,J31)","v":0},27,{"$f":"IF(L31=\"-\",0,L31)","v":27},null,{"$f":"E31+G31+I31+K31+M31","v":81},{"$f":"MAX(D31,F31,H31,J31,L31)","v":33},{"$f":"IF(S31=1,O31,IF(S31=0,(O31-P31),\"-\"))","v":"-"},{"$f":"COUNTIF(U31:AD31,\"=TRUE\")","v":3},{"$f":"AE$1-R31","v":2},{"$f":"IF(S31<2,\"Yes\",\"No\")","v":"No"},{"$f":"IF(D31=\"-\",1,0)*U$1","v":0},{"$f":"AND(U31=0,U$1=1)","v":true},{"$f":"IF(F31=\"-\",1,0)*W$1","v":0},{"$f":"AND(W31=0,W$1=1)","v":true},{"$f":"IF(H31=\"-\",1,0)*Y$1","v":1},{"$f":"AND(Y31=0,Y$1=1)","v":false},{"$f":"IF(J31=\"-\",1,0)*AA$1","v":1},{"$f":"AND(AA31=0,AA$1=1)","v":false},{"$f":"IF(L31=\"-\",1,0)*AC$1","v":0},{"$f":"AND(AC31=0,AC$1=1)","v":true}]
[73,"Sam Cattell","De Lisle College","-",{"$f":"IF(D32=\"-\",0,D32)","v":0},17,{"$f":"IF(F32=\"-\",0,F32)","v":17},17,{"$f":"IF(H32=\"-\",0,H32)","v":17},18,{"$f":"IF(J32=\"-\",0,J32)","v":18},28,{"$f":"IF(L32=\"-\",0,L32)","v":28},null,{"$f":"E32+G32+I32+K32+M32","v":80},{"$f":"MAX(D32,F32,H32,J32,L32)","v":28},{"$f":"IF(S32=1,O32,IF(S32=0,(O32-P32),\"-\"))","v":80},{"$f":"COUNTIF(U32:AD32,\"=TRUE\")","v":4},{"$f":"AE$1-R32","v":1},{"$f":"IF(S32<2,\"Yes\",\"No\")","v":"Yes"},{"$f":"IF(D32=\"-\",1,0)*U$1","v":1},{"$f":"AND(U32=0,U$1=1)","v":false},{"$f":"IF(F32=\"-\",1,0)*W$1","v":0},{"$f":"AND(W32=0,W$1=1)","v":true},{"$f":"IF(H32=\"-\",1,0)*Y$1","v":0},{"$f":"AND(Y32=0,Y$1=1)","v":true},{"$f":"IF(J32=\"-\",1,0)*AA$1","v":0},{"$f":"AND(AA32=0,AA$1=1)","v":true},{"$f":"IF(L32=\"-\",1,0)*AC$1","v":0},{"$f":"AND(AC32=0,AC$1=1)","v":true}]
[104,"Toby Brightman","Shepshed High School","-",{"$f":"IF(D33=\"-\",0,D33)","v":0},"-",{"$f":"IF(F33=\"-\",0,F33)","v":0},"-",{"$f":"IF(H33=\"-\",0,H33)","v":0},"-",{"$f":"IF(J33=\"-\",0,J33)","v":0},29,{"$f":"IF(L33=\"-\",0,L33)","v":29},null,{"$f":"E33+G33+I33+K33+M33","v":29},{"$f":"MAX(D33,F33,H33,J33,L33)","v":29},{"$f":"IF(S33=1,O33,IF(S33=0,(O33-P33),\"-\"))","v":"-"},{"$f":"COUNTIF(U33:AD33,\"=TRUE\")","v":1},{"$f":"AE$1-R33","v":4},{"$f":"IF(S33<2,\"Yes\",\"No\")","v":"No"},{"$f":"IF(D33=\"-\",1,0)*U$1","v":1},{"$f":"AND(U33=0,U$1=1)","v":false},{"$f":"IF(F33=\"-\",1,0)*W$1","v":1},{"$f":"AND(W33=0,W$1=1)","v":false},{"$f":"IF(H33=\"-\",1,0)*Y$1","v":1},{"$f":"AND(Y33=0,Y$1=1)","v":false},{"$f":"IF(J33=\"-\",1,0)*AA$1","v":1},{"$f":"AND(AA33=0,AA$1=1)","v":false},{"$f":"IF(L33=\"-\",1,0)*AC$1","v":0},{"$f":"AND(AC33=0,AC$1=1)","v":true}]
[48,"Dominic Powell","Welland Park Academy",45,{"$f":"IF(D34=\"-\",0,D34)","v":45},32,{"$f":"IF(F34=\"-\",0,F34)","v":32},36,{"$f":"IF(H34=\"-\",0,H34)","v":36},"-",{"$f":"IF(J34=\"-\",0,J34)","v":0},30,{"$f":"IF(L34=\"-\",0,L34)","v":30},null,{"$f":"E34+G34+I34+K34+M34","v":143},{"$f":"MAX(D34,F34,H34,J34,L34)","v":45},{"$f":"IF(S34=1,O34,IF(S34=0,(O34-P34),\"-\"))","v":143},{"$f":"COUNTIF(U34:AD34,\"=TRUE\")","v":4},{"$f":"AE$1-R34","v":1},{"$f":"IF(S34<2,\"Yes\",\"No\")","v":"Yes"},{"$f":"IF(D34=\"-\",1,0)*U$1","v":0},{"$f":"AND(U34=0,U$1=1)","v":true},{"$f":"IF(F34=\"-\",1,0)*W$1","v":0},{"$f":"AND(W34=0,W$1=1)","v":true},{"$f":"IF(H34=\"-\",1,0)*Y$1","v":0},{"$f":"AND(Y34=0,Y$1=1)","v":true},{"$f":"IF(J34=\"-\",1,0)*AA$1","v":1},{"$f":"AND(AA34=0,AA$1=1)","v":false},{"$f":"IF(L34=\"-\",1,0)*AC$1","v":0},{"$f":"AND(AC34=0,AC$1=1)","v":true}]
[27,"Ethan Williams","Brockington College",30,{"$f":"IF(D35=\"-\",0,D35)","v":30},28,{"$f":"IF(F35=\"-\",0,F35)","v":28},40,{"$f":"IF(H35=\"-\",0,H35)","v":40},36,{"$f":"IF(J35=\"-\",0,J35)","v":36},31,{"$f":"IF(L35=\"-\",0,L35)","v":31},null,{"$f":"E35+G35+I35+K35+M35","v":165},{"$f":"MAX(D35,F35,H35,J35,L35)","v":40},{"$f":"IF(S35=1,O35,IF(S35=0,(O35-P35),\"-\"))","v":125},{"$f":"COUNTIF(U35:AD35,\"=TRUE\")","v":5},{"$f":"AE$1-R35","v":0},{"$f":"IF(S35<2,\"Yes\",\"No\")","v":"Yes"},{"$f":"IF(D35=\"-\",1,0)*U$1","v":0},{"$f":"AND(U35=0,U$1=1)","v":true},{"$f":"IF(F35=\"-\",1,0)*W$1","v":0},{"$f":"AND(W35=0,W$1=1)","v":true},{"$f":"IF(H35=\"-\",1,0)*Y$1","v":0},{"$f":"AND(Y35=0,Y$1=1)","v":true},{"$f":"IF(J35=\"-\",1,0)*AA$1","v":0},{"$f":"AND(AA35=0,AA$1=1)","v":true},{"$f":"IF(L35=\"-\",1,0)*AC$1","v":0},{"$f":"AND(AC35=0,AC$1=1)","v":true}]
[37,"Patrick Frobisher","De Lisle College",39,{"$f":"IF(D36=\"-\",0,D36)","v":39},"-",{"$f":"IF(F36=\"-\",0,F36)","v":0},"-",{"$f":"IF(H36=\"-\",0,H36)","v":0},"-",{"$f":"IF(J36=\"-\",0,J36)","v":0},32,{"$f":"IF(L36=\"-\",0,L36)","v":32},null,{"$f":"E36+G36+I36+K36+M36","v":71},{"$f":"MAX(D36,F36,H36,J36,L36)","v":39},{"$f":"IF(S36=1,O36,IF(S36=0,(O36-P36),\"-\"))","v":"-"},{"$f":"COUNTIF(U36:AD36,\"=TRUE\")","v":2},{"$f":"AE$1-R36","v":3},{"$f":"IF(S36<2,\"Yes\",\"No\")","v":"No"},{"$f":"IF(D36=\"-\",1,0)*U$1","v":0},{"$f":"AND(U36=0,U$1=1)","v":true},{"$f":"IF(F36=\"-\",1,0)*W$1","v":1},{"$f":"AND(W36=0,W$1=1)","v":false},{"$f":"IF(H36=\"-\",1,0)*Y$1","v":1},{"$f":"AND(Y36=0,Y$1=1)","v":false},{"$f":"IF(J36=\"-\",1,0)*AA$1","v":1},{"$f":"AND(AA36=0,AA$1=1)","v":false},{"$f":"IF(L36=\"-\",1,0)*AC$1","v":0},{"$f":"AND(AC36=0,AC$1=1)","v":true}]
[26,"Rakib Chowdhury","Crown Hills CC",53,{"$f":"IF(D37=\"-\",0,D37)","v":53},31,{"$f":"IF(F37=\"-\",0,F37)","v":31},33,{"$f":"IF(H37=\"-\",0,H37)","v":33},"-",{"$f":"IF(J37=\"-\",0,J37)","v":0},33,{"$f":"IF(L37=\"-\",0,L37)","v":33},null,{"$f":"E37+G37+I37+K37+M37","v":150},{"$f":"MAX(D37,F37,H37,J37,L37)","v":53},{"$f":"IF(S37=1,O37,IF(S37=0,(O37-P37),\"-\"))","v":150},{"$f":"COUNTIF(U37:AD37,\"=TRUE\")","v":4},{"$f":"AE$1-R37","v":1},{"$f":"IF(S37<2,\"Yes\",\"No\")","v":"Yes"},{"$f":"IF(D37=\"-\",1,0)*U$1","v":0},{"$f":"AND(U37=0,U$1=1)","v":true},{"$f":"IF(F37=\"-\",1,0)*W$1","v":0},{"$f":"AND(W37=0,W$1=1)","v":true},{"$f":"IF(H37=\"-\",1,0)*Y$1","v":0},{"$f":"AND(Y37=0,Y$1=1)","v":true},{"$f":"IF(J37=\"-\",1,0)*AA$1","v":1},{"$f":"AND(AA37=0,AA$1=1)","v":false},{"$f":"IF(L37=\"-\",1,0)*AC$1","v":0},{"$f":"AND(AC37=0,AC$1=1)","v":true}]
[12,"Eden Harrison","Castle Rock High School",41,{"$f":"IF(D38=\"-\",0,D38)","v":41},42,{"$f":"IF(F38=\"-\",0,F38)","v":42},39,{"$f":"IF(H38=\"-\",0,H38)","v":39},38,{"$f":"IF(J38=\"-\",0,J38)","v":38},34,{"$f":"IF(L38=\"-\",0,L38)","v":34},null,{"$f":"E38+G38+I38+K38+M38","v":194},{"$f":"MAX(D38,F38,H38,J38,L38)","v":42},{"$f":"IF(S38=1,O38,IF(S38=0,(O38-P38),\"-\"))","v":152},{"$f":"COUNTIF(U38:AD38,\"=TRUE\")","v":5},{"$f":"AE$1-R38","v":0},{"$f":"IF(S38<2,\"Yes\",\"No\")","v":"Yes"},{"$f":"IF(D38=\"-\",1,0)*U$1","v":0},{"$f":"AND(U38=0,U$1=1)","v":true},{"$f":"IF(F38=\"-\",1,0)*W$1","v":0},{"$f":"AND(W38=0,W$1=1)","v":true},{"$f":"IF(H38=\"-\",1,0)*Y$1","v":0},{"$f":"AND(Y38=0,Y$1=1)","v":true},{"$f":"IF(J38=\"-\",1,0)*AA$1","v":0},{"$f":"AND(AA38=0,AA$1=1)","v":true},{"$f":"IF(L38=\"-\",1,0)*AC$1","v":0},{"$f":"AND(AC38=0,AC$1=1)","v":true}]
[92,"William Deely","Uppingham CC",47,{"$f":"IF(D39=\"-\",0,D39)","v":47},44,{"$f":"IF(F39=\"-\",0,F39)","v":44},42,{"$f":"IF(H39=\"-\",0,H39)","v":42},40,{"$f":"IF(J39=\"-\",0,J39)","v":40},35,{"$f":"IF(L39=\"-\",0,L39)","v":35},null,{"$f":"E39+G39+I39+K39+M39","v":208},{"$f":"MAX(D39,F39,H39,J39,L39)","v":47},{"$f":"IF(S39=1,O39,IF(S39=0,(O39-P39),\"-\"))","v":161},{"$f":"COUNTIF(U39:AD39,\"=TRUE\")","v":5},{"$f":"AE$1-R39","v":0},{"$f":"IF(S39<2,\"Yes\",\"No\")","v":"Yes"},{"$f":"IF(D39=\"-\",1,0)*U$1","v":0},{"$f":"AND(U39=0,U$1=1)","v":true},{"$f":"IF(F39=\"-\",1,0)*W$1","v":0},{"$f":"AND(W39=0,W$1=1)","v":true},{"$f":"IF(H39=\"-\",1,0)*Y$1","v":0},{"$f":"AND(Y39=0,Y$1=1)","v":true},{"$f":"IF(J39=\"-\",1,0)*AA$1","v":0},{"$f":"AND(AA39=0,AA$1=1)","v":true},{"$f":"IF(L39=\"-\",1,0)*AC$1","v":0},{"$f":"AND(AC39=0,AC$1=1)","v":true}]
[103,"Charlie Laundon","Brookvale High School","-",{"$f":"IF(D40=\"-\",0,D40)","v":0},"-",{"$f":"IF(F40=\"-\",0,F40)","v":0},"-",{"$f":"IF(H40=\"-\",0,H40)","v":0},37,{"$f":"IF(J40=\"-\",0,J40)","v":37},36,{"$f":"IF(L40=\"-\",0,L40)","v":36},null,{"$f":"E40+G40+I40+K40+M40","v":73},{"$f":"MAX(D40,F40,H40,J40,L40)","v":37},{"$f":"IF(S40=1,O40,IF(S40=0,(O40-P40),\"-\"))","v":"-"},{"$f":"COUNTIF(U40:AD40,\"=TRUE\")","v":2},{"$f":"AE$1-R40","v":3},{"$f":"IF(S40<2,\"Yes\",\"No\")","v":"No"},{"$f":"IF(D40=\"-\",1,0)*U$1","v":1},{"$f":"AND(U40=0,U$1=1)","v":false},{"$f":"IF(F40=\"-\",1,0)*W$1","v":1},{"$f":"AND(W40=0,W$1=1)","v":false},{"$f":"IF(H40=\"-\",1,0)*Y$1","v":1},{"$f":"AND(Y40=0,Y$1=1)","v":false},{"$f":"IF(J40=\"-\",1,0)*AA$1","v":0},{"$f":"AND(AA40=0,AA$1=1)","v":true},{"$f":"IF(L40=\"-\",1,0)*AC$1","v":0},{"$f":"AND(AC40=0,AC$1=1)","v":true}]
[80,"Barnaby Smith","Uppingham CC","-",{"$f":"IF(D41=\"-\",0,D41)","v":0},47,{"$f":"IF(F41=\"-\",0,F41)","v":47},"-",{"$f":"IF(H41=\"-\",0,H41)","v":0},"-",{"$f":"IF(J41=\"-\",0,J41)","v":0},37,{"$f":"IF(L41=\"-\",0,L41)","v":37},null,{"$f":"E41+G41+I41+K41+M41","v":84},{"$f":"MAX(D41,F41,H41,J41,L41)","v":47},{"$f":"IF(S41=1,O41,IF(S41=0,(O41-P41),\"-\"))","v":"-"},{"$f":"COUNTIF(U41:AD41,\"=TRUE\")","v":2},{"$f":"AE$1-R41","v":3},{"$f":"IF(S41<2,\"Yes\",\"No\")","v":"No"},{"$f":"IF(D41=\"-\",1,0)*U$1","v":1},{"$f":"AND(U41=0,U$1=1)","v":false},{"$f":"IF(F41=\"-\",1,0)*W$1","v":0},{"$f":"AND(W41=0,W$1=1)","v":true},{"$f":"IF(H41=\"-\",1,0)*Y$1","v":1},{"$f":"AND(Y41=0,Y$1=1)","v":false},{"$f":"IF(J41=\"-\",1,0)*AA$1","v":1},{"$f":"AND(AA41=0,AA$1=1)","v":false},{"$f":"IF(L41=\"-\",1,0)*AC$1","v":0},{"$f":"AND(AC41=0,AC$1=1)","v":true}]
[60,"David McCabe","De Lisle College",52,{"$f":"IF(D42=\"-\",0,D42)","v":52},48,{"$f":"IF(F42=\"-\",0,F42)","v":48},41,{"$f":"IF(H42=\"-\",0,H42)","v":41},"-",{"$f":"IF(J42=\"-\",0,J42)","v":0},38,{"$f":"IF(L42=\"-\",0,L42)","v":38},null,{"$f":"E42+G42+I42+K42+M42","v":179},{"$f":"MAX(D42,F42,H42,J42,L42)","v":52},{"$f":"IF(S42=1,O42,IF(S42=0,(O42-P42),\"-\"))","v":179},{"$f":"COUNTIF(U42:AD42,\"=TRUE\")","v":4},{"$f":"AE$1-R42","v":1},{"$f":"IF(S42<2,\"Yes\",\"No\")","v":"Yes"},{"$f":"IF(D42=\"-\",1,0)*U$1","v":0},{"$f":"AND(U42=0,U$1=1)","v":true},{"$f":"IF(F42=\"-\",1,0)*W$1","v":0},{"$f":"AND(W42=0,W$1=1)","v":true},{"$f":"IF(H42=\"-\",1,0)*Y$1","v":0},{"$f":"AND(Y42=0,Y$1=1)","v":true},{"$f":"IF(J42=\"-\",1,0)*AA$1","v":1},{"$f":"AND(AA42=0,AA$1=1)","v":false},{"$f":"IF(L42=\"-\",1,0)*AC$1","v":0},{"$f":"AND(AC42=0,AC$1=1)","v":true}]
[66,"Tadhg Hinds","St Pauls Catholic School",55,{"$f":"IF(D43=\"-\",0,D43)","v":55},49,{"$f":"IF(F43=\"-\",0,F43)","v":49},"-",{"$f":"IF(H43=\"-\",0,H43)","v":0},35,{"$f":"IF(J43=\"-\",0,J43)","v":35},39,{"$f":"IF(L43=\"-\",0,L43)","v":39},null,{"$f":"E43+G43+I43+K43+M43","v":178},{"$f":"MAX(D43,F43,H43,J43,L43)","v":55},{"$f":"IF(S43=1,O43,IF(S43=0,(O43-P43),\"-\"))","v":178},{"$f":"COUNTIF(U43:AD43,\"=TRUE\")","v":4},{"$f":"AE$1-R43","v":1},{"$f":"IF(S43<2,\"Yes\",\"No\")","v":"Yes"},{"$f":"IF(D43=\"-\",1,0)*U$1","v":0},{"$f":"AND(U43=0,U$1=1)","v":true},{"$f":"IF(F43=\"-\",1,0)*W$1","v":0},{"$f":"AND(W43=0,W$1=1)","v":true},{"$f":"IF(H43=\"-\",1,0)*Y$1","v":1},{"$f":"AND(Y43=0,Y$1=1)","v":false},{"$f":"IF(J43=\"-\",1,0)*AA$1","v":0},{"$f":"AND(AA43=0,AA$1=1)","v":true},{"$f":"IF(L43=\"-\",1,0)*AC$1","v":0},{"$f":"AND(AC43=0,AC$1=1)","v":true}]
[44,"Mitesh Solanki","Crown Hills CC",62,{"$f":"IF(D44=\"-\",0,D44)","v":62},62,{"$f":"IF(F44=\"-\",0,F44)","v":62},49,{"$f":"IF(H44=\"-\",0,H44)","v":49},46,{"$f":"IF(J44=\"-\",0,J44)","v":46},40,{"$f":"IF(L44=\"-\",0,L44)","v":40},null,{"$f":"E44+G44+I44+K44+M44","v":259},{"$f":"MAX(D44,F44,H44,J44,L44)","v":62},{"$f":"IF(S44=1,O44,IF(S44=0,(O44-P44),\"-\"))","v":197},{"$f":"COUNTIF(U44:AD44,\"=TRUE\")","v":5},{"$f":"AE$1-R44","v":0},{"$f":"IF(S44<2,\"Yes\",\"No\")","v":"Yes"},{"$f":"IF(D44=\"-\",1,0)*U$1","v":0},{"$f":"AND(U44=0,U$1=1)","v":true},{"$f":"IF(F44=\"-\",1,0)*W$1","v":0},{"$f":"AND(W44=0,W$1=1)","v":true},{"$f":"IF(H44=\"-\",1,0)*Y$1","v":0},{"$f":"AND(Y44=0,Y$1=1)","v":true},{"$f":"IF(J44=\"-\",1,0)*AA$1","v":0},{"$f":"AND(AA44=0,AA$1=1)","v":true},{"$f":"IF(L44=\"-\",1,0)*AC$1","v":0},{"$f":"AND(AC44=0,AC$1=1)","v":true}]
[71,"Damian Anand","St Pauls Catholic School","-",{"$f":"IF(D45=\"-\",0,D45)","v":0},"-",{"$f":"IF(F45=\"-\",0,F45)","v":0},10,{"$f":"IF(H45=\"-\",0,H45)","v":10},11,{"$f":"IF(J45=\"-\",0,J45)","v":11},"-",{"$f":"IF(L45=\"-\",0,L45)","v":0},null,{"$f":"E45+G45+I45+K45+M45","v":21},{"$f":"MAX(D45,F45,H45,J45,L45)","v":11},{"$f":"IF(S45=1,O45,IF(S45=0,(O45-P45),\"-\"))","v":"-"},{"$f":"COUNTIF(U45:AD45,\"=TRUE\")","v":2},{"$f":"AE$1-R45","v":3},{"$f":"IF(S45<2,\"Yes\",\"No\")","v":"No"},{"$f":"IF(D45=\"-\",1,0)*U$1","v":1},{"$f":"AND(U45=0,U$1=1)","v":false},{"$f":"IF(F45=\"-\",1,0)*W$1","v":1},{"$f":"AND(W45=0,W$1=1)","v":false},{"$f":"IF(H45=\"-\",1,0)*Y$1","v":0},{"$f":"AND(Y45=0,Y$1=1)","v":true},{"$f":"IF(J45=\"-\",1,0)*AA$1","v":0},{"$f":"AND(AA45=0,AA$1=1)","v":true},{"$f":"IF(L45=\"-\",1,0)*AC$1","v":1},{"$f":"AND(AC45=0,AC$1=1)","v":false}]
[45,"Oli Winder","Lutterworth High School",9,{"$f":"IF(D46=\"-\",0,D46)","v":9},6,{"$f":"IF(F46=\"-\",0,F46)","v":6},19,{"$f":"IF(H46=\"-\",0,H46)","v":19},15,{"$f":"IF(J46=\"-\",0,J46)","v":15},"-",{"$f":"IF(L46=\"-\",0,L46)","v":0},null,{"$f":"E46+G46+I46+K46+M46","v":49},{"$f":"MAX(D46,F46,H46,J46,L46)","v":19},{"$f":"IF(S46=1,O46,IF(S46=0,(O46-P46),\"-\"))","v":49},{"$f":"COUNTIF(U46:AD46,\"=TRUE\")","v":4},{"$f":"AE$1-R46","v":1},{"$f":"IF(S46<2,\"Yes\",\"No\")","v":"Yes"},{"$f":"IF(D46=\"-\",1,0)*U$1","v":0},{"$f":"AND(U46=0,U$1=1)","v":true},{"$f":"IF(F46=\"-\",1,0)*W$1","v":0},{"$f":"AND(W46=0,W$1=1)","v":true},{"$f":"IF(H46=\"-\",1,0)*Y$1","v":0},{"$f":"AND(Y46=0,Y$1=1)","v":true},{"$f":"IF(J46=\"-\",1,0)*AA$1","v":0},{"$f":"AND(AA46=0,AA$1=1)","v":true},{"$f":"IF(L46=\"-\",1,0)*AC$1","v":1},{"$f":"AND(AC46=0,AC$1=1)","v":false}]
[100,"Lewis Moore","Thomas Estley CC","-",{"$f":"IF(D47=\"-\",0,D47)","v":0},"-",{"$f":"IF(F47=\"-\",0,F47)","v":0},"-",{"$f":"IF(H47=\"-\",0,H47)","v":0},19,{"$f":"IF(J47=\"-\",0,J47)","v":19},"-",{"$f":"IF(L47=\"-\",0,L47)","v":0},null,{"$f":"E47+G47+I47+K47+M47","v":19},{"$f":"MAX(D47,F47,H47,J47,L47)","v":19},{"$f":"IF(S47=1,O47,IF(S47=0,(O47-P47),\"-\"))","v":"-"},{"$f":"COUNTIF(U47:AD47,\"=TRUE\")","v":1},{"$f":"AE$1-R47","v":4},{"$f":"IF(S47<2,\"Yes\",\"No\")","v":"No"},{"$f":"IF(D47=\"-\",1,0)*U$1","v":1},{"$f":"AND(U47=0,U$1=1)","v":false},{"$f":"IF(F47=\"-\",1,0)*W$1","v":1},{"$f":"AND(W47=0,W$1=1)","v":false},{"$f":"IF(H47=\"-\",1,0)*Y$1","v":1},{"$f":"AND(Y47=0,Y$1=1)","v":false},{"$f":"IF(J47=\"-\",1,0)*AA$1","v":0},{"$f":"AND(AA47=0,AA$1=1)","v":true},{"$f":"IF(L47=\"-\",1,0)*AC$1","v":1},{"$f":"AND(AC47=0,AC$1=1)","v":false}]
[97,"Riley Harrison","The Martin High School","-",{"$f":"IF(D48=\"-\",0,D48)","v":0},"-",{"$f":"IF(F48=\"-\",0,F48)","v":0},"-",{"$f":"IF(H48=\"-\",0,H48)","v":0},21,{"$f":"IF(J48=\"-\",0,J48)","v":21},"-",{"$f":"IF(L48=\"-\",0,L48)","v":0},null,{"$f":"E48+G48+I48+K48+M48","v":21},{"$f":"MAX(D48,F48,H48,J48,L48)","v":21},{"$f":"IF(S48=1,O48,IF(S48=0,(O48-P48),\"-\"))","v":"-"},{"$f":"COUNTIF(U48:AD48,\"=TRUE\")","v":1},{"$f":"AE$1-R48","v":4},{"$f":"IF(S48<2,\"Yes\",\"No\")","v":"No"},{"$f":"IF(D48=\"-\",1,0)*U$1","v":1},{"$f":"AND(U48=0,U$1=1)","v":false},{"$f":"IF(F48=\"-\",1,0)*W$1","v":1},{"$f":"AND(W48=0,W$1=1)","v":false},{"$f":"IF(H48=\"-\",1,0)*Y$1","v":1},{"$f":"AND(Y48=0,Y$1=1)","v":false},{"$f":"IF(J48=\"-\",1,0)*AA$1","v":0},{"$f":"AND(AA48=0,AA$1=1)","v":true},{"$f":"IF(L48=\"-\",1,0)*AC$1","v":1},{"$f":"AND(AC48=0,AC$1=1)","v":false}]
[79,"Oliver Makin","Rawlins College",35,{"$f":"IF(D49=\"-\",0,D49)","v":35},35,{"$f":"IF(F49=\"-\",0,F49)","v":35},35,{"$f":"IF(H49=\"-\",0,H49)","v":35},29,{"$f":"IF(J49=\"-\",0,J49)","v":29},"-",{"$f":"IF(L49=\"-\",0,L49)","v":0},null,{"$f":"E49+G49+I49+K49+M49","v":134},{"$f":"MAX(D49,F49,H49,J49,L49)","v":35},{"$f":"IF(S49=1,O49,IF(S49=0,(O49-P49),\"-\"))","v":134},{"$f":"COUNTIF(U49:AD49,\"=TRUE\")","v":4},{"$f":"AE$1-R49","v":1},{"$f":"IF(S49<2,\"Yes\",\"No\")","v":"Yes"},{"$f":"IF(D49=\"-\",1,0)*U$1","v":0},{"$f":"AND(U49=0,U$1=1)","v":true},{"$f":"IF(F49=\"-\",1,0)*W$1","v":0},{"$f":"AND(W49=0,W$1=1)","v":true},{"$f":"IF(H49=\"-\",1,0)*Y$1","v":0},{"$f":"AND(Y49=0,Y$1=1)","v":true},{"$f":"IF(J49=\"-\",1,0)*AA$1","v":0},{"$f":"AND(AA49=0,AA$1=1)","v":true},{"$f":"IF(L49=\"-\",1,0)*AC$1","v":1},{"$f":"AND(AC49=0,AC$1=1)","v":false}]
[49,"Ben Thomas","Redmoor Academy",23,{"$f":"IF(D50=\"-\",0,D50)","v":23},18,{"$f":"IF(F50=\"-\",0,F50)","v":18},29,{"$f":"IF(H50=\"-\",0,H50)","v":29},30,{"$f":"IF(J50=\"-\",0,J50)","v":30},"-",{"$f":"IF(L50=\"-\",0,L50)","v":0},null,{"$f":"E50+G50+I50+K50+M50","v":100},{"$f":"MAX(D50,F50,H50,J50,L50)","v":30},{"$f":"IF(S50=1,O50,IF(S50=0,(O50-P50),\"-\"))","v":100},{"$f":"COUNTIF(U50:AD50,\"=TRUE\")","v":4},{"$f":"AE$1-R50","v":1},{"$f":"IF(S50<2,\"Yes\",\"No\")","v":"Yes"},{"$f":"IF(D50=\"-\",1,0)*U$1","v":0},{"$f":"AND(U50=0,U$1=1)","v":true},{"$f":"IF(F50=\"-\",1,0)*W$1","v":0},{"$f":"AND(W50=0,W$1=1)","v":true},{"$f":"IF(H50=\"-\",1,0)*Y$1","v":0},{"$f":"AND(Y50=0,Y$1=1)","v":true},{"$f":"IF(J50=\"-\",1,0)*AA$1","v":0},{"$f":"AND(AA50=0,AA$1=1)","v":true},{"$f":"IF(L50=\"-\",1,0)*AC$1","v":1},{"$f":"AND(AC50=0,AC$1=1)","v":false}]
[77,"Luke Jeal","Brookvale High School","-",{"$f":"IF(D51=\"-\",0,D51)","v":0},43,{"$f":"IF(F51=\"-\",0,F51)","v":43},31,{"$f":"IF(H51=\"-\",0,H51)","v":31},32,{"$f":"IF(J51=\"-\",0,J51)","v":32},"-",{"$f":"IF(L51=\"-\",0,L51)","v":0},null,{"$f":"E51+G51+I51+K51+M51","v":106},{"$f":"MAX(D51,F51,H51,J51,L51)","v":43},{"$f":"IF(S51=1,O51,IF(S51=0,(O51-P51),\"-\"))","v":"-"},{"$f":"COUNTIF(U51:AD51,\"=TRUE\")","v":3},{"$f":"AE$1-R51","v":2},{"$f":"IF(S51<2,\"Yes\",\"No\")","v":"No"},{"$f":"IF(D51=\"-\",1,0)*U$1","v":1},{"$f":"AND(U51=0,U$1=1)","v":false},{"$f":"IF(F51=\"-\",1,0)*W$1","v":0},{"$f":"AND(W51=0,W$1=1)","v":true},{"$f":"IF(H51=\"-\",1,0)*Y$1","v":0},{"$f":"AND(Y51=0,Y$1=1)","v":true},{"$f":"IF(J51=\"-\",1,0)*AA$1","v":0},{"$f":"AND(AA51=0,AA$1=1)","v":true},{"$f":"IF(L51=\"-\",1,0)*AC$1","v":1},{"$f":"AND(AC51=0,AC$1=1)","v":false}]
[98,"Harvey Crewe","The Martin High School","-",{"$f":"IF(D52=\"-\",0,D52)","v":0},"-",{"$f":"IF(F52=\"-\",0,F52)","v":0},"-",{"$f":"IF(H52=\"-\",0,H52)","v":0},33,{"$f":"IF(J52=\"-\",0,J52)","v":33},"-",{"$f":"IF(L52=\"-\",0,L52)","v":0},null,{"$f":"E52+G52+I52+K52+M52","v":33},{"$f":"MAX(D52,F52,H52,J52,L52)","v":33},{"$f":"IF(S52=1,O52,IF(S52=0,(O52-P52),\"-\"))","v":"-"},{"$f":"COUNTIF(U52:AD52,\"=TRUE\")","v":1},{"$f":"AE$1-R52","v":4},{"$f":"IF(S52<2,\"Yes\",\"No\")","v":"No"},{"$f":"IF(D52=\"-\",1,0)*U$1","v":1},{"$f":"AND(U52=0,U$1=1)","v":false},{"$f":"IF(F52=\"-\",1,0)*W$1","v":1},{"$f":"AND(W52=0,W$1=1)","v":false},{"$f":"IF(H52=\"-\",1,0)*Y$1","v":1},{"$f":"AND(Y52=0,Y$1=1)","v":false},{"$f":"IF(J52=\"-\",1,0)*AA$1","v":0},{"$f":"AND(AA52=0,AA$1=1)","v":true},{"$f":"IF(L52=\"-\",1,0)*AC$1","v":1},{"$f":"AND(AC52=0,AC$1=1)","v":false}]
[99,"William Reuben","Rawlins College","-",{"$f":"IF(D53=\"-\",0,D53)","v":0},"-",{"$f":"IF(F53=\"-\",0,F53)","v":0},"-",{"$f":"IF(H53=\"-\",0,H53)","v":0},34,{"$f":"IF(J53=\"-\",0,J53)","v":34},"-",{"$f":"IF(L53=\"-\",0,L53)","v":0},null,{"$f":"E53+G53+I53+K53+M53","v":34},{"$f":"MAX(D53,F53,H53,J53,L53)","v":34},{"$f":"IF(S53=1,O53,IF(S53=0,(O53-P53),\"-\"))","v":"-"},{"$f":"COUNTIF(U53:AD53,\"=TRUE\")","v":1},{"$f":"AE$1-R53","v":4},{"$f":"IF(S53<2,\"Yes\",\"No\")","v":"No"},{"$f":"IF(D53=\"-\",1,0)*U$1","v":1},{"$f":"AND(U53=0,U$1=1)","v":false},{"$f":"IF(F53=\"-\",1,0)*W$1","v":1},{"$f":"AND(W53=0,W$1=1)","v":false},{"$f":"IF(H53=\"-\",1,0)*Y$1","v":1},{"$f":"AND(Y53=0,Y$1=1)","v":false},{"$f":"IF(J53=\"-\",1,0)*AA$1","v":0},{"$f":"AND(AA53=0,AA$1=1)","v":true},{"$f":"IF(L53=\"-\",1,0)*AC$1","v":1},{"$f":"AND(AC53=0,AC$1=1)","v":false}]
[101,"Callum Woodward","John Ferneley College","-",{"$f":"IF(D54=\"-\",0,D54)","v":0},"-",{"$f":"IF(F54=\"-\",0,F54)","v":0},"-",{"$f":"IF(H54=\"-\",0,H54)","v":0},39,{"$f":"IF(J54=\"-\",0,J54)","v":39},"-",{"$f":"IF(L54=\"-\",0,L54)","v":0},null,{"$f":"E54+G54+I54+K54+M54","v":39},{"$f":"MAX(D54,F54,H54,J54,L54)","v":39},{"$f":"IF(S54=1,O54,IF(S54=0,(O54-P54),\"-\"))","v":"-"},{"$f":"COUNTIF(U54:AD54,\"=TRUE\")","v":1},{"$f":"AE$1-R54","v":4},{"$f":"IF(S54<2,\"Yes\",\"No\")","v":"No"},{"$f":"IF(D54=\"-\",1,0)*U$1","v":1},{"$f":"AND(U54=0,U$1=1)","v":false},{"$f":"IF(F54=\"-\",1,0)*W$1","v":1},{"$f":"AND(W54=0,W$1=1)","v":false},{"$f":"IF(H54=\"-\",1,0)*Y$1","v":1},{"$f":"AND(Y54=0,Y$1=1)","v":false},{"$f":"IF(J54=\"-\",1,0)*AA$1","v":0},{"$f":"AND(AA54=0,AA$1=1)","v":true},{"$f":"IF(L54=\"-\",1,0)*AC$1","v":1},{"$f":"AND(AC54=0,AC$1=1)","v":false}]
[65,"Antonio Moore","Brookvale High School",61,{"$f":"IF(D55=\"-\",0,D55)","v":61},53,{"$f":"IF(F55=\"-\",0,F55)","v":53},46,{"$f":"IF(H55=\"-\",0,H55)","v":46},41,{"$f":"IF(J55=\"-\",0,J55)","v":41},"-",{"$f":"IF(L55=\"-\",0,L55)","v":0},null,{"$f":"E55+G55+I55+K55+M55","v":201},{"$f":"MAX(D55,F55,H55,J55,L55)","v":61},{"$f":"IF(S55=1,O55,IF(S55=0,(O55-P55),\"-\"))","v":201},{"$f":"COUNTIF(U55:AD55,\"=TRUE\")","v":4},{"$f":"AE$1-R55","v":1},{"$f":"IF(S55<2,\"Yes\",\"No\")","v":"Yes"},{"$f":"IF(D55=\"-\",1,0)*U$1","v":0},{"$f":"AND(U55=0,U$1=1)","v":true},{"$f":"IF(F55=\"-\",1,0)*W$1","v":0},{"$f":"AND(W55=0,W$1=1)","v":true},{"$f":"IF(H55=\"-\",1,0)*Y$1","v":0},{"$f":"AND(Y55=0,Y$1=1)","v":true},{"$f":"IF(J55=\"-\",1,0)*AA$1","v":0},{"$f":"AND(AA55=0,AA$1=1)","v":true},{"$f":"IF(L55=\"-\",1,0)*AC$1","v":1},{"$f":"AND(AC55=0,AC$1=1)","v":false}]
[35,"Jude Wright","De Lisle College",64,{"$f":"IF(D56=\"-\",0,D56)","v":64},56,{"$f":"IF(F56=\"-\",0,F56)","v":56},"-",{"$f":"IF(H56=\"-\",0,H56)","v":0},42,{"$f":"IF(J56=\"-\",0,J56)","v":42},"-",{"$f":"IF(L56=\"-\",0,L56)","v":0},null,{"$f":"E56+G56+I56+K56+M56","v":162},{"$f":"MAX(D56,F56,H56,J56,L56)","v":64},{"$f":"IF(S56=1,O56,IF(S56=0,(O56-P56),\"-\"))","v":"-"},{"$f":"COUNTIF(U56:AD56,\"=TRUE\")","v":3},{"$f":"AE$1-R56","v":2},{"$f":"IF(S56<2,\"Yes\",\"No\")","v":"No"},{"$f":"IF(D56=\"-\",1,0)*U$1","v":0},{"$f":"AND(U56=0,U$1=1)","v":true},{"$f":"IF(F56=\"-\",1,0)*W$1","v":0},{"$f":"AND(W56=0,W$1=1)","v":true},{"$f":"IF(H56=\"-\",1,0)*Y$1","v":1},{"$f":"AND(Y56=0,Y$1=1)","v":false},{"$f":"IF(J56=\"-\",1,0)*AA$1","v":0},{"$f":"AND(AA56=0,AA$1=1)","v":true},{"$f":"IF(L56=\"-\",1,0)*AC$1","v":1},{"$f":"AND(AC56=0,AC$1=1)","v":false}]
[91,"Tom Dingwall","John Ferneley College",49,{"$f":"IF(D57=\"-\",0,D57)","v":49},46,{"$f":"IF(F57=\"-\",0,F57)","v":46},"-",{"$f":"IF(H57=\"-\",0,H57)","v":0},43,{"$f":"IF(J57=\"-\",0,J57)","v":43},"-",{"$f":"IF(L57=\"-\",0,L57)","v":0},null,{"$f":"E57+G57+I57+K57+M57","v":138},{"$f":"MAX(D57,F57,H57,J57,L57)","v":49},{"$f":"IF(S57=1,O57,IF(S57=0,(O57-P57),\"-\"))","v":"-"},{"$f":"COUNTIF(U57:AD57,\"=TRUE\")","v":3},{"$f":"AE$1-R57","v":2},{"$f":"IF(S57<2,\"Yes\",\"No\")","v":"No"},{"$f":"IF(D57=\"-\",1,0)*U$1","v":0},{"$f":"AND(U57=0,U$1=1)","v":true},{"$f":"IF(F57=\"-\",1,0)*W$1","v":0},{"$f":"AND(W57=0,W$1=1)","v":true},{"$f":"IF(H57=\"-\",1,0)*Y$1","v":1},{"$f":"AND(Y57=0,Y$1=1)","v":false},{"$f":"IF(J57=\"-\",1,0)*AA$1","v":0},{"$f":"AND(AA57=0,AA$1=1)","v":true},{"$f":"IF(L57=\"-\",1,0)*AC$1","v":1},{"$f":"AND(AC57=0,AC$1=1)","v":false}]
[8,"Lewis Winkless","Brookvale High School",63,{"$f":"IF(D58=\"-\",0,D58)","v":63},54,{"$f":"IF(F58=\"-\",0,F58)","v":54},44,{"$f":"IF(H58=\"-\",0,H58)","v":44},44,{"$f":"IF(J58=\"-\",0,J58)","v":44},"-",{"$f":"IF(L58=\"-\",0,L58)","v":0},null,{"$f":"E58+G58+I58+K58+M58","v":205},{"$f":"MAX(D58,F58,H58,J58,L58)","v":63},{"$f":"IF(S58=1,O58,IF(S58=0,(O58-P58),\"-\"))","v":205},{"$f":"COUNTIF(U58:AD58,\"=TRUE\")","v":4},{"$f":"AE$1-R58","v":1},{"$f":"IF(S58<2,\"Yes\",\"No\")","v":"Yes"},{"$f":"IF(D58=\"-\",1,0)*U$1","v":0},{"$f":"AND(U58=0,U$1=1)","v":true},{"$f":"IF(F58=\"-\",1,0)*W$1","v":0},{"$f":"AND(W58=0,W$1=1)","v":true},{"$f":"IF(H58=\"-\",1,0)*Y$1","v":0},{"$f":"AND(Y58=0,Y$1=1)","v":true},{"$f":"IF(J58=\"-\",1,0)*AA$1","v":0},{"$f":"AND(AA58=0,AA$1=1)","v":true},{"$f":"IF(L58=\"-\",1,0)*AC$1","v":1},{"$f":"AND(AC58=0,AC$1=1)","v":false}]
[34,"Tion Fortune","Crown Hills CC",58,{"$f":"IF(D59=\"-\",0,D59)","v":58},58,{"$f":"IF(F59=\"-\",0,F59)","v":58},48,{"$f":"IF(H59=\"-\",0,H59)","v":48},45,{"$f":"IF(J59=\"-\",0,J59)","v":45},"-",{"$f":"IF(L59=\"-\",0,L59)","v":0},null,{"$f":"E59+G59+I59+K59+M59","v":209},{"$f":"MAX(D59,F59,H59,J59,L59)","v":58},{"$f":"IF(S59=1,O59,IF(S59=0,(O59-P59),\"-\"))","v":209},{"$f":"COUNTIF(U59:AD59,\"=TRUE\")","v":4},{"$f":"AE$1-R59","v":1},{"$f":"IF(S59<2,\"Yes\",\"No\")","v":"Yes"},{"$f":"IF(D59=\"-\",1,0)*U$1","v":0},{"$f":"AND(U59=0,U$1=1)","v":true},{"$f":"IF(F59=\"-\",1,0)*W$1","v":0},{"$f":"AND(W59=0,W$1=1)","v":true},{"$f":"IF(H59=\"-\",1,0)*Y$1","v":0},{"$f":"AND(Y59=0,Y$1=1)","v":true},{"$f":"IF(J59=\"-\",1,0)*AA$1","v":0},{"$f":"AND(AA59=0,AA$1=1)","v":true},{"$f":"IF(L59=\"-\",1,0)*AC$1","v":1},{"$f":"AND(AC59=0,AC$1=1)","v":false}]
[54,"Thomas Pollard","Newbridge High School",7,{"$f":"IF(D60=\"-\",0,D60)","v":7},5,{"$f":"IF(F60=\"-\",0,F60)","v":5},3,{"$f":"IF(H60=\"-\",0,H60)","v":3},"-",{"$f":"IF(J60=\"-\",0,J60)","v":0},"-",{"$f":"IF(L60=\"-\",0,L60)","v":0},null,{"$f":"E60+G60+I60+K60+M60","v":15},{"$f":"MAX(D60,F60,H60,J60,L60)","v":7},{"$f":"IF(S60=1,O60,IF(S60=0,(O60-P60),\"-\"))","v":"-"},{"$f":"COUNTIF(U60:AD60,\"=TRUE\")","v":3},{"$f":"AE$1-R60","v":2},{"$f":"IF(S60<2,\"Yes\",\"No\")","v":"No"},{"$f":"IF(D60=\"-\",1,0)*U$1","v":0},{"$f":"AND(U60=0,U$1=1)","v":true},{"$f":"IF(F60=\"-\",1,0)*W$1","v":0},{"$f":"AND(W60=0,W$1=1)","v":true},{"$f":"IF(H60=\"-\",1,0)*Y$1","v":0},{"$f":"AND(Y60=0,Y$1=1)","v":true},{"$f":"IF(J60=\"-\",1,0)*AA$1","v":1},{"$f":"AND(AA60=0,AA$1=1)","v":false},{"$f":"IF(L60=\"-\",1,0)*AC$1","v":1},{"$f":"AND(AC60=0,AC$1=1)","v":false}]
[87,"Shaylan Ghai","Loughborough Grammar School",38,{"$f":"IF(D61=\"-\",0,D61)","v":38},34,{"$f":"IF(F61=\"-\",0,F61)","v":34},23,{"$f":"IF(H61=\"-\",0,H61)","v":23},"-",{"$f":"IF(J61=\"-\",0,J61)","v":0},"-",{"$f":"IF(L61=\"-\",0,L61)","v":0},null,{"$f":"E61+G61+I61+K61+M61","v":95},{"$f":"MAX(D61,F61,H61,J61,L61)","v":38},{"$f":"IF(S61=1,O61,IF(S61=0,(O61-P61),\"-\"))","v":"-"},{"$f":"COUNTIF(U61:AD61,\"=TRUE\")","v":3},{"$f":"AE$1-R61","v":2},{"$f":"IF(S61<2,\"Yes\",\"No\")","v":"No"},{"$f":"IF(D61=\"-\",1,0)*U$1","v":0},{"$f":"AND(U61=0,U$1=1)","v":true},{"$f":"IF(F61=\"-\",1,0)*W$1","v":0},{"$f":"AND(W61=0,W$1=1)","v":true},{"$f":"IF(H61=\"-\",1,0)*Y$1","v":0},{"$f":"AND(Y61=0,Y$1=1)","v":true},{"$f":"IF(J61=\"-\",1,0)*AA$1","v":1},{"$f":"AND(AA61=0,AA$1=1)","v":false},{"$f":"IF(L61=\"-\",1,0)*AC$1","v":1},{"$f":"AND(AC61=0,AC$1=1)","v":false}]
[11,"Angus Gladstone","Lutterworth High School","-",{"$f":"IF(D62=\"-\",0,D62)","v":0},29,{"$f":"IF(F62=\"-\",0,F62)","v":29},25,{"$f":"IF(H62=\"-\",0,H62)","v":25},"-",{"$f":"IF(J62=\"-\",0,J62)","v":0},"-",{"$f":"IF(L62=\"-\",0,L62)","v":0},null,{"$f":"E62+G62+I62+K62+M62","v":54},{"$f":"MAX(D62,F62,H62,J62,L62)","v":29},{"$f":"IF(S62=1,O62,IF(S62=0,(O62-P62),\"-\"))","v":"-"},{"$f":"COUNTIF(U62:AD62,\"=TRUE\")","v":2},{"$f":"AE$1-R62","v":3},{"$f":"IF(S62<2,\"Yes\",\"No\")","v":"No"},{"$f":"IF(D62=\"-\",1,0)*U$1","v":1},{"$f":"AND(U62=0,U$1=1)","v":false},{"$f":"IF(F62=\"-\",1,0)*W$1","v":0},{"$f":"AND(W62=0,W$1=1)","v":true},{"$f":"IF(H62=\"-\",1,0)*Y$1","v":0},{"$f":"AND(Y62=0,Y$1=1)","v":true},{"$f":"IF(J62=\"-\",1,0)*AA$1","v":1},{"$f":"AND(AA62=0,AA$1=1)","v":false},{"$f":"IF(L62=\"-\",1,0)*AC$1","v":1},{"$f":"AND(AC62=0,AC$1=1)","v":false}]
[39,"Flynn Robinson","Bosworth Academy","-",{"$f":"IF(D63=\"-\",0,D63)","v":0},"-",{"$f":"IF(F63=\"-\",0,F63)","v":0},27,{"$f":"IF(H63=\"-\",0,H63)","v":27},"-",{"$f":"IF(J63=\"-\",0,J63)","v":0},"-",{"$f":"IF(L63=\"-\",0,L63)","v":0},null,{"$f":"E63+G63+I63+K63+M63","v":27},{"$f":"MAX(D63,F63,H63,J63,L63)","v":27},{"$f":"IF(S63=1,O63,IF(S63=0,(O63-P63),\"-\"))","v":"-"},{"$f":"COUNTIF(U63:AD63,\"=TRUE\")","v":1},{"$f":"AE$1-R63","v":4},{"$f":"IF(S63<2,\"Yes\",\"No\")","v":"No"},{"$f":"IF(D63=\"-\",1,0)*U$1","v":1},{"$f":"AND(U63=0,U$1=1)","v":false},{"$f":"IF(F63=\"-\",1,0)*W$1","v":1},{"$f":"AND(W63=0,W$1=1)","v":false},{"$f":"IF(H63=\"-\",1,0)*Y$1","v":0},{"$f":"AND(Y63=0,Y$1=1)","v":true},{"$f":"IF(J63=\"-\",1,0)*AA$1","v":1},{"$f":"AND(AA63=0,AA$1=1)","v":false},{"$f":"IF(L63=\"-\",1,0)*AC$1","v":1},{"$f":"AND(AC63=0,AC$1=1)","v":false}]
[9,"Kirk Mellors","Shepshed High School","-",{"$f":"IF(D64=\"-\",0,D64)","v":0},"-",{"$f":"IF(F64=\"-\",0,F64)","v":0},28,{"$f":"IF(H64=\"-\",0,H64)","v":28},"-",{"$f":"IF(J64=\"-\",0,J64)","v":0},"-",{"$f":"IF(L64=\"-\",0,L64)","v":0},null,{"$f":"E64+G64+I64+K64+M64","v":28},{"$f":"MAX(D64,F64,H64,J64,L64)","v":28},{"$f":"IF(S64=1,O64,IF(S64=0,(O64-P64),\"-\"))","v":"-"},{"$f":"COUNTIF(U64:AD64,\"=TRUE\")","v":1},{"$f":"AE$1-R64","v":4},{"$f":"IF(S64<2,\"Yes\",\"No\")","v":"No"},{"$f":"IF(D64=\"-\",1,0)*U$1","v":1},{"$f":"AND(U64=0,U$1=1)","v":false},{"$f":"IF(F64=\"-\",1,0)*W$1","v":1},{"$f":"AND(W64=0,W$1=1)","v":false},{"$f":"IF(H64=\"-\",1,0)*Y$1","v":0},{"$f":"AND(Y64=0,Y$1=1)","v":true},{"$f":"IF(J64=\"-\",1,0)*AA$1","v":1},{"$f":"AND(AA64=0,AA$1=1)","v":false},{"$f":"IF(L64=\"-\",1,0)*AC$1","v":1},{"$f":"AND(AC64=0,AC$1=1)","v":false}]
[88,"Jason Schulz","Bosworth Academy",31,{"$f":"IF(D65=\"-\",0,D65)","v":31},23,{"$f":"IF(F65=\"-\",0,F65)","v":23},30,{"$f":"IF(H65=\"-\",0,H65)","v":30},"-",{"$f":"IF(J65=\"-\",0,J65)","v":0},"-",{"$f":"IF(L65=\"-\",0,L65)","v":0},null,{"$f":"E65+G65+I65+K65+M65","v":84},{"$f":"MAX(D65,F65,H65,J65,L65)","v":31},{"$f":"IF(S65=1,O65,IF(S65=0,(O65-P65),\"-\"))","v":"-"},{"$f":"COUNTIF(U65:AD65,\"=TRUE\")","v":3},{"$f":"AE$1-R65","v":2},{"$f":"IF(S65<2,\"Yes\",\"No\")","v":"No"},{"$f":"IF(D65=\"-\",1,0)*U$1","v":0},{"$f":"AND(U65=0,U$1=1)","v":true},{"$f":"IF(F65=\"-\",1,0)*W$1","v":0},{"$f":"AND(W65=0,W$1=1)","v":true},{"$f":"IF(H65=\"-\",1,0)*Y$1","v":0},{"$f":"AND(Y65=0,Y$1=1)","v":true},{"$f":"IF(J65=\"-\",1,0)*AA$1","v":1},{"$f":"AND(AA65=0,AA$1=1)","v":false},{"$f":"IF(L65=\"-\",1,0)*AC$1","v":1},{"$f":"AND(AC65=0,AC$1=1)","v":false}]
[72,"Jordan Barnard-Briers","Thomas Estley CC","-",{"$f":"IF(D66=\"-\",0,D66)","v":0},36,{"$f":"IF(F66=\"-\",0,F66)","v":36},32,{"$f":"IF(H66=\"-\",0,H66)","v":32},"-",{"$f":"IF(J66=\"-\",0,J66)","v":0},"-",{"$f":"IF(L66=\"-\",0,L66)","v":0},null,{"$f":"E66+G66+I66+K66+M66","v":68},{"$f":"MAX(D66,F66,H66,J66,L66)","v":36},{"$f":"IF(S66=1,O66,IF(S66=0,(O66-P66),\"-\"))","v":"-"},{"$f":"COUNTIF(U66:AD66,\"=TRUE\")","v":2},{"$f":"AE$1-R66","v":3},{"$f":"IF(S66<2,\"Yes\",\"No\")","v":"No"},{"$f":"IF(D66=\"-\",1,0)*U$1","v":1},{"$f":"AND(U66=0,U$1=1)","v":false},{"$f":"IF(F66=\"-\",1,0)*W$1","v":0},{"$f":"AND(W66=0,W$1=1)","v":true},{"$f":"IF(H66=\"-\",1,0)*Y$1","v":0},{"$f":"AND(Y66=0,Y$1=1)","v":true},{"$f":"IF(J66=\"-\",1,0)*AA$1","v":1},{"$f":"AND(AA66=0,AA$1=1)","v":false},{"$f":"IF(L66=\"-\",1,0)*AC$1","v":1},{"$f":"AND(AC66=0,AC$1=1)","v":false}]
[14,"Jake Chandler","Lutterworth High School",54,{"$f":"IF(D67=\"-\",0,D67)","v":54},38,{"$f":"IF(F67=\"-\",0,F67)","v":38},37,{"$f":"IF(H67=\"-\",0,H67)","v":37},"-",{"$f":"IF(J67=\"-\",0,J67)","v":0},"-",{"$f":"IF(L67=\"-\",0,L67)","v":0},null,{"$f":"E67+G67+I67+K67+M67","v":129},{"$f":"MAX(D67,F67,H67,J67,L67)","v":54},{"$f":"IF(S67=1,O67,IF(S67=0,(O67-P67),\"-\"))","v":"-"},{"$f":"COUNTIF(U67:AD67,\"=TRUE\")","v":3},{"$f":"AE$1-R67","v":2},{"$f":"IF(S67<2,\"Yes\",\"No\")","v":"No"},{"$f":"IF(D67=\"-\",1,0)*U$1","v":0},{"$f":"AND(U67=0,U$1=1)","v":true},{"$f":"IF(F67=\"-\",1,0)*W$1","v":0},{"$f":"AND(W67=0,W$1=1)","v":true},{"$f":"IF(H67=\"-\",1,0)*Y$1","v":0},{"$f":"AND(Y67=0,Y$1=1)","v":true},{"$f":"IF(J67=\"-\",1,0)*AA$1","v":1},{"$f":"AND(AA67=0,AA$1=1)","v":false},{"$f":"IF(L67=\"-\",1,0)*AC$1","v":1},{"$f":"AND(AC67=0,AC$1=1)","v":false}]
[13,"Rohan Didier","Bosworth Academy","-",{"$f":"IF(D68=\"-\",0,D68)","v":0},"-",{"$f":"IF(F68=\"-\",0,F68)","v":0},38,{"$f":"IF(H68=\"-\",0,H68)","v":38},"-",{"$f":"IF(J68=\"-\",0,J68)","v":0},"-",{"$f":"IF(L68=\"-\",0,L68)","v":0},null,{"$f":"E68+G68+I68+K68+M68","v":38},{"$f":"MAX(D68,F68,H68,J68,L68)","v":38},{"$f":"IF(S68=1,O68,IF(S68=0,(O68-P68),\"-\"))","v":"-"},{"$f":"COUNTIF(U68:AD68,\"=TRUE\")","v":1},{"$f":"AE$1-R68","v":4},{"$f":"IF(S68<2,\"Yes\",\"No\")","v":"No"},{"$f":"IF(D68=\"-\",1,0)*U$1","v":1},{"$f":"AND(U68=0,U$1=1)","v":false},{"$f":"IF(F68=\"-\",1,0)*W$1","v":1},{"$f":"AND(W68=0,W$1=1)","v":false},{"$f":"IF(H68=\"-\",1,0)*Y$1","v":0},{"$f":"AND(Y68=0,Y$1=1)","v":true},{"$f":"IF(J68=\"-\",1,0)*AA$1","v":1},{"$f":"AND(AA68=0,AA$1=1)","v":false},{"$f":"IF(L68=\"-\",1,0)*AC$1","v":1},{"$f":"AND(AC68=0,AC$1=1)","v":false}]
[41,"Mohammed Khansaheb","Crown Hills CC","-",{"$f":"IF(D69=\"-\",0,D69)","v":0},55,{"$f":"IF(F69=\"-\",0,F69)","v":55},43,{"$f":"IF(H69=\"-\",0,H69)","v":43},"-",{"$f":"IF(J69=\"-\",0,J69)","v":0},"-",{"$f":"IF(L69=\"-\",0,L69)","v":0},null,{"$f":"E69+G69+I69+K69+M69","v":98},{"$f":"MAX(D69,F69,H69,J69,L69)","v":55},{"$f":"IF(S69=1,O69,IF(S69=0,(O69-P69),\"-\"))","v":"-"},{"$f":"COUNTIF(U69:AD69,\"=TRUE\")","v":2},{"$f":"AE$1-R69","v":3},{"$f":"IF(S69<2,\"Yes\",\"No\")","v":"No"},{"$f":"IF(D69=\"-\",1,0)*U$1","v":1},{"$f":"AND(U69=0,U$1=1)","v":false},{"$f":"IF(F69=\"-\",1,0)*W$1","v":0},{"$f":"AND(W69=0,W$1=1)","v":true},{"$f":"IF(H69=\"-\",1,0)*Y$1","v":0},{"$f":"AND(Y69=0,Y$1=1)","v":true},{"$f":"IF(J69=\"-\",1,0)*AA$1","v":1},{"$f":"AND(AA69=0,AA$1=1)","v":false},{"$f":"IF(L69=\"-\",1,0)*AC$1","v":1},{"$f":"AND(AC69=0,AC$1=1)","v":false}]
[6,"Joe Donsham","Bosworth Academy","-",{"$f":"IF(D70=\"-\",0,D70)","v":0},"-",{"$f":"IF(F70=\"-\",0,F70)","v":0},45,{"$f":"IF(H70=\"-\",0,H70)","v":45},"-",{"$f":"IF(J70=\"-\",0,J70)","v":0},"-",{"$f":"IF(L70=\"-\",0,L70)","v":0},null,{"$f":"E70+G70+I70+K70+M70","v":45},{"$f":"MAX(D70,F70,H70,J70,L70)","v":45},{"$f":"IF(S70=1,O70,IF(S70=0,(O70-P70),\"-\"))","v":"-"},{"$f":"COUNTIF(U70:AD70,\"=TRUE\")","v":1},{"$f":"AE$1-R70","v":4},{"$f":"IF(S70<2,\"Yes\",\"No\")","v":"No"},{"$f":"IF(D70=\"-\",1,0)*U$1","v":1},{"$f":"AND(U70=0,U$1=1)","v":false},{"$f":"IF(F70=\"-\",1,0)*W$1","v":1},{"$f":"AND(W70=0,W$1=1)","v":false},{"$f":"IF(H70=\"-\",1,0)*Y$1","v":0},{"$f":"AND(Y70=0,Y$1=1)","v":true},{"$f":"IF(J70=\"-\",1,0)*AA$1","v":1},{"$f":"AND(AA70=0,AA$1=1)","v":false},{"$f":"IF(L70=\"-\",1,0)*AC$1","v":1},{"$f":"AND(AC70=0,AC$1=1)","v":false}]
[15,"Muhammed Shah","Crown Hills CC","-",{"$f":"IF(D71=\"-\",0,D71)","v":0},50,{"$f":"IF(F71=\"-\",0,F71)","v":50},47,{"$f":"IF(H71=\"-\",0,H71)","v":47},"-",{"$f":"IF(J71=\"-\",0,J71)","v":0},"-",{"$f":"IF(L71=\"-\",0,L71)","v":0},null,{"$f":"E71+G71+I71+K71+M71","v":97},{"$f":"MAX(D71,F71,H71,J71,L71)","v":50},{"$f":"IF(S71=1,O71,IF(S71=0,(O71-P71),\"-\"))","v":"-"},{"$f":"COUNTIF(U71:AD71,\"=TRUE\")","v":2},{"$f":"AE$1-R71","v":3},{"$f":"IF(S71<2,\"Yes\",\"No\")","v":"No"},{"$f":"IF(D71=\"-\",1,0)*U$1","v":1},{"$f":"AND(U71=0,U$1=1)","v":false},{"$f":"IF(F71=\"-\",1,0)*W$1","v":0},{"$f":"AND(W71=0,W$1=1)","v":true},{"$f":"IF(H71=\"-\",1,0)*Y$1","v":0},{"$f":"AND(Y71=0,Y$1=1)","v":true},{"$f":"IF(J71=\"-\",1,0)*AA$1","v":1},{"$f":"AND(AA71=0,AA$1=1)","v":false},{"$f":"IF(L71=\"-\",1,0)*AC$1","v":1},{"$f":"AND(AC71=0,AC$1=1)","v":false}]
[57,"Adam Bowditch","Welland Park Academy","-",{"$f":"IF(D72=\"-\",0,D72)","v":0},"-",{"$f":"IF(F72=\"-\",0,F72)","v":0},50,{"$f":"IF(H72=\"-\",0,H72)","v":50},"-",{"$f":"IF(J72=\"-\",0,J72)","v":0},"-",{"$f":"IF(L72=\"-\",0,L72)","v":0},null,{"$f":"E72+G72+I72+K72+M72","v":50},{"$f":"MAX(D72,F72,H72,J72,L72)","v":50},{"$f":"IF(S72=1,O72,IF(S72=0,(O72-P72),\"-\"))","v":"-"},{"$f":"COUNTIF(U72:AD72,\"=TRUE\")","v":1},{"$f":"AE$1-R72","v":4},{"$f":"IF(S72<2,\"Yes\",\"No\")","v":"No"},{"$f":"IF(D72=\"-\",1,0)*U$1","v":1},{"$f":"AND(U72=0,U$1=1)","v":false},{"$f":"IF(F72=\"-\",1,0)*W$1","v":1},{"$f":"AND(W72=0,W$1=1)","v":false},{"$f":"IF(H72=\"-\",1,0)*Y$1","v":0},{"$f":"AND(Y72=0,Y$1=1)","v":true},{"$f":"IF(J72=\"-\",1,0)*AA$1","v":1},{"$f":"AND(AA72=0,AA$1=1)","v":false},{"$f":"IF(L72=\"-\",1,0)*AC$1","v":1},{"$f":"AND(AC72=0,AC$1=1)","v":false}]
[61,"Ziyad Mamodo","Crown Hills CC","-",{"$f":"IF(D73=\"-\",0,D73)","v":0},63,{"$f":"IF(F73=\"-\",0,F73)","v":63},51,{"$f":"IF(H73=\"-\",0,H73)","v":51},"-",{"$f":"IF(J73=\"-\",0,J73)","v":0},"-",{"$f":"IF(L73=\"-\",0,L73)","v":0},null,{"$f":"E73+G73+I73+K73+M73","v":114},{"$f":"MAX(D73,F73,H73,J73,L73)","v":63},{"$f":"IF(S73=1,O73,IF(S73=0,(O73-P73),\"-\"))","v":"-"},{"$f":"COUNTIF(U73:AD73,\"=TRUE\")","v":2},{"$f":"AE$1-R73","v":3},{"$f":"IF(S73<2,\"Yes\",\"No\")","v":"No"},{"$f":"IF(D73=\"-\",1,0)*U$1","v":1},{"$f":"AND(U73=0,U$1=1)","v":false},{"$f":"IF(F73=\"-\",1,0)*W$1","v":0},{"$f":"AND(W73=0,W$1=1)","v":true},{"$f":"IF(H73=\"-\",1,0)*Y$1","v":0},{"$f":"AND(Y73=0,Y$1=1)","v":true},{"$f":"IF(J73=\"-\",1,0)*AA$1","v":1},{"$f":"AND(AA73=0,AA$1=1)","v":false},{"$f":"IF(L73=\"-\",1,0)*AC$1","v":1},{"$f":"AND(AC73=0,AC$1=1)","v":false}]
[25,"Aidan Elsworth ","St Martins",14,{"$f":"IF(D74=\"-\",0,D74)","v":14},9,{"$f":"IF(F74=\"-\",0,F74)","v":9},"-",{"$f":"IF(H74=\"-\",0,H74)","v":0},"-",{"$f":"IF(J74=\"-\",0,J74)","v":0},"-",{"$f":"IF(L74=\"-\",0,L74)","v":0},null,{"$f":"E74+G74+I74+K74+M74","v":23},{"$f":"MAX(D74,F74,H74,J74,L74)","v":14},{"$f":"IF(S74=1,O74,IF(S74=0,(O74-P74),\"-\"))","v":"-"},{"$f":"COUNTIF(U74:AD74,\"=TRUE\")","v":2},{"$f":"AE$1-R74","v":3},{"$f":"IF(S74<2,\"Yes\",\"No\")","v":"No"},{"$f":"IF(D74=\"-\",1,0)*U$1","v":0},{"$f":"AND(U74=0,U$1=1)","v":true},{"$f":"IF(F74=\"-\",1,0)*W$1","v":0},{"$f":"AND(W74=0,W$1=1)","v":true},{"$f":"IF(H74=\"-\",1,0)*Y$1","v":1},{"$f":"AND(Y74=0,Y$1=1)","v":false},{"$f":"IF(J74=\"-\",1,0)*AA$1","v":1},{"$f":"AND(AA74=0,AA$1=1)","v":false},{"$f":"IF(L74=\"-\",1,0)*AC$1","v":1},{"$f":"AND(AC74=0,AC$1=1)","v":false}]
[76,"Tom Williams","Loughborough Grammar School","-",{"$f":"IF(D75=\"-\",0,D75)","v":0},14,{"$f":"IF(F75=\"-\",0,F75)","v":14},"-",{"$f":"IF(H75=\"-\",0,H75)","v":0},"-",{"$f":"IF(J75=\"-\",0,J75)","v":0},"-",{"$f":"IF(L75=\"-\",0,L75)","v":0},null,{"$f":"E75+G75+I75+K75+M75","v":14},{"$f":"MAX(D75,F75,H75,J75,L75)","v":14},{"$f":"IF(S75=1,O75,IF(S75=0,(O75-P75),\"-\"))","v":"-"},{"$f":"COUNTIF(U75:AD75,\"=TRUE\")","v":1},{"$f":"AE$1-R75","v":4},{"$f":"IF(S75<2,\"Yes\",\"No\")","v":"No"},{"$f":"IF(D75=\"-\",1,0)*U$1","v":1},{"$f":"AND(U75=0,U$1=1)","v":false},{"$f":"IF(F75=\"-\",1,0)*W$1","v":0},{"$f":"AND(W75=0,W$1=1)","v":true},{"$f":"IF(H75=\"-\",1,0)*Y$1","v":1},{"$f":"AND(Y75=0,Y$1=1)","v":false},{"$f":"IF(J75=\"-\",1,0)*AA$1","v":1},{"$f":"AND(AA75=0,AA$1=1)","v":false},{"$f":"IF(L75=\"-\",1,0)*AC$1","v":1},{"$f":"AND(AC75=0,AC$1=1)","v":false}]
[40,"Luca de Silva","The Martin High School","-",{"$f":"IF(D76=\"-\",0,D76)","v":0},16,{"$f":"IF(F76=\"-\",0,F76)","v":16},"-",{"$f":"IF(H76=\"-\",0,H76)","v":0},"-",{"$f":"IF(J76=\"-\",0,J76)","v":0},"-",{"$f":"IF(L76=\"-\",0,L76)","v":0},null,{"$f":"E76+G76+I76+K76+M76","v":16},{"$f":"MAX(D76,F76,H76,J76,L76)","v":16},{"$f":"IF(S76=1,O76,IF(S76=0,(O76-P76),\"-\"))","v":"-"},{"$f":"COUNTIF(U76:AD76,\"=TRUE\")","v":1},{"$f":"AE$1-R76","v":4},{"$f":"IF(S76<2,\"Yes\",\"No\")","v":"No"},{"$f":"IF(D76=\"-\",1,0)*U$1","v":1},{"$f":"AND(U76=0,U$1=1)","v":false},{"$f":"IF(F76=\"-\",1,0)*W$1","v":0},{"$f":"AND(W76=0,W$1=1)","v":true},{"$f":"IF(H76=\"-\",1,0)*Y$1","v":1},{"$f":"AND(Y76=0,Y$1=1)","v":false},{"$f":"IF(J76=\"-\",1,0)*AA$1","v":1},{"$f":"AND(AA76=0,AA$1=1)","v":false},{"$f":"IF(L76=\"-\",1,0)*AC$1","v":1},{"$f":"AND(AC76=0,AC$1=1)","v":false}]
[7,"Harry Lawler","Humphrey Perkins School",24,{"$f":"IF(D77=\"-\",0,D77)","v":24},21,{"$f":"IF(F77=\"-\",0,F77)","v":21},"-",{"$f":"IF(H77=\"-\",0,H77)","v":0},"-",{"$f":"IF(J77=\"-\",0,J77)","v":0},"-",{"$f":"IF(L77=\"-\",0,L77)","v":0},null,{"$f":"E77+G77+I77+K77+M77","v":45},{"$f":"MAX(D77,F77,H77,J77,L77)","v":24},{"$f":"IF(S77=1,O77,IF(S77=0,(O77-P77),\"-\"))","v":"-"},{"$f":"COUNTIF(U77:AD77,\"=TRUE\")","v":2},{"$f":"AE$1-R77","v":3},{"$f":"IF(S77<2,\"Yes\",\"No\")","v":"No"},{"$f":"IF(D77=\"-\",1,0)*U$1","v":0},{"$f":"AND(U77=0,U$1=1)","v":true},{"$f":"IF(F77=\"-\",1,0)*W$1","v":0},{"$f":"AND(W77=0,W$1=1)","v":true},{"$f":"IF(H77=\"-\",1,0)*Y$1","v":1},{"$f":"AND(Y77=0,Y$1=1)","v":false},{"$f":"IF(J77=\"-\",1,0)*AA$1","v":1},{"$f":"AND(AA77=0,AA$1=1)","v":false},{"$f":"IF(L77=\"-\",1,0)*AC$1","v":1},{"$f":"AND(AC77=0,AC$1=1)","v":false}]
[83,"Matthew Tierney","Long Field Academy",33,{"$f":"IF(D78=\"-\",0,D78)","v":33},25,{"$f":"IF(F78=\"-\",0,F78)","v":25},"-",{"$f":"IF(H78=\"-\",0,H78)","v":0},"-",{"$f":"IF(J78=\"-\",0,J78)","v":0},"-",{"$f":"IF(L78=\"-\",0,L78)","v":0},null,{"$f":"E78+G78+I78+K78+M78","v":58},{"$f":"MAX(D78,F78,H78,J78,L78)","v":33},{"$f":"IF(S78=1,O78,IF(S78=0,(O78-P78),\"-\"))","v":"-"},{"$f":"COUNTIF(U78:AD78,\"=TRUE\")","v":2},{"$f":"AE$1-R78","v":3},{"$f":"IF(S78<2,\"Yes\",\"No\")","v":"No"},{"$f":"IF(D78=\"-\",1,0)*U$1","v":0},{"$f":"AND(U78=0,U$1=1)","v":true},{"$f":"IF(F78=\"-\",1,0)*W$1","v":0},{"$f":"AND(W78=0,W$1=1)","v":true},{"$f":"IF(H78=\"-\",1,0)*Y$1","v":1},{"$f":"AND(Y78=0,Y$1=1)","v":false},{"$f":"IF(J78=\"-\",1,0)*AA$1","v":1},{"$f":"AND(AA78=0,AA$1=1)","v":false},{"$f":"IF(L78=\"-\",1,0)*AC$1","v":1},{"$f":"AND(AC78=0,AC$1=1)","v":false}]
[47,"James Noble","The Martin High School",34,{"$f":"IF(D79=\"-\",0,D79)","v":34},26,{"$f":"IF(F79=\"-\",0,F79)","v":26},"-",{"$f":"IF(H79=\"-\",0,H79)","v":0},"-",{"$f":"IF(J79=\"-\",0,J79)","v":0},"-",{"$f":"IF(L79=\"-\",0,L79)","v":0},null,{"$f":"E79+G79+I79+K79+M79","v":60},{"$f":"MAX(D79,F79,H79,J79,L79)","v":34},{"$f":"IF(S79=1,O79,IF(S79=0,(O79-P79),\"-\"))","v":"-"},{"$f":"COUNTIF(U79:AD79,\"=TRUE\")","v":2},{"$f":"AE$1-R79","v":3},{"$f":"IF(S79<2,\"Yes\",\"No\")","v":"No"},{"$f":"IF(D79=\"-\",1,0)*U$1","v":0},{"$f":"AND(U79=0,U$1=1)","v":true},{"$f":"IF(F79=\"-\",1,0)*W$1","v":0},{"$f":"AND(W79=0,W$1=1)","v":true},{"$f":"IF(H79=\"-\",1,0)*Y$1","v":1},{"$f":"AND(Y79=0,Y$1=1)","v":false},{"$f":"IF(J79=\"-\",1,0)*AA$1","v":1},{"$f":"AND(AA79=0,AA$1=1)","v":false},{"$f":"IF(L79=\"-\",1,0)*AC$1","v":1},{"$f":"AND(AC79=0,AC$1=1)","v":false}]
[53,"Nathan Booker","Kibworth High School",40,{"$f":"IF(D80=\"-\",0,D80)","v":40},37,{"$f":"IF(F80=\"-\",0,F80)","v":37},"-",{"$f":"IF(H80=\"-\",0,H80)","v":0},"-",{"$f":"IF(J80=\"-\",0,J80)","v":0},"-",{"$f":"IF(L80=\"-\",0,L80)","v":0},null,{"$f":"E80+G80+I80+K80+M80","v":77},{"$f":"MAX(D80,F80,H80,J80,L80)","v":40},{"$f":"IF(S80=1,O80,IF(S80=0,(O80-P80),\"-\"))","v":"-"},{"$f":"COUNTIF(U80:AD80,\"=TRUE\")","v":2},{"$f":"AE$1-R80","v":3},{"$f":"IF(S80<2,\"Yes\",\"No\")","v":"No"},{"$f":"IF(D80=\"-\",1,0)*U$1","v":0},{"$f":"AND(U80=0,U$1=1)","v":true},{"$f":"IF(F80=\"-\",1,0)*W$1","v":0},{"$f":"AND(W80=0,W$1=1)","v":true},{"$f":"IF(H80=\"-\",1,0)*Y$1","v":1},{"$f":"AND(Y80=0,Y$1=1)","v":false},{"$f":"IF(J80=\"-\",1,0)*AA$1","v":1},{"$f":"AND(AA80=0,AA$1=1)","v":false},{"$f":"IF(L80=\"-\",1,0)*AC$1","v":1},{"$f":"AND(AC80=0,AC$1=1)","v":false}]
[38,"Chris Frape","Bosworth Academy","-",{"$f":"IF(D81=\"-\",0,D81)","v":0},39,{"$f":"IF(F81=\"-\",0,F81)","v":39},"-",{"$f":"IF(H81=\"-\",0,H81)","v":0},"-",{"$f":"IF(J81=\"-\",0,J81)","v":0},"-",{"$f":"IF(L81=\"-\",0,L81)","v":0},null,{"$f":"E81+G81+I81+K81+M81","v":39},{"$f":"MAX(D81,F81,H81,J81,L81)","v":39},{"$f":"IF(S81=1,O81,IF(S81=0,(O81-P81),\"-\"))","v":"-"},{"$f":"COUNTIF(U81:AD81,\"=TRUE\")","v":1},{"$f":"AE$1-R81","v":4},{"$f":"IF(S81<2,\"Yes\",\"No\")","v":"No"},{"$f":"IF(D81=\"-\",1,0)*U$1","v":1},{"$f":"AND(U81=0,U$1=1)","v":false},{"$f":"IF(F81=\"-\",1,0)*W$1","v":0},{"$f":"AND(W81=0,W$1=1)","v":true},{"$f":"IF(H81=\"-\",1,0)*Y$1","v":1},{"$f":"AND(Y81=0,Y$1=1)","v":false},{"$f":"IF(J81=\"-\",1,0)*AA$1","v":1},{"$f":"AND(AA81=0,AA$1=1)","v":false},{"$f":"IF(L81=\"-\",1,0)*AC$1","v":1},{"$f":"AND(AC81=0,AC$1=1)","v":false}]
[55,"Stefan Bernhardt","Loughborough Grammar School",46,{"$f":"IF(D82=\"-\",0,D82)","v":46},41,{"$f":"IF(F82=\"-\",0,F82)","v":41},"-",{"$f":"IF(H82=\"-\",0,H82)","v":0},"-",{"$f":"IF(J82=\"-\",0,J82)","v":0},"-",{"$f":"IF(L82=\"-\",0,L82)","v":0},null,{"$f":"E82+G82+I82+K82+M82","v":87},{"$f":"MAX(D82,F82,H82,J82,L82)","v":46},{"$f":"IF(S82=1,O82,IF(S82=0,(O82-P82),\"-\"))","v":"-"},{"$f":"COUNTIF(U82:AD82,\"=TRUE\")","v":2},{"$f":"AE$1-R82","v":3},{"$f":"IF(S82<2,\"Yes\",\"No\")","v":"No"},{"$f":"IF(D82=\"-\",1,0)*U$1","v":0},{"$f":"AND(U82=0,U$1=1)","v":true},{"$f":"IF(F82=\"-\",1,0)*W$1","v":0},{"$f":"AND(W82=0,W$1=1)","v":true},{"$f":"IF(H82=\"-\",1,0)*Y$1","v":1},{"$f":"AND(Y82=0,Y$1=1)","v":false},{"$f":"IF(J82=\"-\",1,0)*AA$1","v":1},{"$f":"AND(AA82=0,AA$1=1)","v":false},{"$f":"IF(L82=\"-\",1,0)*AC$1","v":1},{"$f":"AND(AC82=0,AC$1=1)","v":false}]
[21,"Hugo Cavner","John Ferneley College","-",{"$f":"IF(D83=\"-\",0,D83)","v":0},45,{"$f":"IF(F83=\"-\",0,F83)","v":45},"-",{"$f":"IF(H83=\"-\",0,H83)","v":0},"-",{"$f":"IF(J83=\"-\",0,J83)","v":0},"-",{"$f":"IF(L83=\"-\",0,L83)","v":0},null,{"$f":"E83+G83+I83+K83+M83","v":45},{"$f":"MAX(D83,F83,H83,J83,L83)","v":45},{"$f":"IF(S83=1,O83,IF(S83=0,(O83-P83),\"-\"))","v":"-"},{"$f":"COUNTIF(U83:AD83,\"=TRUE\")","v":1},{"$f":"AE$1-R83","v":4},{"$f":"IF(S83<2,\"Yes\",\"No\")","v":"No"},{"$f":"IF(D83=\"-\",1,0)*U$1","v":1},{"$f":"AND(U83=0,U$1=1)","v":false},{"$f":"IF(F83=\"-\",1,0)*W$1","v":0},{"$f":"AND(W83=0,W$1=1)","v":true},{"$f":"IF(H83=\"-\",1,0)*Y$1","v":1},{"$f":"AND(Y83=0,Y$1=1)","v":false},{"$f":"IF(J83=\"-\",1,0)*AA$1","v":1},{"$f":"AND(AA83=0,AA$1=1)","v":false},{"$f":"IF(L83=\"-\",1,0)*AC$1","v":1},{"$f":"AND(AC83=0,AC$1=1)","v":false}]
[58,"Avi Sampat","Crown Hills CC","-",{"$f":"IF(D84=\"-\",0,D84)","v":0},51,{"$f":"IF(F84=\"-\",0,F84)","v":51},"-",{"$f":"IF(H84=\"-\",0,H84)","v":0},"-",{"$f":"IF(J84=\"-\",0,J84)","v":0},"-",{"$f":"IF(L84=\"-\",0,L84)","v":0},null,{"$f":"E84+G84+I84+K84+M84","v":51},{"$f":"MAX(D84,F84,H84,J84,L84)","v":51},{"$f":"IF(S84=1,O84,IF(S84=0,(O84-P84),\"-\"))","v":"-"},{"$f":"COUNTIF(U84:AD84,\"=TRUE\")","v":1},{"$f":"AE$1-R84","v":4},{"$f":"IF(S84<2,\"Yes\",\"No\")","v":"No"},{"$f":"IF(D84=\"-\",1,0)*U$1","v":1},{"$f":"AND(U84=0,U$1=1)","v":false},{"$f":"IF(F84=\"-\",1,0)*W$1","v":0},{"$f":"AND(W84=0,W$1=1)","v":true},{"$f":"IF(H84=\"-\",1,0)*Y$1","v":1},{"$f":"AND(Y84=0,Y$1=1)","v":false},{"$f":"IF(J84=\"-\",1,0)*AA$1","v":1},{"$f":"AND(AA84=0,AA$1=1)","v":false},{"$f":"IF(L84=\"-\",1,0)*AC$1","v":1},{"$f":"AND(AC84=0,AC$1=1)","v":false}]
[75,"David Alcott","Brookvale High School",60,{"$f":"IF(D85=\"-\",0,D85)","v":60},52,{"$f":"IF(F85=\"-\",0,F85)","v":52},"-",{"$f":"IF(H85=\"-\",0,H85)","v":0},"-",{"$f":"IF(J85=\"-\",0,J85)","v":0},"-",{"$f":"IF(L85=\"-\",0,L85)","v":0},null,{"$f":"E85+G85+I85+K85+M85","v":112},{"$f":"MAX(D85,F85,H85,J85,L85)","v":60},{"$f":"IF(S85=1,O85,IF(S85=0,(O85-P85),\"-\"))","v":"-"},{"$f":"COUNTIF(U85:AD85,\"=TRUE\")","v":2},{"$f":"AE$1-R85","v":3},{"$f":"IF(S85<2,\"Yes\",\"No\")","v":"No"},{"$f":"IF(D85=\"-\",1,0)*U$1","v":0},{"$f":"AND(U85=0,U$1=1)","v":true},{"$f":"IF(F85=\"-\",1,0)*W$1","v":0},{"$f":"AND(W85=0,W$1=1)","v":true},{"$f":"IF(H85=\"-\",1,0)*Y$1","v":1},{"$f":"AND(Y85=0,Y$1=1)","v":false},{"$f":"IF(J85=\"-\",1,0)*AA$1","v":1},{"$f":"AND(AA85=0,AA$1=1)","v":false},{"$f":"IF(L85=\"-\",1,0)*AC$1","v":1},{"$f":"AND(AC85=0,AC$1=1)","v":false}]
[20,"Myles Fenwick","Uppingham CC","-",{"$f":"IF(D86=\"-\",0,D86)","v":0},57,{"$f":"IF(F86=\"-\",0,F86)","v":57},"-",{"$f":"IF(H86=\"-\",0,H86)","v":0},"-",{"$f":"IF(J86=\"-\",0,J86)","v":0},"-",{"$f":"IF(L86=\"-\",0,L86)","v":0},null,{"$f":"E86+G86+I86+K86+M86","v":57},{"$f":"MAX(D86,F86,H86,J86,L86)","v":57},{"$f":"IF(S86=1,O86,IF(S86=0,(O86-P86),\"-\"))","v":"-"},{"$f":"COUNTIF(U86:AD86,\"=TRUE\")","v":1},{"$f":"AE$1-R86","v":4},{"$f":"IF(S86<2,\"Yes\",\"No\")","v":"No"},{"$f":"IF(D86=\"-\",1,0)*U$1","v":1},{"$f":"AND(U86=0,U$1=1)","v":false},{"$f":"IF(F86=\"-\",1,0)*W$1","v":0},{"$f":"AND(W86=0,W$1=1)","v":true},{"$f":"IF(H86=\"-\",1,0)*Y$1","v":1},{"$f":"AND(Y86=0,Y$1=1)","v":false},{"$f":"IF(J86=\"-\",1,0)*AA$1","v":1},{"$f":"AND(AA86=0,AA$1=1)","v":false},{"$f":"IF(L86=\"-\",1,0)*AC$1","v":1},{"$f":"AND(AC86=0,AC$1=1)","v":false}]
[18,"Abdi Malik Hirsi","Crown Hills CC","-",{"$f":"IF(D87=\"-\",0,D87)","v":0},59,{"$f":"IF(F87=\"-\",0,F87)","v":59},"-",{"$f":"IF(H87=\"-\",0,H87)","v":0},"-",{"$f":"IF(J87=\"-\",0,J87)","v":0},"-",{"$f":"IF(L87=\"-\",0,L87)","v":0},null,{"$f":"E87+G87+I87+K87+M87","v":59},{"$f":"MAX(D87,F87,H87,J87,L87)","v":59},{"$f":"IF(S87=1,O87,IF(S87=0,(O87-P87),\"-\"))","v":"-"},{"$f":"COUNTIF(U87:AD87,\"=TRUE\")","v":1},{"$f":"AE$1-R87","v":4},{"$f":"IF(S87<2,\"Yes\",\"No\")","v":"No"},{"$f":"IF(D87=\"-\",1,0)*U$1","v":1},{"$f":"AND(U87=0,U$1=1)","v":false},{"$f":"IF(F87=\"-\",1,0)*W$1","v":0},{"$f":"AND(W87=0,W$1=1)","v":true},{"$f":"IF(H87=\"-\",1,0)*Y$1","v":1},{"$f":"AND(Y87=0,Y$1=1)","v":false},{"$f":"IF(J87=\"-\",1,0)*AA$1","v":1},{"$f":"AND(AA87=0,AA$1=1)","v":false},{"$f":"IF(L87=\"-\",1,0)*AC$1","v":1},{"$f":"AND(AC87=0,AC$1=1)","v":false}]
[56,"Adam Lower","Bosworth Academy",65,{"$f":"IF(D88=\"-\",0,D88)","v":65},60,{"$f":"IF(F88=\"-\",0,F88)","v":60},"-",{"$f":"IF(H88=\"-\",0,H88)","v":0},"-",{"$f":"IF(J88=\"-\",0,J88)","v":0},"-",{"$f":"IF(L88=\"-\",0,L88)","v":0},null,{"$f":"E88+G88+I88+K88+M88","v":125},{"$f":"MAX(D88,F88,H88,J88,L88)","v":65},{"$f":"IF(S88=1,O88,IF(S88=0,(O88-P88),\"-\"))","v":"-"},{"$f":"COUNTIF(U88:AD88,\"=TRUE\")","v":2},{"$f":"AE$1-R88","v":3},{"$f":"IF(S88<2,\"Yes\",\"No\")","v":"No"},{"$f":"IF(D88=\"-\",1,0)*U$1","v":0},{"$f":"AND(U88=0,U$1=1)","v":true},{"$f":"IF(F88=\"-\",1,0)*W$1","v":0},{"$f":"AND(W88=0,W$1=1)","v":true},{"$f":"IF(H88=\"-\",1,0)*Y$1","v":1},{"$f":"AND(Y88=0,Y$1=1)","v":false},{"$f":"IF(J88=\"-\",1,0)*AA$1","v":1},{"$f":"AND(AA88=0,AA$1=1)","v":false},{"$f":"IF(L88=\"-\",1,0)*AC$1","v":1},{"$f":"AND(AC88=0,AC$1=1)","v":false}]
[29,"Lucas Perkins","Lutterworth High School","-",{"$f":"IF(D89=\"-\",0,D89)","v":0},61,{"$f":"IF(F89=\"-\",0,F89)","v":61},"-",{"$f":"IF(H89=\"-\",0,H89)","v":0},"-",{"$f":"IF(J89=\"-\",0,J89)","v":0},"-",{"$f":"IF(L89=\"-\",0,L89)","v":0},null,{"$f":"E89+G89+I89+K89+M89","v":61},{"$f":"MAX(D89,F89,H89,J89,L89)","v":61},{"$f":"IF(S89=1,O89,IF(S89=0,(O89-P89),\"-\"))","v":"-"},{"$f":"COUNTIF(U89:AD89,\"=TRUE\")","v":1},{"$f":"AE$1-R89","v":4},{"$f":"IF(S89<2,\"Yes\",\"No\")","v":"No"},{"$f":"IF(D89=\"-\",1,0)*U$1","v":1},{"$f":"AND(U89=0,U$1=1)","v":false},{"$f":"IF(F89=\"-\",1,0)*W$1","v":0},{"$f":"AND(W89=0,W$1=1)","v":true},{"$f":"IF(H89=\"-\",1,0)*Y$1","v":1},{"$f":"AND(Y89=0,Y$1=1)","v":false},{"$f":"IF(J89=\"-\",1,0)*AA$1","v":1},{"$f":"AND(AA89=0,AA$1=1)","v":false},{"$f":"IF(L89=\"-\",1,0)*AC$1","v":1},{"$f":"AND(AC89=0,AC$1=1)","v":false}]
[82,"Henry Cooke","Manor High School",56,{"$f":"IF(D90=\"-\",0,D90)","v":56},64,{"$f":"IF(F90=\"-\",0,F90)","v":64},"-",{"$f":"IF(H90=\"-\",0,H90)","v":0},"-",{"$f":"IF(J90=\"-\",0,J90)","v":0},"-",{"$f":"IF(L90=\"-\",0,L90)","v":0},null,{"$f":"E90+G90+I90+K90+M90","v":120},{"$f":"MAX(D90,F90,H90,J90,L90)","v":64},{"$f":"IF(S90=1,O90,IF(S90=0,(O90-P90),\"-\"))","v":"-"},{"$f":"COUNTIF(U90:AD90,\"=TRUE\")","v":2},{"$f":"AE$1-R90","v":3},{"$f":"IF(S90<2,\"Yes\",\"No\")","v":"No"},{"$f":"IF(D90=\"-\",1,0)*U$1","v":0},{"$f":"AND(U90=0,U$1=1)","v":true},{"$f":"IF(F90=\"-\",1,0)*W$1","v":0},{"$f":"AND(W90=0,W$1=1)","v":true},{"$f":"IF(H90=\"-\",1,0)*Y$1","v":1},{"$f":"AND(Y90=0,Y$1=1)","v":false},{"$f":"IF(J90=\"-\",1,0)*AA$1","v":1},{"$f":"AND(AA90=0,AA$1=1)","v":false},{"$f":"IF(L90=\"-\",1,0)*AC$1","v":1},{"$f":"AND(AC90=0,AC$1=1)","v":false}]
[86,"Tyler Silk","John Ferneley College",67,{"$f":"IF(D91=\"-\",0,D91)","v":67},65,{"$f":"IF(F91=\"-\",0,F91)","v":65},"-",{"$f":"IF(H91=\"-\",0,H91)","v":0},"-",{"$f":"IF(J91=\"-\",0,J91)","v":0},"-",{"$f":"IF(L91=\"-\",0,L91)","v":0},null,{"$f":"E91+G91+I91+K91+M91","v":132},{"$f":"MAX(D91,F91,H91,J91,L91)","v":67},{"$f":"IF(S91=1,O91,IF(S91=0,(O91-P91),\"-\"))","v":"-"},{"$f":"COUNTIF(U91:AD91,\"=TRUE\")","v":2},{"$f":"AE$1-R91","v":3},{"$f":"IF(S91<2,\"Yes\",\"No\")","v":"No"},{"$f":"IF(D91=\"-\",1,0)*U$1","v":0},{"$f":"AND(U91=0,U$1=1)","v":true},{"$f":"IF(F91=\"-\",1,0)*W$1","v":0},{"$f":"AND(W91=0,W$1=1)","v":true},{"$f":"IF(H91=\"-\",1,0)*Y$1","v":1},{"$f":"AND(Y91=0,Y$1=1)","v":false},{"$f":"IF(J91=\"-\",1,0)*AA$1","v":1},{"$f":"AND(AA91=0,AA$1=1)","v":false},{"$f":"IF(L91=\"-\",1,0)*AC$1","v":1},{"$f":"AND(AC91=0,AC$1=1)","v":false}]
[32,"Harry Staley","John Ferneley College","-",{"$f":"IF(D92=\"-\",0,D92)","v":0},66,{"$f":"IF(F92=\"-\",0,F92)","v":66},"-",{"$f":"IF(H92=\"-\",0,H92)","v":0},"-",{"$f":"IF(J92=\"-\",0,J92)","v":0},"-",{"$f":"IF(L92=\"-\",0,L92)","v":0},null,{"$f":"E92+G92+I92+K92+M92","v":66},{"$f":"MAX(D92,F92,H92,J92,L92)","v":66},{"$f":"IF(S92=1,O92,IF(S92=0,(O92-P92),\"-\"))","v":"-"},{"$f":"COUNTIF(U92:AD92,\"=TRUE\")","v":1},{"$f":"AE$1-R92","v":4},{"$f":"IF(S92<2,\"Yes\",\"No\")","v":"No"},{"$f":"IF(D92=\"-\",1,0)*U$1","v":1},{"$f":"AND(U92=0,U$1=1)","v":false},{"$f":"IF(F92=\"-\",1,0)*W$1","v":0},{"$f":"AND(W92=0,W$1=1)","v":true},{"$f":"IF(H92=\"-\",1,0)*Y$1","v":1},{"$f":"AND(Y92=0,Y$1=1)","v":false},{"$f":"IF(J92=\"-\",1,0)*AA$1","v":1},{"$f":"AND(AA92=0,AA$1=1)","v":false},{"$f":"IF(L92=\"-\",1,0)*AC$1","v":1},{"$f":"AND(AC92=0,AC$1=1)","v":false}]
[50,"? Jones","Loughborough Grammar School",3,{"$f":"IF(D93=\"-\",0,D93)","v":3},"-",{"$f":"IF(F93=\"-\",0,F93)","v":0},"-",{"$f":"IF(H93=\"-\",0,H93)","v":0},"-",{"$f":"IF(J93=\"-\",0,J93)","v":0},"-",{"$f":"IF(L93=\"-\",0,L93)","v":0},null,{"$f":"E93+G93+I93+K93+M93","v":3},{"$f":"MAX(D93,F93,H93,J93,L93)","v":3},{"$f":"IF(S93=1,O93,IF(S93=0,(O93-P93),\"-\"))","v":"-"},{"$f":"COUNTIF(U93:AD93,\"=TRUE\")","v":1},{"$f":"AE$1-R93","v":4},{"$f":"IF(S93<2,\"Yes\",\"No\")","v":"No"},{"$f":"IF(D93=\"-\",1,0)*U$1","v":0},{"$f":"AND(U93=0,U$1=1)","v":true},{"$f":"IF(F93=\"-\",1,0)*W$1","v":1},{"$f":"AND(W93=0,W$1=1)","v":false},{"$f":"IF(H93=\"-\",1,0)*Y$1","v":1},{"$f":"AND(Y93=0,Y$1=1)","v":false},{"$f":"IF(J93=\"-\",1,0)*AA$1","v":1},{"$f":"AND(AA93=0,AA$1=1)","v":false},{"$f":"IF(L93=\"-\",1,0)*AC$1","v":1},{"$f":"AND(AC93=0,AC$1=1)","v":false}]
[1,"Harrison Stuart","Roundhill Academy",13,{"$f":"IF(D94=\"-\",0,D94)","v":13},"-",{"$f":"IF(F94=\"-\",0,F94)","v":0},"-",{"$f":"IF(H94=\"-\",0,H94)","v":0},"-",{"$f":"IF(J94=\"-\",0,J94)","v":0},"-",{"$f":"IF(L94=\"-\",0,L94)","v":0},null,{"$f":"E94+G94+I94+K94+M94","v":13},{"$f":"MAX(D94,F94,H94,J94,L94)","v":13},{"$f":"IF(S94=1,O94,IF(S94=0,(O94-P94),\"-\"))","v":"-"},{"$f":"COUNTIF(U94:AD94,\"=TRUE\")","v":1},{"$f":"AE$1-R94","v":4},{"$f":"IF(S94<2,\"Yes\",\"No\")","v":"No"},{"$f":"IF(D94=\"-\",1,0)*U$1","v":0},{"$f":"AND(U94=0,U$1=1)","v":true},{"$f":"IF(F94=\"-\",1,0)*W$1","v":1},{"$f":"AND(W94=0,W$1=1)","v":false},{"$f":"IF(H94=\"-\",1,0)*Y$1","v":1},{"$f":"AND(Y94=0,Y$1=1)","v":false},{"$f":"IF(J94=\"-\",1,0)*AA$1","v":1},{"$f":"AND(AA94=0,AA$1=1)","v":false},{"$f":"IF(L94=\"-\",1,0)*AC$1","v":1},{"$f":"AND(AC94=0,AC$1=1)","v":false}]
[30,"Ryan Elston","Rawlins College",15,{"$f":"IF(D95=\"-\",0,D95)","v":15},"-",{"$f":"IF(F95=\"-\",0,F95)","v":0},"-",{"$f":"IF(H95=\"-\",0,H95)","v":0},"-",{"$f":"IF(J95=\"-\",0,J95)","v":0},"-",{"$f":"IF(L95=\"-\",0,L95)","v":0},null,{"$f":"E95+G95+I95+K95+M95","v":15},{"$f":"MAX(D95,F95,H95,J95,L95)","v":15},{"$f":"IF(S95=1,O95,IF(S95=0,(O95-P95),\"-\"))","v":"-"},{"$f":"COUNTIF(U95:AD95,\"=TRUE\")","v":1},{"$f":"AE$1-R95","v":4},{"$f":"IF(S95<2,\"Yes\",\"No\")","v":"No"},{"$f":"IF(D95=\"-\",1,0)*U$1","v":0},{"$f":"AND(U95=0,U$1=1)","v":true},{"$f":"IF(F95=\"-\",1,0)*W$1","v":1},{"$f":"AND(W95=0,W$1=1)","v":false},{"$f":"IF(H95=\"-\",1,0)*Y$1","v":1},{"$f":"AND(Y95=0,Y$1=1)","v":false},{"$f":"IF(J95=\"-\",1,0)*AA$1","v":1},{"$f":"AND(AA95=0,AA$1=1)","v":false},{"$f":"IF(L95=\"-\",1,0)*AC$1","v":1},{"$f":"AND(AC95=0,AC$1=1)","v":false}]
[70,"James Creedon","St Pauls Catholic School",19,{"$f":"IF(D96=\"-\",0,D96)","v":19},"-",{"$f":"IF(F96=\"-\",0,F96)","v":0},"-",{"$f":"IF(H96=\"-\",0,H96)","v":0},"-",{"$f":"IF(J96=\"-\",0,J96)","v":0},"-",{"$f":"IF(L96=\"-\",0,L96)","v":0},null,{"$f":"E96+G96+I96+K96+M96","v":19},{"$f":"MAX(D96,F96,H96,J96,L96)","v":19},{"$f":"IF(S96=1,O96,IF(S96=0,(O96-P96),\"-\"))","v":"-"},{"$f":"COUNTIF(U96:AD96,\"=TRUE\")","v":1},{"$f":"AE$1-R96","v":4},{"$f":"IF(S96<2,\"Yes\",\"No\")","v":"No"},{"$f":"IF(D96=\"-\",1,0)*U$1","v":0},{"$f":"AND(U96=0,U$1=1)","v":true},{"$f":"IF(F96=\"-\",1,0)*W$1","v":1},{"$f":"AND(W96=0,W$1=1)","v":false},{"$f":"IF(H96=\"-\",1,0)*Y$1","v":1},{"$f":"AND(Y96=0,Y$1=1)","v":false},{"$f":"IF(J96=\"-\",1,0)*AA$1","v":1},{"$f":"AND(AA96=0,AA$1=1)","v":false},{"$f":"IF(L96=\"-\",1,0)*AC$1","v":1},{"$f":"AND(AC96=0,AC$1=1)","v":false}]
[63,"Abdalrahim Mohammed","Crown Hills CC",28,{"$f":"IF(D97=\"-\",0,D97)","v":28},"-",{"$f":"IF(F97=\"-\",0,F97)","v":0},"-",{"$f":"IF(H97=\"-\",0,H97)","v":0},"-",{"$f":"IF(J97=\"-\",0,J97)","v":0},"-",{"$f":"IF(L97=\"-\",0,L97)","v":0},null,{"$f":"E97+G97+I97+K97+M97","v":28},{"$f":"MAX(D97,F97,H97,J97,L97)","v":28},{"$f":"IF(S97=1,O97,IF(S97=0,(O97-P97),\"-\"))","v":"-"},{"$f":"COUNTIF(U97:AD97,\"=TRUE\")","v":1},{"$f":"AE$1-R97","v":4},{"$f":"IF(S97<2,\"Yes\",\"No\")","v":"No"},{"$f":"IF(D97=\"-\",1,0)*U$1","v":0},{"$f":"AND(U97=0,U$1=1)","v":true},{"$f":"IF(F97=\"-\",1,0)*W$1","v":1},{"$f":"AND(W97=0,W$1=1)","v":false},{"$f":"IF(H97=\"-\",1,0)*Y$1","v":1},{"$f":"AND(Y97=0,Y$1=1)","v":false},{"$f":"IF(J97=\"-\",1,0)*AA$1","v":1},{"$f":"AND(AA97=0,AA$1=1)","v":false},{"$f":"IF(L97=\"-\",1,0)*AC$1","v":1},{"$f":"AND(AC97=0,AC$1=1)","v":false}]
[93,"Sam Partis","The Martin High School",32,{"$f":"IF(D98=\"-\",0,D98)","v":32},"-",{"$f":"IF(F98=\"-\",0,F98)","v":0},"-",{"$f":"IF(H98=\"-\",0,H98)","v":0},"-",{"$f":"IF(J98=\"-\",0,J98)","v":0},"-",{"$f":"IF(L98=\"-\",0,L98)","v":0},null,{"$f":"E98+G98+I98+K98+M98","v":32},{"$f":"MAX(D98,F98,H98,J98,L98)","v":32},{"$f":"IF(S98=1,O98,IF(S98=0,(O98-P98),\"-\"))","v":"-"},{"$f":"COUNTIF(U98:AD98,\"=TRUE\")","v":1},{"$f":"AE$1-R98","v":4},{"$f":"IF(S98<2,\"Yes\",\"No\")","v":"No"},{"$f":"IF(D98=\"-\",1,0)*U$1","v":0},{"$f":"AND(U98=0,U$1=1)","v":true},{"$f":"IF(F98=\"-\",1,0)*W$1","v":1},{"$f":"AND(W98=0,W$1=1)","v":false},{"$f":"IF(H98=\"-\",1,0)*Y$1","v":1},{"$f":"AND(Y98=0,Y$1=1)","v":false},{"$f":"IF(J98=\"-\",1,0)*AA$1","v":1},{"$f":"AND(AA98=0,AA$1=1)","v":false},{"$f":"IF(L98=\"-\",1,0)*AC$1","v":1},{"$f":"AND(AC98=0,AC$1=1)","v":false}]
[33,"Finn O'Brien","Rawlins College",36,{"$f":"IF(D99=\"-\",0,D99)","v":36},"-",{"$f":"IF(F99=\"-\",0,F99)","v":0},"-",{"$f":"IF(H99=\"-\",0,H99)","v":0},"-",{"$f":"IF(J99=\"-\",0,J99)","v":0},"-",{"$f":"IF(L99=\"-\",0,L99)","v":0},null,{"$f":"E99+G99+I99+K99+M99","v":36},{"$f":"MAX(D99,F99,H99,J99,L99)","v":36},{"$f":"IF(S99=1,O99,IF(S99=0,(O99-P99),\"-\"))","v":"-"},{"$f":"COUNTIF(U99:AD99,\"=TRUE\")","v":1},{"$f":"AE$1-R99","v":4},{"$f":"IF(S99<2,\"Yes\",\"No\")","v":"No"},{"$f":"IF(D99=\"-\",1,0)*U$1","v":0},{"$f":"AND(U99=0,U$1=1)","v":true},{"$f":"IF(F99=\"-\",1,0)*W$1","v":1},{"$f":"AND(W99=0,W$1=1)","v":false},{"$f":"IF(H99=\"-\",1,0)*Y$1","v":1},{"$f":"AND(Y99=0,Y$1=1)","v":false},{"$f":"IF(J99=\"-\",1,0)*AA$1","v":1},{"$f":"AND(AA99=0,AA$1=1)","v":false},{"$f":"IF(L99=\"-\",1,0)*AC$1","v":1},{"$f":"AND(AC99=0,AC$1=1)","v":false}]
[95,"Jak Green ","Redmoor Academy",37,{"$f":"IF(D100=\"-\",0,D100)","v":37},"-",{"$f":"IF(F100=\"-\",0,F100)","v":0},"-",{"$f":"IF(H100=\"-\",0,H100)","v":0},"-",{"$f":"IF(J100=\"-\",0,J100)","v":0},"-",{"$f":"IF(L100=\"-\",0,L100)","v":0},null,{"$f":"E100+G100+I100+K100+M100","v":37},{"$f":"MAX(D100,F100,H100,J100,L100)","v":37},{"$f":"IF(S100=1,O100,IF(S100=0,(O100-P100),\"-\"))","v":"-"},{"$f":"COUNTIF(U100:AD100,\"=TRUE\")","v":1},{"$f":"AE$1-R100","v":4},{"$f":"IF(S100<2,\"Yes\",\"No\")","v":"No"},{"$f":"IF(D100=\"-\",1,0)*U$1","v":0},{"$f":"AND(U100=0,U$1=1)","v":true},{"$f":"IF(F100=\"-\",1,0)*W$1","v":1},{"$f":"AND(W100=0,W$1=1)","v":false},{"$f":"IF(H100=\"-\",1,0)*Y$1","v":1},{"$f":"AND(Y100=0,Y$1=1)","v":false},{"$f":"IF(J100=\"-\",1,0)*AA$1","v":1},{"$f":"AND(AA100=0,AA$1=1)","v":false},{"$f":"IF(L100=\"-\",1,0)*AC$1","v":1},{"$f":"AND(AC100=0,AC$1=1)","v":false}]
[31,"James O'Brien","Rawlins College",43,{"$f":"IF(D101=\"-\",0,D101)","v":43},"-",{"$f":"IF(F101=\"-\",0,F101)","v":0},"-",{"$f":"IF(H101=\"-\",0,H101)","v":0},"-",{"$f":"IF(J101=\"-\",0,J101)","v":0},"-",{"$f":"IF(L101=\"-\",0,L101)","v":0},null,{"$f":"E101+G101+I101+K101+M101","v":43},{"$f":"MAX(D101,F101,H101,J101,L101)","v":43},{"$f":"IF(S101=1,O101,IF(S101=0,(O101-P101),\"-\"))","v":"-"},{"$f":"COUNTIF(U101:AD101,\"=TRUE\")","v":1},{"$f":"AE$1-R101","v":4},{"$f":"IF(S101<2,\"Yes\",\"No\")","v":"No"},{"$f":"IF(D101=\"-\",1,0)*U$1","v":0},{"$f":"AND(U101=0,U$1=1)","v":true},{"$f":"IF(F101=\"-\",1,0)*W$1","v":1},{"$f":"AND(W101=0,W$1=1)","v":false},{"$f":"IF(H101=\"-\",1,0)*Y$1","v":1},{"$f":"AND(Y101=0,Y$1=1)","v":false},{"$f":"IF(J101=\"-\",1,0)*AA$1","v":1},{"$f":"AND(AA101=0,AA$1=1)","v":false},{"$f":"IF(L101=\"-\",1,0)*AC$1","v":1},{"$f":"AND(AC101=0,AC$1=1)","v":false}]
[67,"Luke Chapman","The Martin High School",44,{"$f":"IF(D102=\"-\",0,D102)","v":44},"-",{"$f":"IF(F102=\"-\",0,F102)","v":0},"-",{"$f":"IF(H102=\"-\",0,H102)","v":0},"-",{"$f":"IF(J102=\"-\",0,J102)","v":0},"-",{"$f":"IF(L102=\"-\",0,L102)","v":0},null,{"$f":"E102+G102+I102+K102+M102","v":44},{"$f":"MAX(D102,F102,H102,J102,L102)","v":44},{"$f":"IF(S102=1,O102,IF(S102=0,(O102-P102),\"-\"))","v":"-"},{"$f":"COUNTIF(U102:AD102,\"=TRUE\")","v":1},{"$f":"AE$1-R102","v":4},{"$f":"IF(S102<2,\"Yes\",\"No\")","v":"No"},{"$f":"IF(D102=\"-\",1,0)*U$1","v":0},{"$f":"AND(U102=0,U$1=1)","v":true},{"$f":"IF(F102=\"-\",1,0)*W$1","v":1},{"$f":"AND(W102=0,W$1=1)","v":false},{"$f":"IF(H102=\"-\",1,0)*Y$1","v":1},{"$f":"AND(Y102=0,Y$1=1)","v":false},{"$f":"IF(J102=\"-\",1,0)*AA$1","v":1},{"$f":"AND(AA102=0,AA$1=1)","v":false},{"$f":"IF(L102=\"-\",1,0)*AC$1","v":1},{"$f":"AND(AC102=0,AC$1=1)","v":false}]
[89,"Jude Singleton","Kibworth High School",50,{"$f":"IF(D103=\"-\",0,D103)","v":50},"-",{"$f":"IF(F103=\"-\",0,F103)","v":0},"-",{"$f":"IF(H103=\"-\",0,H103)","v":0},"-",{"$f":"IF(J103=\"-\",0,J103)","v":0},"-",{"$f":"IF(L103=\"-\",0,L103)","v":0},null,{"$f":"E103+G103+I103+K103+M103","v":50},{"$f":"MAX(D103,F103,H103,J103,L103)","v":50},{"$f":"IF(S103=1,O103,IF(S103=0,(O103-P103),\"-\"))","v":"-"},{"$f":"COUNTIF(U103:AD103,\"=TRUE\")","v":1},{"$f":"AE$1-R103","v":4},{"$f":"IF(S103<2,\"Yes\",\"No\")","v":"No"},{"$f":"IF(D103=\"-\",1,0)*U$1","v":0},{"$f":"AND(U103=0,U$1=1)","v":true},{"$f":"IF(F103=\"-\",1,0)*W$1","v":1},{"$f":"AND(W103=0,W$1=1)","v":false},{"$f":"IF(H103=\"-\",1,0)*Y$1","v":1},{"$f":"AND(Y103=0,Y$1=1)","v":false},{"$f":"IF(J103=\"-\",1,0)*AA$1","v":1},{"$f":"AND(AA103=0,AA$1=1)","v":false},{"$f":"IF(L103=\"-\",1,0)*AC$1","v":1},{"$f":"AND(AC103=0,AC$1=1)","v":false}]
[59,"Ben Copley","John Ferneley College",51,{"$f":"IF(D104=\"-\",0,D104)","v":51},"-",{"$f":"IF(F104=\"-\",0,F104)","v":0},"-",{"$f":"IF(H104=\"-\",0,H104)","v":0},"-",{"$f":"IF(J104=\"-\",0,J104)","v":0},"-",{"$f":"IF(L104=\"-\",0,L104)","v":0},null,{"$f":"E104+G104+I104+K104+M104","v":51},{"$f":"MAX(D104,F104,H104,J104,L104)","v":51},{"$f":"IF(S104=1,O104,IF(S104=0,(O104-P104),\"-\"))","v":"-"},{"$f":"COUNTIF(U104:AD104,\"=TRUE\")","v":1},{"$f":"AE$1-R104","v":4},{"$f":"IF(S104<2,\"Yes\",\"No\")","v":"No"},{"$f":"IF(D104=\"-\",1,0)*U$1","v":0},{"$f":"AND(U104=0,U$1=1)","v":true},{"$f":"IF(F104=\"-\",1,0)*W$1","v":1},{"$f":"AND(W104=0,W$1=1)","v":false},{"$f":"IF(H104=\"-\",1,0)*Y$1","v":1},{"$f":"AND(Y104=0,Y$1=1)","v":false},{"$f":"IF(J104=\"-\",1,0)*AA$1","v":1},{"$f":"AND(AA104=0,AA$1=1)","v":false},{"$f":"IF(L104=\"-\",1,0)*AC$1","v":1},{"$f":"AND(AC104=0,AC$1=1)","v":false}]
[10,"Adam Walker","Hastings High School",57,{"$f":"IF(D105=\"-\",0,D105)","v":57},"-",{"$f":"IF(F105=\"-\",0,F105)","v":0},"-",{"$f":"IF(H105=\"-\",0,H105)","v":0},"-",{"$f":"IF(J105=\"-\",0,J105)","v":0},"-",{"$f":"IF(L105=\"-\",0,L105)","v":0},null,{"$f":"E105+G105+I105+K105+M105","v":57},{"$f":"MAX(D105,F105,H105,J105,L105)","v":57},{"$f":"IF(S105=1,O105,IF(S105=0,(O105-P105),\"-\"))","v":"-"},{"$f":"COUNTIF(U105:AD105,\"=TRUE\")","v":1},{"$f":"AE$1-R105","v":4},{"$f":"IF(S105<2,\"Yes\",\"No\")","v":"No"},{"$f":"IF(D105=\"-\",1,0)*U$1","v":0},{"$f":"AND(U105=0,U$1=1)","v":true},{"$f":"IF(F105=\"-\",1,0)*W$1","v":1},{"$f":"AND(W105=0,W$1=1)","v":false},{"$f":"IF(H105=\"-\",1,0)*Y$1","v":1},{"$f":"AND(Y105=0,Y$1=1)","v":false},{"$f":"IF(J105=\"-\",1,0)*AA$1","v":1},{"$f":"AND(AA105=0,AA$1=1)","v":false},{"$f":"IF(L105=\"-\",1,0)*AC$1","v":1},{"$f":"AND(AC105=0,AC$1=1)","v":false}]
[3,"Josh Abbott","De Lisle College",59,{"$f":"IF(D106=\"-\",0,D106)","v":59},"-",{"$f":"IF(F106=\"-\",0,F106)","v":0},"-",{"$f":"IF(H106=\"-\",0,H106)","v":0},"-",{"$f":"IF(J106=\"-\",0,J106)","v":0},"-",{"$f":"IF(L106=\"-\",0,L106)","v":0},null,{"$f":"E106+G106+I106+K106+M106","v":59},{"$f":"MAX(D106,F106,H106,J106,L106)","v":59},{"$f":"IF(S106=1,O106,IF(S106=0,(O106-P106),\"-\"))","v":"-"},{"$f":"COUNTIF(U106:AD106,\"=TRUE\")","v":1},{"$f":"AE$1-R106","v":4},{"$f":"IF(S106<2,\"Yes\",\"No\")","v":"No"},{"$f":"IF(D106=\"-\",1,0)*U$1","v":0},{"$f":"AND(U106=0,U$1=1)","v":true},{"$f":"IF(F106=\"-\",1,0)*W$1","v":1},{"$f":"AND(W106=0,W$1=1)","v":false},{"$f":"IF(H106=\"-\",1,0)*Y$1","v":1},{"$f":"AND(Y106=0,Y$1=1)","v":false},{"$f":"IF(J106=\"-\",1,0)*AA$1","v":1},{"$f":"AND(AA106=0,AA$1=1)","v":false},{"$f":"IF(L106=\"-\",1,0)*AC$1","v":1},{"$f":"AND(AC106=0,AC$1=1)","v":false}]
[28,"Mohammed Ali","Crown Hills CC",66,{"$f":"IF(D107=\"-\",0,D107)","v":66},"-",{"$f":"IF(F107=\"-\",0,F107)","v":0},"-",{"$f":"IF(H107=\"-\",0,H107)","v":0},"-",{"$f":"IF(J107=\"-\",0,J107)","v":0},"-",{"$f":"IF(L107=\"-\",0,L107)","v":0},null,{"$f":"E107+G107+I107+K107+M107","v":66},{"$f":"MAX(D107,F107,H107,J107,L107)","v":66},{"$f":"IF(S107=1,O107,IF(S107=0,(O107-P107),\"-\"))","v":"-"},{"$f":"COUNTIF(U107:AD107,\"=TRUE\")","v":1},{"$f":"AE$1-R107","v":4},{"$f":"IF(S107<2,\"Yes\",\"No\")","v":"No"},{"$f":"IF(D107=\"-\",1,0)*U$1","v":0},{"$f":"AND(U107=0,U$1=1)","v":true},{"$f":"IF(F107=\"-\",1,0)*W$1","v":1},{"$f":"AND(W107=0,W$1=1)","v":false},{"$f":"IF(H107=\"-\",1,0)*Y$1","v":1},{"$f":"AND(Y107=0,Y$1=1)","v":false},{"$f":"IF(J107=\"-\",1,0)*AA$1","v":1},{"$f":"AND(AA107=0,AA$1=1)","v":false},{"$f":"IF(L107=\"-\",1,0)*AC$1","v":1},{"$f":"AND(AC107=0,AC$1=1)","v":false}]
[52,"Arthur Chan","Loughborough Grammar School",68,{"$f":"IF(D108=\"-\",0,D108)","v":68},"-",{"$f":"IF(F108=\"-\",0,F108)","v":0},"-",{"$f":"IF(H108=\"-\",0,H108)","v":0},"-",{"$f":"IF(J108=\"-\",0,J108)","v":0},"-",{"$f":"IF(L108=\"-\",0,L108)","v":0},null,{"$f":"E108+G108+I108+K108+M108","v":68},{"$f":"MAX(D108,F108,H108,J108,L108)","v":68},{"$f":"IF(S108=1,O108,IF(S108=0,(O108-P108),\"-\"))","v":"-"},{"$f":"COUNTIF(U108:AD108,\"=TRUE\")","v":1},{"$f":"AE$1-R108","v":4},{"$f":"IF(S108<2,\"Yes\",\"No\")","v":"No"},{"$f":"IF(D108=\"-\",1,0)*U$1","v":0},{"$f":"AND(U108=0,U$1=1)","v":true},{"$f":"IF(F108=\"-\",1,0)*W$1","v":1},{"$f":"AND(W108=0,W$1=1)","v":false},{"$f":"IF(H108=\"-\",1,0)*Y$1","v":1},{"$f":"AND(Y108=0,Y$1=1)","v":false},{"$f":"IF(J108=\"-\",1,0)*AA$1","v":1},{"$f":"AND(AA108=0,AA$1=1)","v":false},{"$f":"IF(L108=\"-\",1,0)*AC$1","v":1},{"$f":"AND(AC108=0,AC$1=1)","v":false}]
[106,null,"-","-",{"$f":"IF(D109=\"-\",0,D109)","v":0},"-",{"$f":"IF(F109=\"-\",0,F109)","v":0},"-",{"$f":"IF(H109=\"-\",0,H109)","v":0},"-",{"$f":"IF(J109=\"-\",0,J109)","v":0},"-",{"$f":"IF(L109=\"-\",0,L109)","v":0},null,{"$f":"E109+G109+I109+K109+M109","v":0},{"$f":"MAX(D109,F109,H109,J109,L109)","v":0},{"$f":"IF(S109=1,O109,IF(S109=0,(O109-P109),\"-\"))","v":"-"},{"$f":"COUNTIF(U109:AD109,\"=TRUE\")","v":0},{"$f":"AE$1-R109","v":5},{"$f":"IF(S109<2,\"Yes\",\"No\")","v":"No"},{"$f":"IF(D109=\"-\",1,0)*U$1","v":1},{"$f":"AND(U109=0,U$1=1)","v":false},{"$f":"IF(F109=\"-\",1,0)*W$1","v":1},{"$f":"AND(W109=0,W$1=1)","v":false},{"$f":"IF(H109=\"-\",1,0)*Y$1","v":1},{"$f":"AND(Y109=0,Y$1=1)","v":false},{"$f":"IF(J109=\"-\",1,0)*AA$1","v":1},{"$f":"AND(AA109=0,AA$1=1)","v":false},{"$f":"IF(L109=\"-\",1,0)*AC$1","v":1},{"$f":"AND(AC109=0,AC$1=1)","v":false}]
[107,null,"-","-",{"$f":"IF(D110=\"-\",0,D110)","v":0},"-",{"$f":"IF(F110=\"-\",0,F110)","v":0},"-",{"$f":"IF(H110=\"-\",0,H110)","v":0},"-",{"$f":"IF(J110=\"-\",0,J110)","v":0},"-",{"$f":"IF(L110=\"-\",0,L110)","v":0},null,{"$f":"E110+G110+I110+K110+M110","v":0},{"$f":"MAX(D110,F110,H110,J110,L110)","v":0},{"$f":"IF(S110=1,O110,IF(S110=0,(O110-P110),\"-\"))","v":"-"},{"$f":"COUNTIF(U110:AD110,\"=TRUE\")","v":0},{"$f":"AE$1-R110","v":5},{"$f":"IF(S110<2,\"Yes\",\"No\")","v":"No"},{"$f":"IF(D110=\"-\",1,0)*U$1","v":1},{"$f":"AND(U110=0,U$1=1)","v":false},{"$f":"IF(F110=\"-\",1,0)*W$1","v":1},{"$f":"AND(W110=0,W$1=1)","v":false},{"$f":"IF(H110=\"-\",1,0)*Y$1","v":1},{"$f":"AND(Y110=0,Y$1=1)","v":false},{"$f":"IF(J110=\"-\",1,0)*AA$1","v":1},{"$f":"AND(AA110=0,AA$1=1)","v":false},{"$f":"IF(L110=\"-\",1,0)*AC$1","v":1},{"$f":"AND(AC110=0,AC$1=1)","v":false}]
[108,null,"-","-",{"$f":"IF(D111=\"-\",0,D111)","v":0},"-",{"$f":"IF(F111=\"-\",0,F111)","v":0},"-",{"$f":"IF(H111=\"-\",0,H111)","v":0},"-",{"$f":"IF(J111=\"-\",0,J111)","v":0},"-",{"$f":"IF(L111=\"-\",0,L111)","v":0},null,{"$f":"E111+G111+I111+K111+M111","v":0},{"$f":"MAX(D111,F111,H111,J111,L111)","v":0},{"$f":"IF(S111=1,O111,IF(S111=0,(O111-P111),\"-\"))","v":"-"},{"$f":"COUNTIF(U111:AD111,\"=TRUE\")","v":0},{"$f":"AE$1-R111","v":5},{"$f":"IF(S111<2,\"Yes\",\"No\")","v":"No"},{"$f":"IF(D111=\"-\",1,0)*U$1","v":1},{"$f":"AND(U111=0,U$1=1)","v":false},{"$f":"IF(F111=\"-\",1,0)*W$1","v":1},{"$f":"AND(W111=0,W$1=1)","v":false},{"$f":"IF(H111=\"-\",1,0)*Y$1","v":1},{"$f":"AND(Y111=0,Y$1=1)","v":false},{"$f":"IF(J111=\"-\",1,0)*AA$1","v":1},{"$f":"AND(AA111=0,AA$1=1)","v":false},{"$f":"IF(L111=\"-\",1,0)*AC$1","v":1},{"$f":"AND(AC111=0,AC$1=1)","v":false}]
[109,null,"-","-",{"$f":"IF(D112=\"-\",0,D112)","v":0},"-",{"$f":"IF(F112=\"-\",0,F112)","v":0},"-",{"$f":"IF(H112=\"-\",0,H112)","v":0},"-",{"$f":"IF(J112=\"-\",0,J112)","v":0},"-",{"$f":"IF(L112=\"-\",0,L112)","v":0},null,{"$f":"E112+G112+I112+K112+M112","v":0},{"$f":"MAX(D112,F112,H112,J112,L112)","v":0},{"$f":"IF(S112=1,O112,IF(S112=0,(O112-P112),\"-\"))","v":"-"},{"$f":"COUNTIF(U112:AD112,\"=TRUE\")","v":0},{"$f":"AE$1-R112","v":5},{"$f":"IF(S112<2,\"Yes\",\"No\")","v":"No"},{"$f":"IF(D112=\"-\",1,0)*U$1","v":1},{"$f":"AND(U112=0,U$1=1)","v":false},{"$f":"IF(F112=\"-\",1,0)*W$1","v":1},{"$f":"AND(W112=0,W$1=1)","v":false},{"$f":"IF(H112=\"-\",1,0)*Y$1","v":1},{"$f":"AND(Y112=0,Y$1=1)","v":false},{"$f":"IF(J112=\"-\",1,0)*AA$1","v":1},{"$f":"AND(AA112=0,AA$1=1)","v":false},{"$f":"IF(L112=\"-\",1,0)*AC$1","v":1},{"$f":"AND(AC112=0,AC$1=1)","v":false}]
[110,null,"-","-",{"$f":"IF(D113=\"-\",0,D113)","v":0},"-",{"$f":"IF(F113=\"-\",0,F113)","v":0},"-",{"$f":"IF(H113=\"-\",0,H113)","v":0},"-",{"$f":"IF(J113=\"-\",0,J113)","v":0},"-",{"$f":"IF(L113=\"-\",0,L113)","v":0},null,{"$f":"E113+G113+I113+K113+M113","v":0},{"$f":"MAX(D113,F113,H113,J113,L113)","v":0},{"$f":"IF(S113=1,O113,IF(S113=0,(O113-P113),\"-\"))","v":"-"},{"$f":"COUNTIF(U113:AD113,\"=TRUE\")","v":0},{"$f":"AE$1-R113","v":5},{"$f":"IF(S113<2,\"Yes\",\"No\")","v":"No"},{"$f":"IF(D113=\"-\",1,0)*U$1","v":1},{"$f":"AND(U113=0,U$1=1)","v":false},{"$f":"IF(F113=\"-\",1,0)*W$1","v":1},{"$f":"AND(W113=0,W$1=1)","v":false},{"$f":"IF(H113=\"-\",1,0)*Y$1","v":1},{"$f":"AND(Y113=0,Y$1=1)","v":false},{"$f":"IF(J113=\"-\",1,0)*AA$1","v":1},{"$f":"AND(AA113=0,AA$1=1)","v":false},{"$f":"IF(L113=\"-\",1,0)*AC$1","v":1},{"$f":"AND(AC113=0,AC$1=1)","v":false}]
[111,null,"-","-",{"$f":"IF(D114=\"-\",0,D114)","v":0},"-",{"$f":"IF(F114=\"-\",0,F114)","v":0},"-",{"$f":"IF(H114=\"-\",0,H114)","v":0},"-",{"$f":"IF(J114=\"-\",0,J114)","v":0},"-",{"$f":"IF(L114=\"-\",0,L114)","v":0},null,{"$f":"E114+G114+I114+K114+M114","v":0},{"$f":"MAX(D114,F114,H114,J114,L114)","v":0},{"$f":"IF(S114=1,O114,IF(S114=0,(O114-P114),\"-\"))","v":"-"},{"$f":"COUNTIF(U114:AD114,\"=TRUE\")","v":0},{"$f":"AE$1-R114","v":5},{"$f":"IF(S114<2,\"Yes\",\"No\")","v":"No"},{"$f":"IF(D114=\"-\",1,0)*U$1","v":1},{"$f":"AND(U114=0,U$1=1)","v":false},{"$f":"IF(F114=\"-\",1,0)*W$1","v":1},{"$f":"AND(W114=0,W$1=1)","v":false},{"$f":"IF(H114=\"-\",1,0)*Y$1","v":1},{"$f":"AND(Y114=0,Y$1=1)","v":false},{"$f":"IF(J114=\"-\",1,0)*AA$1","v":1},{"$f":"AND(AA114=0,AA$1=1)","v":false},{"$f":"IF(L114=\"-\",1,0)*AC$1","v":1},{"$f":"AND(AC114=0,AC$1=1)","v":false}]
[112,null,"-","-",{"$f":"IF(D115=\"-\",0,D115)","v":0},"-",{"$f":"IF(F115=\"-\",0,F115)","v":0},"-",{"$f":"IF(H115=\"-\",0,H115)","v":0},"-",{"$f":"IF(J115=\"-\",0,J115)","v":0},"-",{"$f":"IF(L115=\"-\",0,L115)","v":0},null,{"$f":"E115+G115+I115+K115+M115","v":0},{"$f":"MAX(D115,F115,H115,J115,L115)","v":0},{"$f":"IF(S115=1,O115,IF(S115=0,(O115-P115),\"-\"))","v":"-"},{"$f":"COUNTIF(U115:AD115,\"=TRUE\")","v":0},{"$f":"AE$1-R115","v":5},{"$f":"IF(S115<2,\"Yes\",\"No\")","v":"No"},{"$f":"IF(D115=\"-\",1,0)*U$1","v":1},{"$f":"AND(U115=0,U$1=1)","v":false},{"$f":"IF(F115=\"-\",1,0)*W$1","v":1},{"$f":"AND(W115=0,W$1=1)","v":false},{"$f":"IF(H115=\"-\",1,0)*Y$1","v":1},{"$f":"AND(Y115=0,Y$1=1)","v":false},{"$f":"IF(J115=\"-\",1,0)*AA$1","v":1},{"$f":"AND(AA115=0,AA$1=1)","v":false},{"$f":"IF(L115=\"-\",1,0)*AC$1","v":1},{"$f":"AND(AC115=0,AC$1=1)","v":false}]
[113,null,"-","-",{"$f":"IF(D116=\"-\",0,D116)","v":0},"-",{"$f":"IF(F116=\"-\",0,F116)","v":0},"-",{"$f":"IF(H116=\"-\",0,H116)","v":0},"-",{"$f":"IF(J116=\"-\",0,J116)","v":0},"-",{"$f":"IF(L116=\"-\",0,L116)","v":0},null,{"$f":"E116+G116+I116+K116+M116","v":0},{"$f":"MAX(D116,F116,H116,J116,L116)","v":0},{"$f":"IF(S116=1,O116,IF(S116=0,(O116-P116),\"-\"))","v":"-"},{"$f":"COUNTIF(U116:AD116,\"=TRUE\")","v":0},{"$f":"AE$1-R116","v":5},{"$f":"IF(S116<2,\"Yes\",\"No\")","v":"No"},{"$f":"IF(D116=\"-\",1,0)*U$1","v":1},{"$f":"AND(U116=0,U$1=1)","v":false},{"$f":"IF(F116=\"-\",1,0)*W$1","v":1},{"$f":"AND(W116=0,W$1=1)","v":false},{"$f":"IF(H116=\"-\",1,0)*Y$1","v":1},{"$f":"AND(Y116=0,Y$1=1)","v":false},{"$f":"IF(J116=\"-\",1,0)*AA$1","v":1},{"$f":"AND(AA116=0,AA$1=1)","v":false},{"$f":"IF(L116=\"-\",1,0)*AC$1","v":1},{"$f":"AND(AC116=0,AC$1=1)","v":false}]
[114,null,"-","-",{"$f":"IF(D117=\"-\",0,D117)","v":0},"-",{"$f":"IF(F117=\"-\",0,F117)","v":0},"-",{"$f":"IF(H117=\"-\",0,H117)","v":0},"-",{"$f":"IF(J117=\"-\",0,J117)","v":0},"-",{"$f":"IF(L117=\"-\",0,L117)","v":0},null,{"$f":"E117+G117+I117+K117+M117","v":0},{"$f":"MAX(D117,F117,H117,J117,L117)","v":0},{"$f":"IF(S117=1,O117,IF(S117=0,(O117-P117),\"-\"))","v":"-"},{"$f":"COUNTIF(U117:AD117,\"=TRUE\")","v":0},{"$f":"AE$1-R117","v":5},{"$f":"IF(S117<2,\"Yes\",\"No\")","v":"No"},{"$f":"IF(D117=\"-\",1,0)*U$1","v":1},{"$f":"AND(U117=0,U$1=1)","v":false},{"$f":"IF(F117=\"-\",1,0)*W$1","v":1},{"$f":"AND(W117=0,W$1=1)","v":false},{"$f":"IF(H117=\"-\",1,0)*Y$1","v":1},{"$f":"AND(Y117=0,Y$1=1)","v":false},{"$f":"IF(J117=\"-\",1,0)*AA$1","v":1},{"$f":"AND(AA117=0,AA$1=1)","v":false},{"$f":"IF(L117=\"-\",1,0)*AC$1","v":1},{"$f":"AND(AC117=0,AC$1=1)","v":false}]
[115,null,"-","-",{"$f":"IF(D118=\"-\",0,D118)","v":0},"-",{"$f":"IF(F118=\"-\",0,F118)","v":0},"-",{"$f":"IF(H118=\"-\",0,H118)","v":0},"-",{"$f":"IF(J118=\"-\",0,J118)","v":0},"-",{"$f":"IF(L118=\"-\",0,L118)","v":0},null,{"$f":"E118+G118+I118+K118+M118","v":0},{"$f":"MAX(D118,F118,H118,J118,L118)","v":0},{"$f":"IF(S118=1,O118,IF(S118=0,(O118-P118),\"-\"))","v":"-"},{"$f":"COUNTIF(U118:AD118,\"=TRUE\")","v":0},{"$f":"AE$1-R118","v":5},{"$f":"IF(S118<2,\"Yes\",\"No\")","v":"No"},{"$f":"IF(D118=\"-\",1,0)*U$1","v":1},{"$f":"AND(U118=0,U$1=1)","v":false},{"$f":"IF(F118=\"-\",1,0)*W$1","v":1},{"$f":"AND(W118=0,W$1=1)","v":false},{"$f":"IF(H118=\"-\",1,0)*Y$1","v":1},{"$f":"AND(Y118=0,Y$1=1)","v":false},{"$f":"IF(J118=\"-\",1,0)*AA$1","v":1},{"$f":"AND(AA118=0,AA$1=1)","v":false},{"$f":"IF(L118=\"-\",1,0)*AC$1","v":1},{"$f":"AND(AC118=0,AC$1=1)","v":false}]
[116,null,"-","-",{"$f":"IF(D119=\"-\",0,D119)","v":0},"-",{"$f":"IF(F119=\"-\",0,F119)","v":0},"-",{"$f":"IF(H119=\"-\",0,H119)","v":0},"-",{"$f":"IF(J119=\"-\",0,J119)","v":0},"-",{"$f":"IF(L119=\"-\",0,L119)","v":0},null,{"$f":"E119+G119+I119+K119+M119","v":0},{"$f":"MAX(D119,F119,H119,J119,L119)","v":0},{"$f":"IF(S119=1,O119,IF(S119=0,(O119-P119),\"-\"))","v":"-"},{"$f":"COUNTIF(U119:AD119,\"=TRUE\")","v":0},{"$f":"AE$1-R119","v":5},{"$f":"IF(S119<2,\"Yes\",\"No\")","v":"No"},{"$f":"IF(D119=\"-\",1,0)*U$1","v":1},{"$f":"AND(U119=0,U$1=1)","v":false},{"$f":"IF(F119=\"-\",1,0)*W$1","v":1},{"$f":"AND(W119=0,W$1=1)","v":false},{"$f":"IF(H119=\"-\",1,0)*Y$1","v":1},{"$f":"AND(Y119=0,Y$1=1)","v":false},{"$f":"IF(J119=\"-\",1,0)*AA$1","v":1},{"$f":"AND(AA119=0,AA$1=1)","v":false},{"$f":"IF(L119=\"-\",1,0)*AC$1","v":1},{"$f":"AND(AC119=0,AC$1=1)","v":false}]
[117,null,"-","-",{"$f":"IF(D120=\"-\",0,D120)","v":0},"-",{"$f":"IF(F120=\"-\",0,F120)","v":0},"-",{"$f":"IF(H120=\"-\",0,H120)","v":0},"-",{"$f":"IF(J120=\"-\",0,J120)","v":0},"-",{"$f":"IF(L120=\"-\",0,L120)","v":0},null,{"$f":"E120+G120+I120+K120+M120","v":0},{"$f":"MAX(D120,F120,H120,J120,L120)","v":0},{"$f":"IF(S120=1,O120,IF(S120=0,(O120-P120),\"-\"))","v":"-"},{"$f":"COUNTIF(U120:AD120,\"=TRUE\")","v":0},{"$f":"AE$1-R120","v":5},{"$f":"IF(S120<2,\"Yes\",\"No\")","v":"No"},{"$f":"IF(D120=\"-\",1,0)*U$1","v":1},{"$f":"AND(U120=0,U$1=1)","v":false},{"$f":"IF(F120=\"-\",1,0)*W$1","v":1},{"$f":"AND(W120=0,W$1=1)","v":false},{"$f":"IF(H120=\"-\",1,0)*Y$1","v":1},{"$f":"AND(Y120=0,Y$1=1)","v":false},{"$f":"IF(J120=\"-\",1,0)*AA$1","v":1},{"$f":"AND(AA120=0,AA$1=1)","v":false},{"$f":"IF(L120=\"-\",1,0)*AC$1","v":1},{"$f":"AND(AC120=0,AC$1=1)","v":false}]
[118,null,"-","-",{"$f":"IF(D121=\"-\",0,D121)","v":0},"-",{"$f":"IF(F121=\"-\",0,F121)","v":0},"-",{"$f":"IF(H121=\"-\",0,H121)","v":0},"-",{"$f":"IF(J121=\"-\",0,J121)","v":0},"-",{"$f":"IF(L121=\"-\",0,L121)","v":0},null,{"$f":"E121+G121+I121+K121+M121","v":0},{"$f":"MAX(D121,F121,H121,J121,L121)","v":0},{"$f":"IF(S121=1,O121,IF(S121=0,(O121-P121),\"-\"))","v":"-"},{"$f":"COUNTIF(U121:AD121,\"=TRUE\")","v":0},{"$f":"AE$1-R121","v":5},{"$f":"IF(S121<2,\"Yes\",\"No\")","v":"No"},{"$f":"IF(D121=\"-\",1,0)*U$1","v":1},{"$f":"AND(U121=0,U$1=1)","v":false},{"$f":"IF(F121=\"-\",1,0)*W$1","v":1},{"$f":"AND(W121=0,W$1=1)","v":false},{"$f":"IF(H121=\"-\",1,0)*Y$1","v":1},{"$f":"AND(Y121=0,Y$1=1)","v":false},{"$f":"IF(J121=\"-\",1,0)*AA$1","v":1},{"$f":"AND(AA121=0,AA$1=1)","v":false},{"$f":"IF(L121=\"-\",1,0)*AC$1","v":1},{"$f":"AND(AC121=0,AC$1=1)","v":false}]
[119,null,"-","-",{"$f":"IF(D122=\"-\",0,D122)","v":0},"-",{"$f":"IF(F122=\"-\",0,F122)","v":0},"-",{"$f":"IF(H122=\"-\",0,H122)","v":0},"-",{"$f":"IF(J122=\"-\",0,J122)","v":0},"-",{"$f":"IF(L122=\"-\",0,L122)","v":0},null,{"$f":"E122+G122+I122+K122+M122","v":0},{"$f":"MAX(D122,F122,H122,J122,L122)","v":0},{"$f":"IF(S122=1,O122,IF(S122=0,(O122-P122),\"-\"))","v":"-"},{"$f":"COUNTIF(U122:AD122,\"=TRUE\")","v":0},{"$f":"AE$1-R122","v":5},{"$f":"IF(S122<2,\"Yes\",\"No\")","v":"No"},{"$f":"IF(D122=\"-\",1,0)*U$1","v":1},{"$f":"AND(U122=0,U$1=1)","v":false},{"$f":"IF(F122=\"-\",1,0)*W$1","v":1},{"$f":"AND(W122=0,W$1=1)","v":false},{"$f":"IF(H122=\"-\",1,0)*Y$1","v":1},{"$f":"AND(Y122=0,Y$1=1)","v":false},{"$f":"IF(J122=\"-\",1,0)*AA$1","v":1},{"$f":"AND(AA122=0,AA$1=1)","v":false},{"$f":"IF(L122=\"-\",1,0)*AC$1","v":1},{"$f":"AND(AC122=0,AC$1=1)","v":false}]
[120,null,"-","-",{"$f":"IF(D123=\"-\",0,D123)","v":0},"-",{"$f":"IF(F123=\"-\",0,F123)","v":0},"-",{"$f":"IF(H123=\"-\",0,H123)","v":0},"-",{"$f":"IF(J123=\"-\",0,J123)","v":0},"-",{"$f":"IF(L123=\"-\",0,L123)","v":0},null,{"$f":"E123+G123+I123+K123+M123","v":0},{"$f":"MAX(D123,F123,H123,J123,L123)","v":0},{"$f":"IF(S123=1,O123,IF(S123=0,(O123-P123),\"-\"))","v":"-"},{"$f":"COUNTIF(U123:AD123,\"=TRUE\")","v":0},{"$f":"AE$1-R123","v":5},{"$f":"IF(S123<2,\"Yes\",\"No\")","v":"No"},{"$f":"IF(D123=\"-\",1,0)*U$1","v":1},{"$f":"AND(U123=0,U$1=1)","v":false},{"$f":"IF(F123=\"-\",1,0)*W$1","v":1},{"$f":"AND(W123=0,W$1=1)","v":false},{"$f":"IF(H123=\"-\",1,0)*Y$1","v":1},{"$f":"AND(Y123=0,Y$1=1)","v":false},{"$f":"IF(J123=\"-\",1,0)*AA$1","v":1},{"$f":"AND(AA123=0,AA$1=1)","v":false},{"$f":"IF(L123=\"-\",1,0)*AC$1","v":1},{"$f":"AND(AC123=0,AC$1=1)","v":false}]
[121,null,"-","-",{"$f":"IF(D124=\"-\",0,D124)","v":0},"-",{"$f":"IF(F124=\"-\",0,F124)","v":0},"-",{"$f":"IF(H124=\"-\",0,H124)","v":0},"-",{"$f":"IF(J124=\"-\",0,J124)","v":0},"-",{"$f":"IF(L124=\"-\",0,L124)","v":0},null,{"$f":"E124+G124+I124+K124+M124","v":0},{"$f":"MAX(D124,F124,H124,J124,L124)","v":0},{"$f":"IF(S124=1,O124,IF(S124=0,(O124-P124),\"-\"))","v":"-"},{"$f":"COUNTIF(U124:AD124,\"=TRUE\")","v":0},{"$f":"AE$1-R124","v":5},{"$f":"IF(S124<2,\"Yes\",\"No\")","v":"No"},{"$f":"IF(D124=\"-\",1,0)*U$1","v":1},{"$f":"AND(U124=0,U$1=1)","v":false},{"$f":"IF(F124=\"-\",1,0)*W$1","v":1},{"$f":"AND(W124=0,W$1=1)","v":false},{"$f":"IF(H124=\"-\",1,0)*Y$1","v":1},{"$f":"AND(Y124=0,Y$1=1)","v":false},{"$f":"IF(J124=\"-\",1,0)*AA$1","v":1},{"$f":"AND(AA124=0,AA$1=1)","v":false},{"$f":"IF(L124=\"-\",1,0)*AC$1","v":1},{"$f":"AND(AC124=0,AC$1=1)","v":false}]
[122,null,"-","-",{"$f":"IF(D125=\"-\",0,D125)","v":0},"-",{"$f":"IF(F125=\"-\",0,F125)","v":0},"-",{"$f":"IF(H125=\"-\",0,H125)","v":0},"-",{"$f":"IF(J125=\"-\",0,J125)","v":0},"-",{"$f":"IF(L125=\"-\",0,L125)","v":0},null,{"$f":"E125+G125+I125+K125+M125","v":0},{"$f":"MAX(D125,F125,H125,J125,L125)","v":0},{"$f":"IF(S125=1,O125,IF(S125=0,(O125-P125),\"-\"))","v":"-"},{"$f":"COUNTIF(U125:AD125,\"=TRUE\")","v":0},{"$f":"AE$1-R125","v":5},{"$f":"IF(S125<2,\"Yes\",\"No\")","v":"No"},{"$f":"IF(D125=\"-\",1,0)*U$1","v":1},{"$f":"AND(U125=0,U$1=1)","v":false},{"$f":"IF(F125=\"-\",1,0)*W$1","v":1},{"$f":"AND(W125=0,W$1=1)","v":false},{"$f":"IF(H125=\"-\",1,0)*Y$1","v":1},{"$f":"AND(Y125=0,Y$1=1)","v":false},{"$f":"IF(J125=\"-\",1,0)*AA$1","v":1},{"$f":"AND(AA125=0,AA$1=1)","v":false},{"$f":"IF(L125=\"-\",1,0)*AC$1","v":1},{"$f":"AND(AC125=0,AC$1=1)","v":false}]
[123,null,"-","-",{"$f":"IF(D126=\"-\",0,D126)","v":0},"-",{"$f":"IF(F126=\"-\",0,F126)","v":0},"-",{"$f":"IF(H126=\"-\",0,H126)","v":0},"-",{"$f":"IF(J126=\"-\",0,J126)","v":0},"-",{"$f":"IF(L126=\"-\",0,L126)","v":0},null,{"$f":"E126+G126+I126+K126+M126","v":0},{"$f":"MAX(D126,F126,H126,J126,L126)","v":0},{"$f":"IF(S126=1,O126,IF(S126=0,(O126-P126),\"-\"))","v":"-"},{"$f":"COUNTIF(U126:AD126,\"=TRUE\")","v":0},{"$f":"AE$1-R126","v":5},{"$f":"IF(S126<2,\"Yes\",\"No\")","v":"No"},{"$f":"IF(D126=\"-\",1,0)*U$1","v":1},{"$f":"AND(U126=0,U$1=1)","v":false},{"$f":"IF(F126=\"-\",1,0)*W$1","v":1},{"$f":"AND(W126=0,W$1=1)","v":false},{"$f":"IF(H126=\"-\",1,0)*Y$1","v":1},{"$f":"AND(Y126=0,Y$1=1)","v":false},{"$f":"IF(J126=\"-\",1,0)*AA$1","v":1},{"$f":"AND(AA126=0,AA$1=1)","v":false},{"$f":"IF(L126=\"-\",1,0)*AC$1","v":1},{"$f":"AND(AC126=0,AC$1=1)","v":false}]
[124,null,"-","-",{"$f":"IF(D127=\"-\",0,D127)","v":0},"-",{"$f":"IF(F127=\"-\",0,F127)","v":0},"-",{"$f":"IF(H127=\"-\",0,H127)","v":0},"-",{"$f":"IF(J127=\"-\",0,J127)","v":0},"-",{"$f":"IF(L127=\"-\",0,L127)","v":0},null,{"$f":"E127+G127+I127+K127+M127","v":0},{"$f":"MAX(D127,F127,H127,J127,L127)","v":0},{"$f":"IF(S127=1,O127,IF(S127=0,(O127-P127),\"-\"))","v":"-"},{"$f":"COUNTIF(U127:AD127,\"=TRUE\")","v":0},{"$f":"AE$1-R127","v":5},{"$f":"IF(S127<2,\"Yes\",\"No\")","v":"No"},{"$f":"IF(D127=\"-\",1,0)*U$1","v":1},{"$f":"AND(U127=0,U$1=1)","v":false},{"$f":"IF(F127=\"-\",1,0)*W$1","v":1},{"$f":"AND(W127=0,W$1=1)","v":false},{"$f":"IF(H127=\"-\",1,0)*Y$1","v":1},{"$f":"AND(Y127=0,Y$1=1)","v":false},{"$f":"IF(J127=\"-\",1,0)*AA$1","v":1},{"$f":"AND(AA127=0,AA$1=1)","v":false},{"$f":"IF(L127=\"-\",1,0)*AC$1","v":1},{"$f":"AND(AC127=0,AC$1=1)","v":false}]
[125,null,"-","-",{"$f":"IF(D128=\"-\",0,D128)","v":0},"-",{"$f":"IF(F128=\"-\",0,F128)","v":0},"-",{"$f":"IF(H128=\"-\",0,H128)","v":0},"-",{"$f":"IF(J128=\"-\",0,J128)","v":0},"-",{"$f":"IF(L128=\"-\",0,L128)","v":0},null,{"$f":"E128+G128+I128+K128+M128","v":0},{"$f":"MAX(D128,F128,H128,J128,L128)","v":0},{"$f":"IF(S128=1,O128,IF(S128=0,(O128-P128),\"-\"))","v":"-"},{"$f":"COUNTIF(U128:AD128,\"=TRUE\")","v":0},{"$f":"AE$1-R128","v":5},{"$f":"IF(S128<2,\"Yes\",\"No\")","v":"No"},{"$f":"IF(D128=\"-\",1,0)*U$1","v":1},{"$f":"AND(U128=0,U$1=1)","v":false},{"$f":"IF(F128=\"-\",1,0)*W$1","v":1},{"$f":"AND(W128=0,W$1=1)","v":false},{"$f":"IF(H128=\"-\",1,0)*Y$1","v":1},{"$f":"AND(Y128=0,Y$1=1)","v":false},{"$f":"IF(J128=\"-\",1,0)*AA$1","v":1},{"$f":"AND(AA128=0,AA$1=1)","v":false},{"$f":"IF(L128=\"-\",1,0)*AC$1","v":1},{"$f":"AND(AC128=0,AC$1=1)","v":false}]
[126,null,"-","-",{"$f":"IF(D129=\"-\",0,D129)","v":0},"-",{"$f":"IF(F129=\"-\",0,F129)","v":0},"-",{"$f":"IF(H129=\"-\",0,H129)","v":0},"-",{"$f":"IF(J129=\"-\",0,J129)","v":0},"-",{"$f":"IF(L129=\"-\",0,L129)","v":0},null,{"$f":"E129+G129+I129+K129+M129","v":0},{"$f":"MAX(D129,F129,H129,J129,L129)","v":0},{"$f":"IF(S129=1,O129,IF(S129=0,(O129-P129),\"-\"))","v":"-"},{"$f":"COUNTIF(U129:AD129,\"=TRUE\")","v":0},{"$f":"AE$1-R129","v":5},{"$f":"IF(S129<2,\"Yes\",\"No\")","v":"No"},{"$f":"IF(D129=\"-\",1,0)*U$1","v":1},{"$f":"AND(U129=0,U$1=1)","v":false},{"$f":"IF(F129=\"-\",1,0)*W$1","v":1},{"$f":"AND(W129=0,W$1=1)","v":false},{"$f":"IF(H129=\"-\",1,0)*Y$1","v":1},{"$f":"AND(Y129=0,Y$1=1)","v":false},{"$f":"IF(J129=\"-\",1,0)*AA$1","v":1},{"$f":"AND(AA129=0,AA$1=1)","v":false},{"$f":"IF(L129=\"-\",1,0)*AC$1","v":1},{"$f":"AND(AC129=0,AC$1=1)","v":false}]
[127,null,"-","-",{"$f":"IF(D130=\"-\",0,D130)","v":0},"-",{"$f":"IF(F130=\"-\",0,F130)","v":0},"-",{"$f":"IF(H130=\"-\",0,H130)","v":0},"-",{"$f":"IF(J130=\"-\",0,J130)","v":0},"-",{"$f":"IF(L130=\"-\",0,L130)","v":0},null,{"$f":"E130+G130+I130+K130+M130","v":0},{"$f":"MAX(D130,F130,H130,J130,L130)","v":0},{"$f":"IF(S130=1,O130,IF(S130=0,(O130-P130),\"-\"))","v":"-"},{"$f":"COUNTIF(U130:AD130,\"=TRUE\")","v":0},{"$f":"AE$1-R130","v":5},{"$f":"IF(S130<2,\"Yes\",\"No\")","v":"No"},{"$f":"IF(D130=\"-\",1,0)*U$1","v":1},{"$f":"AND(U130=0,U$1=1)","v":false},{"$f":"IF(F130=\"-\",1,0)*W$1","v":1},{"$f":"AND(W130=0,W$1=1)","v":false},{"$f":"IF(H130=\"-\",1,0)*Y$1","v":1},{"$f":"AND(Y130=0,Y$1=1)","v":false},{"$f":"IF(J130=\"-\",1,0)*AA$1","v":1},{"$f":"AND(AA130=0,AA$1=1)","v":false},{"$f":"IF(L130=\"-\",1,0)*AC$1","v":1},{"$f":"AND(AC130=0,AC$1=1)","v":false}]
[128,null,"-","-",{"$f":"IF(D131=\"-\",0,D131)","v":0},"-",{"$f":"IF(F131=\"-\",0,F131)","v":0},"-",{"$f":"IF(H131=\"-\",0,H131)","v":0},"-",{"$f":"IF(J131=\"-\",0,J131)","v":0},"-",{"$f":"IF(L131=\"-\",0,L131)","v":0},null,{"$f":"E131+G131+I131+K131+M131","v":0},{"$f":"MAX(D131,F131,H131,J131,L131)","v":0},{"$f":"IF(S131=1,O131,IF(S131=0,(O131-P131),\"-\"))","v":"-"},{"$f":"COUNTIF(U131:AD131,\"=TRUE\")","v":0},{"$f":"AE$1-R131","v":5},{"$f":"IF(S131<2,\"Yes\",\"No\")","v":"No"},{"$f":"IF(D131=\"-\",1,0)*U$1","v":1},{"$f":"AND(U131=0,U$1=1)","v":false},{"$f":"IF(F131=\"-\",1,0)*W$1","v":1},{"$f":"AND(W131=0,W$1=1)","v":false},{"$f":"IF(H131=\"-\",1,0)*Y$1","v":1},{"$f":"AND(Y131=0,Y$1=1)","v":false},{"$f":"IF(J131=\"-\",1,0)*AA$1","v":1},{"$f":"AND(AA131=0,AA$1=1)","v":false},{"$f":"IF(L131=\"-\",1,0)*AC$1","v":1},{"$f":"AND(AC131=0,AC$1=1)","v":false}]
[129,null,"-","-",{"$f":"IF(D132=\"-\",0,D132)","v":0},"-",{"$f":"IF(F132=\"-\",0,F132)","v":0},"-",{"$f":"IF(H132=\"-\",0,H132)","v":0},"-",{"$f":"IF(J132=\"-\",0,J132)","v":0},"-",{"$f":"IF(L132=\"-\",0,L132)","v":0},null,{"$f":"E132+G132+I132+K132+M132","v":0},{"$f":"MAX(D132,F132,H132,J132,L132)","v":0},{"$f":"IF(S132=1,O132,IF(S132=0,(O132-P132),\"-\"))","v":"-"},{"$f":"COUNTIF(U132:AD132,\"=TRUE\")","v":0},{"$f":"AE$1-R132","v":5},{"$f":"IF(S132<2,\"Yes\",\"No\")","v":"No"},{"$f":"IF(D132=\"-\",1,0)*U$1","v":1},{"$f":"AND(U132=0,U$1=1)","v":false},{"$f":"IF(F132=\"-\",1,0)*W$1","v":1},{"$f":"AND(W132=0,W$1=1)","v":false},{"$f":"IF(H132=\"-\",1,0)*Y$1","v":1},{"$f":"AND(Y132=0,Y$1=1)","v":false},{"$f":"IF(J132=\"-\",1,0)*AA$1","v":1},{"$f":"AND(AA132=0,AA$1=1)","v":false},{"$f":"IF(L132=\"-\",1,0)*AC$1","v":1},{"$f":"AND(AC132=0,AC$1=1)","v":false}]
[130,null,"-","-",{"$f":"IF(D133=\"-\",0,D133)","v":0},"-",{"$f":"IF(F133=\"-\",0,F133)","v":0},"-",{"$f":"IF(H133=\"-\",0,H133)","v":0},"-",{"$f":"IF(J133=\"-\",0,J133)","v":0},"-",{"$f":"IF(L133=\"-\",0,L133)","v":0},null,{"$f":"E133+G133+I133+K133+M133","v":0},{"$f":"MAX(D133,F133,H133,J133,L133)","v":0},{"$f":"IF(S133=1,O133,IF(S133=0,(O133-P133),\"-\"))","v":"-"},{"$f":"COUNTIF(U133:AD133,\"=TRUE\")","v":0},{"$f":"AE$1-R133","v":5},{"$f":"IF(S133<2,\"Yes\",\"No\")","v":"No"},{"$f":"IF(D133=\"-\",1,0)*U$1","v":1},{"$f":"AND(U133=0,U$1=1)","v":false},{"$f":"IF(F133=\"-\",1,0)*W$1","v":1},{"$f":"AND(W133=0,W$1=1)","v":false},{"$f":"IF(H133=\"-\",1,0)*Y$1","v":1},{"$f":"AND(Y133=0,Y$1=1)","v":false},{"$f":"IF(J133=\"-\",1,0)*AA$1","v":1},{"$f":"AND(AA133=0,AA$1=1)","v":false},{"$f":"IF(L133=\"-\",1,0)*AC$1","v":1},{"$f":"AND(AC133=0,AC$1=1)","v":false}]
[131,null,"-","-",{"$f":"IF(D134=\"-\",0,D134)","v":0},"-",{"$f":"IF(F134=\"-\",0,F134)","v":0},"-",{"$f":"IF(H134=\"-\",0,H134)","v":0},"-",{"$f":"IF(J134=\"-\",0,J134)","v":0},"-",{"$f":"IF(L134=\"-\",0,L134)","v":0},null,{"$f":"E134+G134+I134+K134+M134","v":0},{"$f":"MAX(D134,F134,H134,J134,L134)","v":0},{"$f":"IF(S134=1,O134,IF(S134=0,(O134-P134),\"-\"))","v":"-"},{"$f":"COUNTIF(U134:AD134,\"=TRUE\")","v":0},{"$f":"AE$1-R134","v":5},{"$f":"IF(S134<2,\"Yes\",\"No\")","v":"No"},{"$f":"IF(D134=\"-\",1,0)*U$1","v":1},{"$f":"AND(U134=0,U$1=1)","v":false},{"$f":"IF(F134=\"-\",1,0)*W$1","v":1},{"$f":"AND(W134=0,W$1=1)","v":false},{"$f":"IF(H134=\"-\",1,0)*Y$1","v":1},{"$f":"AND(Y134=0,Y$1=1)","v":false},{"$f":"IF(J134=\"-\",1,0)*AA$1","v":1},{"$f":"AND(AA134=0,AA$1=1)","v":false},{"$f":"IF(L134=\"-\",1,0)*AC$1","v":1},{"$f":"AND(AC134=0,AC$1=1)","v":false}]
[132,null,"-","-",{"$f":"IF(D135=\"-\",0,D135)","v":0},"-",{"$f":"IF(F135=\"-\",0,F135)","v":0},"-",{"$f":"IF(H135=\"-\",0,H135)","v":0},"-",{"$f":"IF(J135=\"-\",0,J135)","v":0},"-",{"$f":"IF(L135=\"-\",0,L135)","v":0},null,{"$f":"E135+G135+I135+K135+M135","v":0},{"$f":"MAX(D135,F135,H135,J135,L135)","v":0},{"$f":"IF(S135=1,O135,IF(S135=0,(O135-P135),\"-\"))","v":"-"},{"$f":"COUNTIF(U135:AD135,\"=TRUE\")","v":0},{"$f":"AE$1-R135","v":5},{"$f":"IF(S135<2,\"Yes\",\"No\")","v":"No"},{"$f":"IF(D135=\"-\",1,0)*U$1","v":1},{"$f":"AND(U135=0,U$1=1)","v":false},{"$f":"IF(F135=\"-\",1,0)*W$1","v":1},{"$f":"AND(W135=0,W$1=1)","v":false},{"$f":"IF(H135=\"-\",1,0)*Y$1","v":1},{"$f":"AND(Y135=0,Y$1=1)","v":false},{"$f":"IF(J135=\"-\",1,0)*AA$1","v":1},{"$f":"AND(AA135=0,AA$1=1)","v":false},{"$f":"IF(L135=\"-\",1,0)*AC$1","v":1},{"$f":"AND(AC135=0,AC$1=1)","v":false}]
[133,null,"-","-",{"$f":"IF(D136=\"-\",0,D136)","v":0},"-",{"$f":"IF(F136=\"-\",0,F136)","v":0},"-",{"$f":"IF(H136=\"-\",0,H136)","v":0},"-",{"$f":"IF(J136=\"-\",0,J136)","v":0},"-",{"$f":"IF(L136=\"-\",0,L136)","v":0},null,{"$f":"E136+G136+I136+K136+M136","v":0},{"$f":"MAX(D136,F136,H136,J136,L136)","v":0},{"$f":"IF(S136=1,O136,IF(S136=0,(O136-P136),\"-\"))","v":"-"},{"$f":"COUNTIF(U136:AD136,\"=TRUE\")","v":0},{"$f":"AE$1-R136","v":5},{"$f":"IF(S136<2,\"Yes\",\"No\")","v":"No"},{"$f":"IF(D136=\"-\",1,0)*U$1","v":1},{"$f":"AND(U136=0,U$1=1)","v":false},{"$f":"IF(F136=\"-\",1,0)*W$1","v":1},{"$f":"AND(W136=0,W$1=1)","v":false},{"$f":"IF(H136=\"-\",1,0)*Y$1","v":1},{"$f":"AND(Y136=0,Y$1=1)","v":false},{"$f":"IF(J136=\"-\",1,0)*AA$1","v":1},{"$f":"AND(AA136=0,AA$1=1)","v":false},{"$f":"IF(L136=\"-\",1,0)*AC$1","v":1},{"$f":"AND(AC136=0,AC$1=1)","v":false}]
[134,null,"-","-",{"$f":"IF(D137=\"-\",0,D137)","v":0},"-",{"$f":"IF(F137=\"-\",0,F137)","v":0},"-",{"$f":"IF(H137=\"-\",0,H137)","v":0},"-",{"$f":"IF(J137=\"-\",0,J137)","v":0},"-",{"$f":"IF(L137=\"-\",0,L137)","v":0},null,{"$f":"E137+G137+I137+K137+M137","v":0},{"$f":"MAX(D137,F137,H137,J137,L137)","v":0},{"$f":"IF(S137=1,O137,IF(S137=0,(O137-P137),\"-\"))","v":"-"},{"$f":"COUNTIF(U137:AD137,\"=TRUE\")","v":0},{"$f":"AE$1-R137","v":5},{"$f":"IF(S137<2,\"Yes\",\"No\")","v":"No"},{"$f":"IF(D137=\"-\",1,0)*U$1","v":1},{"$f":"AND(U137=0,U$1=1)","v":false},{"$f":"IF(F137=\"-\",1,0)*W$1","v":1},{"$f":"AND(W137=0,W$1=1)","v":false},{"$f":"IF(H137=\"-\",1,0)*Y$1","v":1},{"$f":"AND(Y137=0,Y$1=1)","v":false},{"$f":"IF(J137=\"-\",1,0)*AA$1","v":1},{"$f":"AND(AA137=0,AA$1=1)","v":false},{"$f":"IF(L137=\"-\",1,0)*AC$1","v":1},{"$f":"AND(AC137=0,AC$1=1)","v":false}]
[135,null,"-","-",{"$f":"IF(D138=\"-\",0,D138)","v":0},"-",{"$f":"IF(F138=\"-\",0,F138)","v":0},"-",{"$f":"IF(H138=\"-\",0,H138)","v":0},"-",{"$f":"IF(J138=\"-\",0,J138)","v":0},"-",{"$f":"IF(L138=\"-\",0,L138)","v":0},null,{"$f":"E138+G138+I138+K138+M138","v":0},{"$f":"MAX(D138,F138,H138,J138,L138)","v":0},{"$f":"IF(S138=1,O138,IF(S138=0,(O138-P138),\"-\"))","v":"-"},{"$f":"COUNTIF(U138:AD138,\"=TRUE\")","v":0},{"$f":"AE$1-R138","v":5},{"$f":"IF(S138<2,\"Yes\",\"No\")","v":"No"},{"$f":"IF(D138=\"-\",1,0)*U$1","v":1},{"$f":"AND(U138=0,U$1=1)","v":false},{"$f":"IF(F138=\"-\",1,0)*W$1","v":1},{"$f":"AND(W138=0,W$1=1)","v":false},{"$f":"IF(H138=\"-\",1,0)*Y$1","v":1},{"$f":"AND(Y138=0,Y$1=1)","v":false},{"$f":"IF(J138=\"-\",1,0)*AA$1","v":1},{"$f":"AND(AA138=0,AA$1=1)","v":false},{"$f":"IF(L138=\"-\",1,0)*AC$1","v":1},{"$f":"AND(AC138=0,AC$1=1)","v":false}]
[136,null,"-","-",{"$f":"IF(D139=\"-\",0,D139)","v":0},"-",{"$f":"IF(F139=\"-\",0,F139)","v":0},"-",{"$f":"IF(H139=\"-\",0,H139)","v":0},"-",{"$f":"IF(J139=\"-\",0,J139)","v":0},"-",{"$f":"IF(L139=\"-\",0,L139)","v":0},null,{"$f":"E139+G139+I139+K139+M139","v":0},{"$f":"MAX(D139,F139,H139,J139,L139)","v":0},{"$f":"IF(S139=1,O139,IF(S139=0,(O139-P139),\"-\"))","v":"-"},{"$f":"COUNTIF(U139:AD139,\"=TRUE\")","v":0},{"$f":"AE$1-R139","v":5},{"$f":"IF(S139<2,\"Yes\",\"No\")","v":"No"},{"$f":"IF(D139=\"-\",1,0)*U$1","v":1},{"$f":"AND(U139=0,U$1=1)","v":false},{"$f":"IF(F139=\"-\",1,0)*W$1","v":1},{"$f":"AND(W139=0,W$1=1)","v":false},{"$f":"IF(H139=\"-\",1,0)*Y$1","v":1},{"$f":"AND(Y139=0,Y$1=1)","v":false},{"$f":"IF(J139=\"-\",1,0)*AA$1","v":1},{"$f":"AND(AA139=0,AA$1=1)","v":false},{"$f":"IF(L139=\"-\",1,0)*AC$1","v":1},{"$f":"AND(AC139=0,AC$1=1)","v":false}]
[137,null,"-","-",{"$f":"IF(D140=\"-\",0,D140)","v":0},"-",{"$f":"IF(F140=\"-\",0,F140)","v":0},"-",{"$f":"IF(H140=\"-\",0,H140)","v":0},"-",{"$f":"IF(J140=\"-\",0,J140)","v":0},"-",{"$f":"IF(L140=\"-\",0,L140)","v":0},null,{"$f":"E140+G140+I140+K140+M140","v":0},{"$f":"MAX(D140,F140,H140,J140,L140)","v":0},{"$f":"IF(S140=1,O140,IF(S140=0,(O140-P140),\"-\"))","v":"-"},{"$f":"COUNTIF(U140:AD140,\"=TRUE\")","v":0},{"$f":"AE$1-R140","v":5},{"$f":"IF(S140<2,\"Yes\",\"No\")","v":"No"},{"$f":"IF(D140=\"-\",1,0)*U$1","v":1},{"$f":"AND(U140=0,U$1=1)","v":false},{"$f":"IF(F140=\"-\",1,0)*W$1","v":1},{"$f":"AND(W140=0,W$1=1)","v":false},{"$f":"IF(H140=\"-\",1,0)*Y$1","v":1},{"$f":"AND(Y140=0,Y$1=1)","v":false},{"$f":"IF(J140=\"-\",1,0)*AA$1","v":1},{"$f":"AND(AA140=0,AA$1=1)","v":false},{"$f":"IF(L140=\"-\",1,0)*AC$1","v":1},{"$f":"AND(AC140=0,AC$1=1)","v":false}]
[138,null,"-","-",{"$f":"IF(D141=\"-\",0,D141)","v":0},"-",{"$f":"IF(F141=\"-\",0,F141)","v":0},"-",{"$f":"IF(H141=\"-\",0,H141)","v":0},"-",{"$f":"IF(J141=\"-\",0,J141)","v":0},"-",{"$f":"IF(L141=\"-\",0,L141)","v":0},null,{"$f":"E141+G141+I141+K141+M141","v":0},{"$f":"MAX(D141,F141,H141,J141,L141)","v":0},{"$f":"IF(S141=1,O141,IF(S141=0,(O141-P141),\"-\"))","v":"-"},{"$f":"COUNTIF(U141:AD141,\"=TRUE\")","v":0},{"$f":"AE$1-R141","v":5},{"$f":"IF(S141<2,\"Yes\",\"No\")","v":"No"},{"$f":"IF(D141=\"-\",1,0)*U$1","v":1},{"$f":"AND(U141=0,U$1=1)","v":false},{"$f":"IF(F141=\"-\",1,0)*W$1","v":1},{"$f":"AND(W141=0,W$1=1)","v":false},{"$f":"IF(H141=\"-\",1,0)*Y$1","v":1},{"$f":"AND(Y141=0,Y$1=1)","v":false},{"$f":"IF(J141=\"-\",1,0)*AA$1","v":1},{"$f":"AND(AA141=0,AA$1=1)","v":false},{"$f":"IF(L141=\"-\",1,0)*AC$1","v":1},{"$f":"AND(AC141=0,AC$1=1)","v":false}]
[139,null,"-","-",{"$f":"IF(D142=\"-\",0,D142)","v":0},"-",{"$f":"IF(F142=\"-\",0,F142)","v":0},"-",{"$f":"IF(H142=\"-\",0,H142)","v":0},"-",{"$f":"IF(J142=\"-\",0,J142)","v":0},"-",{"$f":"IF(L142=\"-\",0,L142)","v":0},null,{"$f":"E142+G142+I142+K142+M142","v":0},{"$f":"MAX(D142,F142,H142,J142,L142)","v":0},{"$f":"IF(S142=1,O142,IF(S142=0,(O142-P142),\"-\"))","v":"-"},{"$f":"COUNTIF(U142:AD142,\"=TRUE\")","v":0},{"$f":"AE$1-R142","v":5},{"$f":"IF(S142<2,\"Yes\",\"No\")","v":"No"},{"$f":"IF(D142=\"-\",1,0)*U$1","v":1},{"$f":"AND(U142=0,U$1=1)","v":false},{"$f":"IF(F142=\"-\",1,0)*W$1","v":1},{"$f":"AND(W142=0,W$1=1)","v":false},{"$f":"IF(H142=\"-\",1,0)*Y$1","v":1},{"$f":"AND(Y142=0,Y$1=1)","v":false},{"$f":"IF(J142=\"-\",1,0)*AA$1","v":1},{"$f":"AND(AA142=0,AA$1=1)","v":false},{"$f":"IF(L142=\"-\",1,0)*AC$1","v":1},{"$f":"AND(AC142=0,AC$1=1)","v":false}]
[140,null,"-","-",{"$f":"IF(D143=\"-\",0,D143)","v":0},"-",{"$f":"IF(F143=\"-\",0,F143)","v":0},"-",{"$f":"IF(H143=\"-\",0,H143)","v":0},"-",{"$f":"IF(J143=\"-\",0,J143)","v":0},"-",{"$f":"IF(L143=\"-\",0,L143)","v":0},null,{"$f":"E143+G143+I143+K143+M143","v":0},{"$f":"MAX(D143,F143,H143,J143,L143)","v":0},{"$f":"IF(S143=1,O143,IF(S143=0,(O143-P143),\"-\"))","v":"-"},{"$f":"COUNTIF(U143:AD143,\"=TRUE\")","v":0},{"$f":"AE$1-R143","v":5},{"$f":"IF(S143<2,\"Yes\",\"No\")","v":"No"},{"$f":"IF(D143=\"-\",1,0)*U$1","v":1},{"$f":"AND(U143=0,U$1=1)","v":false},{"$f":"IF(F143=\"-\",1,0)*W$1","v":1},{"$f":"AND(W143=0,W$1=1)","v":false},{"$f":"IF(H143=\"-\",1,0)*Y$1","v":1},{"$f":"AND(Y143=0,Y$1=1)","v":false},{"$f":"IF(J143=\"-\",1,0)*AA$1","v":1},{"$f":"AND(AA143=0,AA$1=1)","v":false},{"$f":"IF(L143=\"-\",1,0)*AC$1","v":1},{"$f":"AND(AC143=0,AC$1=1)","v":false}]
[141,null,"-","-",{"$f":"IF(D144=\"-\",0,D144)","v":0},"-",{"$f":"IF(F144=\"-\",0,F144)","v":0},"-",{"$f":"IF(H144=\"-\",0,H144)","v":0},"-",{"$f":"IF(J144=\"-\",0,J144)","v":0},"-",{"$f":"IF(L144=\"-\",0,L144)","v":0},null,{"$f":"E144+G144+I144+K144+M144","v":0},{"$f":"MAX(D144,F144,H144,J144,L144)","v":0},{"$f":"IF(S144=1,O144,IF(S144=0,(O144-P144),\"-\"))","v":"-"},{"$f":"COUNTIF(U144:AD144,\"=TRUE\")","v":0},{"$f":"AE$1-R144","v":5},{"$f":"IF(S144<2,\"Yes\",\"No\")","v":"No"},{"$f":"IF(D144=\"-\",1,0)*U$1","v":1},{"$f":"AND(U144=0,U$1=1)","v":false},{"$f":"IF(F144=\"-\",1,0)*W$1","v":1},{"$f":"AND(W144=0,W$1=1)","v":false},{"$f":"IF(H144=\"-\",1,0)*Y$1","v":1},{"$f":"AND(Y144=0,Y$1=1)","v":false},{"$f":"IF(J144=\"-\",1,0)*AA$1","v":1},{"$f":"AND(AA144=0,AA$1=1)","v":false},{"$f":"IF(L144=\"-\",1,0)*AC$1","v":1},{"$f":"AND(AC144=0,AC$1=1)","v":false}]
[142,null,"-","-",{"$f":"IF(D145=\"-\",0,D145)","v":0},"-",{"$f":"IF(F145=\"-\",0,F145)","v":0},"-",{"$f":"IF(H145=\"-\",0,H145)","v":0},"-",{"$f":"IF(J145=\"-\",0,J145)","v":0},"-",{"$f":"IF(L145=\"-\",0,L145)","v":0},null,{"$f":"E145+G145+I145+K145+M145","v":0},{"$f":"MAX(D145,F145,H145,J145,L145)","v":0},{"$f":"IF(S145=1,O145,IF(S145=0,(O145-P145),\"-\"))","v":"-"},{"$f":"COUNTIF(U145:AD145,\"=TRUE\")","v":0},{"$f":"AE$1-R145","v":5},{"$f":"IF(S145<2,\"Yes\",\"No\")","v":"No"},{"$f":"IF(D145=\"-\",1,0)*U$1","v":1},{"$f":"AND(U145=0,U$1=1)","v":false},{"$f":"IF(F145=\"-\",1,0)*W$1","v":1},{"$f":"AND(W145=0,W$1=1)","v":false},{"$f":"IF(H145=\"-\",1,0)*Y$1","v":1},{"$f":"AND(Y145=0,Y$1=1)","v":false},{"$f":"IF(J145=\"-\",1,0)*AA$1","v":1},{"$f":"AND(AA145=0,AA$1=1)","v":false},{"$f":"IF(L145=\"-\",1,0)*AC$1","v":1},{"$f":"AND(AC145=0,AC$1=1)","v":false}]
[143,null,"-","-",{"$f":"IF(D146=\"-\",0,D146)","v":0},"-",{"$f":"IF(F146=\"-\",0,F146)","v":0},"-",{"$f":"IF(H146=\"-\",0,H146)","v":0},"-",{"$f":"IF(J146=\"-\",0,J146)","v":0},"-",{"$f":"IF(L146=\"-\",0,L146)","v":0},null,{"$f":"E146+G146+I146+K146+M146","v":0},{"$f":"MAX(D146,F146,H146,J146,L146)","v":0},{"$f":"IF(S146=1,O146,IF(S146=0,(O146-P146),\"-\"))","v":"-"},{"$f":"COUNTIF(U146:AD146,\"=TRUE\")","v":0},{"$f":"AE$1-R146","v":5},{"$f":"IF(S146<2,\"Yes\",\"No\")","v":"No"},{"$f":"IF(D146=\"-\",1,0)*U$1","v":1},{"$f":"AND(U146=0,U$1=1)","v":false},{"$f":"IF(F146=\"-\",1,0)*W$1","v":1},{"$f":"AND(W146=0,W$1=1)","v":false},{"$f":"IF(H146=\"-\",1,0)*Y$1","v":1},{"$f":"AND(Y146=0,Y$1=1)","v":false},{"$f":"IF(J146=\"-\",1,0)*AA$1","v":1},{"$f":"AND(AA146=0,AA$1=1)","v":false},{"$f":"IF(L146=\"-\",1,0)*AC$1","v":1},{"$f":"AND(AC146=0,AC$1=1)","v":false}]
[144,null,"-","-",{"$f":"IF(D147=\"-\",0,D147)","v":0},"-",{"$f":"IF(F147=\"-\",0,F147)","v":0},"-",{"$f":"IF(H147=\"-\",0,H147)","v":0},"-",{"$f":"IF(J147=\"-\",0,J147)","v":0},"-",{"$f":"IF(L147=\"-\",0,L147)","v":0},null,{"$f":"E147+G147+I147+K147+M147","v":0},{"$f":"MAX(D147,F147,H147,J147,L147)","v":0},{"$f":"IF(S147=1,O147,IF(S147=0,(O147-P147),\"-\"))","v":"-"},{"$f":"COUNTIF(U147:AD147,\"=TRUE\")","v":0},{"$f":"AE$1-R147","v":5},{"$f":"IF(S147<2,\"Yes\",\"No\")","v":"No"},{"$f":"IF(D147=\"-\",1,0)*U$1","v":1},{"$f":"AND(U147=0,U$1=1)","v":false},{"$f":"IF(F147=\"-\",1,0)*W$1","v":1},{"$f":"AND(W147=0,W$1=1)","v":false},{"$f":"IF(H147=\"-\",1,0)*Y$1","v":1},{"$f":"AND(Y147=0,Y$1=1)","v":false},{"$f":"IF(J147=\"-\",1,0)*AA$1","v":1},{"$f":"AND(AA147=0,AA$1=1)","v":false},{"$f":"IF(L147=\"-\",1,0)*AC$1","v":1},{"$f":"AND(AC147=0,AC$1=1)","v":false}]
[145,null,"-","-",{"$f":"IF(D148=\"-\",0,D148)","v":0},"-",{"$f":"IF(F148=\"-\",0,F148)","v":0},"-",{"$f":"IF(H148=\"-\",0,H148)","v":0},"-",{"$f":"IF(J148=\"-\",0,J148)","v":0},"-",{"$f":"IF(L148=\"-\",0,L148)","v":0},null,{"$f":"E148+G148+I148+K148+M148","v":0},{"$f":"MAX(D148,F148,H148,J148,L148)","v":0},{"$f":"IF(S148=1,O148,IF(S148=0,(O148-P148),\"-\"))","v":"-"},{"$f":"COUNTIF(U148:AD148,\"=TRUE\")","v":0},{"$f":"AE$1-R148","v":5},{"$f":"IF(S148<2,\"Yes\",\"No\")","v":"No"},{"$f":"IF(D148=\"-\",1,0)*U$1","v":1},{"$f":"AND(U148=0,U$1=1)","v":false},{"$f":"IF(F148=\"-\",1,0)*W$1","v":1},{"$f":"AND(W148=0,W$1=1)","v":false},{"$f":"IF(H148=\"-\",1,0)*Y$1","v":1},{"$f":"AND(Y148=0,Y$1=1)","v":false},{"$f":"IF(J148=\"-\",1,0)*AA$1","v":1},{"$f":"AND(AA148=0,AA$1=1)","v":false},{"$f":"IF(L148=\"-\",1,0)*AC$1","v":1},{"$f":"AND(AC148=0,AC$1=1)","v":false}]
[146,null,"-","-",{"$f":"IF(D149=\"-\",0,D149)","v":0},"-",{"$f":"IF(F149=\"-\",0,F149)","v":0},"-",{"$f":"IF(H149=\"-\",0,H149)","v":0},"-",{"$f":"IF(J149=\"-\",0,J149)","v":0},"-",{"$f":"IF(L149=\"-\",0,L149)","v":0},null,{"$f":"E149+G149+I149+K149+M149","v":0},{"$f":"MAX(D149,F149,H149,J149,L149)","v":0},{"$f":"IF(S149=1,O149,IF(S149=0,(O149-P149),\"-\"))","v":"-"},{"$f":"COUNTIF(U149:AD149,\"=TRUE\")","v":0},{"$f":"AE$1-R149","v":5},{"$f":"IF(S149<2,\"Yes\",\"No\")","v":"No"},{"$f":"IF(D149=\"-\",1,0)*U$1","v":1},{"$f":"AND(U149=0,U$1=1)","v":false},{"$f":"IF(F149=\"-\",1,0)*W$1","v":1},{"$f":"AND(W149=0,W$1=1)","v":false},{"$f":"IF(H149=\"-\",1,0)*Y$1","v":1},{"$f":"AND(Y149=0,Y$1=1)","v":false},{"$f":"IF(J149=\"-\",1,0)*AA$1","v":1},{"$f":"AND(AA149=0,AA$1=1)","v":false},{"$f":"IF(L149=\"-\",1,0)*AC$1","v":1},{"$f":"AND(AC149=0,AC$1=1)","v":false}]
[147]
[148]
[149]
[150]

{"sheet":"Year 7 Boys Teams","index":3,"n_rows":24,"n_cols":25,"rows_kept":24,"cut":false,"hidden":false,"merged":[[2,1,2,4],[2,5,2,8],[2,9,2,12],[2,13,2,16],[2,17,2,20]]}
[null,"Claimed Last Place",null,"Y","N","-"]
[]
["Total Finishers",{"$f":"'Year 7 Boys'!D2","v":68},null,null,null,{"$f":"'Year 7 Boys'!G2","v":66},null,null,null,{"$f":"'Year 7 Boys'!H2","v":51},null,null,null,{"$f":"'Year 7 Boys'!J2","v":46},null,null,null,{"$f":"'Year 7 Boys'!L2","v":40}]
["Team","Race 1 Position",null,"Race 1 Points Total","Claimed Last Place?","Race 2 Postion",null,"Race 2 Points Total","Claimed Last Place?","Race 3 Postion",null,"Race 3 Points Total","Claimed Last Place?","Race 4 Postion",null,"Race 4 Points Total","Claimed Last Place?","Race 5 Postion",null,"Race 5 Points Total","Claimed Last Place?","Number of claimed last places","Number of Races Without","Number of Races Completed","Total (All Races)"]
["Brookvale High School A",1,{"$f":"IF(B5=\"-\",0,B5)","v":1},42,"N",1,{"$f":"IF(F5=\"-\",0,F5)","v":1},57,"N",1,{"$f":"IF(J5=\"-\",0,J5)","v":1},27,"N",1,{"$f":"IF(N5=\"-\",0,N5)","v":1},32,"N",1,{"$f":"IF(R5=\"-\",0,R5)","v":1},33,"N",{"$f":"COUNTIF(B5:U5,\"Y\")","v":0},{"$f":"COUNTIF(B5:U5,\"n\")","v":5},{"$f":"V5+W5","v":5},{"$f":"C5+G5+K5+O5+S5","v":5}]
["Loughborough Grammar School A",2,{"$f":"IF(B6=\"-\",0,B6)","v":2},64,"N",3,{"$f":"IF(F6=\"-\",0,F6)","v":3},101,"N","-",{"$f":"IF(J6=\"-\",0,J6)","v":0},"-","-","-",{"$f":"IF(N6=\"-\",0,N6)","v":0},"-","-",6,{"$f":"IF(R6=\"-\",0,R6)","v":6},108,"Y",{"$f":"COUNTIF(B6:U6,\"Y\")","v":1},{"$f":"COUNTIF(B6:U6,\"n\")","v":2},{"$f":"V6+W6","v":3},{"$f":"C6+G6+K6+O6+S6","v":11}]
["Welland Park Academy",3,3,71,"N",2,2,59,"N",4,4,99,"N",2,2,39,"N",2,2,37,"N",0,5,5,13]
["Rawlins College",4,4,129,"N","-",0,"-","-","-",0,"-","-","-",0,"-","-","-",0,"-","-",0,1,1,4]
["De Lisle College",5,{"$f":"IF(B9=\"-\",0,B9)","v":5},150,"N",4,4,120,"N",3,3,96,"N",4,4,93,"N",5,5,94,"N",0,5,5,21]
["Redmoor Academy",6,6,154,"Y","-",0,"-","-","-",0,"-","-","-",0,"-","-","-",0,"-","-",1,0,1,6]
["Hastings High School",7,7,170,"Y","-",0,"-","-","-",0,"-","-","-",0,"-","-","-",0,"-","-",1,0,1,7]
["The Martin High School",8,8,179,"Y","-",0,"-","-","-",0,"-","-","-",0,"-","-","-",0,"-","-",1,0,1,8]
["Bosworth Academy",9,9,185,"Y",6,6,132,"N",5,5,104,"N","-",0,"-","-","-",0,"-","-",1,2,3,20]
["Crown Hills CC A",10,10,201,"N",9,9,187,"N",9,9,171,"N","-",0,"-","-","-",0,"-","-",0,3,3,28]
["Loughborough Grammar School B",11,11,221,"Y","-",0,"-","-","-",0,"-","-","-",0,"-","-","-",0,"-","-",1,0,1,11]
["Brookvale High School B",12,12,226,"N",10,10,202,"N",8,8,137,"N",6,6,133,"N","-",0,"-","-",0,4,4,36]
["John Ferneley College",13,13,236,"Y",8,8,159,"N","-",0,"-","-",7,7,135,"Y","-",0,"-","-",2,1,3,28]
["Thomas Estley CC","-",0,"-","-",5,{"$f":"IF(F18=\"-\",0,F18)","v":5},129,"Y",2,{"$f":"IF(J18=\"-\",0,J18)","v":2},78,"N",3,{"$f":"IF(N18=\"-\",0,N18)","v":3},92,"Y",4,{"$f":"IF(R18=\"-\",0,R18)","v":4},87,"N",2,2,4,14]
["Lutterworth High School","-",{"$f":"IF(B19=\"-\",0,B19)","v":0},"-","-",7,{"$f":"IF(F19=\"-\",0,F19)","v":7},134,"N",7,{"$f":"IF(J19=\"-\",0,J19)","v":7},133,"Y","-",{"$f":"IF(N19=\"-\",0,N19)","v":0},"-","-","-",{"$f":"IF(R19=\"-\",0,R19)","v":0},"-","-",{"$f":"COUNTIF(B19:U19,\"Y\")","v":1},{"$f":"COUNTIF(B19:U19,\"n\")","v":1},{"$f":"V19+W19","v":2},{"$f":"C19+G19+K19+O19+S19","v":14}]
["Uppingham CC","-",0,"-","-",11,11,215,"Y",6,6,120,"Y",5,5,121,"Y",3,3,77,"N",3,1,4,25]
["Crown Hills CC B","-",0,"-","-",12,12,242,"N","-",0,"-",null,"-",0,"-","-","-",0,"-","-",0,1,1,12]
[null,"-",0,"-","-","-",0,"-","-","-",0,"-",null,"-",0,"-","-","-",0,"-","-",0,0,0,0]
[null,"-",0,"-","-","-",0,"-","-","-",0,"-",null,"-",0,"-","-","-",0,"-","-",0,0,0,0]
[null,"-",0,"-","-","-",0,"-","-","-",0,"-",null,"-",0,"-","-","-",0,"-","-",0,0,0,0]

{"sheet":"Junior Girls","index":4,"n_rows":153,"n_cols":38,"rows_kept":153,"cut":false,"hidden":false,"merged":[]}
[null,"Total Number of Runners","Race Complete (Y/N) ",{"$f":"'Year 7 Girls '!D1","v":"Y"},null,{"$f":"'Year 7 Girls '!F1","v":"Y"},null,{"$f":"'Year 7 Girls '!H1","v":"Y"},null,{"$f":"'Year 7 Girls '!J1","v":"Y"},null,"Y",null,null,null,null,null,null,null,null,{"$f":"IF(D1=\"Y\",1,0)","v":1},null,{"$f":"IF(F1=\"Y\",1,0)","v":1},null,{"$f":"IF(H1=\"Y\",1,0)","v":1},null,{"$f":"IF(J1=\"Y\",1,0)","v":1},null,{"$f":"IF(L1=\"Y\",1,0)","v":1},null,{"$f":"SUM(U1:AC1)","v":5}]
[null,{"$f":"COUNTA(B5:B300)","v":87},"No of Finishers",{"$f":"MAX(D5:D150)","v":55},55,56,56,55,55,42,42,43]
[null,null,"Number of results recorded",{"$f":"COUNTIF(D5:D149,\">0\")","v":53},null,{"$f":"COUNTIF(G5:G149,\">0\")","v":56},null,{"$f":"COUNTIF(I5:I149,\">0\")","v":55},null,{"$f":"COUNTIF(K5:K149,\">0\")","v":42},null,{"$f":"COUNTIF(M5:M149,\">0\")","v":43}]
["Reset Column","Name","School","Race 1","Normalised result -1","Race 2","Normalised result -2","Race 3","Normalised result -3","Race 4","Normalised result -4","Race 5","Normalised result -5",null,"Total\n(All Races)","Lowest Place Finish","Final Total","Number of Races Completed","League contender?\n(No. of races - missed)","Elidgible For League Title","Competed in race 1\n0 = YES",null,"Competed in race 2\n0 = YES",null,"Competed in race 3\n0 = YES",null,"Competed in race 4\n0 = YES",null,"Competed in race 5\n0 = YES",null,null,null,null,null,null,null,null," "]
[11,"Hannah Seager","De Lisle College",2,{"$f":"IF(D5=\"-\",0,D5)","v":2},3,{"$f":"IF(F5=\"-\",0,F5)","v":3},1,{"$f":"IF(H5=\"-\",0,H5)","v":1},2,{"$f":"IF(J5=\"-\",0,J5)","v":2},1,{"$f":"IF(L5=\"-\",0,L5)","v":1},null,{"$f":"E5+G5+I5+K5+M5","v":9},{"$f":"MAX(D5,F5,H5,J5,L5)","v":3},{"$f":"IF(S5=1,O5,IF(S5=0,(O5-P5),\"-\"))","v":6},{"$f":"COUNTIF(U5:AD5,\"=TRUE\")","v":5},{"$f":"AE$1-R5","v":0},{"$f":"IF(S5<2,\"Yes\",\"No\")","v":"Yes"},{"$f":"IF(D5=\"-\",1,0)*U$1","v":0},{"$f":"AND(U5=0,U$1=1)","v":true},{"$f":"IF(F5=\"-\",1,0)*W$1","v":0},{"$f":"AND(W5=0,W$1=1)","v":true},{"$f":"IF(H5=\"-\",1,0)*Y$1","v":0},{"$f":"AND(Y5=0,Y$1=1)","v":true},{"$f":"IF(J5=\"-\",1,0)*AA$1","v":0},{"$f":"AND(AA5=0,AA$1=1)","v":true},{"$f":"IF(L5=\"-\",1,0)*AC$1","v":0},{"$f":"AND(AC5=0,AC$1=1)","v":true}]
[71,"Neve Grimes","Lutterworth High School",1,{"$f":"IF(D6=\"-\",0,D6)","v":1},2,{"$f":"IF(F6=\"-\",0,F6)","v":2},5,{"$f":"IF(H6=\"-\",0,H6)","v":5},4,{"$f":"IF(J6=\"-\",0,J6)","v":4},2,{"$f":"IF(L6=\"-\",0,L6)","v":2},null,{"$f":"E6+G6+I6+K6+M6","v":14},{"$f":"MAX(D6,F6,H6,J6,L6)","v":5},{"$f":"IF(S6=1,O6,IF(S6=0,(O6-P6),\"-\"))","v":9},{"$f":"COUNTIF(U6:AD6,\"=TRUE\")","v":5},{"$f":"AE$1-R6","v":0},{"$f":"IF(S6<2,\"Yes\",\"No\")","v":"Yes"},{"$f":"IF(D6=\"-\",1,0)*U$1","v":0},{"$f":"AND(U6=0,U$1=1)","v":true},{"$f":"IF(F6=\"-\",1,0)*W$1","v":0},{"$f":"AND(W6=0,W$1=1)","v":true},{"$f":"IF(H6=\"-\",1,0)*Y$1","v":0},{"$f":"AND(Y6=0,Y$1=1)","v":true},{"$f":"IF(J6=\"-\",1,0)*AA$1","v":0},{"$f":"AND(AA6=0,AA$1=1)","v":true},{"$f":"IF(L6=\"-\",1,0)*AC$1","v":0},{"$f":"AND(AC6=0,AC$1=1)","v":true}]
[63,"Emma Richards","Leicester Grammar School",7,{"$f":"IF(D7=\"-\",0,D7)","v":7},7,{"$f":"IF(F7=\"-\",0,F7)","v":7},3,{"$f":"IF(H7=\"-\",0,H7)","v":3},3,{"$f":"IF(J7=\"-\",0,J7)","v":3},3,{"$f":"IF(L7=\"-\",0,L7)","v":3},null,{"$f":"E7+G7+I7+K7+M7","v":23},{"$f":"MAX(D7,F7,H7,J7,L7)","v":7},{"$f":"IF(S7=1,O7,IF(S7=0,(O7-P7),\"-\"))","v":16},{"$f":"COUNTIF(U7:AD7,\"=TRUE\")","v":5},{"$f":"AE$1-R7","v":0},{"$f":"IF(S7<2,\"Yes\",\"No\")","v":"Yes"},{"$f":"IF(D7=\"-\",1,0)*U$1","v":0},{"$f":"AND(U7=0,U$1=1)","v":true},{"$f":"IF(F7=\"-\",1,0)*W$1","v":0},{"$f":"AND(W7=0,W$1=1)","v":true},{"$f":"IF(H7=\"-\",1,0)*Y$1","v":0},{"$f":"AND(Y7=0,Y$1=1)","v":true},{"$f":"IF(J7=\"-\",1,0)*AA$1","v":0},{"$f":"AND(AA7=0,AA$1=1)","v":true},{"$f":"IF(L7=\"-\",1,0)*AC$1","v":0},{"$f":"AND(AC7=0,AC$1=1)","v":true}]
[5,"Mia Atkinson","Ratcliffe College","-",{"$f":"IF(D8=\"-\",0,D8)","v":0},1,{"$f":"IF(F8=\"-\",0,F8)","v":1},"-",{"$f":"IF(H8=\"-\",0,H8)","v":0},1,{"$f":"IF(J8=\"-\",0,J8)","v":1},4,{"$f":"IF(L8=\"-\",0,L8)","v":4},null,{"$f":"E8+G8+I8+K8+M8","v":6},{"$f":"MAX(D8,F8,H8,J8,L8)","v":4},{"$f":"IF(S8=1,O8,IF(S8=0,(O8-P8),\"-\"))","v":"-"},{"$f":"COUNTIF(U8:AD8,\"=TRUE\")","v":3},{"$f":"AE$1-R8","v":2},{"$f":"IF(S8<2,\"Yes\",\"No\")","v":"No"},{"$f":"IF(D8=\"-\",1,0)*U$1","v":1},{"$f":"AND(U8=0,U$1=1)","v":false},{"$f":"IF(F8=\"-\",1,0)*W$1","v":0},{"$f":"AND(W8=0,W$1=1)","v":true},{"$f":"IF(H8=\"-\",1,0)*Y$1","v":1},{"$f":"AND(Y8=0,Y$1=1)","v":false},{"$f":"IF(J8=\"-\",1,0)*AA$1","v":0},{"$f":"AND(AA8=0,AA$1=1)","v":true},{"$f":"IF(L8=\"-\",1,0)*AC$1","v":0},{"$f":"AND(AC8=0,AC$1=1)","v":true}]
[68,"Laura Aryeetey","Woodbrook Vale School","-",{"$f":"IF(D9=\"-\",0,D9)","v":0},6,{"$f":"IF(F9=\"-\",0,F9)","v":6},4,{"$f":"IF(H9=\"-\",0,H9)","v":4},5,{"$f":"IF(J9=\"-\",0,J9)","v":5},5,{"$f":"IF(L9=\"-\",0,L9)","v":5},null,{"$f":"E9+G9+I9+K9+M9","v":20},{"$f":"MAX(D9,F9,H9,J9,L9)","v":6},{"$f":"IF(S9=1,O9,IF(S9=0,(O9-P9),\"-\"))","v":20},{"$f":"COUNTIF(U9:AD9,\"=TRUE\")","v":4},{"$f":"AE$1-R9","v":1},{"$f":"IF(S9<2,\"Yes\",\"No\")","v":"Yes"},{"$f":"IF(D9=\"-\",1,0)*U$1","v":1},{"$f":"AND(U9=0,U$1=1)","v":false},{"$f":"IF(F9=\"-\",1,0)*W$1","v":0},{"$f":"AND(W9=0,W$1=1)","v":true},{"$f":"IF(H9=\"-\",1,0)*Y$1","v":0},{"$f":"AND(Y9=0,Y$1=1)","v":true},{"$f":"IF(J9=\"-\",1,0)*AA$1","v":0},{"$f":"AND(AA9=0,AA$1=1)","v":true},{"$f":"IF(L9=\"-\",1,0)*AC$1","v":0},{"$f":"AND(AC9=0,AC$1=1)","v":true}]
[33,"Lottie Edwards","Welland Park Academy",4,{"$f":"IF(D10=\"-\",0,D10)","v":4},5,{"$f":"IF(F10=\"-\",0,F10)","v":5},9,{"$f":"IF(H10=\"-\",0,H10)","v":9},9,{"$f":"IF(J10=\"-\",0,J10)","v":9},6,{"$f":"IF(L10=\"-\",0,L10)","v":6},null,{"$f":"E10+G10+I10+K10+M10","v":33},{"$f":"MAX(D10,F10,H10,J10,L10)","v":9},{"$f":"IF(S10=1,O10,IF(S10=0,(O10-P10),\"-\"))","v":24},{"$f":"COUNTIF(U10:AD10,\"=TRUE\")","v":5},{"$f":"AE$1-R10","v":0},{"$f":"IF(S10<2,\"Yes\",\"No\")","v":"Yes"},{"$f":"IF(D10=\"-\",1,0)*U$1","v":0},{"$f":"AND(U10=0,U$1=1)","v":true},{"$f":"IF(F10=\"-\",1,0)*W$1","v":0},{"$f":"AND(W10=0,W$1=1)","v":true},{"$f":"IF(H10=\"-\",1,0)*Y$1","v":0},{"$f":"AND(Y10=0,Y$1=1)","v":true},{"$f":"IF(J10=\"-\",1,0)*AA$1","v":0},{"$f":"AND(AA10=0,AA$1=1)","v":true},{"$f":"IF(L10=\"-\",1,0)*AC$1","v":0},{"$f":"AND(AC10=0,AC$1=1)","v":true}]
[2,"Fern Harrison","English Martyrs Catholic School",3,{"$f":"IF(D11=\"-\",0,D11)","v":3},4,{"$f":"IF(F11=\"-\",0,F11)","v":4},2,{"$f":"IF(H11=\"-\",0,H11)","v":2},11,{"$f":"IF(J11=\"-\",0,J11)","v":11},7,{"$f":"IF(L11=\"-\",0,L11)","v":7},null,{"$f":"E11+G11+I11+K11+M11","v":27},{"$f":"MAX(D11,F11,H11,J11,L11)","v":11},{"$f":"IF(S11=1,O11,IF(S11=0,(O11-P11),\"-\"))","v":16},{"$f":"COUNTIF(U11:AD11,\"=TRUE\")","v":5},{"$f":"AE$1-R11","v":0},{"$f":"IF(S11<2,\"Yes\",\"No\")","v":"Yes"},{"$f":"IF(D11=\"-\",1,0)*U$1","v":0},{"$f":"AND(U11=0,U$1=1)","v":true},{"$f":"IF(F11=\"-\",1,0)*W$1","v":0},{"$f":"AND(W11=0,W$1=1)","v":true},{"$f":"IF(H11=\"-\",1,0)*Y$1","v":0},{"$f":"AND(Y11=0,Y$1=1)","v":true},{"$f":"IF(J11=\"-\",1,0)*AA$1","v":0},{"$f":"AND(AA11=0,AA$1=1)","v":true},{"$f":"IF(L11=\"-\",1,0)*AC$1","v":0},{"$f":"AND(AC11=0,AC$1=1)","v":true}]
[29,"Grace Smith","Sir Jonathon North CC",9,{"$f":"IF(D12=\"-\",0,D12)","v":9},"-",{"$f":"IF(F12=\"-\",0,F12)","v":0},10,{"$f":"IF(H12=\"-\",0,H12)","v":10},8,{"$f":"IF(J12=\"-\",0,J12)","v":8},8,{"$f":"IF(L12=\"-\",0,L12)","v":8},null,{"$f":"E12+G12+I12+K12+M12","v":35},{"$f":"MAX(D12,F12,H12,J12,L12)","v":10},{"$f":"IF(S12=1,O12,IF(S12=0,(O12-P12),\"-\"))","v":35},{"$f":"COUNTIF(U12:AD12,\"=TRUE\")","v":4},{"$f":"AE$1-R12","v":1},{"$f":"IF(S12<2,\"Yes\",\"No\")","v":"Yes"},{"$f":"IF(D12=\"-\",1,0)*U$1","v":0},{"$f":"AND(U12=0,U$1=1)","v":true},{"$f":"IF(F12=\"-\",1,0)*W$1","v":1},{"$f":"AND(W12=0,W$1=1)","v":false},{"$f":"IF(H12=\"-\",1,0)*Y$1","v":0},{"$f":"AND(Y12=0,Y$1=1)","v":true},{"$f":"IF(J12=\"-\",1,0)*AA$1","v":0},{"$f":"AND(AA12=0,AA$1=1)","v":true},{"$f":"IF(L12=\"-\",1,0)*AC$1","v":0},{"$f":"AND(AC12=0,AC$1=1)","v":true}]
[80,"Zena Challenger","Thomas Estley CC",6,{"$f":"IF(D13=\"-\",0,D13)","v":6},9,{"$f":"IF(F13=\"-\",0,F13)","v":9},7,{"$f":"IF(H13=\"-\",0,H13)","v":7},7,{"$f":"IF(J13=\"-\",0,J13)","v":7},9,{"$f":"IF(L13=\"-\",0,L13)","v":9},null,{"$f":"E13+G13+I13+K13+M13","v":38},{"$f":"MAX(D13,F13,H13,J13,L13)","v":9},{"$f":"IF(S13=1,O13,IF(S13=0,(O13-P13),\"-\"))","v":29},{"$f":"COUNTIF(U13:AD13,\"=TRUE\")","v":5},{"$f":"AE$1-R13","v":0},{"$f":"IF(S13<2,\"Yes\",\"No\")","v":"Yes"},{"$f":"IF(D13=\"-\",1,0)*U$1","v":0},{"$f":"AND(U13=0,U$1=1)","v":true},{"$f":"IF(F13=\"-\",1,0)*W$1","v":0},{"$f":"AND(W13=0,W$1=1)","v":true},{"$f":"IF(H13=\"-\",1,0)*Y$1","v":0},{"$f":"AND(Y13=0,Y$1=1)","v":true},{"$f":"IF(J13=\"-\",1,0)*AA$1","v":0},{"$f":"AND(AA13=0,AA$1=1)","v":true},{"$f":"IF(L13=\"-\",1,0)*AC$1","v":0},{"$f":"AND(AC13=0,AC$1=1)","v":true}]
[26,"Rhea Cooper","Lutterworth High School","-",{"$f":"IF(D14=\"-\",0,D14)","v":0},8,{"$f":"IF(F14=\"-\",0,F14)","v":8},6,{"$f":"IF(H14=\"-\",0,H14)","v":6},6,{"$f":"IF(J14=\"-\",0,J14)","v":6},10,{"$f":"IF(L14=\"-\",0,L14)","v":10},null,{"$f":"E14+G14+I14+K14+M14","v":30},{"$f":"MAX(D14,F14,H14,J14,L14)","v":10},{"$f":"IF(S14=1,O14,IF(S14=0,(O14-P14),\"-\"))","v":30},{"$f":"COUNTIF(U14:AD14,\"=TRUE\")","v":4},{"$f":"AE$1-R14","v":1},{"$f":"IF(S14<2,\"Yes\",\"No\")","v":"Yes"},{"$f":"IF(D14=\"-\",1,0)*U$1","v":1},{"$f":"AND(U14=0,U$1=1)","v":false},{"$f":"IF(F14=\"-\",1,0)*W$1","v":0},{"$f":"AND(W14=0,W$1=1)","v":true},{"$f":"IF(H14=\"-\",1,0)*Y$1","v":0},{"$f":"AND(Y14=0,Y$1=1)","v":true},{"$f":"IF(J14=\"-\",1,0)*AA$1","v":0},{"$f":"AND(AA14=0,AA$1=1)","v":true},{"$f":"IF(L14=\"-\",1,0)*AC$1","v":0},{"$f":"AND(AC14=0,AC$1=1)","v":true}]
[43,"Hannah Ord","Manor High School",10,{"$f":"IF(D15=\"-\",0,D15)","v":10},11,{"$f":"IF(F15=\"-\",0,F15)","v":11},8,{"$f":"IF(H15=\"-\",0,H15)","v":8},10,{"$f":"IF(J15=\"-\",0,J15)","v":10},11,{"$f":"IF(L15=\"-\",0,L15)","v":11},null,{"$f":"E15+G15+I15+K15+M15","v":50},{"$f":"MAX(D15,F15,H15,J15,L15)","v":11},{"$f":"IF(S15=1,O15,IF(S15=0,(O15-P15),\"-\"))","v":39},{"$f":"COUNTIF(U15:AD15,\"=TRUE\")","v":5},{"$f":"AE$1-R15","v":0},{"$f":"IF(S15<2,\"Yes\",\"No\")","v":"Yes"},{"$f":"IF(D15=\"-\",1,0)*U$1","v":0},{"$f":"AND(U15=0,U$1=1)","v":true},{"$f":"IF(F15=\"-\",1,0)*W$1","v":0},{"$f":"AND(W15=0,W$1=1)","v":true},{"$f":"IF(H15=\"-\",1,0)*Y$1","v":0},{"$f":"AND(Y15=0,Y$1=1)","v":true},{"$f":"IF(J15=\"-\",1,0)*AA$1","v":0},{"$f":"AND(AA15=0,AA$1=1)","v":true},{"$f":"IF(L15=\"-\",1,0)*AC$1","v":0},{"$f":"AND(AC15=0,AC$1=1)","v":true}]
[51,"Lily Gregory","Sir Jonathon North CC",17,{"$f":"IF(D16=\"-\",0,D16)","v":17},12,{"$f":"IF(F16=\"-\",0,F16)","v":12},19,{"$f":"IF(H16=\"-\",0,H16)","v":19},14,{"$f":"IF(J16=\"-\",0,J16)","v":14},12,{"$f":"IF(L16=\"-\",0,L16)","v":12},null,{"$f":"E16+G16+I16+K16+M16","v":74},{"$f":"MAX(D16,F16,H16,J16,L16)","v":19},{"$f":"IF(S16=1,O16,IF(S16=0,(O16-P16),\"-\"))","v":55},{"$f":"COUNTIF(U16:AD16,\"=TRUE\")","v":5},{"$f":"AE$1-R16","v":0},{"$f":"IF(S16<2,\"Yes\",\"No\")","v":"Yes"},{"$f":"IF(D16=\"-\",1,0)*U$1","v":0},{"$f":"AND(U16=0,U$1=1)","v":true},{"$f":"IF(F16=\"-\",1,0)*W$1","v":0},{"$f":"AND(W16=0,W$1=1)","v":true},{"$f":"IF(H16=\"-\",1,0)*Y$1","v":0},{"$f":"AND(Y16=0,Y$1=1)","v":true},{"$f":"IF(J16=\"-\",1,0)*AA$1","v":0},{"$f":"AND(AA16=0,AA$1=1)","v":true},{"$f":"IF(L16=\"-\",1,0)*AC$1","v":0},{"$f":"AND(AC16=0,AC$1=1)","v":true}]
[60,"Beane Moore","Thomas Estley CC",5,{"$f":"IF(D17=\"-\",0,D17)","v":5},"-",{"$f":"IF(F17=\"-\",0,F17)","v":0},11,{"$f":"IF(H17=\"-\",0,H17)","v":11},15,{"$f":"IF(J17=\"-\",0,J17)","v":15},13,{"$f":"IF(L17=\"-\",0,L17)","v":13},null,{"$f":"E17+G17+I17+K17+M17","v":44},{"$f":"MAX(D17,F17,H17,J17,L17)","v":15},{"$f":"IF(S17=1,O17,IF(S17=0,(O17-P17),\"-\"))","v":44},{"$f":"COUNTIF(U17:AD17,\"=TRUE\")","v":4},{"$f":"AE$1-R17","v":1},{"$f":"IF(S17<2,\"Yes\",\"No\")","v":"Yes"},{"$f":"IF(D17=\"-\",1,0)*U$1","v":0},{"$f":"AND(U17=0,U$1=1)","v":true},{"$f":"IF(F17=\"-\",1,0)*W$1","v":1},{"$f":"AND(W17=0,W$1=1)","v":false},{"$f":"IF(H17=\"-\",1,0)*Y$1","v":0},{"$f":"AND(Y17=0,Y$1=1)","v":true},{"$f":"IF(J17=\"-\",1,0)*AA$1","v":0},{"$f":"AND(AA17=0,AA$1=1)","v":true},{"$f":"IF(L17=\"-\",1,0)*AC$1","v":0},{"$f":"AND(AC17=0,AC$1=1)","v":true}]
[21,"Alexandra Here","Rawlins College",19,{"$f":"IF(D18=\"-\",0,D18)","v":19},"-",{"$f":"IF(F18=\"-\",0,F18)","v":0},12,{"$f":"IF(H18=\"-\",0,H18)","v":12},13,{"$f":"IF(J18=\"-\",0,J18)","v":13},14,{"$f":"IF(L18=\"-\",0,L18)","v":14},null,{"$f":"E18+G18+I18+K18+M18","v":58},{"$f":"MAX(D18,F18,H18,J18,L18)","v":19},{"$f":"IF(S18=1,O18,IF(S18=0,(O18-P18),\"-\"))","v":58},{"$f":"COUNTIF(U18:AD18,\"=TRUE\")","v":4},{"$f":"AE$1-R18","v":1},{"$f":"IF(S18<2,\"Yes\",\"No\")","v":"Yes"},{"$f":"IF(D18=\"-\",1,0)*U$1","v":0},{"$f":"AND(U18=0,U$1=1)","v":true},{"$f":"IF(F18=\"-\",1,0)*W$1","v":1},{"$f":"AND(W18=0,W$1=1)","v":false},{"$f":"IF(H18=\"-\",1,0)*Y$1","v":0},{"$f":"AND(Y18=0,Y$1=1)","v":true},{"$f":"IF(J18=\"-\",1,0)*AA$1","v":0},{"$f":"AND(AA18=0,AA$1=1)","v":true},{"$f":"IF(L18=\"-\",1,0)*AC$1","v":0},{"$f":"AND(AC18=0,AC$1=1)","v":true}]
[50,"Rosie Weselby","Gartree High School",15,{"$f":"IF(D19=\"-\",0,D19)","v":15},"-",{"$f":"IF(F19=\"-\",0,F19)","v":0},18,{"$f":"IF(H19=\"-\",0,H19)","v":18},16,{"$f":"IF(J19=\"-\",0,J19)","v":16},15,{"$f":"IF(L19=\"-\",0,L19)","v":15},null,{"$f":"E19+G19+I19+K19+M19","v":64},{"$f":"MAX(D19,F19,H19,J19,L19)","v":18},{"$f":"IF(S19=1,O19,IF(S19=0,(O19-P19),\"-\"))","v":64},{"$f":"COUNTIF(U19:AD19,\"=TRUE\")","v":4},{"$f":"AE$1-R19","v":1},{"$f":"IF(S19<2,\"Yes\",\"No\")","v":"Yes"},{"$f":"IF(D19=\"-\",1,0)*U$1","v":0},{"$f":"AND(U19=0,U$1=1)","v":true},{"$f":"IF(F19=\"-\",1,0)*W$1","v":1},{"$f":"AND(W19=0,W$1=1)","v":false},{"$f":"IF(H19=\"-\",1,0)*Y$1","v":0},{"$f":"AND(Y19=0,Y$1=1)","v":true},{"$f":"IF(J19=\"-\",1,0)*AA$1","v":0},{"$f":"AND(AA19=0,AA$1=1)","v":true},{"$f":"IF(L19=\"-\",1,0)*AC$1","v":0},{"$f":"AND(AC19=0,AC$1=1)","v":true}]
[18,"Josie Wood","Kibworth High School",27,{"$f":"IF(D20=\"-\",0,D20)","v":27},21,{"$f":"IF(F20=\"-\",0,F20)","v":21},16,{"$f":"IF(H20=\"-\",0,H20)","v":16},18,{"$f":"IF(J20=\"-\",0,J20)","v":18},16,{"$f":"IF(L20=\"-\",0,L20)","v":16},null,{"$f":"E20+G20+I20+K20+M20","v":98},{"$f":"MAX(D20,F20,H20,J20,L20)","v":27},{"$f":"IF(S20=1,O20,IF(S20=0,(O20-P20),\"-\"))","v":71},{"$f":"COUNTIF(U20:AD20,\"=TRUE\")","v":5},{"$f":"AE$1-R20","v":0},{"$f":"IF(S20<2,\"Yes\",\"No\")","v":"Yes"},{"$f":"IF(D20=\"-\",1,0)*U$1","v":0},{"$f":"AND(U20=0,U$1=1)","v":true},{"$f":"IF(F20=\"-\",1,0)*W$1","v":0},{"$f":"AND(W20=0,W$1=1)","v":true},{"$f":"IF(H20=\"-\",1,0)*Y$1","v":0},{"$f":"AND(Y20=0,Y$1=1)","v":true},{"$f":"IF(J20=\"-\",1,0)*AA$1","v":0},{"$f":"AND(AA20=0,AA$1=1)","v":true},{"$f":"IF(L20=\"-\",1,0)*AC$1","v":0},{"$f":"AND(AC20=0,AC$1=1)","v":true}]
[87,"Peta Jones","Loughborough High School","-",{"$f":"IF(D21=\"-\",0,D21)","v":0},"-",{"$f":"IF(F21=\"-\",0,F21)","v":0},"-",{"$f":"IF(H21=\"-\",0,H21)","v":0},20,{"$f":"IF(J21=\"-\",0,J21)","v":20},17,{"$f":"IF(L21=\"-\",0,L21)","v":17},null,{"$f":"E21+G21+I21+K21+M21","v":37},{"$f":"MAX(D21,F21,H21,J21,L21)","v":20},{"$f":"IF(S21=1,O21,IF(S21=0,(O21-P21),\"-\"))","v":"-"},{"$f":"COUNTIF(U21:AD21,\"=TRUE\")","v":2},{"$f":"AE$1-R21","v":3},{"$f":"IF(S21<2,\"Yes\",\"No\")","v":"No"},{"$f":"IF(D21=\"-\",1,0)*U$1","v":1},{"$f":"AND(U21=0,U$1=1)","v":false},{"$f":"IF(F21=\"-\",1,0)*W$1","v":1},{"$f":"AND(W21=0,W$1=1)","v":false},{"$f":"IF(H21=\"-\",1,0)*Y$1","v":1},{"$f":"AND(Y21=0,Y$1=1)","v":false},{"$f":"IF(J21=\"-\",1,0)*AA$1","v":0},{"$f":"AND(AA21=0,AA$1=1)","v":true},{"$f":"IF(L21=\"-\",1,0)*AC$1","v":0},{"$f":"AND(AC21=0,AC$1=1)","v":true}]
[13,"Megan Gray","Manor High School",18,{"$f":"IF(D22=\"-\",0,D22)","v":18},35,{"$f":"IF(F22=\"-\",0,F22)","v":35},20,{"$f":"IF(H22=\"-\",0,H22)","v":20},21,{"$f":"IF(J22=\"-\",0,J22)","v":21},18,{"$f":"IF(L22=\"-\",0,L22)","v":18},null,{"$f":"E22+G22+I22+K22+M22","v":112},{"$f":"MAX(D22,F22,H22,J22,L22)","v":35},{"$f":"IF(S22=1,O22,IF(S22=0,(O22-P22),\"-\"))","v":77},{"$f":"COUNTIF(U22:AD22,\"=TRUE\")","v":5},{"$f":"AE$1-R22","v":0},{"$f":"IF(S22<2,\"Yes\",\"No\")","v":"Yes"},{"$f":"IF(D22=\"-\",1,0)*U$1","v":0},{"$f":"AND(U22=0,U$1=1)","v":true},{"$f":"IF(F22=\"-\",1,0)*W$1","v":0},{"$f":"AND(W22=0,W$1=1)","v":true},{"$f":"IF(H22=\"-\",1,0)*Y$1","v":0},{"$f":"AND(Y22=0,Y$1=1)","v":true},{"$f":"IF(J22=\"-\",1,0)*AA$1","v":0},{"$f":"AND(AA22=0,AA$1=1)","v":true},{"$f":"IF(L22=\"-\",1,0)*AC$1","v":0},{"$f":"AND(AC22=0,AC$1=1)","v":true}]
[1,"Jocelyn Parkes-Bowen","Kibworth High School",35,{"$f":"IF(D23=\"-\",0,D23)","v":35},"-",{"$f":"IF(F23=\"-\",0,F23)","v":0},30,{"$f":"IF(H23=\"-\",0,H23)","v":30},25,{"$f":"IF(J23=\"-\",0,J23)","v":25},19,{"$f":"IF(L23=\"-\",0,L23)","v":19},null,{"$f":"E23+G23+I23+K23+M23","v":109},{"$f":"MAX(D23,F23,H23,J23,L23)","v":35},{"$f":"IF(S23=1,O23,IF(S23=0,(O23-P23),\"-\"))","v":109},{"$f":"COUNTIF(U23:AD23,\"=TRUE\")","v":4},{"$f":"AE$1-R23","v":1},{"$f":"IF(S23<2,\"Yes\",\"No\")","v":"Yes"},{"$f":"IF(D23=\"-\",1,0)*U$1","v":0},{"$f":"AND(U23=0,U$1=1)","v":true},{"$f":"IF(F23=\"-\",1,0)*W$1","v":1},{"$f":"AND(W23=0,W$1=1)","v":false},{"$f":"IF(H23=\"-\",1,0)*Y$1","v":0},{"$f":"AND(Y23=0,Y$1=1)","v":true},{"$f":"IF(J23=\"-\",1,0)*AA$1","v":0},{"$f":"AND(AA23=0,AA$1=1)","v":true},{"$f":"IF(L23=\"-\",1,0)*AC$1","v":0},{"$f":"AND(AC23=0,AC$1=1)","v":true}]
[84,"Izzy McDaid","Lutterworth High School","-",{"$f":"IF(D24=\"-\",0,D24)","v":0},"-",{"$f":"IF(F24=\"-\",0,F24)","v":0},24,{"$f":"IF(H24=\"-\",0,H24)","v":24},22,{"$f":"IF(J24=\"-\",0,J24)","v":22},20,{"$f":"IF(L24=\"-\",0,L24)","v":20},null,{"$f":"E24+G24+I24+K24+M24","v":66},{"$f":"MAX(D24,F24,H24,J24,L24)","v":24},{"$f":"IF(S24=1,O24,IF(S24=0,(O24-P24),\"-\"))","v":"-"},{"$f":"COUNTIF(U24:AD24,\"=TRUE\")","v":3},{"$f":"AE$1-R24","v":2},{"$f":"IF(S24<2,\"Yes\",\"No\")","v":"No"},{"$f":"IF(D24=\"-\",1,0)*U$1","v":1},{"$f":"AND(U24=0,U$1=1)","v":false},{"$f":"IF(F24=\"-\",1,0)*W$1","v":1},{"$f":"AND(W24=0,W$1=1)","v":false},{"$f":"IF(H24=\"-\",1,0)*Y$1","v":0},{"$f":"AND(Y24=0,Y$1=1)","v":true},{"$f":"IF(J24=\"-\",1,0)*AA$1","v":0},{"$f":"AND(AA24=0,AA$1=1)","v":true},{"$f":"IF(L24=\"-\",1,0)*AC$1","v":0},{"$f":"AND(AC24=0,AC$1=1)","v":true}]
[47,"Amy Johnson","Loughborough High School",32,{"$f":"IF(D25=\"-\",0,D25)","v":32},37,{"$f":"IF(F25=\"-\",0,F25)","v":37},31,{"$f":"IF(H25=\"-\",0,H25)","v":31},"-",{"$f":"IF(J25=\"-\",0,J25)","v":0},21,{"$f":"IF(L25=\"-\",0,L25)","v":21},null,{"$f":"E25+G25+I25+K25+M25","v":121},{"$f":"MAX(D25,F25,H25,J25,L25)","v":37},{"$f":"IF(S25=1,O25,IF(S25=0,(O25-P25),\"-\"))","v":121},{"$f":"COUNTIF(U25:AD25,\"=TRUE\")","v":4},{"$f":"AE$1-R25","v":1},{"$f":"IF(S25<2,\"Yes\",\"No\")","v":"Yes"},{"$f":"IF(D25=\"-\",1,0)*U$1","v":0},{"$f":"AND(U25=0,U$1=1)","v":true},{"$f":"IF(F25=\"-\",1,0)*W$1","v":0},{"$f":"AND(W25=0,W$1=1)","v":true},{"$f":"IF(H25=\"-\",1,0)*Y$1","v":0},{"$f":"AND(Y25=0,Y$1=1)","v":true},{"$f":"IF(J25=\"-\",1,0)*AA$1","v":1},{"$f":"AND(AA25=0,AA$1=1)","v":false},{"$f":"IF(L25=\"-\",1,0)*AC$1","v":0},{"$f":"AND(AC25=0,AC$1=1)","v":true}]
[74,"Mateenah Mogra","Manor High School",26,{"$f":"IF(D26=\"-\",0,D26)","v":26},18,{"$f":"IF(F26=\"-\",0,F26)","v":18},29,{"$f":"IF(H26=\"-\",0,H26)","v":29},23,{"$f":"IF(J26=\"-\",0,J26)","v":23},22,{"$f":"IF(L26=\"-\",0,L26)","v":22},null,{"$f":"E26+G26+I26+K26+M26","v":118},{"$f":"MAX(D26,F26,H26,J26,L26)","v":29},{"$f":"IF(S26=1,O26,IF(S26=0,(O26-P26),\"-\"))","v":89},{"$f":"COUNTIF(U26:AD26,\"=TRUE\")","v":5},{"$f":"AE$1-R26","v":0},{"$f":"IF(S26<2,\"Yes\",\"No\")","v":"Yes"},{"$f":"IF(D26=\"-\",1,0)*U$1","v":0},{"$f":"AND(U26=0,U$1=1)","v":true},{"$f":"IF(F26=\"-\",1,0)*W$1","v":0},{"$f":"AND(W26=0,W$1=1)","v":true},{"$f":"IF(H26=\"-\",1,0)*Y$1","v":0},{"$f":"AND(Y26=0,Y$1=1)","v":true},{"$f":"IF(J26=\"-\",1,0)*AA$1","v":0},{"$f":"AND(AA26=0,AA$1=1)","v":true},{"$f":"IF(L26=\"-\",1,0)*AC$1","v":0},{"$f":"AND(AC26=0,AC$1=1)","v":true}]
[6,"Gemma Jones","Uppingham CC",21,{"$f":"IF(D27=\"-\",0,D27)","v":21},25,{"$f":"IF(F27=\"-\",0,F27)","v":25},25,{"$f":"IF(H27=\"-\",0,H27)","v":25},"-",{"$f":"IF(J27=\"-\",0,J27)","v":0},23,{"$f":"IF(L27=\"-\",0,L27)","v":23},null,{"$f":"E27+G27+I27+K27+M27","v":94},{"$f":"MAX(D27,F27,H27,J27,L27)","v":25},{"$f":"IF(S27=1,O27,IF(S27=0,(O27-P27),\"-\"))","v":94},{"$f":"COUNTIF(U27:AD27,\"=TRUE\")","v":4},{"$f":"AE$1-R27","v":1},{"$f":"IF(S27<2,\"Yes\",\"No\")","v":"Yes"},{"$f":"IF(D27=\"-\",1,0)*U$1","v":0},{"$f":"AND(U27=0,U$1=1)","v":true},{"$f":"IF(F27=\"-\",1,0)*W$1","v":0},{"$f":"AND(W27=0,W$1=1)","v":true},{"$f":"IF(H27=\"-\",1,0)*Y$1","v":0},{"$f":"AND(Y27=0,Y$1=1)","v":true},{"$f":"IF(J27=\"-\",1,0)*AA$1","v":1},{"$f":"AND(AA27=0,AA$1=1)","v":false},{"$f":"IF(L27=\"-\",1,0)*AC$1","v":0},{"$f":"AND(AC27=0,AC$1=1)","v":true}]
[14,"Rosie Low","Lutterworth High School",33,{"$f":"IF(D28=\"-\",0,D28)","v":33},32,{"$f":"IF(F28=\"-\",0,F28)","v":32},22,{"$f":"IF(H28=\"-\",0,H28)","v":22},"-",{"$f":"IF(J28=\"-\",0,J28)","v":0},24,{"$f":"IF(L28=\"-\",0,L28)","v":24},null,{"$f":"E28+G28+I28+K28+M28","v":111},{"$f":"MAX(D28,F28,H28,J28,L28)","v":33},{"$f":"IF(S28=1,O28,IF(S28=0,(O28-P28),\"-\"))","v":111},{"$f":"COUNTIF(U28:AD28,\"=TRUE\")","v":4},{"$f":"AE$1-R28","v":1},{"$f":"IF(S28<2,\"Yes\",\"No\")","v":"Yes"},{"$f":"IF(D28=\"-\",1,0)*U$1","v":0},{"$f":"AND(U28=0,U$1=1)","v":true},{"$f":"IF(F28=\"-\",1,0)*W$1","v":0},{"$f":"AND(W28=0,W$1=1)","v":true},{"$f":"IF(H28=\"-\",1,0)*Y$1","v":0},{"$f":"AND(Y28=0,Y$1=1)","v":true},{"$f":"IF(J28=\"-\",1,0)*AA$1","v":1},{"$f":"AND(AA28=0,AA$1=1)","v":false},{"$f":"IF(L28=\"-\",1,0)*AC$1","v":0},{"$f":"AND(AC28=0,AC$1=1)","v":true}]
[41,"Hannah Stewart","Welland Park Academy",24,{"$f":"IF(D29=\"-\",0,D29)","v":24},"-",{"$f":"IF(F29=\"-\",0,F29)","v":0},"-",{"$f":"IF(H29=\"-\",0,H29)","v":0},"-",{"$f":"IF(J29=\"-\",0,J29)","v":0},25,{"$f":"IF(L29=\"-\",0,L29)","v":25},null,{"$f":"E29+G29+I29+K29+M29","v":49},{"$f":"MAX(D29,F29,H29,J29,L29)","v":25},{"$f":"IF(S29=1,O29,IF(S29=0,(O29-P29),\"-\"))","v":"-"},{"$f":"COUNTIF(U29:AD29,\"=TRUE\")","v":2},{"$f":"AE$1-R29","v":3},{"$f":"IF(S29<2,\"Yes\",\"No\")","v":"No"},{"$f":"IF(D29=\"-\",1,0)*U$1","v":0},{"$f":"AND(U29=0,U$1=1)","v":true},{"$f":"IF(F29=\"-\",1,0)*W$1","v":1},{"$f":"AND(W29=0,W$1=1)","v":false},{"$f":"IF(H29=\"-\",1,0)*Y$1","v":1},{"$f":"AND(Y29=0,Y$1=1)","v":false},{"$f":"IF(J29=\"-\",1,0)*AA$1","v":1},{"$f":"AND(AA29=0,AA$1=1)","v":false},{"$f":"IF(L29=\"-\",1,0)*AC$1","v":0},{"$f":"AND(AC29=0,AC$1=1)","v":true}]
[3,"Ursi Clapp","Welland Park Academy",30,{"$f":"IF(D30=\"-\",0,D30)","v":30},23,{"$f":"IF(F30=\"-\",0,F30)","v":23},17,{"$f":"IF(H30=\"-\",0,H30)","v":17},19,{"$f":"IF(J30=\"-\",0,J30)","v":19},26,{"$f":"IF(L30=\"-\",0,L30)","v":26},null,{"$f":"E30+G30+I30+K30+M30","v":115},{"$f":"MAX(D30,F30,H30,J30,L30)","v":30},{"$f":"IF(S30=1,O30,IF(S30=0,(O30-P30),\"-\"))","v":85},{"$f":"COUNTIF(U30:AD30,\"=TRUE\")","v":5},{"$f":"AE$1-R30","v":0},{"$f":"IF(S30<2,\"Yes\",\"No\")","v":"Yes"},{"$f":"IF(D30=\"-\",1,0)*U$1","v":0},{"$f":"AND(U30=0,U$1=1)","v":true},{"$f":"IF(F30=\"-\",1,0)*W$1","v":0},{"$f":"AND(W30=0,W$1=1)","v":true},{"$f":"IF(H30=\"-\",1,0)*Y$1","v":0},{"$f":"AND(Y30=0,Y$1=1)","v":true},{"$f":"IF(J30=\"-\",1,0)*AA$1","v":0},{"$f":"AND(AA30=0,AA$1=1)","v":true},{"$f":"IF(L30=\"-\",1,0)*AC$1","v":0},{"$f":"AND(AC30=0,AC$1=1)","v":true}]
[65,"Lucy Thomas","Long Field Academy",34,{"$f":"IF(D31=\"-\",0,D31)","v":34},29,{"$f":"IF(F31=\"-\",0,F31)","v":29},32,{"$f":"IF(H31=\"-\",0,H31)","v":32},27,{"$f":"IF(J31=\"-\",0,J31)","v":27},27,{"$f":"IF(L31=\"-\",0,L31)","v":27},null,{"$f":"E31+G31+I31+K31+M31","v":149},{"$f":"MAX(D31,F31,H31,J31,L31)","v":34},{"$f":"IF(S31=1,O31,IF(S31=0,(O31-P31),\"-\"))","v":115},{"$f":"COUNTIF(U31:AD31,\"=TRUE\")","v":5},{"$f":"AE$1-R31","v":0},{"$f":"IF(S31<2,\"Yes\",\"No\")","v":"Yes"},{"$f":"IF(D31=\"-\",1,0)*U$1","v":0},{"$f":"AND(U31=0,U$1=1)","v":true},{"$f":"IF(F31=\"-\",1,0)*W$1","v":0},{"$f":"AND(W31=0,W$1=1)","v":true},{"$f":"IF(H31=\"-\",1,0)*Y$1","v":0},{"$f":"AND(Y31=0,Y$1=1)","v":true},{"$f":"IF(J31=\"-\",1,0)*AA$1","v":0},{"$f":"AND(AA31=0,AA$1=1)","v":true},{"$f":"IF(L31=\"-\",1,0)*AC$1","v":0},{"$f":"AND(AC31=0,AC$1=1)","v":true}]
[45,"Amelia Walsh","St Pauls Catholic School","-",{"$f":"IF(D32=\"-\",0,D32)","v":0},30,{"$f":"IF(F32=\"-\",0,F32)","v":30},"-",{"$f":"IF(H32=\"-\",0,H32)","v":0},31,{"$f":"IF(J32=\"-\",0,J32)","v":31},28,{"$f":"IF(L32=\"-\",0,L32)","v":28},null,{"$f":"E32+G32+I32+K32+M32","v":89},{"$f":"MAX(D32,F32,H32,J32,L32)","v":31},{"$f":"IF(S32=1,O32,IF(S32=0,(O32-P32),\"-\"))","v":"-"},{"$f":"COUNTIF(U32:AD32,\"=TRUE\")","v":3},{"$f":"AE$1-R32","v":2},{"$f":"IF(S32<2,\"Yes\",\"No\")","v":"No"},{"$f":"IF(D32=\"-\",1,0)*U$1","v":1},{"$f":"AND(U32=0,U$1=1)","v":false},{"$f":"IF(F32=\"-\",1,0)*W$1","v":0},{"$f":"AND(W32=0,W$1=1)","v":true},{"$f":"IF(H32=\"-\",1,0)*Y$1","v":1},{"$f":"AND(Y32=0,Y$1=1)","v":false},{"$f":"IF(J32=\"-\",1,0)*AA$1","v":0},{"$f":"AND(AA32=0,AA$1=1)","v":true},{"$f":"IF(L32=\"-\",1,0)*AC$1","v":0},{"$f":"AND(AC32=0,AC$1=1)","v":true}]
[66,"Izzy Jones","Long Field Academy","-",{"$f":"IF(D33=\"-\",0,D33)","v":0},40,{"$f":"IF(F33=\"-\",0,F33)","v":40},50,{"$f":"IF(H33=\"-\",0,H33)","v":50},29,{"$f":"IF(J33=\"-\",0,J33)","v":29},29,{"$f":"IF(L33=\"-\",0,L33)","v":29},null,{"$f":"E33+G33+I33+K33+M33","v":148},{"$f":"MAX(D33,F33,H33,J33,L33)","v":50},{"$f":"IF(S33=1,O33,IF(S33=0,(O33-P33),\"-\"))","v":148},{"$f":"COUNTIF(U33:AD33,\"=TRUE\")","v":4},{"$f":"AE$1-R33","v":1},{"$f":"IF(S33<2,\"Yes\",\"No\")","v":"Yes"},{"$f":"IF(D33=\"-\",1,0)*U$1","v":1},{"$f":"AND(U33=0,U$1=1)","v":false},{"$f":"IF(F33=\"-\",1,0)*W$1","v":0},{"$f":"AND(W33=0,W$1=1)","v":true},{"$f":"IF(H33=\"-\",1,0)*Y$1","v":0},{"$f":"AND(Y33=0,Y$1=1)","v":true},{"$f":"IF(J33=\"-\",1,0)*AA$1","v":0},{"$f":"AND(AA33=0,AA$1=1)","v":true},{"$f":"IF(L33=\"-\",1,0)*AC$1","v":0},{"$f":"AND(AC33=0,AC$1=1)","v":true}]
[40,"Ella Thomas","Long Field Academy",43,{"$f":"IF(D34=\"-\",0,D34)","v":43},39,{"$f":"IF(F34=\"-\",0,F34)","v":39},40,{"$f":"IF(H34=\"-\",0,H34)","v":40},30,{"$f":"IF(J34=\"-\",0,J34)","v":30},30,{"$f":"IF(L34=\"-\",0,L34)","v":30},null,{"$f":"E34+G34+I34+K34+M34","v":182},{"$f":"MAX(D34,F34,H34,J34,L34)","v":43},{"$f":"IF(S34=1,O34,IF(S34=0,(O34-P34),\"-\"))","v":139},{"$f":"COUNTIF(U34:AD34,\"=TRUE\")","v":5},{"$f":"AE$1-R34","v":0},{"$f":"IF(S34<2,\"Yes\",\"No\")","v":"Yes"},{"$f":"IF(D34=\"-\",1,0)*U$1","v":0},{"$f":"AND(U34=0,U$1=1)","v":true},{"$f":"IF(F34=\"-\",1,0)*W$1","v":0},{"$f":"AND(W34=0,W$1=1)","v":true},{"$f":"IF(H34=\"-\",1,0)*Y$1","v":0},{"$f":"AND(Y34=0,Y$1=1)","v":true},{"$f":"IF(J34=\"-\",1,0)*AA$1","v":0},{"$f":"AND(AA34=0,AA$1=1)","v":true},{"$f":"IF(L34=\"-\",1,0)*AC$1","v":0},{"$f":"AND(AC34=0,AC$1=1)","v":true}]
[31,"Lizzie Swannell","Manor High School",28,{"$f":"IF(D35=\"-\",0,D35)","v":28},28,{"$f":"IF(F35=\"-\",0,F35)","v":28},28,{"$f":"IF(H35=\"-\",0,H35)","v":28},"-",{"$f":"IF(J35=\"-\",0,J35)","v":0},31,{"$f":"IF(L35=\"-\",0,L35)","v":31},null,{"$f":"E35+G35+I35+K35+M35","v":115},{"$f":"MAX(D35,F35,H35,J35,L35)","v":31},{"$f":"IF(S35=1,O35,IF(S35=0,(O35-P35),\"-\"))","v":115},{"$f":"COUNTIF(U35:AD35,\"=TRUE\")","v":4},{"$f":"AE$1-R35","v":1},{"$f":"IF(S35<2,\"Yes\",\"No\")","v":"Yes"},{"$f":"IF(D35=\"-\",1,0)*U$1","v":0},{"$f":"AND(U35=0,U$1=1)","v":true},{"$f":"IF(F35=\"-\",1,0)*W$1","v":0},{"$f":"AND(W35=0,W$1=1)","v":true},{"$f":"IF(H35=\"-\",1,0)*Y$1","v":0},{"$f":"AND(Y35=0,Y$1=1)","v":true},{"$f":"IF(J35=\"-\",1,0)*AA$1","v":1},{"$f":"AND(AA35=0,AA$1=1)","v":false},{"$f":"IF(L35=\"-\",1,0)*AC$1","v":0},{"$f":"AND(AC35=0,AC$1=1)","v":true}]
[7,"Megan Horley","St Pauls Catholic School","-",{"$f":"IF(D36=\"-\",0,D36)","v":0},41,{"$f":"IF(F36=\"-\",0,F36)","v":41},"-",{"$f":"IF(H36=\"-\",0,H36)","v":0},28,{"$f":"IF(J36=\"-\",0,J36)","v":28},32,{"$f":"IF(L36=\"-\",0,L36)","v":32},null,{"$f":"E36+G36+I36+K36+M36","v":101},{"$f":"MAX(D36,F36,H36,J36,L36)","v":41},{"$f":"IF(S36=1,O36,IF(S36=0,(O36-P36),\"-\"))","v":"-"},{"$f":"COUNTIF(U36:AD36,\"=TRUE\")","v":3},{"$f":"AE$1-R36","v":2},{"$f":"IF(S36<2,\"Yes\",\"No\")","v":"No"},{"$f":"IF(D36=\"-\",1,0)*U$1","v":1},{"$f":"AND(U36=0,U$1=1)","v":false},{"$f":"IF(F36=\"-\",1,0)*W$1","v":0},{"$f":"AND(W36=0,W$1=1)","v":true},{"$f":"IF(H36=\"-\",1,0)*Y$1","v":1},{"$f":"AND(Y36=0,Y$1=1)","v":false},{"$f":"IF(J36=\"-\",1,0)*AA$1","v":0},{"$f":"AND(AA36=0,AA$1=1)","v":true},{"$f":"IF(L36=\"-\",1,0)*AC$1","v":0},{"$f":"AND(AC36=0,AC$1=1)","v":true}]
[64,"Imogen James","Welland Park Academy",36,{"$f":"IF(D37=\"-\",0,D37)","v":36},"-",{"$f":"IF(F37=\"-\",0,F37)","v":0},45,{"$f":"IF(H37=\"-\",0,H37)","v":45},35,{"$f":"IF(J37=\"-\",0,J37)","v":35},33,{"$f":"IF(L37=\"-\",0,L37)","v":33},null,{"$f":"E37+G37+I37+K37+M37","v":149},{"$f":"MAX(D37,F37,H37,J37,L37)","v":45},{"$f":"IF(S37=1,O37,IF(S37=0,(O37-P37),\"-\"))","v":149},{"$f":"COUNTIF(U37:AD37,\"=TRUE\")","v":4},{"$f":"AE$1-R37","v":1},{"$f":"IF(S37<2,\"Yes\",\"No\")","v":"Yes"},{"$f":"IF(D37=\"-\",1,0)*U$1","v":0},{"$f":"AND(U37=0,U$1=1)","v":true},{"$f":"IF(F37=\"-\",1,0)*W$1","v":1},{"$f":"AND(W37=0,W$1=1)","v":false},{"$f":"IF(H37=\"-\",1,0)*Y$1","v":0},{"$f":"AND(Y37=0,Y$1=1)","v":true},{"$f":"IF(J37=\"-\",1,0)*AA$1","v":0},{"$f":"AND(AA37=0,AA$1=1)","v":true},{"$f":"IF(L37=\"-\",1,0)*AC$1","v":0},{"$f":"AND(AC37=0,AC$1=1)","v":true}]
[37,"Hannah Lacey","Thomas Estley CC",37,{"$f":"IF(D38=\"-\",0,D38)","v":37},43,{"$f":"IF(F38=\"-\",0,F38)","v":43},"-",{"$f":"IF(H38=\"-\",0,H38)","v":0},36,{"$f":"IF(J38=\"-\",0,J38)","v":36},34,{"$f":"IF(L38=\"-\",0,L38)","v":34},null,{"$f":"E38+G38+I38+K38+M38","v":150},{"$f":"MAX(D38,F38,H38,J38,L38)","v":43},{"$f":"IF(S38=1,O38,IF(S38=0,(O38-P38),\"-\"))","v":150},{"$f":"COUNTIF(U38:AD38,\"=TRUE\")","v":4},{"$f":"AE$1-R38","v":1},{"$f":"IF(S38<2,\"Yes\",\"No\")","v":"Yes"},{"$f":"IF(D38=\"-\",1,0)*U$1","v":0},{"$f":"AND(U38=0,U$1=1)","v":true},{"$f":"IF(F38=\"-\",1,0)*W$1","v":0},{"$f":"AND(W38=0,W$1=1)","v":true},{"$f":"IF(H38=\"-\",1,0)*Y$1","v":1},{"$f":"AND(Y38=0,Y$1=1)","v":false},{"$f":"IF(J38=\"-\",1,0)*AA$1","v":0},{"$f":"AND(AA38=0,AA$1=1)","v":true},{"$f":"IF(L38=\"-\",1,0)*AC$1","v":0},{"$f":"AND(AC38=0,AC$1=1)","v":true}]
[57,"Grace Cameron","De Lisle College",44,{"$f":"IF(D39=\"-\",0,D39)","v":44},44,{"$f":"IF(F39=\"-\",0,F39)","v":44},49,{"$f":"IF(H39=\"-\",0,H39)","v":49},"-",{"$f":"IF(J39=\"-\",0,J39)","v":0},35,{"$f":"IF(L39=\"-\",0,L39)","v":35},null,{"$f":"E39+G39+I39+K39+M39","v":172},{"$f":"MAX(D39,F39,H39,J39,L39)","v":49},{"$f":"IF(S39=1,O39,IF(S39=0,(O39-P39),\"-\"))","v":172},{"$f":"COUNTIF(U39:AD39,\"=TRUE\")","v":4},{"$f":"AE$1-R39","v":1},{"$f":"IF(S39<2,\"Yes\",\"No\")","v":"Yes"},{"$f":"IF(D39=\"-\",1,0)*U$1","v":0},{"$f":"AND(U39=0,U$1=1)","v":true},{"$f":"IF(F39=\"-\",1,0)*W$1","v":0},{"$f":"AND(W39=0,W$1=1)","v":true},{"$f":"IF(H39=\"-\",1,0)*Y$1","v":0},{"$f":"AND(Y39=0,Y$1=1)","v":true},{"$f":"IF(J39=\"-\",1,0)*AA$1","v":1},{"$f":"AND(AA39=0,AA$1=1)","v":false},{"$f":"IF(L39=\"-\",1,0)*AC$1","v":0},{"$f":"AND(AC39=0,AC$1=1)","v":true}]
[9,"Alice Lyons","The Market Bosworth School","-",{"$f":"IF(D40=\"-\",0,D40)","v":0},"-",{"$f":"IF(F40=\"-\",0,F40)","v":0},48,{"$f":"IF(H40=\"-\",0,H40)","v":48},37,{"$f":"IF(J40=\"-\",0,J40)","v":37},36,{"$f":"IF(L40=\"-\",0,L40)","v":36},null,{"$f":"E40+G40+I40+K40+M40","v":121},{"$f":"MAX(D40,F40,H40,J40,L40)","v":48},{"$f":"IF(S40=1,O40,IF(S40=0,(O40-P40),\"-\"))","v":"-"},{"$f":"COUNTIF(U40:AD40,\"=TRUE\")","v":3},{"$f":"AE$1-R40","v":2},{"$f":"IF(S40<2,\"Yes\",\"No\")","v":"No"},{"$f":"IF(D40=\"-\",1,0)*U$1","v":1},{"$f":"AND(U40=0,U$1=1)","v":false},{"$f":"IF(F40=\"-\",1,0)*W$1","v":1},{"$f":"AND(W40=0,W$1=1)","v":false},{"$f":"IF(H40=\"-\",1,0)*Y$1","v":0},{"$f":"AND(Y40=0,Y$1=1)","v":true},{"$f":"IF(J40=\"-\",1,0)*AA$1","v":0},{"$f":"AND(AA40=0,AA$1=1)","v":true},{"$f":"IF(L40=\"-\",1,0)*AC$1","v":0},{"$f":"AND(AC40=0,AC$1=1)","v":true}]
[36,"Sarah Fowles","The Market Bosworth School","-",{"$f":"IF(D41=\"-\",0,D41)","v":0},45,{"$f":"IF(F41=\"-\",0,F41)","v":45},47,{"$f":"IF(H41=\"-\",0,H41)","v":47},32,{"$f":"IF(J41=\"-\",0,J41)","v":32},37,{"$f":"IF(L41=\"-\",0,L41)","v":37},null,{"$f":"E41+G41+I41+K41+M41","v":161},{"$f":"MAX(D41,F41,H41,J41,L41)","v":47},{"$f":"IF(S41=1,O41,IF(S41=0,(O41-P41),\"-\"))","v":161},{"$f":"COUNTIF(U41:AD41,\"=TRUE\")","v":4},{"$f":"AE$1-R41","v":1},{"$f":"IF(S41<2,\"Yes\",\"No\")","v":"Yes"},{"$f":"IF(D41=\"-\",1,0)*U$1","v":1},{"$f":"AND(U41=0,U$1=1)","v":false},{"$f":"IF(F41=\"-\",1,0)*W$1","v":0},{"$f":"AND(W41=0,W$1=1)","v":true},{"$f":"IF(H41=\"-\",1,0)*Y$1","v":0},{"$f":"AND(Y41=0,Y$1=1)","v":true},{"$f":"IF(J41=\"-\",1,0)*AA$1","v":0},{"$f":"AND(AA41=0,AA$1=1)","v":true},{"$f":"IF(L41=\"-\",1,0)*AC$1","v":0},{"$f":"AND(AC41=0,AC$1=1)","v":true}]
[88,"Katie Gibbons","Long Field Academy","-",{"$f":"IF(D42=\"-\",0,D42)","v":0},"-",{"$f":"IF(F42=\"-\",0,F42)","v":0},"-",{"$f":"IF(H42=\"-\",0,H42)","v":0},40,{"$f":"IF(J42=\"-\",0,J42)","v":40},38,{"$f":"IF(L42=\"-\",0,L42)","v":38},null,{"$f":"E42+G42+I42+K42+M42","v":78},{"$f":"MAX(D42,F42,H42,J42,L42)","v":40},{"$f":"IF(S42=1,O42,IF(S42=0,(O42-P42),\"-\"))","v":"-"},{"$f":"COUNTIF(U42:AD42,\"=TRUE\")","v":2},{"$f":"AE$1-R42","v":3},{"$f":"IF(S42<2,\"Yes\",\"No\")","v":"No"},{"$f":"IF(D42=\"-\",1,0)*U$1","v":1},{"$f":"AND(U42=0,U$1=1)","v":false},{"$f":"IF(F42=\"-\",1,0)*W$1","v":1},{"$f":"AND(W42=0,W$1=1)","v":false},{"$f":"IF(H42=\"-\",1,0)*Y$1","v":1},{"$f":"AND(Y42=0,Y$1=1)","v":false},{"$f":"IF(J42=\"-\",1,0)*AA$1","v":0},{"$f":"AND(AA42=0,AA$1=1)","v":true},{"$f":"IF(L42=\"-\",1,0)*AC$1","v":0},{"$f":"AND(AC42=0,AC$1=1)","v":true}]
[79,"Amadea Tristanto","De Lisle College",53,{"$f":"IF(D43=\"-\",0,D43)","v":53},46,{"$f":"IF(F43=\"-\",0,F43)","v":46},52,{"$f":"IF(H43=\"-\",0,H43)","v":52},"-",{"$f":"IF(J43=\"-\",0,J43)","v":0},39,{"$f":"IF(L43=\"-\",0,L43)","v":39},null,{"$f":"E43+G43+I43+K43+M43","v":190},{"$f":"MAX(D43,F43,H43,J43,L43)","v":53},{"$f":"IF(S43=1,O43,IF(S43=0,(O43-P43),\"-\"))","v":190},{"$f":"COUNTIF(U43:AD43,\"=TRUE\")","v":4},{"$f":"AE$1-R43","v":1},{"$f":"IF(S43<2,\"Yes\",\"No\")","v":"Yes"},{"$f":"IF(D43=\"-\",1,0)*U$1","v":0},{"$f":"AND(U43=0,U$1=1)","v":true},{"$f":"IF(F43=\"-\",1,0)*W$1","v":0},{"$f":"AND(W43=0,W$1=1)","v":true},{"$f":"IF(H43=\"-\",1,0)*Y$1","v":0},{"$f":"AND(Y43=0,Y$1=1)","v":true},{"$f":"IF(J43=\"-\",1,0)*AA$1","v":1},{"$f":"AND(AA43=0,AA$1=1)","v":false},{"$f":"IF(L43=\"-\",1,0)*AC$1","v":0},{"$f":"AND(AC43=0,AC$1=1)","v":true}]
[25,"Anna Whitehead","Manor High School","-",{"$f":"IF(D44=\"-\",0,D44)","v":0},49,{"$f":"IF(F44=\"-\",0,F44)","v":49},53,{"$f":"IF(H44=\"-\",0,H44)","v":53},"-",{"$f":"IF(J44=\"-\",0,J44)","v":0},40,{"$f":"IF(L44=\"-\",0,L44)","v":40},null,{"$f":"E44+G44+I44+K44+M44","v":142},{"$f":"MAX(D44,F44,H44,J44,L44)","v":53},{"$f":"IF(S44=1,O44,IF(S44=0,(O44-P44),\"-\"))","v":"-"},{"$f":"COUNTIF(U44:AD44,\"=TRUE\")","v":3},{"$f":"AE$1-R44","v":2},{"$f":"IF(S44<2,\"Yes\",\"No\")","v":"No"},{"$f":"IF(D44=\"-\",1,0)*U$1","v":1},{"$f":"AND(U44=0,U$1=1)","v":false},{"$f":"IF(F44=\"-\",1,0)*W$1","v":0},{"$f":"AND(W44=0,W$1=1)","v":true},{"$f":"IF(H44=\"-\",1,0)*Y$1","v":0},{"$f":"AND(Y44=0,Y$1=1)","v":true},{"$f":"IF(J44=\"-\",1,0)*AA$1","v":1},{"$f":"AND(AA44=0,AA$1=1)","v":false},{"$f":"IF(L44=\"-\",1,0)*AC$1","v":0},{"$f":"AND(AC44=0,AC$1=1)","v":true}]
[20,"Ciera Manley","Thomas Estley CC","-",{"$f":"IF(D45=\"-\",0,D45)","v":0},56,{"$f":"IF(F45=\"-\",0,F45)","v":56},54,{"$f":"IF(H45=\"-\",0,H45)","v":54},42,{"$f":"IF(J45=\"-\",0,J45)","v":42},41,{"$f":"IF(L45=\"-\",0,L45)","v":41},null,{"$f":"E45+G45+I45+K45+M45","v":193},{"$f":"MAX(D45,F45,H45,J45,L45)","v":56},{"$f":"IF(S45=1,O45,IF(S45=0,(O45-P45),\"-\"))","v":193},{"$f":"COUNTIF(U45:AD45,\"=TRUE\")","v":4},{"$f":"AE$1-R45","v":1},{"$f":"IF(S45<2,\"Yes\",\"No\")","v":"Yes"},{"$f":"IF(D45=\"-\",1,0)*U$1","v":1},{"$f":"AND(U45=0,U$1=1)","v":false},{"$f":"IF(F45=\"-\",1,0)*W$1","v":0},{"$f":"AND(W45=0,W$1=1)","v":true},{"$f":"IF(H45=\"-\",1,0)*Y$1","v":0},{"$f":"AND(Y45=0,Y$1=1)","v":true},{"$f":"IF(J45=\"-\",1,0)*AA$1","v":0},{"$f":"AND(AA45=0,AA$1=1)","v":true},{"$f":"IF(L45=\"-\",1,0)*AC$1","v":0},{"$f":"AND(AC45=0,AC$1=1)","v":true}]
[69,"Hannah Disney","Wreake Valley Academy",51,{"$f":"IF(D46=\"-\",0,D46)","v":51},50,{"$f":"IF(F46=\"-\",0,F46)","v":50},46,{"$f":"IF(H46=\"-\",0,H46)","v":46},41,{"$f":"IF(J46=\"-\",0,J46)","v":41},42,{"$f":"IF(L46=\"-\",0,L46)","v":42},null,{"$f":"E46+G46+I46+K46+M46","v":230},{"$f":"MAX(D46,F46,H46,J46,L46)","v":51},{"$f":"IF(S46=1,O46,IF(S46=0,(O46-P46),\"-\"))","v":179},{"$f":"COUNTIF(U46:AD46,\"=TRUE\")","v":5},{"$f":"AE$1-R46","v":0},{"$f":"IF(S46<2,\"Yes\",\"No\")","v":"Yes"},{"$f":"IF(D46=\"-\",1,0)*U$1","v":0},{"$f":"AND(U46=0,U$1=1)","v":true},{"$f":"IF(F46=\"-\",1,0)*W$1","v":0},{"$f":"AND(W46=0,W$1=1)","v":true},{"$f":"IF(H46=\"-\",1,0)*Y$1","v":0},{"$f":"AND(Y46=0,Y$1=1)","v":true},{"$f":"IF(J46=\"-\",1,0)*AA$1","v":0},{"$f":"AND(AA46=0,AA$1=1)","v":true},{"$f":"IF(L46=\"-\",1,0)*AC$1","v":0},{"$f":"AND(AC46=0,AC$1=1)","v":true}]
[75,"Nancie Laurance","Welland Park Academy",39,{"$f":"IF(D47=\"-\",0,D47)","v":39},38,{"$f":"IF(F47=\"-\",0,F47)","v":38},34,{"$f":"IF(H47=\"-\",0,H47)","v":34},33,{"$f":"IF(J47=\"-\",0,J47)","v":33},43,{"$f":"IF(L47=\"-\",0,L47)","v":43},null,{"$f":"E47+G47+I47+K47+M47","v":187},{"$f":"MAX(D47,F47,H47,J47,L47)","v":43},{"$f":"IF(S47=1,O47,IF(S47=0,(O47-P47),\"-\"))","v":144},{"$f":"COUNTIF(U47:AD47,\"=TRUE\")","v":5},{"$f":"AE$1-R47","v":0},{"$f":"IF(S47<2,\"Yes\",\"No\")","v":"Yes"},{"$f":"IF(D47=\"-\",1,0)*U$1","v":0},{"$f":"AND(U47=0,U$1=1)","v":true},{"$f":"IF(F47=\"-\",1,0)*W$1","v":0},{"$f":"AND(W47=0,W$1=1)","v":true},{"$f":"IF(H47=\"-\",1,0)*Y$1","v":0},{"$f":"AND(Y47=0,Y$1=1)","v":true},{"$f":"IF(J47=\"-\",1,0)*AA$1","v":0},{"$f":"AND(AA47=0,AA$1=1)","v":true},{"$f":"IF(L47=\"-\",1,0)*AC$1","v":0},{"$f":"AND(AC47=0,AC$1=1)","v":true}]
[32,"Chloe Bubb","Lutterworth High School","-",{"$f":"IF(D48=\"-\",0,D48)","v":0},17,{"$f":"IF(F48=\"-\",0,F48)","v":17},14,{"$f":"IF(H48=\"-\",0,H48)","v":14},12,{"$f":"IF(J48=\"-\",0,J48)","v":12},"-",{"$f":"IF(L48=\"-\",0,L48)","v":0},null,{"$f":"E48+G48+I48+K48+M48","v":43},{"$f":"MAX(D48,F48,H48,J48,L48)","v":17},{"$f":"IF(S48=1,O48,IF(S48=0,(O48-P48),\"-\"))","v":"-"},{"$f":"COUNTIF(U48:AD48,\"=TRUE\")","v":3},{"$f":"AE$1-R48","v":2},{"$f":"IF(S48<2,\"Yes\",\"No\")","v":"No"},{"$f":"IF(D48=\"-\",1,0)*U$1","v":1},{"$f":"AND(U48=0,U$1=1)","v":false},{"$f":"IF(F48=\"-\",1,0)*W$1","v":0},{"$f":"AND(W48=0,W$1=1)","v":true},{"$f":"IF(H48=\"-\",1,0)*Y$1","v":0},{"$f":"AND(Y48=0,Y$1=1)","v":true},{"$f":"IF(J48=\"-\",1,0)*AA$1","v":0},{"$f":"AND(AA48=0,AA$1=1)","v":true},{"$f":"IF(L48=\"-\",1,0)*AC$1","v":1},{"$f":"AND(AC48=0,AC$1=1)","v":false}]
[46,"Emily McTaggart","Leicester Grammar School",22,{"$f":"IF(D49=\"-\",0,D49)","v":22},22,{"$f":"IF(F49=\"-\",0,F49)","v":22},"-",{"$f":"IF(H49=\"-\",0,H49)","v":0},17,{"$f":"IF(J49=\"-\",0,J49)","v":17},"-",{"$f":"IF(L49=\"-\",0,L49)","v":0},null,{"$f":"E49+G49+I49+K49+M49","v":61},{"$f":"MAX(D49,F49,H49,J49,L49)","v":22},{"$f":"IF(S49=1,O49,IF(S49=0,(O49-P49),\"-\"))","v":"-"},{"$f":"COUNTIF(U49:AD49,\"=TRUE\")","v":3},{"$f":"AE$1-R49","v":2},{"$f":"IF(S49<2,\"Yes\",\"No\")","v":"No"},{"$f":"IF(D49=\"-\",1,0)*U$1","v":0},{"$f":"AND(U49=0,U$1=1)","v":true},{"$f":"IF(F49=\"-\",1,0)*W$1","v":0},{"$f":"AND(W49=0,W$1=1)","v":true},{"$f":"IF(H49=\"-\",1,0)*Y$1","v":1},{"$f":"AND(Y49=0,Y$1=1)","v":false},{"$f":"IF(J49=\"-\",1,0)*AA$1","v":0},{"$f":"AND(AA49=0,AA$1=1)","v":true},{"$f":"IF(L49=\"-\",1,0)*AC$1","v":1},{"$f":"AND(AC49=0,AC$1=1)","v":false}]
[35,"Charlotte Powis","Lutterworth High School","-",{"$f":"IF(D50=\"-\",0,D50)","v":0},20,{"$f":"IF(F50=\"-\",0,F50)","v":20},"-",{"$f":"IF(H50=\"-\",0,H50)","v":0},24,{"$f":"IF(J50=\"-\",0,J50)","v":24},"-",{"$f":"IF(L50=\"-\",0,L50)","v":0},null,{"$f":"E50+G50+I50+K50+M50","v":44},{"$f":"MAX(D50,F50,H50,J50,L50)","v":24},{"$f":"IF(S50=1,O50,IF(S50=0,(O50-P50),\"-\"))","v":"-"},{"$f":"COUNTIF(U50:AD50,\"=TRUE\")","v":2},{"$f":"AE$1-R50","v":3},{"$f":"IF(S50<2,\"Yes\",\"No\")","v":"No"},{"$f":"IF(D50=\"-\",1,0)*U$1","v":1},{"$f":"AND(U50=0,U$1=1)","v":false},{"$f":"IF(F50=\"-\",1,0)*W$1","v":0},{"$f":"AND(W50=0,W$1=1)","v":true},{"$f":"IF(H50=\"-\",1,0)*Y$1","v":1},{"$f":"AND(Y50=0,Y$1=1)","v":false},{"$f":"IF(J50=\"-\",1,0)*AA$1","v":0},{"$f":"AND(AA50=0,AA$1=1)","v":true},{"$f":"IF(L50=\"-\",1,0)*AC$1","v":1},{"$f":"AND(AC50=0,AC$1=1)","v":false}]
[72,"Ellen Gibbs","St Martins",20,{"$f":"IF(D51=\"-\",0,D51)","v":20},24,{"$f":"IF(F51=\"-\",0,F51)","v":24},23,{"$f":"IF(H51=\"-\",0,H51)","v":23},26,{"$f":"IF(J51=\"-\",0,J51)","v":26},"-",{"$f":"IF(L51=\"-\",0,L51)","v":0},null,{"$f":"E51+G51+I51+K51+M51","v":93},{"$f":"MAX(D51,F51,H51,J51,L51)","v":26},{"$f":"IF(S51=1,O51,IF(S51=0,(O51-P51),\"-\"))","v":93},{"$f":"COUNTIF(U51:AD51,\"=TRUE\")","v":4},{"$f":"AE$1-R51","v":1},{"$f":"IF(S51<2,\"Yes\",\"No\")","v":"Yes"},{"$f":"IF(D51=\"-\",1,0)*U$1","v":0},{"$f":"AND(U51=0,U$1=1)","v":true},{"$f":"IF(F51=\"-\",1,0)*W$1","v":0},{"$f":"AND(W51=0,W$1=1)","v":true},{"$f":"IF(H51=\"-\",1,0)*Y$1","v":0},{"$f":"AND(Y51=0,Y$1=1)","v":true},{"$f":"IF(J51=\"-\",1,0)*AA$1","v":0},{"$f":"AND(AA51=0,AA$1=1)","v":true},{"$f":"IF(L51=\"-\",1,0)*AC$1","v":1},{"$f":"AND(AC51=0,AC$1=1)","v":false}]
[67,"Beth McManus","Thomas Estley CC",31,{"$f":"IF(D52=\"-\",0,D52)","v":31},34,{"$f":"IF(F52=\"-\",0,F52)","v":34},33,{"$f":"IF(H52=\"-\",0,H52)","v":33},34,{"$f":"IF(J52=\"-\",0,J52)","v":34},"-",{"$f":"IF(L52=\"-\",0,L52)","v":0},null,{"$f":"E52+G52+I52+K52+M52","v":132},{"$f":"MAX(D52,F52,H52,J52,L52)","v":34},{"$f":"IF(S52=1,O52,IF(S52=0,(O52-P52),\"-\"))","v":132},{"$f":"COUNTIF(U52:AD52,\"=TRUE\")","v":4},{"$f":"AE$1-R52","v":1},{"$f":"IF(S52<2,\"Yes\",\"No\")","v":"Yes"},{"$f":"IF(D52=\"-\",1,0)*U$1","v":0},{"$f":"AND(U52=0,U$1=1)","v":true},{"$f":"IF(F52=\"-\",1,0)*W$1","v":0},{"$f":"AND(W52=0,W$1=1)","v":true},{"$f":"IF(H52=\"-\",1,0)*Y$1","v":0},{"$f":"AND(Y52=0,Y$1=1)","v":true},{"$f":"IF(J52=\"-\",1,0)*AA$1","v":0},{"$f":"AND(AA52=0,AA$1=1)","v":true},{"$f":"IF(L52=\"-\",1,0)*AC$1","v":1},{"$f":"AND(AC52=0,AC$1=1)","v":false}]
[4,"Lucy Sharp","Humphrey Perkins School","-",{"$f":"IF(D53=\"-\",0,D53)","v":0},36,{"$f":"IF(F53=\"-\",0,F53)","v":36},39,{"$f":"IF(H53=\"-\",0,H53)","v":39},38,{"$f":"IF(J53=\"-\",0,J53)","v":38},"-",{"$f":"IF(L53=\"-\",0,L53)","v":0},null,{"$f":"E53+G53+I53+K53+M53","v":113},{"$f":"MAX(D53,F53,H53,J53,L53)","v":39},{"$f":"IF(S53=1,O53,IF(S53=0,(O53-P53),\"-\"))","v":"-"},{"$f":"COUNTIF(U53:AD53,\"=TRUE\")","v":3},{"$f":"AE$1-R53","v":2},{"$f":"IF(S53<2,\"Yes\",\"No\")","v":"No"},{"$f":"IF(D53=\"-\",1,0)*U$1","v":1},{"$f":"AND(U53=0,U$1=1)","v":false},{"$f":"IF(F53=\"-\",1,0)*W$1","v":0},{"$f":"AND(W53=0,W$1=1)","v":true},{"$f":"IF(H53=\"-\",1,0)*Y$1","v":0},{"$f":"AND(Y53=0,Y$1=1)","v":true},{"$f":"IF(J53=\"-\",1,0)*AA$1","v":0},{"$f":"AND(AA53=0,AA$1=1)","v":true},{"$f":"IF(L53=\"-\",1,0)*AC$1","v":1},{"$f":"AND(AC53=0,AC$1=1)","v":false}]
[34,"Rebekah Garratt","Brookvale High School",41,{"$f":"IF(D54=\"-\",0,D54)","v":41},27,{"$f":"IF(F54=\"-\",0,F54)","v":27},43,{"$f":"IF(H54=\"-\",0,H54)","v":43},39,{"$f":"IF(J54=\"-\",0,J54)","v":39},"-",{"$f":"IF(L54=\"-\",0,L54)","v":0},null,{"$f":"E54+G54+I54+K54+M54","v":150},{"$f":"MAX(D54,F54,H54,J54,L54)","v":43},{"$f":"IF(S54=1,O54,IF(S54=0,(O54-P54),\"-\"))","v":150},{"$f":"COUNTIF(U54:AD54,\"=TRUE\")","v":4},{"$f":"AE$1-R54","v":1},{"$f":"IF(S54<2,\"Yes\",\"No\")","v":"Yes"},{"$f":"IF(D54=\"-\",1,0)*U$1","v":0},{"$f":"AND(U54=0,U$1=1)","v":true},{"$f":"IF(F54=\"-\",1,0)*W$1","v":0},{"$f":"AND(W54=0,W$1=1)","v":true},{"$f":"IF(H54=\"-\",1,0)*Y$1","v":0},{"$f":"AND(Y54=0,Y$1=1)","v":true},{"$f":"IF(J54=\"-\",1,0)*AA$1","v":0},{"$f":"AND(AA54=0,AA$1=1)","v":true},{"$f":"IF(L54=\"-\",1,0)*AC$1","v":1},{"$f":"AND(AC54=0,AC$1=1)","v":false}]
[28,"Scarlett Wilson","Uppingham CC","-",{"$f":"IF(D55=\"-\",0,D55)","v":0},14,{"$f":"IF(F55=\"-\",0,F55)","v":14},13,{"$f":"IF(H55=\"-\",0,H55)","v":13},"-",{"$f":"IF(J55=\"-\",0,J55)","v":0},"-",{"$f":"IF(L55=\"-\",0,L55)","v":0},null,{"$f":"E55+G55+I55+K55+M55","v":27},{"$f":"MAX(D55,F55,H55,J55,L55)","v":14},{"$f":"IF(S55=1,O55,IF(S55=0,(O55-P55),\"-\"))","v":"-"},{"$f":"COUNTIF(U55:AD55,\"=TRUE\")","v":2},{"$f":"AE$1-R55","v":3},{"$f":"IF(S55<2,\"Yes\",\"No\")","v":"No"},{"$f":"IF(D55=\"-\",1,0)*U$1","v":1},{"$f":"AND(U55=0,U$1=1)","v":false},{"$f":"IF(F55=\"-\",1,0)*W$1","v":0},{"$f":"AND(W55=0,W$1=1)","v":true},{"$f":"IF(H55=\"-\",1,0)*Y$1","v":0},{"$f":"AND(Y55=0,Y$1=1)","v":true},{"$f":"IF(J55=\"-\",1,0)*AA$1","v":1},{"$f":"AND(AA55=0,AA$1=1)","v":false},{"$f":"IF(L55=\"-\",1,0)*AC$1","v":1},{"$f":"AND(AC55=0,AC$1=1)","v":false}]
[22,"Katie West","Hind Leys College","-",{"$f":"IF(D56=\"-\",0,D56)","v":0},"-",{"$f":"IF(F56=\"-\",0,F56)","v":0},15,{"$f":"IF(H56=\"-\",0,H56)","v":15},"-",{"$f":"IF(J56=\"-\",0,J56)","v":0},"-",{"$f":"IF(L56=\"-\",0,L56)","v":0},null,{"$f":"E56+G56+I56+K56+M56","v":15},{"$f":"MAX(D56,F56,H56,J56,L56)","v":15},{"$f":"IF(S56=1,O56,IF(S56=0,(O56-P56),\"-\"))","v":"-"},{"$f":"COUNTIF(U56:AD56,\"=TRUE\")","v":1},{"$f":"AE$1-R56","v":4},{"$f":"IF(S56<2,\"Yes\",\"No\")","v":"No"},{"$f":"IF(D56=\"-\",1,0)*U$1","v":1},{"$f":"AND(U56=0,U$1=1)","v":false},{"$f":"IF(F56=\"-\",1,0)*W$1","v":1},{"$f":"AND(W56=0,W$1=1)","v":false},{"$f":"IF(H56=\"-\",1,0)*Y$1","v":0},{"$f":"AND(Y56=0,Y$1=1)","v":true},{"$f":"IF(J56=\"-\",1,0)*AA$1","v":1},{"$f":"AND(AA56=0,AA$1=1)","v":false},{"$f":"IF(L56=\"-\",1,0)*AC$1","v":1},{"$f":"AND(AC56=0,AC$1=1)","v":false}]
[44,"Jasmine Stevens","De Lisle College",11,{"$f":"IF(D57=\"-\",0,D57)","v":11},"-",{"$f":"IF(F57=\"-\",0,F57)","v":0},21,{"$f":"IF(H57=\"-\",0,H57)","v":21},"-",{"$f":"IF(J57=\"-\",0,J57)","v":0},"-",{"$f":"IF(L57=\"-\",0,L57)","v":0},null,{"$f":"E57+G57+I57+K57+M57","v":32},{"$f":"MAX(D57,F57,H57,J57,L57)","v":21},{"$f":"IF(S57=1,O57,IF(S57=0,(O57-P57),\"-\"))","v":"-"},{"$f":"COUNTIF(U57:AD57,\"=TRUE\")","v":2},{"$f":"AE$1-R57","v":3},{"$f":"IF(S57<2,\"Yes\",\"No\")","v":"No"},{"$f":"IF(D57=\"-\",1,0)*U$1","v":0},{"$f":"AND(U57=0,U$1=1)","v":true},{"$f":"IF(F57=\"-\",1,0)*W$1","v":1},{"$f":"AND(W57=0,W$1=1)","v":false},{"$f":"IF(H57=\"-\",1,0)*Y$1","v":0},{"$f":"AND(Y57=0,Y$1=1)","v":true},{"$f":"IF(J57=\"-\",1,0)*AA$1","v":1},{"$f":"AND(AA57=0,AA$1=1)","v":false},{"$f":"IF(L57=\"-\",1,0)*AC$1","v":1},{"$f":"AND(AC57=0,AC$1=1)","v":false}]
[58,"Georgina Wilson","Uppingham CC",29,{"$f":"IF(D58=\"-\",0,D58)","v":29},26,{"$f":"IF(F58=\"-\",0,F58)","v":26},26,{"$f":"IF(H58=\"-\",0,H58)","v":26},"-",{"$f":"IF(J58=\"-\",0,J58)","v":0},"-",{"$f":"IF(L58=\"-\",0,L58)","v":0},null,{"$f":"E58+G58+I58+K58+M58","v":81},{"$f":"MAX(D58,F58,H58,J58,L58)","v":29},{"$f":"IF(S58=1,O58,IF(S58=0,(O58-P58),\"-\"))","v":"-"},{"$f":"COUNTIF(U58:AD58,\"=TRUE\")","v":3},{"$f":"AE$1-R58","v":2},{"$f":"IF(S58<2,\"Yes\",\"No\")","v":"No"},{"$f":"IF(D58=\"-\",1,0)*U$1","v":0},{"$f":"AND(U58=0,U$1=1)","v":true},{"$f":"IF(F58=\"-\",1,0)*W$1","v":0},{"$f":"AND(W58=0,W$1=1)","v":true},{"$f":"IF(H58=\"-\",1,0)*Y$1","v":0},{"$f":"AND(Y58=0,Y$1=1)","v":true},{"$f":"IF(J58=\"-\",1,0)*AA$1","v":1},{"$f":"AND(AA58=0,AA$1=1)","v":false},{"$f":"IF(L58=\"-\",1,0)*AC$1","v":1},{"$f":"AND(AC58=0,AC$1=1)","v":false}]
[27,"Anna Barber","De Lisle College","-",{"$f":"IF(D59=\"-\",0,D59)","v":0},"-",{"$f":"IF(F59=\"-\",0,F59)","v":0},27,{"$f":"IF(H59=\"-\",0,H59)","v":27},"-",{"$f":"IF(J59=\"-\",0,J59)","v":0},"-",{"$f":"IF(L59=\"-\",0,L59)","v":0},null,{"$f":"E59+G59+I59+K59+M59","v":27},{"$f":"MAX(D59,F59,H59,J59,L59)","v":27},{"$f":"IF(S59=1,O59,IF(S59=0,(O59-P59),\"-\"))","v":"-"},{"$f":"COUNTIF(U59:AD59,\"=TRUE\")","v":1},{"$f":"AE$1-R59","v":4},{"$f":"IF(S59<2,\"Yes\",\"No\")","v":"No"},{"$f":"IF(D59=\"-\",1,0)*U$1","v":1},{"$f":"AND(U59=0,U$1=1)","v":false},{"$f":"IF(F59=\"-\",1,0)*W$1","v":1},{"$f":"AND(W59=0,W$1=1)","v":false},{"$f":"IF(H59=\"-\",1,0)*Y$1","v":0},{"$f":"AND(Y59=0,Y$1=1)","v":true},{"$f":"IF(J59=\"-\",1,0)*AA$1","v":1},{"$f":"AND(AA59=0,AA$1=1)","v":false},{"$f":"IF(L59=\"-\",1,0)*AC$1","v":1},{"$f":"AND(AC59=0,AC$1=1)","v":false}]
[81,"Rhea Mowbary","Redmoor Academy","-",{"$f":"IF(D60=\"-\",0,D60)","v":0},"-",{"$f":"IF(F60=\"-\",0,F60)","v":0},35,{"$f":"IF(H60=\"-\",0,H60)","v":35},"-",{"$f":"IF(J60=\"-\",0,J60)","v":0},"-",{"$f":"IF(L60=\"-\",0,L60)","v":0},null,{"$f":"E60+G60+I60+K60+M60","v":35},{"$f":"MAX(D60,F60,H60,J60,L60)","v":35},{"$f":"IF(S60=1,O60,IF(S60=0,(O60-P60),\"-\"))","v":"-"},{"$f":"COUNTIF(U60:AD60,\"=TRUE\")","v":1},{"$f":"AE$1-R60","v":4},{"$f":"IF(S60<2,\"Yes\",\"No\")","v":"No"},{"$f":"IF(D60=\"-\",1,0)*U$1","v":1},{"$f":"AND(U60=0,U$1=1)","v":false},{"$f":"IF(F60=\"-\",1,0)*W$1","v":1},{"$f":"AND(W60=0,W$1=1)","v":false},{"$f":"IF(H60=\"-\",1,0)*Y$1","v":0},{"$f":"AND(Y60=0,Y$1=1)","v":true},{"$f":"IF(J60=\"-\",1,0)*AA$1","v":1},{"$f":"AND(AA60=0,AA$1=1)","v":false},{"$f":"IF(L60=\"-\",1,0)*AC$1","v":1},{"$f":"AND(AC60=0,AC$1=1)","v":false}]
[12,"Pippa Burstow","The Market Bosworth School","-",{"$f":"IF(D61=\"-\",0,D61)","v":0},"-",{"$f":"IF(F61=\"-\",0,F61)","v":0},36,{"$f":"IF(H61=\"-\",0,H61)","v":36},"-",{"$f":"IF(J61=\"-\",0,J61)","v":0},"-",{"$f":"IF(L61=\"-\",0,L61)","v":0},null,{"$f":"E61+G61+I61+K61+M61","v":36},{"$f":"MAX(D61,F61,H61,J61,L61)","v":36},{"$f":"IF(S61=1,O61,IF(S61=0,(O61-P61),\"-\"))","v":"-"},{"$f":"COUNTIF(U61:AD61,\"=TRUE\")","v":1},{"$f":"AE$1-R61","v":4},{"$f":"IF(S61<2,\"Yes\",\"No\")","v":"No"},{"$f":"IF(D61=\"-\",1,0)*U$1","v":1},{"$f":"AND(U61=0,U$1=1)","v":false},{"$f":"IF(F61=\"-\",1,0)*W$1","v":1},{"$f":"AND(W61=0,W$1=1)","v":false},{"$f":"IF(H61=\"-\",1,0)*Y$1","v":0},{"$f":"AND(Y61=0,Y$1=1)","v":true},{"$f":"IF(J61=\"-\",1,0)*AA$1","v":1},{"$f":"AND(AA61=0,AA$1=1)","v":false},{"$f":"IF(L61=\"-\",1,0)*AC$1","v":1},{"$f":"AND(AC61=0,AC$1=1)","v":false}]
[83,"Beth Smith","Lutterworth High School","-",{"$f":"IF(D62=\"-\",0,D62)","v":0},"-",{"$f":"IF(F62=\"-\",0,F62)","v":0},37,{"$f":"IF(H62=\"-\",0,H62)","v":37},"-",{"$f":"IF(J62=\"-\",0,J62)","v":0},"-",{"$f":"IF(L62=\"-\",0,L62)","v":0},null,{"$f":"E62+G62+I62+K62+M62","v":37},{"$f":"MAX(D62,F62,H62,J62,L62)","v":37},{"$f":"IF(S62=1,O62,IF(S62=0,(O62-P62),\"-\"))","v":"-"},{"$f":"COUNTIF(U62:AD62,\"=TRUE\")","v":1},{"$f":"AE$1-R62","v":4},{"$f":"IF(S62<2,\"Yes\",\"No\")","v":"No"},{"$f":"IF(D62=\"-\",1,0)*U$1","v":1},{"$f":"AND(U62=0,U$1=1)","v":false},{"$f":"IF(F62=\"-\",1,0)*W$1","v":1},{"$f":"AND(W62=0,W$1=1)","v":false},{"$f":"IF(H62=\"-\",1,0)*Y$1","v":0},{"$f":"AND(Y62=0,Y$1=1)","v":true},{"$f":"IF(J62=\"-\",1,0)*AA$1","v":1},{"$f":"AND(AA62=0,AA$1=1)","v":false},{"$f":"IF(L62=\"-\",1,0)*AC$1","v":1},{"$f":"AND(AC62=0,AC$1=1)","v":false}]
[15,"Maya Kang","Lutterworth High School",38,{"$f":"IF(D63=\"-\",0,D63)","v":38},"-",{"$f":"IF(F63=\"-\",0,F63)","v":0},38,{"$f":"IF(H63=\"-\",0,H63)","v":38},"-",{"$f":"IF(J63=\"-\",0,J63)","v":0},"-",{"$f":"IF(L63=\"-\",0,L63)","v":0},null,{"$f":"E63+G63+I63+K63+M63","v":76},{"$f":"MAX(D63,F63,H63,J63,L63)","v":38},{"$f":"IF(S63=1,O63,IF(S63=0,(O63-P63),\"-\"))","v":"-"},{"$f":"COUNTIF(U63:AD63,\"=TRUE\")","v":2},{"$f":"AE$1-R63","v":3},{"$f":"IF(S63<2,\"Yes\",\"No\")","v":"No"},{"$f":"IF(D63=\"-\",1,0)*U$1","v":0},{"$f":"AND(U63=0,U$1=1)","v":true},{"$f":"IF(F63=\"-\",1,0)*W$1","v":1},{"$f":"AND(W63=0,W$1=1)","v":false},{"$f":"IF(H63=\"-\",1,0)*Y$1","v":0},{"$f":"AND(Y63=0,Y$1=1)","v":true},{"$f":"IF(J63=\"-\",1,0)*AA$1","v":1},{"$f":"AND(AA63=0,AA$1=1)","v":false},{"$f":"IF(L63=\"-\",1,0)*AC$1","v":1},{"$f":"AND(AC63=0,AC$1=1)","v":false}]
[56,"Isobelle McKinder","Redmoor Academy","-",{"$f":"IF(D64=\"-\",0,D64)","v":0},"-",{"$f":"IF(F64=\"-\",0,F64)","v":0},41,{"$f":"IF(H64=\"-\",0,H64)","v":41},"-",{"$f":"IF(J64=\"-\",0,J64)","v":0},"-",{"$f":"IF(L64=\"-\",0,L64)","v":0},null,{"$f":"E64+G64+I64+K64+M64","v":41},{"$f":"MAX(D64,F64,H64,J64,L64)","v":41},{"$f":"IF(S64=1,O64,IF(S64=0,(O64-P64),\"-\"))","v":"-"},{"$f":"COUNTIF(U64:AD64,\"=TRUE\")","v":1},{"$f":"AE$1-R64","v":4},{"$f":"IF(S64<2,\"Yes\",\"No\")","v":"No"},{"$f":"IF(D64=\"-\",1,0)*U$1","v":1},{"$f":"AND(U64=0,U$1=1)","v":false},{"$f":"IF(F64=\"-\",1,0)*W$1","v":1},{"$f":"AND(W64=0,W$1=1)","v":false},{"$f":"IF(H64=\"-\",1,0)*Y$1","v":0},{"$f":"AND(Y64=0,Y$1=1)","v":true},{"$f":"IF(J64=\"-\",1,0)*AA$1","v":1},{"$f":"AND(AA64=0,AA$1=1)","v":false},{"$f":"IF(L64=\"-\",1,0)*AC$1","v":1},{"$f":"AND(AC64=0,AC$1=1)","v":false}]
[82,"Isobelle Stratford","Redmoor Academy","-",{"$f":"IF(D65=\"-\",0,D65)","v":0},"-",{"$f":"IF(F65=\"-\",0,F65)","v":0},42,{"$f":"IF(H65=\"-\",0,H65)","v":42},"-",{"$f":"IF(J65=\"-\",0,J65)","v":0},"-",{"$f":"IF(L65=\"-\",0,L65)","v":0},null,{"$f":"E65+G65+I65+K65+M65","v":42},{"$f":"MAX(D65,F65,H65,J65,L65)","v":42},{"$f":"IF(S65=1,O65,IF(S65=0,(O65-P65),\"-\"))","v":"-"},{"$f":"COUNTIF(U65:AD65,\"=TRUE\")","v":1},{"$f":"AE$1-R65","v":4},{"$f":"IF(S65<2,\"Yes\",\"No\")","v":"No"},{"$f":"IF(D65=\"-\",1,0)*U$1","v":1},{"$f":"AND(U65=0,U$1=1)","v":false},{"$f":"IF(F65=\"-\",1,0)*W$1","v":1},{"$f":"AND(W65=0,W$1=1)","v":false},{"$f":"IF(H65=\"-\",1,0)*Y$1","v":0},{"$f":"AND(Y65=0,Y$1=1)","v":true},{"$f":"IF(J65=\"-\",1,0)*AA$1","v":1},{"$f":"AND(AA65=0,AA$1=1)","v":false},{"$f":"IF(L65=\"-\",1,0)*AC$1","v":1},{"$f":"AND(AC65=0,AC$1=1)","v":false}]
[85,"Molly Chamber","Lutterworth High School","-",{"$f":"IF(D66=\"-\",0,D66)","v":0},"-",{"$f":"IF(F66=\"-\",0,F66)","v":0},44,{"$f":"IF(H66=\"-\",0,H66)","v":44},"-",{"$f":"IF(J66=\"-\",0,J66)","v":0},"-",{"$f":"IF(L66=\"-\",0,L66)","v":0},null,{"$f":"E66+G66+I66+K66+M66","v":44},{"$f":"MAX(D66,F66,H66,J66,L66)","v":44},{"$f":"IF(S66=1,O66,IF(S66=0,(O66-P66),\"-\"))","v":"-"},{"$f":"COUNTIF(U66:AD66,\"=TRUE\")","v":1},{"$f":"AE$1-R66","v":4},{"$f":"IF(S66<2,\"Yes\",\"No\")","v":"No"},{"$f":"IF(D66=\"-\",1,0)*U$1","v":1},{"$f":"AND(U66=0,U$1=1)","v":false},{"$f":"IF(F66=\"-\",1,0)*W$1","v":1},{"$f":"AND(W66=0,W$1=1)","v":false},{"$f":"IF(H66=\"-\",1,0)*Y$1","v":0},{"$f":"AND(Y66=0,Y$1=1)","v":true},{"$f":"IF(J66=\"-\",1,0)*AA$1","v":1},{"$f":"AND(AA66=0,AA$1=1)","v":false},{"$f":"IF(L66=\"-\",1,0)*AC$1","v":1},{"$f":"AND(AC66=0,AC$1=1)","v":false}]
[86,"Jaya King","Lutterworth High School","-",{"$f":"IF(D67=\"-\",0,D67)","v":0},"-",{"$f":"IF(F67=\"-\",0,F67)","v":0},51,{"$f":"IF(H67=\"-\",0,H67)","v":51},"-",{"$f":"IF(J67=\"-\",0,J67)","v":0},"-",{"$f":"IF(L67=\"-\",0,L67)","v":0},null,{"$f":"E67+G67+I67+K67+M67","v":51},{"$f":"MAX(D67,F67,H67,J67,L67)","v":51},{"$f":"IF(S67=1,O67,IF(S67=0,(O67-P67),\"-\"))","v":"-"},{"$f":"COUNTIF(U67:AD67,\"=TRUE\")","v":1},{"$f":"AE$1-R67","v":4},{"$f":"IF(S67<2,\"Yes\",\"No\")","v":"No"},{"$f":"IF(D67=\"-\",1,0)*U$1","v":1},{"$f":"AND(U67=0,U$1=1)","v":false},{"$f":"IF(F67=\"-\",1,0)*W$1","v":1},{"$f":"AND(W67=0,W$1=1)","v":false},{"$f":"IF(H67=\"-\",1,0)*Y$1","v":0},{"$f":"AND(Y67=0,Y$1=1)","v":true},{"$f":"IF(J67=\"-\",1,0)*AA$1","v":1},{"$f":"AND(AA67=0,AA$1=1)","v":false},{"$f":"IF(L67=\"-\",1,0)*AC$1","v":1},{"$f":"AND(AC67=0,AC$1=1)","v":false}]
[73,"Abigail Ward","Kibworth High School","-",{"$f":"IF(D68=\"-\",0,D68)","v":0},51,{"$f":"IF(F68=\"-\",0,F68)","v":51},55,{"$f":"IF(H68=\"-\",0,H68)","v":55},"-",{"$f":"IF(J68=\"-\",0,J68)","v":0},"-",{"$f":"IF(L68=\"-\",0,L68)","v":0},null,{"$f":"E68+G68+I68+K68+M68","v":106},{"$f":"MAX(D68,F68,H68,J68,L68)","v":55},{"$f":"IF(S68=1,O68,IF(S68=0,(O68-P68),\"-\"))","v":"-"},{"$f":"COUNTIF(U68:AD68,\"=TRUE\")","v":2},{"$f":"AE$1-R68","v":3},{"$f":"IF(S68<2,\"Yes\",\"No\")","v":"No"},{"$f":"IF(D68=\"-\",1,0)*U$1","v":1},{"$f":"AND(U68=0,U$1=1)","v":false},{"$f":"IF(F68=\"-\",1,0)*W$1","v":0},{"$f":"AND(W68=0,W$1=1)","v":true},{"$f":"IF(H68=\"-\",1,0)*Y$1","v":0},{"$f":"AND(Y68=0,Y$1=1)","v":true},{"$f":"IF(J68=\"-\",1,0)*AA$1","v":1},{"$f":"AND(AA68=0,AA$1=1)","v":false},{"$f":"IF(L68=\"-\",1,0)*AC$1","v":1},{"$f":"AND(AC68=0,AC$1=1)","v":false}]
[49,"Emma Gascoigne","Mount Grace High School",8,{"$f":"IF(D69=\"-\",0,D69)","v":8},10,{"$f":"IF(F69=\"-\",0,F69)","v":10},"-",{"$f":"IF(H69=\"-\",0,H69)","v":0},"-",{"$f":"IF(J69=\"-\",0,J69)","v":0},"-",{"$f":"IF(L69=\"-\",0,L69)","v":0},null,{"$f":"E69+G69+I69+K69+M69","v":18},{"$f":"MAX(D69,F69,H69,J69,L69)","v":10},{"$f":"IF(S69=1,O69,IF(S69=0,(O69-P69),\"-\"))","v":"-"},{"$f":"COUNTIF(U69:AD69,\"=TRUE\")","v":2},{"$f":"AE$1-R69","v":3},{"$f":"IF(S69<2,\"Yes\",\"No\")","v":"No"},{"$f":"IF(D69=\"-\",1,0)*U$1","v":0},{"$f":"AND(U69=0,U$1=1)","v":true},{"$f":"IF(F69=\"-\",1,0)*W$1","v":0},{"$f":"AND(W69=0,W$1=1)","v":true},{"$f":"IF(H69=\"-\",1,0)*Y$1","v":1},{"$f":"AND(Y69=0,Y$1=1)","v":false},{"$f":"IF(J69=\"-\",1,0)*AA$1","v":1},{"$f":"AND(AA69=0,AA$1=1)","v":false},{"$f":"IF(L69=\"-\",1,0)*AC$1","v":1},{"$f":"AND(AC69=0,AC$1=1)","v":false}]
[42,"Katie Howard","Bushloe High School",16,{"$f":"IF(D70=\"-\",0,D70)","v":16},13,{"$f":"IF(F70=\"-\",0,F70)","v":13},"-",{"$f":"IF(H70=\"-\",0,H70)","v":0},"-",{"$f":"IF(J70=\"-\",0,J70)","v":0},"-",{"$f":"IF(L70=\"-\",0,L70)","v":0},null,{"$f":"E70+G70+I70+K70+M70","v":29},{"$f":"MAX(D70,F70,H70,J70,L70)","v":16},{"$f":"IF(S70=1,O70,IF(S70=0,(O70-P70),\"-\"))","v":"-"},{"$f":"COUNTIF(U70:AD70,\"=TRUE\")","v":2},{"$f":"AE$1-R70","v":3},{"$f":"IF(S70<2,\"Yes\",\"No\")","v":"No"},{"$f":"IF(D70=\"-\",1,0)*U$1","v":0},{"$f":"AND(U70=0,U$1=1)","v":true},{"$f":"IF(F70=\"-\",1,0)*W$1","v":0},{"$f":"AND(W70=0,W$1=1)","v":true},{"$f":"IF(H70=\"-\",1,0)*Y$1","v":1},{"$f":"AND(Y70=0,Y$1=1)","v":false},{"$f":"IF(J70=\"-\",1,0)*AA$1","v":1},{"$f":"AND(AA70=0,AA$1=1)","v":false},{"$f":"IF(L70=\"-\",1,0)*AC$1","v":1},{"$f":"AND(AC70=0,AC$1=1)","v":false}]
[30,"Scarlett Pagett-Wright","Loughborough High School","-",{"$f":"IF(D71=\"-\",0,D71)","v":0},15,{"$f":"IF(F71=\"-\",0,F71)","v":15},"-",{"$f":"IF(H71=\"-\",0,H71)","v":0},"-",{"$f":"IF(J71=\"-\",0,J71)","v":0},"-",{"$f":"IF(L71=\"-\",0,L71)","v":0},null,{"$f":"E71+G71+I71+K71+M71","v":15},{"$f":"MAX(D71,F71,H71,J71,L71)","v":15},{"$f":"IF(S71=1,O71,IF(S71=0,(O71-P71),\"-\"))","v":"-"},{"$f":"COUNTIF(U71:AD71,\"=TRUE\")","v":1},{"$f":"AE$1-R71","v":4},{"$f":"IF(S71<2,\"Yes\",\"No\")","v":"No"},{"$f":"IF(D71=\"-\",1,0)*U$1","v":1},{"$f":"AND(U71=0,U$1=1)","v":false},{"$f":"IF(F71=\"-\",1,0)*W$1","v":0},{"$f":"AND(W71=0,W$1=1)","v":true},{"$f":"IF(H71=\"-\",1,0)*Y$1","v":1},{"$f":"AND(Y71=0,Y$1=1)","v":false},{"$f":"IF(J71=\"-\",1,0)*AA$1","v":1},{"$f":"AND(AA71=0,AA$1=1)","v":false},{"$f":"IF(L71=\"-\",1,0)*AC$1","v":1},{"$f":"AND(AC71=0,AC$1=1)","v":false}]
[78,"Connie-May Roper","Lutterworth High School",13,{"$f":"IF(D72=\"-\",0,D72)","v":13},16,{"$f":"IF(F72=\"-\",0,F72)","v":16},"-",{"$f":"IF(H72=\"-\",0,H72)","v":0},"-",{"$f":"IF(J72=\"-\",0,J72)","v":0},"-",{"$f":"IF(L72=\"-\",0,L72)","v":0},null,{"$f":"E72+G72+I72+K72+M72","v":29},{"$f":"MAX(D72,F72,H72,J72,L72)","v":16},{"$f":"IF(S72=1,O72,IF(S72=0,(O72-P72),\"-\"))","v":"-"},{"$f":"COUNTIF(U72:AD72,\"=TRUE\")","v":2},{"$f":"AE$1-R72","v":3},{"$f":"IF(S72<2,\"Yes\",\"No\")","v":"No"},{"$f":"IF(D72=\"-\",1,0)*U$1","v":0},{"$f":"AND(U72=0,U$1=1)","v":true},{"$f":"IF(F72=\"-\",1,0)*W$1","v":0},{"$f":"AND(W72=0,W$1=1)","v":true},{"$f":"IF(H72=\"-\",1,0)*Y$1","v":1},{"$f":"AND(Y72=0,Y$1=1)","v":false},{"$f":"IF(J72=\"-\",1,0)*AA$1","v":1},{"$f":"AND(AA72=0,AA$1=1)","v":false},{"$f":"IF(L72=\"-\",1,0)*AC$1","v":1},{"$f":"AND(AC72=0,AC$1=1)","v":false}]
[53,"Katie Farndon","Woodbrook Vale School",12,{"$f":"IF(D73=\"-\",0,D73)","v":12},19,{"$f":"IF(F73=\"-\",0,F73)","v":19},"-",{"$f":"IF(H73=\"-\",0,H73)","v":0},"-",{"$f":"IF(J73=\"-\",0,J73)","v":0},"-",{"$f":"IF(L73=\"-\",0,L73)","v":0},null,{"$f":"E73+G73+I73+K73+M73","v":31},{"$f":"MAX(D73,F73,H73,J73,L73)","v":19},{"$f":"IF(S73=1,O73,IF(S73=0,(O73-P73),\"-\"))","v":"-"},{"$f":"COUNTIF(U73:AD73,\"=TRUE\")","v":2},{"$f":"AE$1-R73","v":3},{"$f":"IF(S73<2,\"Yes\",\"No\")","v":"No"},{"$f":"IF(D73=\"-\",1,0)*U$1","v":0},{"$f":"AND(U73=0,U$1=1)","v":true},{"$f":"IF(F73=\"-\",1,0)*W$1","v":0},{"$f":"AND(W73=0,W$1=1)","v":true},{"$f":"IF(H73=\"-\",1,0)*Y$1","v":1},{"$f":"AND(Y73=0,Y$1=1)","v":false},{"$f":"IF(J73=\"-\",1,0)*AA$1","v":1},{"$f":"AND(AA73=0,AA$1=1)","v":false},{"$f":"IF(L73=\"-\",1,0)*AC$1","v":1},{"$f":"AND(AC73=0,AC$1=1)","v":false}]
[8,"Lauren Evans","Welland Park Academy",25,{"$f":"IF(D74=\"-\",0,D74)","v":25},31,{"$f":"IF(F74=\"-\",0,F74)","v":31},"-",{"$f":"IF(H74=\"-\",0,H74)","v":0},"-",{"$f":"IF(J74=\"-\",0,J74)","v":0},"-",{"$f":"IF(L74=\"-\",0,L74)","v":0},null,{"$f":"E74+G74+I74+K74+M74","v":56},{"$f":"MAX(D74,F74,H74,J74,L74)","v":31},{"$f":"IF(S74=1,O74,IF(S74=0,(O74-P74),\"-\"))","v":"-"},{"$f":"COUNTIF(U74:AD74,\"=TRUE\")","v":2},{"$f":"AE$1-R74","v":3},{"$f":"IF(S74<2,\"Yes\",\"No\")","v":"No"},{"$f":"IF(D74=\"-\",1,0)*U$1","v":0},{"$f":"AND(U74=0,U$1=1)","v":true},{"$f":"IF(F74=\"-\",1,0)*W$1","v":0},{"$f":"AND(W74=0,W$1=1)","v":true},{"$f":"IF(H74=\"-\",1,0)*Y$1","v":1},{"$f":"AND(Y74=0,Y$1=1)","v":false},{"$f":"IF(J74=\"-\",1,0)*AA$1","v":1},{"$f":"AND(AA74=0,AA$1=1)","v":false},{"$f":"IF(L74=\"-\",1,0)*AC$1","v":1},{"$f":"AND(AC74=0,AC$1=1)","v":false}]
[39,"Chloe Priest","Thomas Estley CC","-",{"$f":"IF(D75=\"-\",0,D75)","v":0},33,{"$f":"IF(F75=\"-\",0,F75)","v":33},"-",{"$f":"IF(H75=\"-\",0,H75)","v":0},"-",{"$f":"IF(J75=\"-\",0,J75)","v":0},"-",{"$f":"IF(L75=\"-\",0,L75)","v":0},null,{"$f":"E75+G75+I75+K75+M75","v":33},{"$f":"MAX(D75,F75,H75,J75,L75)","v":33},{"$f":"IF(S75=1,O75,IF(S75=0,(O75-P75),\"-\"))","v":"-"},{"$f":"COUNTIF(U75:AD75,\"=TRUE\")","v":1},{"$f":"AE$1-R75","v":4},{"$f":"IF(S75<2,\"Yes\",\"No\")","v":"No"},{"$f":"IF(D75=\"-\",1,0)*U$1","v":1},{"$f":"AND(U75=0,U$1=1)","v":false},{"$f":"IF(F75=\"-\",1,0)*W$1","v":0},{"$f":"AND(W75=0,W$1=1)","v":true},{"$f":"IF(H75=\"-\",1,0)*Y$1","v":1},{"$f":"AND(Y75=0,Y$1=1)","v":false},{"$f":"IF(J75=\"-\",1,0)*AA$1","v":1},{"$f":"AND(AA75=0,AA$1=1)","v":false},{"$f":"IF(L75=\"-\",1,0)*AC$1","v":1},{"$f":"AND(AC75=0,AC$1=1)","v":false}]
[62,"Alice Lucas","Catmose College","-",{"$f":"IF(D76=\"-\",0,D76)","v":0},42,{"$f":"IF(F76=\"-\",0,F76)","v":42},"-",{"$f":"IF(H76=\"-\",0,H76)","v":0},"-",{"$f":"IF(J76=\"-\",0,J76)","v":0},"-",{"$f":"IF(L76=\"-\",0,L76)","v":0},null,{"$f":"E76+G76+I76+K76+M76","v":42},{"$f":"MAX(D76,F76,H76,J76,L76)","v":42},{"$f":"IF(S76=1,O76,IF(S76=0,(O76-P76),\"-\"))","v":"-"},{"$f":"COUNTIF(U76:AD76,\"=TRUE\")","v":1},{"$f":"AE$1-R76","v":4},{"$f":"IF(S76<2,\"Yes\",\"No\")","v":"No"},{"$f":"IF(D76=\"-\",1,0)*U$1","v":1},{"$f":"AND(U76=0,U$1=1)","v":false},{"$f":"IF(F76=\"-\",1,0)*W$1","v":0},{"$f":"AND(W76=0,W$1=1)","v":true},{"$f":"IF(H76=\"-\",1,0)*Y$1","v":1},{"$f":"AND(Y76=0,Y$1=1)","v":false},{"$f":"IF(J76=\"-\",1,0)*AA$1","v":1},{"$f":"AND(AA76=0,AA$1=1)","v":false},{"$f":"IF(L76=\"-\",1,0)*AC$1","v":1},{"$f":"AND(AC76=0,AC$1=1)","v":false}]
[16,"Hannah Johnson","Manor High School","-",{"$f":"IF(D77=\"-\",0,D77)","v":0},47,{"$f":"IF(F77=\"-\",0,F77)","v":47},"-",{"$f":"IF(H77=\"-\",0,H77)","v":0},"-",{"$f":"IF(J77=\"-\",0,J77)","v":0},"-",{"$f":"IF(L77=\"-\",0,L77)","v":0},null,{"$f":"E77+G77+I77+K77+M77","v":47},{"$f":"MAX(D77,F77,H77,J77,L77)","v":47},{"$f":"IF(S77=1,O77,IF(S77=0,(O77-P77),\"-\"))","v":"-"},{"$f":"COUNTIF(U77:AD77,\"=TRUE\")","v":1},{"$f":"AE$1-R77","v":4},{"$f":"IF(S77<2,\"Yes\",\"No\")","v":"No"},{"$f":"IF(D77=\"-\",1,0)*U$1","v":1},{"$f":"AND(U77=0,U$1=1)","v":false},{"$f":"IF(F77=\"-\",1,0)*W$1","v":0},{"$f":"AND(W77=0,W$1=1)","v":true},{"$f":"IF(H77=\"-\",1,0)*Y$1","v":1},{"$f":"AND(Y77=0,Y$1=1)","v":false},{"$f":"IF(J77=\"-\",1,0)*AA$1","v":1},{"$f":"AND(AA77=0,AA$1=1)","v":false},{"$f":"IF(L77=\"-\",1,0)*AC$1","v":1},{"$f":"AND(AC77=0,AC$1=1)","v":false}]
[17,"Perdi Wellbourn","Long Field Academy",45,{"$f":"IF(D78=\"-\",0,D78)","v":45},48,{"$f":"IF(F78=\"-\",0,F78)","v":48},"-",{"$f":"IF(H78=\"-\",0,H78)","v":0},"-",{"$f":"IF(J78=\"-\",0,J78)","v":0},"-",{"$f":"IF(L78=\"-\",0,L78)","v":0},null,{"$f":"E78+G78+I78+K78+M78","v":93},{"$f":"MAX(D78,F78,H78,J78,L78)","v":48},{"$f":"IF(S78=1,O78,IF(S78=0,(O78-P78),\"-\"))","v":"-"},{"$f":"COUNTIF(U78:AD78,\"=TRUE\")","v":2},{"$f":"AE$1-R78","v":3},{"$f":"IF(S78<2,\"Yes\",\"No\")","v":"No"},{"$f":"IF(D78=\"-\",1,0)*U$1","v":0},{"$f":"AND(U78=0,U$1=1)","v":true},{"$f":"IF(F78=\"-\",1,0)*W$1","v":0},{"$f":"AND(W78=0,W$1=1)","v":true},{"$f":"IF(H78=\"-\",1,0)*Y$1","v":1},{"$f":"AND(Y78=0,Y$1=1)","v":false},{"$f":"IF(J78=\"-\",1,0)*AA$1","v":1},{"$f":"AND(AA78=0,AA$1=1)","v":false},{"$f":"IF(L78=\"-\",1,0)*AC$1","v":1},{"$f":"AND(AC78=0,AC$1=1)","v":false}]
[77,"Emily S?","Stonehill High School","-",{"$f":"IF(D79=\"-\",0,D79)","v":0},52,{"$f":"IF(F79=\"-\",0,F79)","v":52},"-",{"$f":"IF(H79=\"-\",0,H79)","v":0},"-",{"$f":"IF(J79=\"-\",0,J79)","v":0},"-",{"$f":"IF(L79=\"-\",0,L79)","v":0},null,{"$f":"E79+G79+I79+K79+M79","v":52},{"$f":"MAX(D79,F79,H79,J79,L79)","v":52},{"$f":"IF(S79=1,O79,IF(S79=0,(O79-P79),\"-\"))","v":"-"},{"$f":"COUNTIF(U79:AD79,\"=TRUE\")","v":1},{"$f":"AE$1-R79","v":4},{"$f":"IF(S79<2,\"Yes\",\"No\")","v":"No"},{"$f":"IF(D79=\"-\",1,0)*U$1","v":1},{"$f":"AND(U79=0,U$1=1)","v":false},{"$f":"IF(F79=\"-\",1,0)*W$1","v":0},{"$f":"AND(W79=0,W$1=1)","v":true},{"$f":"IF(H79=\"-\",1,0)*Y$1","v":1},{"$f":"AND(Y79=0,Y$1=1)","v":false},{"$f":"IF(J79=\"-\",1,0)*AA$1","v":1},{"$f":"AND(AA79=0,AA$1=1)","v":false},{"$f":"IF(L79=\"-\",1,0)*AC$1","v":1},{"$f":"AND(AC79=0,AC$1=1)","v":false}]
[48,"Niamh Stretton","Brookvale High School",52,{"$f":"IF(D80=\"-\",0,D80)","v":52},53,{"$f":"IF(F80=\"-\",0,F80)","v":53},"-",{"$f":"IF(H80=\"-\",0,H80)","v":0},"-",{"$f":"IF(J80=\"-\",0,J80)","v":0},"-",{"$f":"IF(L80=\"-\",0,L80)","v":0},null,{"$f":"E80+G80+I80+K80+M80","v":105},{"$f":"MAX(D80,F80,H80,J80,L80)","v":53},{"$f":"IF(S80=1,O80,IF(S80=0,(O80-P80),\"-\"))","v":"-"},{"$f":"COUNTIF(U80:AD80,\"=TRUE\")","v":2},{"$f":"AE$1-R80","v":3},{"$f":"IF(S80<2,\"Yes\",\"No\")","v":"No"},{"$f":"IF(D80=\"-\",1,0)*U$1","v":0},{"$f":"AND(U80=0,U$1=1)","v":true},{"$f":"IF(F80=\"-\",1,0)*W$1","v":0},{"$f":"AND(W80=0,W$1=1)","v":true},{"$f":"IF(H80=\"-\",1,0)*Y$1","v":1},{"$f":"AND(Y80=0,Y$1=1)","v":false},{"$f":"IF(J80=\"-\",1,0)*AA$1","v":1},{"$f":"AND(AA80=0,AA$1=1)","v":false},{"$f":"IF(L80=\"-\",1,0)*AC$1","v":1},{"$f":"AND(AC80=0,AC$1=1)","v":false}]
[55,"Remiya Waldron","Crown Hills CC","-",{"$f":"IF(D81=\"-\",0,D81)","v":0},54,{"$f":"IF(F81=\"-\",0,F81)","v":54},"-",{"$f":"IF(H81=\"-\",0,H81)","v":0},"-",{"$f":"IF(J81=\"-\",0,J81)","v":0},"-",{"$f":"IF(L81=\"-\",0,L81)","v":0},null,{"$f":"E81+G81+I81+K81+M81","v":54},{"$f":"MAX(D81,F81,H81,J81,L81)","v":54},{"$f":"IF(S81=1,O81,IF(S81=0,(O81-P81),\"-\"))","v":"-"},{"$f":"COUNTIF(U81:AD81,\"=TRUE\")","v":1},{"$f":"AE$1-R81","v":4},{"$f":"IF(S81<2,\"Yes\",\"No\")","v":"No"},{"$f":"IF(D81=\"-\",1,0)*U$1","v":1},{"$f":"AND(U81=0,U$1=1)","v":false},{"$f":"IF(F81=\"-\",1,0)*W$1","v":0},{"$f":"AND(W81=0,W$1=1)","v":true},{"$f":"IF(H81=\"-\",1,0)*Y$1","v":1},{"$f":"AND(Y81=0,Y$1=1)","v":false},{"$f":"IF(J81=\"-\",1,0)*AA$1","v":1},{"$f":"AND(AA81=0,AA$1=1)","v":false},{"$f":"IF(L81=\"-\",1,0)*AC$1","v":1},{"$f":"AND(AC81=0,AC$1=1)","v":false}]
[61,"Adeola Ogundoyin","Crown Hills CC","-",{"$f":"IF(D82=\"-\",0,D82)","v":0},55,{"$f":"IF(F82=\"-\",0,F82)","v":55},"-",{"$f":"IF(H82=\"-\",0,H82)","v":0},"-",{"$f":"IF(J82=\"-\",0,J82)","v":0},"-",{"$f":"IF(L82=\"-\",0,L82)","v":0},null,{"$f":"E82+G82+I82+K82+M82","v":55},{"$f":"MAX(D82,F82,H82,J82,L82)","v":55},{"$f":"IF(S82=1,O82,IF(S82=0,(O82-P82),\"-\"))","v":"-"},{"$f":"COUNTIF(U82:AD82,\"=TRUE\")","v":1},{"$f":"AE$1-R82","v":4},{"$f":"IF(S82<2,\"Yes\",\"No\")","v":"No"},{"$f":"IF(D82=\"-\",1,0)*U$1","v":1},{"$f":"AND(U82=0,U$1=1)","v":false},{"$f":"IF(F82=\"-\",1,0)*W$1","v":0},{"$f":"AND(W82=0,W$1=1)","v":true},{"$f":"IF(H82=\"-\",1,0)*Y$1","v":1},{"$f":"AND(Y82=0,Y$1=1)","v":false},{"$f":"IF(J82=\"-\",1,0)*AA$1","v":1},{"$f":"AND(AA82=0,AA$1=1)","v":false},{"$f":"IF(L82=\"-\",1,0)*AC$1","v":1},{"$f":"AND(AC82=0,AC$1=1)","v":false}]
[70,"Eleanor Here","Rawlins College",14,{"$f":"IF(D83=\"-\",0,D83)","v":14},"-",{"$f":"IF(F83=\"-\",0,F83)","v":0},"-",{"$f":"IF(H83=\"-\",0,H83)","v":0},"-",{"$f":"IF(J83=\"-\",0,J83)","v":0},"-",{"$f":"IF(L83=\"-\",0,L83)","v":0},null,{"$f":"E83+G83+I83+K83+M83","v":14},{"$f":"MAX(D83,F83,H83,J83,L83)","v":14},{"$f":"IF(S83=1,O83,IF(S83=0,(O83-P83),\"-\"))","v":"-"},{"$f":"COUNTIF(U83:AD83,\"=TRUE\")","v":1},{"$f":"AE$1-R83","v":4},{"$f":"IF(S83<2,\"Yes\",\"No\")","v":"No"},{"$f":"IF(D83=\"-\",1,0)*U$1","v":0},{"$f":"AND(U83=0,U$1=1)","v":true},{"$f":"IF(F83=\"-\",1,0)*W$1","v":1},{"$f":"AND(W83=0,W$1=1)","v":false},{"$f":"IF(H83=\"-\",1,0)*Y$1","v":1},{"$f":"AND(Y83=0,Y$1=1)","v":false},{"$f":"IF(J83=\"-\",1,0)*AA$1","v":1},{"$f":"AND(AA83=0,AA$1=1)","v":false},{"$f":"IF(L83=\"-\",1,0)*AC$1","v":1},{"$f":"AND(AC83=0,AC$1=1)","v":false}]
[52,"Hazel Dearlove","Limehurst Academy",23,{"$f":"IF(D84=\"-\",0,D84)","v":23},"-",{"$f":"IF(F84=\"-\",0,F84)","v":0},"-",{"$f":"IF(H84=\"-\",0,H84)","v":0},"-",{"$f":"IF(J84=\"-\",0,J84)","v":0},"-",{"$f":"IF(L84=\"-\",0,L84)","v":0},null,{"$f":"E84+G84+I84+K84+M84","v":23},{"$f":"MAX(D84,F84,H84,J84,L84)","v":23},{"$f":"IF(S84=1,O84,IF(S84=0,(O84-P84),\"-\"))","v":"-"},{"$f":"COUNTIF(U84:AD84,\"=TRUE\")","v":1},{"$f":"AE$1-R84","v":4},{"$f":"IF(S84<2,\"Yes\",\"No\")","v":"No"},{"$f":"IF(D84=\"-\",1,0)*U$1","v":0},{"$f":"AND(U84=0,U$1=1)","v":true},{"$f":"IF(F84=\"-\",1,0)*W$1","v":1},{"$f":"AND(W84=0,W$1=1)","v":false},{"$f":"IF(H84=\"-\",1,0)*Y$1","v":1},{"$f":"AND(Y84=0,Y$1=1)","v":false},{"$f":"IF(J84=\"-\",1,0)*AA$1","v":1},{"$f":"AND(AA84=0,AA$1=1)","v":false},{"$f":"IF(L84=\"-\",1,0)*AC$1","v":1},{"$f":"AND(AC84=0,AC$1=1)","v":false}]
[76,"Evie Junn","Brookvale High School",40,{"$f":"IF(D85=\"-\",0,D85)","v":40},"-",{"$f":"IF(F85=\"-\",0,F85)","v":0},"-",{"$f":"IF(H85=\"-\",0,H85)","v":0},"-",{"$f":"IF(J85=\"-\",0,J85)","v":0},"-",{"$f":"IF(L85=\"-\",0,L85)","v":0},null,{"$f":"E85+G85+I85+K85+M85","v":40},{"$f":"MAX(D85,F85,H85,J85,L85)","v":40},{"$f":"IF(S85=1,O85,IF(S85=0,(O85-P85),\"-\"))","v":"-"},{"$f":"COUNTIF(U85:AD85,\"=TRUE\")","v":1},{"$f":"AE$1-R85","v":4},{"$f":"IF(S85<2,\"Yes\",\"No\")","v":"No"},{"$f":"IF(D85=\"-\",1,0)*U$1","v":0},{"$f":"AND(U85=0,U$1=1)","v":true},{"$f":"IF(F85=\"-\",1,0)*W$1","v":1},{"$f":"AND(W85=0,W$1=1)","v":false},{"$f":"IF(H85=\"-\",1,0)*Y$1","v":1},{"$f":"AND(Y85=0,Y$1=1)","v":false},{"$f":"IF(J85=\"-\",1,0)*AA$1","v":1},{"$f":"AND(AA85=0,AA$1=1)","v":false},{"$f":"IF(L85=\"-\",1,0)*AC$1","v":1},{"$f":"AND(AC85=0,AC$1=1)","v":false}]
[23,"Hannah Parish","Brookvale High School",42,{"$f":"IF(D86=\"-\",0,D86)","v":42},"-",{"$f":"IF(F86=\"-\",0,F86)","v":0},"-",{"$f":"IF(H86=\"-\",0,H86)","v":0},"-",{"$f":"IF(J86=\"-\",0,J86)","v":0},"-",{"$f":"IF(L86=\"-\",0,L86)","v":0},null,{"$f":"E86+G86+I86+K86+M86","v":42},{"$f":"MAX(D86,F86,H86,J86,L86)","v":42},{"$f":"IF(S86=1,O86,IF(S86=0,(O86-P86),\"-\"))","v":"-"},{"$f":"COUNTIF(U86:AD86,\"=TRUE\")","v":1},{"$f":"AE$1-R86","v":4},{"$f":"IF(S86<2,\"Yes\",\"No\")","v":"No"},{"$f":"IF(D86=\"-\",1,0)*U$1","v":0},{"$f":"AND(U86=0,U$1=1)","v":true},{"$f":"IF(F86=\"-\",1,0)*W$1","v":1},{"$f":"AND(W86=0,W$1=1)","v":false},{"$f":"IF(H86=\"-\",1,0)*Y$1","v":1},{"$f":"AND(Y86=0,Y$1=1)","v":false},{"$f":"IF(J86=\"-\",1,0)*AA$1","v":1},{"$f":"AND(AA86=0,AA$1=1)","v":false},{"$f":"IF(L86=\"-\",1,0)*AC$1","v":1},{"$f":"AND(AC86=0,AC$1=1)","v":false}]
[59,"Imogen Wilson","Brookvale High School",46,{"$f":"IF(D87=\"-\",0,D87)","v":46},"-",{"$f":"IF(F87=\"-\",0,F87)","v":0},"-",{"$f":"IF(H87=\"-\",0,H87)","v":0},"-",{"$f":"IF(J87=\"-\",0,J87)","v":0},"-",{"$f":"IF(L87=\"-\",0,L87)","v":0},null,{"$f":"E87+G87+I87+K87+M87","v":46},{"$f":"MAX(D87,F87,H87,J87,L87)","v":46},{"$f":"IF(S87=1,O87,IF(S87=0,(O87-P87),\"-\"))","v":"-"},{"$f":"COUNTIF(U87:AD87,\"=TRUE\")","v":1},{"$f":"AE$1-R87","v":4},{"$f":"IF(S87<2,\"Yes\",\"No\")","v":"No"},{"$f":"IF(D87=\"-\",1,0)*U$1","v":0},{"$f":"AND(U87=0,U$1=1)","v":true},{"$f":"IF(F87=\"-\",1,0)*W$1","v":1},{"$f":"AND(W87=0,W$1=1)","v":false},{"$f":"IF(H87=\"-\",1,0)*Y$1","v":1},{"$f":"AND(Y87=0,Y$1=1)","v":false},{"$f":"IF(J87=\"-\",1,0)*AA$1","v":1},{"$f":"AND(AA87=0,AA$1=1)","v":false},{"$f":"IF(L87=\"-\",1,0)*AC$1","v":1},{"$f":"AND(AC87=0,AC$1=1)","v":false}]
[38,"Abigail Chilton","Castle Donington CC",47,{"$f":"IF(D88=\"-\",0,D88)","v":47},"-",{"$f":"IF(F88=\"-\",0,F88)","v":0},"-",{"$f":"IF(H88=\"-\",0,H88)","v":0},"-",{"$f":"IF(J88=\"-\",0,J88)","v":0},"-",{"$f":"IF(L88=\"-\",0,L88)","v":0},null,{"$f":"E88+G88+I88+K88+M88","v":47},{"$f":"MAX(D88,F88,H88,J88,L88)","v":47},{"$f":"IF(S88=1,O88,IF(S88=0,(O88-P88),\"-\"))","v":"-"},{"$f":"COUNTIF(U88:AD88,\"=TRUE\")","v":1},{"$f":"AE$1-R88","v":4},{"$f":"IF(S88<2,\"Yes\",\"No\")","v":"No"},{"$f":"IF(D88=\"-\",1,0)*U$1","v":0},{"$f":"AND(U88=0,U$1=1)","v":true},{"$f":"IF(F88=\"-\",1,0)*W$1","v":1},{"$f":"AND(W88=0,W$1=1)","v":false},{"$f":"IF(H88=\"-\",1,0)*Y$1","v":1},{"$f":"AND(Y88=0,Y$1=1)","v":false},{"$f":"IF(J88=\"-\",1,0)*AA$1","v":1},{"$f":"AND(AA88=0,AA$1=1)","v":false},{"$f":"IF(L88=\"-\",1,0)*AC$1","v":1},{"$f":"AND(AC88=0,AC$1=1)","v":false}]
[54,"Amtullah Sandikot","Loughborough High School",49,{"$f":"IF(D89=\"-\",0,D89)","v":49},"-",{"$f":"IF(F89=\"-\",0,F89)","v":0},"-",{"$f":"IF(H89=\"-\",0,H89)","v":0},"-",{"$f":"IF(J89=\"-\",0,J89)","v":0},"-",{"$f":"IF(L89=\"-\",0,L89)","v":0},null,{"$f":"E89+G89+I89+K89+M89","v":49},{"$f":"MAX(D89,F89,H89,J89,L89)","v":49},{"$f":"IF(S89=1,O89,IF(S89=0,(O89-P89),\"-\"))","v":"-"},{"$f":"COUNTIF(U89:AD89,\"=TRUE\")","v":1},{"$f":"AE$1-R89","v":4},{"$f":"IF(S89<2,\"Yes\",\"No\")","v":"No"},{"$f":"IF(D89=\"-\",1,0)*U$1","v":0},{"$f":"AND(U89=0,U$1=1)","v":true},{"$f":"IF(F89=\"-\",1,0)*W$1","v":1},{"$f":"AND(W89=0,W$1=1)","v":false},{"$f":"IF(H89=\"-\",1,0)*Y$1","v":1},{"$f":"AND(Y89=0,Y$1=1)","v":false},{"$f":"IF(J89=\"-\",1,0)*AA$1","v":1},{"$f":"AND(AA89=0,AA$1=1)","v":false},{"$f":"IF(L89=\"-\",1,0)*AC$1","v":1},{"$f":"AND(AC89=0,AC$1=1)","v":false}]
[19,"Katie Smith","The Martin High School",50,{"$f":"IF(D90=\"-\",0,D90)","v":50},"-",{"$f":"IF(F90=\"-\",0,F90)","v":0},"-",{"$f":"IF(H90=\"-\",0,H90)","v":0},"-",{"$f":"IF(J90=\"-\",0,J90)","v":0},"-",{"$f":"IF(L90=\"-\",0,L90)","v":0},null,{"$f":"E90+G90+I90+K90+M90","v":50},{"$f":"MAX(D90,F90,H90,J90,L90)","v":50},{"$f":"IF(S90=1,O90,IF(S90=0,(O90-P90),\"-\"))","v":"-"},{"$f":"COUNTIF(U90:AD90,\"=TRUE\")","v":1},{"$f":"AE$1-R90","v":4},{"$f":"IF(S90<2,\"Yes\",\"No\")","v":"No"},{"$f":"IF(D90=\"-\",1,0)*U$1","v":0},{"$f":"AND(U90=0,U$1=1)","v":true},{"$f":"IF(F90=\"-\",1,0)*W$1","v":1},{"$f":"AND(W90=0,W$1=1)","v":false},{"$f":"IF(H90=\"-\",1,0)*Y$1","v":1},{"$f":"AND(Y90=0,Y$1=1)","v":false},{"$f":"IF(J90=\"-\",1,0)*AA$1","v":1},{"$f":"AND(AA90=0,AA$1=1)","v":false},{"$f":"IF(L90=\"-\",1,0)*AC$1","v":1},{"$f":"AND(AC90=0,AC$1=1)","v":false}]
[24,"Sophie Clarke","Redmoor Academy",55,{"$f":"IF(D91=\"-\",0,D91)","v":55},"-",{"$f":"IF(F91=\"-\",0,F91)","v":0},"-",{"$f":"IF(H91=\"-\",0,H91)","v":0},"-",{"$f":"IF(J91=\"-\",0,J91)","v":0},"-",{"$f":"IF(L91=\"-\",0,L91)","v":0},null,{"$f":"E91+G91+I91+K91+M91","v":55},{"$f":"MAX(D91,F91,H91,J91,L91)","v":55},{"$f":"IF(S91=1,O91,IF(S91=0,(O91-P91),\"-\"))","v":"-"},{"$f":"COUNTIF(U91:AD91,\"=TRUE\")","v":1},{"$f":"AE$1-R91","v":4},{"$f":"IF(S91<2,\"Yes\",\"No\")","v":"No"},{"$f":"IF(D91=\"-\",1,0)*U$1","v":0},{"$f":"AND(U91=0,U$1=1)","v":true},{"$f":"IF(F91=\"-\",1,0)*W$1","v":1},{"$f":"AND(W91=0,W$1=1)","v":false},{"$f":"IF(H91=\"-\",1,0)*Y$1","v":1},{"$f":"AND(Y91=0,Y$1=1)","v":false},{"$f":"IF(J91=\"-\",1,0)*AA$1","v":1},{"$f":"AND(AA91=0,AA$1=1)","v":false},{"$f":"IF(L91=\"-\",1,0)*AC$1","v":1},{"$f":"AND(AC91=0,AC$1=1)","v":false}]
[89,null,"-","-",{"$f":"IF(D92=\"-\",0,D92)","v":0},"-",{"$f":"IF(F92=\"-\",0,F92)","v":0},"-",{"$f":"IF(H92=\"-\",0,H92)","v":0},"-",{"$f":"IF(J92=\"-\",0,J92)","v":0},"-",{"$f":"IF(L92=\"-\",0,L92)","v":0},null,{"$f":"E92+G92+I92+K92+M92","v":0},{"$f":"MAX(D92,F92,H92,J92,L92)","v":0},{"$f":"IF(S92=1,O92,IF(S92=0,(O92-P92),\"-\"))","v":"-"},{"$f":"COUNTIF(U92:AD92,\"=TRUE\")","v":0},{"$f":"AE$1-R92","v":5},{"$f":"IF(S92<2,\"Yes\",\"No\")","v":"No"},{"$f":"IF(D92=\"-\",1,0)*U$1","v":1},{"$f":"AND(U92=0,U$1=1)","v":false},{"$f":"IF(F92=\"-\",1,0)*W$1","v":1},{"$f":"AND(W92=0,W$1=1)","v":false},{"$f":"IF(H92=\"-\",1,0)*Y$1","v":1},{"$f":"AND(Y92=0,Y$1=1)","v":false},{"$f":"IF(J92=\"-\",1,0)*AA$1","v":1},{"$f":"AND(AA92=0,AA$1=1)","v":false},{"$f":"IF(L92=\"-\",1,0)*AC$1","v":1},{"$f":"AND(AC92=0,AC$1=1)","v":false}]
[90,null,"-","-",{"$f":"IF(D93=\"-\",0,D93)","v":0},"-",{"$f":"IF(F93=\"-\",0,F93)","v":0},"-",{"$f":"IF(H93=\"-\",0,H93)","v":0},"-",{"$f":"IF(J93=\"-\",0,J93)","v":0},"-",{"$f":"IF(L93=\"-\",0,L93)","v":0},null,{"$f":"E93+G93+I93+K93+M93","v":0},{"$f":"MAX(D93,F93,H93,J93,L93)","v":0},{"$f":"IF(S93=1,O93,IF(S93=0,(O93-P93),\"-\"))","v":"-"},{"$f":"COUNTIF(U93:AD93,\"=TRUE\")","v":0},{"$f":"AE$1-R93","v":5},{"$f":"IF(S93<2,\"Yes\",\"No\")","v":"No"},{"$f":"IF(D93=\"-\",1,0)*U$1","v":1},{"$f":"AND(U93=0,U$1=1)","v":false},{"$f":"IF(F93=\"-\",1,0)*W$1","v":1},{"$f":"AND(W93=0,W$1=1)","v":false},{"$f":"IF(H93=\"-\",1,0)*Y$1","v":1},{"$f":"AND(Y93=0,Y$1=1)","v":false},{"$f":"IF(J93=\"-\",1,0)*AA$1","v":1},{"$f":"AND(AA93=0,AA$1=1)","v":false},{"$f":"IF(L93=\"-\",1,0)*AC$1","v":1},{"$f":"AND(AC93=0,AC$1=1)","v":false}]
[91,null,"-","-",{"$f":"IF(D94=\"-\",0,D94)","v":0},"-",{"$f":"IF(F94=\"-\",0,F94)","v":0},"-",{"$f":"IF(H94=\"-\",0,H94)","v":0},"-",{"$f":"IF(J94=\"-\",0,J94)","v":0},"-",{"$f":"IF(L94=\"-\",0,L94)","v":0},null,{"$f":"E94+G94+I94+K94+M94","v":0},{"$f":"MAX(D94,F94,H94,J94,L94)","v":0},{"$f":"IF(S94=1,O94,IF(S94=0,(O94-P94),\"-\"))","v":"-"},{"$f":"COUNTIF(U94:AD94,\"=TRUE\")","v":0},{"$f":"AE$1-R94","v":5},{"$f":"IF(S94<2,\"Yes\",\"No\")","v":"No"},{"$f":"IF(D94=\"-\",1,0)*U$1","v":1},{"$f":"AND(U94=0,U$1=1)","v":false},{"$f":"IF(F94=\"-\",1,0)*W$1","v":1},{"$f":"AND(W94=0,W$1=1)","v":false},{"$f":"IF(H94=\"-\",1,0)*Y$1","v":1},{"$f":"AND(Y94=0,Y$1=1)","v":false},{"$f":"IF(J94=\"-\",1,0)*AA$1","v":1},{"$f":"AND(AA94=0,AA$1=1)","v":false},{"$f":"IF(L94=\"-\",1,0)*AC$1","v":1},{"$f":"AND(AC94=0,AC$1=1)","v":false}]
[92,null,"-","-",{"$f":"IF(D95=\"-\",0,D95)","v":0},"-",{"$f":"IF(F95=\"-\",0,F95)","v":0},"-",{"$f":"IF(H95=\"-\",0,H95)","v":0},"-",{"$f":"IF(J95=\"-\",0,J95)","v":0},"-",{"$f":"IF(L95=\"-\",0,L95)","v":0},null,{"$f":"E95+G95+I95+K95+M95","v":0},{"$f":"MAX(D95,F95,H95,J95,L95)","v":0},{"$f":"IF(S95=1,O95,IF(S95=0,(O95-P95),\"-\"))","v":"-"},{"$f":"COUNTIF(U95:AD95,\"=TRUE\")","v":0},{"$f":"AE$1-R95","v":5},{"$f":"IF(S95<2,\"Yes\",\"No\")","v":"No"},{"$f":"IF(D95=\"-\",1,0)*U$1","v":1},{"$f":"AND(U95=0,U$1=1)","v":false},{"$f":"IF(F95=\"-\",1,0)*W$1","v":1},{"$f":"AND(W95=0,W$1=1)","v":false},{"$f":"IF(H95=\"-\",1,0)*Y$1","v":1},{"$f":"AND(Y95=0,Y$1=1)","v":false},{"$f":"IF(J95=\"-\",1,0)*AA$1","v":1},{"$f":"AND(AA95=0,AA$1=1)","v":false},{"$f":"IF(L95=\"-\",1,0)*AC$1","v":1},{"$f":"AND(AC95=0,AC$1=1)","v":false}]
[93,null,"-","-",{"$f":"IF(D96=\"-\",0,D96)","v":0},"-",{"$f":"IF(F96=\"-\",0,F96)","v":0},"-",{"$f":"IF(H96=\"-\",0,H96)","v":0},"-",{"$f":"IF(J96=\"-\",0,J96)","v":0},"-",{"$f":"IF(L96=\"-\",0,L96)","v":0},null,{"$f":"E96+G96+I96+K96+M96","v":0},{"$f":"MAX(D96,F96,H96,J96,L96)","v":0},{"$f":"IF(S96=1,O96,IF(S96=0,(O96-P96),\"-\"))","v":"-"},{"$f":"COUNTIF(U96:AD96,\"=TRUE\")","v":0},{"$f":"AE$1-R96","v":5},{"$f":"IF(S96<2,\"Yes\",\"No\")","v":"No"},{"$f":"IF(D96=\"-\",1,0)*U$1","v":1},{"$f":"AND(U96=0,U$1=1)","v":false},{"$f":"IF(F96=\"-\",1,0)*W$1","v":1},{"$f":"AND(W96=0,W$1=1)","v":false},{"$f":"IF(H96=\"-\",1,0)*Y$1","v":1},{"$f":"AND(Y96=0,Y$1=1)","v":false},{"$f":"IF(J96=\"-\",1,0)*AA$1","v":1},{"$f":"AND(AA96=0,AA$1=1)","v":false},{"$f":"IF(L96=\"-\",1,0)*AC$1","v":1},{"$f":"AND(AC96=0,AC$1=1)","v":false}]
[94,null,"-","-",{"$f":"IF(D97=\"-\",0,D97)","v":0},"-",{"$f":"IF(F97=\"-\",0,F97)","v":0},"-",{"$f":"IF(H97=\"-\",0,H97)","v":0},"-",{"$f":"IF(J97=\"-\",0,J97)","v":0},"-",{"$f":"IF(L97=\"-\",0,L97)","v":0},null,{"$f":"E97+G97+I97+K97+M97","v":0},{"$f":"MAX(D97,F97,H97,J97,L97)","v":0},{"$f":"IF(S97=1,O97,IF(S97=0,(O97-P97),\"-\"))","v":"-"},{"$f":"COUNTIF(U97:AD97,\"=TRUE\")","v":0},{"$f":"AE$1-R97","v":5},{"$f":"IF(S97<2,\"Yes\",\"No\")","v":"No"},{"$f":"IF(D97=\"-\",1,0)*U$1","v":1},{"$f":"AND(U97=0,U$1=1)","v":false},{"$f":"IF(F97=\"-\",1,0)*W$1","v":1},{"$f":"AND(W97=0,W$1=1)","v":false},{"$f":"IF(H97=\"-\",1,0)*Y$1","v":1},{"$f":"AND(Y97=0,Y$1=1)","v":false},{"$f":"IF(J97=\"-\",1,0)*AA$1","v":1},{"$f":"AND(AA97=0,AA$1=1)","v":false},{"$f":"IF(L97=\"-\",1,0)*AC$1","v":1},{"$f":"AND(AC97=0,AC$1=1)","v":false}]
[95,null,"-","-",{"$f":"IF(D98=\"-\",0,D98)","v":0},"-",{"$f":"IF(F98=\"-\",0,F98)","v":0},"-",{"$f":"IF(H98=\"-\",0,H98)","v":0},"-",{"$f":"IF(J98=\"-\",0,J98)","v":0},"-",{"$f":"IF(L98=\"-\",0,L98)","v":0},null,{"$f":"E98+G98+I98+K98+M98","v":0},{"$f":"MAX(D98,F98,H98,J98,L98)","v":0},{"$f":"IF(S98=1,O98,IF(S98=0,(O98-P98),\"-\"))","v":"-"},{"$f":"COUNTIF(U98:AD98,\"=TRUE\")","v":0},{"$f":"AE$1-R98","v":5},{"$f":"IF(S98<2,\"Yes\",\"No\")","v":"No"},{"$f":"IF(D98=\"-\",1,0)*U$1","v":1},{"$f":"AND(U98=0,U$1=1)","v":false},{"$f":"IF(F98=\"-\",1,0)*W$1","v":1},{"$f":"AND(W98=0,W$1=1)","v":false},{"$f":"IF(H98=\"-\",1,0)*Y$1","v":1},{"$f":"AND(Y98=0,Y$1=1)","v":false},{"$f":"IF(J98=\"-\",1,0)*AA$1","v":1},{"$f":"AND(AA98=0,AA$1=1)","v":false},{"$f":"IF(L98=\"-\",1,0)*AC$1","v":1},{"$f":"AND(AC98=0,AC$1=1)","v":false}]
[96,null,"-","-",{"$f":"IF(D99=\"-\",0,D99)","v":0},"-",{"$f":"IF(F99=\"-\",0,F99)","v":0},"-",{"$f":"IF(H99=\"-\",0,H99)","v":0},"-",{"$f":"IF(J99=\"-\",0,J99)","v":0},"-",{"$f":"IF(L99=\"-\",0,L99)","v":0},null,{"$f":"E99+G99+I99+K99+M99","v":0},{"$f":"MAX(D99,F99,H99,J99,L99)","v":0},{"$f":"IF(S99=1,O99,IF(S99=0,(O99-P99),\"-\"))","v":"-"},{"$f":"COUNTIF(U99:AD99,\"=TRUE\")","v":0},{"$f":"AE$1-R99","v":5},{"$f":"IF(S99<2,\"Yes\",\"No\")","v":"No"},{"$f":"IF(D99=\"-\",1,0)*U$1","v":1},{"$f":"AND(U99=0,U$1=1)","v":false},{"$f":"IF(F99=\"-\",1,0)*W$1","v":1},{"$f":"AND(W99=0,W$1=1)","v":false},{"$f":"IF(H99=\"-\",1,0)*Y$1","v":1},{"$f":"AND(Y99=0,Y$1=1)","v":false},{"$f":"IF(J99=\"-\",1,0)*AA$1","v":1},{"$f":"AND(AA99=0,AA$1=1)","v":false},{"$f":"IF(L99=\"-\",1,0)*AC$1","v":1},{"$f":"AND(AC99=0,AC$1=1)","v":false}]
[97,null,"-","-",{"$f":"IF(D100=\"-\",0,D100)","v":0},"-",{"$f":"IF(F100=\"-\",0,F100)","v":0},"-",{"$f":"IF(H100=\"-\",0,H100)","v":0},"-",{"$f":"IF(J100=\"-\",0,J100)","v":0},"-",{"$f":"IF(L100=\"-\",0,L100)","v":0},null,{"$f":"E100+G100+I100+K100+M100","v":0},{"$f":"MAX(D100,F100,H100,J100,L100)","v":0},{"$f":"IF(S100=1,O100,IF(S100=0,(O100-P100),\"-\"))","v":"-"},{"$f":"COUNTIF(U100:AD100,\"=TRUE\")","v":0},{"$f":"AE$1-R100","v":5},{"$f":"IF(S100<2,\"Yes\",\"No\")","v":"No"},{"$f":"IF(D100=\"-\",1,0)*U$1","v":1},{"$f":"AND(U100=0,U$1=1)","v":false},{"$f":"IF(F100=\"-\",1,0)*W$1","v":1},{"$f":"AND(W100=0,W$1=1)","v":false},{"$f":"IF(H100=\"-\",1,0)*Y$1","v":1},{"$f":"AND(Y100=0,Y$1=1)","v":false},{"$f":"IF(J100=\"-\",1,0)*AA$1","v":1},{"$f":"AND(AA100=0,AA$1=1)","v":false},{"$f":"IF(L100=\"-\",1,0)*AC$1","v":1},{"$f":"AND(AC100=0,AC$1=1)","v":false}]
[98,null,"-","-",{"$f":"IF(D101=\"-\",0,D101)","v":0},"-",{"$f":"IF(F101=\"-\",0,F101)","v":0},"-",{"$f":"IF(H101=\"-\",0,H101)","v":0},"-",{"$f":"IF(J101=\"-\",0,J101)","v":0},"-",{"$f":"IF(L101=\"-\",0,L101)","v":0},null,{"$f":"E101+G101+I101+K101+M101","v":0},{"$f":"MAX(D101,F101,H101,J101,L101)","v":0},{"$f":"IF(S101=1,O101,IF(S101=0,(O101-P101),\"-\"))","v":"-"},{"$f":"COUNTIF(U101:AD101,\"=TRUE\")","v":0},{"$f":"AE$1-R101","v":5},{"$f":"IF(S101<2,\"Yes\",\"No\")","v":"No"},{"$f":"IF(D101=\"-\",1,0)*U$1","v":1},{"$f":"AND(U101=0,U$1=1)","v":false},{"$f":"IF(F101=\"-\",1,0)*W$1","v":1},{"$f":"AND(W101=0,W$1=1)","v":false},{"$f":"IF(H101=\"-\",1,0)*Y$1","v":1},{"$f":"AND(Y101=0,Y$1=1)","v":false},{"$f":"IF(J101=\"-\",1,0)*AA$1","v":1},{"$f":"AND(AA101=0,AA$1=1)","v":false},{"$f":"IF(L101=\"-\",1,0)*AC$1","v":1},{"$f":"AND(AC101=0,AC$1=1)","v":false}]
[99,null,"-","-",{"$f":"IF(D102=\"-\",0,D102)","v":0},"-",{"$f":"IF(F102=\"-\",0,F102)","v":0},"-",{"$f":"IF(H102=\"-\",0,H102)","v":0},"-",{"$f":"IF(J102=\"-\",0,J102)","v":0},"-",{"$f":"IF(L102=\"-\",0,L102)","v":0},null,{"$f":"E102+G102+I102+K102+M102","v":0},{"$f":"MAX(D102,F102,H102,J102,L102)","v":0},{"$f":"IF(S102=1,O102,IF(S102=0,(O102-P102),\"-\"))","v":"-"},{"$f":"COUNTIF(U102:AD102,\"=TRUE\")","v":0},{"$f":"AE$1-R102","v":5},{"$f":"IF(S102<2,\"Yes\",\"No\")","v":"No"},{"$f":"IF(D102=\"-\",1,0)*U$1","v":1},{"$f":"AND(U102=0,U$1=1)","v":false},{"$f":"IF(F102=\"-\",1,0)*W$1","v":1},{"$f":"AND(W102=0,W$1=1)","v":false},{"$f":"IF(H102=\"-\",1,0)*Y$1","v":1},{"$f":"AND(Y102=0,Y$1=1)","v":false},{"$f":"IF(J102=\"-\",1,0)*AA$1","v":1},{"$f":"AND(AA102=0,AA$1=1)","v":false},{"$f":"IF(L102=\"-\",1,0)*AC$1","v":1},{"$f":"AND(AC102=0,AC$1=1)","v":false}]
[100,null,"-","-",{"$f":"IF(D103=\"-\",0,D103)","v":0},"-",{"$f":"IF(F103=\"-\",0,F103)","v":0},"-",{"$f":"IF(H103=\"-\",0,H103)","v":0},"-",{"$f":"IF(J103=\"-\",0,J103)","v":0},"-",{"$f":"IF(L103=\"-\",0,L103)","v":0},null,{"$f":"E103+G103+I103+K103+M103","v":0},{"$f":"MAX(D103,F103,H103,J103,L103)","v":0},{"$f":"IF(S103=1,O103,IF(S103=0,(O103-P103),\"-\"))","v":"-"},{"$f":"COUNTIF(U103:AD103,\"=TRUE\")","v":0},{"$f":"AE$1-R103","v":5},{"$f":"IF(S103<2,\"Yes\",\"No\")","v":"No"},{"$f":"IF(D103=\"-\",1,0)*U$1","v":1},{"$f":"AND(U103=0,U$1=1)","v":false},{"$f":"IF(F103=\"-\",1,0)*W$1","v":1},{"$f":"AND(W103=0,W$1=1)","v":false},{"$f":"IF(H103=\"-\",1,0)*Y$1","v":1},{"$f":"AND(Y103=0,Y$1=1)","v":false},{"$f":"IF(J103=\"-\",1,0)*AA$1","v":1},{"$f":"AND(AA103=0,AA$1=1)","v":false},{"$f":"IF(L103=\"-\",1,0)*AC$1","v":1},{"$f":"AND(AC103=0,AC$1=1)","v":false}]
[101,null,"-","-",{"$f":"IF(D104=\"-\",0,D104)","v":0},"-",{"$f":"IF(F104=\"-\",0,F104)","v":0},"-",{"$f":"IF(H104=\"-\",0,H104)","v":0},"-",{"$f":"IF(J104=\"-\",0,J104)","v":0},"-",{"$f":"IF(L104=\"-\",0,L104)","v":0},null,{"$f":"E104+G104+I104+K104+M104","v":0},{"$f":"MAX(D104,F104,H104,J104,L104)","v":0},{"$f":"IF(S104=1,O104,IF(S104=0,(O104-P104),\"-\"))","v":"-"},{"$f":"COUNTIF(U104:AD104,\"=TRUE\")","v":0},{"$f":"AE$1-R104","v":5},{"$f":"IF(S104<2,\"Yes\",\"No\")","v":"No"},{"$f":"IF(D104=\"-\",1,0)*U$1","v":1},{"$f":"AND(U104=0,U$1=1)","v":false},{"$f":"IF(F104=\"-\",1,0)*W$1","v":1},{"$f":"AND(W104=0,W$1=1)","v":false},{"$f":"IF(H104=\"-\",1,0)*Y$1","v":1},{"$f":"AND(Y104=0,Y$1=1)","v":false},{"$f":"IF(J104=\"-\",1,0)*AA$1","v":1},{"$f":"AND(AA104=0,AA$1=1)","v":false},{"$f":"IF(L104=\"-\",1,0)*AC$1","v":1},{"$f":"AND(AC104=0,AC$1=1)","v":false}]
[102,null,"-","-",{"$f":"IF(D105=\"-\",0,D105)","v":0},"-",{"$f":"IF(F105=\"-\",0,F105)","v":0},"-",{"$f":"IF(H105=\"-\",0,H105)","v":0},"-",{"$f":"IF(J105=\"-\",0,J105)","v":0},"-",{"$f":"IF(L105=\"-\",0,L105)","v":0},null,{"$f":"E105+G105+I105+K105+M105","v":0},{"$f":"MAX(D105,F105,H105,J105,L105)","v":0},{"$f":"IF(S105=1,O105,IF(S105=0,(O105-P105),\"-\"))","v":"-"},{"$f":"COUNTIF(U105:AD105,\"=TRUE\")","v":0},{"$f":"AE$1-R105","v":5},{"$f":"IF(S105<2,\"Yes\",\"No\")","v":"No"},{"$f":"IF(D105=\"-\",1,0)*U$1","v":1},{"$f":"AND(U105=0,U$1=1)","v":false},{"$f":"IF(F105=\"-\",1,0)*W$1","v":1},{"$f":"AND(W105=0,W$1=1)","v":false},{"$f":"IF(H105=\"-\",1,0)*Y$1","v":1},{"$f":"AND(Y105=0,Y$1=1)","v":false},{"$f":"IF(J105=\"-\",1,0)*AA$1","v":1},{"$f":"AND(AA105=0,AA$1=1)","v":false},{"$f":"IF(L105=\"-\",1,0)*AC$1","v":1},{"$f":"AND(AC105=0,AC$1=1)","v":false}]
[103,null,"-","-",{"$f":"IF(D106=\"-\",0,D106)","v":0},"-",{"$f":"IF(F106=\"-\",0,F106)","v":0},"-",{"$f":"IF(H106=\"-\",0,H106)","v":0},"-",{"$f":"IF(J106=\"-\",0,J106)","v":0},"-",{"$f":"IF(L106=\"-\",0,L106)","v":0},null,{"$f":"E106+G106+I106+K106+M106","v":0},{"$f":"MAX(D106,F106,H106,J106,L106)","v":0},{"$f":"IF(S106=1,O106,IF(S106=0,(O106-P106),\"-\"))","v":"-"},{"$f":"COUNTIF(U106:AD106,\"=TRUE\")","v":0},{"$f":"AE$1-R106","v":5},{"$f":"IF(S106<2,\"Yes\",\"No\")","v":"No"},{"$f":"IF(D106=\"-\",1,0)*U$1","v":1},{"$f":"AND(U106=0,U$1=1)","v":false},{"$f":"IF(F106=\"-\",1,0)*W$1","v":1},{"$f":"AND(W106=0,W$1=1)","v":false},{"$f":"IF(H106=\"-\",1,0)*Y$1","v":1},{"$f":"AND(Y106=0,Y$1=1)","v":false},{"$f":"IF(J106=\"-\",1,0)*AA$1","v":1},{"$f":"AND(AA106=0,AA$1=1)","v":false},{"$f":"IF(L106=\"-\",1,0)*AC$1","v":1},{"$f":"AND(AC106=0,AC$1=1)","v":false}]
[104,null,"-","-",{"$f":"IF(D107=\"-\",0,D107)","v":0},"-",{"$f":"IF(F107=\"-\",0,F107)","v":0},"-",{"$f":"IF(H107=\"-\",0,H107)","v":0},"-",{"$f":"IF(J107=\"-\",0,J107)","v":0},"-",{"$f":"IF(L107=\"-\",0,L107)","v":0},null,{"$f":"E107+G107+I107+K107+M107","v":0},{"$f":"MAX(D107,F107,H107,J107,L107)","v":0},{"$f":"IF(S107=1,O107,IF(S107=0,(O107-P107),\"-\"))","v":"-"},{"$f":"COUNTIF(U107:AD107,\"=TRUE\")","v":0},{"$f":"AE$1-R107","v":5},{"$f":"IF(S107<2,\"Yes\",\"No\")","v":"No"},{"$f":"IF(D107=\"-\",1,0)*U$1","v":1},{"$f":"AND(U107=0,U$1=1)","v":false},{"$f":"IF(F107=\"-\",1,0)*W$1","v":1},{"$f":"AND(W107=0,W$1=1)","v":false},{"$f":"IF(H107=\"-\",1,0)*Y$1","v":1},{"$f":"AND(Y107=0,Y$1=1)","v":false},{"$f":"IF(J107=\"-\",1,0)*AA$1","v":1},{"$f":"AND(AA107=0,AA$1=1)","v":false},{"$f":"IF(L107=\"-\",1,0)*AC$1","v":1},{"$f":"AND(AC107=0,AC$1=1)","v":false}]
[105,null,"-","-",{"$f":"IF(D108=\"-\",0,D108)","v":0},"-",{"$f":"IF(F108=\"-\",0,F108)","v":0},"-",{"$f":"IF(H108=\"-\",0,H108)","v":0},"-",{"$f":"IF(J108=\"-\",0,J108)","v":0},"-",{"$f":"IF(L108=\"-\",0,L108)","v":0},null,{"$f":"E108+G108+I108+K108+M108","v":0},{"$f":"MAX(D108,F108,H108,J108,L108)","v":0},{"$f":"IF(S108=1,O108,IF(S108=0,(O108-P108),\"-\"))","v":"-"},{"$f":"COUNTIF(U108:AD108,\"=TRUE\")","v":0},{"$f":"AE$1-R108","v":5},{"$f":"IF(S108<2,\"Yes\",\"No\")","v":"No"},{"$f":"IF(D108=\"-\",1,0)*U$1","v":1},{"$f":"AND(U108=0,U$1=1)","v":false},{"$f":"IF(F108=\"-\",1,0)*W$1","v":1},{"$f":"AND(W108=0,W$1=1)","v":false},{"$f":"IF(H108=\"-\",1,0)*Y$1","v":1},{"$f":"AND(Y108=0,Y$1=1)","v":false},{"$f":"IF(J108=\"-\",1,0)*AA$1","v":1},{"$f":"AND(AA108=0,AA$1=1)","v":false},{"$f":"IF(L108=\"-\",1,0)*AC$1","v":1},{"$f":"AND(AC108=0,AC$1=1)","v":false}]
[106,null,"-","-",{"$f":"IF(D109=\"-\",0,D109)","v":0},"-",{"$f":"IF(F109=\"-\",0,F109)","v":0},"-",{"$f":"IF(H109=\"-\",0,H109)","v":0},"-",{"$f":"IF(J109=\"-\",0,J109)","v":0},"-",{"$f":"IF(L109=\"-\",0,L109)","v":0},null,{"$f":"E109+G109+I109+K109+M109","v":0},{"$f":"MAX(D109,F109,H109,J109,L109)","v":0},{"$f":"IF(S109=1,O109,IF(S109=0,(O109-P109),\"-\"))","v":"-"},{"$f":"COUNTIF(U109:AD109,\"=TRUE\")","v":0},{"$f":"AE$1-R109","v":5},{"$f":"IF(S109<2,\"Yes\",\"No\")","v":"No"},{"$f":"IF(D109=\"-\",1,0)*U$1","v":1},{"$f":"AND(U109=0,U$1=1)","v":false},{"$f":"IF(F109=\"-\",1,0)*W$1","v":1},{"$f":"AND(W109=0,W$1=1)","v":false},{"$f":"IF(H109=\"-\",1,0)*Y$1","v":1},{"$f":"AND(Y109=0,Y$1=1)","v":false},{"$f":"IF(J109=\"-\",1,0)*AA$1","v":1},{"$f":"AND(AA109=0,AA$1=1)","v":false},{"$f":"IF(L109=\"-\",1,0)*AC$1","v":1},{"$f":"AND(AC109=0,AC$1=1)","v":false}]
[107,null,"-","-",{"$f":"IF(D110=\"-\",0,D110)","v":0},"-",{"$f":"IF(F110=\"-\",0,F110)","v":0},"-",{"$f":"IF(H110=\"-\",0,H110)","v":0},"-",{"$f":"IF(J110=\"-\",0,J110)","v":0},"-",{"$f":"IF(L110=\"-\",0,L110)","v":0},null,{"$f":"E110+G110+I110+K110+M110","v":0},{"$f":"MAX(D110,F110,H110,J110,L110)","v":0},{"$f":"IF(S110=1,O110,IF(S110=0,(O110-P110),\"-\"))","v":"-"},{"$f":"COUNTIF(U110:AD110,\"=TRUE\")","v":0},{"$f":"AE$1-R110","v":5},{"$f":"IF(S110<2,\"Yes\",\"No\")","v":"No"},{"$f":"IF(D110=\"-\",1,0)*U$1","v":1},{"$f":"AND(U110=0,U$1=1)","v":false},{"$f":"IF(F110=\"-\",1,0)*W$1","v":1},{"$f":"AND(W110=0,W$1=1)","v":false},{"$f":"IF(H110=\"-\",1,0)*Y$1","v":1},{"$f":"AND(Y110=0,Y$1=1)","v":false},{"$f":"IF(J110=\"-\",1,0)*AA$1","v":1},{"$f":"AND(AA110=0,AA$1=1)","v":false},{"$f":"IF(L110=\"-\",1,0)*AC$1","v":1},{"$f":"AND(AC110=0,AC$1=1)","v":false}]
[108,null,"-","-",{"$f":"IF(D111=\"-\",0,D111)","v":0},"-",{"$f":"IF(F111=\"-\",0,F111)","v":0},"-",{"$f":"IF(H111=\"-\",0,H111)","v":0},"-",{"$f":"IF(J111=\"-\",0,J111)","v":0},"-",{"$f":"IF(L111=\"-\",0,L111)","v":0},null,{"$f":"E111+G111+I111+K111+M111","v":0},{"$f":"MAX(D111,F111,H111,J111,L111)","v":0},{"$f":"IF(S111=1,O111,IF(S111=0,(O111-P111),\"-\"))","v":"-"},{"$f":"COUNTIF(U111:AD111,\"=TRUE\")","v":0},{"$f":"AE$1-R111","v":5},{"$f":"IF(S111<2,\"Yes\",\"No\")","v":"No"},{"$f":"IF(D111=\"-\",1,0)*U$1","v":1},{"$f":"AND(U111=0,U$1=1)","v":false},{"$f":"IF(F111=\"-\",1,0)*W$1","v":1},{"$f":"AND(W111=0,W$1=1)","v":false},{"$f":"IF(H111=\"-\",1,0)*Y$1","v":1},{"$f":"AND(Y111=0,Y$1=1)","v":false},{"$f":"IF(J111=\"-\",1,0)*AA$1","v":1},{"$f":"AND(AA111=0,AA$1=1)","v":false},{"$f":"IF(L111=\"-\",1,0)*AC$1","v":1},{"$f":"AND(AC111=0,AC$1=1)","v":false}]
[109,null,"-","-",{"$f":"IF(D112=\"-\",0,D112)","v":0},"-",{"$f":"IF(F112=\"-\",0,F112)","v":0},"-",{"$f":"IF(H112=\"-\",0,H112)","v":0},"-",{"$f":"IF(J112=\"-\",0,J112)","v":0},"-",{"$f":"IF(L112=\"-\",0,L112)","v":0},null,{"$f":"E112+G112+I112+K112+M112","v":0},{"$f":"MAX(D112,F112,H112,J112,L112)","v":0},{"$f":"IF(S112=1,O112,IF(S112=0,(O112-P112),\"-\"))","v":"-"},{"$f":"COUNTIF(U112:AD112,\"=TRUE\")","v":0},{"$f":"AE$1-R112","v":5},{"$f":"IF(S112<2,\"Yes\",\"No\")","v":"No"},{"$f":"IF(D112=\"-\",1,0)*U$1","v":1},{"$f":"AND(U112=0,U$1=1)","v":false},{"$f":"IF(F112=\"-\",1,0)*W$1","v":1},{"$f":"AND(W112=0,W$1=1)","v":false},{"$f":"IF(H112=\"-\",1,0)*Y$1","v":1},{"$f":"AND(Y112=0,Y$1=1)","v":false},{"$f":"IF(J112=\"-\",1,0)*AA$1","v":1},{"$f":"AND(AA112=0,AA$1=1)","v":false},{"$f":"IF(L112=\"-\",1,0)*AC$1","v":1},{"$f":"AND(AC112=0,AC$1=1)","v":false}]
[110,null,"-","-",{"$f":"IF(D113=\"-\",0,D113)","v":0},"-",{"$f":"IF(F113=\"-\",0,F113)","v":0},"-",{"$f":"IF(H113=\"-\",0,H113)","v":0},"-",{"$f":"IF(J113=\"-\",0,J113)","v":0},"-",{"$f":"IF(L113=\"-\",0,L113)","v":0},null,{"$f":"E113+G113+I113+K113+M113","v":0},{"$f":"MAX(D113,F113,H113,J113,L113)","v":0},{"$f":"IF(S113=1,O113,IF(S113=0,(O113-P113),\"-\"))","v":"-"},{"$f":"COUNTIF(U113:AD113,\"=TRUE\")","v":0},{"$f":"AE$1-R113","v":5},{"$f":"IF(S113<2,\"Yes\",\"No\")","v":"No"},{"$f":"IF(D113=\"-\",1,0)*U$1","v":1},{"$f":"AND(U113=0,U$1=1)","v":false},{"$f":"IF(F113=\"-\",1,0)*W$1","v":1},{"$f":"AND(W113=0,W$1=1)","v":false},{"$f":"IF(H113=\"-\",1,0)*Y$1","v":1},{"$f":"AND(Y113=0,Y$1=1)","v":false},{"$f":"IF(J113=\"-\",1,0)*AA$1","v":1},{"$f":"AND(AA113=0,AA$1=1)","v":false},{"$f":"IF(L113=\"-\",1,0)*AC$1","v":1},{"$f":"AND(AC113=0,AC$1=1)","v":false}]
[111,null,"-","-",{"$f":"IF(D114=\"-\",0,D114)","v":0},"-",{"$f":"IF(F114=\"-\",0,F114)","v":0},"-",{"$f":"IF(H114=\"-\",0,H114)","v":0},"-",{"$f":"IF(J114=\"-\",0,J114)","v":0},"-",{"$f":"IF(L114=\"-\",0,L114)","v":0},null,{"$f":"E114+G114+I114+K114+M114","v":0},{"$f":"MAX(D114,F114,H114,J114,L114)","v":0},{"$f":"IF(S114=1,O114,IF(S114=0,(O114-P114),\"-\"))","v":"-"},{"$f":"COUNTIF(U114:AD114,\"=TRUE\")","v":0},{"$f":"AE$1-R114","v":5},{"$f":"IF(S114<2,\"Yes\",\"No\")","v":"No"},{"$f":"IF(D114=\"-\",1,0)*U$1","v":1},{"$f":"AND(U114=0,U$1=1)","v":false},{"$f":"IF(F114=\"-\",1,0)*W$1","v":1},{"$f":"AND(W114=0,W$1=1)","v":false},{"$f":"IF(H114=\"-\",1,0)*Y$1","v":1},{"$f":"AND(Y114=0,Y$1=1)","v":false},{"$f":"IF(J114=\"-\",1,0)*AA$1","v":1},{"$f":"AND(AA114=0,AA$1=1)","v":false},{"$f":"IF(L114=\"-\",1,0)*AC$1","v":1},{"$f":"AND(AC114=0,AC$1=1)","v":false}]
[112,null,"-","-",{"$f":"IF(D115=\"-\",0,D115)","v":0},"-",{"$f":"IF(F115=\"-\",0,F115)","v":0},"-",{"$f":"IF(H115=\"-\",0,H115)","v":0},"-",{"$f":"IF(J115=\"-\",0,J115)","v":0},"-",{"$f":"IF(L115=\"-\",0,L115)","v":0},null,{"$f":"E115+G115+I115+K115+M115","v":0},{"$f":"MAX(D115,F115,H115,J115,L115)","v":0},{"$f":"IF(S115=1,O115,IF(S115=0,(O115-P115),\"-\"))","v":"-"},{"$f":"COUNTIF(U115:AD115,\"=TRUE\")","v":0},{"$f":"AE$1-R115","v":5},{"$f":"IF(S115<2,\"Yes\",\"No\")","v":"No"},{"$f":"IF(D115=\"-\",1,0)*U$1","v":1},{"$f":"AND(U115=0,U$1=1)","v":false},{"$f":"IF(F115=\"-\",1,0)*W$1","v":1},{"$f":"AND(W115=0,W$1=1)","v":false},{"$f":"IF(H115=\"-\",1,0)*Y$1","v":1},{"$f":"AND(Y115=0,Y$1=1)","v":false},{"$f":"IF(J115=\"-\",1,0)*AA$1","v":1},{"$f":"AND(AA115=0,AA$1=1)","v":false},{"$f":"IF(L115=\"-\",1,0)*AC$1","v":1},{"$f":"AND(AC115=0,AC$1=1)","v":false}]
[113,null,"-","-",{"$f":"IF(D116=\"-\",0,D116)","v":0},"-",{"$f":"IF(F116=\"-\",0,F116)","v":0},"-",{"$f":"IF(H116=\"-\",0,H116)","v":0},"-",{"$f":"IF(J116=\"-\",0,J116)","v":0},"-",{"$f":"IF(L116=\"-\",0,L116)","v":0},null,{"$f":"E116+G116+I116+K116+M116","v":0},{"$f":"MAX(D116,F116,H116,J116,L116)","v":0},{"$f":"IF(S116=1,O116,IF(S116=0,(O116-P116),\"-\"))","v":"-"},{"$f":"COUNTIF(U116:AD116,\"=TRUE\")","v":0},{"$f":"AE$1-R116","v":5},{"$f":"IF(S116<2,\"Yes\",\"No\")","v":"No"},{"$f":"IF(D116=\"-\",1,0)*U$1","v":1},{"$f":"AND(U116=0,U$1=1)","v":false},{"$f":"IF(F116=\"-\",1,0)*W$1","v":1},{"$f":"AND(W116=0,W$1=1)","v":false},{"$f":"IF(H116=\"-\",1,0)*Y$1","v":1},{"$f":"AND(Y116=0,Y$1=1)","v":false},{"$f":"IF(J116=\"-\",1,0)*AA$1","v":1},{"$f":"AND(AA116=0,AA$1=1)","v":false},{"$f":"IF(L116=\"-\",1,0)*AC$1","v":1},{"$f":"AND(AC116=0,AC$1=1)","v":false}]
[114,null,"-","-",{"$f":"IF(D117=\"-\",0,D117)","v":0},"-",{"$f":"IF(F117=\"-\",0,F117)","v":0},"-",{"$f":"IF(H117=\"-\",0,H117)","v":0},"-",{"$f":"IF(J117=\"-\",0,J117)","v":0},"-",{"$f":"IF(L117=\"-\",0,L117)","v":0},null,{"$f":"E117+G117+I117+K117+M117","v":0},{"$f":"MAX(D117,F117,H117,J117,L117)","v":0},{"$f":"IF(S117=1,O117,IF(S117=0,(O117-P117),\"-\"))","v":"-"},{"$f":"COUNTIF(U117:AD117,\"=TRUE\")","v":0},{"$f":"AE$1-R117","v":5},{"$f":"IF(S117<2,\"Yes\",\"No\")","v":"No"},{"$f":"IF(D117=\"-\",1,0)*U$1","v":1},{"$f":"AND(U117=0,U$1=1)","v":false},{"$f":"IF(F117=\"-\",1,0)*W$1","v":1},{"$f":"AND(W117=0,W$1=1)","v":false},{"$f":"IF(H117=\"-\",1,0)*Y$1","v":1},{"$f":"AND(Y117=0,Y$1=1)","v":false},{"$f":"IF(J117=\"-\",1,0)*AA$1","v":1},{"$f":"AND(AA117=0,AA$1=1)","v":false},{"$f":"IF(L117=\"-\",1,0)*AC$1","v":1},{"$f":"AND(AC117=0,AC$1=1)","v":false}]
[115,null,"-","-",{"$f":"IF(D118=\"-\",0,D118)","v":0},"-",{"$f":"IF(F118=\"-\",0,F118)","v":0},"-",{"$f":"IF(H118=\"-\",0,H118)","v":0},"-",{"$f":"IF(J118=\"-\",0,J118)","v":0},"-",{"$f":"IF(L118=\"-\",0,L118)","v":0},null,{"$f":"E118+G118+I118+K118+M118","v":0},{"$f":"MAX(D118,F118,H118,J118,L118)","v":0},{"$f":"IF(S118=1,O118,IF(S118=0,(O118-P118),\"-\"))","v":"-"},{"$f":"COUNTIF(U118:AD118,\"=TRUE\")","v":0},{"$f":"AE$1-R118","v":5},{"$f":"IF(S118<2,\"Yes\",\"No\")","v":"No"},{"$f":"IF(D118=\"-\",1,0)*U$1","v":1},{"$f":"AND(U118=0,U$1=1)","v":false},{"$f":"IF(F118=\"-\",1,0)*W$1","v":1},{"$f":"AND(W118=0,W$1=1)","v":false},{"$f":"IF(H118=\"-\",1,0)*Y$1","v":1},{"$f":"AND(Y118=0,Y$1=1)","v":false},{"$f":"IF(J118=\"-\",1,0)*AA$1","v":1},{"$f":"AND(AA118=0,AA$1=1)","v":false},{"$f":"IF(L118=\"-\",1,0)*AC$1","v":1},{"$f":"AND(AC118=0,AC$1=1)","v":false}]
[116,null,"-","-",{"$f":"IF(D119=\"-\",0,D119)","v":0},"-",{"$f":"IF(F119=\"-\",0,F119)","v":0},"-",{"$f":"IF(H119=\"-\",0,H119)","v":0},"-",{"$f":"IF(J119=\"-\",0,J119)","v":0},"-",{"$f":"IF(L119=\"-\",0,L119)","v":0},null,{"$f":"E119+G119+I119+K119+M119","v":0},{"$f":"MAX(D119,F119,H119,J119,L119)","v":0},{"$f":"IF(S119=1,O119,IF(S119=0,(O119-P119),\"-\"))","v":"-"},{"$f":"COUNTIF(U119:AD119,\"=TRUE\")","v":0},{"$f":"AE$1-R119","v":5},{"$f":"IF(S119<2,\"Yes\",\"No\")","v":"No"},{"$f":"IF(D119=\"-\",1,0)*U$1","v":1},{"$f":"AND(U119=0,U$1=1)","v":false},{"$f":"IF(F119=\"-\",1,0)*W$1","v":1},{"$f":"AND(W119=0,W$1=1)","v":false},{"$f":"IF(H119=\"-\",1,0)*Y$1","v":1},{"$f":"AND(Y119=0,Y$1=1)","v":false},{"$f":"IF(J119=\"-\",1,0)*AA$1","v":1},{"$f":"AND(AA119=0,AA$1=1)","v":false},{"$f":"IF(L119=\"-\",1,0)*AC$1","v":1},{"$f":"AND(AC119=0,AC$1=1)","v":false}]
[117,null,"-","-",{"$f":"IF(D120=\"-\",0,D120)","v":0},"-",{"$f":"IF(F120=\"-\",0,F120)","v":0},"-",{"$f":"IF(H120=\"-\",0,H120)","v":0},"-",{"$f":"IF(J120=\"-\",0,J120)","v":0},"-",{"$f":"IF(L120=\"-\",0,L120)","v":0},null,{"$f":"E120+G120+I120+K120+M120","v":0},{"$f":"MAX(D120,F120,H120,J120,L120)","v":0},{"$f":"IF(S120=1,O120,IF(S120=0,(O120-P120),\"-\"))","v":"-"},{"$f":"COUNTIF(U120:AD120,\"=TRUE\")","v":0},{"$f":"AE$1-R120","v":5},{"$f":"IF(S120<2,\"Yes\",\"No\")","v":"No"},{"$f":"IF(D120=\"-\",1,0)*U$1","v":1},{"$f":"AND(U120=0,U$1=1)","v":false},{"$f":"IF(F120=\"-\",1,0)*W$1","v":1},{"$f":"AND(W120=0,W$1=1)","v":false},{"$f":"IF(H120=\"-\",1,0)*Y$1","v":1},{"$f":"AND(Y120=0,Y$1=1)","v":false},{"$f":"IF(J120=\"-\",1,0)*AA$1","v":1},{"$f":"AND(AA120=0,AA$1=1)","v":false},{"$f":"IF(L120=\"-\",1,0)*AC$1","v":1},{"$f":"AND(AC120=0,AC$1=1)","v":false}]
[118,null,"-","-",{"$f":"IF(D121=\"-\",0,D121)","v":0},"-",{"$f":"IF(F121=\"-\",0,F121)","v":0},"-",{"$f":"IF(H121=\"-\",0,H121)","v":0},"-",{"$f":"IF(J121=\"-\",0,J121)","v":0},"-",{"$f":"IF(L121=\"-\",0,L121)","v":0},null,{"$f":"E121+G121+I121+K121+M121","v":0},{"$f":"MAX(D121,F121,H121,J121,L121)","v":0},{"$f":"IF(S121=1,O121,IF(S121=0,(O121-P121),\"-\"))","v":"-"},{"$f":"COUNTIF(U121:AD121,\"=TRUE\")","v":0},{"$f":"AE$1-R121","v":5},{"$f":"IF(S121<2,\"Yes\",\"No\")","v":"No"},{"$f":"IF(D121=\"-\",1,0)*U$1","v":1},{"$f":"AND(U121=0,U$1=1)","v":false},{"$f":"IF(F121=\"-\",1,0)*W$1","v":1},{"$f":"AND(W121=0,W$1=1)","v":false},{"$f":"IF(H121=\"-\",1,0)*Y$1","v":1},{"$f":"AND(Y121=0,Y$1=1)","v":false},{"$f":"IF(J121=\"-\",1,0)*AA$1","v":1},{"$f":"AND(AA121=0,AA$1=1)","v":false},{"$f":"IF(L121=\"-\",1,0)*AC$1","v":1},{"$f":"AND(AC121=0,AC$1=1)","v":false}]
[119,null,"-","-",{"$f":"IF(D122=\"-\",0,D122)","v":0},"-",{"$f":"IF(F122=\"-\",0,F122)","v":0},"-",{"$f":"IF(H122=\"-\",0,H122)","v":0},"-",{"$f":"IF(J122=\"-\",0,J122)","v":0},"-",{"$f":"IF(L122=\"-\",0,L122)","v":0},null,{"$f":"E122+G122+I122+K122+M122","v":0},{"$f":"MAX(D122,F122,H122,J122,L122)","v":0},{"$f":"IF(S122=1,O122,IF(S122=0,(O122-P122),\"-\"))","v":"-"},{"$f":"COUNTIF(U122:AD122,\"=TRUE\")","v":0},{"$f":"AE$1-R122","v":5},{"$f":"IF(S122<2,\"Yes\",\"No\")","v":"No"},{"$f":"IF(D122=\"-\",1,0)*U$1","v":1},{"$f":"AND(U122=0,U$1=1)","v":false},{"$f":"IF(F122=\"-\",1,0)*W$1","v":1},{"$f":"AND(W122=0,W$1=1)","v":false},{"$f":"IF(H122=\"-\",1,0)*Y$1","v":1},{"$f":"AND(Y122=0,Y$1=1)","v":false},{"$f":"IF(J122=\"-\",1,0)*AA$1","v":1},{"$f":"AND(AA122=0,AA$1=1)","v":false},{"$f":"IF(L122=\"-\",1,0)*AC$1","v":1},{"$f":"AND(AC122=0,AC$1=1)","v":false}]
[120,null,"-","-",{"$f":"IF(D123=\"-\",0,D123)","v":0},"-",{"$f":"IF(F123=\"-\",0,F123)","v":0},"-",{"$f":"IF(H123=\"-\",0,H123)","v":0},"-",{"$f":"IF(J123=\"-\",0,J123)","v":0},"-",{"$f":"IF(L123=\"-\",0,L123)","v":0},null,{"$f":"E123+G123+I123+K123+M123","v":0},{"$f":"MAX(D123,F123,H123,J123,L123)","v":0},{"$f":"IF(S123=1,O123,IF(S123=0,(O123-P123),\"-\"))","v":"-"},{"$f":"COUNTIF(U123:AD123,\"=TRUE\")","v":0},{"$f":"AE$1-R123","v":5},{"$f":"IF(S123<2,\"Yes\",\"No\")","v":"No"},{"$f":"IF(D123=\"-\",1,0)*U$1","v":1},{"$f":"AND(U123=0,U$1=1)","v":false},{"$f":"IF(F123=\"-\",1,0)*W$1","v":1},{"$f":"AND(W123=0,W$1=1)","v":false},{"$f":"IF(H123=\"-\",1,0)*Y$1","v":1},{"$f":"AND(Y123=0,Y$1=1)","v":false},{"$f":"IF(J123=\"-\",1,0)*AA$1","v":1},{"$f":"AND(AA123=0,AA$1=1)","v":false},{"$f":"IF(L123=\"-\",1,0)*AC$1","v":1},{"$f":"AND(AC123=0,AC$1=1)","v":false}]
[121,null,"-","-",{"$f":"IF(D124=\"-\",0,D124)","v":0},"-",{"$f":"IF(F124=\"-\",0,F124)","v":0},"-",{"$f":"IF(H124=\"-\",0,H124)","v":0},"-",{"$f":"IF(J124=\"-\",0,J124)","v":0},"-",{"$f":"IF(L124=\"-\",0,L124)","v":0},null,{"$f":"E124+G124+I124+K124+M124","v":0},{"$f":"MAX(D124,F124,H124,J124,L124)","v":0},{"$f":"IF(S124=1,O124,IF(S124=0,(O124-P124),\"-\"))","v":"-"},{"$f":"COUNTIF(U124:AD124,\"=TRUE\")","v":0},{"$f":"AE$1-R124","v":5},{"$f":"IF(S124<2,\"Yes\",\"No\")","v":"No"},{"$f":"IF(D124=\"-\",1,0)*U$1","v":1},{"$f":"AND(U124=0,U$1=1)","v":false},{"$f":"IF(F124=\"-\",1,0)*W$1","v":1},{"$f":"AND(W124=0,W$1=1)","v":false},{"$f":"IF(H124=\"-\",1,0)*Y$1","v":1},{"$f":"AND(Y124=0,Y$1=1)","v":false},{"$f":"IF(J124=\"-\",1,0)*AA$1","v":1},{"$f":"AND(AA124=0,AA$1=1)","v":false},{"$f":"IF(L124=\"-\",1,0)*AC$1","v":1},{"$f":"AND(AC124=0,AC$1=1)","v":false}]
[122,null,"-","-",{"$f":"IF(D125=\"-\",0,D125)","v":0},"-",{"$f":"IF(F125=\"-\",0,F125)","v":0},"-",{"$f":"IF(H125=\"-\",0,H125)","v":0},"-",{"$f":"IF(J125=\"-\",0,J125)","v":0},"-",{"$f":"IF(L125=\"-\",0,L125)","v":0},null,{"$f":"E125+G125+I125+K125+M125","v":0},{"$f":"MAX(D125,F125,H125,J125,L125)","v":0},{"$f":"IF(S125=1,O125,IF(S125=0,(O125-P125),\"-\"))","v":"-"},{"$f":"COUNTIF(U125:AD125,\"=TRUE\")","v":0},{"$f":"AE$1-R125","v":5},{"$f":"IF(S125<2,\"Yes\",\"No\")","v":"No"},{"$f":"IF(D125=\"-\",1,0)*U$1","v":1},{"$f":"AND(U125=0,U$1=1)","v":false},{"$f":"IF(F125=\"-\",1,0)*W$1","v":1},{"$f":"AND(W125=0,W$1=1)","v":false},{"$f":"IF(H125=\"-\",1,0)*Y$1","v":1},{"$f":"AND(Y125=0,Y$1=1)","v":false},{"$f":"IF(J125=\"-\",1,0)*AA$1","v":1},{"$f":"AND(AA125=0,AA$1=1)","v":false},{"$f":"IF(L125=\"-\",1,0)*AC$1","v":1},{"$f":"AND(AC125=0,AC$1=1)","v":false}]
[123,null,"-","-",{"$f":"IF(D126=\"-\",0,D126)","v":0},"-",{"$f":"IF(F126=\"-\",0,F126)","v":0},"-",{"$f":"IF(H126=\"-\",0,H126)","v":0},"-",{"$f":"IF(J126=\"-\",0,J126)","v":0},"-",{"$f":"IF(L126=\"-\",0,L126)","v":0},null,{"$f":"E126+G126+I126+K126+M126","v":0},{"$f":"MAX(D126,F126,H126,J126,L126)","v":0},{"$f":"IF(S126=1,O126,IF(S126=0,(O126-P126),\"-\"))","v":"-"},{"$f":"COUNTIF(U126:AD126,\"=TRUE\")","v":0},{"$f":"AE$1-R126","v":5},{"$f":"IF(S126<2,\"Yes\",\"No\")","v":"No"},{"$f":"IF(D126=\"-\",1,0)*U$1","v":1},{"$f":"AND(U126=0,U$1=1)","v":false},{"$f":"IF(F126=\"-\",1,0)*W$1","v":1},{"$f":"AND(W126=0,W$1=1)","v":false},{"$f":"IF(H126=\"-\",1,0)*Y$1","v":1},{"$f":"AND(Y126=0,Y$1=1)","v":false},{"$f":"IF(J126=\"-\",1,0)*AA$1","v":1},{"$f":"AND(AA126=0,AA$1=1)","v":false},{"$f":"IF(L126=\"-\",1,0)*AC$1","v":1},{"$f":"AND(AC126=0,AC$1=1)","v":false}]
[124,null,"-","-",{"$f":"IF(D127=\"-\",0,D127)","v":0},"-",{"$f":"IF(F127=\"-\",0,F127)","v":0},"-",{"$f":"IF(H127=\"-\",0,H127)","v":0},"-",{"$f":"IF(J127=\"-\",0,J127)","v":0},"-",{"$f":"IF(L127=\"-\",0,L127)","v":0},null,{"$f":"E127+G127+I127+K127+M127","v":0},{"$f":"MAX(D127,F127,H127,J127,L127)","v":0},{"$f":"IF(S127=1,O127,IF(S127=0,(O127-P127),\"-\"))","v":"-"},{"$f":"COUNTIF(U127:AD127,\"=TRUE\")","v":0},{"$f":"AE$1-R127","v":5},{"$f":"IF(S127<2,\"Yes\",\"No\")","v":"No"},{"$f":"IF(D127=\"-\",1,0)*U$1","v":1},{"$f":"AND(U127=0,U$1=1)","v":false},{"$f":"IF(F127=\"-\",1,0)*W$1","v":1},{"$f":"AND(W127=0,W$1=1)","v":false},{"$f":"IF(H127=\"-\",1,0)*Y$1","v":1},{"$f":"AND(Y127=0,Y$1=1)","v":false},{"$f":"IF(J127=\"-\",1,0)*AA$1","v":1},{"$f":"AND(AA127=0,AA$1=1)","v":false},{"$f":"IF(L127=\"-\",1,0)*AC$1","v":1},{"$f":"AND(AC127=0,AC$1=1)","v":false}]
[125,null,"-","-",{"$f":"IF(D128=\"-\",0,D128)","v":0},"-",{"$f":"IF(F128=\"-\",0,F128)","v":0},"-",{"$f":"IF(H128=\"-\",0,H128)","v":0},"-",{"$f":"IF(J128=\"-\",0,J128)","v":0},"-",{"$f":"IF(L128=\"-\",0,L128)","v":0},null,{"$f":"E128+G128+I128+K128+M128","v":0},{"$f":"MAX(D128,F128,H128,J128,L128)","v":0},{"$f":"IF(S128=1,O128,IF(S128=0,(O128-P128),\"-\"))","v":"-"},{"$f":"COUNTIF(U128:AD128,\"=TRUE\")","v":0},{"$f":"AE$1-R128","v":5},{"$f":"IF(S128<2,\"Yes\",\"No\")","v":"No"},{"$f":"IF(D128=\"-\",1,0)*U$1","v":1},{"$f":"AND(U128=0,U$1=1)","v":false},{"$f":"IF(F128=\"-\",1,0)*W$1","v":1},{"$f":"AND(W128=0,W$1=1)","v":false},{"$f":"IF(H128=\"-\",1,0)*Y$1","v":1},{"$f":"AND(Y128=0,Y$1=1)","v":false},{"$f":"IF(J128=\"-\",1,0)*AA$1","v":1},{"$f":"AND(AA128=0,AA$1=1)","v":false},{"$f":"IF(L128=\"-\",1,0)*AC$1","v":1},{"$f":"AND(AC128=0,AC$1=1)","v":false}]
[126,null,"-","-",{"$f":"IF(D129=\"-\",0,D129)","v":0},"-",{"$f":"IF(F129=\"-\",0,F129)","v":0},"-",{"$f":"IF(H129=\"-\",0,H129)","v":0},"-",{"$f":"IF(J129=\"-\",0,J129)","v":0},"-",{"$f":"IF(L129=\"-\",0,L129)","v":0},null,{"$f":"E129+G129+I129+K129+M129","v":0},{"$f":"MAX(D129,F129,H129,J129,L129)","v":0},{"$f":"IF(S129=1,O129,IF(S129=0,(O129-P129),\"-\"))","v":"-"},{"$f":"COUNTIF(U129:AD129,\"=TRUE\")","v":0},{"$f":"AE$1-R129","v":5},{"$f":"IF(S129<2,\"Yes\",\"No\")","v":"No"},{"$f":"IF(D129=\"-\",1,0)*U$1","v":1},{"$f":"AND(U129=0,U$1=1)","v":false},{"$f":"IF(F129=\"-\",1,0)*W$1","v":1},{"$f":"AND(W129=0,W$1=1)","v":false},{"$f":"IF(H129=\"-\",1,0)*Y$1","v":1},{"$f":"AND(Y129=0,Y$1=1)","v":false},{"$f":"IF(J129=\"-\",1,0)*AA$1","v":1},{"$f":"AND(AA129=0,AA$1=1)","v":false},{"$f":"IF(L129=\"-\",1,0)*AC$1","v":1},{"$f":"AND(AC129=0,AC$1=1)","v":false}]
[127,null,"-","-",{"$f":"IF(D130=\"-\",0,D130)","v":0},"-",{"$f":"IF(F130=\"-\",0,F130)","v":0},"-",{"$f":"IF(H130=\"-\",0,H130)","v":0},"-",{"$f":"IF(J130=\"-\",0,J130)","v":0},"-",{"$f":"IF(L130=\"-\",0,L130)","v":0},null,{"$f":"E130+G130+I130+K130+M130","v":0},{"$f":"MAX(D130,F130,H130,J130,L130)","v":0},{"$f":"IF(S130=1,O130,IF(S130=0,(O130-P130),\"-\"))","v":"-"},{"$f":"COUNTIF(U130:AD130,\"=TRUE\")","v":0},{"$f":"AE$1-R130","v":5},{"$f":"IF(S130<2,\"Yes\",\"No\")","v":"No"},{"$f":"IF(D130=\"-\",1,0)*U$1","v":1},{"$f":"AND(U130=0,U$1=1)","v":false},{"$f":"IF(F130=\"-\",1,0)*W$1","v":1},{"$f":"AND(W130=0,W$1=1)","v":false},{"$f":"IF(H130=\"-\",1,0)*Y$1","v":1},{"$f":"AND(Y130=0,Y$1=1)","v":false},{"$f":"IF(J130=\"-\",1,0)*AA$1","v":1},{"$f":"AND(AA130=0,AA$1=1)","v":false},{"$f":"IF(L130=\"-\",1,0)*AC$1","v":1},{"$f":"AND(AC130=0,AC$1=1)","v":false}]
[128,null,"-","-",{"$f":"IF(D131=\"-\",0,D131)","v":0},"-",{"$f":"IF(F131=\"-\",0,F131)","v":0},"-",{"$f":"IF(H131=\"-\",0,H131)","v":0},"-",{"$f":"IF(J131=\"-\",0,J131)","v":0},"-",{"$f":"IF(L131=\"-\",0,L131)","v":0},null,{"$f":"E131+G131+I131+K131+M131","v":0},{"$f":"MAX(D131,F131,H131,J131,L131)","v":0},{"$f":"IF(S131=1,O131,IF(S131=0,(O131-P131),\"-\"))","v":"-"},{"$f":"COUNTIF(U131:AD131,\"=TRUE\")","v":0},{"$f":"AE$1-R131","v":5},{"$f":"IF(S131<2,\"Yes\",\"No\")","v":"No"},{"$f":"IF(D131=\"-\",1,0)*U$1","v":1},{"$f":"AND(U131=0,U$1=1)","v":false},{"$f":"IF(F131=\"-\",1,0)*W$1","v":1},{"$f":"AND(W131=0,W$1=1)","v":false},{"$f":"IF(H131=\"-\",1,0)*Y$1","v":1},{"$f":"AND(Y131=0,Y$1=1)","v":false},{"$f":"IF(J131=\"-\",1,0)*AA$1","v":1},{"$f":"AND(AA131=0,AA$1=1)","v":false},{"$f":"IF(L131=\"-\",1,0)*AC$1","v":1},{"$f":"AND(AC131=0,AC$1=1)","v":false}]
[129,null,"-","-",{"$f":"IF(D132=\"-\",0,D132)","v":0},"-",{"$f":"IF(F132=\"-\",0,F132)","v":0},"-",{"$f":"IF(H132=\"-\",0,H132)","v":0},"-",{"$f":"IF(J132=\"-\",0,J132)","v":0},"-",{"$f":"IF(L132=\"-\",0,L132)","v":0},null,{"$f":"E132+G132+I132+K132+M132","v":0},{"$f":"MAX(D132,F132,H132,J132,L132)","v":0},{"$f":"IF(S132=1,O132,IF(S132=0,(O132-P132),\"-\"))","v":"-"},{"$f":"COUNTIF(U132:AD132,\"=TRUE\")","v":0},{"$f":"AE$1-R132","v":5},{"$f":"IF(S132<2,\"Yes\",\"No\")","v":"No"},{"$f":"IF(D132=\"-\",1,0)*U$1","v":1},{"$f":"AND(U132=0,U$1=1)","v":false},{"$f":"IF(F132=\"-\",1,0)*W$1","v":1},{"$f":"AND(W132=0,W$1=1)","v":false},{"$f":"IF(H132=\"-\",1,0)*Y$1","v":1},{"$f":"AND(Y132=0,Y$1=1)","v":false},{"$f":"IF(J132=\"-\",1,0)*AA$1","v":1},{"$f":"AND(AA132=0,AA$1=1)","v":false},{"$f":"IF(L132=\"-\",1,0)*AC$1","v":1},{"$f":"AND(AC132=0,AC$1=1)","v":false}]
[130,null,"-","-",{"$f":"IF(D133=\"-\",0,D133)","v":0},"-",{"$f":"IF(F133=\"-\",0,F133)","v":0},"-",{"$f":"IF(H133=\"-\",0,H133)","v":0},"-",{"$f":"IF(J133=\"-\",0,J133)","v":0},"-",{"$f":"IF(L133=\"-\",0,L133)","v":0},null,{"$f":"E133+G133+I133+K133+M133","v":0},{"$f":"MAX(D133,F133,H133,J133,L133)","v":0},{"$f":"IF(S133=1,O133,IF(S133=0,(O133-P133),\"-\"))","v":"-"},{"$f":"COUNTIF(U133:AD133,\"=TRUE\")","v":0},{"$f":"AE$1-R133","v":5},{"$f":"IF(S133<2,\"Yes\",\"No\")","v":"No"},{"$f":"IF(D133=\"-\",1,0)*U$1","v":1},{"$f":"AND(U133=0,U$1=1)","v":false},{"$f":"IF(F133=\"-\",1,0)*W$1","v":1},{"$f":"AND(W133=0,W$1=1)","v":false},{"$f":"IF(H133=\"-\",1,0)*Y$1","v":1},{"$f":"AND(Y133=0,Y$1=1)","v":false},{"$f":"IF(J133=\"-\",1,0)*AA$1","v":1},{"$f":"AND(AA133=0,AA$1=1)","v":false},{"$f":"IF(L133=\"-\",1,0)*AC$1","v":1},{"$f":"AND(AC133=0,AC$1=1)","v":false}]
[131,null,"-","-",{"$f":"IF(D134=\"-\",0,D134)","v":0},"-",{"$f":"IF(F134=\"-\",0,F134)","v":0},"-",{"$f":"IF(H134=\"-\",0,H134)","v":0},"-",{"$f":"IF(J134=\"-\",0,J134)","v":0},"-",{"$f":"IF(L134=\"-\",0,L134)","v":0},null,{"$f":"E134+G134+I134+K134+M134","v":0},{"$f":"MAX(D134,F134,H134,J134,L134)","v":0},{"$f":"IF(S134=1,O134,IF(S134=0,(O134-P134),\"-\"))","v":"-"},{"$f":"COUNTIF(U134:AD134,\"=TRUE\")","v":0},{"$f":"AE$1-R134","v":5},{"$f":"IF(S134<2,\"Yes\",\"No\")","v":"No"},{"$f":"IF(D134=\"-\",1,0)*U$1","v":1},{"$f":"AND(U134=0,U$1=1)","v":false},{"$f":"IF(F134=\"-\",1,0)*W$1","v":1},{"$f":"AND(W134=0,W$1=1)","v":false},{"$f":"IF(H134=\"-\",1,0)*Y$1","v":1},{"$f":"AND(Y134=0,Y$1=1)","v":false},{"$f":"IF(J134=\"-\",1,0)*AA$1","v":1},{"$f":"AND(AA134=0,AA$1=1)","v":false},{"$f":"IF(L134=\"-\",1,0)*AC$1","v":1},{"$f":"AND(AC134=0,AC$1=1)","v":false}]
[132,null,"-","-",{"$f":"IF(D135=\"-\",0,D135)","v":0},"-",{"$f":"IF(F135=\"-\",0,F135)","v":0},"-",{"$f":"IF(H135=\"-\",0,H135)","v":0},"-",{"$f":"IF(J135=\"-\",0,J135)","v":0},"-",{"$f":"IF(L135=\"-\",0,L135)","v":0},null,{"$f":"E135+G135+I135+K135+M135","v":0},{"$f":"MAX(D135,F135,H135,J135,L135)","v":0},{"$f":"IF(S135=1,O135,IF(S135=0,(O135-P135),\"-\"))","v":"-"},{"$f":"COUNTIF(U135:AD135,\"=TRUE\")","v":0},{"$f":"AE$1-R135","v":5},{"$f":"IF(S135<2,\"Yes\",\"No\")","v":"No"},{"$f":"IF(D135=\"-\",1,0)*U$1","v":1},{"$f":"AND(U135=0,U$1=1)","v":false},{"$f":"IF(F135=\"-\",1,0)*W$1","v":1},{"$f":"AND(W135=0,W$1=1)","v":false},{"$f":"IF(H135=\"-\",1,0)*Y$1","v":1},{"$f":"AND(Y135=0,Y$1=1)","v":false},{"$f":"IF(J135=\"-\",1,0)*AA$1","v":1},{"$f":"AND(AA135=0,AA$1=1)","v":false},{"$f":"IF(L135=\"-\",1,0)*AC$1","v":1},{"$f":"AND(AC135=0,AC$1=1)","v":false}]
[133,null,"-","-",{"$f":"IF(D136=\"-\",0,D136)","v":0},"-",{"$f":"IF(F136=\"-\",0,F136)","v":0},"-",{"$f":"IF(H136=\"-\",0,H136)","v":0},"-",{"$f":"IF(J136=\"-\",0,J136)","v":0},"-",{"$f":"IF(L136=\"-\",0,L136)","v":0},null,{"$f":"E136+G136+I136+K136+M136","v":0},{"$f":"MAX(D136,F136,H136,J136,L136)","v":0},{"$f":"IF(S136=1,O136,IF(S136=0,(O136-P136),\"-\"))","v":"-"},{"$f":"COUNTIF(U136:AD136,\"=TRUE\")","v":0},{"$f":"AE$1-R136","v":5},{"$f":"IF(S136<2,\"Yes\",\"No\")","v":"No"},{"$f":"IF(D136=\"-\",1,0)*U$1","v":1},{"$f":"AND(U136=0,U$1=1)","v":false},{"$f":"IF(F136=\"-\",1,0)*W$1","v":1},{"$f":"AND(W136=0,W$1=1)","v":false},{"$f":"IF(H136=\"-\",1,0)*Y$1","v":1},{"$f":"AND(Y136=0,Y$1=1)","v":false},{"$f":"IF(J136=\"-\",1,0)*AA$1","v":1},{"$f":"AND(AA136=0,AA$1=1)","v":false},{"$f":"IF(L136=\"-\",1,0)*AC$1","v":1},{"$f":"AND(AC136=0,AC$1=1)","v":false}]
[134,null,"-","-",{"$f":"IF(D137=\"-\",0,D137)","v":0},"-",{"$f":"IF(F137=\"-\",0,F137)","v":0},"-",{"$f":"IF(H137=\"-\",0,H137)","v":0},"-",{"$f":"IF(J137=\"-\",0,J137)","v":0},"-",{"$f":"IF(L137=\"-\",0,L137)","v":0},null,{"$f":"E137+G137+I137+K137+M137","v":0},{"$f":"MAX(D137,F137,H137,J137,L137)","v":0},{"$f":"IF(S137=1,O137,IF(S137=0,(O137-P137),\"-\"))","v":"-"},{"$f":"COUNTIF(U137:AD137,\"=TRUE\")","v":0},{"$f":"AE$1-R137","v":5},{"$f":"IF(S137<2,\"Yes\",\"No\")","v":"No"},{"$f":"IF(D137=\"-\",1,0)*U$1","v":1},{"$f":"AND(U137=0,U$1=1)","v":false},{"$f":"IF(F137=\"-\",1,0)*W$1","v":1},{"$f":"AND(W137=0,W$1=1)","v":false},{"$f":"IF(H137=\"-\",1,0)*Y$1","v":1},{"$f":"AND(Y137=0,Y$1=1)","v":false},{"$f":"IF(J137=\"-\",1,0)*AA$1","v":1},{"$f":"AND(AA137=0,AA$1=1)","v":false},{"$f":"IF(L137=\"-\",1,0)*AC$1","v":1},{"$f":"AND(AC137=0,AC$1=1)","v":false}]
[135,null,"-","-",{"$f":"IF(D138=\"-\",0,D138)","v":0},"-",{"$f":"IF(F138=\"-\",0,F138)","v":0},"-",{"$f":"IF(H138=\"-\",0,H138)","v":0},"-",{"$f":"IF(J138=\"-\",0,J138)","v":0},"-",{"$f":"IF(L138=\"-\",0,L138)","v":0},null,{"$f":"E138+G138+I138+K138+M138","v":0},{"$f":"MAX(D138,F138,H138,J138,L138)","v":0},{"$f":"IF(S138=1,O138,IF(S138=0,(O138-P138),\"-\"))","v":"-"},{"$f":"COUNTIF(U138:AD138,\"=TRUE\")","v":0},{"$f":"AE$1-R138","v":5},{"$f":"IF(S138<2,\"Yes\",\"No\")","v":"No"},{"$f":"IF(D138=\"-\",1,0)*U$1","v":1},{"$f":"AND(U138=0,U$1=1)","v":false},{"$f":"IF(F138=\"-\",1,0)*W$1","v":1},{"$f":"AND(W138=0,W$1=1)","v":false},{"$f":"IF(H138=\"-\",1,0)*Y$1","v":1},{"$f":"AND(Y138=0,Y$1=1)","v":false},{"$f":"IF(J138=\"-\",1,0)*AA$1","v":1},{"$f":"AND(AA138=0,AA$1=1)","v":false},{"$f":"IF(L138=\"-\",1,0)*AC$1","v":1},{"$f":"AND(AC138=0,AC$1=1)","v":false}]
[136,null,"-","-",{"$f":"IF(D139=\"-\",0,D139)","v":0},"-",{"$f":"IF(F139=\"-\",0,F139)","v":0},"-",{"$f":"IF(H139=\"-\",0,H139)","v":0},"-",{"$f":"IF(J139=\"-\",0,J139)","v":0},"-",{"$f":"IF(L139=\"-\",0,L139)","v":0},null,{"$f":"E139+G139+I139+K139+M139","v":0},{"$f":"MAX(D139,F139,H139,J139,L139)","v":0},{"$f":"IF(S139=1,O139,IF(S139=0,(O139-P139),\"-\"))","v":"-"},{"$f":"COUNTIF(U139:AD139,\"=TRUE\")","v":0},{"$f":"AE$1-R139","v":5},{"$f":"IF(S139<2,\"Yes\",\"No\")","v":"No"},{"$f":"IF(D139=\"-\",1,0)*U$1","v":1},{"$f":"AND(U139=0,U$1=1)","v":false},{"$f":"IF(F139=\"-\",1,0)*W$1","v":1},{"$f":"AND(W139=0,W$1=1)","v":false},{"$f":"IF(H139=\"-\",1,0)*Y$1","v":1},{"$f":"AND(Y139=0,Y$1=1)","v":false},{"$f":"IF(J139=\"-\",1,0)*AA$1","v":1},{"$f":"AND(AA139=0,AA$1=1)","v":false},{"$f":"IF(L139=\"-\",1,0)*AC$1","v":1},{"$f":"AND(AC139=0,AC$1=1)","v":false}]
[137,null,"-","-",{"$f":"IF(D140=\"-\",0,D140)","v":0},"-",{"$f":"IF(F140=\"-\",0,F140)","v":0},"-",{"$f":"IF(H140=\"-\",0,H140)","v":0},"-",{"$f":"IF(J140=\"-\",0,J140)","v":0},"-",{"$f":"IF(L140=\"-\",0,L140)","v":0},null,{"$f":"E140+G140+I140+K140+M140","v":0},{"$f":"MAX(D140,F140,H140,J140,L140)","v":0},{"$f":"IF(S140=1,O140,IF(S140=0,(O140-P140),\"-\"))","v":"-"},{"$f":"COUNTIF(U140:AD140,\"=TRUE\")","v":0},{"$f":"AE$1-R140","v":5},{"$f":"IF(S140<2,\"Yes\",\"No\")","v":"No"},{"$f":"IF(D140=\"-\",1,0)*U$1","v":1},{"$f":"AND(U140=0,U$1=1)","v":false},{"$f":"IF(F140=\"-\",1,0)*W$1","v":1},{"$f":"AND(W140=0,W$1=1)","v":false},{"$f":"IF(H140=\"-\",1,0)*Y$1","v":1},{"$f":"AND(Y140=0,Y$1=1)","v":false},{"$f":"IF(J140=\"-\",1,0)*AA$1","v":1},{"$f":"AND(AA140=0,AA$1=1)","v":false},{"$f":"IF(L140=\"-\",1,0)*AC$1","v":1},{"$f":"AND(AC140=0,AC$1=1)","v":false}]
[138,null,"-","-",{"$f":"IF(D141=\"-\",0,D141)","v":0},"-",{"$f":"IF(F141=\"-\",0,F141)","v":0},"-",{"$f":"IF(H141=\"-\",0,H141)","v":0},"-",{"$f":"IF(J141=\"-\",0,J141)","v":0},"-",{"$f":"IF(L141=\"-\",0,L141)","v":0},null,{"$f":"E141+G141+I141+K141+M141","v":0},{"$f":"MAX(D141,F141,H141,J141,L141)","v":0},{"$f":"IF(S141=1,O141,IF(S141=0,(O141-P141),\"-\"))","v":"-"},{"$f":"COUNTIF(U141:AD141,\"=TRUE\")","v":0},{"$f":"AE$1-R141","v":5},{"$f":"IF(S141<2,\"Yes\",\"No\")","v":"No"},{"$f":"IF(D141=\"-\",1,0)*U$1","v":1},{"$f":"AND(U141=0,U$1=1)","v":false},{"$f":"IF(F141=\"-\",1,0)*W$1","v":1},{"$f":"AND(W141=0,W$1=1)","v":false},{"$f":"IF(H141=\"-\",1,0)*Y$1","v":1},{"$f":"AND(Y141=0,Y$1=1)","v":false},{"$f":"IF(J141=\"-\",1,0)*AA$1","v":1},{"$f":"AND(AA141=0,AA$1=1)","v":false},{"$f":"IF(L141=\"-\",1,0)*AC$1","v":1},{"$f":"AND(AC141=0,AC$1=1)","v":false}]
[139,null,"-","-",{"$f":"IF(D142=\"-\",0,D142)","v":0},"-",{"$f":"IF(F142=\"-\",0,F142)","v":0},"-",{"$f":"IF(H142=\"-\",0,H142)","v":0},"-",{"$f":"IF(J142=\"-\",0,J142)","v":0},"-",{"$f":"IF(L142=\"-\",0,L142)","v":0},null,{"$f":"E142+G142+I142+K142+M142","v":0},{"$f":"MAX(D142,F142,H142,J142,L142)","v":0},{"$f":"IF(S142=1,O142,IF(S142=0,(O142-P142),\"-\"))","v":"-"},{"$f":"COUNTIF(U142:AD142,\"=TRUE\")","v":0},{"$f":"AE$1-R142","v":5},{"$f":"IF(S142<2,\"Yes\",\"No\")","v":"No"},{"$f":"IF(D142=\"-\",1,0)*U$1","v":1},{"$f":"AND(U142=0,U$1=1)","v":false},{"$f":"IF(F142=\"-\",1,0)*W$1","v":1},{"$f":"AND(W142=0,W$1=1)","v":false},{"$f":"IF(H142=\"-\",1,0)*Y$1","v":1},{"$f":"AND(Y142=0,Y$1=1)","v":false},{"$f":"IF(J142=\"-\",1,0)*AA$1","v":1},{"$f":"AND(AA142=0,AA$1=1)","v":false},{"$f":"IF(L142=\"-\",1,0)*AC$1","v":1},{"$f":"AND(AC142=0,AC$1=1)","v":false}]
[140,null,"-","-",{"$f":"IF(D143=\"-\",0,D143)","v":0},"-",{"$f":"IF(F143=\"-\",0,F143)","v":0},"-",{"$f":"IF(H143=\"-\",0,H143)","v":0},"-",{"$f":"IF(J143=\"-\",0,J143)","v":0},"-",{"$f":"IF(L143=\"-\",0,L143)","v":0},null,{"$f":"E143+G143+I143+K143+M143","v":0},{"$f":"MAX(D143,F143,H143,J143,L143)","v":0},{"$f":"IF(S143=1,O143,IF(S143=0,(O143-P143),\"-\"))","v":"-"},{"$f":"COUNTIF(U143:AD143,\"=TRUE\")","v":0},{"$f":"AE$1-R143","v":5},{"$f":"IF(S143<2,\"Yes\",\"No\")","v":"No"},{"$f":"IF(D143=\"-\",1,0)*U$1","v":1},{"$f":"AND(U143=0,U$1=1)","v":false},{"$f":"IF(F143=\"-\",1,0)*W$1","v":1},{"$f":"AND(W143=0,W$1=1)","v":false},{"$f":"IF(H143=\"-\",1,0)*Y$1","v":1},{"$f":"AND(Y143=0,Y$1=1)","v":false},{"$f":"IF(J143=\"-\",1,0)*AA$1","v":1},{"$f":"AND(AA143=0,AA$1=1)","v":false},{"$f":"IF(L143=\"-\",1,0)*AC$1","v":1},{"$f":"AND(AC143=0,AC$1=1)","v":false}]
[141,null,"-","-",{"$f":"IF(D144=\"-\",0,D144)","v":0},"-",{"$f":"IF(F144=\"-\",0,F144)","v":0},"-",{"$f":"IF(H144=\"-\",0,H144)","v":0},"-",{"$f":"IF(J144=\"-\",0,J144)","v":0},"-",{"$f":"IF(L144=\"-\",0,L144)","v":0},null,{"$f":"E144+G144+I144+K144+M144","v":0},{"$f":"MAX(D144,F144,H144,J144,L144)","v":0},{"$f":"IF(S144=1,O144,IF(S144=0,(O144-P144),\"-\"))","v":"-"},{"$f":"COUNTIF(U144:AD144,\"=TRUE\")","v":0},{"$f":"AE$1-R144","v":5},{"$f":"IF(S144<2,\"Yes\",\"No\")","v":"No"},{"$f":"IF(D144=\"-\",1,0)*U$1","v":1},{"$f":"AND(U144=0,U$1=1)","v":false},{"$f":"IF(F144=\"-\",1,0)*W$1","v":1},{"$f":"AND(W144=0,W$1=1)","v":false},{"$f":"IF(H144=\"-\",1,0)*Y$1","v":1},{"$f":"AND(Y144=0,Y$1=1)","v":false},{"$f":"IF(J144=\"-\",1,0)*AA$1","v":1},{"$f":"AND(AA144=0,AA$1=1)","v":false},{"$f":"IF(L144=\"-\",1,0)*AC$1","v":1},{"$f":"AND(AC144=0,AC$1=1)","v":false}]
[142,null,"-","-",{"$f":"IF(D145=\"-\",0,D145)","v":0},"-",{"$f":"IF(F145=\"-\",0,F145)","v":0},"-",{"$f":"IF(H145=\"-\",0,H145)","v":0},"-",{"$f":"IF(J145=\"-\",0,J145)","v":0},"-",{"$f":"IF(L145=\"-\",0,L145)","v":0},null,{"$f":"E145+G145+I145+K145+M145","v":0},{"$f":"MAX(D145,F145,H145,J145,L145)","v":0},{"$f":"IF(S145=1,O145,IF(S145=0,(O145-P145),\"-\"))","v":"-"},{"$f":"COUNTIF(U145:AD145,\"=TRUE\")","v":0},{"$f":"AE$1-R145","v":5},{"$f":"IF(S145<2,\"Yes\",\"No\")","v":"No"},{"$f":"IF(D145=\"-\",1,0)*U$1","v":1},{"$f":"AND(U145=0,U$1=1)","v":false},{"$f":"IF(F145=\"-\",1,0)*W$1","v":1},{"$f":"AND(W145=0,W$1=1)","v":false},{"$f":"IF(H145=\"-\",1,0)*Y$1","v":1},{"$f":"AND(Y145=0,Y$1=1)","v":false},{"$f":"IF(J145=\"-\",1,0)*AA$1","v":1},{"$f":"AND(AA145=0,AA$1=1)","v":false},{"$f":"IF(L145=\"-\",1,0)*AC$1","v":1},{"$f":"AND(AC145=0,AC$1=1)","v":false}]
[143,null,"-","-",{"$f":"IF(D146=\"-\",0,D146)","v":0},"-",{"$f":"IF(F146=\"-\",0,F146)","v":0},"-",{"$f":"IF(H146=\"-\",0,H146)","v":0},"-",{"$f":"IF(J146=\"-\",0,J146)","v":0},"-",{"$f":"IF(L146=\"-\",0,L146)","v":0},null,{"$f":"E146+G146+I146+K146+M146","v":0},{"$f":"MAX(D146,F146,H146,J146,L146)","v":0},{"$f":"IF(S146=1,O146,IF(S146=0,(O146-P146),\"-\"))","v":"-"},{"$f":"COUNTIF(U146:AD146,\"=TRUE\")","v":0},{"$f":"AE$1-R146","v":5},{"$f":"IF(S146<2,\"Yes\",\"No\")","v":"No"},{"$f":"IF(D146=\"-\",1,0)*U$1","v":1},{"$f":"AND(U146=0,U$1=1)","v":false},{"$f":"IF(F146=\"-\",1,0)*W$1","v":1},{"$f":"AND(W146=0,W$1=1)","v":false},{"$f":"IF(H146=\"-\",1,0)*Y$1","v":1},{"$f":"AND(Y146=0,Y$1=1)","v":false},{"$f":"IF(J146=\"-\",1,0)*AA$1","v":1},{"$f":"AND(AA146=0,AA$1=1)","v":false},{"$f":"IF(L146=\"-\",1,0)*AC$1","v":1},{"$f":"AND(AC146=0,AC$1=1)","v":false}]
[144,null,"-","-",{"$f":"IF(D147=\"-\",0,D147)","v":0},"-",{"$f":"IF(F147=\"-\",0,F147)","v":0},"-",{"$f":"IF(H147=\"-\",0,H147)","v":0},"-",{"$f":"IF(J147=\"-\",0,J147)","v":0},"-",{"$f":"IF(L147=\"-\",0,L147)","v":0},null,{"$f":"E147+G147+I147+K147+M147","v":0},{"$f":"MAX(D147,F147,H147,J147,L147)","v":0},{"$f":"IF(S147=1,O147,IF(S147=0,(O147-P147),\"-\"))","v":"-"},{"$f":"COUNTIF(U147:AD147,\"=TRUE\")","v":0},{"$f":"AE$1-R147","v":5},{"$f":"IF(S147<2,\"Yes\",\"No\")","v":"No"},{"$f":"IF(D147=\"-\",1,0)*U$1","v":1},{"$f":"AND(U147=0,U$1=1)","v":false},{"$f":"IF(F147=\"-\",1,0)*W$1","v":1},{"$f":"AND(W147=0,W$1=1)","v":false},{"$f":"IF(H147=\"-\",1,0)*Y$1","v":1},{"$f":"AND(Y147=0,Y$1=1)","v":false},{"$f":"IF(J147=\"-\",1,0)*AA$1","v":1},{"$f":"AND(AA147=0,AA$1=1)","v":false},{"$f":"IF(L147=\"-\",1,0)*AC$1","v":1},{"$f":"AND(AC147=0,AC$1=1)","v":false}]
[145,null,"-","-",{"$f":"IF(D148=\"-\",0,D148)","v":0},"-",{"$f":"IF(F148=\"-\",0,F148)","v":0},"-",{"$f":"IF(H148=\"-\",0,H148)","v":0},"-",{"$f":"IF(J148=\"-\",0,J148)","v":0},"-",{"$f":"IF(L148=\"-\",0,L148)","v":0},null,{"$f":"E148+G148+I148+K148+M148","v":0},{"$f":"MAX(D148,F148,H148,J148,L148)","v":0},{"$f":"IF(S148=1,O148,IF(S148=0,(O148-P148),\"-\"))","v":"-"},{"$f":"COUNTIF(U148:AD148,\"=TRUE\")","v":0},{"$f":"AE$1-R148","v":5},{"$f":"IF(S148<2,\"Yes\",\"No\")","v":"No"},{"$f":"IF(D148=\"-\",1,0)*U$1","v":1},{"$f":"AND(U148=0,U$1=1)","v":false},{"$f":"IF(F148=\"-\",1,0)*W$1","v":1},{"$f":"AND(W148=0,W$1=1)","v":false},{"$f":"IF(H148=\"-\",1,0)*Y$1","v":1},{"$f":"AND(Y148=0,Y$1=1)","v":false},{"$f":"IF(J148=\"-\",1,0)*AA$1","v":1},{"$f":"AND(AA148=0,AA$1=1)","v":false},{"$f":"IF(L148=\"-\",1,0)*AC$1","v":1},{"$f":"AND(AC148=0,AC$1=1)","v":false}]
[146,null,"-","-",{"$f":"IF(D149=\"-\",0,D149)","v":0},"-",{"$f":"IF(F149=\"-\",0,F149)","v":0},"-",{"$f":"IF(H149=\"-\",0,H149)","v":0},"-",{"$f":"IF(J149=\"-\",0,J149)","v":0},"-",{"$f":"IF(L149=\"-\",0,L149)","v":0},null,{"$f":"E149+G149+I149+K149+M149","v":0},{"$f":"MAX(D149,F149,H149,J149,L149)","v":0},{"$f":"IF(S149=1,O149,IF(S149=0,(O149-P149),\"-\"))","v":"-"},{"$f":"COUNTIF(U149:AD149,\"=TRUE\")","v":0},{"$f":"AE$1-R149","v":5},{"$f":"IF(S149<2,\"Yes\",\"No\")","v":"No"},{"$f":"IF(D149=\"-\",1,0)*U$1","v":1},{"$f":"AND(U149=0,U$1=1)","v":false},{"$f":"IF(F149=\"-\",1,0)*W$1","v":1},{"$f":"AND(W149=0,W$1=1)","v":false},{"$f":"IF(H149=\"-\",1,0)*Y$1","v":1},{"$f":"AND(Y149=0,Y$1=1)","v":false},{"$f":"IF(J149=\"-\",1,0)*AA$1","v":1},{"$f":"AND(AA149=0,AA$1=1)","v":false},{"$f":"IF(L149=\"-\",1,0)*AC$1","v":1},{"$f":"AND(AC149=0,AC$1=1)","v":false}]
[147]
[148]
[149]
[150]

{"sheet":"Junior Girls Teams","index":5,"n_rows":19,"n_cols":25,"rows_kept":19,"cut":false,"hidden":false,"merged":[[2,1,2,4],[2,5,2,8],[2,9,2,12],[2,13,2,16],[2,17,2,20]]}
[null,"Claimed Last Place",null,"Y","N","-"]
[]
["Total Finishers",{"$f":"'Junior Girls'!D2","v":55},null,null,null,{"$f":"'Junior Girls'!F2","v":56},null,null,null,{"$f":"'Junior Girls'!H2","v":55},null,null,null,{"$f":"'Junior Girls'!J2","v":42},null,null,null,{"$f":"'Junior Girls'!L2","v":43}]
["Team","Race 1 Position",null,"Race 1 Points Total","Claimed Last Place?","Race 2 Postion",null,"Race 2 Points Total","Claimed Last Place?","Race 3 Postion",null,"Race 3 Points Total","Claimed Last Place?","Race 4 Postion",null,"Race 4 Points Total","Claimed Last Place?","Race 5 Postion",null,"Race 5 Points Total","Claimed Last Place?","Number of claimed last places","Number of Races Without","Number of Races Completed","Total (All Races)"]
["Thomas Estley CC",1,{"$f":"IF(B5=\"-\",0,B5)","v":1},79,"N",4,{"$f":"IF(F5=\"-\",0,F5)","v":4},119,"N",4,{"$f":"IF(J5=\"-\",0,J5)","v":4},105,"N",2,{"$f":"IF(N5=\"-\",0,N5)","v":2},92,"N",4,{"$f":"IF(R5=\"-\",0,R5)","v":4},97,"N",{"$f":"COUNTIF(B5:U5,\"Y\")","v":0},{"$f":"COUNTIF(B5:U5,\"n\")","v":5},{"$f":"V5+W5","v":5},{"$f":"C5+G5+K5+O5+S5","v":15}]
["Manor High School",2,{"$f":"IF(B6=\"-\",0,B6)","v":2},82,"N",2,{"$f":"IF(F6=\"-\",0,F6)","v":2},92,"N",2,{"$f":"IF(J6=\"-\",0,J6)","v":2},85,"N",4,{"$f":"IF(N6=\"-\",0,N6)","v":4},97,"Y",2,{"$f":"IF(R6=\"-\",0,R6)","v":2},82,"N",{"$f":"COUNTIF(B6:U6,\"Y\")","v":1},{"$f":"COUNTIF(B6:U6,\"n\")","v":4},{"$f":"V6+W6","v":5},{"$f":"C6+G6+K6+O6+S6","v":12}]
["Welland Park Academy",3,3,83,"N",3,3,97,"N",4,4,105,"N",3,3,96,"N",3,3,90,"N",0,5,5,16]
["Lutterworth High School A",4,4,85,"N",1,1,43,"N",1,1,47,"N",1,1,44,"N",1,1,56,"N",0,5,5,8]
["De Lisle College",5,5,110,"N",6,6,150,"Y",3,3,98,"N","-",0,"-","-",5,5,119,"Y",2,2,4,19]
["Brookvale High School",6,6,169,"N","-",0,"-","-","-",0,"-","-","-",0,"-","-","-",0,"-","-",0,1,1,6]
["Long Field Academy",7,7,178,"Y",7,7,156,"N",10,10,178,"Y",5,5,126,"N",6,6,124,"N",2,3,5,35]
["Uppingham CC","-",0,"-","-",5,5,122,"Y",6,6,120,"Y","-",0,"-","-","-",0,"-","-",2,0,2,11]
["Lutterworth High School B","-",0,"-","-","-",0,"-","-",7,7,143,"N","-",0,"-","-","-",0,"-","-",0,1,1,7]
["Redmoor Academy","-",0,"-","-","-",0,"-","-",9,9,174,"Y","-",0,"-","-","-",0,"-","-",1,0,1,9]
["Kibworth High School","-",0,"-","-","-",0,"-","-",8,8,157,"Y","-",0,"-","-","-",0,"-","-",1,0,1,8]
["The Market Bosworth School","-",0,"-","-","-",0,"-","-",11,11,187,"Y","-",0,"-","-","-",0,"-","-",1,0,1,11]
[null,"-",0,"-","-","-",0,"-","-","-",0,"-","-","-",0,"-","-","-",0,"-","-",0,0,0,0]
[null,"-",0,"-","-","-",0,"-","-","-",0,"-","-","-",0,"-","-","-",0,"-","-",0,0,0,0]
[null,"-",{"$f":"IF(B19=\"-\",0,B19)","v":0},"-","-","-",{"$f":"IF(F19=\"-\",0,F19)","v":0},"-","-","-",{"$f":"IF(J19=\"-\",0,J19)","v":0},"-",null,"-",{"$f":"IF(N19=\"-\",0,N19)","v":0},"-","-","-",{"$f":"IF(R19=\"-\",0,R19)","v":0},"-","-",0,0,0,0]

{"sheet":"Junior Boys","index":6,"n_rows":154,"n_cols":38,"rows_kept":154,"cut":false,"hidden":false,"merged":[]}
[null,"Total Number of Runners","Race Complete (Y/N) ",{"$f":"'Year 7 Girls '!D1","v":"Y"},null,{"$f":"'Year 7 Girls '!F1","v":"Y"},null,{"$f":"'Year 7 Girls '!H1","v":"Y"},null,{"$f":"'Year 7 Girls '!J1","v":"Y"},null,"Y",null,null,null,null,null,null,null,null,{"$f":"IF(D1=\"Y\",1,0)","v":1},null,{"$f":"IF(F1=\"Y\",1,0)","v":1},null,{"$f":"IF(H1=\"Y\",1,0)","v":1},null,{"$f":"IF(J1=\"Y\",1,0)","v":1},null,{"$f":"IF(L1=\"Y\",1,0)","v":1},null,{"$f":"SUM(U1:AC1)","v":5}]
[null,{"$f":"COUNTA(B5:B300)","v":87},"No of Finishers",{"$f":"MAX(D5:D151)","v":48},{"$f":"MAX(E5:E151)","v":48},62,62,49,49,39,39,41]
[null,null,"Number of results recorded",{"$f":"COUNTIF(D5:D150,\">0\")","v":48},null,{"$f":"COUNTIF(G5:G150,\">0\")","v":59},null,49,null,37,null,41]
["Reset Column","Name","School","Race 1","Normalised result -1","Race 2","Normalised result -2","Race 3","Normalised result -3","Race 4","Normalised result -4","Race 5","Normalised result -5",null,"Total\n(All Races)","Lowest Place Finish","Final Total","Number of Races Completed","League contender?\n(No. of races - missed)","Elidgible For League Title","Competed in race 1\n0 = YES",null,"Competed in race 2\n0 = YES",null,"Competed in race 3\n0 = YES",null,"Competed in race 4\n0 = YES",null,"Competed in race 5\n0 = YES",null,null,null,null,null,null,null,null," "]
[78,"Morgan Enoux","Wreake Valley Academy","-",{"$f":"IF(D5=\"-\",0,D5)","v":0},3,{"$f":"IF(F5=\"-\",0,F5)","v":3},5,{"$f":"IF(H5=\"-\",0,H5)","v":5},"-",{"$f":"IF(J5=\"-\",0,J5)","v":0},1,{"$f":"IF(L5=\"-\",0,L5)","v":1},null,{"$f":"E5+G5+I5+K5+M5","v":9},{"$f":"MAX(D5,F5,H5,J5,L5)","v":5},{"$f":"IF(S5=1,O5,IF(S5=0,(O5-P5),\"-\"))","v":"-"},{"$f":"COUNTIF(U5:AD5,\"=TRUE\")","v":3},{"$f":"AE$1-R5","v":2},{"$f":"IF(S5<2,\"Yes\",\"No\")","v":"No"},{"$f":"IF(D5=\"-\",1,0)*U$1","v":1},{"$f":"AND(U5=0,U$1=1)","v":false},{"$f":"IF(F5=\"-\",1,0)*W$1","v":0},{"$f":"AND(W5=0,W$1=1)","v":true},{"$f":"IF(H5=\"-\",1,0)*Y$1","v":0},{"$f":"AND(Y5=0,Y$1=1)","v":true},{"$f":"IF(J5=\"-\",1,0)*AA$1","v":1},{"$f":"AND(AA5=0,AA$1=1)","v":false},{"$f":"IF(L5=\"-\",1,0)*AC$1","v":0},{"$f":"AND(AC5=0,AC$1=1)","v":true}]
[72,"George Shephard","Newbridge High School","-",{"$f":"IF(D6=\"-\",0,D6)","v":0},7,{"$f":"IF(F6=\"-\",0,F6)","v":7},4,{"$f":"IF(H6=\"-\",0,H6)","v":4},5,{"$f":"IF(J6=\"-\",0,J6)","v":5},2,{"$f":"IF(L6=\"-\",0,L6)","v":2},null,{"$f":"E6+G6+I6+K6+M6","v":18},{"$f":"MAX(D6,F6,H6,J6,L6)","v":7},{"$f":"IF(S6=1,O6,IF(S6=0,(O6-P6),\"-\"))","v":18},{"$f":"COUNTIF(U6:AD6,\"=TRUE\")","v":4},{"$f":"AE$1-R6","v":1},{"$f":"IF(S6<2,\"Yes\",\"No\")","v":"Yes"},{"$f":"IF(D6=\"-\",1,0)*U$1","v":1},{"$f":"AND(U6=0,U$1=1)","v":false},{"$f":"IF(F6=\"-\",1,0)*W$1","v":0},{"$f":"AND(W6=0,W$1=1)","v":true},{"$f":"IF(H6=\"-\",1,0)*Y$1","v":0},{"$f":"AND(Y6=0,Y$1=1)","v":true},{"$f":"IF(J6=\"-\",1,0)*AA$1","v":0},{"$f":"AND(AA6=0,AA$1=1)","v":true},{"$f":"IF(L6=\"-\",1,0)*AC$1","v":0},{"$f":"AND(AC6=0,AC$1=1)","v":true}]
[73,"Charlie McGlinchey","The Martin High School",4,{"$f":"IF(D7=\"-\",0,D7)","v":4},5,{"$f":"IF(F7=\"-\",0,F7)","v":5},3,{"$f":"IF(H7=\"-\",0,H7)","v":3},4,{"$f":"IF(J7=\"-\",0,J7)","v":4},3,{"$f":"IF(L7=\"-\",0,L7)","v":3},null,{"$f":"E7+G7+I7+K7+M7","v":19},{"$f":"MAX(D7,F7,H7,J7,L7)","v":5},{"$f":"IF(S7=1,O7,IF(S7=0,(O7-P7),\"-\"))","v":14},{"$f":"COUNTIF(U7:AD7,\"=TRUE\")","v":5},{"$f":"AE$1-R7","v":0},{"$f":"IF(S7<2,\"Yes\",\"No\")","v":"Yes"},{"$f":"IF(D7=\"-\",1,0)*U$1","v":0},{"$f":"AND(U7=0,U$1=1)","v":true},{"$f":"IF(F7=\"-\",1,0)*W$1","v":0},{"$f":"AND(W7=0,W$1=1)","v":true},{"$f":"IF(H7=\"-\",1,0)*Y$1","v":0},{"$f":"AND(Y7=0,Y$1=1)","v":true},{"$f":"IF(J7=\"-\",1,0)*AA$1","v":0},{"$f":"AND(AA7=0,AA$1=1)","v":true},{"$f":"IF(L7=\"-\",1,0)*AC$1","v":0},{"$f":"AND(AC7=0,AC$1=1)","v":true}]
[13,"Jack Douglas","Loughborough Grammar School",3,{"$f":"IF(D8=\"-\",0,D8)","v":3},8,{"$f":"IF(F8=\"-\",0,F8)","v":8},6,{"$f":"IF(H8=\"-\",0,H8)","v":6},3,{"$f":"IF(J8=\"-\",0,J8)","v":3},4,{"$f":"IF(L8=\"-\",0,L8)","v":4},null,{"$f":"E8+G8+I8+K8+M8","v":24},{"$f":"MAX(D8,F8,H8,J8,L8)","v":8},{"$f":"IF(S8=1,O8,IF(S8=0,(O8-P8),\"-\"))","v":16},{"$f":"COUNTIF(U8:AD8,\"=TRUE\")","v":5},{"$f":"AE$1-R8","v":0},{"$f":"IF(S8<2,\"Yes\",\"No\")","v":"Yes"},{"$f":"IF(D8=\"-\",1,0)*U$1","v":0},{"$f":"AND(U8=0,U$1=1)","v":true},{"$f":"IF(F8=\"-\",1,0)*W$1","v":0},{"$f":"AND(W8=0,W$1=1)","v":true},{"$f":"IF(H8=\"-\",1,0)*Y$1","v":0},{"$f":"AND(Y8=0,Y$1=1)","v":true},{"$f":"IF(J8=\"-\",1,0)*AA$1","v":0},{"$f":"AND(AA8=0,AA$1=1)","v":true},{"$f":"IF(L8=\"-\",1,0)*AC$1","v":0},{"$f":"AND(AC8=0,AC$1=1)","v":true}]
[41,"Jay Broome","The Martin High School","-",{"$f":"IF(D9=\"-\",0,D9)","v":0},"-",{"$f":"IF(F9=\"-\",0,F9)","v":0},"-",{"$f":"IF(H9=\"-\",0,H9)","v":0},"-",{"$f":"IF(J9=\"-\",0,J9)","v":0},5,{"$f":"IF(L9=\"-\",0,L9)","v":5},null,{"$f":"E9+G9+I9+K9+M9","v":5},{"$f":"MAX(D9,F9,H9,J9,L9)","v":5},{"$f":"IF(S9=1,O9,IF(S9=0,(O9-P9),\"-\"))","v":"-"},{"$f":"COUNTIF(U9:AD9,\"=TRUE\")","v":1},{"$f":"AE$1-R9","v":4},{"$f":"IF(S9<2,\"Yes\",\"No\")","v":"No"},{"$f":"IF(D9=\"-\",1,0)*U$1","v":1},{"$f":"AND(U9=0,U$1=1)","v":false},{"$f":"IF(F9=\"-\",1,0)*W$1","v":1},{"$f":"AND(W9=0,W$1=1)","v":false},{"$f":"IF(H9=\"-\",1,0)*Y$1","v":1},{"$f":"AND(Y9=0,Y$1=1)","v":false},{"$f":"IF(J9=\"-\",1,0)*AA$1","v":1},{"$f":"AND(AA9=0,AA$1=1)","v":false},{"$f":"IF(L9=\"-\",1,0)*AC$1","v":0},{"$f":"AND(AC9=0,AC$1=1)","v":true}]
[85,"Charlie Hirst","John Ferneley College",5,{"$f":"IF(D10=\"-\",0,D10)","v":5},10,{"$f":"IF(F10=\"-\",0,F10)","v":10},8,{"$f":"IF(H10=\"-\",0,H10)","v":8},7,{"$f":"IF(J10=\"-\",0,J10)","v":7},6,{"$f":"IF(L10=\"-\",0,L10)","v":6},null,{"$f":"E10+G10+I10+K10+M10","v":36},{"$f":"MAX(D10,F10,H10,J10,L10)","v":10},{"$f":"IF(S10=1,O10,IF(S10=0,(O10-P10),\"-\"))","v":26},{"$f":"COUNTIF(U10:AD10,\"=TRUE\")","v":5},{"$f":"AE$1-R10","v":0},{"$f":"IF(S10<2,\"Yes\",\"No\")","v":"Yes"},{"$f":"IF(D10=\"-\",1,0)*U$1","v":0},{"$f":"AND(U10=0,U$1=1)","v":true},{"$f":"IF(F10=\"-\",1,0)*W$1","v":0},{"$f":"AND(W10=0,W$1=1)","v":true},{"$f":"IF(H10=\"-\",1,0)*Y$1","v":0},{"$f":"AND(Y10=0,Y$1=1)","v":true},{"$f":"IF(J10=\"-\",1,0)*AA$1","v":0},{"$f":"AND(AA10=0,AA$1=1)","v":true},{"$f":"IF(L10=\"-\",1,0)*AC$1","v":0},{"$f":"AND(AC10=0,AC$1=1)","v":true}]
[69,"Hayden Greaves","Oakham School","-",{"$f":"IF(D11=\"-\",0,D11)","v":0},"-",{"$f":"IF(F11=\"-\",0,F11)","v":0},"-",{"$f":"IF(H11=\"-\",0,H11)","v":0},"-",{"$f":"IF(J11=\"-\",0,J11)","v":0},7,{"$f":"IF(L11=\"-\",0,L11)","v":7},null,{"$f":"E11+G11+I11+K11+M11","v":7},{"$f":"MAX(D11,F11,H11,J11,L11)","v":7},{"$f":"IF(S11=1,O11,IF(S11=0,(O11-P11),\"-\"))","v":"-"},{"$f":"COUNTIF(U11:AD11,\"=TRUE\")","v":1},{"$f":"AE$1-R11","v":4},{"$f":"IF(S11<2,\"Yes\",\"No\")","v":"No"},{"$f":"IF(D11=\"-\",1,0)*U$1","v":1},{"$f":"AND(U11=0,U$1=1)","v":false},{"$f":"IF(F11=\"-\",1,0)*W$1","v":1},{"$f":"AND(W11=0,W$1=1)","v":false},{"$f":"IF(H11=\"-\",1,0)*Y$1","v":1},{"$f":"AND(Y11=0,Y$1=1)","v":false},{"$f":"IF(J11=\"-\",1,0)*AA$1","v":1},{"$f":"AND(AA11=0,AA$1=1)","v":false},{"$f":"IF(L11=\"-\",1,0)*AC$1","v":0},{"$f":"AND(AC11=0,AC$1=1)","v":true}]
[80,"Adam Oliver","Hastings High School",7,{"$f":"IF(D12=\"-\",0,D12)","v":7},17,{"$f":"IF(F12=\"-\",0,F12)","v":17},11,{"$f":"IF(H12=\"-\",0,H12)","v":11},9,{"$f":"IF(J12=\"-\",0,J12)","v":9},8,{"$f":"IF(L12=\"-\",0,L12)","v":8},null,{"$f":"E12+G12+I12+K12+M12","v":52},{"$f":"MAX(D12,F12,H12,J12,L12)","v":17},{"$f":"IF(S12=1,O12,IF(S12=0,(O12-P12),\"-\"))","v":35},{"$f":"COUNTIF(U12:AD12,\"=TRUE\")","v":5},{"$f":"AE$1-R12","v":0},{"$f":"IF(S12<2,\"Yes\",\"No\")","v":"Yes"},{"$f":"IF(D12=\"-\",1,0)*U$1","v":0},{"$f":"AND(U12=0,U$1=1)","v":true},{"$f":"IF(F12=\"-\",1,0)*W$1","v":0},{"$f":"AND(W12=0,W$1=1)","v":true},{"$f":"IF(H12=\"-\",1,0)*Y$1","v":0},{"$f":"AND(Y12=0,Y$1=1)","v":true},{"$f":"IF(J12=\"-\",1,0)*AA$1","v":0},{"$f":"AND(AA12=0,AA$1=1)","v":true},{"$f":"IF(L12=\"-\",1,0)*AC$1","v":0},{"$f":"AND(AC12=0,AC$1=1)","v":true}]
[70,"Adam Bowley","Shepshed High School","-",{"$f":"IF(D13=\"-\",0,D13)","v":0},22,{"$f":"IF(F13=\"-\",0,F13)","v":22},12,{"$f":"IF(H13=\"-\",0,H13)","v":12},"-",{"$f":"IF(J13=\"-\",0,J13)","v":0},9,{"$f":"IF(L13=\"-\",0,L13)","v":9},null,{"$f":"E13+G13+I13+K13+M13","v":43},{"$f":"MAX(D13,F13,H13,J13,L13)","v":22},{"$f":"IF(S13=1,O13,IF(S13=0,(O13-P13),\"-\"))","v":"-"},{"$f":"COUNTIF(U13:AD13,\"=TRUE\")","v":3},{"$f":"AE$1-R13","v":2},{"$f":"IF(S13<2,\"Yes\",\"No\")","v":"No"},{"$f":"IF(D13=\"-\",1,0)*U$1","v":1},{"$f":"AND(U13=0,U$1=1)","v":false},{"$f":"IF(F13=\"-\",1,0)*W$1","v":0},{"$f":"AND(W13=0,W$1=1)","v":true},{"$f":"IF(H13=\"-\",1,0)*Y$1","v":0},{"$f":"AND(Y13=0,Y$1=1)","v":true},{"$f":"IF(J13=\"-\",1,0)*AA$1","v":1},{"$f":"AND(AA13=0,AA$1=1)","v":false},{"$f":"IF(L13=\"-\",1,0)*AC$1","v":0},{"$f":"AND(AC13=0,AC$1=1)","v":true}]
[68,"Tom Wainwright","Welland Park Academy",6,{"$f":"IF(D14=\"-\",0,D14)","v":6},13,{"$f":"IF(F14=\"-\",0,F14)","v":13},10,{"$f":"IF(H14=\"-\",0,H14)","v":10},10,{"$f":"IF(J14=\"-\",0,J14)","v":10},10,{"$f":"IF(L14=\"-\",0,L14)","v":10},null,{"$f":"E14+G14+I14+K14+M14","v":49},{"$f":"MAX(D14,F14,H14,J14,L14)","v":13},{"$f":"IF(S14=1,O14,IF(S14=0,(O14-P14),\"-\"))","v":36},{"$f":"COUNTIF(U14:AD14,\"=TRUE\")","v":5},{"$f":"AE$1-R14","v":0},{"$f":"IF(S14<2,\"Yes\",\"No\")","v":"Yes"},{"$f":"IF(D14=\"-\",1,0)*U$1","v":0},{"$f":"AND(U14=0,U$1=1)","v":true},{"$f":"IF(F14=\"-\",1,0)*W$1","v":0},{"$f":"AND(W14=0,W$1=1)","v":true},{"$f":"IF(H14=\"-\",1,0)*Y$1","v":0},{"$f":"AND(Y14=0,Y$1=1)","v":true},{"$f":"IF(J14=\"-\",1,0)*AA$1","v":0},{"$f":"AND(AA14=0,AA$1=1)","v":true},{"$f":"IF(L14=\"-\",1,0)*AC$1","v":0},{"$f":"AND(AC14=0,AC$1=1)","v":true}]
[64,"Chris Nealon","Brookvale High School",10,{"$f":"IF(D15=\"-\",0,D15)","v":10},9,{"$f":"IF(F15=\"-\",0,F15)","v":9},7,{"$f":"IF(H15=\"-\",0,H15)","v":7},8,{"$f":"IF(J15=\"-\",0,J15)","v":8},11,{"$f":"IF(L15=\"-\",0,L15)","v":11},null,{"$f":"E15+G15+I15+K15+M15","v":45},{"$f":"MAX(D15,F15,H15,J15,L15)","v":11},{"$f":"IF(S15=1,O15,IF(S15=0,(O15-P15),\"-\"))","v":34},{"$f":"COUNTIF(U15:AD15,\"=TRUE\")","v":5},{"$f":"AE$1-R15","v":0},{"$f":"IF(S15<2,\"Yes\",\"No\")","v":"Yes"},{"$f":"IF(D15=\"-\",1,0)*U$1","v":0},{"$f":"AND(U15=0,U$1=1)","v":true},{"$f":"IF(F15=\"-\",1,0)*W$1","v":0},{"$f":"AND(W15=0,W$1=1)","v":true},{"$f":"IF(H15=\"-\",1,0)*Y$1","v":0},{"$f":"AND(Y15=0,Y$1=1)","v":true},{"$f":"IF(J15=\"-\",1,0)*AA$1","v":0},{"$f":"AND(AA15=0,AA$1=1)","v":true},{"$f":"IF(L15=\"-\",1,0)*AC$1","v":0},{"$f":"AND(AC15=0,AC$1=1)","v":true}]
[21,"George Robinson","Brookvale High School",8,{"$f":"IF(D16=\"-\",0,D16)","v":8},12,{"$f":"IF(F16=\"-\",0,F16)","v":12},15,{"$f":"IF(H16=\"-\",0,H16)","v":15},11,{"$f":"IF(J16=\"-\",0,J16)","v":11},12,{"$f":"IF(L16=\"-\",0,L16)","v":12},null,{"$f":"E16+G16+I16+K16+M16","v":58},{"$f":"MAX(D16,F16,H16,J16,L16)","v":15},{"$f":"IF(S16=1,O16,IF(S16=0,(O16-P16),\"-\"))","v":43},{"$f":"COUNTIF(U16:AD16,\"=TRUE\")","v":5},{"$f":"AE$1-R16","v":0},{"$f":"IF(S16<2,\"Yes\",\"No\")","v":"Yes"},{"$f":"IF(D16=\"-\",1,0)*U$1","v":0},{"$f":"AND(U16=0,U$1=1)","v":true},{"$f":"IF(F16=\"-\",1,0)*W$1","v":0},{"$f":"AND(W16=0,W$1=1)","v":true},{"$f":"IF(H16=\"-\",1,0)*Y$1","v":0},{"$f":"AND(Y16=0,Y$1=1)","v":true},{"$f":"IF(J16=\"-\",1,0)*AA$1","v":0},{"$f":"AND(AA16=0,AA$1=1)","v":true},{"$f":"IF(L16=\"-\",1,0)*AC$1","v":0},{"$f":"AND(AC16=0,AC$1=1)","v":true}]
[103,"Jimi Oliver","Bushloe High School","-",{"$f":"IF(D17=\"-\",0,D17)","v":0},15,{"$f":"IF(F17=\"-\",0,F17)","v":15},14,{"$f":"IF(H17=\"-\",0,H17)","v":14},12,{"$f":"IF(J17=\"-\",0,J17)","v":12},13,{"$f":"IF(L17=\"-\",0,L17)","v":13},null,{"$f":"E17+G17+I17+K17+M17","v":54},{"$f":"MAX(D17,F17,H17,J17,L17)","v":15},{"$f":"IF(S17=1,O17,IF(S17=0,(O17-P17),\"-\"))","v":54},{"$f":"COUNTIF(U17:AD17,\"=TRUE\")","v":4},{"$f":"AE$1-R17","v":1},{"$f":"IF(S17<2,\"Yes\",\"No\")","v":"Yes"},{"$f":"IF(D17=\"-\",1,0)*U$1","v":1},{"$f":"AND(U17=0,U$1=1)","v":false},{"$f":"IF(F17=\"-\",1,0)*W$1","v":0},{"$f":"AND(W17=0,W$1=1)","v":true},{"$f":"IF(H17=\"-\",1,0)*Y$1","v":0},{"$f":"AND(Y17=0,Y$1=1)","v":true},{"$f":"IF(J17=\"-\",1,0)*AA$1","v":0},{"$f":"AND(AA17=0,AA$1=1)","v":true},{"$f":"IF(L17=\"-\",1,0)*AC$1","v":0},{"$f":"AND(AC17=0,AC$1=1)","v":true}]
[95,"Will Parry","Welland Park Academy","-",{"$f":"IF(D18=\"-\",0,D18)","v":0},30,{"$f":"IF(F18=\"-\",0,F18)","v":30},20,{"$f":"IF(H18=\"-\",0,H18)","v":20},17,{"$f":"IF(J18=\"-\",0,J18)","v":17},14,{"$f":"IF(L18=\"-\",0,L18)","v":14},null,{"$f":"E18+G18+I18+K18+M18","v":81},{"$f":"MAX(D18,F18,H18,J18,L18)","v":30},{"$f":"IF(S18=1,O18,IF(S18=0,(O18-P18),\"-\"))","v":81},{"$f":"COUNTIF(U18:AD18,\"=TRUE\")","v":4},{"$f":"AE$1-R18","v":1},{"$f":"IF(S18<2,\"Yes\",\"No\")","v":"Yes"},{"$f":"IF(D18=\"-\",1,0)*U$1","v":1},{"$f":"AND(U18=0,U$1=1)","v":false},{"$f":"IF(F18=\"-\",1,0)*W$1","v":0},{"$f":"AND(W18=0,W$1=1)","v":true},{"$f":"IF(H18=\"-\",1,0)*Y$1","v":0},{"$f":"AND(Y18=0,Y$1=1)","v":true},{"$f":"IF(J18=\"-\",1,0)*AA$1","v":0},{"$f":"AND(AA18=0,AA$1=1)","v":true},{"$f":"IF(L18=\"-\",1,0)*AC$1","v":0},{"$f":"AND(AC18=0,AC$1=1)","v":true}]
[2,"Daniel Brown","Rawlins College",9,{"$f":"IF(D19=\"-\",0,D19)","v":9},14,{"$f":"IF(F19=\"-\",0,F19)","v":14},13,{"$f":"IF(H19=\"-\",0,H19)","v":13},15,{"$f":"IF(J19=\"-\",0,J19)","v":15},15,{"$f":"IF(L19=\"-\",0,L19)","v":15},null,{"$f":"E19+G19+I19+K19+M19","v":66},{"$f":"MAX(D19,F19,H19,J19,L19)","v":15},{"$f":"IF(S19=1,O19,IF(S19=0,(O19-P19),\"-\"))","v":51},{"$f":"COUNTIF(U19:AD19,\"=TRUE\")","v":5},{"$f":"AE$1-R19","v":0},{"$f":"IF(S19<2,\"Yes\",\"No\")","v":"Yes"},{"$f":"IF(D19=\"-\",1,0)*U$1","v":0},{"$f":"AND(U19=0,U$1=1)","v":true},{"$f":"IF(F19=\"-\",1,0)*W$1","v":0},{"$f":"AND(W19=0,W$1=1)","v":true},{"$f":"IF(H19=\"-\",1,0)*Y$1","v":0},{"$f":"AND(Y19=0,Y$1=1)","v":true},{"$f":"IF(J19=\"-\",1,0)*AA$1","v":0},{"$f":"AND(AA19=0,AA$1=1)","v":true},{"$f":"IF(L19=\"-\",1,0)*AC$1","v":0},{"$f":"AND(AC19=0,AC$1=1)","v":true}]
[59,"Guillaume Preston","Brockington College",20,{"$f":"IF(D20=\"-\",0,D20)","v":20},28,{"$f":"IF(F20=\"-\",0,F20)","v":28},17,{"$f":"IF(H20=\"-\",0,H20)","v":17},18,{"$f":"IF(J20=\"-\",0,J20)","v":18},16,{"$f":"IF(L20=\"-\",0,L20)","v":16},null,{"$f":"E20+G20+I20+K20+M20","v":99},{"$f":"MAX(D20,F20,H20,J20,L20)","v":28},{"$f":"IF(S20=1,O20,IF(S20=0,(O20-P20),\"-\"))","v":71},{"$f":"COUNTIF(U20:AD20,\"=TRUE\")","v":5},{"$f":"AE$1-R20","v":0},{"$f":"IF(S20<2,\"Yes\",\"No\")","v":"Yes"},{"$f":"IF(D20=\"-\",1,0)*U$1","v":0},{"$f":"AND(U20=0,U$1=1)","v":true},{"$f":"IF(F20=\"-\",1,0)*W$1","v":0},{"$f":"AND(W20=0,W$1=1)","v":true},{"$f":"IF(H20=\"-\",1,0)*Y$1","v":0},{"$f":"AND(Y20=0,Y$1=1)","v":true},{"$f":"IF(J20=\"-\",1,0)*AA$1","v":0},{"$f":"AND(AA20=0,AA$1=1)","v":true},{"$f":"IF(L20=\"-\",1,0)*AC$1","v":0},{"$f":"AND(AC20=0,AC$1=1)","v":true}]
[47,"Jonathan Harrison","De Lisle College",21,{"$f":"IF(D21=\"-\",0,D21)","v":21},23,{"$f":"IF(F21=\"-\",0,F21)","v":23},16,{"$f":"IF(H21=\"-\",0,H21)","v":16},19,{"$f":"IF(J21=\"-\",0,J21)","v":19},17,{"$f":"IF(L21=\"-\",0,L21)","v":17},null,{"$f":"E21+G21+I21+K21+M21","v":96},{"$f":"MAX(D21,F21,H21,J21,L21)","v":23},{"$f":"IF(S21=1,O21,IF(S21=0,(O21-P21),\"-\"))","v":73},{"$f":"COUNTIF(U21:AD21,\"=TRUE\")","v":5},{"$f":"AE$1-R21","v":0},{"$f":"IF(S21<2,\"Yes\",\"No\")","v":"Yes"},{"$f":"IF(D21=\"-\",1,0)*U$1","v":0},{"$f":"AND(U21=0,U$1=1)","v":true},{"$f":"IF(F21=\"-\",1,0)*W$1","v":0},{"$f":"AND(W21=0,W$1=1)","v":true},{"$f":"IF(H21=\"-\",1,0)*Y$1","v":0},{"$f":"AND(Y21=0,Y$1=1)","v":true},{"$f":"IF(J21=\"-\",1,0)*AA$1","v":0},{"$f":"AND(AA21=0,AA$1=1)","v":true},{"$f":"IF(L21=\"-\",1,0)*AC$1","v":0},{"$f":"AND(AC21=0,AC$1=1)","v":true}]
[74,"Anton Krupa","Loughborough Grammar School",13,{"$f":"IF(D22=\"-\",0,D22)","v":13},16,{"$f":"IF(F22=\"-\",0,F22)","v":16},"-",{"$f":"IF(H22=\"-\",0,H22)","v":0},13,{"$f":"IF(J22=\"-\",0,J22)","v":13},18,{"$f":"IF(L22=\"-\",0,L22)","v":18},null,{"$f":"E22+G22+I22+K22+M22","v":60},{"$f":"MAX(D22,F22,H22,J22,L22)","v":18},{"$f":"IF(S22=1,O22,IF(S22=0,(O22-P22),\"-\"))","v":60},{"$f":"COUNTIF(U22:AD22,\"=TRUE\")","v":4},{"$f":"AE$1-R22","v":1},{"$f":"IF(S22<2,\"Yes\",\"No\")","v":"Yes"},{"$f":"IF(D22=\"-\",1,0)*U$1","v":0},{"$f":"AND(U22=0,U$1=1)","v":true},{"$f":"IF(F22=\"-\",1,0)*W$1","v":0},{"$f":"AND(W22=0,W$1=1)","v":true},{"$f":"IF(H22=\"-\",1,0)*Y$1","v":1},{"$f":"AND(Y22=0,Y$1=1)","v":false},{"$f":"IF(J22=\"-\",1,0)*AA$1","v":0},{"$f":"AND(AA22=0,AA$1=1)","v":true},{"$f":"IF(L22=\"-\",1,0)*AC$1","v":0},{"$f":"AND(AC22=0,AC$1=1)","v":true}]
[38,"Jack Partridge ","Thomas Estley CC","-",{"$f":"IF(D23=\"-\",0,D23)","v":0},"-",{"$f":"IF(F23=\"-\",0,F23)","v":0},"-",{"$f":"IF(H23=\"-\",0,H23)","v":0},16,{"$f":"IF(J23=\"-\",0,J23)","v":16},19,{"$f":"IF(L23=\"-\",0,L23)","v":19},null,{"$f":"E23+G23+I23+K23+M23","v":35},{"$f":"MAX(D23,F23,H23,J23,L23)","v":19},{"$f":"IF(S23=1,O23,IF(S23=0,(O23-P23),\"-\"))","v":"-"},{"$f":"COUNTIF(U23:AD23,\"=TRUE\")","v":2},{"$f":"AE$1-R23","v":3},{"$f":"IF(S23<2,\"Yes\",\"No\")","v":"No"},{"$f":"IF(D23=\"-\",1,0)*U$1","v":1},{"$f":"AND(U23=0,U$1=1)","v":false},{"$f":"IF(F23=\"-\",1,0)*W$1","v":1},{"$f":"AND(W23=0,W$1=1)","v":false},{"$f":"IF(H23=\"-\",1,0)*Y$1","v":1},{"$f":"AND(Y23=0,Y$1=1)","v":false},{"$f":"IF(J23=\"-\",1,0)*AA$1","v":0},{"$f":"AND(AA23=0,AA$1=1)","v":true},{"$f":"IF(L23=\"-\",1,0)*AC$1","v":0},{"$f":"AND(AC23=0,AC$1=1)","v":true}]
[82,"Samuel Conboy","Catmose College","-",{"$f":"IF(D24=\"-\",0,D24)","v":0},39,{"$f":"IF(F24=\"-\",0,F24)","v":39},30,{"$f":"IF(H24=\"-\",0,H24)","v":30},"-",{"$f":"IF(J24=\"-\",0,J24)","v":0},20,{"$f":"IF(L24=\"-\",0,L24)","v":20},null,{"$f":"E24+G24+I24+K24+M24","v":89},{"$f":"MAX(D24,F24,H24,J24,L24)","v":39},{"$f":"IF(S24=1,O24,IF(S24=0,(O24-P24),\"-\"))","v":"-"},{"$f":"COUNTIF(U24:AD24,\"=TRUE\")","v":3},{"$f":"AE$1-R24","v":2},{"$f":"IF(S24<2,\"Yes\",\"No\")","v":"No"},{"$f":"IF(D24=\"-\",1,0)*U$1","v":1},{"$f":"AND(U24=0,U$1=1)","v":false},{"$f":"IF(F24=\"-\",1,0)*W$1","v":0},{"$f":"AND(W24=0,W$1=1)","v":true},{"$f":"IF(H24=\"-\",1,0)*Y$1","v":0},{"$f":"AND(Y24=0,Y$1=1)","v":true},{"$f":"IF(J24=\"-\",1,0)*AA$1","v":1},{"$f":"AND(AA24=0,AA$1=1)","v":false},{"$f":"IF(L24=\"-\",1,0)*AC$1","v":0},{"$f":"AND(AC24=0,AC$1=1)","v":true}]
[23,"Jared Cutler","Dixie Grammar School",11,{"$f":"IF(D25=\"-\",0,D25)","v":11},19,{"$f":"IF(F25=\"-\",0,F25)","v":19},"-",{"$f":"IF(H25=\"-\",0,H25)","v":0},14,{"$f":"IF(J25=\"-\",0,J25)","v":14},21,{"$f":"IF(L25=\"-\",0,L25)","v":21},null,{"$f":"E25+G25+I25+K25+M25","v":65},{"$f":"MAX(D25,F25,H25,J25,L25)","v":21},{"$f":"IF(S25=1,O25,IF(S25=0,(O25-P25),\"-\"))","v":65},{"$f":"COUNTIF(U25:AD25,\"=TRUE\")","v":4},{"$f":"AE$1-R25","v":1},{"$f":"IF(S25<2,\"Yes\",\"No\")","v":"Yes"},{"$f":"IF(D25=\"-\",1,0)*U$1","v":0},{"$f":"AND(U25=0,U$1=1)","v":true},{"$f":"IF(F25=\"-\",1,0)*W$1","v":0},{"$f":"AND(W25=0,W$1=1)","v":true},{"$f":"IF(H25=\"-\",1,0)*Y$1","v":1},{"$f":"AND(Y25=0,Y$1=1)","v":false},{"$f":"IF(J25=\"-\",1,0)*AA$1","v":0},{"$f":"AND(AA25=0,AA$1=1)","v":true},{"$f":"IF(L25=\"-\",1,0)*AC$1","v":0},{"$f":"AND(AC25=0,AC$1=1)","v":true}]
[92,"Thibaut Preston","Brockington College",31,{"$f":"IF(D26=\"-\",0,D26)","v":31},40,{"$f":"IF(F26=\"-\",0,F26)","v":40},26,{"$f":"IF(H26=\"-\",0,H26)","v":26},26,{"$f":"IF(J26=\"-\",0,J26)","v":26},22,{"$f":"IF(L26=\"-\",0,L26)","v":22},null,{"$f":"E26+G26+I26+K26+M26","v":145},{"$f":"MAX(D26,F26,H26,J26,L26)","v":40},{"$f":"IF(S26=1,O26,IF(S26=0,(O26-P26),\"-\"))","v":105},{"$f":"COUNTIF(U26:AD26,\"=TRUE\")","v":5},{"$f":"AE$1-R26","v":0},{"$f":"IF(S26<2,\"Yes\",\"No\")","v":"Yes"},{"$f":"IF(D26=\"-\",1,0)*U$1","v":0},{"$f":"AND(U26=0,U$1=1)","v":true},{"$f":"IF(F26=\"-\",1,0)*W$1","v":0},{"$f":"AND(W26=0,W$1=1)","v":true},{"$f":"IF(H26=\"-\",1,0)*Y$1","v":0},{"$f":"AND(Y26=0,Y$1=1)","v":true},{"$f":"IF(J26=\"-\",1,0)*AA$1","v":0},{"$f":"AND(AA26=0,AA$1=1)","v":true},{"$f":"IF(L26=\"-\",1,0)*AC$1","v":0},{"$f":"AND(AC26=0,AC$1=1)","v":true}]
[66,"Harvey Lloyd-Williams","Welland Park Academy",25,{"$f":"IF(D27=\"-\",0,D27)","v":25},"-",{"$f":"IF(F27=\"-\",0,F27)","v":0},24,{"$f":"IF(H27=\"-\",0,H27)","v":24},21,{"$f":"IF(J27=\"-\",0,J27)","v":21},23,{"$f":"IF(L27=\"-\",0,L27)","v":23},null,{"$f":"E27+G27+I27+K27+M27","v":93},{"$f":"MAX(D27,F27,H27,J27,L27)","v":25},{"$f":"IF(S27=1,O27,IF(S27=0,(O27-P27),\"-\"))","v":93},{"$f":"COUNTIF(U27:AD27,\"=TRUE\")","v":4},{"$f":"AE$1-R27","v":1},{"$f":"IF(S27<2,\"Yes\",\"No\")","v":"Yes"},{"$f":"IF(D27=\"-\",1,0)*U$1","v":0},{"$f":"AND(U27=0,U$1=1)","v":true},{"$f":"IF(F27=\"-\",1,0)*W$1","v":1},{"$f":"AND(W27=0,W$1=1)","v":false},{"$f":"IF(H27=\"-\",1,0)*Y$1","v":0},{"$f":"AND(Y27=0,Y$1=1)","v":true},{"$f":"IF(J27=\"-\",1,0)*AA$1","v":0},{"$f":"AND(AA27=0,AA$1=1)","v":true},{"$f":"IF(L27=\"-\",1,0)*AC$1","v":0},{"$f":"AND(AC27=0,AC$1=1)","v":true}]
[35,"George Cooke","Manor High School",24,{"$f":"IF(D28=\"-\",0,D28)","v":24},42,{"$f":"IF(F28=\"-\",0,F28)","v":42},25,{"$f":"IF(H28=\"-\",0,H28)","v":25},"-",{"$f":"IF(J28=\"-\",0,J28)","v":0},24,{"$f":"IF(L28=\"-\",0,L28)","v":24},null,{"$f":"E28+G28+I28+K28+M28","v":115},{"$f":"MAX(D28,F28,H28,J28,L28)","v":42},{"$f":"IF(S28=1,O28,IF(S28=0,(O28-P28),\"-\"))","v":115},{"$f":"COUNTIF(U28:AD28,\"=TRUE\")","v":4},{"$f":"AE$1-R28","v":1},{"$f":"IF(S28<2,\"Yes\",\"No\")","v":"Yes"},{"$f":"IF(D28=\"-\",1,0)*U$1","v":0},{"$f":"AND(U28=0,U$1=1)","v":true},{"$f":"IF(F28=\"-\",1,0)*W$1","v":0},{"$f":"AND(W28=0,W$1=1)","v":true},{"$f":"IF(H28=\"-\",1,0)*Y$1","v":0},{"$f":"AND(Y28=0,Y$1=1)","v":true},{"$f":"IF(J28=\"-\",1,0)*AA$1","v":1},{"$f":"AND(AA28=0,AA$1=1)","v":false},{"$f":"IF(L28=\"-\",1,0)*AC$1","v":0},{"$f":"AND(AC28=0,AC$1=1)","v":true}]
[55,"Musa Malik","Manor High School",29,{"$f":"IF(D29=\"-\",0,D29)","v":29},44,{"$f":"IF(F29=\"-\",0,F29)","v":44},28,{"$f":"IF(H29=\"-\",0,H29)","v":28},"-",{"$f":"IF(J29=\"-\",0,J29)","v":0},25,{"$f":"IF(L29=\"-\",0,L29)","v":25},null,{"$f":"E29+G29+I29+K29+M29","v":126},{"$f":"MAX(D29,F29,H29,J29,L29)","v":44},{"$f":"IF(S29=1,O29,IF(S29=0,(O29-P29),\"-\"))","v":126},{"$f":"COUNTIF(U29:AD29,\"=TRUE\")","v":4},{"$f":"AE$1-R29","v":1},{"$f":"IF(S29<2,\"Yes\",\"No\")","v":"Yes"},{"$f":"IF(D29=\"-\",1,0)*U$1","v":0},{"$f":"AND(U29=0,U$1=1)","v":true},{"$f":"IF(F29=\"-\",1,0)*W$1","v":0},{"$f":"AND(W29=0,W$1=1)","v":true},{"$f":"IF(H29=\"-\",1,0)*Y$1","v":0},{"$f":"AND(Y29=0,Y$1=1)","v":true},{"$f":"IF(J29=\"-\",1,0)*AA$1","v":1},{"$f":"AND(AA29=0,AA$1=1)","v":false},{"$f":"IF(L29=\"-\",1,0)*AC$1","v":0},{"$f":"AND(AC29=0,AC$1=1)","v":true}]
[8,"William Peet","Leicester Grammar School","-",{"$f":"IF(D30=\"-\",0,D30)","v":0},"-",{"$f":"IF(F30=\"-\",0,F30)","v":0},"-",{"$f":"IF(H30=\"-\",0,H30)","v":0},"-",{"$f":"IF(J30=\"-\",0,J30)","v":0},26,{"$f":"IF(L30=\"-\",0,L30)","v":26},null,{"$f":"E30+G30+I30+K30+M30","v":26},{"$f":"MAX(D30,F30,H30,J30,L30)","v":26},{"$f":"IF(S30=1,O30,IF(S30=0,(O30-P30),\"-\"))","v":"-"},{"$f":"COUNTIF(U30:AD30,\"=TRUE\")","v":1},{"$f":"AE$1-R30","v":4},{"$f":"IF(S30<2,\"Yes\",\"No\")","v":"No"},{"$f":"IF(D30=\"-\",1,0)*U$1","v":1},{"$f":"AND(U30=0,U$1=1)","v":false},{"$f":"IF(F30=\"-\",1,0)*W$1","v":1},{"$f":"AND(W30=0,W$1=1)","v":false},{"$f":"IF(H30=\"-\",1,0)*Y$1","v":1},{"$f":"AND(Y30=0,Y$1=1)","v":false},{"$f":"IF(J30=\"-\",1,0)*AA$1","v":1},{"$f":"AND(AA30=0,AA$1=1)","v":false},{"$f":"IF(L30=\"-\",1,0)*AC$1","v":0},{"$f":"AND(AC30=0,AC$1=1)","v":true}]
[49,"John Tailby","Wreake Valley Academy",32,{"$f":"IF(D31=\"-\",0,D31)","v":32},32,{"$f":"IF(F31=\"-\",0,F31)","v":32},22,{"$f":"IF(H31=\"-\",0,H31)","v":22},"-",{"$f":"IF(J31=\"-\",0,J31)","v":0},27,{"$f":"IF(L31=\"-\",0,L31)","v":27},null,{"$f":"E31+G31+I31+K31+M31","v":113},{"$f":"MAX(D31,F31,H31,J31,L31)","v":32},{"$f":"IF(S31=1,O31,IF(S31=0,(O31-P31),\"-\"))","v":113},{"$f":"COUNTIF(U31:AD31,\"=TRUE\")","v":4},{"$f":"AE$1-R31","v":1},{"$f":"IF(S31<2,\"Yes\",\"No\")","v":"Yes"},{"$f":"IF(D31=\"-\",1,0)*U$1","v":0},{"$f":"AND(U31=0,U$1=1)","v":true},{"$f":"IF(F31=\"-\",1,0)*W$1","v":0},{"$f":"AND(W31=0,W$1=1)","v":true},{"$f":"IF(H31=\"-\",1,0)*Y$1","v":0},{"$f":"AND(Y31=0,Y$1=1)","v":true},{"$f":"IF(J31=\"-\",1,0)*AA$1","v":1},{"$f":"AND(AA31=0,AA$1=1)","v":false},{"$f":"IF(L31=\"-\",1,0)*AC$1","v":0},{"$f":"AND(AC31=0,AC$1=1)","v":true}]
[87,"Matthew Jackson","De Lisle College","-",{"$f":"IF(D32=\"-\",0,D32)","v":0},38,{"$f":"IF(F32=\"-\",0,F32)","v":38},31,{"$f":"IF(H32=\"-\",0,H32)","v":31},"-",{"$f":"IF(J32=\"-\",0,J32)","v":0},28,{"$f":"IF(L32=\"-\",0,L32)","v":28},null,{"$f":"E32+G32+I32+K32+M32","v":97},{"$f":"MAX(D32,F32,H32,J32,L32)","v":38},{"$f":"IF(S32=1,O32,IF(S32=0,(O32-P32),\"-\"))","v":"-"},{"$f":"COUNTIF(U32:AD32,\"=TRUE\")","v":3},{"$f":"AE$1-R32","v":2},{"$f":"IF(S32<2,\"Yes\",\"No\")","v":"No"},{"$f":"IF(D32=\"-\",1,0)*U$1","v":1},{"$f":"AND(U32=0,U$1=1)","v":false},{"$f":"IF(F32=\"-\",1,0)*W$1","v":0},{"$f":"AND(W32=0,W$1=1)","v":true},{"$f":"IF(H32=\"-\",1,0)*Y$1","v":0},{"$f":"AND(Y32=0,Y$1=1)","v":true},{"$f":"IF(J32=\"-\",1,0)*AA$1","v":1},{"$f":"AND(AA32=0,AA$1=1)","v":false},{"$f":"IF(L32=\"-\",1,0)*AC$1","v":0},{"$f":"AND(AC32=0,AC$1=1)","v":true}]
[33,"Scott Cragg","John Ferneley College","-",{"$f":"IF(D33=\"-\",0,D33)","v":0},26,{"$f":"IF(F33=\"-\",0,F33)","v":26},"-",{"$f":"IF(H33=\"-\",0,H33)","v":0},"-",{"$f":"IF(J33=\"-\",0,J33)","v":0},29,{"$f":"IF(L33=\"-\",0,L33)","v":29},null,{"$f":"E33+G33+I33+K33+M33","v":55},{"$f":"MAX(D33,F33,H33,J33,L33)","v":29},{"$f":"IF(S33=1,O33,IF(S33=0,(O33-P33),\"-\"))","v":"-"},{"$f":"COUNTIF(U33:AD33,\"=TRUE\")","v":2},{"$f":"AE$1-R33","v":3},{"$f":"IF(S33<2,\"Yes\",\"No\")","v":"No"},{"$f":"IF(D33=\"-\",1,0)*U$1","v":1},{"$f":"AND(U33=0,U$1=1)","v":false},{"$f":"IF(F33=\"-\",1,0)*W$1","v":0},{"$f":"AND(W33=0,W$1=1)","v":true},{"$f":"IF(H33=\"-\",1,0)*Y$1","v":1},{"$f":"AND(Y33=0,Y$1=1)","v":false},{"$f":"IF(J33=\"-\",1,0)*AA$1","v":1},{"$f":"AND(AA33=0,AA$1=1)","v":false},{"$f":"IF(L33=\"-\",1,0)*AC$1","v":0},{"$f":"AND(AC33=0,AC$1=1)","v":true}]
[45,"Jacob Pantling","Brookvale High School","-",{"$f":"IF(D34=\"-\",0,D34)","v":0},"-",{"$f":"IF(F34=\"-\",0,F34)","v":0},"-",{"$f":"IF(H34=\"-\",0,H34)","v":0},"-",{"$f":"IF(J34=\"-\",0,J34)","v":0},30,{"$f":"IF(L34=\"-\",0,L34)","v":30},null,{"$f":"E34+G34+I34+K34+M34","v":30},{"$f":"MAX(D34,F34,H34,J34,L34)","v":30},{"$f":"IF(S34=1,O34,IF(S34=0,(O34-P34),\"-\"))","v":"-"},{"$f":"COUNTIF(U34:AD34,\"=TRUE\")","v":1},{"$f":"AE$1-R34","v":4},{"$f":"IF(S34<2,\"Yes\",\"No\")","v":"No"},{"$f":"IF(D34=\"-\",1,0)*U$1","v":1},{"$f":"AND(U34=0,U$1=1)","v":false},{"$f":"IF(F34=\"-\",1,0)*W$1","v":1},{"$f":"AND(W34=0,W$1=1)","v":false},{"$f":"IF(H34=\"-\",1,0)*Y$1","v":1},{"$f":"AND(Y34=0,Y$1=1)","v":false},{"$f":"IF(J34=\"-\",1,0)*AA$1","v":1},{"$f":"AND(AA34=0,AA$1=1)","v":false},{"$f":"IF(L34=\"-\",1,0)*AC$1","v":0},{"$f":"AND(AC34=0,AC$1=1)","v":true}]
[14,"Oliver Stockill","Brookvale High School",40,{"$f":"IF(D35=\"-\",0,D35)","v":40},47,{"$f":"IF(F35=\"-\",0,F35)","v":47},40,{"$f":"IF(H35=\"-\",0,H35)","v":40},29,{"$f":"IF(J35=\"-\",0,J35)","v":29},31,{"$f":"IF(L35=\"-\",0,L35)","v":31},null,{"$f":"E35+G35+I35+K35+M35","v":187},{"$f":"MAX(D35,F35,H35,J35,L35)","v":47},{"$f":"IF(S35=1,O35,IF(S35=0,(O35-P35),\"-\"))","v":140},{"$f":"COUNTIF(U35:AD35,\"=TRUE\")","v":5},{"$f":"AE$1-R35","v":0},{"$f":"IF(S35<2,\"Yes\",\"No\")","v":"Yes"},{"$f":"IF(D35=\"-\",1,0)*U$1","v":0},{"$f":"AND(U35=0,U$1=1)","v":true},{"$f":"IF(F35=\"-\",1,0)*W$1","v":0},{"$f":"AND(W35=0,W$1=1)","v":true},{"$f":"IF(H35=\"-\",1,0)*Y$1","v":0},{"$f":"AND(Y35=0,Y$1=1)","v":true},{"$f":"IF(J35=\"-\",1,0)*AA$1","v":0},{"$f":"AND(AA35=0,AA$1=1)","v":true},{"$f":"IF(L35=\"-\",1,0)*AC$1","v":0},{"$f":"AND(AC35=0,AC$1=1)","v":true}]
[61,"Brandon Mornow","Uppingham CC",34,{"$f":"IF(D36=\"-\",0,D36)","v":34},"-",{"$f":"IF(F36=\"-\",0,F36)","v":0},33,{"$f":"IF(H36=\"-\",0,H36)","v":33},27,{"$f":"IF(J36=\"-\",0,J36)","v":27},32,{"$f":"IF(L36=\"-\",0,L36)","v":32},null,{"$f":"E36+G36+I36+K36+M36","v":126},{"$f":"MAX(D36,F36,H36,J36,L36)","v":34},{"$f":"IF(S36=1,O36,IF(S36=0,(O36-P36),\"-\"))","v":126},{"$f":"COUNTIF(U36:AD36,\"=TRUE\")","v":4},{"$f":"AE$1-R36","v":1},{"$f":"IF(S36<2,\"Yes\",\"No\")","v":"Yes"},{"$f":"IF(D36=\"-\",1,0)*U$1","v":0},{"$f":"AND(U36=0,U$1=1)","v":true},{"$f":"IF(F36=\"-\",1,0)*W$1","v":1},{"$f":"AND(W36=0,W$1=1)","v":false},{"$f":"IF(H36=\"-\",1,0)*Y$1","v":0},{"$f":"AND(Y36=0,Y$1=1)","v":true},{"$f":"IF(J36=\"-\",1,0)*AA$1","v":0},{"$f":"AND(AA36=0,AA$1=1)","v":true},{"$f":"IF(L36=\"-\",1,0)*AC$1","v":0},{"$f":"AND(AC36=0,AC$1=1)","v":true}]
[12,"Matthew Dawson","Uppingham CC",36,{"$f":"IF(D37=\"-\",0,D37)","v":36},"-",{"$f":"IF(F37=\"-\",0,F37)","v":0},34,{"$f":"IF(H37=\"-\",0,H37)","v":34},28,{"$f":"IF(J37=\"-\",0,J37)","v":28},33,{"$f":"IF(L37=\"-\",0,L37)","v":33},null,{"$f":"E37+G37+I37+K37+M37","v":131},{"$f":"MAX(D37,F37,H37,J37,L37)","v":36},{"$f":"IF(S37=1,O37,IF(S37=0,(O37-P37),\"-\"))","v":131},{"$f":"COUNTIF(U37:AD37,\"=TRUE\")","v":4},{"$f":"AE$1-R37","v":1},{"$f":"IF(S37<2,\"Yes\",\"No\")","v":"Yes"},{"$f":"IF(D37=\"-\",1,0)*U$1","v":0},{"$f":"AND(U37=0,U$1=1)","v":true},{"$f":"IF(F37=\"-\",1,0)*W$1","v":1},{"$f":"AND(W37=0,W$1=1)","v":false},{"$f":"IF(H37=\"-\",1,0)*Y$1","v":0},{"$f":"AND(Y37=0,Y$1=1)","v":true},{"$f":"IF(J37=\"-\",1,0)*AA$1","v":0},{"$f":"AND(AA37=0,AA$1=1)","v":true},{"$f":"IF(L37=\"-\",1,0)*AC$1","v":0},{"$f":"AND(AC37=0,AC$1=1)","v":true}]
[54,"Joe Disney","Wreake Valley Academy",28,{"$f":"IF(D38=\"-\",0,D38)","v":28},41,{"$f":"IF(F38=\"-\",0,F38)","v":41},36,{"$f":"IF(H38=\"-\",0,H38)","v":36},30,{"$f":"IF(J38=\"-\",0,J38)","v":30},34,{"$f":"IF(L38=\"-\",0,L38)","v":34},null,{"$f":"E38+G38+I38+K38+M38","v":169},{"$f":"MAX(D38,F38,H38,J38,L38)","v":41},{"$f":"IF(S38=1,O38,IF(S38=0,(O38-P38),\"-\"))","v":128},{"$f":"COUNTIF(U38:AD38,\"=TRUE\")","v":5},{"$f":"AE$1-R38","v":0},{"$f":"IF(S38<2,\"Yes\",\"No\")","v":"Yes"},{"$f":"IF(D38=\"-\",1,0)*U$1","v":0},{"$f":"AND(U38=0,U$1=1)","v":true},{"$f":"IF(F38=\"-\",1,0)*W$1","v":0},{"$f":"AND(W38=0,W$1=1)","v":true},{"$f":"IF(H38=\"-\",1,0)*Y$1","v":0},{"$f":"AND(Y38=0,Y$1=1)","v":true},{"$f":"IF(J38=\"-\",1,0)*AA$1","v":0},{"$f":"AND(AA38=0,AA$1=1)","v":true},{"$f":"IF(L38=\"-\",1,0)*AC$1","v":0},{"$f":"AND(AC38=0,AC$1=1)","v":true}]
[31,"Matt Drury","Loughborough Grammar School",39,{"$f":"IF(D39=\"-\",0,D39)","v":39},53,{"$f":"IF(F39=\"-\",0,F39)","v":53},42,{"$f":"IF(H39=\"-\",0,H39)","v":42},31,{"$f":"IF(J39=\"-\",0,J39)","v":31},35,{"$f":"IF(L39=\"-\",0,L39)","v":35},null,{"$f":"E39+G39+I39+K39+M39","v":200},{"$f":"MAX(D39,F39,H39,J39,L39)","v":53},{"$f":"IF(S39=1,O39,IF(S39=0,(O39-P39),\"-\"))","v":147},{"$f":"COUNTIF(U39:AD39,\"=TRUE\")","v":5},{"$f":"AE$1-R39","v":0},{"$f":"IF(S39<2,\"Yes\",\"No\")","v":"Yes"},{"$f":"IF(D39=\"-\",1,0)*U$1","v":0},{"$f":"AND(U39=0,U$1=1)","v":true},{"$f":"IF(F39=\"-\",1,0)*W$1","v":0},{"$f":"AND(W39=0,W$1=1)","v":true},{"$f":"IF(H39=\"-\",1,0)*Y$1","v":0},{"$f":"AND(Y39=0,Y$1=1)","v":true},{"$f":"IF(J39=\"-\",1,0)*AA$1","v":0},{"$f":"AND(AA39=0,AA$1=1)","v":true},{"$f":"IF(L39=\"-\",1,0)*AC$1","v":0},{"$f":"AND(AC39=0,AC$1=1)","v":true}]
[99,"Sam Brightman","Shepshed High School","-",{"$f":"IF(D40=\"-\",0,D40)","v":0},45,{"$f":"IF(F40=\"-\",0,F40)","v":45},32,{"$f":"IF(H40=\"-\",0,H40)","v":32},"-",{"$f":"IF(J40=\"-\",0,J40)","v":0},36,{"$f":"IF(L40=\"-\",0,L40)","v":36},null,{"$f":"E40+G40+I40+K40+M40","v":113},{"$f":"MAX(D40,F40,H40,J40,L40)","v":45},{"$f":"IF(S40=1,O40,IF(S40=0,(O40-P40),\"-\"))","v":"-"},{"$f":"COUNTIF(U40:AD40,\"=TRUE\")","v":3},{"$f":"AE$1-R40","v":2},{"$f":"IF(S40<2,\"Yes\",\"No\")","v":"No"},{"$f":"IF(D40=\"-\",1,0)*U$1","v":1},{"$f":"AND(U40=0,U$1=1)","v":false},{"$f":"IF(F40=\"-\",1,0)*W$1","v":0},{"$f":"AND(W40=0,W$1=1)","v":true},{"$f":"IF(H40=\"-\",1,0)*Y$1","v":0},{"$f":"AND(Y40=0,Y$1=1)","v":true},{"$f":"IF(J40=\"-\",1,0)*AA$1","v":1},{"$f":"AND(AA40=0,AA$1=1)","v":false},{"$f":"IF(L40=\"-\",1,0)*AC$1","v":0},{"$f":"AND(AC40=0,AC$1=1)","v":true}]
[76,"Jack Chester","Brookvale High School",38,{"$f":"IF(D41=\"-\",0,D41)","v":38},49,{"$f":"IF(F41=\"-\",0,F41)","v":49},"-",{"$f":"IF(H41=\"-\",0,H41)","v":0},"-",{"$f":"IF(J41=\"-\",0,J41)","v":0},37,{"$f":"IF(L41=\"-\",0,L41)","v":37},null,{"$f":"E41+G41+I41+K41+M41","v":124},{"$f":"MAX(D41,F41,H41,J41,L41)","v":49},{"$f":"IF(S41=1,O41,IF(S41=0,(O41-P41),\"-\"))","v":"-"},{"$f":"COUNTIF(U41:AD41,\"=TRUE\")","v":3},{"$f":"AE$1-R41","v":2},{"$f":"IF(S41<2,\"Yes\",\"No\")","v":"No"},{"$f":"IF(D41=\"-\",1,0)*U$1","v":0},{"$f":"AND(U41=0,U$1=1)","v":true},{"$f":"IF(F41=\"-\",1,0)*W$1","v":0},{"$f":"AND(W41=0,W$1=1)","v":true},{"$f":"IF(H41=\"-\",1,0)*Y$1","v":1},{"$f":"AND(Y41=0,Y$1=1)","v":false},{"$f":"IF(J41=\"-\",1,0)*AA$1","v":1},{"$f":"AND(AA41=0,AA$1=1)","v":false},{"$f":"IF(L41=\"-\",1,0)*AC$1","v":0},{"$f":"AND(AC41=0,AC$1=1)","v":true}]
[88,"Kieran Melvin","Thomas Estley CC","-",{"$f":"IF(D42=\"-\",0,D42)","v":0},"-",{"$f":"IF(F42=\"-\",0,F42)","v":0},46,{"$f":"IF(H42=\"-\",0,H42)","v":46},"-",{"$f":"IF(J42=\"-\",0,J42)","v":0},38,{"$f":"IF(L42=\"-\",0,L42)","v":38},null,{"$f":"E42+G42+I42+K42+M42","v":84},{"$f":"MAX(D42,F42,H42,J42,L42)","v":46},{"$f":"IF(S42=1,O42,IF(S42=0,(O42-P42),\"-\"))","v":"-"},{"$f":"COUNTIF(U42:AD42,\"=TRUE\")","v":2},{"$f":"AE$1-R42","v":3},{"$f":"IF(S42<2,\"Yes\",\"No\")","v":"No"},{"$f":"IF(D42=\"-\",1,0)*U$1","v":1},{"$f":"AND(U42=0,U$1=1)","v":false},{"$f":"IF(F42=\"-\",1,0)*W$1","v":1},{"$f":"AND(W42=0,W$1=1)","v":false},{"$f":"IF(H42=\"-\",1,0)*Y$1","v":0},{"$f":"AND(Y42=0,Y$1=1)","v":true},{"$f":"IF(J42=\"-\",1,0)*AA$1","v":1},{"$f":"AND(AA42=0,AA$1=1)","v":false},{"$f":"IF(L42=\"-\",1,0)*AC$1","v":0},{"$f":"AND(AC42=0,AC$1=1)","v":true}]
[48,"Ollie Row","Thomas Estley CC","-",{"$f":"IF(D43=\"-\",0,D43)","v":0},51,{"$f":"IF(F43=\"-\",0,F43)","v":51},"-",{"$f":"IF(H43=\"-\",0,H43)","v":0},36,{"$f":"IF(J43=\"-\",0,J43)","v":36},39,{"$f":"IF(L43=\"-\",0,L43)","v":39},null,{"$f":"E43+G43+I43+K43+M43","v":126},{"$f":"MAX(D43,F43,H43,J43,L43)","v":51},{"$f":"IF(S43=1,O43,IF(S43=0,(O43-P43),\"-\"))","v":"-"},{"$f":"COUNTIF(U43:AD43,\"=TRUE\")","v":3},{"$f":"AE$1-R43","v":2},{"$f":"IF(S43<2,\"Yes\",\"No\")","v":"No"},{"$f":"IF(D43=\"-\",1,0)*U$1","v":1},{"$f":"AND(U43=0,U$1=1)","v":false},{"$f":"IF(F43=\"-\",1,0)*W$1","v":0},{"$f":"AND(W43=0,W$1=1)","v":true},{"$f":"IF(H43=\"-\",1,0)*Y$1","v":1},{"$f":"AND(Y43=0,Y$1=1)","v":false},{"$f":"IF(J43=\"-\",1,0)*AA$1","v":0},{"$f":"AND(AA43=0,AA$1=1)","v":true},{"$f":"IF(L43=\"-\",1,0)*AC$1","v":0},{"$f":"AND(AC43=0,AC$1=1)","v":true}]
[91,"Arsalan Ahmed Syed","Crown Hills CC","-",{"$f":"IF(D44=\"-\",0,D44)","v":0},61,{"$f":"IF(F44=\"-\",0,F44)","v":61},47,{"$f":"IF(H44=\"-\",0,H44)","v":47},34,{"$f":"IF(J44=\"-\",0,J44)","v":34},40,{"$f":"IF(L44=\"-\",0,L44)","v":40},null,{"$f":"E44+G44+I44+K44+M44","v":182},{"$f":"MAX(D44,F44,H44,J44,L44)","v":61},{"$f":"IF(S44=1,O44,IF(S44=0,(O44-P44),\"-\"))","v":182},{"$f":"COUNTIF(U44:AD44,\"=TRUE\")","v":4},{"$f":"AE$1-R44","v":1},{"$f":"IF(S44<2,\"Yes\",\"No\")","v":"Yes"},{"$f":"IF(D44=\"-\",1,0)*U$1","v":1},{"$f":"AND(U44=0,U$1=1)","v":false},{"$f":"IF(F44=\"-\",1,0)*W$1","v":0},{"$f":"AND(W44=0,W$1=1)","v":true},{"$f":"IF(H44=\"-\",1,0)*Y$1","v":0},{"$f":"AND(Y44=0,Y$1=1)","v":true},{"$f":"IF(J44=\"-\",1,0)*AA$1","v":0},{"$f":"AND(AA44=0,AA$1=1)","v":true},{"$f":"IF(L44=\"-\",1,0)*AC$1","v":0},{"$f":"AND(AC44=0,AC$1=1)","v":true}]
[93,"Jake Leech","Stonehill High School","-",{"$f":"IF(D45=\"-\",0,D45)","v":0},58,{"$f":"IF(F45=\"-\",0,F45)","v":58},43,{"$f":"IF(H45=\"-\",0,H45)","v":43},32,{"$f":"IF(J45=\"-\",0,J45)","v":32},41,{"$f":"IF(L45=\"-\",0,L45)","v":41},null,{"$f":"E45+G45+I45+K45+M45","v":174},{"$f":"MAX(D45,F45,H45,J45,L45)","v":58},{"$f":"IF(S45=1,O45,IF(S45=0,(O45-P45),\"-\"))","v":174},{"$f":"COUNTIF(U45:AD45,\"=TRUE\")","v":4},{"$f":"AE$1-R45","v":1},{"$f":"IF(S45<2,\"Yes\",\"No\")","v":"Yes"},{"$f":"IF(D45=\"-\",1,0)*U$1","v":1},{"$f":"AND(U45=0,U$1=1)","v":false},{"$f":"IF(F45=\"-\",1,0)*W$1","v":0},{"$f":"AND(W45=0,W$1=1)","v":true},{"$f":"IF(H45=\"-\",1,0)*Y$1","v":0},{"$f":"AND(Y45=0,Y$1=1)","v":true},{"$f":"IF(J45=\"-\",1,0)*AA$1","v":0},{"$f":"AND(AA45=0,AA$1=1)","v":true},{"$f":"IF(L45=\"-\",1,0)*AC$1","v":0},{"$f":"AND(AC45=0,AC$1=1)","v":true}]
[22,"Oliver Rouse","Loughborough Grammar School",2,{"$f":"IF(D46=\"-\",0,D46)","v":2},2,{"$f":"IF(F46=\"-\",0,F46)","v":2},2,{"$f":"IF(H46=\"-\",0,H46)","v":2},1,{"$f":"IF(J46=\"-\",0,J46)","v":1},"-",{"$f":"IF(L46=\"-\",0,L46)","v":0},null,{"$f":"E46+G46+I46+K46+M46","v":7},{"$f":"MAX(D46,F46,H46,J46,L46)","v":2},{"$f":"IF(S46=1,O46,IF(S46=0,(O46-P46),\"-\"))","v":7},{"$f":"COUNTIF(U46:AD46,\"=TRUE\")","v":4},{"$f":"AE$1-R46","v":1},{"$f":"IF(S46<2,\"Yes\",\"No\")","v":"Yes"},{"$f":"IF(D46=\"-\",1,0)*U$1","v":0},{"$f":"AND(U46=0,U$1=1)","v":true},{"$f":"IF(F46=\"-\",1,0)*W$1","v":0},{"$f":"AND(W46=0,W$1=1)","v":true},{"$f":"IF(H46=\"-\",1,0)*Y$1","v":0},{"$f":"AND(Y46=0,Y$1=1)","v":true},{"$f":"IF(J46=\"-\",1,0)*AA$1","v":0},{"$f":"AND(AA46=0,AA$1=1)","v":true},{"$f":"IF(L46=\"-\",1,0)*AC$1","v":1},{"$f":"AND(AC46=0,AC$1=1)","v":false}]
[46,"Ben Rouse","Loughborough Grammar School",1,{"$f":"IF(D47=\"-\",0,D47)","v":1},1,{"$f":"IF(F47=\"-\",0,F47)","v":1},1,{"$f":"IF(H47=\"-\",0,H47)","v":1},2,{"$f":"IF(J47=\"-\",0,J47)","v":2},"-",{"$f":"IF(L47=\"-\",0,L47)","v":0},null,{"$f":"E47+G47+I47+K47+M47","v":5},{"$f":"MAX(D47,F47,H47,J47,L47)","v":2},{"$f":"IF(S47=1,O47,IF(S47=0,(O47-P47),\"-\"))","v":5},{"$f":"COUNTIF(U47:AD47,\"=TRUE\")","v":4},{"$f":"AE$1-R47","v":1},{"$f":"IF(S47<2,\"Yes\",\"No\")","v":"Yes"},{"$f":"IF(D47=\"-\",1,0)*U$1","v":0},{"$f":"AND(U47=0,U$1=1)","v":true},{"$f":"IF(F47=\"-\",1,0)*W$1","v":0},{"$f":"AND(W47=0,W$1=1)","v":true},{"$f":"IF(H47=\"-\",1,0)*Y$1","v":0},{"$f":"AND(Y47=0,Y$1=1)","v":true},{"$f":"IF(J47=\"-\",1,0)*AA$1","v":0},{"$f":"AND(AA47=0,AA$1=1)","v":true},{"$f":"IF(L47=\"-\",1,0)*AC$1","v":1},{"$f":"AND(AC47=0,AC$1=1)","v":false}]
[36,"Ben Cotton","Lutterworth High School",23,{"$f":"IF(D48=\"-\",0,D48)","v":23},"-",{"$f":"IF(F48=\"-\",0,F48)","v":0},23,{"$f":"IF(H48=\"-\",0,H48)","v":23},20,{"$f":"IF(J48=\"-\",0,J48)","v":20},"-",{"$f":"IF(L48=\"-\",0,L48)","v":0},null,{"$f":"E48+G48+I48+K48+M48","v":66},{"$f":"MAX(D48,F48,H48,J48,L48)","v":23},{"$f":"IF(S48=1,O48,IF(S48=0,(O48-P48),\"-\"))","v":"-"},{"$f":"COUNTIF(U48:AD48,\"=TRUE\")","v":3},{"$f":"AE$1-R48","v":2},{"$f":"IF(S48<2,\"Yes\",\"No\")","v":"No"},{"$f":"IF(D48=\"-\",1,0)*U$1","v":0},{"$f":"AND(U48=0,U$1=1)","v":true},{"$f":"IF(F48=\"-\",1,0)*W$1","v":1},{"$f":"AND(W48=0,W$1=1)","v":false},{"$f":"IF(H48=\"-\",1,0)*Y$1","v":0},{"$f":"AND(Y48=0,Y$1=1)","v":true},{"$f":"IF(J48=\"-\",1,0)*AA$1","v":0},{"$f":"AND(AA48=0,AA$1=1)","v":true},{"$f":"IF(L48=\"-\",1,0)*AC$1","v":1},{"$f":"AND(AC48=0,AC$1=1)","v":false}]
[26,"David Dudeney","Loughborough Grammar School",27,{"$f":"IF(D49=\"-\",0,D49)","v":27},34,{"$f":"IF(F49=\"-\",0,F49)","v":34},"-",{"$f":"IF(H49=\"-\",0,H49)","v":0},22,{"$f":"IF(J49=\"-\",0,J49)","v":22},"-",{"$f":"IF(L49=\"-\",0,L49)","v":0},null,{"$f":"E49+G49+I49+K49+M49","v":83},{"$f":"MAX(D49,F49,H49,J49,L49)","v":34},{"$f":"IF(S49=1,O49,IF(S49=0,(O49-P49),\"-\"))","v":"-"},{"$f":"COUNTIF(U49:AD49,\"=TRUE\")","v":3},{"$f":"AE$1-R49","v":2},{"$f":"IF(S49<2,\"Yes\",\"No\")","v":"No"},{"$f":"IF(D49=\"-\",1,0)*U$1","v":0},{"$f":"AND(U49=0,U$1=1)","v":true},{"$f":"IF(F49=\"-\",1,0)*W$1","v":0},{"$f":"AND(W49=0,W$1=1)","v":true},{"$f":"IF(H49=\"-\",1,0)*Y$1","v":1},{"$f":"AND(Y49=0,Y$1=1)","v":false},{"$f":"IF(J49=\"-\",1,0)*AA$1","v":0},{"$f":"AND(AA49=0,AA$1=1)","v":true},{"$f":"IF(L49=\"-\",1,0)*AC$1","v":1},{"$f":"AND(AC49=0,AC$1=1)","v":false}]
[4,"Freddie Young","Stonehill High School",17,{"$f":"IF(D50=\"-\",0,D50)","v":17},"-",{"$f":"IF(F50=\"-\",0,F50)","v":0},"-",{"$f":"IF(H50=\"-\",0,H50)","v":0},23,{"$f":"IF(J50=\"-\",0,J50)","v":23},"-",{"$f":"IF(L50=\"-\",0,L50)","v":0},null,{"$f":"E50+G50+I50+K50+M50","v":40},{"$f":"MAX(D50,F50,H50,J50,L50)","v":23},{"$f":"IF(S50=1,O50,IF(S50=0,(O50-P50),\"-\"))","v":"-"},{"$f":"COUNTIF(U50:AD50,\"=TRUE\")","v":2},{"$f":"AE$1-R50","v":3},{"$f":"IF(S50<2,\"Yes\",\"No\")","v":"No"},{"$f":"IF(D50=\"-\",1,0)*U$1","v":0},{"$f":"AND(U50=0,U$1=1)","v":true},{"$f":"IF(F50=\"-\",1,0)*W$1","v":1},{"$f":"AND(W50=0,W$1=1)","v":false},{"$f":"IF(H50=\"-\",1,0)*Y$1","v":1},{"$f":"AND(Y50=0,Y$1=1)","v":false},{"$f":"IF(J50=\"-\",1,0)*AA$1","v":0},{"$f":"AND(AA50=0,AA$1=1)","v":true},{"$f":"IF(L50=\"-\",1,0)*AC$1","v":1},{"$f":"AND(AC50=0,AC$1=1)","v":false}]
[104,"George Beel","Bushloe High School","-",{"$f":"IF(D51=\"-\",0,D51)","v":0},21,{"$f":"IF(F51=\"-\",0,F51)","v":21},"-",{"$f":"IF(H51=\"-\",0,H51)","v":0},24,{"$f":"IF(J51=\"-\",0,J51)","v":24},"-",{"$f":"IF(L51=\"-\",0,L51)","v":0},null,{"$f":"E51+G51+I51+K51+M51","v":45},{"$f":"MAX(D51,F51,H51,J51,L51)","v":24},{"$f":"IF(S51=1,O51,IF(S51=0,(O51-P51),\"-\"))","v":"-"},{"$f":"COUNTIF(U51:AD51,\"=TRUE\")","v":2},{"$f":"AE$1-R51","v":3},{"$f":"IF(S51<2,\"Yes\",\"No\")","v":"No"},{"$f":"IF(D51=\"-\",1,0)*U$1","v":1},{"$f":"AND(U51=0,U$1=1)","v":false},{"$f":"IF(F51=\"-\",1,0)*W$1","v":0},{"$f":"AND(W51=0,W$1=1)","v":true},{"$f":"IF(H51=\"-\",1,0)*Y$1","v":1},{"$f":"AND(Y51=0,Y$1=1)","v":false},{"$f":"IF(J51=\"-\",1,0)*AA$1","v":0},{"$f":"AND(AA51=0,AA$1=1)","v":true},{"$f":"IF(L51=\"-\",1,0)*AC$1","v":1},{"$f":"AND(AC51=0,AC$1=1)","v":false}]
[32,"Sam Haind","Uppingham CC","-",{"$f":"IF(D52=\"-\",0,D52)","v":0},"-",{"$f":"IF(F52=\"-\",0,F52)","v":0},"-",{"$f":"IF(H52=\"-\",0,H52)","v":0},33,{"$f":"IF(J52=\"-\",0,J52)","v":33},"-",{"$f":"IF(L52=\"-\",0,L52)","v":0},null,{"$f":"E52+G52+I52+K52+M52","v":33},{"$f":"MAX(D52,F52,H52,J52,L52)","v":33},{"$f":"IF(S52=1,O52,IF(S52=0,(O52-P52),\"-\"))","v":"-"},{"$f":"COUNTIF(U52:AD52,\"=TRUE\")","v":1},{"$f":"AE$1-R52","v":4},{"$f":"IF(S52<2,\"Yes\",\"No\")","v":"No"},{"$f":"IF(D52=\"-\",1,0)*U$1","v":1},{"$f":"AND(U52=0,U$1=1)","v":false},{"$f":"IF(F52=\"-\",1,0)*W$1","v":1},{"$f":"AND(W52=0,W$1=1)","v":false},{"$f":"IF(H52=\"-\",1,0)*Y$1","v":1},{"$f":"AND(Y52=0,Y$1=1)","v":false},{"$f":"IF(J52=\"-\",1,0)*AA$1","v":0},{"$f":"AND(AA52=0,AA$1=1)","v":true},{"$f":"IF(L52=\"-\",1,0)*AC$1","v":1},{"$f":"AND(AC52=0,AC$1=1)","v":false}]
[19,"Adam Hunt","Thomas Estley CC",45,{"$f":"IF(D53=\"-\",0,D53)","v":45},50,{"$f":"IF(F53=\"-\",0,F53)","v":50},44,{"$f":"IF(H53=\"-\",0,H53)","v":44},35,{"$f":"IF(J53=\"-\",0,J53)","v":35},"-",{"$f":"IF(L53=\"-\",0,L53)","v":0},null,{"$f":"E53+G53+I53+K53+M53","v":174},{"$f":"MAX(D53,F53,H53,J53,L53)","v":50},{"$f":"IF(S53=1,O53,IF(S53=0,(O53-P53),\"-\"))","v":174},{"$f":"COUNTIF(U53:AD53,\"=TRUE\")","v":4},{"$f":"AE$1-R53","v":1},{"$f":"IF(S53<2,\"Yes\",\"No\")","v":"Yes"},{"$f":"IF(D53=\"-\",1,0)*U$1","v":0},{"$f":"AND(U53=0,U$1=1)","v":true},{"$f":"IF(F53=\"-\",1,0)*W$1","v":0},{"$f":"AND(W53=0,W$1=1)","v":true},{"$f":"IF(H53=\"-\",1,0)*Y$1","v":0},{"$f":"AND(Y53=0,Y$1=1)","v":true},{"$f":"IF(J53=\"-\",1,0)*AA$1","v":0},{"$f":"AND(AA53=0,AA$1=1)","v":true},{"$f":"IF(L53=\"-\",1,0)*AC$1","v":1},{"$f":"AND(AC53=0,AC$1=1)","v":false}]
[43,"Babalar Mbaye","Crown Hills CC","-",{"$f":"IF(D54=\"-\",0,D54)","v":0},"-",{"$f":"IF(F54=\"-\",0,F54)","v":0},"-",{"$f":"IF(H54=\"-\",0,H54)","v":0},37,{"$f":"IF(J54=\"-\",0,J54)","v":37},"-",{"$f":"IF(L54=\"-\",0,L54)","v":0},null,{"$f":"E54+G54+I54+K54+M54","v":37},{"$f":"MAX(D54,F54,H54,J54,L54)","v":37},{"$f":"IF(S54=1,O54,IF(S54=0,(O54-P54),\"-\"))","v":"-"},{"$f":"COUNTIF(U54:AD54,\"=TRUE\")","v":1},{"$f":"AE$1-R54","v":4},{"$f":"IF(S54<2,\"Yes\",\"No\")","v":"No"},{"$f":"IF(D54=\"-\",1,0)*U$1","v":1},{"$f":"AND(U54=0,U$1=1)","v":false},{"$f":"IF(F54=\"-\",1,0)*W$1","v":1},{"$f":"AND(W54=0,W$1=1)","v":false},{"$f":"IF(H54=\"-\",1,0)*Y$1","v":1},{"$f":"AND(Y54=0,Y$1=1)","v":false},{"$f":"IF(J54=\"-\",1,0)*AA$1","v":0},{"$f":"AND(AA54=0,AA$1=1)","v":true},{"$f":"IF(L54=\"-\",1,0)*AC$1","v":1},{"$f":"AND(AC54=0,AC$1=1)","v":false}]
[107,"Umar Hansrot","Crown Hills CC",48,{"$f":"IF(D55=\"-\",0,D55)","v":48},56,{"$f":"IF(F55=\"-\",0,F55)","v":56},48,{"$f":"IF(H55=\"-\",0,H55)","v":48},38,{"$f":"IF(J55=\"-\",0,J55)","v":38},"-",{"$f":"IF(L55=\"-\",0,L55)","v":0},null,{"$f":"E55+G55+I55+K55+M55","v":190},{"$f":"MAX(D55,F55,H55,J55,L55)","v":56},{"$f":"IF(S55=1,O55,IF(S55=0,(O55-P55),\"-\"))","v":190},{"$f":"COUNTIF(U55:AD55,\"=TRUE\")","v":4},{"$f":"AE$1-R55","v":1},{"$f":"IF(S55<2,\"Yes\",\"No\")","v":"Yes"},{"$f":"IF(D55=\"-\",1,0)*U$1","v":0},{"$f":"AND(U55=0,U$1=1)","v":true},{"$f":"IF(F55=\"-\",1,0)*W$1","v":0},{"$f":"AND(W55=0,W$1=1)","v":true},{"$f":"IF(H55=\"-\",1,0)*Y$1","v":0},{"$f":"AND(Y55=0,Y$1=1)","v":true},{"$f":"IF(J55=\"-\",1,0)*AA$1","v":0},{"$f":"AND(AA55=0,AA$1=1)","v":true},{"$f":"IF(L55=\"-\",1,0)*AC$1","v":1},{"$f":"AND(AC55=0,AC$1=1)","v":false}]
[42,"Nadeem Laturiya","Crown Hills CC","-",{"$f":"IF(D56=\"-\",0,D56)","v":0},"-",{"$f":"IF(F56=\"-\",0,F56)","v":0},"-",{"$f":"IF(H56=\"-\",0,H56)","v":0},39,{"$f":"IF(J56=\"-\",0,J56)","v":39},"-",{"$f":"IF(L56=\"-\",0,L56)","v":0},null,{"$f":"E56+G56+I56+K56+M56","v":39},{"$f":"MAX(D56,F56,H56,J56,L56)","v":39},{"$f":"IF(S56=1,O56,IF(S56=0,(O56-P56),\"-\"))","v":"-"},{"$f":"COUNTIF(U56:AD56,\"=TRUE\")","v":1},{"$f":"AE$1-R56","v":4},{"$f":"IF(S56<2,\"Yes\",\"No\")","v":"No"},{"$f":"IF(D56=\"-\",1,0)*U$1","v":1},{"$f":"AND(U56=0,U$1=1)","v":false},{"$f":"IF(F56=\"-\",1,0)*W$1","v":1},{"$f":"AND(W56=0,W$1=1)","v":false},{"$f":"IF(H56=\"-\",1,0)*Y$1","v":1},{"$f":"AND(Y56=0,Y$1=1)","v":false},{"$f":"IF(J56=\"-\",1,0)*AA$1","v":0},{"$f":"AND(AA56=0,AA$1=1)","v":true},{"$f":"IF(L56=\"-\",1,0)*AC$1","v":1},{"$f":"AND(AC56=0,AC$1=1)","v":false}]
[18,"Bailey Peart","Loughborough Grammar School",12,{"$f":"IF(D57=\"-\",0,D57)","v":12},11,{"$f":"IF(F57=\"-\",0,F57)","v":11},9,{"$f":"IF(H57=\"-\",0,H57)","v":9},"-",{"$f":"IF(J57=\"-\",0,J57)","v":0},"-",{"$f":"IF(L57=\"-\",0,L57)","v":0},null,{"$f":"E57+G57+I57+K57+M57","v":32},{"$f":"MAX(D57,F57,H57,J57,L57)","v":12},{"$f":"IF(S57=1,O57,IF(S57=0,(O57-P57),\"-\"))","v":"-"},{"$f":"COUNTIF(U57:AD57,\"=TRUE\")","v":3},{"$f":"AE$1-R57","v":2},{"$f":"IF(S57<2,\"Yes\",\"No\")","v":"No"},{"$f":"IF(D57=\"-\",1,0)*U$1","v":0},{"$f":"AND(U57=0,U$1=1)","v":true},{"$f":"IF(F57=\"-\",1,0)*W$1","v":0},{"$f":"AND(W57=0,W$1=1)","v":true},{"$f":"IF(H57=\"-\",1,0)*Y$1","v":0},{"$f":"AND(Y57=0,Y$1=1)","v":true},{"$f":"IF(J57=\"-\",1,0)*AA$1","v":1},{"$f":"AND(AA57=0,AA$1=1)","v":false},{"$f":"IF(L57=\"-\",1,0)*AC$1","v":1},{"$f":"AND(AC57=0,AC$1=1)","v":false}]
[100,"Jack Partridge-Shephard","South Wigston High School",22,{"$f":"IF(D58=\"-\",0,D58)","v":22},27,{"$f":"IF(F58=\"-\",0,F58)","v":27},18,{"$f":"IF(H58=\"-\",0,H58)","v":18},"-",{"$f":"IF(J58=\"-\",0,J58)","v":0},"-",{"$f":"IF(L58=\"-\",0,L58)","v":0},null,{"$f":"E58+G58+I58+K58+M58","v":67},{"$f":"MAX(D58,F58,H58,J58,L58)","v":27},{"$f":"IF(S58=1,O58,IF(S58=0,(O58-P58),\"-\"))","v":"-"},{"$f":"COUNTIF(U58:AD58,\"=TRUE\")","v":3},{"$f":"AE$1-R58","v":2},{"$f":"IF(S58<2,\"Yes\",\"No\")","v":"No"},{"$f":"IF(D58=\"-\",1,0)*U$1","v":0},{"$f":"AND(U58=0,U$1=1)","v":true},{"$f":"IF(F58=\"-\",1,0)*W$1","v":0},{"$f":"AND(W58=0,W$1=1)","v":true},{"$f":"IF(H58=\"-\",1,0)*Y$1","v":0},{"$f":"AND(Y58=0,Y$1=1)","v":true},{"$f":"IF(J58=\"-\",1,0)*AA$1","v":1},{"$f":"AND(AA58=0,AA$1=1)","v":false},{"$f":"IF(L58=\"-\",1,0)*AC$1","v":1},{"$f":"AND(AC58=0,AC$1=1)","v":false}]
[90,"Ben Chapman","Thomas Estley CC","-",{"$f":"IF(D59=\"-\",0,D59)","v":0},36,{"$f":"IF(F59=\"-\",0,F59)","v":36},19,{"$f":"IF(H59=\"-\",0,H59)","v":19},"-",{"$f":"IF(J59=\"-\",0,J59)","v":0},"-",{"$f":"IF(L59=\"-\",0,L59)","v":0},null,{"$f":"E59+G59+I59+K59+M59","v":55},{"$f":"MAX(D59,F59,H59,J59,L59)","v":36},{"$f":"IF(S59=1,O59,IF(S59=0,(O59-P59),\"-\"))","v":"-"},{"$f":"COUNTIF(U59:AD59,\"=TRUE\")","v":2},{"$f":"AE$1-R59","v":3},{"$f":"IF(S59<2,\"Yes\",\"No\")","v":"No"},{"$f":"IF(D59=\"-\",1,0)*U$1","v":1},{"$f":"AND(U59=0,U$1=1)","v":false},{"$f":"IF(F59=\"-\",1,0)*W$1","v":0},{"$f":"AND(W59=0,W$1=1)","v":true},{"$f":"IF(H59=\"-\",1,0)*Y$1","v":0},{"$f":"AND(Y59=0,Y$1=1)","v":true},{"$f":"IF(J59=\"-\",1,0)*AA$1","v":1},{"$f":"AND(AA59=0,AA$1=1)","v":false},{"$f":"IF(L59=\"-\",1,0)*AC$1","v":1},{"$f":"AND(AC59=0,AC$1=1)","v":false}]
[20,"Ben Backes","Bushloe High School",19,{"$f":"IF(D60=\"-\",0,D60)","v":19},"-",{"$f":"IF(F60=\"-\",0,F60)","v":0},21,{"$f":"IF(H60=\"-\",0,H60)","v":21},"-",{"$f":"IF(J60=\"-\",0,J60)","v":0},"-",{"$f":"IF(L60=\"-\",0,L60)","v":0},null,{"$f":"E60+G60+I60+K60+M60","v":40},{"$f":"MAX(D60,F60,H60,J60,L60)","v":21},{"$f":"IF(S60=1,O60,IF(S60=0,(O60-P60),\"-\"))","v":"-"},{"$f":"COUNTIF(U60:AD60,\"=TRUE\")","v":2},{"$f":"AE$1-R60","v":3},{"$f":"IF(S60<2,\"Yes\",\"No\")","v":"No"},{"$f":"IF(D60=\"-\",1,0)*U$1","v":0},{"$f":"AND(U60=0,U$1=1)","v":true},{"$f":"IF(F60=\"-\",1,0)*W$1","v":1},{"$f":"AND(W60=0,W$1=1)","v":false},{"$f":"IF(H60=\"-\",1,0)*Y$1","v":0},{"$f":"AND(Y60=0,Y$1=1)","v":true},{"$f":"IF(J60=\"-\",1,0)*AA$1","v":1},{"$f":"AND(AA60=0,AA$1=1)","v":false},{"$f":"IF(L60=\"-\",1,0)*AC$1","v":1},{"$f":"AND(AC60=0,AC$1=1)","v":false}]
[83,"Buster Green","Castle Donington CC",18,{"$f":"IF(D61=\"-\",0,D61)","v":18},"-",{"$f":"IF(F61=\"-\",0,F61)","v":0},27,{"$f":"IF(H61=\"-\",0,H61)","v":27},"-",{"$f":"IF(J61=\"-\",0,J61)","v":0},"-",{"$f":"IF(L61=\"-\",0,L61)","v":0},null,{"$f":"E61+G61+I61+K61+M61","v":45},{"$f":"MAX(D61,F61,H61,J61,L61)","v":27},{"$f":"IF(S61=1,O61,IF(S61=0,(O61-P61),\"-\"))","v":"-"},{"$f":"COUNTIF(U61:AD61,\"=TRUE\")","v":2},{"$f":"AE$1-R61","v":3},{"$f":"IF(S61<2,\"Yes\",\"No\")","v":"No"},{"$f":"IF(D61=\"-\",1,0)*U$1","v":0},{"$f":"AND(U61=0,U$1=1)","v":true},{"$f":"IF(F61=\"-\",1,0)*W$1","v":1},{"$f":"AND(W61=0,W$1=1)","v":false},{"$f":"IF(H61=\"-\",1,0)*Y$1","v":0},{"$f":"AND(Y61=0,Y$1=1)","v":true},{"$f":"IF(J61=\"-\",1,0)*AA$1","v":1},{"$f":"AND(AA61=0,AA$1=1)","v":false},{"$f":"IF(L61=\"-\",1,0)*AC$1","v":1},{"$f":"AND(AC61=0,AC$1=1)","v":false}]
[25,"Matt Martin","Lutterworth High School","-",{"$f":"IF(D62=\"-\",0,D62)","v":0},"-",{"$f":"IF(F62=\"-\",0,F62)","v":0},29,{"$f":"IF(H62=\"-\",0,H62)","v":29},"-",{"$f":"IF(J62=\"-\",0,J62)","v":0},"-",{"$f":"IF(L62=\"-\",0,L62)","v":0},null,{"$f":"E62+G62+I62+K62+M62","v":29},{"$f":"MAX(D62,F62,H62,J62,L62)","v":29},{"$f":"IF(S62=1,O62,IF(S62=0,(O62-P62),\"-\"))","v":"-"},{"$f":"COUNTIF(U62:AD62,\"=TRUE\")","v":1},{"$f":"AE$1-R62","v":4},{"$f":"IF(S62<2,\"Yes\",\"No\")","v":"No"},{"$f":"IF(D62=\"-\",1,0)*U$1","v":1},{"$f":"AND(U62=0,U$1=1)","v":false},{"$f":"IF(F62=\"-\",1,0)*W$1","v":1},{"$f":"AND(W62=0,W$1=1)","v":false},{"$f":"IF(H62=\"-\",1,0)*Y$1","v":0},{"$f":"AND(Y62=0,Y$1=1)","v":true},{"$f":"IF(J62=\"-\",1,0)*AA$1","v":1},{"$f":"AND(AA62=0,AA$1=1)","v":false},{"$f":"IF(L62=\"-\",1,0)*AC$1","v":1},{"$f":"AND(AC62=0,AC$1=1)","v":false}]
[52,"Joshua Anderson","Catmose College","-",{"$f":"IF(D63=\"-\",0,D63)","v":0},"-",{"$f":"IF(F63=\"-\",0,F63)","v":0},35,{"$f":"IF(H63=\"-\",0,H63)","v":35},"-",{"$f":"IF(J63=\"-\",0,J63)","v":0},"-",{"$f":"IF(L63=\"-\",0,L63)","v":0},null,{"$f":"E63+G63+I63+K63+M63","v":35},{"$f":"MAX(D63,F63,H63,J63,L63)","v":35},{"$f":"IF(S63=1,O63,IF(S63=0,(O63-P63),\"-\"))","v":"-"},{"$f":"COUNTIF(U63:AD63,\"=TRUE\")","v":1},{"$f":"AE$1-R63","v":4},{"$f":"IF(S63<2,\"Yes\",\"No\")","v":"No"},{"$f":"IF(D63=\"-\",1,0)*U$1","v":1},{"$f":"AND(U63=0,U$1=1)","v":false},{"$f":"IF(F63=\"-\",1,0)*W$1","v":1},{"$f":"AND(W63=0,W$1=1)","v":false},{"$f":"IF(H63=\"-\",1,0)*Y$1","v":0},{"$f":"AND(Y63=0,Y$1=1)","v":true},{"$f":"IF(J63=\"-\",1,0)*AA$1","v":1},{"$f":"AND(AA63=0,AA$1=1)","v":false},{"$f":"IF(L63=\"-\",1,0)*AC$1","v":1},{"$f":"AND(AC63=0,AC$1=1)","v":false}]
[53,"Jonny Hancox","Castle Donington CC","-",{"$f":"IF(D64=\"-\",0,D64)","v":0},"-",{"$f":"IF(F64=\"-\",0,F64)","v":0},37,{"$f":"IF(H64=\"-\",0,H64)","v":37},"-",{"$f":"IF(J64=\"-\",0,J64)","v":0},"-",{"$f":"IF(L64=\"-\",0,L64)","v":0},null,{"$f":"E64+G64+I64+K64+M64","v":37},{"$f":"MAX(D64,F64,H64,J64,L64)","v":37},{"$f":"IF(S64=1,O64,IF(S64=0,(O64-P64),\"-\"))","v":"-"},{"$f":"COUNTIF(U64:AD64,\"=TRUE\")","v":1},{"$f":"AE$1-R64","v":4},{"$f":"IF(S64<2,\"Yes\",\"No\")","v":"No"},{"$f":"IF(D64=\"-\",1,0)*U$1","v":1},{"$f":"AND(U64=0,U$1=1)","v":false},{"$f":"IF(F64=\"-\",1,0)*W$1","v":1},{"$f":"AND(W64=0,W$1=1)","v":false},{"$f":"IF(H64=\"-\",1,0)*Y$1","v":0},{"$f":"AND(Y64=0,Y$1=1)","v":true},{"$f":"IF(J64=\"-\",1,0)*AA$1","v":1},{"$f":"AND(AA64=0,AA$1=1)","v":false},{"$f":"IF(L64=\"-\",1,0)*AC$1","v":1},{"$f":"AND(AC64=0,AC$1=1)","v":false}]
[57,"Euan Anderson","Lutterworth High School",37,{"$f":"IF(D65=\"-\",0,D65)","v":37},52,{"$f":"IF(F65=\"-\",0,F65)","v":52},38,{"$f":"IF(H65=\"-\",0,H65)","v":38},"-",{"$f":"IF(J65=\"-\",0,J65)","v":0},"-",{"$f":"IF(L65=\"-\",0,L65)","v":0},null,{"$f":"E65+G65+I65+K65+M65","v":127},{"$f":"MAX(D65,F65,H65,J65,L65)","v":52},{"$f":"IF(S65=1,O65,IF(S65=0,(O65-P65),\"-\"))","v":"-"},{"$f":"COUNTIF(U65:AD65,\"=TRUE\")","v":3},{"$f":"AE$1-R65","v":2},{"$f":"IF(S65<2,\"Yes\",\"No\")","v":"No"},{"$f":"IF(D65=\"-\",1,0)*U$1","v":0},{"$f":"AND(U65=0,U$1=1)","v":true},{"$f":"IF(F65=\"-\",1,0)*W$1","v":0},{"$f":"AND(W65=0,W$1=1)","v":true},{"$f":"IF(H65=\"-\",1,0)*Y$1","v":0},{"$f":"AND(Y65=0,Y$1=1)","v":true},{"$f":"IF(J65=\"-\",1,0)*AA$1","v":1},{"$f":"AND(AA65=0,AA$1=1)","v":false},{"$f":"IF(L65=\"-\",1,0)*AC$1","v":1},{"$f":"AND(AC65=0,AC$1=1)","v":false}]
[1,"Marcus Perrin","Woodbrook Vale School",35,{"$f":"IF(D66=\"-\",0,D66)","v":35},"-",{"$f":"IF(F66=\"-\",0,F66)","v":0},39,{"$f":"IF(H66=\"-\",0,H66)","v":39},"-",{"$f":"IF(J66=\"-\",0,J66)","v":0},"-",{"$f":"IF(L66=\"-\",0,L66)","v":0},null,{"$f":"E66+G66+I66+K66+M66","v":74},{"$f":"MAX(D66,F66,H66,J66,L66)","v":39},{"$f":"IF(S66=1,O66,IF(S66=0,(O66-P66),\"-\"))","v":"-"},{"$f":"COUNTIF(U66:AD66,\"=TRUE\")","v":2},{"$f":"AE$1-R66","v":3},{"$f":"IF(S66<2,\"Yes\",\"No\")","v":"No"},{"$f":"IF(D66=\"-\",1,0)*U$1","v":0},{"$f":"AND(U66=0,U$1=1)","v":true},{"$f":"IF(F66=\"-\",1,0)*W$1","v":1},{"$f":"AND(W66=0,W$1=1)","v":false},{"$f":"IF(H66=\"-\",1,0)*Y$1","v":0},{"$f":"AND(Y66=0,Y$1=1)","v":true},{"$f":"IF(J66=\"-\",1,0)*AA$1","v":1},{"$f":"AND(AA66=0,AA$1=1)","v":false},{"$f":"IF(L66=\"-\",1,0)*AC$1","v":1},{"$f":"AND(AC66=0,AC$1=1)","v":false}]
[51,"James Liquorish","Stonehill High School","-",{"$f":"IF(D67=\"-\",0,D67)","v":0},"-",{"$f":"IF(F67=\"-\",0,F67)","v":0},42,{"$f":"IF(H67=\"-\",0,H67)","v":42},"-",{"$f":"IF(J67=\"-\",0,J67)","v":0},"-",{"$f":"IF(L67=\"-\",0,L67)","v":0},null,{"$f":"E67+G67+I67+K67+M67","v":42},{"$f":"MAX(D67,F67,H67,J67,L67)","v":42},{"$f":"IF(S67=1,O67,IF(S67=0,(O67-P67),\"-\"))","v":"-"},{"$f":"COUNTIF(U67:AD67,\"=TRUE\")","v":1},{"$f":"AE$1-R67","v":4},{"$f":"IF(S67<2,\"Yes\",\"No\")","v":"No"},{"$f":"IF(D67=\"-\",1,0)*U$1","v":1},{"$f":"AND(U67=0,U$1=1)","v":false},{"$f":"IF(F67=\"-\",1,0)*W$1","v":1},{"$f":"AND(W67=0,W$1=1)","v":false},{"$f":"IF(H67=\"-\",1,0)*Y$1","v":0},{"$f":"AND(Y67=0,Y$1=1)","v":true},{"$f":"IF(J67=\"-\",1,0)*AA$1","v":1},{"$f":"AND(AA67=0,AA$1=1)","v":false},{"$f":"IF(L67=\"-\",1,0)*AC$1","v":1},{"$f":"AND(AC67=0,AC$1=1)","v":false}]
[101,"Safwan Sohel","Crown Hills CC","-",{"$f":"IF(D68=\"-\",0,D68)","v":0},60,{"$f":"IF(F68=\"-\",0,F68)","v":60},45,{"$f":"IF(H68=\"-\",0,H68)","v":45},"-",{"$f":"IF(J68=\"-\",0,J68)","v":0},"-",{"$f":"IF(L68=\"-\",0,L68)","v":0},null,{"$f":"E68+G68+I68+K68+M68","v":105},{"$f":"MAX(D68,F68,H68,J68,L68)","v":60},{"$f":"IF(S68=1,O68,IF(S68=0,(O68-P68),\"-\"))","v":"-"},{"$f":"COUNTIF(U68:AD68,\"=TRUE\")","v":2},{"$f":"AE$1-R68","v":3},{"$f":"IF(S68<2,\"Yes\",\"No\")","v":"No"},{"$f":"IF(D68=\"-\",1,0)*U$1","v":1},{"$f":"AND(U68=0,U$1=1)","v":false},{"$f":"IF(F68=\"-\",1,0)*W$1","v":0},{"$f":"AND(W68=0,W$1=1)","v":true},{"$f":"IF(H68=\"-\",1,0)*Y$1","v":0},{"$f":"AND(Y68=0,Y$1=1)","v":true},{"$f":"IF(J68=\"-\",1,0)*AA$1","v":1},{"$f":"AND(AA68=0,AA$1=1)","v":false},{"$f":"IF(L68=\"-\",1,0)*AC$1","v":1},{"$f":"AND(AC68=0,AC$1=1)","v":false}]
[65,"Ariful Haq","Crown Hills CC","-",{"$f":"IF(D69=\"-\",0,D69)","v":0},"-",{"$f":"IF(F69=\"-\",0,F69)","v":0},49,{"$f":"IF(H69=\"-\",0,H69)","v":49},"-",{"$f":"IF(J69=\"-\",0,J69)","v":0},"-",{"$f":"IF(L69=\"-\",0,L69)","v":0},null,{"$f":"E69+G69+I69+K69+M69","v":49},{"$f":"MAX(D69,F69,H69,J69,L69)","v":49},{"$f":"IF(S69=1,O69,IF(S69=0,(O69-P69),\"-\"))","v":"-"},{"$f":"COUNTIF(U69:AD69,\"=TRUE\")","v":1},{"$f":"AE$1-R69","v":4},{"$f":"IF(S69<2,\"Yes\",\"No\")","v":"No"},{"$f":"IF(D69=\"-\",1,0)*U$1","v":1},{"$f":"AND(U69=0,U$1=1)","v":false},{"$f":"IF(F69=\"-\",1,0)*W$1","v":1},{"$f":"AND(W69=0,W$1=1)","v":false},{"$f":"IF(H69=\"-\",1,0)*Y$1","v":0},{"$f":"AND(Y69=0,Y$1=1)","v":true},{"$f":"IF(J69=\"-\",1,0)*AA$1","v":1},{"$f":"AND(AA69=0,AA$1=1)","v":false},{"$f":"IF(L69=\"-\",1,0)*AC$1","v":1},{"$f":"AND(AC69=0,AC$1=1)","v":false}]
[50,"Ethan O'Shea","Wreake Valley Academy","-",{"$f":"IF(D70=\"-\",0,D70)","v":0},4,{"$f":"IF(F70=\"-\",0,F70)","v":4},"-",{"$f":"IF(H70=\"-\",0,H70)","v":0},"-",{"$f":"IF(J70=\"-\",0,J70)","v":0},"-",{"$f":"IF(L70=\"-\",0,L70)","v":0},null,{"$f":"E70+G70+I70+K70+M70","v":4},{"$f":"MAX(D70,F70,H70,J70,L70)","v":4},{"$f":"IF(S70=1,O70,IF(S70=0,(O70-P70),\"-\"))","v":"-"},{"$f":"COUNTIF(U70:AD70,\"=TRUE\")","v":1},{"$f":"AE$1-R70","v":4},{"$f":"IF(S70<2,\"Yes\",\"No\")","v":"No"},{"$f":"IF(D70=\"-\",1,0)*U$1","v":1},{"$f":"AND(U70=0,U$1=1)","v":false},{"$f":"IF(F70=\"-\",1,0)*W$1","v":0},{"$f":"AND(W70=0,W$1=1)","v":true},{"$f":"IF(H70=\"-\",1,0)*Y$1","v":1},{"$f":"AND(Y70=0,Y$1=1)","v":false},{"$f":"IF(J70=\"-\",1,0)*AA$1","v":1},{"$f":"AND(AA70=0,AA$1=1)","v":false},{"$f":"IF(L70=\"-\",1,0)*AC$1","v":1},{"$f":"AND(AC70=0,AC$1=1)","v":false}]
[98,"Luke Nuttall","Humphrey Perkins School","-",{"$f":"IF(D71=\"-\",0,D71)","v":0},6,{"$f":"IF(F71=\"-\",0,F71)","v":6},"-",{"$f":"IF(H71=\"-\",0,H71)","v":0},"-",{"$f":"IF(J71=\"-\",0,J71)","v":0},"-",{"$f":"IF(L71=\"-\",0,L71)","v":0},null,{"$f":"E71+G71+I71+K71+M71","v":6},{"$f":"MAX(D71,F71,H71,J71,L71)","v":6},{"$f":"IF(S71=1,O71,IF(S71=0,(O71-P71),\"-\"))","v":"-"},{"$f":"COUNTIF(U71:AD71,\"=TRUE\")","v":1},{"$f":"AE$1-R71","v":4},{"$f":"IF(S71<2,\"Yes\",\"No\")","v":"No"},{"$f":"IF(D71=\"-\",1,0)*U$1","v":1},{"$f":"AND(U71=0,U$1=1)","v":false},{"$f":"IF(F71=\"-\",1,0)*W$1","v":0},{"$f":"AND(W71=0,W$1=1)","v":true},{"$f":"IF(H71=\"-\",1,0)*Y$1","v":1},{"$f":"AND(Y71=0,Y$1=1)","v":false},{"$f":"IF(J71=\"-\",1,0)*AA$1","v":1},{"$f":"AND(AA71=0,AA$1=1)","v":false},{"$f":"IF(L71=\"-\",1,0)*AC$1","v":1},{"$f":"AND(AC71=0,AC$1=1)","v":false}]
[105,"Ben Higgins","Catmose College","-",{"$f":"IF(D72=\"-\",0,D72)","v":0},18,{"$f":"IF(F72=\"-\",0,F72)","v":18},"-",{"$f":"IF(H72=\"-\",0,H72)","v":0},"-",{"$f":"IF(J72=\"-\",0,J72)","v":0},"-",{"$f":"IF(L72=\"-\",0,L72)","v":0},null,{"$f":"E72+G72+I72+K72+M72","v":18},{"$f":"MAX(D72,F72,H72,J72,L72)","v":18},{"$f":"IF(S72=1,O72,IF(S72=0,(O72-P72),\"-\"))","v":"-"},{"$f":"COUNTIF(U72:AD72,\"=TRUE\")","v":1},{"$f":"AE$1-R72","v":4},{"$f":"IF(S72<2,\"Yes\",\"No\")","v":"No"},{"$f":"IF(D72=\"-\",1,0)*U$1","v":1},{"$f":"AND(U72=0,U$1=1)","v":false},{"$f":"IF(F72=\"-\",1,0)*W$1","v":0},{"$f":"AND(W72=0,W$1=1)","v":true},{"$f":"IF(H72=\"-\",1,0)*Y$1","v":1},{"$f":"AND(Y72=0,Y$1=1)","v":false},{"$f":"IF(J72=\"-\",1,0)*AA$1","v":1},{"$f":"AND(AA72=0,AA$1=1)","v":false},{"$f":"IF(L72=\"-\",1,0)*AC$1","v":1},{"$f":"AND(AC72=0,AC$1=1)","v":false}]
[44,"Toby Pitchers","The Martin High School",14,{"$f":"IF(D73=\"-\",0,D73)","v":14},20,{"$f":"IF(F73=\"-\",0,F73)","v":20},"-",{"$f":"IF(H73=\"-\",0,H73)","v":0},"-",{"$f":"IF(J73=\"-\",0,J73)","v":0},"-",{"$f":"IF(L73=\"-\",0,L73)","v":0},null,{"$f":"E73+G73+I73+K73+M73","v":34},{"$f":"MAX(D73,F73,H73,J73,L73)","v":20},{"$f":"IF(S73=1,O73,IF(S73=0,(O73-P73),\"-\"))","v":"-"},{"$f":"COUNTIF(U73:AD73,\"=TRUE\")","v":2},{"$f":"AE$1-R73","v":3},{"$f":"IF(S73<2,\"Yes\",\"No\")","v":"No"},{"$f":"IF(D73=\"-\",1,0)*U$1","v":0},{"$f":"AND(U73=0,U$1=1)","v":true},{"$f":"IF(F73=\"-\",1,0)*W$1","v":0},{"$f":"AND(W73=0,W$1=1)","v":true},{"$f":"IF(H73=\"-\",1,0)*Y$1","v":1},{"$f":"AND(Y73=0,Y$1=1)","v":false},{"$f":"IF(J73=\"-\",1,0)*AA$1","v":1},{"$f":"AND(AA73=0,AA$1=1)","v":false},{"$f":"IF(L73=\"-\",1,0)*AC$1","v":1},{"$f":"AND(AC73=0,AC$1=1)","v":false}]
[37,"Greg Lawrence","De Lisle College",26,{"$f":"IF(D74=\"-\",0,D74)","v":26},29,{"$f":"IF(F74=\"-\",0,F74)","v":29},"-",{"$f":"IF(H74=\"-\",0,H74)","v":0},"-",{"$f":"IF(J74=\"-\",0,J74)","v":0},"-",{"$f":"IF(L74=\"-\",0,L74)","v":0},null,{"$f":"E74+G74+I74+K74+M74","v":55},{"$f":"MAX(D74,F74,H74,J74,L74)","v":29},{"$f":"IF(S74=1,O74,IF(S74=0,(O74-P74),\"-\"))","v":"-"},{"$f":"COUNTIF(U74:AD74,\"=TRUE\")","v":2},{"$f":"AE$1-R74","v":3},{"$f":"IF(S74<2,\"Yes\",\"No\")","v":"No"},{"$f":"IF(D74=\"-\",1,0)*U$1","v":0},{"$f":"AND(U74=0,U$1=1)","v":true},{"$f":"IF(F74=\"-\",1,0)*W$1","v":0},{"$f":"AND(W74=0,W$1=1)","v":true},{"$f":"IF(H74=\"-\",1,0)*Y$1","v":1},{"$f":"AND(Y74=0,Y$1=1)","v":false},{"$f":"IF(J74=\"-\",1,0)*AA$1","v":1},{"$f":"AND(AA74=0,AA$1=1)","v":false},{"$f":"IF(L74=\"-\",1,0)*AC$1","v":1},{"$f":"AND(AC74=0,AC$1=1)","v":false}]
[81,"Jamie Rolison","Thomas Estley CC",16,{"$f":"IF(D75=\"-\",0,D75)","v":16},31,{"$f":"IF(F75=\"-\",0,F75)","v":31},"-",{"$f":"IF(H75=\"-\",0,H75)","v":0},"-",{"$f":"IF(J75=\"-\",0,J75)","v":0},"-",{"$f":"IF(L75=\"-\",0,L75)","v":0},null,{"$f":"E75+G75+I75+K75+M75","v":47},{"$f":"MAX(D75,F75,H75,J75,L75)","v":31},{"$f":"IF(S75=1,O75,IF(S75=0,(O75-P75),\"-\"))","v":"-"},{"$f":"COUNTIF(U75:AD75,\"=TRUE\")","v":2},{"$f":"AE$1-R75","v":3},{"$f":"IF(S75<2,\"Yes\",\"No\")","v":"No"},{"$f":"IF(D75=\"-\",1,0)*U$1","v":0},{"$f":"AND(U75=0,U$1=1)","v":true},{"$f":"IF(F75=\"-\",1,0)*W$1","v":0},{"$f":"AND(W75=0,W$1=1)","v":true},{"$f":"IF(H75=\"-\",1,0)*Y$1","v":1},{"$f":"AND(Y75=0,Y$1=1)","v":false},{"$f":"IF(J75=\"-\",1,0)*AA$1","v":1},{"$f":"AND(AA75=0,AA$1=1)","v":false},{"$f":"IF(L75=\"-\",1,0)*AC$1","v":1},{"$f":"AND(AC75=0,AC$1=1)","v":false}]
[77,"Owen Elsworth","Redmoor Academy",15,{"$f":"IF(D76=\"-\",0,D76)","v":15},33,{"$f":"IF(F76=\"-\",0,F76)","v":33},"-",{"$f":"IF(H76=\"-\",0,H76)","v":0},"-",{"$f":"IF(J76=\"-\",0,J76)","v":0},"-",{"$f":"IF(L76=\"-\",0,L76)","v":0},null,{"$f":"E76+G76+I76+K76+M76","v":48},{"$f":"MAX(D76,F76,H76,J76,L76)","v":33},{"$f":"IF(S76=1,O76,IF(S76=0,(O76-P76),\"-\"))","v":"-"},{"$f":"COUNTIF(U76:AD76,\"=TRUE\")","v":2},{"$f":"AE$1-R76","v":3},{"$f":"IF(S76<2,\"Yes\",\"No\")","v":"No"},{"$f":"IF(D76=\"-\",1,0)*U$1","v":0},{"$f":"AND(U76=0,U$1=1)","v":true},{"$f":"IF(F76=\"-\",1,0)*W$1","v":0},{"$f":"AND(W76=0,W$1=1)","v":true},{"$f":"IF(H76=\"-\",1,0)*Y$1","v":1},{"$f":"AND(Y76=0,Y$1=1)","v":false},{"$f":"IF(J76=\"-\",1,0)*AA$1","v":1},{"$f":"AND(AA76=0,AA$1=1)","v":false},{"$f":"IF(L76=\"-\",1,0)*AC$1","v":1},{"$f":"AND(AC76=0,AC$1=1)","v":false}]
[9,"Ben Buckby","Catmose College","-",{"$f":"IF(D77=\"-\",0,D77)","v":0},35,{"$f":"IF(F77=\"-\",0,F77)","v":35},"-",{"$f":"IF(H77=\"-\",0,H77)","v":0},"-",{"$f":"IF(J77=\"-\",0,J77)","v":0},"-",{"$f":"IF(L77=\"-\",0,L77)","v":0},null,{"$f":"E77+G77+I77+K77+M77","v":35},{"$f":"MAX(D77,F77,H77,J77,L77)","v":35},{"$f":"IF(S77=1,O77,IF(S77=0,(O77-P77),\"-\"))","v":"-"},{"$f":"COUNTIF(U77:AD77,\"=TRUE\")","v":1},{"$f":"AE$1-R77","v":4},{"$f":"IF(S77<2,\"Yes\",\"No\")","v":"No"},{"$f":"IF(D77=\"-\",1,0)*U$1","v":1},{"$f":"AND(U77=0,U$1=1)","v":false},{"$f":"IF(F77=\"-\",1,0)*W$1","v":0},{"$f":"AND(W77=0,W$1=1)","v":true},{"$f":"IF(H77=\"-\",1,0)*Y$1","v":1},{"$f":"AND(Y77=0,Y$1=1)","v":false},{"$f":"IF(J77=\"-\",1,0)*AA$1","v":1},{"$f":"AND(AA77=0,AA$1=1)","v":false},{"$f":"IF(L77=\"-\",1,0)*AC$1","v":1},{"$f":"AND(AC77=0,AC$1=1)","v":false}]
[106,"Michael Copeland","St Pauls Catholic School",30,{"$f":"IF(D78=\"-\",0,D78)","v":30},37,{"$f":"IF(F78=\"-\",0,F78)","v":37},"-",{"$f":"IF(H78=\"-\",0,H78)","v":0},"-",{"$f":"IF(J78=\"-\",0,J78)","v":0},"-",{"$f":"IF(L78=\"-\",0,L78)","v":0},null,{"$f":"E78+G78+I78+K78+M78","v":67},{"$f":"MAX(D78,F78,H78,J78,L78)","v":37},{"$f":"IF(S78=1,O78,IF(S78=0,(O78-P78),\"-\"))","v":"-"},{"$f":"COUNTIF(U78:AD78,\"=TRUE\")","v":2},{"$f":"AE$1-R78","v":3},{"$f":"IF(S78<2,\"Yes\",\"No\")","v":"No"},{"$f":"IF(D78=\"-\",1,0)*U$1","v":0},{"$f":"AND(U78=0,U$1=1)","v":true},{"$f":"IF(F78=\"-\",1,0)*W$1","v":0},{"$f":"AND(W78=0,W$1=1)","v":true},{"$f":"IF(H78=\"-\",1,0)*Y$1","v":1},{"$f":"AND(Y78=0,Y$1=1)","v":false},{"$f":"IF(J78=\"-\",1,0)*AA$1","v":1},{"$f":"AND(AA78=0,AA$1=1)","v":false},{"$f":"IF(L78=\"-\",1,0)*AC$1","v":1},{"$f":"AND(AC78=0,AC$1=1)","v":false}]
[97,"Kai King","Loughborough Grammar School","-",{"$f":"IF(D79=\"-\",0,D79)","v":0},43,{"$f":"IF(F79=\"-\",0,F79)","v":43},"-",{"$f":"IF(H79=\"-\",0,H79)","v":0},"-",{"$f":"IF(J79=\"-\",0,J79)","v":0},"-",{"$f":"IF(L79=\"-\",0,L79)","v":0},null,{"$f":"E79+G79+I79+K79+M79","v":43},{"$f":"MAX(D79,F79,H79,J79,L79)","v":43},{"$f":"IF(S79=1,O79,IF(S79=0,(O79-P79),\"-\"))","v":"-"},{"$f":"COUNTIF(U79:AD79,\"=TRUE\")","v":1},{"$f":"AE$1-R79","v":4},{"$f":"IF(S79<2,\"Yes\",\"No\")","v":"No"},{"$f":"IF(D79=\"-\",1,0)*U$1","v":1},{"$f":"AND(U79=0,U$1=1)","v":false},{"$f":"IF(F79=\"-\",1,0)*W$1","v":0},{"$f":"AND(W79=0,W$1=1)","v":true},{"$f":"IF(H79=\"-\",1,0)*Y$1","v":1},{"$f":"AND(Y79=0,Y$1=1)","v":false},{"$f":"IF(J79=\"-\",1,0)*AA$1","v":1},{"$f":"AND(AA79=0,AA$1=1)","v":false},{"$f":"IF(L79=\"-\",1,0)*AC$1","v":1},{"$f":"AND(AC79=0,AC$1=1)","v":false}]
[89,"Alex Hulson-Brown","Stonehill High School","-",{"$f":"IF(D80=\"-\",0,D80)","v":0},46,{"$f":"IF(F80=\"-\",0,F80)","v":46},"-",{"$f":"IF(H80=\"-\",0,H80)","v":0},"-",{"$f":"IF(J80=\"-\",0,J80)","v":0},"-",{"$f":"IF(L80=\"-\",0,L80)","v":0},null,{"$f":"E80+G80+I80+K80+M80","v":46},{"$f":"MAX(D80,F80,H80,J80,L80)","v":46},{"$f":"IF(S80=1,O80,IF(S80=0,(O80-P80),\"-\"))","v":"-"},{"$f":"COUNTIF(U80:AD80,\"=TRUE\")","v":1},{"$f":"AE$1-R80","v":4},{"$f":"IF(S80<2,\"Yes\",\"No\")","v":"No"},{"$f":"IF(D80=\"-\",1,0)*U$1","v":1},{"$f":"AND(U80=0,U$1=1)","v":false},{"$f":"IF(F80=\"-\",1,0)*W$1","v":0},{"$f":"AND(W80=0,W$1=1)","v":true},{"$f":"IF(H80=\"-\",1,0)*Y$1","v":1},{"$f":"AND(Y80=0,Y$1=1)","v":false},{"$f":"IF(J80=\"-\",1,0)*AA$1","v":1},{"$f":"AND(AA80=0,AA$1=1)","v":false},{"$f":"IF(L80=\"-\",1,0)*AC$1","v":1},{"$f":"AND(AC80=0,AC$1=1)","v":false}]
[56,"Faiq Khan","Brockington College","-",{"$f":"IF(D81=\"-\",0,D81)","v":0},53,{"$f":"IF(F81=\"-\",0,F81)","v":53},"-",{"$f":"IF(H81=\"-\",0,H81)","v":0},"-",{"$f":"IF(J81=\"-\",0,J81)","v":0},"-",{"$f":"IF(L81=\"-\",0,L81)","v":0},null,{"$f":"E81+G81+I81+K81+M81","v":53},{"$f":"MAX(D81,F81,H81,J81,L81)","v":53},{"$f":"IF(S81=1,O81,IF(S81=0,(O81-P81),\"-\"))","v":"-"},{"$f":"COUNTIF(U81:AD81,\"=TRUE\")","v":1},{"$f":"AE$1-R81","v":4},{"$f":"IF(S81<2,\"Yes\",\"No\")","v":"No"},{"$f":"IF(D81=\"-\",1,0)*U$1","v":1},{"$f":"AND(U81=0,U$1=1)","v":false},{"$f":"IF(F81=\"-\",1,0)*W$1","v":0},{"$f":"AND(W81=0,W$1=1)","v":true},{"$f":"IF(H81=\"-\",1,0)*Y$1","v":1},{"$f":"AND(Y81=0,Y$1=1)","v":false},{"$f":"IF(J81=\"-\",1,0)*AA$1","v":1},{"$f":"AND(AA81=0,AA$1=1)","v":false},{"$f":"IF(L81=\"-\",1,0)*AC$1","v":1},{"$f":"AND(AC81=0,AC$1=1)","v":false}]
[96,"Joe Booker","Kibworth High School",43,{"$f":"IF(D82=\"-\",0,D82)","v":43},54,{"$f":"IF(F82=\"-\",0,F82)","v":54},"-",{"$f":"IF(H82=\"-\",0,H82)","v":0},"-",{"$f":"IF(J82=\"-\",0,J82)","v":0},"-",{"$f":"IF(L82=\"-\",0,L82)","v":0},null,{"$f":"E82+G82+I82+K82+M82","v":97},{"$f":"MAX(D82,F82,H82,J82,L82)","v":54},{"$f":"IF(S82=1,O82,IF(S82=0,(O82-P82),\"-\"))","v":"-"},{"$f":"COUNTIF(U82:AD82,\"=TRUE\")","v":2},{"$f":"AE$1-R82","v":3},{"$f":"IF(S82<2,\"Yes\",\"No\")","v":"No"},{"$f":"IF(D82=\"-\",1,0)*U$1","v":0},{"$f":"AND(U82=0,U$1=1)","v":true},{"$f":"IF(F82=\"-\",1,0)*W$1","v":0},{"$f":"AND(W82=0,W$1=1)","v":true},{"$f":"IF(H82=\"-\",1,0)*Y$1","v":1},{"$f":"AND(Y82=0,Y$1=1)","v":false},{"$f":"IF(J82=\"-\",1,0)*AA$1","v":1},{"$f":"AND(AA82=0,AA$1=1)","v":false},{"$f":"IF(L82=\"-\",1,0)*AC$1","v":1},{"$f":"AND(AC82=0,AC$1=1)","v":false}]
[102,"Sufiyan Khalifa","Crown Hills CC","-",{"$f":"IF(D83=\"-\",0,D83)","v":0},55,{"$f":"IF(F83=\"-\",0,F83)","v":55},"-",{"$f":"IF(H83=\"-\",0,H83)","v":0},"-",{"$f":"IF(J83=\"-\",0,J83)","v":0},"-",{"$f":"IF(L83=\"-\",0,L83)","v":0},null,{"$f":"E83+G83+I83+K83+M83","v":55},{"$f":"MAX(D83,F83,H83,J83,L83)","v":55},{"$f":"IF(S83=1,O83,IF(S83=0,(O83-P83),\"-\"))","v":"-"},{"$f":"COUNTIF(U83:AD83,\"=TRUE\")","v":1},{"$f":"AE$1-R83","v":4},{"$f":"IF(S83<2,\"Yes\",\"No\")","v":"No"},{"$f":"IF(D83=\"-\",1,0)*U$1","v":1},{"$f":"AND(U83=0,U$1=1)","v":false},{"$f":"IF(F83=\"-\",1,0)*W$1","v":0},{"$f":"AND(W83=0,W$1=1)","v":true},{"$f":"IF(H83=\"-\",1,0)*Y$1","v":1},{"$f":"AND(Y83=0,Y$1=1)","v":false},{"$f":"IF(J83=\"-\",1,0)*AA$1","v":1},{"$f":"AND(AA83=0,AA$1=1)","v":false},{"$f":"IF(L83=\"-\",1,0)*AC$1","v":1},{"$f":"AND(AC83=0,AC$1=1)","v":false}]
[94,"Muhammad Hansrot","Crown Hills CC","-",{"$f":"IF(D84=\"-\",0,D84)","v":0},57,{"$f":"IF(F84=\"-\",0,F84)","v":57},"-",{"$f":"IF(H84=\"-\",0,H84)","v":0},"-",{"$f":"IF(J84=\"-\",0,J84)","v":0},"-",{"$f":"IF(L84=\"-\",0,L84)","v":0},null,{"$f":"E84+G84+I84+K84+M84","v":57},{"$f":"MAX(D84,F84,H84,J84,L84)","v":57},{"$f":"IF(S84=1,O84,IF(S84=0,(O84-P84),\"-\"))","v":"-"},{"$f":"COUNTIF(U84:AD84,\"=TRUE\")","v":1},{"$f":"AE$1-R84","v":4},{"$f":"IF(S84<2,\"Yes\",\"No\")","v":"No"},{"$f":"IF(D84=\"-\",1,0)*U$1","v":1},{"$f":"AND(U84=0,U$1=1)","v":false},{"$f":"IF(F84=\"-\",1,0)*W$1","v":0},{"$f":"AND(W84=0,W$1=1)","v":true},{"$f":"IF(H84=\"-\",1,0)*Y$1","v":1},{"$f":"AND(Y84=0,Y$1=1)","v":false},{"$f":"IF(J84=\"-\",1,0)*AA$1","v":1},{"$f":"AND(AA84=0,AA$1=1)","v":false},{"$f":"IF(L84=\"-\",1,0)*AC$1","v":1},{"$f":"AND(AC84=0,AC$1=1)","v":false}]
[10,"Jack Veasey","John Ferneley College","-",{"$f":"IF(D85=\"-\",0,D85)","v":0},62,{"$f":"IF(F85=\"-\",0,F85)","v":62},"-",{"$f":"IF(H85=\"-\",0,H85)","v":0},"-",{"$f":"IF(J85=\"-\",0,J85)","v":0},"-",{"$f":"IF(L85=\"-\",0,L85)","v":0},null,{"$f":"E85+G85+I85+K85+M85","v":62},{"$f":"MAX(D85,F85,H85,J85,L85)","v":62},{"$f":"IF(S85=1,O85,IF(S85=0,(O85-P85),\"-\"))","v":"-"},{"$f":"COUNTIF(U85:AD85,\"=TRUE\")","v":1},{"$f":"AE$1-R85","v":4},{"$f":"IF(S85<2,\"Yes\",\"No\")","v":"No"},{"$f":"IF(D85=\"-\",1,0)*U$1","v":1},{"$f":"AND(U85=0,U$1=1)","v":false},{"$f":"IF(F85=\"-\",1,0)*W$1","v":0},{"$f":"AND(W85=0,W$1=1)","v":true},{"$f":"IF(H85=\"-\",1,0)*Y$1","v":1},{"$f":"AND(Y85=0,Y$1=1)","v":false},{"$f":"IF(J85=\"-\",1,0)*AA$1","v":1},{"$f":"AND(AA85=0,AA$1=1)","v":false},{"$f":"IF(L85=\"-\",1,0)*AC$1","v":1},{"$f":"AND(AC85=0,AC$1=1)","v":false}]
[5,"Alistair Mottram-Epson","Leicester Grammar School",33,{"$f":"IF(D86=\"-\",0,D86)","v":33},"-",{"$f":"IF(F86=\"-\",0,F86)","v":0},"-",{"$f":"IF(H86=\"-\",0,H86)","v":0},"-",{"$f":"IF(J86=\"-\",0,J86)","v":0},"-",{"$f":"IF(L86=\"-\",0,L86)","v":0},null,{"$f":"E86+G86+I86+K86+M86","v":33},{"$f":"MAX(D86,F86,H86,J86,L86)","v":33},{"$f":"IF(S86=1,O86,IF(S86=0,(O86-P86),\"-\"))","v":"-"},{"$f":"COUNTIF(U86:AD86,\"=TRUE\")","v":1},{"$f":"AE$1-R86","v":4},{"$f":"IF(S86<2,\"Yes\",\"No\")","v":"No"},{"$f":"IF(D86=\"-\",1,0)*U$1","v":0},{"$f":"AND(U86=0,U$1=1)","v":true},{"$f":"IF(F86=\"-\",1,0)*W$1","v":1},{"$f":"AND(W86=0,W$1=1)","v":false},{"$f":"IF(H86=\"-\",1,0)*Y$1","v":1},{"$f":"AND(Y86=0,Y$1=1)","v":false},{"$f":"IF(J86=\"-\",1,0)*AA$1","v":1},{"$f":"AND(AA86=0,AA$1=1)","v":false},{"$f":"IF(L86=\"-\",1,0)*AC$1","v":1},{"$f":"AND(AC86=0,AC$1=1)","v":false}]
[30,"Harry Elliott","Thomas Estley CC",41,{"$f":"IF(D87=\"-\",0,D87)","v":41},"-",{"$f":"IF(F87=\"-\",0,F87)","v":0},"-",{"$f":"IF(H87=\"-\",0,H87)","v":0},"-",{"$f":"IF(J87=\"-\",0,J87)","v":0},"-",{"$f":"IF(L87=\"-\",0,L87)","v":0},null,{"$f":"E87+G87+I87+K87+M87","v":41},{"$f":"MAX(D87,F87,H87,J87,L87)","v":41},{"$f":"IF(S87=1,O87,IF(S87=0,(O87-P87),\"-\"))","v":"-"},{"$f":"COUNTIF(U87:AD87,\"=TRUE\")","v":1},{"$f":"AE$1-R87","v":4},{"$f":"IF(S87<2,\"Yes\",\"No\")","v":"No"},{"$f":"IF(D87=\"-\",1,0)*U$1","v":0},{"$f":"AND(U87=0,U$1=1)","v":true},{"$f":"IF(F87=\"-\",1,0)*W$1","v":1},{"$f":"AND(W87=0,W$1=1)","v":false},{"$f":"IF(H87=\"-\",1,0)*Y$1","v":1},{"$f":"AND(Y87=0,Y$1=1)","v":false},{"$f":"IF(J87=\"-\",1,0)*AA$1","v":1},{"$f":"AND(AA87=0,AA$1=1)","v":false},{"$f":"IF(L87=\"-\",1,0)*AC$1","v":1},{"$f":"AND(AC87=0,AC$1=1)","v":false}]
[40,"Jake Griffin","Brookvale High School",42,{"$f":"IF(D88=\"-\",0,D88)","v":42},"-",{"$f":"IF(F88=\"-\",0,F88)","v":0},"-",{"$f":"IF(H88=\"-\",0,H88)","v":0},"-",{"$f":"IF(J88=\"-\",0,J88)","v":0},"-",{"$f":"IF(L88=\"-\",0,L88)","v":0},null,{"$f":"E88+G88+I88+K88+M88","v":42},{"$f":"MAX(D88,F88,H88,J88,L88)","v":42},{"$f":"IF(S88=1,O88,IF(S88=0,(O88-P88),\"-\"))","v":"-"},{"$f":"COUNTIF(U88:AD88,\"=TRUE\")","v":1},{"$f":"AE$1-R88","v":4},{"$f":"IF(S88<2,\"Yes\",\"No\")","v":"No"},{"$f":"IF(D88=\"-\",1,0)*U$1","v":0},{"$f":"AND(U88=0,U$1=1)","v":true},{"$f":"IF(F88=\"-\",1,0)*W$1","v":1},{"$f":"AND(W88=0,W$1=1)","v":false},{"$f":"IF(H88=\"-\",1,0)*Y$1","v":1},{"$f":"AND(Y88=0,Y$1=1)","v":false},{"$f":"IF(J88=\"-\",1,0)*AA$1","v":1},{"$f":"AND(AA88=0,AA$1=1)","v":false},{"$f":"IF(L88=\"-\",1,0)*AC$1","v":1},{"$f":"AND(AC88=0,AC$1=1)","v":false}]
[58,"?","Stonehill High School",44,{"$f":"IF(D89=\"-\",0,D89)","v":44},"-",{"$f":"IF(F89=\"-\",0,F89)","v":0},"-",{"$f":"IF(H89=\"-\",0,H89)","v":0},"-",{"$f":"IF(J89=\"-\",0,J89)","v":0},"-",{"$f":"IF(L89=\"-\",0,L89)","v":0},null,{"$f":"E89+G89+I89+K89+M89","v":44},{"$f":"MAX(D89,F89,H89,J89,L89)","v":44},{"$f":"IF(S89=1,O89,IF(S89=0,(O89-P89),\"-\"))","v":"-"},{"$f":"COUNTIF(U89:AD89,\"=TRUE\")","v":1},{"$f":"AE$1-R89","v":4},{"$f":"IF(S89<2,\"Yes\",\"No\")","v":"No"},{"$f":"IF(D89=\"-\",1,0)*U$1","v":0},{"$f":"AND(U89=0,U$1=1)","v":true},{"$f":"IF(F89=\"-\",1,0)*W$1","v":1},{"$f":"AND(W89=0,W$1=1)","v":false},{"$f":"IF(H89=\"-\",1,0)*Y$1","v":1},{"$f":"AND(Y89=0,Y$1=1)","v":false},{"$f":"IF(J89=\"-\",1,0)*AA$1","v":1},{"$f":"AND(AA89=0,AA$1=1)","v":false},{"$f":"IF(L89=\"-\",1,0)*AC$1","v":1},{"$f":"AND(AC89=0,AC$1=1)","v":false}]
[7,"Jay Francois","Uppingham CC",46,{"$f":"IF(D90=\"-\",0,D90)","v":46},"-",{"$f":"IF(F90=\"-\",0,F90)","v":0},"-",{"$f":"IF(H90=\"-\",0,H90)","v":0},"-",{"$f":"IF(J90=\"-\",0,J90)","v":0},"-",{"$f":"IF(L90=\"-\",0,L90)","v":0},null,{"$f":"E90+G90+I90+K90+M90","v":46},{"$f":"MAX(D90,F90,H90,J90,L90)","v":46},{"$f":"IF(S90=1,O90,IF(S90=0,(O90-P90),\"-\"))","v":"-"},{"$f":"COUNTIF(U90:AD90,\"=TRUE\")","v":1},{"$f":"AE$1-R90","v":4},{"$f":"IF(S90<2,\"Yes\",\"No\")","v":"No"},{"$f":"IF(D90=\"-\",1,0)*U$1","v":0},{"$f":"AND(U90=0,U$1=1)","v":true},{"$f":"IF(F90=\"-\",1,0)*W$1","v":1},{"$f":"AND(W90=0,W$1=1)","v":false},{"$f":"IF(H90=\"-\",1,0)*Y$1","v":1},{"$f":"AND(Y90=0,Y$1=1)","v":false},{"$f":"IF(J90=\"-\",1,0)*AA$1","v":1},{"$f":"AND(AA90=0,AA$1=1)","v":false},{"$f":"IF(L90=\"-\",1,0)*AC$1","v":1},{"$f":"AND(AC90=0,AC$1=1)","v":false}]
[75,"Nathan Bull","Woodbrook Vale School",47,{"$f":"IF(D91=\"-\",0,D91)","v":47},"-",{"$f":"IF(F91=\"-\",0,F91)","v":0},"-",{"$f":"IF(H91=\"-\",0,H91)","v":0},"-",{"$f":"IF(J91=\"-\",0,J91)","v":0},"-",{"$f":"IF(L91=\"-\",0,L91)","v":0},null,{"$f":"E91+G91+I91+K91+M91","v":47},{"$f":"MAX(D91,F91,H91,J91,L91)","v":47},{"$f":"IF(S91=1,O91,IF(S91=0,(O91-P91),\"-\"))","v":"-"},{"$f":"COUNTIF(U91:AD91,\"=TRUE\")","v":1},{"$f":"AE$1-R91","v":4},{"$f":"IF(S91<2,\"Yes\",\"No\")","v":"No"},{"$f":"IF(D91=\"-\",1,0)*U$1","v":0},{"$f":"AND(U91=0,U$1=1)","v":true},{"$f":"IF(F91=\"-\",1,0)*W$1","v":1},{"$f":"AND(W91=0,W$1=1)","v":false},{"$f":"IF(H91=\"-\",1,0)*Y$1","v":1},{"$f":"AND(Y91=0,Y$1=1)","v":false},{"$f":"IF(J91=\"-\",1,0)*AA$1","v":1},{"$f":"AND(AA91=0,AA$1=1)","v":false},{"$f":"IF(L91=\"-\",1,0)*AC$1","v":1},{"$f":"AND(AC91=0,AC$1=1)","v":false}]
[11,null,"-","-",{"$f":"IF(D92=\"-\",0,D92)","v":0},"-",{"$f":"IF(F92=\"-\",0,F92)","v":0},"-",{"$f":"IF(H92=\"-\",0,H92)","v":0},"-",{"$f":"IF(J92=\"-\",0,J92)","v":0},"-",{"$f":"IF(L92=\"-\",0,L92)","v":0},null,{"$f":"E92+G92+I92+K92+M92","v":0},{"$f":"MAX(D92,F92,H92,J92,L92)","v":0},{"$f":"IF(S92=1,O92,IF(S92=0,(O92-P92),\"-\"))","v":"-"},{"$f":"COUNTIF(U92:AD92,\"=TRUE\")","v":0},{"$f":"AE$1-R92","v":5},{"$f":"IF(S92<2,\"Yes\",\"No\")","v":"No"},{"$f":"IF(D92=\"-\",1,0)*U$1","v":1},{"$f":"AND(U92=0,U$1=1)","v":false},{"$f":"IF(F92=\"-\",1,0)*W$1","v":1},{"$f":"AND(W92=0,W$1=1)","v":false},{"$f":"IF(H92=\"-\",1,0)*Y$1","v":1},{"$f":"AND(Y92=0,Y$1=1)","v":false},{"$f":"IF(J92=\"-\",1,0)*AA$1","v":1},{"$f":"AND(AA92=0,AA$1=1)","v":false},{"$f":"IF(L92=\"-\",1,0)*AC$1","v":1},{"$f":"AND(AC92=0,AC$1=1)","v":false}]
[86,null,"-","-",{"$f":"IF(D93=\"-\",0,D93)","v":0},"-",{"$f":"IF(F93=\"-\",0,F93)","v":0},"-",{"$f":"IF(H93=\"-\",0,H93)","v":0},"-",{"$f":"IF(J93=\"-\",0,J93)","v":0},"-",{"$f":"IF(L93=\"-\",0,L93)","v":0},null,{"$f":"E93+G93+I93+K93+M93","v":0},{"$f":"MAX(D93,F93,H93,J93,L93)","v":0},{"$f":"IF(S93=1,O93,IF(S93=0,(O93-P93),\"-\"))","v":"-"},{"$f":"COUNTIF(U93:AD93,\"=TRUE\")","v":0},{"$f":"AE$1-R93","v":5},{"$f":"IF(S93<2,\"Yes\",\"No\")","v":"No"},{"$f":"IF(D93=\"-\",1,0)*U$1","v":1},{"$f":"AND(U93=0,U$1=1)","v":false},{"$f":"IF(F93=\"-\",1,0)*W$1","v":1},{"$f":"AND(W93=0,W$1=1)","v":false},{"$f":"IF(H93=\"-\",1,0)*Y$1","v":1},{"$f":"AND(Y93=0,Y$1=1)","v":false},{"$f":"IF(J93=\"-\",1,0)*AA$1","v":1},{"$f":"AND(AA93=0,AA$1=1)","v":false},{"$f":"IF(L93=\"-\",1,0)*AC$1","v":1},{"$f":"AND(AC93=0,AC$1=1)","v":false}]
[63,null,"-","-",{"$f":"IF(D94=\"-\",0,D94)","v":0},"-",{"$f":"IF(F94=\"-\",0,F94)","v":0},"-",{"$f":"IF(H94=\"-\",0,H94)","v":0},"-",{"$f":"IF(J94=\"-\",0,J94)","v":0},"-",{"$f":"IF(L94=\"-\",0,L94)","v":0},null,{"$f":"E94+G94+I94+K94+M94","v":0},{"$f":"MAX(D94,F94,H94,J94,L94)","v":0},{"$f":"IF(S94=1,O94,IF(S94=0,(O94-P94),\"-\"))","v":"-"},{"$f":"COUNTIF(U94:AD94,\"=TRUE\")","v":0},{"$f":"AE$1-R94","v":5},{"$f":"IF(S94<2,\"Yes\",\"No\")","v":"No"},{"$f":"IF(D94=\"-\",1,0)*U$1","v":1},{"$f":"AND(U94=0,U$1=1)","v":false},{"$f":"IF(F94=\"-\",1,0)*W$1","v":1},{"$f":"AND(W94=0,W$1=1)","v":false},{"$f":"IF(H94=\"-\",1,0)*Y$1","v":1},{"$f":"AND(Y94=0,Y$1=1)","v":false},{"$f":"IF(J94=\"-\",1,0)*AA$1","v":1},{"$f":"AND(AA94=0,AA$1=1)","v":false},{"$f":"IF(L94=\"-\",1,0)*AC$1","v":1},{"$f":"AND(AC94=0,AC$1=1)","v":false}]
[84,null,"-","-",{"$f":"IF(D95=\"-\",0,D95)","v":0},"-",{"$f":"IF(F95=\"-\",0,F95)","v":0},"-",{"$f":"IF(H95=\"-\",0,H95)","v":0},"-",{"$f":"IF(J95=\"-\",0,J95)","v":0},"-",{"$f":"IF(L95=\"-\",0,L95)","v":0},null,{"$f":"E95+G95+I95+K95+M95","v":0},{"$f":"MAX(D95,F95,H95,J95,L95)","v":0},{"$f":"IF(S95=1,O95,IF(S95=0,(O95-P95),\"-\"))","v":"-"},{"$f":"COUNTIF(U95:AD95,\"=TRUE\")","v":0},{"$f":"AE$1-R95","v":5},{"$f":"IF(S95<2,\"Yes\",\"No\")","v":"No"},{"$f":"IF(D95=\"-\",1,0)*U$1","v":1},{"$f":"AND(U95=0,U$1=1)","v":false},{"$f":"IF(F95=\"-\",1,0)*W$1","v":1},{"$f":"AND(W95=0,W$1=1)","v":false},{"$f":"IF(H95=\"-\",1,0)*Y$1","v":1},{"$f":"AND(Y95=0,Y$1=1)","v":false},{"$f":"IF(J95=\"-\",1,0)*AA$1","v":1},{"$f":"AND(AA95=0,AA$1=1)","v":false},{"$f":"IF(L95=\"-\",1,0)*AC$1","v":1},{"$f":"AND(AC95=0,AC$1=1)","v":false}]
[16,null,"-","-",{"$f":"IF(D96=\"-\",0,D96)","v":0},"-",{"$f":"IF(F96=\"-\",0,F96)","v":0},"-",{"$f":"IF(H96=\"-\",0,H96)","v":0},"-",{"$f":"IF(J96=\"-\",0,J96)","v":0},"-",{"$f":"IF(L96=\"-\",0,L96)","v":0},null,{"$f":"E96+G96+I96+K96+M96","v":0},{"$f":"MAX(D96,F96,H96,J96,L96)","v":0},{"$f":"IF(S96=1,O96,IF(S96=0,(O96-P96),\"-\"))","v":"-"},{"$f":"COUNTIF(U96:AD96,\"=TRUE\")","v":0},{"$f":"AE$1-R96","v":5},{"$f":"IF(S96<2,\"Yes\",\"No\")","v":"No"},{"$f":"IF(D96=\"-\",1,0)*U$1","v":1},{"$f":"AND(U96=0,U$1=1)","v":false},{"$f":"IF(F96=\"-\",1,0)*W$1","v":1},{"$f":"AND(W96=0,W$1=1)","v":false},{"$f":"IF(H96=\"-\",1,0)*Y$1","v":1},{"$f":"AND(Y96=0,Y$1=1)","v":false},{"$f":"IF(J96=\"-\",1,0)*AA$1","v":1},{"$f":"AND(AA96=0,AA$1=1)","v":false},{"$f":"IF(L96=\"-\",1,0)*AC$1","v":1},{"$f":"AND(AC96=0,AC$1=1)","v":false}]
[67,null,"-","-",{"$f":"IF(D97=\"-\",0,D97)","v":0},"-",{"$f":"IF(F97=\"-\",0,F97)","v":0},"-",{"$f":"IF(H97=\"-\",0,H97)","v":0},"-",{"$f":"IF(J97=\"-\",0,J97)","v":0},"-",{"$f":"IF(L97=\"-\",0,L97)","v":0},null,{"$f":"E97+G97+I97+K97+M97","v":0},{"$f":"MAX(D97,F97,H97,J97,L97)","v":0},{"$f":"IF(S97=1,O97,IF(S97=0,(O97-P97),\"-\"))","v":"-"},{"$f":"COUNTIF(U97:AD97,\"=TRUE\")","v":0},{"$f":"AE$1-R97","v":5},{"$f":"IF(S97<2,\"Yes\",\"No\")","v":"No"},{"$f":"IF(D97=\"-\",1,0)*U$1","v":1},{"$f":"AND(U97=0,U$1=1)","v":false},{"$f":"IF(F97=\"-\",1,0)*W$1","v":1},{"$f":"AND(W97=0,W$1=1)","v":false},{"$f":"IF(H97=\"-\",1,0)*Y$1","v":1},{"$f":"AND(Y97=0,Y$1=1)","v":false},{"$f":"IF(J97=\"-\",1,0)*AA$1","v":1},{"$f":"AND(AA97=0,AA$1=1)","v":false},{"$f":"IF(L97=\"-\",1,0)*AC$1","v":1},{"$f":"AND(AC97=0,AC$1=1)","v":false}]
[39,null,"-","-",{"$f":"IF(D98=\"-\",0,D98)","v":0},"-",{"$f":"IF(F98=\"-\",0,F98)","v":0},"-",{"$f":"IF(H98=\"-\",0,H98)","v":0},"-",{"$f":"IF(J98=\"-\",0,J98)","v":0},"-",{"$f":"IF(L98=\"-\",0,L98)","v":0},null,{"$f":"E98+G98+I98+K98+M98","v":0},{"$f":"MAX(D98,F98,H98,J98,L98)","v":0},{"$f":"IF(S98=1,O98,IF(S98=0,(O98-P98),\"-\"))","v":"-"},{"$f":"COUNTIF(U98:AD98,\"=TRUE\")","v":0},{"$f":"AE$1-R98","v":5},{"$f":"IF(S98<2,\"Yes\",\"No\")","v":"No"},{"$f":"IF(D98=\"-\",1,0)*U$1","v":1},{"$f":"AND(U98=0,U$1=1)","v":false},{"$f":"IF(F98=\"-\",1,0)*W$1","v":1},{"$f":"AND(W98=0,W$1=1)","v":false},{"$f":"IF(H98=\"-\",1,0)*Y$1","v":1},{"$f":"AND(Y98=0,Y$1=1)","v":false},{"$f":"IF(J98=\"-\",1,0)*AA$1","v":1},{"$f":"AND(AA98=0,AA$1=1)","v":false},{"$f":"IF(L98=\"-\",1,0)*AC$1","v":1},{"$f":"AND(AC98=0,AC$1=1)","v":false}]
[71,null,"-","-",{"$f":"IF(D99=\"-\",0,D99)","v":0},"-",{"$f":"IF(F99=\"-\",0,F99)","v":0},"-",{"$f":"IF(H99=\"-\",0,H99)","v":0},"-",{"$f":"IF(J99=\"-\",0,J99)","v":0},"-",{"$f":"IF(L99=\"-\",0,L99)","v":0},null,{"$f":"E99+G99+I99+K99+M99","v":0},{"$f":"MAX(D99,F99,H99,J99,L99)","v":0},{"$f":"IF(S99=1,O99,IF(S99=0,(O99-P99),\"-\"))","v":"-"},{"$f":"COUNTIF(U99:AD99,\"=TRUE\")","v":0},{"$f":"AE$1-R99","v":5},{"$f":"IF(S99<2,\"Yes\",\"No\")","v":"No"},{"$f":"IF(D99=\"-\",1,0)*U$1","v":1},{"$f":"AND(U99=0,U$1=1)","v":false},{"$f":"IF(F99=\"-\",1,0)*W$1","v":1},{"$f":"AND(W99=0,W$1=1)","v":false},{"$f":"IF(H99=\"-\",1,0)*Y$1","v":1},{"$f":"AND(Y99=0,Y$1=1)","v":false},{"$f":"IF(J99=\"-\",1,0)*AA$1","v":1},{"$f":"AND(AA99=0,AA$1=1)","v":false},{"$f":"IF(L99=\"-\",1,0)*AC$1","v":1},{"$f":"AND(AC99=0,AC$1=1)","v":false}]
[17,null,"-","-",{"$f":"IF(D100=\"-\",0,D100)","v":0},"-",{"$f":"IF(F100=\"-\",0,F100)","v":0},"-",{"$f":"IF(H100=\"-\",0,H100)","v":0},"-",{"$f":"IF(J100=\"-\",0,J100)","v":0},"-",{"$f":"IF(L100=\"-\",0,L100)","v":0},null,{"$f":"E100+G100+I100+K100+M100","v":0},{"$f":"MAX(D100,F100,H100,J100,L100)","v":0},{"$f":"IF(S100=1,O100,IF(S100=0,(O100-P100),\"-\"))","v":"-"},{"$f":"COUNTIF(U100:AD100,\"=TRUE\")","v":0},{"$f":"AE$1-R100","v":5},{"$f":"IF(S100<2,\"Yes\",\"No\")","v":"No"},{"$f":"IF(D100=\"-\",1,0)*U$1","v":1},{"$f":"AND(U100=0,U$1=1)","v":false},{"$f":"IF(F100=\"-\",1,0)*W$1","v":1},{"$f":"AND(W100=0,W$1=1)","v":false},{"$f":"IF(H100=\"-\",1,0)*Y$1","v":1},{"$f":"AND(Y100=0,Y$1=1)","v":false},{"$f":"IF(J100=\"-\",1,0)*AA$1","v":1},{"$f":"AND(AA100=0,AA$1=1)","v":false},{"$f":"IF(L100=\"-\",1,0)*AC$1","v":1},{"$f":"AND(AC100=0,AC$1=1)","v":false}]
[79,null,"-","-",{"$f":"IF(D101=\"-\",0,D101)","v":0},"-",{"$f":"IF(F101=\"-\",0,F101)","v":0},"-",{"$f":"IF(H101=\"-\",0,H101)","v":0},"-",{"$f":"IF(J101=\"-\",0,J101)","v":0},"-",{"$f":"IF(L101=\"-\",0,L101)","v":0},null,{"$f":"E101+G101+I101+K101+M101","v":0},{"$f":"MAX(D101,F101,H101,J101,L101)","v":0},{"$f":"IF(S101=1,O101,IF(S101=0,(O101-P101),\"-\"))","v":"-"},{"$f":"COUNTIF(U101:AD101,\"=TRUE\")","v":0},{"$f":"AE$1-R101","v":5},{"$f":"IF(S101<2,\"Yes\",\"No\")","v":"No"},{"$f":"IF(D101=\"-\",1,0)*U$1","v":1},{"$f":"AND(U101=0,U$1=1)","v":false},{"$f":"IF(F101=\"-\",1,0)*W$1","v":1},{"$f":"AND(W101=0,W$1=1)","v":false},{"$f":"IF(H101=\"-\",1,0)*Y$1","v":1},{"$f":"AND(Y101=0,Y$1=1)","v":false},{"$f":"IF(J101=\"-\",1,0)*AA$1","v":1},{"$f":"AND(AA101=0,AA$1=1)","v":false},{"$f":"IF(L101=\"-\",1,0)*AC$1","v":1},{"$f":"AND(AC101=0,AC$1=1)","v":false}]
[60,null,"-","-",{"$f":"IF(D102=\"-\",0,D102)","v":0},"-",{"$f":"IF(F102=\"-\",0,F102)","v":0},"-",{"$f":"IF(H102=\"-\",0,H102)","v":0},"-",{"$f":"IF(J102=\"-\",0,J102)","v":0},"-",{"$f":"IF(L102=\"-\",0,L102)","v":0},null,{"$f":"E102+G102+I102+K102+M102","v":0},{"$f":"MAX(D102,F102,H102,J102,L102)","v":0},{"$f":"IF(S102=1,O102,IF(S102=0,(O102-P102),\"-\"))","v":"-"},{"$f":"COUNTIF(U102:AD102,\"=TRUE\")","v":0},{"$f":"AE$1-R102","v":5},{"$f":"IF(S102<2,\"Yes\",\"No\")","v":"No"},{"$f":"IF(D102=\"-\",1,0)*U$1","v":1},{"$f":"AND(U102=0,U$1=1)","v":false},{"$f":"IF(F102=\"-\",1,0)*W$1","v":1},{"$f":"AND(W102=0,W$1=1)","v":false},{"$f":"IF(H102=\"-\",1,0)*Y$1","v":1},{"$f":"AND(Y102=0,Y$1=1)","v":false},{"$f":"IF(J102=\"-\",1,0)*AA$1","v":1},{"$f":"AND(AA102=0,AA$1=1)","v":false},{"$f":"IF(L102=\"-\",1,0)*AC$1","v":1},{"$f":"AND(AC102=0,AC$1=1)","v":false}]
[15,null,"-","-",{"$f":"IF(D103=\"-\",0,D103)","v":0},"-",{"$f":"IF(F103=\"-\",0,F103)","v":0},"-",{"$f":"IF(H103=\"-\",0,H103)","v":0},"-",{"$f":"IF(J103=\"-\",0,J103)","v":0},"-",{"$f":"IF(L103=\"-\",0,L103)","v":0},null,{"$f":"E103+G103+I103+K103+M103","v":0},{"$f":"MAX(D103,F103,H103,J103,L103)","v":0},{"$f":"IF(S103=1,O103,IF(S103=0,(O103-P103),\"-\"))","v":"-"},{"$f":"COUNTIF(U103:AD103,\"=TRUE\")","v":0},{"$f":"AE$1-R103","v":5},{"$f":"IF(S103<2,\"Yes\",\"No\")","v":"No"},{"$f":"IF(D103=\"-\",1,0)*U$1","v":1},{"$f":"AND(U103=0,U$1=1)","v":false},{"$f":"IF(F103=\"-\",1,0)*W$1","v":1},{"$f":"AND(W103=0,W$1=1)","v":false},{"$f":"IF(H103=\"-\",1,0)*Y$1","v":1},{"$f":"AND(Y103=0,Y$1=1)","v":false},{"$f":"IF(J103=\"-\",1,0)*AA$1","v":1},{"$f":"AND(AA103=0,AA$1=1)","v":false},{"$f":"IF(L103=\"-\",1,0)*AC$1","v":1},{"$f":"AND(AC103=0,AC$1=1)","v":false}]
[34,null,"-","-",{"$f":"IF(D104=\"-\",0,D104)","v":0},"-",{"$f":"IF(F104=\"-\",0,F104)","v":0},"-",{"$f":"IF(H104=\"-\",0,H104)","v":0},"-",{"$f":"IF(J104=\"-\",0,J104)","v":0},"-",{"$f":"IF(L104=\"-\",0,L104)","v":0},null,{"$f":"E104+G104+I104+K104+M104","v":0},{"$f":"MAX(D104,F104,H104,J104,L104)","v":0},{"$f":"IF(S104=1,O104,IF(S104=0,(O104-P104),\"-\"))","v":"-"},{"$f":"COUNTIF(U104:AD104,\"=TRUE\")","v":0},{"$f":"AE$1-R104","v":5},{"$f":"IF(S104<2,\"Yes\",\"No\")","v":"No"},{"$f":"IF(D104=\"-\",1,0)*U$1","v":1},{"$f":"AND(U104=0,U$1=1)","v":false},{"$f":"IF(F104=\"-\",1,0)*W$1","v":1},{"$f":"AND(W104=0,W$1=1)","v":false},{"$f":"IF(H104=\"-\",1,0)*Y$1","v":1},{"$f":"AND(Y104=0,Y$1=1)","v":false},{"$f":"IF(J104=\"-\",1,0)*AA$1","v":1},{"$f":"AND(AA104=0,AA$1=1)","v":false},{"$f":"IF(L104=\"-\",1,0)*AC$1","v":1},{"$f":"AND(AC104=0,AC$1=1)","v":false}]
[62,null,"-","-",{"$f":"IF(D105=\"-\",0,D105)","v":0},"-",{"$f":"IF(F105=\"-\",0,F105)","v":0},"-",{"$f":"IF(H105=\"-\",0,H105)","v":0},"-",{"$f":"IF(J105=\"-\",0,J105)","v":0},"-",{"$f":"IF(L105=\"-\",0,L105)","v":0},null,{"$f":"E105+G105+I105+K105+M105","v":0},{"$f":"MAX(D105,F105,H105,J105,L105)","v":0},{"$f":"IF(S105=1,O105,IF(S105=0,(O105-P105),\"-\"))","v":"-"},{"$f":"COUNTIF(U105:AD105,\"=TRUE\")","v":0},{"$f":"AE$1-R105","v":5},{"$f":"IF(S105<2,\"Yes\",\"No\")","v":"No"},{"$f":"IF(D105=\"-\",1,0)*U$1","v":1},{"$f":"AND(U105=0,U$1=1)","v":false},{"$f":"IF(F105=\"-\",1,0)*W$1","v":1},{"$f":"AND(W105=0,W$1=1)","v":false},{"$f":"IF(H105=\"-\",1,0)*Y$1","v":1},{"$f":"AND(Y105=0,Y$1=1)","v":false},{"$f":"IF(J105=\"-\",1,0)*AA$1","v":1},{"$f":"AND(AA105=0,AA$1=1)","v":false},{"$f":"IF(L105=\"-\",1,0)*AC$1","v":1},{"$f":"AND(AC105=0,AC$1=1)","v":false}]
[6,null,"-","-",{"$f":"IF(D106=\"-\",0,D106)","v":0},"-",{"$f":"IF(F106=\"-\",0,F106)","v":0},"-",{"$f":"IF(H106=\"-\",0,H106)","v":0},"-",{"$f":"IF(J106=\"-\",0,J106)","v":0},"-",{"$f":"IF(L106=\"-\",0,L106)","v":0},null,{"$f":"E106+G106+I106+K106+M106","v":0},{"$f":"MAX(D106,F106,H106,J106,L106)","v":0},{"$f":"IF(S106=1,O106,IF(S106=0,(O106-P106),\"-\"))","v":"-"},{"$f":"COUNTIF(U106:AD106,\"=TRUE\")","v":0},{"$f":"AE$1-R106","v":5},{"$f":"IF(S106<2,\"Yes\",\"No\")","v":"No"},{"$f":"IF(D106=\"-\",1,0)*U$1","v":1},{"$f":"AND(U106=0,U$1=1)","v":false},{"$f":"IF(F106=\"-\",1,0)*W$1","v":1},{"$f":"AND(W106=0,W$1=1)","v":false},{"$f":"IF(H106=\"-\",1,0)*Y$1","v":1},{"$f":"AND(Y106=0,Y$1=1)","v":false},{"$f":"IF(J106=\"-\",1,0)*AA$1","v":1},{"$f":"AND(AA106=0,AA$1=1)","v":false},{"$f":"IF(L106=\"-\",1,0)*AC$1","v":1},{"$f":"AND(AC106=0,AC$1=1)","v":false}]
[24,null,"-","-",{"$f":"IF(D107=\"-\",0,D107)","v":0},"-",{"$f":"IF(F107=\"-\",0,F107)","v":0},"-",{"$f":"IF(H107=\"-\",0,H107)","v":0},"-",{"$f":"IF(J107=\"-\",0,J107)","v":0},"-",{"$f":"IF(L107=\"-\",0,L107)","v":0},null,{"$f":"E107+G107+I107+K107+M107","v":0},{"$f":"MAX(D107,F107,H107,J107,L107)","v":0},{"$f":"IF(S107=1,O107,IF(S107=0,(O107-P107),\"-\"))","v":"-"},{"$f":"COUNTIF(U107:AD107,\"=TRUE\")","v":0},{"$f":"AE$1-R107","v":5},{"$f":"IF(S107<2,\"Yes\",\"No\")","v":"No"},{"$f":"IF(D107=\"-\",1,0)*U$1","v":1},{"$f":"AND(U107=0,U$1=1)","v":false},{"$f":"IF(F107=\"-\",1,0)*W$1","v":1},{"$f":"AND(W107=0,W$1=1)","v":false},{"$f":"IF(H107=\"-\",1,0)*Y$1","v":1},{"$f":"AND(Y107=0,Y$1=1)","v":false},{"$f":"IF(J107=\"-\",1,0)*AA$1","v":1},{"$f":"AND(AA107=0,AA$1=1)","v":false},{"$f":"IF(L107=\"-\",1,0)*AC$1","v":1},{"$f":"AND(AC107=0,AC$1=1)","v":false}]
[29,null,"-","-",{"$f":"IF(D108=\"-\",0,D108)","v":0},"-",{"$f":"IF(F108=\"-\",0,F108)","v":0},"-",{"$f":"IF(H108=\"-\",0,H108)","v":0},"-",{"$f":"IF(J108=\"-\",0,J108)","v":0},"-",{"$f":"IF(L108=\"-\",0,L108)","v":0},null,{"$f":"E108+G108+I108+K108+M108","v":0},{"$f":"MAX(D108,F108,H108,J108,L108)","v":0},{"$f":"IF(S108=1,O108,IF(S108=0,(O108-P108),\"-\"))","v":"-"},{"$f":"COUNTIF(U108:AD108,\"=TRUE\")","v":0},{"$f":"AE$1-R108","v":5},{"$f":"IF(S108<2,\"Yes\",\"No\")","v":"No"},{"$f":"IF(D108=\"-\",1,0)*U$1","v":1},{"$f":"AND(U108=0,U$1=1)","v":false},{"$f":"IF(F108=\"-\",1,0)*W$1","v":1},{"$f":"AND(W108=0,W$1=1)","v":false},{"$f":"IF(H108=\"-\",1,0)*Y$1","v":1},{"$f":"AND(Y108=0,Y$1=1)","v":false},{"$f":"IF(J108=\"-\",1,0)*AA$1","v":1},{"$f":"AND(AA108=0,AA$1=1)","v":false},{"$f":"IF(L108=\"-\",1,0)*AC$1","v":1},{"$f":"AND(AC108=0,AC$1=1)","v":false}]
[27,null,"-","-",{"$f":"IF(D109=\"-\",0,D109)","v":0},"-",{"$f":"IF(F109=\"-\",0,F109)","v":0},"-",{"$f":"IF(H109=\"-\",0,H109)","v":0},"-",{"$f":"IF(J109=\"-\",0,J109)","v":0},"-",{"$f":"IF(L109=\"-\",0,L109)","v":0},null,{"$f":"E109+G109+I109+K109+M109","v":0},{"$f":"MAX(D109,F109,H109,J109,L109)","v":0},{"$f":"IF(S109=1,O109,IF(S109=0,(O109-P109),\"-\"))","v":"-"},{"$f":"COUNTIF(U109:AD109,\"=TRUE\")","v":0},{"$f":"AE$1-R109","v":5},{"$f":"IF(S109<2,\"Yes\",\"No\")","v":"No"},{"$f":"IF(D109=\"-\",1,0)*U$1","v":1},{"$f":"AND(U109=0,U$1=1)","v":false},{"$f":"IF(F109=\"-\",1,0)*W$1","v":1},{"$f":"AND(W109=0,W$1=1)","v":false},{"$f":"IF(H109=\"-\",1,0)*Y$1","v":1},{"$f":"AND(Y109=0,Y$1=1)","v":false},{"$f":"IF(J109=\"-\",1,0)*AA$1","v":1},{"$f":"AND(AA109=0,AA$1=1)","v":false},{"$f":"IF(L109=\"-\",1,0)*AC$1","v":1},{"$f":"AND(AC109=0,AC$1=1)","v":false}]
[3,null,"-","-",{"$f":"IF(D110=\"-\",0,D110)","v":0},"-",{"$f":"IF(F110=\"-\",0,F110)","v":0},"-",{"$f":"IF(H110=\"-\",0,H110)","v":0},"-",{"$f":"IF(J110=\"-\",0,J110)","v":0},"-",{"$f":"IF(L110=\"-\",0,L110)","v":0},null,{"$f":"E110+G110+I110+K110+M110","v":0},{"$f":"MAX(D110,F110,H110,J110,L110)","v":0},{"$f":"IF(S110=1,O110,IF(S110=0,(O110-P110),\"-\"))","v":"-"},{"$f":"COUNTIF(U110:AD110,\"=TRUE\")","v":0},{"$f":"AE$1-R110","v":5},{"$f":"IF(S110<2,\"Yes\",\"No\")","v":"No"},{"$f":"IF(D110=\"-\",1,0)*U$1","v":1},{"$f":"AND(U110=0,U$1=1)","v":false},{"$f":"IF(F110=\"-\",1,0)*W$1","v":1},{"$f":"AND(W110=0,W$1=1)","v":false},{"$f":"IF(H110=\"-\",1,0)*Y$1","v":1},{"$f":"AND(Y110=0,Y$1=1)","v":false},{"$f":"IF(J110=\"-\",1,0)*AA$1","v":1},{"$f":"AND(AA110=0,AA$1=1)","v":false},{"$f":"IF(L110=\"-\",1,0)*AC$1","v":1},{"$f":"AND(AC110=0,AC$1=1)","v":false}]
[28,null,"-","-",{"$f":"IF(D111=\"-\",0,D111)","v":0},"-",{"$f":"IF(F111=\"-\",0,F111)","v":0},"-",{"$f":"IF(H111=\"-\",0,H111)","v":0},"-",{"$f":"IF(J111=\"-\",0,J111)","v":0},"-",{"$f":"IF(L111=\"-\",0,L111)","v":0},null,{"$f":"E111+G111+I111+K111+M111","v":0},{"$f":"MAX(D111,F111,H111,J111,L111)","v":0},{"$f":"IF(S111=1,O111,IF(S111=0,(O111-P111),\"-\"))","v":"-"},{"$f":"COUNTIF(U111:AD111,\"=TRUE\")","v":0},{"$f":"AE$1-R111","v":5},{"$f":"IF(S111<2,\"Yes\",\"No\")","v":"No"},{"$f":"IF(D111=\"-\",1,0)*U$1","v":1},{"$f":"AND(U111=0,U$1=1)","v":false},{"$f":"IF(F111=\"-\",1,0)*W$1","v":1},{"$f":"AND(W111=0,W$1=1)","v":false},{"$f":"IF(H111=\"-\",1,0)*Y$1","v":1},{"$f":"AND(Y111=0,Y$1=1)","v":false},{"$f":"IF(J111=\"-\",1,0)*AA$1","v":1},{"$f":"AND(AA111=0,AA$1=1)","v":false},{"$f":"IF(L111=\"-\",1,0)*AC$1","v":1},{"$f":"AND(AC111=0,AC$1=1)","v":false}]
[108,null,"-","-",{"$f":"IF(D112=\"-\",0,D112)","v":0},"-",{"$f":"IF(F112=\"-\",0,F112)","v":0},"-",{"$f":"IF(H112=\"-\",0,H112)","v":0},"-",{"$f":"IF(J112=\"-\",0,J112)","v":0},"-",{"$f":"IF(L112=\"-\",0,L112)","v":0},null,{"$f":"E112+G112+I112+K112+M112","v":0},{"$f":"MAX(D112,F112,H112,J112,L112)","v":0},{"$f":"IF(S112=1,O112,IF(S112=0,(O112-P112),\"-\"))","v":"-"},{"$f":"COUNTIF(U112:AD112,\"=TRUE\")","v":0},{"$f":"AE$1-R112","v":5},{"$f":"IF(S112<2,\"Yes\",\"No\")","v":"No"},{"$f":"IF(D112=\"-\",1,0)*U$1","v":1},{"$f":"AND(U112=0,U$1=1)","v":false},{"$f":"IF(F112=\"-\",1,0)*W$1","v":1},{"$f":"AND(W112=0,W$1=1)","v":false},{"$f":"IF(H112=\"-\",1,0)*Y$1","v":1},{"$f":"AND(Y112=0,Y$1=1)","v":false},{"$f":"IF(J112=\"-\",1,0)*AA$1","v":1},{"$f":"AND(AA112=0,AA$1=1)","v":false},{"$f":"IF(L112=\"-\",1,0)*AC$1","v":1},{"$f":"AND(AC112=0,AC$1=1)","v":false}]
[109,null,"-","-",{"$f":"IF(D113=\"-\",0,D113)","v":0},"-",{"$f":"IF(F113=\"-\",0,F113)","v":0},"-",{"$f":"IF(H113=\"-\",0,H113)","v":0},"-",{"$f":"IF(J113=\"-\",0,J113)","v":0},"-",{"$f":"IF(L113=\"-\",0,L113)","v":0},null,{"$f":"E113+G113+I113+K113+M113","v":0},{"$f":"MAX(D113,F113,H113,J113,L113)","v":0},{"$f":"IF(S113=1,O113,IF(S113=0,(O113-P113),\"-\"))","v":"-"},{"$f":"COUNTIF(U113:AD113,\"=TRUE\")","v":0},{"$f":"AE$1-R113","v":5},{"$f":"IF(S113<2,\"Yes\",\"No\")","v":"No"},{"$f":"IF(D113=\"-\",1,0)*U$1","v":1},{"$f":"AND(U113=0,U$1=1)","v":false},{"$f":"IF(F113=\"-\",1,0)*W$1","v":1},{"$f":"AND(W113=0,W$1=1)","v":false},{"$f":"IF(H113=\"-\",1,0)*Y$1","v":1},{"$f":"AND(Y113=0,Y$1=1)","v":false},{"$f":"IF(J113=\"-\",1,0)*AA$1","v":1},{"$f":"AND(AA113=0,AA$1=1)","v":false},{"$f":"IF(L113=\"-\",1,0)*AC$1","v":1},{"$f":"AND(AC113=0,AC$1=1)","v":false}]
[110,null,"-","-",{"$f":"IF(D114=\"-\",0,D114)","v":0},"-",{"$f":"IF(F114=\"-\",0,F114)","v":0},"-",{"$f":"IF(H114=\"-\",0,H114)","v":0},"-",{"$f":"IF(J114=\"-\",0,J114)","v":0},"-",{"$f":"IF(L114=\"-\",0,L114)","v":0},null,{"$f":"E114+G114+I114+K114+M114","v":0},{"$f":"MAX(D114,F114,H114,J114,L114)","v":0},{"$f":"IF(S114=1,O114,IF(S114=0,(O114-P114),\"-\"))","v":"-"},{"$f":"COUNTIF(U114:AD114,\"=TRUE\")","v":0},{"$f":"AE$1-R114","v":5},{"$f":"IF(S114<2,\"Yes\",\"No\")","v":"No"},{"$f":"IF(D114=\"-\",1,0)*U$1","v":1},{"$f":"AND(U114=0,U$1=1)","v":false},{"$f":"IF(F114=\"-\",1,0)*W$1","v":1},{"$f":"AND(W114=0,W$1=1)","v":false},{"$f":"IF(H114=\"-\",1,0)*Y$1","v":1},{"$f":"AND(Y114=0,Y$1=1)","v":false},{"$f":"IF(J114=\"-\",1,0)*AA$1","v":1},{"$f":"AND(AA114=0,AA$1=1)","v":false},{"$f":"IF(L114=\"-\",1,0)*AC$1","v":1},{"$f":"AND(AC114=0,AC$1=1)","v":false}]
[111,null,"-","-",{"$f":"IF(D115=\"-\",0,D115)","v":0},"-",{"$f":"IF(F115=\"-\",0,F115)","v":0},"-",{"$f":"IF(H115=\"-\",0,H115)","v":0},"-",{"$f":"IF(J115=\"-\",0,J115)","v":0},"-",{"$f":"IF(L115=\"-\",0,L115)","v":0},null,{"$f":"E115+G115+I115+K115+M115","v":0},{"$f":"MAX(D115,F115,H115,J115,L115)","v":0},{"$f":"IF(S115=1,O115,IF(S115=0,(O115-P115),\"-\"))","v":"-"},{"$f":"COUNTIF(U115:AD115,\"=TRUE\")","v":0},{"$f":"AE$1-R115","v":5},{"$f":"IF(S115<2,\"Yes\",\"No\")","v":"No"},{"$f":"IF(D115=\"-\",1,0)*U$1","v":1},{"$f":"AND(U115=0,U$1=1)","v":false},{"$f":"IF(F115=\"-\",1,0)*W$1","v":1},{"$f":"AND(W115=0,W$1=1)","v":false},{"$f":"IF(H115=\"-\",1,0)*Y$1","v":1},{"$f":"AND(Y115=0,Y$1=1)","v":false},{"$f":"IF(J115=\"-\",1,0)*AA$1","v":1},{"$f":"AND(AA115=0,AA$1=1)","v":false},{"$f":"IF(L115=\"-\",1,0)*AC$1","v":1},{"$f":"AND(AC115=0,AC$1=1)","v":false}]
[112,null,"-","-",{"$f":"IF(D116=\"-\",0,D116)","v":0},"-",{"$f":"IF(F116=\"-\",0,F116)","v":0},"-",{"$f":"IF(H116=\"-\",0,H116)","v":0},"-",{"$f":"IF(J116=\"-\",0,J116)","v":0},"-",{"$f":"IF(L116=\"-\",0,L116)","v":0},null,{"$f":"E116+G116+I116+K116+M116","v":0},{"$f":"MAX(D116,F116,H116,J116,L116)","v":0},{"$f":"IF(S116=1,O116,IF(S116=0,(O116-P116),\"-\"))","v":"-"},{"$f":"COUNTIF(U116:AD116,\"=TRUE\")","v":0},{"$f":"AE$1-R116","v":5},{"$f":"IF(S116<2,\"Yes\",\"No\")","v":"No"},{"$f":"IF(D116=\"-\",1,0)*U$1","v":1},{"$f":"AND(U116=0,U$1=1)","v":false},{"$f":"IF(F116=\"-\",1,0)*W$1","v":1},{"$f":"AND(W116=0,W$1=1)","v":false},{"$f":"IF(H116=\"-\",1,0)*Y$1","v":1},{"$f":"AND(Y116=0,Y$1=1)","v":false},{"$f":"IF(J116=\"-\",1,0)*AA$1","v":1},{"$f":"AND(AA116=0,AA$1=1)","v":false},{"$f":"IF(L116=\"-\",1,0)*AC$1","v":1},{"$f":"AND(AC116=0,AC$1=1)","v":false}]
[113,null,"-","-",{"$f":"IF(D117=\"-\",0,D117)","v":0},"-",{"$f":"IF(F117=\"-\",0,F117)","v":0},"-",{"$f":"IF(H117=\"-\",0,H117)","v":0},"-",{"$f":"IF(J117=\"-\",0,J117)","v":0},"-",{"$f":"IF(L117=\"-\",0,L117)","v":0},null,{"$f":"E117+G117+I117+K117+M117","v":0},{"$f":"MAX(D117,F117,H117,J117,L117)","v":0},{"$f":"IF(S117=1,O117,IF(S117=0,(O117-P117),\"-\"))","v":"-"},{"$f":"COUNTIF(U117:AD117,\"=TRUE\")","v":0},{"$f":"AE$1-R117","v":5},{"$f":"IF(S117<2,\"Yes\",\"No\")","v":"No"},{"$f":"IF(D117=\"-\",1,0)*U$1","v":1},{"$f":"AND(U117=0,U$1=1)","v":false},{"$f":"IF(F117=\"-\",1,0)*W$1","v":1},{"$f":"AND(W117=0,W$1=1)","v":false},{"$f":"IF(H117=\"-\",1,0)*Y$1","v":1},{"$f":"AND(Y117=0,Y$1=1)","v":false},{"$f":"IF(J117=\"-\",1,0)*AA$1","v":1},{"$f":"AND(AA117=0,AA$1=1)","v":false},{"$f":"IF(L117=\"-\",1,0)*AC$1","v":1},{"$f":"AND(AC117=0,AC$1=1)","v":false}]
[114,null,"-","-",{"$f":"IF(D118=\"-\",0,D118)","v":0},"-",{"$f":"IF(F118=\"-\",0,F118)","v":0},"-",{"$f":"IF(H118=\"-\",0,H118)","v":0},"-",{"$f":"IF(J118=\"-\",0,J118)","v":0},"-",{"$f":"IF(L118=\"-\",0,L118)","v":0},null,{"$f":"E118+G118+I118+K118+M118","v":0},{"$f":"MAX(D118,F118,H118,J118,L118)","v":0},{"$f":"IF(S118=1,O118,IF(S118=0,(O118-P118),\"-\"))","v":"-"},{"$f":"COUNTIF(U118:AD118,\"=TRUE\")","v":0},{"$f":"AE$1-R118","v":5},{"$f":"IF(S118<2,\"Yes\",\"No\")","v":"No"},{"$f":"IF(D118=\"-\",1,0)*U$1","v":1},{"$f":"AND(U118=0,U$1=1)","v":false},{"$f":"IF(F118=\"-\",1,0)*W$1","v":1},{"$f":"AND(W118=0,W$1=1)","v":false},{"$f":"IF(H118=\"-\",1,0)*Y$1","v":1},{"$f":"AND(Y118=0,Y$1=1)","v":false},{"$f":"IF(J118=\"-\",1,0)*AA$1","v":1},{"$f":"AND(AA118=0,AA$1=1)","v":false},{"$f":"IF(L118=\"-\",1,0)*AC$1","v":1},{"$f":"AND(AC118=0,AC$1=1)","v":false}]
[115,null,"-","-",{"$f":"IF(D119=\"-\",0,D119)","v":0},"-",{"$f":"IF(F119=\"-\",0,F119)","v":0},"-",{"$f":"IF(H119=\"-\",0,H119)","v":0},"-",{"$f":"IF(J119=\"-\",0,J119)","v":0},"-",{"$f":"IF(L119=\"-\",0,L119)","v":0},null,{"$f":"E119+G119+I119+K119+M119","v":0},{"$f":"MAX(D119,F119,H119,J119,L119)","v":0},{"$f":"IF(S119=1,O119,IF(S119=0,(O119-P119),\"-\"))","v":"-"},{"$f":"COUNTIF(U119:AD119,\"=TRUE\")","v":0},{"$f":"AE$1-R119","v":5},{"$f":"IF(S119<2,\"Yes\",\"No\")","v":"No"},{"$f":"IF(D119=\"-\",1,0)*U$1","v":1},{"$f":"AND(U119=0,U$1=1)","v":false},{"$f":"IF(F119=\"-\",1,0)*W$1","v":1},{"$f":"AND(W119=0,W$1=1)","v":false},{"$f":"IF(H119=\"-\",1,0)*Y$1","v":1},{"$f":"AND(Y119=0,Y$1=1)","v":false},{"$f":"IF(J119=\"-\",1,0)*AA$1","v":1},{"$f":"AND(AA119=0,AA$1=1)","v":false},{"$f":"IF(L119=\"-\",1,0)*AC$1","v":1},{"$f":"AND(AC119=0,AC$1=1)","v":false}]
[116,null,"-","-",{"$f":"IF(D120=\"-\",0,D120)","v":0},"-",{"$f":"IF(F120=\"-\",0,F120)","v":0},"-",{"$f":"IF(H120=\"-\",0,H120)","v":0},"-",{"$f":"IF(J120=\"-\",0,J120)","v":0},"-",{"$f":"IF(L120=\"-\",0,L120)","v":0},null,{"$f":"E120+G120+I120+K120+M120","v":0},{"$f":"MAX(D120,F120,H120,J120,L120)","v":0},{"$f":"IF(S120=1,O120,IF(S120=0,(O120-P120),\"-\"))","v":"-"},{"$f":"COUNTIF(U120:AD120,\"=TRUE\")","v":0},{"$f":"AE$1-R120","v":5},{"$f":"IF(S120<2,\"Yes\",\"No\")","v":"No"},{"$f":"IF(D120=\"-\",1,0)*U$1","v":1},{"$f":"AND(U120=0,U$1=1)","v":false},{"$f":"IF(F120=\"-\",1,0)*W$1","v":1},{"$f":"AND(W120=0,W$1=1)","v":false},{"$f":"IF(H120=\"-\",1,0)*Y$1","v":1},{"$f":"AND(Y120=0,Y$1=1)","v":false},{"$f":"IF(J120=\"-\",1,0)*AA$1","v":1},{"$f":"AND(AA120=0,AA$1=1)","v":false},{"$f":"IF(L120=\"-\",1,0)*AC$1","v":1},{"$f":"AND(AC120=0,AC$1=1)","v":false}]
[117,null,"-","-",{"$f":"IF(D121=\"-\",0,D121)","v":0},"-",{"$f":"IF(F121=\"-\",0,F121)","v":0},"-",{"$f":"IF(H121=\"-\",0,H121)","v":0},"-",{"$f":"IF(J121=\"-\",0,J121)","v":0},"-",{"$f":"IF(L121=\"-\",0,L121)","v":0},null,{"$f":"E121+G121+I121+K121+M121","v":0},{"$f":"MAX(D121,F121,H121,J121,L121)","v":0},{"$f":"IF(S121=1,O121,IF(S121=0,(O121-P121),\"-\"))","v":"-"},{"$f":"COUNTIF(U121:AD121,\"=TRUE\")","v":0},{"$f":"AE$1-R121","v":5},{"$f":"IF(S121<2,\"Yes\",\"No\")","v":"No"},{"$f":"IF(D121=\"-\",1,0)*U$1","v":1},{"$f":"AND(U121=0,U$1=1)","v":false},{"$f":"IF(F121=\"-\",1,0)*W$1","v":1},{"$f":"AND(W121=0,W$1=1)","v":false},{"$f":"IF(H121=\"-\",1,0)*Y$1","v":1},{"$f":"AND(Y121=0,Y$1=1)","v":false},{"$f":"IF(J121=\"-\",1,0)*AA$1","v":1},{"$f":"AND(AA121=0,AA$1=1)","v":false},{"$f":"IF(L121=\"-\",1,0)*AC$1","v":1},{"$f":"AND(AC121=0,AC$1=1)","v":false}]
[118,null,"-","-",{"$f":"IF(D122=\"-\",0,D122)","v":0},"-",{"$f":"IF(F122=\"-\",0,F122)","v":0},"-",{"$f":"IF(H122=\"-\",0,H122)","v":0},"-",{"$f":"IF(J122=\"-\",0,J122)","v":0},"-",{"$f":"IF(L122=\"-\",0,L122)","v":0},null,{"$f":"E122+G122+I122+K122+M122","v":0},{"$f":"MAX(D122,F122,H122,J122,L122)","v":0},{"$f":"IF(S122=1,O122,IF(S122=0,(O122-P122),\"-\"))","v":"-"},{"$f":"COUNTIF(U122:AD122,\"=TRUE\")","v":0},{"$f":"AE$1-R122","v":5},{"$f":"IF(S122<2,\"Yes\",\"No\")","v":"No"},{"$f":"IF(D122=\"-\",1,0)*U$1","v":1},{"$f":"AND(U122=0,U$1=1)","v":false},{"$f":"IF(F122=\"-\",1,0)*W$1","v":1},{"$f":"AND(W122=0,W$1=1)","v":false},{"$f":"IF(H122=\"-\",1,0)*Y$1","v":1},{"$f":"AND(Y122=0,Y$1=1)","v":false},{"$f":"IF(J122=\"-\",1,0)*AA$1","v":1},{"$f":"AND(AA122=0,AA$1=1)","v":false},{"$f":"IF(L122=\"-\",1,0)*AC$1","v":1},{"$f":"AND(AC122=0,AC$1=1)","v":false}]
[119,null,"-","-",{"$f":"IF(D123=\"-\",0,D123)","v":0},"-",{"$f":"IF(F123=\"-\",0,F123)","v":0},"-",{"$f":"IF(H123=\"-\",0,H123)","v":0},"-",{"$f":"IF(J123=\"-\",0,J123)","v":0},"-",{"$f":"IF(L123=\"-\",0,L123)","v":0},null,{"$f":"E123+G123+I123+K123+M123","v":0},{"$f":"MAX(D123,F123,H123,J123,L123)","v":0},{"$f":"IF(S123=1,O123,IF(S123=0,(O123-P123),\"-\"))","v":"-"},{"$f":"COUNTIF(U123:AD123,\"=TRUE\")","v":0},{"$f":"AE$1-R123","v":5},{"$f":"IF(S123<2,\"Yes\",\"No\")","v":"No"},{"$f":"IF(D123=\"-\",1,0)*U$1","v":1},{"$f":"AND(U123=0,U$1=1)","v":false},{"$f":"IF(F123=\"-\",1,0)*W$1","v":1},{"$f":"AND(W123=0,W$1=1)","v":false},{"$f":"IF(H123=\"-\",1,0)*Y$1","v":1},{"$f":"AND(Y123=0,Y$1=1)","v":false},{"$f":"IF(J123=\"-\",1,0)*AA$1","v":1},{"$f":"AND(AA123=0,AA$1=1)","v":false},{"$f":"IF(L123=\"-\",1,0)*AC$1","v":1},{"$f":"AND(AC123=0,AC$1=1)","v":false}]
[120,null,"-","-",{"$f":"IF(D124=\"-\",0,D124)","v":0},"-",{"$f":"IF(F124=\"-\",0,F124)","v":0},"-",{"$f":"IF(H124=\"-\",0,H124)","v":0},"-",{"$f":"IF(J124=\"-\",0,J124)","v":0},"-",{"$f":"IF(L124=\"-\",0,L124)","v":0},null,{"$f":"E124+G124+I124+K124+M124","v":0},{"$f":"MAX(D124,F124,H124,J124,L124)","v":0},{"$f":"IF(S124=1,O124,IF(S124=0,(O124-P124),\"-\"))","v":"-"},{"$f":"COUNTIF(U124:AD124,\"=TRUE\")","v":0},{"$f":"AE$1-R124","v":5},{"$f":"IF(S124<2,\"Yes\",\"No\")","v":"No"},{"$f":"IF(D124=\"-\",1,0)*U$1","v":1},{"$f":"AND(U124=0,U$1=1)","v":false},{"$f":"IF(F124=\"-\",1,0)*W$1","v":1},{"$f":"AND(W124=0,W$1=1)","v":false},{"$f":"IF(H124=\"-\",1,0)*Y$1","v":1},{"$f":"AND(Y124=0,Y$1=1)","v":false},{"$f":"IF(J124=\"-\",1,0)*AA$1","v":1},{"$f":"AND(AA124=0,AA$1=1)","v":false},{"$f":"IF(L124=\"-\",1,0)*AC$1","v":1},{"$f":"AND(AC124=0,AC$1=1)","v":false}]
[121,null,"-","-",{"$f":"IF(D125=\"-\",0,D125)","v":0},"-",{"$f":"IF(F125=\"-\",0,F125)","v":0},"-",{"$f":"IF(H125=\"-\",0,H125)","v":0},"-",{"$f":"IF(J125=\"-\",0,J125)","v":0},"-",{"$f":"IF(L125=\"-\",0,L125)","v":0},null,{"$f":"E125+G125+I125+K125+M125","v":0},{"$f":"MAX(D125,F125,H125,J125,L125)","v":0},{"$f":"IF(S125=1,O125,IF(S125=0,(O125-P125),\"-\"))","v":"-"},{"$f":"COUNTIF(U125:AD125,\"=TRUE\")","v":0},{"$f":"AE$1-R125","v":5},{"$f":"IF(S125<2,\"Yes\",\"No\")","v":"No"},{"$f":"IF(D125=\"-\",1,0)*U$1","v":1},{"$f":"AND(U125=0,U$1=1)","v":false},{"$f":"IF(F125=\"-\",1,0)*W$1","v":1},{"$f":"AND(W125=0,W$1=1)","v":false},{"$f":"IF(H125=\"-\",1,0)*Y$1","v":1},{"$f":"AND(Y125=0,Y$1=1)","v":false},{"$f":"IF(J125=\"-\",1,0)*AA$1","v":1},{"$f":"AND(AA125=0,AA$1=1)","v":false},{"$f":"IF(L125=\"-\",1,0)*AC$1","v":1},{"$f":"AND(AC125=0,AC$1=1)","v":false}]
[122,null,"-","-",{"$f":"IF(D126=\"-\",0,D126)","v":0},"-",{"$f":"IF(F126=\"-\",0,F126)","v":0},"-",{"$f":"IF(H126=\"-\",0,H126)","v":0},"-",{"$f":"IF(J126=\"-\",0,J126)","v":0},"-",{"$f":"IF(L126=\"-\",0,L126)","v":0},null,{"$f":"E126+G126+I126+K126+M126","v":0},{"$f":"MAX(D126,F126,H126,J126,L126)","v":0},{"$f":"IF(S126=1,O126,IF(S126=0,(O126-P126),\"-\"))","v":"-"},{"$f":"COUNTIF(U126:AD126,\"=TRUE\")","v":0},{"$f":"AE$1-R126","v":5},{"$f":"IF(S126<2,\"Yes\",\"No\")","v":"No"},{"$f":"IF(D126=\"-\",1,0)*U$1","v":1},{"$f":"AND(U126=0,U$1=1)","v":false},{"$f":"IF(F126=\"-\",1,0)*W$1","v":1},{"$f":"AND(W126=0,W$1=1)","v":false},{"$f":"IF(H126=\"-\",1,0)*Y$1","v":1},{"$f":"AND(Y126=0,Y$1=1)","v":false},{"$f":"IF(J126=\"-\",1,0)*AA$1","v":1},{"$f":"AND(AA126=0,AA$1=1)","v":false},{"$f":"IF(L126=\"-\",1,0)*AC$1","v":1},{"$f":"AND(AC126=0,AC$1=1)","v":false}]
[123,null,"-","-",{"$f":"IF(D127=\"-\",0,D127)","v":0},"-",{"$f":"IF(F127=\"-\",0,F127)","v":0},"-",{"$f":"IF(H127=\"-\",0,H127)","v":0},"-",{"$f":"IF(J127=\"-\",0,J127)","v":0},"-",{"$f":"IF(L127=\"-\",0,L127)","v":0},null,{"$f":"E127+G127+I127+K127+M127","v":0},{"$f":"MAX(D127,F127,H127,J127,L127)","v":0},{"$f":"IF(S127=1,O127,IF(S127=0,(O127-P127),\"-\"))","v":"-"},{"$f":"COUNTIF(U127:AD127,\"=TRUE\")","v":0},{"$f":"AE$1-R127","v":5},{"$f":"IF(S127<2,\"Yes\",\"No\")","v":"No"},{"$f":"IF(D127=\"-\",1,0)*U$1","v":1},{"$f":"AND(U127=0,U$1=1)","v":false},{"$f":"IF(F127=\"-\",1,0)*W$1","v":1},{"$f":"AND(W127=0,W$1=1)","v":false},{"$f":"IF(H127=\"-\",1,0)*Y$1","v":1},{"$f":"AND(Y127=0,Y$1=1)","v":false},{"$f":"IF(J127=\"-\",1,0)*AA$1","v":1},{"$f":"AND(AA127=0,AA$1=1)","v":false},{"$f":"IF(L127=\"-\",1,0)*AC$1","v":1},{"$f":"AND(AC127=0,AC$1=1)","v":false}]
[124,null,"-","-",{"$f":"IF(D128=\"-\",0,D128)","v":0},"-",{"$f":"IF(F128=\"-\",0,F128)","v":0},"-",{"$f":"IF(H128=\"-\",0,H128)","v":0},"-",{"$f":"IF(J128=\"-\",0,J128)","v":0},"-",{"$f":"IF(L128=\"-\",0,L128)","v":0},null,{"$f":"E128+G128+I128+K128+M128","v":0},{"$f":"MAX(D128,F128,H128,J128,L128)","v":0},{"$f":"IF(S128=1,O128,IF(S128=0,(O128-P128),\"-\"))","v":"-"},{"$f":"COUNTIF(U128:AD128,\"=TRUE\")","v":0},{"$f":"AE$1-R128","v":5},{"$f":"IF(S128<2,\"Yes\",\"No\")","v":"No"},{"$f":"IF(D128=\"-\",1,0)*U$1","v":1},{"$f":"AND(U128=0,U$1=1)","v":false},{"$f":"IF(F128=\"-\",1,0)*W$1","v":1},{"$f":"AND(W128=0,W$1=1)","v":false},{"$f":"IF(H128=\"-\",1,0)*Y$1","v":1},{"$f":"AND(Y128=0,Y$1=1)","v":false},{"$f":"IF(J128=\"-\",1,0)*AA$1","v":1},{"$f":"AND(AA128=0,AA$1=1)","v":false},{"$f":"IF(L128=\"-\",1,0)*AC$1","v":1},{"$f":"AND(AC128=0,AC$1=1)","v":false}]
[125,null,"-","-",{"$f":"IF(D129=\"-\",0,D129)","v":0},"-",{"$f":"IF(F129=\"-\",0,F129)","v":0},"-",{"$f":"IF(H129=\"-\",0,H129)","v":0},"-",{"$f":"IF(J129=\"-\",0,J129)","v":0},"-",{"$f":"IF(L129=\"-\",0,L129)","v":0},null,{"$f":"E129+G129+I129+K129+M129","v":0},{"$f":"MAX(D129,F129,H129,J129,L129)","v":0},{"$f":"IF(S129=1,O129,IF(S129=0,(O129-P129),\"-\"))","v":"-"},{"$f":"COUNTIF(U129:AD129,\"=TRUE\")","v":0},{"$f":"AE$1-R129","v":5},{"$f":"IF(S129<2,\"Yes\",\"No\")","v":"No"},{"$f":"IF(D129=\"-\",1,0)*U$1","v":1},{"$f":"AND(U129=0,U$1=1)","v":false},{"$f":"IF(F129=\"-\",1,0)*W$1","v":1},{"$f":"AND(W129=0,W$1=1)","v":false},{"$f":"IF(H129=\"-\",1,0)*Y$1","v":1},{"$f":"AND(Y129=0,Y$1=1)","v":false},{"$f":"IF(J129=\"-\",1,0)*AA$1","v":1},{"$f":"AND(AA129=0,AA$1=1)","v":false},{"$f":"IF(L129=\"-\",1,0)*AC$1","v":1},{"$f":"AND(AC129=0,AC$1=1)","v":false}]
[126,null,"-","-",{"$f":"IF(D130=\"-\",0,D130)","v":0},"-",{"$f":"IF(F130=\"-\",0,F130)","v":0},"-",{"$f":"IF(H130=\"-\",0,H130)","v":0},"-",{"$f":"IF(J130=\"-\",0,J130)","v":0},"-",{"$f":"IF(L130=\"-\",0,L130)","v":0},null,{"$f":"E130+G130+I130+K130+M130","v":0},{"$f":"MAX(D130,F130,H130,J130,L130)","v":0},{"$f":"IF(S130=1,O130,IF(S130=0,(O130-P130),\"-\"))","v":"-"},{"$f":"COUNTIF(U130:AD130,\"=TRUE\")","v":0},{"$f":"AE$1-R130","v":5},{"$f":"IF(S130<2,\"Yes\",\"No\")","v":"No"},{"$f":"IF(D130=\"-\",1,0)*U$1","v":1},{"$f":"AND(U130=0,U$1=1)","v":false},{"$f":"IF(F130=\"-\",1,0)*W$1","v":1},{"$f":"AND(W130=0,W$1=1)","v":false},{"$f":"IF(H130=\"-\",1,0)*Y$1","v":1},{"$f":"AND(Y130=0,Y$1=1)","v":false},{"$f":"IF(J130=\"-\",1,0)*AA$1","v":1},{"$f":"AND(AA130=0,AA$1=1)","v":false},{"$f":"IF(L130=\"-\",1,0)*AC$1","v":1},{"$f":"AND(AC130=0,AC$1=1)","v":false}]
[127,null,"-","-",{"$f":"IF(D131=\"-\",0,D131)","v":0},"-",{"$f":"IF(F131=\"-\",0,F131)","v":0},"-",{"$f":"IF(H131=\"-\",0,H131)","v":0},"-",{"$f":"IF(J131=\"-\",0,J131)","v":0},"-",{"$f":"IF(L131=\"-\",0,L131)","v":0},null,{"$f":"E131+G131+I131+K131+M131","v":0},{"$f":"MAX(D131,F131,H131,J131,L131)","v":0},{"$f":"IF(S131=1,O131,IF(S131=0,(O131-P131),\"-\"))","v":"-"},{"$f":"COUNTIF(U131:AD131,\"=TRUE\")","v":0},{"$f":"AE$1-R131","v":5},{"$f":"IF(S131<2,\"Yes\",\"No\")","v":"No"},{"$f":"IF(D131=\"-\",1,0)*U$1","v":1},{"$f":"AND(U131=0,U$1=1)","v":false},{"$f":"IF(F131=\"-\",1,0)*W$1","v":1},{"$f":"AND(W131=0,W$1=1)","v":false},{"$f":"IF(H131=\"-\",1,0)*Y$1","v":1},{"$f":"AND(Y131=0,Y$1=1)","v":false},{"$f":"IF(J131=\"-\",1,0)*AA$1","v":1},{"$f":"AND(AA131=0,AA$1=1)","v":false},{"$f":"IF(L131=\"-\",1,0)*AC$1","v":1},{"$f":"AND(AC131=0,AC$1=1)","v":false}]
[128,null,"-","-",{"$f":"IF(D132=\"-\",0,D132)","v":0},"-",{"$f":"IF(F132=\"-\",0,F132)","v":0},"-",{"$f":"IF(H132=\"-\",0,H132)","v":0},"-",{"$f":"IF(J132=\"-\",0,J132)","v":0},"-",{"$f":"IF(L132=\"-\",0,L132)","v":0},null,{"$f":"E132+G132+I132+K132+M132","v":0},{"$f":"MAX(D132,F132,H132,J132,L132)","v":0},{"$f":"IF(S132=1,O132,IF(S132=0,(O132-P132),\"-\"))","v":"-"},{"$f":"COUNTIF(U132:AD132,\"=TRUE\")","v":0},{"$f":"AE$1-R132","v":5},{"$f":"IF(S132<2,\"Yes\",\"No\")","v":"No"},{"$f":"IF(D132=\"-\",1,0)*U$1","v":1},{"$f":"AND(U132=0,U$1=1)","v":false},{"$f":"IF(F132=\"-\",1,0)*W$1","v":1},{"$f":"AND(W132=0,W$1=1)","v":false},{"$f":"IF(H132=\"-\",1,0)*Y$1","v":1},{"$f":"AND(Y132=0,Y$1=1)","v":false},{"$f":"IF(J132=\"-\",1,0)*AA$1","v":1},{"$f":"AND(AA132=0,AA$1=1)","v":false},{"$f":"IF(L132=\"-\",1,0)*AC$1","v":1},{"$f":"AND(AC132=0,AC$1=1)","v":false}]
[129,null,"-","-",{"$f":"IF(D133=\"-\",0,D133)","v":0},"-",{"$f":"IF(F133=\"-\",0,F133)","v":0},"-",{"$f":"IF(H133=\"-\",0,H133)","v":0},"-",{"$f":"IF(J133=\"-\",0,J133)","v":0},"-",{"$f":"IF(L133=\"-\",0,L133)","v":0},null,{"$f":"E133+G133+I133+K133+M133","v":0},{"$f":"MAX(D133,F133,H133,J133,L133)","v":0},{"$f":"IF(S133=1,O133,IF(S133=0,(O133-P133),\"-\"))","v":"-"},{"$f":"COUNTIF(U133:AD133,\"=TRUE\")","v":0},{"$f":"AE$1-R133","v":5},{"$f":"IF(S133<2,\"Yes\",\"No\")","v":"No"},{"$f":"IF(D133=\"-\",1,0)*U$1","v":1},{"$f":"AND(U133=0,U$1=1)","v":false},{"$f":"IF(F133=\"-\",1,0)*W$1","v":1},{"$f":"AND(W133=0,W$1=1)","v":false},{"$f":"IF(H133=\"-\",1,0)*Y$1","v":1},{"$f":"AND(Y133=0,Y$1=1)","v":false},{"$f":"IF(J133=\"-\",1,0)*AA$1","v":1},{"$f":"AND(AA133=0,AA$1=1)","v":false},{"$f":"IF(L133=\"-\",1,0)*AC$1","v":1},{"$f":"AND(AC133=0,AC$1=1)","v":false}]
[130,null,"-","-",{"$f":"IF(D134=\"-\",0,D134)","v":0},"-",{"$f":"IF(F134=\"-\",0,F134)","v":0},"-",{"$f":"IF(H134=\"-\",0,H134)","v":0},"-",{"$f":"IF(J134=\"-\",0,J134)","v":0},"-",{"$f":"IF(L134=\"-\",0,L134)","v":0},null,{"$f":"E134+G134+I134+K134+M134","v":0},{"$f":"MAX(D134,F134,H134,J134,L134)","v":0},{"$f":"IF(S134=1,O134,IF(S134=0,(O134-P134),\"-\"))","v":"-"},{"$f":"COUNTIF(U134:AD134,\"=TRUE\")","v":0},{"$f":"AE$1-R134","v":5},{"$f":"IF(S134<2,\"Yes\",\"No\")","v":"No"},{"$f":"IF(D134=\"-\",1,0)*U$1","v":1},{"$f":"AND(U134=0,U$1=1)","v":false},{"$f":"IF(F134=\"-\",1,0)*W$1","v":1},{"$f":"AND(W134=0,W$1=1)","v":false},{"$f":"IF(H134=\"-\",1,0)*Y$1","v":1},{"$f":"AND(Y134=0,Y$1=1)","v":false},{"$f":"IF(J134=\"-\",1,0)*AA$1","v":1},{"$f":"AND(AA134=0,AA$1=1)","v":false},{"$f":"IF(L134=\"-\",1,0)*AC$1","v":1},{"$f":"AND(AC134=0,AC$1=1)","v":false}]
[131,null,"-","-",{"$f":"IF(D135=\"-\",0,D135)","v":0},"-",{"$f":"IF(F135=\"-\",0,F135)","v":0},"-",{"$f":"IF(H135=\"-\",0,H135)","v":0},"-",{"$f":"IF(J135=\"-\",0,J135)","v":0},"-",{"$f":"IF(L135=\"-\",0,L135)","v":0},null,{"$f":"E135+G135+I135+K135+M135","v":0},{"$f":"MAX(D135,F135,H135,J135,L135)","v":0},{"$f":"IF(S135=1,O135,IF(S135=0,(O135-P135),\"-\"))","v":"-"},{"$f":"COUNTIF(U135:AD135,\"=TRUE\")","v":0},{"$f":"AE$1-R135","v":5},{"$f":"IF(S135<2,\"Yes\",\"No\")","v":"No"},{"$f":"IF(D135=\"-\",1,0)*U$1","v":1},{"$f":"AND(U135=0,U$1=1)","v":false},{"$f":"IF(F135=\"-\",1,0)*W$1","v":1},{"$f":"AND(W135=0,W$1=1)","v":false},{"$f":"IF(H135=\"-\",1,0)*Y$1","v":1},{"$f":"AND(Y135=0,Y$1=1)","v":false},{"$f":"IF(J135=\"-\",1,0)*AA$1","v":1},{"$f":"AND(AA135=0,AA$1=1)","v":false},{"$f":"IF(L135=\"-\",1,0)*AC$1","v":1},{"$f":"AND(AC135=0,AC$1=1)","v":false}]
[132,null,"-","-",{"$f":"IF(D136=\"-\",0,D136)","v":0},"-",{"$f":"IF(F136=\"-\",0,F136)","v":0},"-",{"$f":"IF(H136=\"-\",0,H136)","v":0},"-",{"$f":"IF(J136=\"-\",0,J136)","v":0},"-",{"$f":"IF(L136=\"-\",0,L136)","v":0},null,{"$f":"E136+G136+I136+K136+M136","v":0},{"$f":"MAX(D136,F136,H136,J136,L136)","v":0},{"$f":"IF(S136=1,O136,IF(S136=0,(O136-P136),\"-\"))","v":"-"},{"$f":"COUNTIF(U136:AD136,\"=TRUE\")","v":0},{"$f":"AE$1-R136","v":5},{"$f":"IF(S136<2,\"Yes\",\"No\")","v":"No"},{"$f":"IF(D136=\"-\",1,0)*U$1","v":1},{"$f":"AND(U136=0,U$1=1)","v":false},{"$f":"IF(F136=\"-\",1,0)*W$1","v":1},{"$f":"AND(W136=0,W$1=1)","v":false},{"$f":"IF(H136=\"-\",1,0)*Y$1","v":1},{"$f":"AND(Y136=0,Y$1=1)","v":false},{"$f":"IF(J136=\"-\",1,0)*AA$1","v":1},{"$f":"AND(AA136=0,AA$1=1)","v":false},{"$f":"IF(L136=\"-\",1,0)*AC$1","v":1},{"$f":"AND(AC136=0,AC$1=1)","v":false}]
[133,null,"-","-",{"$f":"IF(D137=\"-\",0,D137)","v":0},"-",{"$f":"IF(F137=\"-\",0,F137)","v":0},"-",{"$f":"IF(H137=\"-\",0,H137)","v":0},"-",{"$f":"IF(J137=\"-\",0,J137)","v":0},"-",{"$f":"IF(L137=\"-\",0,L137)","v":0},null,{"$f":"E137+G137+I137+K137+M137","v":0},{"$f":"MAX(D137,F137,H137,J137,L137)","v":0},{"$f":"IF(S137=1,O137,IF(S137=0,(O137-P137),\"-\"))","v":"-"},{"$f":"COUNTIF(U137:AD137,\"=TRUE\")","v":0},{"$f":"AE$1-R137","v":5},{"$f":"IF(S137<2,\"Yes\",\"No\")","v":"No"},{"$f":"IF(D137=\"-\",1,0)*U$1","v":1},{"$f":"AND(U137=0,U$1=1)","v":false},{"$f":"IF(F137=\"-\",1,0)*W$1","v":1},{"$f":"AND(W137=0,W$1=1)","v":false},{"$f":"IF(H137=\"-\",1,0)*Y$1","v":1},{"$f":"AND(Y137=0,Y$1=1)","v":false},{"$f":"IF(J137=\"-\",1,0)*AA$1","v":1},{"$f":"AND(AA137=0,AA$1=1)","v":false},{"$f":"IF(L137=\"-\",1,0)*AC$1","v":1},{"$f":"AND(AC137=0,AC$1=1)","v":false}]
[134,null,"-","-",{"$f":"IF(D138=\"-\",0,D138)","v":0},"-",{"$f":"IF(F138=\"-\",0,F138)","v":0},"-",{"$f":"IF(H138=\"-\",0,H138)","v":0},"-",{"$f":"IF(J138=\"-\",0,J138)","v":0},"-",{"$f":"IF(L138=\"-\",0,L138)","v":0},null,{"$f":"E138+G138+I138+K138+M138","v":0},{"$f":"MAX(D138,F138,H138,J138,L138)","v":0},{"$f":"IF(S138=1,O138,IF(S138=0,(O138-P138),\"-\"))","v":"-"},{"$f":"COUNTIF(U138:AD138,\"=TRUE\")","v":0},{"$f":"AE$1-R138","v":5},{"$f":"IF(S138<2,\"Yes\",\"No\")","v":"No"},{"$f":"IF(D138=\"-\",1,0)*U$1","v":1},{"$f":"AND(U138=0,U$1=1)","v":false},{"$f":"IF(F138=\"-\",1,0)*W$1","v":1},{"$f":"AND(W138=0,W$1=1)","v":false},{"$f":"IF(H138=\"-\",1,0)*Y$1","v":1},{"$f":"AND(Y138=0,Y$1=1)","v":false},{"$f":"IF(J138=\"-\",1,0)*AA$1","v":1},{"$f":"AND(AA138=0,AA$1=1)","v":false},{"$f":"IF(L138=\"-\",1,0)*AC$1","v":1},{"$f":"AND(AC138=0,AC$1=1)","v":false}]
[135,null,"-","-",{"$f":"IF(D139=\"-\",0,D139)","v":0},"-",{"$f":"IF(F139=\"-\",0,F139)","v":0},"-",{"$f":"IF(H139=\"-\",0,H139)","v":0},"-",{"$f":"IF(J139=\"-\",0,J139)","v":0},"-",{"$f":"IF(L139=\"-\",0,L139)","v":0},null,{"$f":"E139+G139+I139+K139+M139","v":0},{"$f":"MAX(D139,F139,H139,J139,L139)","v":0},{"$f":"IF(S139=1,O139,IF(S139=0,(O139-P139),\"-\"))","v":"-"},{"$f":"COUNTIF(U139:AD139,\"=TRUE\")","v":0},{"$f":"AE$1-R139","v":5},{"$f":"IF(S139<2,\"Yes\",\"No\")","v":"No"},{"$f":"IF(D139=\"-\",1,0)*U$1","v":1},{"$f":"AND(U139=0,U$1=1)","v":false},{"$f":"IF(F139=\"-\",1,0)*W$1","v":1},{"$f":"AND(W139=0,W$1=1)","v":false},{"$f":"IF(H139=\"-\",1,0)*Y$1","v":1},{"$f":"AND(Y139=0,Y$1=1)","v":false},{"$f":"IF(J139=\"-\",1,0)*AA$1","v":1},{"$f":"AND(AA139=0,AA$1=1)","v":false},{"$f":"IF(L139=\"-\",1,0)*AC$1","v":1},{"$f":"AND(AC139=0,AC$1=1)","v":false}]
[136,null,"-","-",{"$f":"IF(D140=\"-\",0,D140)","v":0},"-",{"$f":"IF(F140=\"-\",0,F140)","v":0},"-",{"$f":"IF(H140=\"-\",0,H140)","v":0},"-",{"$f":"IF(J140=\"-\",0,J140)","v":0},"-",{"$f":"IF(L140=\"-\",0,L140)","v":0},null,{"$f":"E140+G140+I140+K140+M140","v":0},{"$f":"MAX(D140,F140,H140,J140,L140)","v":0},{"$f":"IF(S140=1,O140,IF(S140=0,(O140-P140),\"-\"))","v":"-"},{"$f":"COUNTIF(U140:AD140,\"=TRUE\")","v":0},{"$f":"AE$1-R140","v":5},{"$f":"IF(S140<2,\"Yes\",\"No\")","v":"No"},{"$f":"IF(D140=\"-\",1,0)*U$1","v":1},{"$f":"AND(U140=0,U$1=1)","v":false},{"$f":"IF(F140=\"-\",1,0)*W$1","v":1},{"$f":"AND(W140=0,W$1=1)","v":false},{"$f":"IF(H140=\"-\",1,0)*Y$1","v":1},{"$f":"AND(Y140=0,Y$1=1)","v":false},{"$f":"IF(J140=\"-\",1,0)*AA$1","v":1},{"$f":"AND(AA140=0,AA$1=1)","v":false},{"$f":"IF(L140=\"-\",1,0)*AC$1","v":1},{"$f":"AND(AC140=0,AC$1=1)","v":false}]
[137,null,"-","-",{"$f":"IF(D141=\"-\",0,D141)","v":0},"-",{"$f":"IF(F141=\"-\",0,F141)","v":0},"-",{"$f":"IF(H141=\"-\",0,H141)","v":0},"-",{"$f":"IF(J141=\"-\",0,J141)","v":0},"-",{"$f":"IF(L141=\"-\",0,L141)","v":0},null,{"$f":"E141+G141+I141+K141+M141","v":0},{"$f":"MAX(D141,F141,H141,J141,L141)","v":0},{"$f":"IF(S141=1,O141,IF(S141=0,(O141-P141),\"-\"))","v":"-"},{"$f":"COUNTIF(U141:AD141,\"=TRUE\")","v":0},{"$f":"AE$1-R141","v":5},{"$f":"IF(S141<2,\"Yes\",\"No\")","v":"No"},{"$f":"IF(D141=\"-\",1,0)*U$1","v":1},{"$f":"AND(U141=0,U$1=1)","v":false},{"$f":"IF(F141=\"-\",1,0)*W$1","v":1},{"$f":"AND(W141=0,W$1=1)","v":false},{"$f":"IF(H141=\"-\",1,0)*Y$1","v":1},{"$f":"AND(Y141=0,Y$1=1)","v":false},{"$f":"IF(J141=\"-\",1,0)*AA$1","v":1},{"$f":"AND(AA141=0,AA$1=1)","v":false},{"$f":"IF(L141=\"-\",1,0)*AC$1","v":1},{"$f":"AND(AC141=0,AC$1=1)","v":false}]
[138,null,"-","-",{"$f":"IF(D142=\"-\",0,D142)","v":0},"-",{"$f":"IF(F142=\"-\",0,F142)","v":0},"-",{"$f":"IF(H142=\"-\",0,H142)","v":0},"-",{"$f":"IF(J142=\"-\",0,J142)","v":0},"-",{"$f":"IF(L142=\"-\",0,L142)","v":0},null,{"$f":"E142+G142+I142+K142+M142","v":0},{"$f":"MAX(D142,F142,H142,J142,L142)","v":0},{"$f":"IF(S142=1,O142,IF(S142=0,(O142-P142),\"-\"))","v":"-"},{"$f":"COUNTIF(U142:AD142,\"=TRUE\")","v":0},{"$f":"AE$1-R142","v":5},{"$f":"IF(S142<2,\"Yes\",\"No\")","v":"No"},{"$f":"IF(D142=\"-\",1,0)*U$1","v":1},{"$f":"AND(U142=0,U$1=1)","v":false},{"$f":"IF(F142=\"-\",1,0)*W$1","v":1},{"$f":"AND(W142=0,W$1=1)","v":false},{"$f":"IF(H142=\"-\",1,0)*Y$1","v":1},{"$f":"AND(Y142=0,Y$1=1)","v":false},{"$f":"IF(J142=\"-\",1,0)*AA$1","v":1},{"$f":"AND(AA142=0,AA$1=1)","v":false},{"$f":"IF(L142=\"-\",1,0)*AC$1","v":1},{"$f":"AND(AC142=0,AC$1=1)","v":false}]
[139,null,"-","-",{"$f":"IF(D143=\"-\",0,D143)","v":0},"-",{"$f":"IF(F143=\"-\",0,F143)","v":0},"-",{"$f":"IF(H143=\"-\",0,H143)","v":0},"-",{"$f":"IF(J143=\"-\",0,J143)","v":0},"-",{"$f":"IF(L143=\"-\",0,L143)","v":0},null,{"$f":"E143+G143+I143+K143+M143","v":0},{"$f":"MAX(D143,F143,H143,J143,L143)","v":0},{"$f":"IF(S143=1,O143,IF(S143=0,(O143-P143),\"-\"))","v":"-"},{"$f":"COUNTIF(U143:AD143,\"=TRUE\")","v":0},{"$f":"AE$1-R143","v":5},{"$f":"IF(S143<2,\"Yes\",\"No\")","v":"No"},{"$f":"IF(D143=\"-\",1,0)*U$1","v":1},{"$f":"AND(U143=0,U$1=1)","v":false},{"$f":"IF(F143=\"-\",1,0)*W$1","v":1},{"$f":"AND(W143=0,W$1=1)","v":false},{"$f":"IF(H143=\"-\",1,0)*Y$1","v":1},{"$f":"AND(Y143=0,Y$1=1)","v":false},{"$f":"IF(J143=\"-\",1,0)*AA$1","v":1},{"$f":"AND(AA143=0,AA$1=1)","v":false},{"$f":"IF(L143=\"-\",1,0)*AC$1","v":1},{"$f":"AND(AC143=0,AC$1=1)","v":false}]
[140,null,"-","-",{"$f":"IF(D144=\"-\",0,D144)","v":0},"-",{"$f":"IF(F144=\"-\",0,F144)","v":0},"-",{"$f":"IF(H144=\"-\",0,H144)","v":0},"-",{"$f":"IF(J144=\"-\",0,J144)","v":0},"-",{"$f":"IF(L144=\"-\",0,L144)","v":0},null,{"$f":"E144+G144+I144+K144+M144","v":0},{"$f":"MAX(D144,F144,H144,J144,L144)","v":0},{"$f":"IF(S144=1,O144,IF(S144=0,(O144-P144),\"-\"))","v":"-"},{"$f":"COUNTIF(U144:AD144,\"=TRUE\")","v":0},{"$f":"AE$1-R144","v":5},{"$f":"IF(S144<2,\"Yes\",\"No\")","v":"No"},{"$f":"IF(D144=\"-\",1,0)*U$1","v":1},{"$f":"AND(U144=0,U$1=1)","v":false},{"$f":"IF(F144=\"-\",1,0)*W$1","v":1},{"$f":"AND(W144=0,W$1=1)","v":false},{"$f":"IF(H144=\"-\",1,0)*Y$1","v":1},{"$f":"AND(Y144=0,Y$1=1)","v":false},{"$f":"IF(J144=\"-\",1,0)*AA$1","v":1},{"$f":"AND(AA144=0,AA$1=1)","v":false},{"$f":"IF(L144=\"-\",1,0)*AC$1","v":1},{"$f":"AND(AC144=0,AC$1=1)","v":false}]
[141,null,"-","-",{"$f":"IF(D145=\"-\",0,D145)","v":0},"-",{"$f":"IF(F145=\"-\",0,F145)","v":0},"-",{"$f":"IF(H145=\"-\",0,H145)","v":0},"-",{"$f":"IF(J145=\"-\",0,J145)","v":0},"-",{"$f":"IF(L145=\"-\",0,L145)","v":0},null,{"$f":"E145+G145+I145+K145+M145","v":0},{"$f":"MAX(D145,F145,H145,J145,L145)","v":0},{"$f":"IF(S145=1,O145,IF(S145=0,(O145-P145),\"-\"))","v":"-"},{"$f":"COUNTIF(U145:AD145,\"=TRUE\")","v":0},{"$f":"AE$1-R145","v":5},{"$f":"IF(S145<2,\"Yes\",\"No\")","v":"No"},{"$f":"IF(D145=\"-\",1,0)*U$1","v":1},{"$f":"AND(U145=0,U$1=1)","v":false},{"$f":"IF(F145=\"-\",1,0)*W$1","v":1},{"$f":"AND(W145=0,W$1=1)","v":false},{"$f":"IF(H145=\"-\",1,0)*Y$1","v":1},{"$f":"AND(Y145=0,Y$1=1)","v":false},{"$f":"IF(J145=\"-\",1,0)*AA$1","v":1},{"$f":"AND(AA145=0,AA$1=1)","v":false},{"$f":"IF(L145=\"-\",1,0)*AC$1","v":1},{"$f":"AND(AC145=0,AC$1=1)","v":false}]
[142,null,"-","-",{"$f":"IF(D146=\"-\",0,D146)","v":0},"-",{"$f":"IF(F146=\"-\",0,F146)","v":0},"-",{"$f":"IF(H146=\"-\",0,H146)","v":0},"-",{"$f":"IF(J146=\"-\",0,J146)","v":0},"-",{"$f":"IF(L146=\"-\",0,L146)","v":0},null,{"$f":"E146+G146+I146+K146+M146","v":0},{"$f":"MAX(D146,F146,H146,J146,L146)","v":0},{"$f":"IF(S146=1,O146,IF(S146=0,(O146-P146),\"-\"))","v":"-"},{"$f":"COUNTIF(U146:AD146,\"=TRUE\")","v":0},{"$f":"AE$1-R146","v":5},{"$f":"IF(S146<2,\"Yes\",\"No\")","v":"No"},{"$f":"IF(D146=\"-\",1,0)*U$1","v":1},{"$f":"AND(U146=0,U$1=1)","v":false},{"$f":"IF(F146=\"-\",1,0)*W$1","v":1},{"$f":"AND(W146=0,W$1=1)","v":false},{"$f":"IF(H146=\"-\",1,0)*Y$1","v":1},{"$f":"AND(Y146=0,Y$1=1)","v":false},{"$f":"IF(J146=\"-\",1,0)*AA$1","v":1},{"$f":"AND(AA146=0,AA$1=1)","v":false},{"$f":"IF(L146=\"-\",1,0)*AC$1","v":1},{"$f":"AND(AC146=0,AC$1=1)","v":false}]
[143,null,"-","-",{"$f":"IF(D147=\"-\",0,D147)","v":0},"-",{"$f":"IF(F147=\"-\",0,F147)","v":0},"-",{"$f":"IF(H147=\"-\",0,H147)","v":0},"-",{"$f":"IF(J147=\"-\",0,J147)","v":0},"-",{"$f":"IF(L147=\"-\",0,L147)","v":0},null,{"$f":"E147+G147+I147+K147+M147","v":0},{"$f":"MAX(D147,F147,H147,J147,L147)","v":0},{"$f":"IF(S147=1,O147,IF(S147=0,(O147-P147),\"-\"))","v":"-"},{"$f":"COUNTIF(U147:AD147,\"=TRUE\")","v":0},{"$f":"AE$1-R147","v":5},{"$f":"IF(S147<2,\"Yes\",\"No\")","v":"No"},{"$f":"IF(D147=\"-\",1,0)*U$1","v":1},{"$f":"AND(U147=0,U$1=1)","v":false},{"$f":"IF(F147=\"-\",1,0)*W$1","v":1},{"$f":"AND(W147=0,W$1=1)","v":false},{"$f":"IF(H147=\"-\",1,0)*Y$1","v":1},{"$f":"AND(Y147=0,Y$1=1)","v":false},{"$f":"IF(J147=\"-\",1,0)*AA$1","v":1},{"$f":"AND(AA147=0,AA$1=1)","v":false},{"$f":"IF(L147=\"-\",1,0)*AC$1","v":1},{"$f":"AND(AC147=0,AC$1=1)","v":false}]
[144,null,"-","-",{"$f":"IF(D148=\"-\",0,D148)","v":0},"-",{"$f":"IF(F148=\"-\",0,F148)","v":0},"-",{"$f":"IF(H148=\"-\",0,H148)","v":0},"-",{"$f":"IF(J148=\"-\",0,J148)","v":0},"-",{"$f":"IF(L148=\"-\",0,L148)","v":0},null,{"$f":"E148+G148+I148+K148+M148","v":0},{"$f":"MAX(D148,F148,H148,J148,L148)","v":0},{"$f":"IF(S148=1,O148,IF(S148=0,(O148-P148),\"-\"))","v":"-"},{"$f":"COUNTIF(U148:AD148,\"=TRUE\")","v":0},{"$f":"AE$1-R148","v":5},{"$f":"IF(S148<2,\"Yes\",\"No\")","v":"No"},{"$f":"IF(D148=\"-\",1,0)*U$1","v":1},{"$f":"AND(U148=0,U$1=1)","v":false},{"$f":"IF(F148=\"-\",1,0)*W$1","v":1},{"$f":"AND(W148=0,W$1=1)","v":false},{"$f":"IF(H148=\"-\",1,0)*Y$1","v":1},{"$f":"AND(Y148=0,Y$1=1)","v":false},{"$f":"IF(J148=\"-\",1,0)*AA$1","v":1},{"$f":"AND(AA148=0,AA$1=1)","v":false},{"$f":"IF(L148=\"-\",1,0)*AC$1","v":1},{"$f":"AND(AC148=0,AC$1=1)","v":false}]
[145,null,"-","-",{"$f":"IF(D149=\"-\",0,D149)","v":0},"-",{"$f":"IF(F149=\"-\",0,F149)","v":0},"-",{"$f":"IF(H149=\"-\",0,H149)","v":0},"-",{"$f":"IF(J149=\"-\",0,J149)","v":0},"-",{"$f":"IF(L149=\"-\",0,L149)","v":0},null,{"$f":"E149+G149+I149+K149+M149","v":0},{"$f":"MAX(D149,F149,H149,J149,L149)","v":0},{"$f":"IF(S149=1,O149,IF(S149=0,(O149-P149),\"-\"))","v":"-"},{"$f":"COUNTIF(U149:AD149,\"=TRUE\")","v":0},{"$f":"AE$1-R149","v":5},{"$f":"IF(S149<2,\"Yes\",\"No\")","v":"No"},{"$f":"IF(D149=\"-\",1,0)*U$1","v":1},{"$f":"AND(U149=0,U$1=1)","v":false},{"$f":"IF(F149=\"-\",1,0)*W$1","v":1},{"$f":"AND(W149=0,W$1=1)","v":false},{"$f":"IF(H149=\"-\",1,0)*Y$1","v":1},{"$f":"AND(Y149=0,Y$1=1)","v":false},{"$f":"IF(J149=\"-\",1,0)*AA$1","v":1},{"$f":"AND(AA149=0,AA$1=1)","v":false},{"$f":"IF(L149=\"-\",1,0)*AC$1","v":1},{"$f":"AND(AC149=0,AC$1=1)","v":false}]
[146,null,"-","-",{"$f":"IF(D150=\"-\",0,D150)","v":0},"-",{"$f":"IF(F150=\"-\",0,F150)","v":0},"-",{"$f":"IF(H150=\"-\",0,H150)","v":0},"-",{"$f":"IF(J150=\"-\",0,J150)","v":0},"-",{"$f":"IF(L150=\"-\",0,L150)","v":0},null,{"$f":"E150+G150+I150+K150+M150","v":0},{"$f":"MAX(D150,F150,H150,J150,L150)","v":0},{"$f":"IF(S150=1,O150,IF(S150=0,(O150-P150),\"-\"))","v":"-"},{"$f":"COUNTIF(U150:AD150,\"=TRUE\")","v":0},{"$f":"AE$1-R150","v":5},{"$f":"IF(S150<2,\"Yes\",\"No\")","v":"No"},{"$f":"IF(D150=\"-\",1,0)*U$1","v":1},{"$f":"AND(U150=0,U$1=1)","v":false},{"$f":"IF(F150=\"-\",1,0)*W$1","v":1},{"$f":"AND(W150=0,W$1=1)","v":false},{"$f":"IF(H150=\"-\",1,0)*Y$1","v":1},{"$f":"AND(Y150=0,Y$1=1)","v":false},{"$f":"IF(J150=\"-\",1,0)*AA$1","v":1},{"$f":"AND(AA150=0,AA$1=1)","v":false},{"$f":"IF(L150=\"-\",1,0)*AC$1","v":1},{"$f":"AND(AC150=0,AC$1=1)","v":false}]
[147]
[148]
[149]
[150]

{"sheet":"Junior Boys Teams","index":7,"n_rows":19,"n_cols":25,"rows_kept":19,"cut":false,"hidden":false,"merged":[[2,1,2,4],[2,5,2,8],[2,9,2,12],[2,13,2,16],[2,17,2,20]]}
[null,"Claimed Last Place",null,"Y","N","-"]
[]
["Total Finishers",{"$f":"'Junior Boys'!D2","v":48},null,null,null,{"$f":"'Junior Boys'!G2","v":62},null,null,null,{"$f":"'Junior Boys'!H2","v":49},null,null,null,{"$f":"'Junior Boys'!J2","v":39},null,null,null,{"$f":"'Junior Boys'!L2","v":41}]
["Team","Race 1 Position",null,"Race 1 Points Total","Claimed Last Place?","Race 2 Postion",null,"Race 2 Points Total","Claimed Last Place?","Race 3 Postion",null,"Race 3 Points Total","Claimed Last Place?","Race 4 Postion",null,"Race 4 Points Total","Claimed Last Place?","Race 5 Postion",null,"Race 5 Points Total","Claimed Last Place?","Number of claimed last places","Number of Races Without","Number of Races Completed","Total (All Races)"]
["Loughborough Grammar School A",1,{"$f":"IF(B5=\"-\",0,B5)","v":1},18,"N",1,{"$f":"IF(F5=\"-\",0,F5)","v":1},22,"N",1,{"$f":"IF(J5=\"-\",0,J5)","v":1},18,"N",1,{"$f":"IF(N5=\"-\",0,N5)","v":1},19,"N",3,{"$f":"IF(R5=\"-\",0,R5)","v":3},99,"Y",{"$f":"COUNTIF(B5:U5,\"Y\")","v":1},{"$f":"COUNTIF(B5:U5,\"n\")","v":4},{"$f":"V5+W5","v":5},{"$f":"C5+G5+K5+O5+S5","v":7}]
["Brookvale High School",2,{"$f":"IF(B6=\"-\",0,B6)","v":2},96,"N",3,{"$f":"IF(F6=\"-\",0,F6)","v":3},117,"N",3,{"$f":"IF(J6=\"-\",0,J6)","v":3},113,"Y",2,{"$f":"IF(N6=\"-\",0,N6)","v":2},88,"Y",1,{"$f":"IF(R6=\"-\",0,R6)","v":1},84,"N",{"$f":"COUNTIF(B6:U6,\"Y\")","v":2},{"$f":"COUNTIF(B6:U6,\"n\")","v":3},{"$f":"V6+W6","v":5},{"$f":"C6+G6+K6+O6+S6","v":11}]
["Loughborough Grammar School B",3,3,128,"Y",4,4,146,"N","-",0,"-","-","-",0,"-","-","-",0,"-","-",1,1,2,7]
["Thomas Estley CC",4,4,151,"Y",8,8,168,"N",6,6,160,"Y",4,4,127,"Y",5,5,138,"Y",4,1,5,27]
["Uppingham Community College",5,5,165,"Y","-",0,"-","-","-",0,"-","-",5,5,128,"Y","-",0,"-","-",2,0,2,10]
["Wreake Valley Academy","-",0,"-","-",2,2,80,"N",4,4,114,"Y","-",0,"-","-",4,4,103,"Y",2,1,3,10]
["De Lisle College","-",0,"-","-",5,5,154,"Y","-",0,"-","-","-",0,"-","-","-",0,"-","-",1,0,1,5]
["Catmose College","-",0,"-","-",6,6,156,"Y","-",0,"-","-","-",0,"-","-","-",0,"-","-",1,0,1,6]
["John Ferneley College","-",0,"-","-",7,7,162,"Y","-",0,"-","-","-",0,"-","-","-",0,"-","-",1,0,1,7]
["Brockington College","-",0,"-","-",9,9,185,"Y","-",0,"-","-","-",0,"-","-","-",0,"-","-",1,0,1,9]
["Crown Hills CC","-",0,"-","-",10,10,228,"N",7,7,189,"N",6,6,148,"N","-",0,"-","-",0,3,3,23]
["Lutterworth High School","-",0,"-","-","-",0,"-","-",5,5,141,"Y","-",0,"-","-","-",0,"-","-",1,0,1,5]
["Welland Park Academy","-",0,"-","-","-",0,"-","-",2,2,105,"Y",2,2,88,"Y",2,2,89,"Y",3,0,3,6]
[null,"-",0,"-","-","-",0,"-","-","-",0,"-","-","-",0,"-","-","-",0,"-","-",0,0,0,0]
[null,"-",{"$f":"IF(B19=\"-\",0,B19)","v":0},"-","-","-",{"$f":"IF(F19=\"-\",0,F19)","v":0},"-","-","-",{"$f":"IF(J19=\"-\",0,J19)","v":0},"-",null,"-",{"$f":"IF(N19=\"-\",0,N19)","v":0},"-","-","-",{"$f":"IF(R19=\"-\",0,R19)","v":0},"-","-",0,0,0,0]

{"sheet":"Inter Girls","index":8,"n_rows":153,"n_cols":38,"rows_kept":153,"cut":false,"hidden":false,"merged":[]}
[null,"Total Number of Runners","Race Complete (Y/N) ",{"$f":"'Year 7 Girls '!D1","v":"Y"},null,{"$f":"'Year 7 Girls '!F1","v":"Y"},null,{"$f":"'Year 7 Girls '!H1","v":"Y"},null,{"$f":"'Year 7 Girls '!J1","v":"Y"},null,"Y",null,null,null,null,null,null,null,null,{"$f":"IF(D1=\"Y\",1,0)","v":1},null,{"$f":"IF(F1=\"Y\",1,0)","v":1},null,{"$f":"IF(H1=\"Y\",1,0)","v":1},null,{"$f":"IF(J1=\"Y\",1,0)","v":1},null,{"$f":"IF(L1=\"Y\",1,0)","v":1},null,{"$f":"SUM(U1:AC1)","v":5}]
[null,{"$f":"COUNTA(B5:B300)","v":28},"No of Finishers",{"$f":"MAX(D5:D150)","v":20},20,14,14,14,14,13,13,14]
[null,null,"Number of results recorded",{"$f":"COUNTIF(D5:D149,\">0\")","v":20},null,{"$f":"COUNTIF(G5:G149,\">0\")","v":14},null,{"$f":"COUNTIF(I5:I149,\">0\")","v":14},null,{"$f":"COUNTIF(K5:K149,\">0\")","v":13},null,{"$f":"COUNTIF(M5:M149,\">0\")","v":13}]
["Reset Column","Name","School","Race 1","Normalised result -1","Race 2","Normalised result -2","Race 3","Normalised result -3","Race 4","Normalised result -4","Race 5","Normalised result -5",null,"Total\n(All Races)","Lowest Place Finish","Final Total","Number of Races Completed","League contender?\n(No. of races - missed)","Elidgible For League Title","Competed in race 1\n0 = YES",null,"Competed in race 2\n0 = YES",null,"Competed in race 3\n0 = YES",null,"Competed in race 4\n0 = YES",null,"Competed in race 5\n0 = YES",null,null,null,null,null,null,null,null," "]
[16,"Aimee Seager","De Lisle College",5,{"$f":"IF(D5=\"-\",0,D5)","v":5},2,{"$f":"IF(F5=\"-\",0,F5)","v":2},2,{"$f":"IF(H5=\"-\",0,H5)","v":2},2,{"$f":"IF(J5=\"-\",0,J5)","v":2},1,{"$f":"IF(L5=\"-\",0,L5)","v":1},null,{"$f":"E5+G5+I5+K5+M5","v":12},{"$f":"MAX(D5,F5,H5,J5,L5)","v":5},{"$f":"IF(S5=1,O5,IF(S5=0,(O5-P5),\"-\"))","v":7},{"$f":"COUNTIF(U5:AD5,\"=TRUE\")","v":5},{"$f":"AE$1-R5","v":0},{"$f":"IF(S5<2,\"Yes\",\"No\")","v":"Yes"},{"$f":"IF(D5=\"-\",1,0)*U$1","v":0},{"$f":"AND(U5=0,U$1=1)","v":true},{"$f":"IF(F5=\"-\",1,0)*W$1","v":0},{"$f":"AND(W5=0,W$1=1)","v":true},{"$f":"IF(H5=\"-\",1,0)*Y$1","v":0},{"$f":"AND(Y5=0,Y$1=1)","v":true},{"$f":"IF(J5=\"-\",1,0)*AA$1","v":0},{"$f":"AND(AA5=0,AA$1=1)","v":true},{"$f":"IF(L5=\"-\",1,0)*AC$1","v":0},{"$f":"AND(AC5=0,AC$1=1)","v":true}]
[7,"Amy Hammersley","Woodbrook Vale School",3,{"$f":"IF(D6=\"-\",0,D6)","v":3},1,{"$f":"IF(F6=\"-\",0,F6)","v":1},3,{"$f":"IF(H6=\"-\",0,H6)","v":3},1,{"$f":"IF(J6=\"-\",0,J6)","v":1},2,{"$f":"IF(L6=\"-\",0,L6)","v":2},null,{"$f":"E6+G6+I6+K6+M6","v":10},{"$f":"MAX(D6,F6,H6,J6,L6)","v":3},{"$f":"IF(S6=1,O6,IF(S6=0,(O6-P6),\"-\"))","v":7},{"$f":"COUNTIF(U6:AD6,\"=TRUE\")","v":5},{"$f":"AE$1-R6","v":0},{"$f":"IF(S6<2,\"Yes\",\"No\")","v":"Yes"},{"$f":"IF(D6=\"-\",1,0)*U$1","v":0},{"$f":"AND(U6=0,U$1=1)","v":true},{"$f":"IF(F6=\"-\",1,0)*W$1","v":0},{"$f":"AND(W6=0,W$1=1)","v":true},{"$f":"IF(H6=\"-\",1,0)*Y$1","v":0},{"$f":"AND(Y6=0,Y$1=1)","v":true},{"$f":"IF(J6=\"-\",1,0)*AA$1","v":0},{"$f":"AND(AA6=0,AA$1=1)","v":true},{"$f":"IF(L6=\"-\",1,0)*AC$1","v":0},{"$f":"AND(AC6=0,AC$1=1)","v":true}]
[62,"Ellie-May Hathaway","Uppingham CC",9,{"$f":"IF(D7=\"-\",0,D7)","v":9},4,{"$f":"IF(F7=\"-\",0,F7)","v":4},5,{"$f":"IF(H7=\"-\",0,H7)","v":5},6,{"$f":"IF(J7=\"-\",0,J7)","v":6},3,{"$f":"IF(L7=\"-\",0,L7)","v":3},null,{"$f":"E7+G7+I7+K7+M7","v":27},{"$f":"MAX(D7,F7,H7,J7,L7)","v":9},{"$f":"IF(S7=1,O7,IF(S7=0,(O7-P7),\"-\"))","v":18},{"$f":"COUNTIF(U7:AD7,\"=TRUE\")","v":5},{"$f":"AE$1-R7","v":0},{"$f":"IF(S7<2,\"Yes\",\"No\")","v":"Yes"},{"$f":"IF(D7=\"-\",1,0)*U$1","v":0},{"$f":"AND(U7=0,U$1=1)","v":true},{"$f":"IF(F7=\"-\",1,0)*W$1","v":0},{"$f":"AND(W7=0,W$1=1)","v":true},{"$f":"IF(H7=\"-\",1,0)*Y$1","v":0},{"$f":"AND(Y7=0,Y$1=1)","v":true},{"$f":"IF(J7=\"-\",1,0)*AA$1","v":0},{"$f":"AND(AA7=0,AA$1=1)","v":true},{"$f":"IF(L7=\"-\",1,0)*AC$1","v":0},{"$f":"AND(AC7=0,AC$1=1)","v":true}]
[28,"Angharad Conant","Oakham School","-",{"$f":"IF(D8=\"-\",0,D8)","v":0},"-",{"$f":"IF(F8=\"-\",0,F8)","v":0},"-",{"$f":"IF(H8=\"-\",0,H8)","v":0},"-",{"$f":"IF(J8=\"-\",0,J8)","v":0},4,{"$f":"IF(L8=\"-\",0,L8)","v":4},null,{"$f":"E8+G8+I8+K8+M8","v":4},{"$f":"MAX(D8,F8,H8,J8,L8)","v":4},{"$f":"IF(S8=1,O8,IF(S8=0,(O8-P8),\"-\"))","v":"-"},{"$f":"COUNTIF(U8:AD8,\"=TRUE\")","v":1},{"$f":"AE$1-R8","v":4},{"$f":"IF(S8<2,\"Yes\",\"No\")","v":"No"},{"$f":"IF(D8=\"-\",1,0)*U$1","v":1},{"$f":"AND(U8=0,U$1=1)","v":false},{"$f":"IF(F8=\"-\",1,0)*W$1","v":1},{"$f":"AND(W8=0,W$1=1)","v":false},{"$f":"IF(H8=\"-\",1,0)*Y$1","v":1},{"$f":"AND(Y8=0,Y$1=1)","v":false},{"$f":"IF(J8=\"-\",1,0)*AA$1","v":1},{"$f":"AND(AA8=0,AA$1=1)","v":false},{"$f":"IF(L8=\"-\",1,0)*AC$1","v":0},{"$f":"AND(AC8=0,AC$1=1)","v":true}]
[65,"Paige Stevenson","Hind Leys College","-",{"$f":"IF(D9=\"-\",0,D9)","v":0},8,{"$f":"IF(F9=\"-\",0,F9)","v":8},7,{"$f":"IF(H9=\"-\",0,H9)","v":7},"-",{"$f":"IF(J9=\"-\",0,J9)","v":0},5,{"$f":"IF(L9=\"-\",0,L9)","v":5},null,{"$f":"E9+G9+I9+K9+M9","v":20},{"$f":"MAX(D9,F9,H9,J9,L9)","v":8},{"$f":"IF(S9=1,O9,IF(S9=0,(O9-P9),\"-\"))","v":"-"},{"$f":"COUNTIF(U9:AD9,\"=TRUE\")","v":3},{"$f":"AE$1-R9","v":2},{"$f":"IF(S9<2,\"Yes\",\"No\")","v":"No"},{"$f":"IF(D9=\"-\",1,0)*U$1","v":1},{"$f":"AND(U9=0,U$1=1)","v":false},{"$f":"IF(F9=\"-\",1,0)*W$1","v":0},{"$f":"AND(W9=0,W$1=1)","v":true},{"$f":"IF(H9=\"-\",1,0)*Y$1","v":0},{"$f":"AND(Y9=0,Y$1=1)","v":true},{"$f":"IF(J9=\"-\",1,0)*AA$1","v":1},{"$f":"AND(AA9=0,AA$1=1)","v":false},{"$f":"IF(L9=\"-\",1,0)*AC$1","v":0},{"$f":"AND(AC9=0,AC$1=1)","v":true}]
[11,"Alex West","Beauchamp College",4,{"$f":"IF(D10=\"-\",0,D10)","v":4},"-",{"$f":"IF(F10=\"-\",0,F10)","v":0},"-",{"$f":"IF(H10=\"-\",0,H10)","v":0},"-",{"$f":"IF(J10=\"-\",0,J10)","v":0},6,{"$f":"IF(L10=\"-\",0,L10)","v":6},null,{"$f":"E10+G10+I10+K10+M10","v":10},{"$f":"MAX(D10,F10,H10,J10,L10)","v":6},{"$f":"IF(S10=1,O10,IF(S10=0,(O10-P10),\"-\"))","v":"-"},{"$f":"COUNTIF(U10:AD10,\"=TRUE\")","v":2},{"$f":"AE$1-R10","v":3},{"$f":"IF(S10<2,\"Yes\",\"No\")","v":"No"},{"$f":"IF(D10=\"-\",1,0)*U$1","v":0},{"$f":"AND(U10=0,U$1=1)","v":true},{"$f":"IF(F10=\"-\",1,0)*W$1","v":1},{"$f":"AND(W10=0,W$1=1)","v":false},{"$f":"IF(H10=\"-\",1,0)*Y$1","v":1},{"$f":"AND(Y10=0,Y$1=1)","v":false},{"$f":"IF(J10=\"-\",1,0)*AA$1","v":1},{"$f":"AND(AA10=0,AA$1=1)","v":false},{"$f":"IF(L10=\"-\",1,0)*AC$1","v":0},{"$f":"AND(AC10=0,AC$1=1)","v":true}]
[78,"Jess Hazell","The Market Bosworth School",6,{"$f":"IF(D11=\"-\",0,D11)","v":6},5,{"$f":"IF(F11=\"-\",0,F11)","v":5},"-",{"$f":"IF(H11=\"-\",0,H11)","v":0},3,{"$f":"IF(J11=\"-\",0,J11)","v":3},7,{"$f":"IF(L11=\"-\",0,L11)","v":7},null,{"$f":"E11+G11+I11+K11+M11","v":21},{"$f":"MAX(D11,F11,H11,J11,L11)","v":7},{"$f":"IF(S11=1,O11,IF(S11=0,(O11-P11),\"-\"))","v":21},{"$f":"COUNTIF(U11:AD11,\"=TRUE\")","v":4},{"$f":"AE$1-R11","v":1},{"$f":"IF(S11<2,\"Yes\",\"No\")","v":"Yes"},{"$f":"IF(D11=\"-\",1,0)*U$1","v":0},{"$f":"AND(U11=0,U$1=1)","v":true},{"$f":"IF(F11=\"-\",1,0)*W$1","v":0},{"$f":"AND(W11=0,W$1=1)","v":true},{"$f":"IF(H11=\"-\",1,0)*Y$1","v":1},{"$f":"AND(Y11=0,Y$1=1)","v":false},{"$f":"IF(J11=\"-\",1,0)*AA$1","v":0},{"$f":"AND(AA11=0,AA$1=1)","v":true},{"$f":"IF(L11=\"-\",1,0)*AC$1","v":0},{"$f":"AND(AC11=0,AC$1=1)","v":true}]
[2,"Saskia Sharpe","Rawlins College",15,{"$f":"IF(D12=\"-\",0,D12)","v":15},12,{"$f":"IF(F12=\"-\",0,F12)","v":12},8,{"$f":"IF(H12=\"-\",0,H12)","v":8},7,{"$f":"IF(J12=\"-\",0,J12)","v":7},8,{"$f":"IF(L12=\"-\",0,L12)","v":8},null,{"$f":"E12+G12+I12+K12+M12","v":50},{"$f":"MAX(D12,F12,H12,J12,L12)","v":15},{"$f":"IF(S12=1,O12,IF(S12=0,(O12-P12),\"-\"))","v":35},{"$f":"COUNTIF(U12:AD12,\"=TRUE\")","v":5},{"$f":"AE$1-R12","v":0},{"$f":"IF(S12<2,\"Yes\",\"No\")","v":"Yes"},{"$f":"IF(D12=\"-\",1,0)*U$1","v":0},{"$f":"AND(U12=0,U$1=1)","v":true},{"$f":"IF(F12=\"-\",1,0)*W$1","v":0},{"$f":"AND(W12=0,W$1=1)","v":true},{"$f":"IF(H12=\"-\",1,0)*Y$1","v":0},{"$f":"AND(Y12=0,Y$1=1)","v":true},{"$f":"IF(J12=\"-\",1,0)*AA$1","v":0},{"$f":"AND(AA12=0,AA$1=1)","v":true},{"$f":"IF(L12=\"-\",1,0)*AC$1","v":0},{"$f":"AND(AC12=0,AC$1=1)","v":true}]
[22,"Sophie Domingo","Beauchamp College","-",{"$f":"IF(D13=\"-\",0,D13)","v":0},"-",{"$f":"IF(F13=\"-\",0,F13)","v":0},"-",{"$f":"IF(H13=\"-\",0,H13)","v":0},"-",{"$f":"IF(J13=\"-\",0,J13)","v":0},9,{"$f":"IF(L13=\"-\",0,L13)","v":9},null,{"$f":"E13+G13+I13+K13+M13","v":9},{"$f":"MAX(D13,F13,H13,J13,L13)","v":9},{"$f":"IF(S13=1,O13,IF(S13=0,(O13-P13),\"-\"))","v":"-"},{"$f":"COUNTIF(U13:AD13,\"=TRUE\")","v":1},{"$f":"AE$1-R13","v":4},{"$f":"IF(S13<2,\"Yes\",\"No\")","v":"No"},{"$f":"IF(D13=\"-\",1,0)*U$1","v":1},{"$f":"AND(U13=0,U$1=1)","v":false},{"$f":"IF(F13=\"-\",1,0)*W$1","v":1},{"$f":"AND(W13=0,W$1=1)","v":false},{"$f":"IF(H13=\"-\",1,0)*Y$1","v":1},{"$f":"AND(Y13=0,Y$1=1)","v":false},{"$f":"IF(J13=\"-\",1,0)*AA$1","v":1},{"$f":"AND(AA13=0,AA$1=1)","v":false},{"$f":"IF(L13=\"-\",1,0)*AC$1","v":0},{"$f":"AND(AC13=0,AC$1=1)","v":true}]
[17,"Zoe Hewing","Beauchamp College",16,{"$f":"IF(D14=\"-\",0,D14)","v":16},11,{"$f":"IF(F14=\"-\",0,F14)","v":11},9,{"$f":"IF(H14=\"-\",0,H14)","v":9},"-",{"$f":"IF(J14=\"-\",0,J14)","v":0},10,{"$f":"IF(L14=\"-\",0,L14)","v":10},null,{"$f":"E14+G14+I14+K14+M14","v":46},{"$f":"MAX(D14,F14,H14,J14,L14)","v":16},{"$f":"IF(S14=1,O14,IF(S14=0,(O14-P14),\"-\"))","v":46},{"$f":"COUNTIF(U14:AD14,\"=TRUE\")","v":4},{"$f":"AE$1-R14","v":1},{"$f":"IF(S14<2,\"Yes\",\"No\")","v":"Yes"},{"$f":"IF(D14=\"-\",1,0)*U$1","v":0},{"$f":"AND(U14=0,U$1=1)","v":true},{"$f":"IF(F14=\"-\",1,0)*W$1","v":0},{"$f":"AND(W14=0,W$1=1)","v":true},{"$f":"IF(H14=\"-\",1,0)*Y$1","v":0},{"$f":"AND(Y14=0,Y$1=1)","v":true},{"$f":"IF(J14=\"-\",1,0)*AA$1","v":1},{"$f":"AND(AA14=0,AA$1=1)","v":false},{"$f":"IF(L14=\"-\",1,0)*AC$1","v":0},{"$f":"AND(AC14=0,AC$1=1)","v":true}]
[69,"?","John Ferneley College","-",{"$f":"IF(D15=\"-\",0,D15)","v":0},"-",{"$f":"IF(F15=\"-\",0,F15)","v":0},"-",{"$f":"IF(H15=\"-\",0,H15)","v":0},"-",{"$f":"IF(J15=\"-\",0,J15)","v":0},12,{"$f":"IF(L15=\"-\",0,L15)","v":12},null,{"$f":"E15+G15+I15+K15+M15","v":12},{"$f":"MAX(D15,F15,H15,J15,L15)","v":12},{"$f":"IF(S15=1,O15,IF(S15=0,(O15-P15),\"-\"))","v":"-"},{"$f":"COUNTIF(U15:AD15,\"=TRUE\")","v":1},{"$f":"AE$1-R15","v":4},{"$f":"IF(S15<2,\"Yes\",\"No\")","v":"No"},{"$f":"IF(D15=\"-\",1,0)*U$1","v":1},{"$f":"AND(U15=0,U$1=1)","v":false},{"$f":"IF(F15=\"-\",1,0)*W$1","v":1},{"$f":"AND(W15=0,W$1=1)","v":false},{"$f":"IF(H15=\"-\",1,0)*Y$1","v":1},{"$f":"AND(Y15=0,Y$1=1)","v":false},{"$f":"IF(J15=\"-\",1,0)*AA$1","v":1},{"$f":"AND(AA15=0,AA$1=1)","v":false},{"$f":"IF(L15=\"-\",1,0)*AC$1","v":0},{"$f":"AND(AC15=0,AC$1=1)","v":true}]
[24,"Alice Benzie","Humphrey Perkins School","-",{"$f":"IF(D16=\"-\",0,D16)","v":0},"-",{"$f":"IF(F16=\"-\",0,F16)","v":0},14,{"$f":"IF(H16=\"-\",0,H16)","v":14},13,{"$f":"IF(J16=\"-\",0,J16)","v":13},13,{"$f":"IF(L16=\"-\",0,L16)","v":13},null,{"$f":"E16+G16+I16+K16+M16","v":40},{"$f":"MAX(D16,F16,H16,J16,L16)","v":14},{"$f":"IF(S16=1,O16,IF(S16=0,(O16-P16),\"-\"))","v":"-"},{"$f":"COUNTIF(U16:AD16,\"=TRUE\")","v":3},{"$f":"AE$1-R16","v":2},{"$f":"IF(S16<2,\"Yes\",\"No\")","v":"No"},{"$f":"IF(D16=\"-\",1,0)*U$1","v":1},{"$f":"AND(U16=0,U$1=1)","v":false},{"$f":"IF(F16=\"-\",1,0)*W$1","v":1},{"$f":"AND(W16=0,W$1=1)","v":false},{"$f":"IF(H16=\"-\",1,0)*Y$1","v":0},{"$f":"AND(Y16=0,Y$1=1)","v":true},{"$f":"IF(J16=\"-\",1,0)*AA$1","v":0},{"$f":"AND(AA16=0,AA$1=1)","v":true},{"$f":"IF(L16=\"-\",1,0)*AC$1","v":0},{"$f":"AND(AC16=0,AC$1=1)","v":true}]
[4,"Emma Bowley","De Lisle College",20,{"$f":"IF(D17=\"-\",0,D17)","v":20},"-",{"$f":"IF(F17=\"-\",0,F17)","v":0},13,{"$f":"IF(H17=\"-\",0,H17)","v":13},12,{"$f":"IF(J17=\"-\",0,J17)","v":12},14,{"$f":"IF(L17=\"-\",0,L17)","v":14},null,{"$f":"E17+G17+I17+K17+M17","v":59},{"$f":"MAX(D17,F17,H17,J17,L17)","v":20},{"$f":"IF(S17=1,O17,IF(S17=0,(O17-P17),\"-\"))","v":59},{"$f":"COUNTIF(U17:AD17,\"=TRUE\")","v":4},{"$f":"AE$1-R17","v":1},{"$f":"IF(S17<2,\"Yes\",\"No\")","v":"Yes"},{"$f":"IF(D17=\"-\",1,0)*U$1","v":0},{"$f":"AND(U17=0,U$1=1)","v":true},{"$f":"IF(F17=\"-\",1,0)*W$1","v":1},{"$f":"AND(W17=0,W$1=1)","v":false},{"$f":"IF(H17=\"-\",1,0)*Y$1","v":0},{"$f":"AND(Y17=0,Y$1=1)","v":true},{"$f":"IF(J17=\"-\",1,0)*AA$1","v":0},{"$f":"AND(AA17=0,AA$1=1)","v":true},{"$f":"IF(L17=\"-\",1,0)*AC$1","v":0},{"$f":"AND(AC17=0,AC$1=1)","v":true}]
[1,"Amber Stevens","De Lisle College",10,{"$f":"IF(D18=\"-\",0,D18)","v":10},"-",{"$f":"IF(F18=\"-\",0,F18)","v":0},6,{"$f":"IF(H18=\"-\",0,H18)","v":6},4,{"$f":"IF(J18=\"-\",0,J18)","v":4},"-",{"$f":"IF(L18=\"-\",0,L18)","v":0},null,{"$f":"E18+G18+I18+K18+M18","v":20},{"$f":"MAX(D18,F18,H18,J18,L18)","v":10},{"$f":"IF(S18=1,O18,IF(S18=0,(O18-P18),\"-\"))","v":"-"},{"$f":"COUNTIF(U18:AD18,\"=TRUE\")","v":3},{"$f":"AE$1-R18","v":2},{"$f":"IF(S18<2,\"Yes\",\"No\")","v":"No"},{"$f":"IF(D18=\"-\",1,0)*U$1","v":0},{"$f":"AND(U18=0,U$1=1)","v":true},{"$f":"IF(F18=\"-\",1,0)*W$1","v":1},{"$f":"AND(W18=0,W$1=1)","v":false},{"$f":"IF(H18=\"-\",1,0)*Y$1","v":0},{"$f":"AND(Y18=0,Y$1=1)","v":true},{"$f":"IF(J18=\"-\",1,0)*AA$1","v":0},{"$f":"AND(AA18=0,AA$1=1)","v":true},{"$f":"IF(L18=\"-\",1,0)*AC$1","v":1},{"$f":"AND(AC18=0,AC$1=1)","v":false}]
[10,"Megan Rowley","John Cleveland College",2,{"$f":"IF(D19=\"-\",0,D19)","v":2},3,{"$f":"IF(F19=\"-\",0,F19)","v":3},4,{"$f":"IF(H19=\"-\",0,H19)","v":4},5,{"$f":"IF(J19=\"-\",0,J19)","v":5},"-",{"$f":"IF(L19=\"-\",0,L19)","v":0},null,{"$f":"E19+G19+I19+K19+M19","v":14},{"$f":"MAX(D19,F19,H19,J19,L19)","v":5},{"$f":"IF(S19=1,O19,IF(S19=0,(O19-P19),\"-\"))","v":14},{"$f":"COUNTIF(U19:AD19,\"=TRUE\")","v":4},{"$f":"AE$1-R19","v":1},{"$f":"IF(S19<2,\"Yes\",\"No\")","v":"Yes"},{"$f":"IF(D19=\"-\",1,0)*U$1","v":0},{"$f":"AND(U19=0,U$1=1)","v":true},{"$f":"IF(F19=\"-\",1,0)*W$1","v":0},{"$f":"AND(W19=0,W$1=1)","v":true},{"$f":"IF(H19=\"-\",1,0)*Y$1","v":0},{"$f":"AND(Y19=0,Y$1=1)","v":true},{"$f":"IF(J19=\"-\",1,0)*AA$1","v":0},{"$f":"AND(AA19=0,AA$1=1)","v":true},{"$f":"IF(L19=\"-\",1,0)*AC$1","v":1},{"$f":"AND(AC19=0,AC$1=1)","v":false}]
[58,"Maddie McLean-Freeman","Humphrey Perkins School",8,{"$f":"IF(D20=\"-\",0,D20)","v":8},7,{"$f":"IF(F20=\"-\",0,F20)","v":7},"-",{"$f":"IF(H20=\"-\",0,H20)","v":0},8,{"$f":"IF(J20=\"-\",0,J20)","v":8},"-",{"$f":"IF(L20=\"-\",0,L20)","v":0},null,{"$f":"E20+G20+I20+K20+M20","v":23},{"$f":"MAX(D20,F20,H20,J20,L20)","v":8},{"$f":"IF(S20=1,O20,IF(S20=0,(O20-P20),\"-\"))","v":"-"},{"$f":"COUNTIF(U20:AD20,\"=TRUE\")","v":3},{"$f":"AE$1-R20","v":2},{"$f":"IF(S20<2,\"Yes\",\"No\")","v":"No"},{"$f":"IF(D20=\"-\",1,0)*U$1","v":0},{"$f":"AND(U20=0,U$1=1)","v":true},{"$f":"IF(F20=\"-\",1,0)*W$1","v":0},{"$f":"AND(W20=0,W$1=1)","v":true},{"$f":"IF(H20=\"-\",1,0)*Y$1","v":1},{"$f":"AND(Y20=0,Y$1=1)","v":false},{"$f":"IF(J20=\"-\",1,0)*AA$1","v":0},{"$f":"AND(AA20=0,AA$1=1)","v":true},{"$f":"IF(L20=\"-\",1,0)*AC$1","v":1},{"$f":"AND(AC20=0,AC$1=1)","v":false}]
[29,"Amy Saville","Catmose College",11,{"$f":"IF(D21=\"-\",0,D21)","v":11},6,{"$f":"IF(F21=\"-\",0,F21)","v":6},10,{"$f":"IF(H21=\"-\",0,H21)","v":10},9,{"$f":"IF(J21=\"-\",0,J21)","v":9},"-",{"$f":"IF(L21=\"-\",0,L21)","v":0},null,{"$f":"E21+G21+I21+K21+M21","v":36},{"$f":"MAX(D21,F21,H21,J21,L21)","v":11},{"$f":"IF(S21=1,O21,IF(S21=0,(O21-P21),\"-\"))","v":36},{"$f":"COUNTIF(U21:AD21,\"=TRUE\")","v":4},{"$f":"AE$1-R21","v":1},{"$f":"IF(S21<2,\"Yes\",\"No\")","v":"Yes"},{"$f":"IF(D21=\"-\",1,0)*U$1","v":0},{"$f":"AND(U21=0,U$1=1)","v":true},{"$f":"IF(F21=\"-\",1,0)*W$1","v":0},{"$f":"AND(W21=0,W$1=1)","v":true},{"$f":"IF(H21=\"-\",1,0)*Y$1","v":0},{"$f":"AND(Y21=0,Y$1=1)","v":true},{"$f":"IF(J21=\"-\",1,0)*AA$1","v":0},{"$f":"AND(AA21=0,AA$1=1)","v":true},{"$f":"IF(L21=\"-\",1,0)*AC$1","v":1},{"$f":"AND(AC21=0,AC$1=1)","v":false}]
[20,"Laura Shepperd-Till","Countesthorpe CC",12,{"$f":"IF(D22=\"-\",0,D22)","v":12},9,{"$f":"IF(F22=\"-\",0,F22)","v":9},11,{"$f":"IF(H22=\"-\",0,H22)","v":11},10,{"$f":"IF(J22=\"-\",0,J22)","v":10},"-",{"$f":"IF(L22=\"-\",0,L22)","v":0},null,{"$f":"E22+G22+I22+K22+M22","v":42},{"$f":"MAX(D22,F22,H22,J22,L22)","v":12},{"$f":"IF(S22=1,O22,IF(S22=0,(O22-P22),\"-\"))","v":42},{"$f":"COUNTIF(U22:AD22,\"=TRUE\")","v":4},{"$f":"AE$1-R22","v":1},{"$f":"IF(S22<2,\"Yes\",\"No\")","v":"Yes"},{"$f":"IF(D22=\"-\",1,0)*U$1","v":0},{"$f":"AND(U22=0,U$1=1)","v":true},{"$f":"IF(F22=\"-\",1,0)*W$1","v":0},{"$f":"AND(W22=0,W$1=1)","v":true},{"$f":"IF(H22=\"-\",1,0)*Y$1","v":0},{"$f":"AND(Y22=0,Y$1=1)","v":true},{"$f":"IF(J22=\"-\",1,0)*AA$1","v":0},{"$f":"AND(AA22=0,AA$1=1)","v":true},{"$f":"IF(L22=\"-\",1,0)*AC$1","v":1},{"$f":"AND(AC22=0,AC$1=1)","v":false}]
[63,"Lucy Griffith","Lutterworth College",17,{"$f":"IF(D23=\"-\",0,D23)","v":17},"-",{"$f":"IF(F23=\"-\",0,F23)","v":0},12,{"$f":"IF(H23=\"-\",0,H23)","v":12},11,{"$f":"IF(J23=\"-\",0,J23)","v":11},"-",{"$f":"IF(L23=\"-\",0,L23)","v":0},null,{"$f":"E23+G23+I23+K23+M23","v":40},{"$f":"MAX(D23,F23,H23,J23,L23)","v":17},{"$f":"IF(S23=1,O23,IF(S23=0,(O23-P23),\"-\"))","v":"-"},{"$f":"COUNTIF(U23:AD23,\"=TRUE\")","v":3},{"$f":"AE$1-R23","v":2},{"$f":"IF(S23<2,\"Yes\",\"No\")","v":"No"},{"$f":"IF(D23=\"-\",1,0)*U$1","v":0},{"$f":"AND(U23=0,U$1=1)","v":true},{"$f":"IF(F23=\"-\",1,0)*W$1","v":1},{"$f":"AND(W23=0,W$1=1)","v":false},{"$f":"IF(H23=\"-\",1,0)*Y$1","v":0},{"$f":"AND(Y23=0,Y$1=1)","v":true},{"$f":"IF(J23=\"-\",1,0)*AA$1","v":0},{"$f":"AND(AA23=0,AA$1=1)","v":true},{"$f":"IF(L23=\"-\",1,0)*AC$1","v":1},{"$f":"AND(AC23=0,AC$1=1)","v":false}]
[45,"Caitlin Roper","Lutterworth College","-",{"$f":"IF(D24=\"-\",0,D24)","v":0},"-",{"$f":"IF(F24=\"-\",0,F24)","v":0},1,{"$f":"IF(H24=\"-\",0,H24)","v":1},"-",{"$f":"IF(J24=\"-\",0,J24)","v":0},"-",{"$f":"IF(L24=\"-\",0,L24)","v":0},null,{"$f":"E24+G24+I24+K24+M24","v":1},{"$f":"MAX(D24,F24,H24,J24,L24)","v":1},{"$f":"IF(S24=1,O24,IF(S24=0,(O24-P24),\"-\"))","v":"-"},{"$f":"COUNTIF(U24:AD24,\"=TRUE\")","v":1},{"$f":"AE$1-R24","v":4},{"$f":"IF(S24<2,\"Yes\",\"No\")","v":"No"},{"$f":"IF(D24=\"-\",1,0)*U$1","v":1},{"$f":"AND(U24=0,U$1=1)","v":false},{"$f":"IF(F24=\"-\",1,0)*W$1","v":1},{"$f":"AND(W24=0,W$1=1)","v":false},{"$f":"IF(H24=\"-\",1,0)*Y$1","v":0},{"$f":"AND(Y24=0,Y$1=1)","v":true},{"$f":"IF(J24=\"-\",1,0)*AA$1","v":1},{"$f":"AND(AA24=0,AA$1=1)","v":false},{"$f":"IF(L24=\"-\",1,0)*AC$1","v":1},{"$f":"AND(AC24=0,AC$1=1)","v":false}]
[8,"Alice Tansey","Robert Smyth Academy",13,{"$f":"IF(D25=\"-\",0,D25)","v":13},10,{"$f":"IF(F25=\"-\",0,F25)","v":10},"-",{"$f":"IF(H25=\"-\",0,H25)","v":0},"-",{"$f":"IF(J25=\"-\",0,J25)","v":0},"-",{"$f":"IF(L25=\"-\",0,L25)","v":0},null,{"$f":"E25+G25+I25+K25+M25","v":23},{"$f":"MAX(D25,F25,H25,J25,L25)","v":13},{"$f":"IF(S25=1,O25,IF(S25=0,(O25-P25),\"-\"))","v":"-"},{"$f":"COUNTIF(U25:AD25,\"=TRUE\")","v":2},{"$f":"AE$1-R25","v":3},{"$f":"IF(S25<2,\"Yes\",\"No\")","v":"No"},{"$f":"IF(D25=\"-\",1,0)*U$1","v":0},{"$f":"AND(U25=0,U$1=1)","v":true},{"$f":"IF(F25=\"-\",1,0)*W$1","v":0},{"$f":"AND(W25=0,W$1=1)","v":true},{"$f":"IF(H25=\"-\",1,0)*Y$1","v":1},{"$f":"AND(Y25=0,Y$1=1)","v":false},{"$f":"IF(J25=\"-\",1,0)*AA$1","v":1},{"$f":"AND(AA25=0,AA$1=1)","v":false},{"$f":"IF(L25=\"-\",1,0)*AC$1","v":1},{"$f":"AND(AC25=0,AC$1=1)","v":false}]
[77,"Chelsea Lucas","Catmose College","-",{"$f":"IF(D26=\"-\",0,D26)","v":0},13,{"$f":"IF(F26=\"-\",0,F26)","v":13},"-",{"$f":"IF(H26=\"-\",0,H26)","v":0},"-",{"$f":"IF(J26=\"-\",0,J26)","v":0},"-",{"$f":"IF(L26=\"-\",0,L26)","v":0},null,{"$f":"E26+G26+I26+K26+M26","v":13},{"$f":"MAX(D26,F26,H26,J26,L26)","v":13},{"$f":"IF(S26=1,O26,IF(S26=0,(O26-P26),\"-\"))","v":"-"},{"$f":"COUNTIF(U26:AD26,\"=TRUE\")","v":1},{"$f":"AE$1-R26","v":4},{"$f":"IF(S26<2,\"Yes\",\"No\")","v":"No"},{"$f":"IF(D26=\"-\",1,0)*U$1","v":1},{"$f":"AND(U26=0,U$1=1)","v":false},{"$f":"IF(F26=\"-\",1,0)*W$1","v":0},{"$f":"AND(W26=0,W$1=1)","v":true},{"$f":"IF(H26=\"-\",1,0)*Y$1","v":1},{"$f":"AND(Y26=0,Y$1=1)","v":false},{"$f":"IF(J26=\"-\",1,0)*AA$1","v":1},{"$f":"AND(AA26=0,AA$1=1)","v":false},{"$f":"IF(L26=\"-\",1,0)*AC$1","v":1},{"$f":"AND(AC26=0,AC$1=1)","v":false}]
[44,"Katie Conboy","Catmose College","-",{"$f":"IF(D27=\"-\",0,D27)","v":0},14,{"$f":"IF(F27=\"-\",0,F27)","v":14},"-",{"$f":"IF(H27=\"-\",0,H27)","v":0},"-",{"$f":"IF(J27=\"-\",0,J27)","v":0},"-",{"$f":"IF(L27=\"-\",0,L27)","v":0},null,{"$f":"E27+G27+I27+K27+M27","v":14},{"$f":"MAX(D27,F27,H27,J27,L27)","v":14},{"$f":"IF(S27=1,O27,IF(S27=0,(O27-P27),\"-\"))","v":"-"},{"$f":"COUNTIF(U27:AD27,\"=TRUE\")","v":1},{"$f":"AE$1-R27","v":4},{"$f":"IF(S27<2,\"Yes\",\"No\")","v":"No"},{"$f":"IF(D27=\"-\",1,0)*U$1","v":1},{"$f":"AND(U27=0,U$1=1)","v":false},{"$f":"IF(F27=\"-\",1,0)*W$1","v":0},{"$f":"AND(W27=0,W$1=1)","v":true},{"$f":"IF(H27=\"-\",1,0)*Y$1","v":1},{"$f":"AND(Y27=0,Y$1=1)","v":false},{"$f":"IF(J27=\"-\",1,0)*AA$1","v":1},{"$f":"AND(AA27=0,AA$1=1)","v":false},{"$f":"IF(L27=\"-\",1,0)*AC$1","v":1},{"$f":"AND(AC27=0,AC$1=1)","v":false}]
[75,"Lucy Jones","Our Lady's Convent",1,{"$f":"IF(D28=\"-\",0,D28)","v":1},"-",{"$f":"IF(F28=\"-\",0,F28)","v":0},"-",{"$f":"IF(H28=\"-\",0,H28)","v":0},"-",{"$f":"IF(J28=\"-\",0,J28)","v":0},"-",{"$f":"IF(L28=\"-\",0,L28)","v":0},null,{"$f":"E28+G28+I28+K28+M28","v":1},{"$f":"MAX(D28,F28,H28,J28,L28)","v":1},{"$f":"IF(S28=1,O28,IF(S28=0,(O28-P28),\"-\"))","v":"-"},{"$f":"COUNTIF(U28:AD28,\"=TRUE\")","v":1},{"$f":"AE$1-R28","v":4},{"$f":"IF(S28<2,\"Yes\",\"No\")","v":"No"},{"$f":"IF(D28=\"-\",1,0)*U$1","v":0},{"$f":"AND(U28=0,U$1=1)","v":true},{"$f":"IF(F28=\"-\",1,0)*W$1","v":1},{"$f":"AND(W28=0,W$1=1)","v":false},{"$f":"IF(H28=\"-\",1,0)*Y$1","v":1},{"$f":"AND(Y28=0,Y$1=1)","v":false},{"$f":"IF(J28=\"-\",1,0)*AA$1","v":1},{"$f":"AND(AA28=0,AA$1=1)","v":false},{"$f":"IF(L28=\"-\",1,0)*AC$1","v":1},{"$f":"AND(AC28=0,AC$1=1)","v":false}]
[19,"Elizabeth Mulvaney","Loughborough High School",7,{"$f":"IF(D29=\"-\",0,D29)","v":7},"-",{"$f":"IF(F29=\"-\",0,F29)","v":0},"-",{"$f":"IF(H29=\"-\",0,H29)","v":0},"-",{"$f":"IF(J29=\"-\",0,J29)","v":0},"-",{"$f":"IF(L29=\"-\",0,L29)","v":0},null,{"$f":"E29+G29+I29+K29+M29","v":7},{"$f":"MAX(D29,F29,H29,J29,L29)","v":7},{"$f":"IF(S29=1,O29,IF(S29=0,(O29-P29),\"-\"))","v":"-"},{"$f":"COUNTIF(U29:AD29,\"=TRUE\")","v":1},{"$f":"AE$1-R29","v":4},{"$f":"IF(S29<2,\"Yes\",\"No\")","v":"No"},{"$f":"IF(D29=\"-\",1,0)*U$1","v":0},{"$f":"AND(U29=0,U$1=1)","v":true},{"$f":"IF(F29=\"-\",1,0)*W$1","v":1},{"$f":"AND(W29=0,W$1=1)","v":false},{"$f":"IF(H29=\"-\",1,0)*Y$1","v":1},{"$f":"AND(Y29=0,Y$1=1)","v":false},{"$f":"IF(J29=\"-\",1,0)*AA$1","v":1},{"$f":"AND(AA29=0,AA$1=1)","v":false},{"$f":"IF(L29=\"-\",1,0)*AC$1","v":1},{"$f":"AND(AC29=0,AC$1=1)","v":false}]
[14,"Chloe Foster","Loughborough High School",14,{"$f":"IF(D30=\"-\",0,D30)","v":14},"-",{"$f":"IF(F30=\"-\",0,F30)","v":0},"-",{"$f":"IF(H30=\"-\",0,H30)","v":0},"-",{"$f":"IF(J30=\"-\",0,J30)","v":0},"-",{"$f":"IF(L30=\"-\",0,L30)","v":0},null,{"$f":"E30+G30+I30+K30+M30","v":14},{"$f":"MAX(D30,F30,H30,J30,L30)","v":14},{"$f":"IF(S30=1,O30,IF(S30=0,(O30-P30),\"-\"))","v":"-"},{"$f":"COUNTIF(U30:AD30,\"=TRUE\")","v":1},{"$f":"AE$1-R30","v":4},{"$f":"IF(S30<2,\"Yes\",\"No\")","v":"No"},{"$f":"IF(D30=\"-\",1,0)*U$1","v":0},{"$f":"AND(U30=0,U$1=1)","v":true},{"$f":"IF(F30=\"-\",1,0)*W$1","v":1},{"$f":"AND(W30=0,W$1=1)","v":false},{"$f":"IF(H30=\"-\",1,0)*Y$1","v":1},{"$f":"AND(Y30=0,Y$1=1)","v":false},{"$f":"IF(J30=\"-\",1,0)*AA$1","v":1},{"$f":"AND(AA30=0,AA$1=1)","v":false},{"$f":"IF(L30=\"-\",1,0)*AC$1","v":1},{"$f":"AND(AC30=0,AC$1=1)","v":false}]
[5,"Jessica Ward","Our Lady's Convent",18,{"$f":"IF(D31=\"-\",0,D31)","v":18},"-",{"$f":"IF(F31=\"-\",0,F31)","v":0},"-",{"$f":"IF(H31=\"-\",0,H31)","v":0},"-",{"$f":"IF(J31=\"-\",0,J31)","v":0},"-",{"$f":"IF(L31=\"-\",0,L31)","v":0},null,{"$f":"E31+G31+I31+K31+M31","v":18},{"$f":"MAX(D31,F31,H31,J31,L31)","v":18},{"$f":"IF(S31=1,O31,IF(S31=0,(O31-P31),\"-\"))","v":"-"},{"$f":"COUNTIF(U31:AD31,\"=TRUE\")","v":1},{"$f":"AE$1-R31","v":4},{"$f":"IF(S31<2,\"Yes\",\"No\")","v":"No"},{"$f":"IF(D31=\"-\",1,0)*U$1","v":0},{"$f":"AND(U31=0,U$1=1)","v":true},{"$f":"IF(F31=\"-\",1,0)*W$1","v":1},{"$f":"AND(W31=0,W$1=1)","v":false},{"$f":"IF(H31=\"-\",1,0)*Y$1","v":1},{"$f":"AND(Y31=0,Y$1=1)","v":false},{"$f":"IF(J31=\"-\",1,0)*AA$1","v":1},{"$f":"AND(AA31=0,AA$1=1)","v":false},{"$f":"IF(L31=\"-\",1,0)*AC$1","v":1},{"$f":"AND(AC31=0,AC$1=1)","v":false}]
[76,"Amy McArragher","Robert Smyth Academy",19,{"$f":"IF(D32=\"-\",0,D32)","v":19},"-",{"$f":"IF(F32=\"-\",0,F32)","v":0},"-",{"$f":"IF(H32=\"-\",0,H32)","v":0},"-",{"$f":"IF(J32=\"-\",0,J32)","v":0},"-",{"$f":"IF(L32=\"-\",0,L32)","v":0},null,{"$f":"E32+G32+I32+K32+M32","v":19},{"$f":"MAX(D32,F32,H32,J32,L32)","v":19},{"$f":"IF(S32=1,O32,IF(S32=0,(O32-P32),\"-\"))","v":"-"},{"$f":"COUNTIF(U32:AD32,\"=TRUE\")","v":1},{"$f":"AE$1-R32","v":4},{"$f":"IF(S32<2,\"Yes\",\"No\")","v":"No"},{"$f":"IF(D32=\"-\",1,0)*U$1","v":0},{"$f":"AND(U32=0,U$1=1)","v":true},{"$f":"IF(F32=\"-\",1,0)*W$1","v":1},{"$f":"AND(W32=0,W$1=1)","v":false},{"$f":"IF(H32=\"-\",1,0)*Y$1","v":1},{"$f":"AND(Y32=0,Y$1=1)","v":false},{"$f":"IF(J32=\"-\",1,0)*AA$1","v":1},{"$f":"AND(AA32=0,AA$1=1)","v":false},{"$f":"IF(L32=\"-\",1,0)*AC$1","v":1},{"$f":"AND(AC32=0,AC$1=1)","v":false}]
[74,null,"-","-",{"$f":"IF(D33=\"-\",0,D33)","v":0},"-",{"$f":"IF(F33=\"-\",0,F33)","v":0},"-",{"$f":"IF(H33=\"-\",0,H33)","v":0},"-",{"$f":"IF(J33=\"-\",0,J33)","v":0},"-",{"$f":"IF(L33=\"-\",0,L33)","v":0},null,{"$f":"E33+G33+I33+K33+M33","v":0},{"$f":"MAX(D33,F33,H33,J33,L33)","v":0},{"$f":"IF(S33=1,O33,IF(S33=0,(O33-P33),\"-\"))","v":"-"},{"$f":"COUNTIF(U33:AD33,\"=TRUE\")","v":0},{"$f":"AE$1-R33","v":5},{"$f":"IF(S33<2,\"Yes\",\"No\")","v":"No"},{"$f":"IF(D33=\"-\",1,0)*U$1","v":1},{"$f":"AND(U33=0,U$1=1)","v":false},{"$f":"IF(F33=\"-\",1,0)*W$1","v":1},{"$f":"AND(W33=0,W$1=1)","v":false},{"$f":"IF(H33=\"-\",1,0)*Y$1","v":1},{"$f":"AND(Y33=0,Y$1=1)","v":false},{"$f":"IF(J33=\"-\",1,0)*AA$1","v":1},{"$f":"AND(AA33=0,AA$1=1)","v":false},{"$f":"IF(L33=\"-\",1,0)*AC$1","v":1},{"$f":"AND(AC33=0,AC$1=1)","v":false}]
[79,null,"-","-",{"$f":"IF(D34=\"-\",0,D34)","v":0},"-",{"$f":"IF(F34=\"-\",0,F34)","v":0},"-",{"$f":"IF(H34=\"-\",0,H34)","v":0},"-",{"$f":"IF(J34=\"-\",0,J34)","v":0},"-",{"$f":"IF(L34=\"-\",0,L34)","v":0},null,{"$f":"E34+G34+I34+K34+M34","v":0},{"$f":"MAX(D34,F34,H34,J34,L34)","v":0},{"$f":"IF(S34=1,O34,IF(S34=0,(O34-P34),\"-\"))","v":"-"},{"$f":"COUNTIF(U34:AD34,\"=TRUE\")","v":0},{"$f":"AE$1-R34","v":5},{"$f":"IF(S34<2,\"Yes\",\"No\")","v":"No"},{"$f":"IF(D34=\"-\",1,0)*U$1","v":1},{"$f":"AND(U34=0,U$1=1)","v":false},{"$f":"IF(F34=\"-\",1,0)*W$1","v":1},{"$f":"AND(W34=0,W$1=1)","v":false},{"$f":"IF(H34=\"-\",1,0)*Y$1","v":1},{"$f":"AND(Y34=0,Y$1=1)","v":false},{"$f":"IF(J34=\"-\",1,0)*AA$1","v":1},{"$f":"AND(AA34=0,AA$1=1)","v":false},{"$f":"IF(L34=\"-\",1,0)*AC$1","v":1},{"$f":"AND(AC34=0,AC$1=1)","v":false}]
[34,null,"-","-",{"$f":"IF(D35=\"-\",0,D35)","v":0},"-",{"$f":"IF(F35=\"-\",0,F35)","v":0},"-",{"$f":"IF(H35=\"-\",0,H35)","v":0},"-",{"$f":"IF(J35=\"-\",0,J35)","v":0},"-",{"$f":"IF(L35=\"-\",0,L35)","v":0},null,{"$f":"E35+G35+I35+K35+M35","v":0},{"$f":"MAX(D35,F35,H35,J35,L35)","v":0},{"$f":"IF(S35=1,O35,IF(S35=0,(O35-P35),\"-\"))","v":"-"},{"$f":"COUNTIF(U35:AD35,\"=TRUE\")","v":0},{"$f":"AE$1-R35","v":5},{"$f":"IF(S35<2,\"Yes\",\"No\")","v":"No"},{"$f":"IF(D35=\"-\",1,0)*U$1","v":1},{"$f":"AND(U35=0,U$1=1)","v":false},{"$f":"IF(F35=\"-\",1,0)*W$1","v":1},{"$f":"AND(W35=0,W$1=1)","v":false},{"$f":"IF(H35=\"-\",1,0)*Y$1","v":1},{"$f":"AND(Y35=0,Y$1=1)","v":false},{"$f":"IF(J35=\"-\",1,0)*AA$1","v":1},{"$f":"AND(AA35=0,AA$1=1)","v":false},{"$f":"IF(L35=\"-\",1,0)*AC$1","v":1},{"$f":"AND(AC35=0,AC$1=1)","v":false}]
[70,null,"-","-",{"$f":"IF(D36=\"-\",0,D36)","v":0},"-",{"$f":"IF(F36=\"-\",0,F36)","v":0},"-",{"$f":"IF(H36=\"-\",0,H36)","v":0},"-",{"$f":"IF(J36=\"-\",0,J36)","v":0},"-",{"$f":"IF(L36=\"-\",0,L36)","v":0},null,{"$f":"E36+G36+I36+K36+M36","v":0},{"$f":"MAX(D36,F36,H36,J36,L36)","v":0},{"$f":"IF(S36=1,O36,IF(S36=0,(O36-P36),\"-\"))","v":"-"},{"$f":"COUNTIF(U36:AD36,\"=TRUE\")","v":0},{"$f":"AE$1-R36","v":5},{"$f":"IF(S36<2,\"Yes\",\"No\")","v":"No"},{"$f":"IF(D36=\"-\",1,0)*U$1","v":1},{"$f":"AND(U36=0,U$1=1)","v":false},{"$f":"IF(F36=\"-\",1,0)*W$1","v":1},{"$f":"AND(W36=0,W$1=1)","v":false},{"$f":"IF(H36=\"-\",1,0)*Y$1","v":1},{"$f":"AND(Y36=0,Y$1=1)","v":false},{"$f":"IF(J36=\"-\",1,0)*AA$1","v":1},{"$f":"AND(AA36=0,AA$1=1)","v":false},{"$f":"IF(L36=\"-\",1,0)*AC$1","v":1},{"$f":"AND(AC36=0,AC$1=1)","v":false}]
[68,null,"-","-",{"$f":"IF(D37=\"-\",0,D37)","v":0},"-",{"$f":"IF(F37=\"-\",0,F37)","v":0},"-",{"$f":"IF(H37=\"-\",0,H37)","v":0},"-",{"$f":"IF(J37=\"-\",0,J37)","v":0},"-",{"$f":"IF(L37=\"-\",0,L37)","v":0},null,{"$f":"E37+G37+I37+K37+M37","v":0},{"$f":"MAX(D37,F37,H37,J37,L37)","v":0},{"$f":"IF(S37=1,O37,IF(S37=0,(O37-P37),\"-\"))","v":"-"},{"$f":"COUNTIF(U37:AD37,\"=TRUE\")","v":0},{"$f":"AE$1-R37","v":5},{"$f":"IF(S37<2,\"Yes\",\"No\")","v":"No"},{"$f":"IF(D37=\"-\",1,0)*U$1","v":1},{"$f":"AND(U37=0,U$1=1)","v":false},{"$f":"IF(F37=\"-\",1,0)*W$1","v":1},{"$f":"AND(W37=0,W$1=1)","v":false},{"$f":"IF(H37=\"-\",1,0)*Y$1","v":1},{"$f":"AND(Y37=0,Y$1=1)","v":false},{"$f":"IF(J37=\"-\",1,0)*AA$1","v":1},{"$f":"AND(AA37=0,AA$1=1)","v":false},{"$f":"IF(L37=\"-\",1,0)*AC$1","v":1},{"$f":"AND(AC37=0,AC$1=1)","v":false}]
[66,null,"-","-",{"$f":"IF(D38=\"-\",0,D38)","v":0},"-",{"$f":"IF(F38=\"-\",0,F38)","v":0},"-",{"$f":"IF(H38=\"-\",0,H38)","v":0},"-",{"$f":"IF(J38=\"-\",0,J38)","v":0},"-",{"$f":"IF(L38=\"-\",0,L38)","v":0},null,{"$f":"E38+G38+I38+K38+M38","v":0},{"$f":"MAX(D38,F38,H38,J38,L38)","v":0},{"$f":"IF(S38=1,O38,IF(S38=0,(O38-P38),\"-\"))","v":"-"},{"$f":"COUNTIF(U38:AD38,\"=TRUE\")","v":0},{"$f":"AE$1-R38","v":5},{"$f":"IF(S38<2,\"Yes\",\"No\")","v":"No"},{"$f":"IF(D38=\"-\",1,0)*U$1","v":1},{"$f":"AND(U38=0,U$1=1)","v":false},{"$f":"IF(F38=\"-\",1,0)*W$1","v":1},{"$f":"AND(W38=0,W$1=1)","v":false},{"$f":"IF(H38=\"-\",1,0)*Y$1","v":1},{"$f":"AND(Y38=0,Y$1=1)","v":false},{"$f":"IF(J38=\"-\",1,0)*AA$1","v":1},{"$f":"AND(AA38=0,AA$1=1)","v":false},{"$f":"IF(L38=\"-\",1,0)*AC$1","v":1},{"$f":"AND(AC38=0,AC$1=1)","v":false}]
[40,null,"-","-",{"$f":"IF(D39=\"-\",0,D39)","v":0},"-",{"$f":"IF(F39=\"-\",0,F39)","v":0},"-",{"$f":"IF(H39=\"-\",0,H39)","v":0},"-",{"$f":"IF(J39=\"-\",0,J39)","v":0},"-",{"$f":"IF(L39=\"-\",0,L39)","v":0},null,{"$f":"E39+G39+I39+K39+M39","v":0},{"$f":"MAX(D39,F39,H39,J39,L39)","v":0},{"$f":"IF(S39=1,O39,IF(S39=0,(O39-P39),\"-\"))","v":"-"},{"$f":"COUNTIF(U39:AD39,\"=TRUE\")","v":0},{"$f":"AE$1-R39","v":5},{"$f":"IF(S39<2,\"Yes\",\"No\")","v":"No"},{"$f":"IF(D39=\"-\",1,0)*U$1","v":1},{"$f":"AND(U39=0,U$1=1)","v":false},{"$f":"IF(F39=\"-\",1,0)*W$1","v":1},{"$f":"AND(W39=0,W$1=1)","v":false},{"$f":"IF(H39=\"-\",1,0)*Y$1","v":1},{"$f":"AND(Y39=0,Y$1=1)","v":false},{"$f":"IF(J39=\"-\",1,0)*AA$1","v":1},{"$f":"AND(AA39=0,AA$1=1)","v":false},{"$f":"IF(L39=\"-\",1,0)*AC$1","v":1},{"$f":"AND(AC39=0,AC$1=1)","v":false}]
[80,null,"-","-",{"$f":"IF(D40=\"-\",0,D40)","v":0},"-",{"$f":"IF(F40=\"-\",0,F40)","v":0},"-",{"$f":"IF(H40=\"-\",0,H40)","v":0},"-",{"$f":"IF(J40=\"-\",0,J40)","v":0},"-",{"$f":"IF(L40=\"-\",0,L40)","v":0},null,{"$f":"E40+G40+I40+K40+M40","v":0},{"$f":"MAX(D40,F40,H40,J40,L40)","v":0},{"$f":"IF(S40=1,O40,IF(S40=0,(O40-P40),\"-\"))","v":"-"},{"$f":"COUNTIF(U40:AD40,\"=TRUE\")","v":0},{"$f":"AE$1-R40","v":5},{"$f":"IF(S40<2,\"Yes\",\"No\")","v":"No"},{"$f":"IF(D40=\"-\",1,0)*U$1","v":1},{"$f":"AND(U40=0,U$1=1)","v":false},{"$f":"IF(F40=\"-\",1,0)*W$1","v":1},{"$f":"AND(W40=0,W$1=1)","v":false},{"$f":"IF(H40=\"-\",1,0)*Y$1","v":1},{"$f":"AND(Y40=0,Y$1=1)","v":false},{"$f":"IF(J40=\"-\",1,0)*AA$1","v":1},{"$f":"AND(AA40=0,AA$1=1)","v":false},{"$f":"IF(L40=\"-\",1,0)*AC$1","v":1},{"$f":"AND(AC40=0,AC$1=1)","v":false}]
[81,null,"-","-",{"$f":"IF(D41=\"-\",0,D41)","v":0},"-",{"$f":"IF(F41=\"-\",0,F41)","v":0},"-",{"$f":"IF(H41=\"-\",0,H41)","v":0},"-",{"$f":"IF(J41=\"-\",0,J41)","v":0},"-",{"$f":"IF(L41=\"-\",0,L41)","v":0},null,{"$f":"E41+G41+I41+K41+M41","v":0},{"$f":"MAX(D41,F41,H41,J41,L41)","v":0},{"$f":"IF(S41=1,O41,IF(S41=0,(O41-P41),\"-\"))","v":"-"},{"$f":"COUNTIF(U41:AD41,\"=TRUE\")","v":0},{"$f":"AE$1-R41","v":5},{"$f":"IF(S41<2,\"Yes\",\"No\")","v":"No"},{"$f":"IF(D41=\"-\",1,0)*U$1","v":1},{"$f":"AND(U41=0,U$1=1)","v":false},{"$f":"IF(F41=\"-\",1,0)*W$1","v":1},{"$f":"AND(W41=0,W$1=1)","v":false},{"$f":"IF(H41=\"-\",1,0)*Y$1","v":1},{"$f":"AND(Y41=0,Y$1=1)","v":false},{"$f":"IF(J41=\"-\",1,0)*AA$1","v":1},{"$f":"AND(AA41=0,AA$1=1)","v":false},{"$f":"IF(L41=\"-\",1,0)*AC$1","v":1},{"$f":"AND(AC41=0,AC$1=1)","v":false}]
[67,null,"-","-",{"$f":"IF(D42=\"-\",0,D42)","v":0},"-",{"$f":"IF(F42=\"-\",0,F42)","v":0},"-",{"$f":"IF(H42=\"-\",0,H42)","v":0},"-",{"$f":"IF(J42=\"-\",0,J42)","v":0},"-",{"$f":"IF(L42=\"-\",0,L42)","v":0},null,{"$f":"E42+G42+I42+K42+M42","v":0},{"$f":"MAX(D42,F42,H42,J42,L42)","v":0},{"$f":"IF(S42=1,O42,IF(S42=0,(O42-P42),\"-\"))","v":"-"},{"$f":"COUNTIF(U42:AD42,\"=TRUE\")","v":0},{"$f":"AE$1-R42","v":5},{"$f":"IF(S42<2,\"Yes\",\"No\")","v":"No"},{"$f":"IF(D42=\"-\",1,0)*U$1","v":1},{"$f":"AND(U42=0,U$1=1)","v":false},{"$f":"IF(F42=\"-\",1,0)*W$1","v":1},{"$f":"AND(W42=0,W$1=1)","v":false},{"$f":"IF(H42=\"-\",1,0)*Y$1","v":1},{"$f":"AND(Y42=0,Y$1=1)","v":false},{"$f":"IF(J42=\"-\",1,0)*AA$1","v":1},{"$f":"AND(AA42=0,AA$1=1)","v":false},{"$f":"IF(L42=\"-\",1,0)*AC$1","v":1},{"$f":"AND(AC42=0,AC$1=1)","v":false}]
[39,null,"-","-",{"$f":"IF(D43=\"-\",0,D43)","v":0},"-",{"$f":"IF(F43=\"-\",0,F43)","v":0},"-",{"$f":"IF(H43=\"-\",0,H43)","v":0},"-",{"$f":"IF(J43=\"-\",0,J43)","v":0},"-",{"$f":"IF(L43=\"-\",0,L43)","v":0},null,{"$f":"E43+G43+I43+K43+M43","v":0},{"$f":"MAX(D43,F43,H43,J43,L43)","v":0},{"$f":"IF(S43=1,O43,IF(S43=0,(O43-P43),\"-\"))","v":"-"},{"$f":"COUNTIF(U43:AD43,\"=TRUE\")","v":0},{"$f":"AE$1-R43","v":5},{"$f":"IF(S43<2,\"Yes\",\"No\")","v":"No"},{"$f":"IF(D43=\"-\",1,0)*U$1","v":1},{"$f":"AND(U43=0,U$1=1)","v":false},{"$f":"IF(F43=\"-\",1,0)*W$1","v":1},{"$f":"AND(W43=0,W$1=1)","v":false},{"$f":"IF(H43=\"-\",1,0)*Y$1","v":1},{"$f":"AND(Y43=0,Y$1=1)","v":false},{"$f":"IF(J43=\"-\",1,0)*AA$1","v":1},{"$f":"AND(AA43=0,AA$1=1)","v":false},{"$f":"IF(L43=\"-\",1,0)*AC$1","v":1},{"$f":"AND(AC43=0,AC$1=1)","v":false}]
[37,null,"-","-",{"$f":"IF(D44=\"-\",0,D44)","v":0},"-",{"$f":"IF(F44=\"-\",0,F44)","v":0},"-",{"$f":"IF(H44=\"-\",0,H44)","v":0},"-",{"$f":"IF(J44=\"-\",0,J44)","v":0},"-",{"$f":"IF(L44=\"-\",0,L44)","v":0},null,{"$f":"E44+G44+I44+K44+M44","v":0},{"$f":"MAX(D44,F44,H44,J44,L44)","v":0},{"$f":"IF(S44=1,O44,IF(S44=0,(O44-P44),\"-\"))","v":"-"},{"$f":"COUNTIF(U44:AD44,\"=TRUE\")","v":0},{"$f":"AE$1-R44","v":5},{"$f":"IF(S44<2,\"Yes\",\"No\")","v":"No"},{"$f":"IF(D44=\"-\",1,0)*U$1","v":1},{"$f":"AND(U44=0,U$1=1)","v":false},{"$f":"IF(F44=\"-\",1,0)*W$1","v":1},{"$f":"AND(W44=0,W$1=1)","v":false},{"$f":"IF(H44=\"-\",1,0)*Y$1","v":1},{"$f":"AND(Y44=0,Y$1=1)","v":false},{"$f":"IF(J44=\"-\",1,0)*AA$1","v":1},{"$f":"AND(AA44=0,AA$1=1)","v":false},{"$f":"IF(L44=\"-\",1,0)*AC$1","v":1},{"$f":"AND(AC44=0,AC$1=1)","v":false}]
[46,null,"-","-",{"$f":"IF(D45=\"-\",0,D45)","v":0},"-",{"$f":"IF(F45=\"-\",0,F45)","v":0},"-",{"$f":"IF(H45=\"-\",0,H45)","v":0},"-",{"$f":"IF(J45=\"-\",0,J45)","v":0},"-",{"$f":"IF(L45=\"-\",0,L45)","v":0},null,{"$f":"E45+G45+I45+K45+M45","v":0},{"$f":"MAX(D45,F45,H45,J45,L45)","v":0},{"$f":"IF(S45=1,O45,IF(S45=0,(O45-P45),\"-\"))","v":"-"},{"$f":"COUNTIF(U45:AD45,\"=TRUE\")","v":0},{"$f":"AE$1-R45","v":5},{"$f":"IF(S45<2,\"Yes\",\"No\")","v":"No"},{"$f":"IF(D45=\"-\",1,0)*U$1","v":1},{"$f":"AND(U45=0,U$1=1)","v":false},{"$f":"IF(F45=\"-\",1,0)*W$1","v":1},{"$f":"AND(W45=0,W$1=1)","v":false},{"$f":"IF(H45=\"-\",1,0)*Y$1","v":1},{"$f":"AND(Y45=0,Y$1=1)","v":false},{"$f":"IF(J45=\"-\",1,0)*AA$1","v":1},{"$f":"AND(AA45=0,AA$1=1)","v":false},{"$f":"IF(L45=\"-\",1,0)*AC$1","v":1},{"$f":"AND(AC45=0,AC$1=1)","v":false}]
[55,null,"-","-",{"$f":"IF(D46=\"-\",0,D46)","v":0},"-",{"$f":"IF(F46=\"-\",0,F46)","v":0},"-",{"$f":"IF(H46=\"-\",0,H46)","v":0},"-",{"$f":"IF(J46=\"-\",0,J46)","v":0},"-",{"$f":"IF(L46=\"-\",0,L46)","v":0},null,{"$f":"E46+G46+I46+K46+M46","v":0},{"$f":"MAX(D46,F46,H46,J46,L46)","v":0},{"$f":"IF(S46=1,O46,IF(S46=0,(O46-P46),\"-\"))","v":"-"},{"$f":"COUNTIF(U46:AD46,\"=TRUE\")","v":0},{"$f":"AE$1-R46","v":5},{"$f":"IF(S46<2,\"Yes\",\"No\")","v":"No"},{"$f":"IF(D46=\"-\",1,0)*U$1","v":1},{"$f":"AND(U46=0,U$1=1)","v":false},{"$f":"IF(F46=\"-\",1,0)*W$1","v":1},{"$f":"AND(W46=0,W$1=1)","v":false},{"$f":"IF(H46=\"-\",1,0)*Y$1","v":1},{"$f":"AND(Y46=0,Y$1=1)","v":false},{"$f":"IF(J46=\"-\",1,0)*AA$1","v":1},{"$f":"AND(AA46=0,AA$1=1)","v":false},{"$f":"IF(L46=\"-\",1,0)*AC$1","v":1},{"$f":"AND(AC46=0,AC$1=1)","v":false}]
[6,null,"-","-",{"$f":"IF(D47=\"-\",0,D47)","v":0},"-",{"$f":"IF(F47=\"-\",0,F47)","v":0},"-",{"$f":"IF(H47=\"-\",0,H47)","v":0},"-",{"$f":"IF(J47=\"-\",0,J47)","v":0},"-",{"$f":"IF(L47=\"-\",0,L47)","v":0},null,{"$f":"E47+G47+I47+K47+M47","v":0},{"$f":"MAX(D47,F47,H47,J47,L47)","v":0},{"$f":"IF(S47=1,O47,IF(S47=0,(O47-P47),\"-\"))","v":"-"},{"$f":"COUNTIF(U47:AD47,\"=TRUE\")","v":0},{"$f":"AE$1-R47","v":5},{"$f":"IF(S47<2,\"Yes\",\"No\")","v":"No"},{"$f":"IF(D47=\"-\",1,0)*U$1","v":1},{"$f":"AND(U47=0,U$1=1)","v":false},{"$f":"IF(F47=\"-\",1,0)*W$1","v":1},{"$f":"AND(W47=0,W$1=1)","v":false},{"$f":"IF(H47=\"-\",1,0)*Y$1","v":1},{"$f":"AND(Y47=0,Y$1=1)","v":false},{"$f":"IF(J47=\"-\",1,0)*AA$1","v":1},{"$f":"AND(AA47=0,AA$1=1)","v":false},{"$f":"IF(L47=\"-\",1,0)*AC$1","v":1},{"$f":"AND(AC47=0,AC$1=1)","v":false}]
[3,null,"-","-",{"$f":"IF(D48=\"-\",0,D48)","v":0},"-",{"$f":"IF(F48=\"-\",0,F48)","v":0},"-",{"$f":"IF(H48=\"-\",0,H48)","v":0},"-",{"$f":"IF(J48=\"-\",0,J48)","v":0},"-",{"$f":"IF(L48=\"-\",0,L48)","v":0},null,{"$f":"E48+G48+I48+K48+M48","v":0},{"$f":"MAX(D48,F48,H48,J48,L48)","v":0},{"$f":"IF(S48=1,O48,IF(S48=0,(O48-P48),\"-\"))","v":"-"},{"$f":"COUNTIF(U48:AD48,\"=TRUE\")","v":0},{"$f":"AE$1-R48","v":5},{"$f":"IF(S48<2,\"Yes\",\"No\")","v":"No"},{"$f":"IF(D48=\"-\",1,0)*U$1","v":1},{"$f":"AND(U48=0,U$1=1)","v":false},{"$f":"IF(F48=\"-\",1,0)*W$1","v":1},{"$f":"AND(W48=0,W$1=1)","v":false},{"$f":"IF(H48=\"-\",1,0)*Y$1","v":1},{"$f":"AND(Y48=0,Y$1=1)","v":false},{"$f":"IF(J48=\"-\",1,0)*AA$1","v":1},{"$f":"AND(AA48=0,AA$1=1)","v":false},{"$f":"IF(L48=\"-\",1,0)*AC$1","v":1},{"$f":"AND(AC48=0,AC$1=1)","v":false}]
[57,null,"-","-",{"$f":"IF(D49=\"-\",0,D49)","v":0},"-",{"$f":"IF(F49=\"-\",0,F49)","v":0},"-",{"$f":"IF(H49=\"-\",0,H49)","v":0},"-",{"$f":"IF(J49=\"-\",0,J49)","v":0},"-",{"$f":"IF(L49=\"-\",0,L49)","v":0},null,{"$f":"E49+G49+I49+K49+M49","v":0},{"$f":"MAX(D49,F49,H49,J49,L49)","v":0},{"$f":"IF(S49=1,O49,IF(S49=0,(O49-P49),\"-\"))","v":"-"},{"$f":"COUNTIF(U49:AD49,\"=TRUE\")","v":0},{"$f":"AE$1-R49","v":5},{"$f":"IF(S49<2,\"Yes\",\"No\")","v":"No"},{"$f":"IF(D49=\"-\",1,0)*U$1","v":1},{"$f":"AND(U49=0,U$1=1)","v":false},{"$f":"IF(F49=\"-\",1,0)*W$1","v":1},{"$f":"AND(W49=0,W$1=1)","v":false},{"$f":"IF(H49=\"-\",1,0)*Y$1","v":1},{"$f":"AND(Y49=0,Y$1=1)","v":false},{"$f":"IF(J49=\"-\",1,0)*AA$1","v":1},{"$f":"AND(AA49=0,AA$1=1)","v":false},{"$f":"IF(L49=\"-\",1,0)*AC$1","v":1},{"$f":"AND(AC49=0,AC$1=1)","v":false}]
[9,null,"-","-",{"$f":"IF(D50=\"-\",0,D50)","v":0},"-",{"$f":"IF(F50=\"-\",0,F50)","v":0},"-",{"$f":"IF(H50=\"-\",0,H50)","v":0},"-",{"$f":"IF(J50=\"-\",0,J50)","v":0},"-",{"$f":"IF(L50=\"-\",0,L50)","v":0},null,{"$f":"E50+G50+I50+K50+M50","v":0},{"$f":"MAX(D50,F50,H50,J50,L50)","v":0},{"$f":"IF(S50=1,O50,IF(S50=0,(O50-P50),\"-\"))","v":"-"},{"$f":"COUNTIF(U50:AD50,\"=TRUE\")","v":0},{"$f":"AE$1-R50","v":5},{"$f":"IF(S50<2,\"Yes\",\"No\")","v":"No"},{"$f":"IF(D50=\"-\",1,0)*U$1","v":1},{"$f":"AND(U50=0,U$1=1)","v":false},{"$f":"IF(F50=\"-\",1,0)*W$1","v":1},{"$f":"AND(W50=0,W$1=1)","v":false},{"$f":"IF(H50=\"-\",1,0)*Y$1","v":1},{"$f":"AND(Y50=0,Y$1=1)","v":false},{"$f":"IF(J50=\"-\",1,0)*AA$1","v":1},{"$f":"AND(AA50=0,AA$1=1)","v":false},{"$f":"IF(L50=\"-\",1,0)*AC$1","v":1},{"$f":"AND(AC50=0,AC$1=1)","v":false}]
[71,null,"-","-",{"$f":"IF(D51=\"-\",0,D51)","v":0},"-",{"$f":"IF(F51=\"-\",0,F51)","v":0},"-",{"$f":"IF(H51=\"-\",0,H51)","v":0},"-",{"$f":"IF(J51=\"-\",0,J51)","v":0},"-",{"$f":"IF(L51=\"-\",0,L51)","v":0},null,{"$f":"E51+G51+I51+K51+M51","v":0},{"$f":"MAX(D51,F51,H51,J51,L51)","v":0},{"$f":"IF(S51=1,O51,IF(S51=0,(O51-P51),\"-\"))","v":"-"},{"$f":"COUNTIF(U51:AD51,\"=TRUE\")","v":0},{"$f":"AE$1-R51","v":5},{"$f":"IF(S51<2,\"Yes\",\"No\")","v":"No"},{"$f":"IF(D51=\"-\",1,0)*U$1","v":1},{"$f":"AND(U51=0,U$1=1)","v":false},{"$f":"IF(F51=\"-\",1,0)*W$1","v":1},{"$f":"AND(W51=0,W$1=1)","v":false},{"$f":"IF(H51=\"-\",1,0)*Y$1","v":1},{"$f":"AND(Y51=0,Y$1=1)","v":false},{"$f":"IF(J51=\"-\",1,0)*AA$1","v":1},{"$f":"AND(AA51=0,AA$1=1)","v":false},{"$f":"IF(L51=\"-\",1,0)*AC$1","v":1},{"$f":"AND(AC51=0,AC$1=1)","v":false}]
[64,null,"-","-",{"$f":"IF(D52=\"-\",0,D52)","v":0},"-",{"$f":"IF(F52=\"-\",0,F52)","v":0},"-",{"$f":"IF(H52=\"-\",0,H52)","v":0},"-",{"$f":"IF(J52=\"-\",0,J52)","v":0},"-",{"$f":"IF(L52=\"-\",0,L52)","v":0},null,{"$f":"E52+G52+I52+K52+M52","v":0},{"$f":"MAX(D52,F52,H52,J52,L52)","v":0},{"$f":"IF(S52=1,O52,IF(S52=0,(O52-P52),\"-\"))","v":"-"},{"$f":"COUNTIF(U52:AD52,\"=TRUE\")","v":0},{"$f":"AE$1-R52","v":5},{"$f":"IF(S52<2,\"Yes\",\"No\")","v":"No"},{"$f":"IF(D52=\"-\",1,0)*U$1","v":1},{"$f":"AND(U52=0,U$1=1)","v":false},{"$f":"IF(F52=\"-\",1,0)*W$1","v":1},{"$f":"AND(W52=0,W$1=1)","v":false},{"$f":"IF(H52=\"-\",1,0)*Y$1","v":1},{"$f":"AND(Y52=0,Y$1=1)","v":false},{"$f":"IF(J52=\"-\",1,0)*AA$1","v":1},{"$f":"AND(AA52=0,AA$1=1)","v":false},{"$f":"IF(L52=\"-\",1,0)*AC$1","v":1},{"$f":"AND(AC52=0,AC$1=1)","v":false}]
[72,null,"-","-",{"$f":"IF(D53=\"-\",0,D53)","v":0},"-",{"$f":"IF(F53=\"-\",0,F53)","v":0},"-",{"$f":"IF(H53=\"-\",0,H53)","v":0},"-",{"$f":"IF(J53=\"-\",0,J53)","v":0},"-",{"$f":"IF(L53=\"-\",0,L53)","v":0},null,{"$f":"E53+G53+I53+K53+M53","v":0},{"$f":"MAX(D53,F53,H53,J53,L53)","v":0},{"$f":"IF(S53=1,O53,IF(S53=0,(O53-P53),\"-\"))","v":"-"},{"$f":"COUNTIF(U53:AD53,\"=TRUE\")","v":0},{"$f":"AE$1-R53","v":5},{"$f":"IF(S53<2,\"Yes\",\"No\")","v":"No"},{"$f":"IF(D53=\"-\",1,0)*U$1","v":1},{"$f":"AND(U53=0,U$1=1)","v":false},{"$f":"IF(F53=\"-\",1,0)*W$1","v":1},{"$f":"AND(W53=0,W$1=1)","v":false},{"$f":"IF(H53=\"-\",1,0)*Y$1","v":1},{"$f":"AND(Y53=0,Y$1=1)","v":false},{"$f":"IF(J53=\"-\",1,0)*AA$1","v":1},{"$f":"AND(AA53=0,AA$1=1)","v":false},{"$f":"IF(L53=\"-\",1,0)*AC$1","v":1},{"$f":"AND(AC53=0,AC$1=1)","v":false}]
[12,null,"-","-",{"$f":"IF(D54=\"-\",0,D54)","v":0},"-",{"$f":"IF(F54=\"-\",0,F54)","v":0},"-",{"$f":"IF(H54=\"-\",0,H54)","v":0},"-",{"$f":"IF(J54=\"-\",0,J54)","v":0},"-",{"$f":"IF(L54=\"-\",0,L54)","v":0},null,{"$f":"E54+G54+I54+K54+M54","v":0},{"$f":"MAX(D54,F54,H54,J54,L54)","v":0},{"$f":"IF(S54=1,O54,IF(S54=0,(O54-P54),\"-\"))","v":"-"},{"$f":"COUNTIF(U54:AD54,\"=TRUE\")","v":0},{"$f":"AE$1-R54","v":5},{"$f":"IF(S54<2,\"Yes\",\"No\")","v":"No"},{"$f":"IF(D54=\"-\",1,0)*U$1","v":1},{"$f":"AND(U54=0,U$1=1)","v":false},{"$f":"IF(F54=\"-\",1,0)*W$1","v":1},{"$f":"AND(W54=0,W$1=1)","v":false},{"$f":"IF(H54=\"-\",1,0)*Y$1","v":1},{"$f":"AND(Y54=0,Y$1=1)","v":false},{"$f":"IF(J54=\"-\",1,0)*AA$1","v":1},{"$f":"AND(AA54=0,AA$1=1)","v":false},{"$f":"IF(L54=\"-\",1,0)*AC$1","v":1},{"$f":"AND(AC54=0,AC$1=1)","v":false}]
[27,null,"-","-",{"$f":"IF(D55=\"-\",0,D55)","v":0},"-",{"$f":"IF(F55=\"-\",0,F55)","v":0},"-",{"$f":"IF(H55=\"-\",0,H55)","v":0},"-",{"$f":"IF(J55=\"-\",0,J55)","v":0},"-",{"$f":"IF(L55=\"-\",0,L55)","v":0},null,{"$f":"E55+G55+I55+K55+M55","v":0},{"$f":"MAX(D55,F55,H55,J55,L55)","v":0},{"$f":"IF(S55=1,O55,IF(S55=0,(O55-P55),\"-\"))","v":"-"},{"$f":"COUNTIF(U55:AD55,\"=TRUE\")","v":0},{"$f":"AE$1-R55","v":5},{"$f":"IF(S55<2,\"Yes\",\"No\")","v":"No"},{"$f":"IF(D55=\"-\",1,0)*U$1","v":1},{"$f":"AND(U55=0,U$1=1)","v":false},{"$f":"IF(F55=\"-\",1,0)*W$1","v":1},{"$f":"AND(W55=0,W$1=1)","v":false},{"$f":"IF(H55=\"-\",1,0)*Y$1","v":1},{"$f":"AND(Y55=0,Y$1=1)","v":false},{"$f":"IF(J55=\"-\",1,0)*AA$1","v":1},{"$f":"AND(AA55=0,AA$1=1)","v":false},{"$f":"IF(L55=\"-\",1,0)*AC$1","v":1},{"$f":"AND(AC55=0,AC$1=1)","v":false}]
[23,null,"-","-",{"$f":"IF(D56=\"-\",0,D56)","v":0},"-",{"$f":"IF(F56=\"-\",0,F56)","v":0},"-",{"$f":"IF(H56=\"-\",0,H56)","v":0},"-",{"$f":"IF(J56=\"-\",0,J56)","v":0},"-",{"$f":"IF(L56=\"-\",0,L56)","v":0},null,{"$f":"E56+G56+I56+K56+M56","v":0},{"$f":"MAX(D56,F56,H56,J56,L56)","v":0},{"$f":"IF(S56=1,O56,IF(S56=0,(O56-P56),\"-\"))","v":"-"},{"$f":"COUNTIF(U56:AD56,\"=TRUE\")","v":0},{"$f":"AE$1-R56","v":5},{"$f":"IF(S56<2,\"Yes\",\"No\")","v":"No"},{"$f":"IF(D56=\"-\",1,0)*U$1","v":1},{"$f":"AND(U56=0,U$1=1)","v":false},{"$f":"IF(F56=\"-\",1,0)*W$1","v":1},{"$f":"AND(W56=0,W$1=1)","v":false},{"$f":"IF(H56=\"-\",1,0)*Y$1","v":1},{"$f":"AND(Y56=0,Y$1=1)","v":false},{"$f":"IF(J56=\"-\",1,0)*AA$1","v":1},{"$f":"AND(AA56=0,AA$1=1)","v":false},{"$f":"IF(L56=\"-\",1,0)*AC$1","v":1},{"$f":"AND(AC56=0,AC$1=1)","v":false}]
[30,null,"-","-",{"$f":"IF(D57=\"-\",0,D57)","v":0},"-",{"$f":"IF(F57=\"-\",0,F57)","v":0},"-",{"$f":"IF(H57=\"-\",0,H57)","v":0},"-",{"$f":"IF(J57=\"-\",0,J57)","v":0},"-",{"$f":"IF(L57=\"-\",0,L57)","v":0},null,{"$f":"E57+G57+I57+K57+M57","v":0},{"$f":"MAX(D57,F57,H57,J57,L57)","v":0},{"$f":"IF(S57=1,O57,IF(S57=0,(O57-P57),\"-\"))","v":"-"},{"$f":"COUNTIF(U57:AD57,\"=TRUE\")","v":0},{"$f":"AE$1-R57","v":5},{"$f":"IF(S57<2,\"Yes\",\"No\")","v":"No"},{"$f":"IF(D57=\"-\",1,0)*U$1","v":1},{"$f":"AND(U57=0,U$1=1)","v":false},{"$f":"IF(F57=\"-\",1,0)*W$1","v":1},{"$f":"AND(W57=0,W$1=1)","v":false},{"$f":"IF(H57=\"-\",1,0)*Y$1","v":1},{"$f":"AND(Y57=0,Y$1=1)","v":false},{"$f":"IF(J57=\"-\",1,0)*AA$1","v":1},{"$f":"AND(AA57=0,AA$1=1)","v":false},{"$f":"IF(L57=\"-\",1,0)*AC$1","v":1},{"$f":"AND(AC57=0,AC$1=1)","v":false}]
[18,null,"-","-",{"$f":"IF(D58=\"-\",0,D58)","v":0},"-",{"$f":"IF(F58=\"-\",0,F58)","v":0},"-",{"$f":"IF(H58=\"-\",0,H58)","v":0},"-",{"$f":"IF(J58=\"-\",0,J58)","v":0},"-",{"$f":"IF(L58=\"-\",0,L58)","v":0},null,{"$f":"E58+G58+I58+K58+M58","v":0},{"$f":"MAX(D58,F58,H58,J58,L58)","v":0},{"$f":"IF(S58=1,O58,IF(S58=0,(O58-P58),\"-\"))","v":"-"},{"$f":"COUNTIF(U58:AD58,\"=TRUE\")","v":0},{"$f":"AE$1-R58","v":5},{"$f":"IF(S58<2,\"Yes\",\"No\")","v":"No"},{"$f":"IF(D58=\"-\",1,0)*U$1","v":1},{"$f":"AND(U58=0,U$1=1)","v":false},{"$f":"IF(F58=\"-\",1,0)*W$1","v":1},{"$f":"AND(W58=0,W$1=1)","v":false},{"$f":"IF(H58=\"-\",1,0)*Y$1","v":1},{"$f":"AND(Y58=0,Y$1=1)","v":false},{"$f":"IF(J58=\"-\",1,0)*AA$1","v":1},{"$f":"AND(AA58=0,AA$1=1)","v":false},{"$f":"IF(L58=\"-\",1,0)*AC$1","v":1},{"$f":"AND(AC58=0,AC$1=1)","v":false}]
[60,null,"-","-",{"$f":"IF(D59=\"-\",0,D59)","v":0},"-",{"$f":"IF(F59=\"-\",0,F59)","v":0},"-",{"$f":"IF(H59=\"-\",0,H59)","v":0},"-",{"$f":"IF(J59=\"-\",0,J59)","v":0},"-",{"$f":"IF(L59=\"-\",0,L59)","v":0},null,{"$f":"E59+G59+I59+K59+M59","v":0},{"$f":"MAX(D59,F59,H59,J59,L59)","v":0},{"$f":"IF(S59=1,O59,IF(S59=0,(O59-P59),\"-\"))","v":"-"},{"$f":"COUNTIF(U59:AD59,\"=TRUE\")","v":0},{"$f":"AE$1-R59","v":5},{"$f":"IF(S59<2,\"Yes\",\"No\")","v":"No"},{"$f":"IF(D59=\"-\",1,0)*U$1","v":1},{"$f":"AND(U59=0,U$1=1)","v":false},{"$f":"IF(F59=\"-\",1,0)*W$1","v":1},{"$f":"AND(W59=0,W$1=1)","v":false},{"$f":"IF(H59=\"-\",1,0)*Y$1","v":1},{"$f":"AND(Y59=0,Y$1=1)","v":false},{"$f":"IF(J59=\"-\",1,0)*AA$1","v":1},{"$f":"AND(AA59=0,AA$1=1)","v":false},{"$f":"IF(L59=\"-\",1,0)*AC$1","v":1},{"$f":"AND(AC59=0,AC$1=1)","v":false}]
[59,null,"-","-",{"$f":"IF(D60=\"-\",0,D60)","v":0},"-",{"$f":"IF(F60=\"-\",0,F60)","v":0},"-",{"$f":"IF(H60=\"-\",0,H60)","v":0},"-",{"$f":"IF(J60=\"-\",0,J60)","v":0},"-",{"$f":"IF(L60=\"-\",0,L60)","v":0},null,{"$f":"E60+G60+I60+K60+M60","v":0},{"$f":"MAX(D60,F60,H60,J60,L60)","v":0},{"$f":"IF(S60=1,O60,IF(S60=0,(O60-P60),\"-\"))","v":"-"},{"$f":"COUNTIF(U60:AD60,\"=TRUE\")","v":0},{"$f":"AE$1-R60","v":5},{"$f":"IF(S60<2,\"Yes\",\"No\")","v":"No"},{"$f":"IF(D60=\"-\",1,0)*U$1","v":1},{"$f":"AND(U60=0,U$1=1)","v":false},{"$f":"IF(F60=\"-\",1,0)*W$1","v":1},{"$f":"AND(W60=0,W$1=1)","v":false},{"$f":"IF(H60=\"-\",1,0)*Y$1","v":1},{"$f":"AND(Y60=0,Y$1=1)","v":false},{"$f":"IF(J60=\"-\",1,0)*AA$1","v":1},{"$f":"AND(AA60=0,AA$1=1)","v":false},{"$f":"IF(L60=\"-\",1,0)*AC$1","v":1},{"$f":"AND(AC60=0,AC$1=1)","v":false}]
[15,null,"-","-",{"$f":"IF(D61=\"-\",0,D61)","v":0},"-",{"$f":"IF(F61=\"-\",0,F61)","v":0},"-",{"$f":"IF(H61=\"-\",0,H61)","v":0},"-",{"$f":"IF(J61=\"-\",0,J61)","v":0},"-",{"$f":"IF(L61=\"-\",0,L61)","v":0},null,{"$f":"E61+G61+I61+K61+M61","v":0},{"$f":"MAX(D61,F61,H61,J61,L61)","v":0},{"$f":"IF(S61=1,O61,IF(S61=0,(O61-P61),\"-\"))","v":"-"},{"$f":"COUNTIF(U61:AD61,\"=TRUE\")","v":0},{"$f":"AE$1-R61","v":5},{"$f":"IF(S61<2,\"Yes\",\"No\")","v":"No"},{"$f":"IF(D61=\"-\",1,0)*U$1","v":1},{"$f":"AND(U61=0,U$1=1)","v":false},{"$f":"IF(F61=\"-\",1,0)*W$1","v":1},{"$f":"AND(W61=0,W$1=1)","v":false},{"$f":"IF(H61=\"-\",1,0)*Y$1","v":1},{"$f":"AND(Y61=0,Y$1=1)","v":false},{"$f":"IF(J61=\"-\",1,0)*AA$1","v":1},{"$f":"AND(AA61=0,AA$1=1)","v":false},{"$f":"IF(L61=\"-\",1,0)*AC$1","v":1},{"$f":"AND(AC61=0,AC$1=1)","v":false}]
[21,null,"-","-",{"$f":"IF(D62=\"-\",0,D62)","v":0},"-",{"$f":"IF(F62=\"-\",0,F62)","v":0},"-",{"$f":"IF(H62=\"-\",0,H62)","v":0},"-",{"$f":"IF(J62=\"-\",0,J62)","v":0},"-",{"$f":"IF(L62=\"-\",0,L62)","v":0},null,{"$f":"E62+G62+I62+K62+M62","v":0},{"$f":"MAX(D62,F62,H62,J62,L62)","v":0},{"$f":"IF(S62=1,O62,IF(S62=0,(O62-P62),\"-\"))","v":"-"},{"$f":"COUNTIF(U62:AD62,\"=TRUE\")","v":0},{"$f":"AE$1-R62","v":5},{"$f":"IF(S62<2,\"Yes\",\"No\")","v":"No"},{"$f":"IF(D62=\"-\",1,0)*U$1","v":1},{"$f":"AND(U62=0,U$1=1)","v":false},{"$f":"IF(F62=\"-\",1,0)*W$1","v":1},{"$f":"AND(W62=0,W$1=1)","v":false},{"$f":"IF(H62=\"-\",1,0)*Y$1","v":1},{"$f":"AND(Y62=0,Y$1=1)","v":false},{"$f":"IF(J62=\"-\",1,0)*AA$1","v":1},{"$f":"AND(AA62=0,AA$1=1)","v":false},{"$f":"IF(L62=\"-\",1,0)*AC$1","v":1},{"$f":"AND(AC62=0,AC$1=1)","v":false}]
[61,null,"-","-",{"$f":"IF(D63=\"-\",0,D63)","v":0},"-",{"$f":"IF(F63=\"-\",0,F63)","v":0},"-",{"$f":"IF(H63=\"-\",0,H63)","v":0},"-",{"$f":"IF(J63=\"-\",0,J63)","v":0},"-",{"$f":"IF(L63=\"-\",0,L63)","v":0},null,{"$f":"E63+G63+I63+K63+M63","v":0},{"$f":"MAX(D63,F63,H63,J63,L63)","v":0},{"$f":"IF(S63=1,O63,IF(S63=0,(O63-P63),\"-\"))","v":"-"},{"$f":"COUNTIF(U63:AD63,\"=TRUE\")","v":0},{"$f":"AE$1-R63","v":5},{"$f":"IF(S63<2,\"Yes\",\"No\")","v":"No"},{"$f":"IF(D63=\"-\",1,0)*U$1","v":1},{"$f":"AND(U63=0,U$1=1)","v":false},{"$f":"IF(F63=\"-\",1,0)*W$1","v":1},{"$f":"AND(W63=0,W$1=1)","v":false},{"$f":"IF(H63=\"-\",1,0)*Y$1","v":1},{"$f":"AND(Y63=0,Y$1=1)","v":false},{"$f":"IF(J63=\"-\",1,0)*AA$1","v":1},{"$f":"AND(AA63=0,AA$1=1)","v":false},{"$f":"IF(L63=\"-\",1,0)*AC$1","v":1},{"$f":"AND(AC63=0,AC$1=1)","v":false}]
[73,null,"-","-",{"$f":"IF(D64=\"-\",0,D64)","v":0},"-",{"$f":"IF(F64=\"-\",0,F64)","v":0},"-",{"$f":"IF(H64=\"-\",0,H64)","v":0},"-",{"$f":"IF(J64=\"-\",0,J64)","v":0},"-",{"$f":"IF(L64=\"-\",0,L64)","v":0},null,{"$f":"E64+G64+I64+K64+M64","v":0},{"$f":"MAX(D64,F64,H64,J64,L64)","v":0},{"$f":"IF(S64=1,O64,IF(S64=0,(O64-P64),\"-\"))","v":"-"},{"$f":"COUNTIF(U64:AD64,\"=TRUE\")","v":0},{"$f":"AE$1-R64","v":5},{"$f":"IF(S64<2,\"Yes\",\"No\")","v":"No"},{"$f":"IF(D64=\"-\",1,0)*U$1","v":1},{"$f":"AND(U64=0,U$1=1)","v":false},{"$f":"IF(F64=\"-\",1,0)*W$1","v":1},{"$f":"AND(W64=0,W$1=1)","v":false},{"$f":"IF(H64=\"-\",1,0)*Y$1","v":1},{"$f":"AND(Y64=0,Y$1=1)","v":false},{"$f":"IF(J64=\"-\",1,0)*AA$1","v":1},{"$f":"AND(AA64=0,AA$1=1)","v":false},{"$f":"IF(L64=\"-\",1,0)*AC$1","v":1},{"$f":"AND(AC64=0,AC$1=1)","v":false}]
[32,null,"-","-",{"$f":"IF(D65=\"-\",0,D65)","v":0},"-",{"$f":"IF(F65=\"-\",0,F65)","v":0},"-",{"$f":"IF(H65=\"-\",0,H65)","v":0},"-",{"$f":"IF(J65=\"-\",0,J65)","v":0},"-",{"$f":"IF(L65=\"-\",0,L65)","v":0},null,{"$f":"E65+G65+I65+K65+M65","v":0},{"$f":"MAX(D65,F65,H65,J65,L65)","v":0},{"$f":"IF(S65=1,O65,IF(S65=0,(O65-P65),\"-\"))","v":"-"},{"$f":"COUNTIF(U65:AD65,\"=TRUE\")","v":0},{"$f":"AE$1-R65","v":5},{"$f":"IF(S65<2,\"Yes\",\"No\")","v":"No"},{"$f":"IF(D65=\"-\",1,0)*U$1","v":1},{"$f":"AND(U65=0,U$1=1)","v":false},{"$f":"IF(F65=\"-\",1,0)*W$1","v":1},{"$f":"AND(W65=0,W$1=1)","v":false},{"$f":"IF(H65=\"-\",1,0)*Y$1","v":1},{"$f":"AND(Y65=0,Y$1=1)","v":false},{"$f":"IF(J65=\"-\",1,0)*AA$1","v":1},{"$f":"AND(AA65=0,AA$1=1)","v":false},{"$f":"IF(L65=\"-\",1,0)*AC$1","v":1},{"$f":"AND(AC65=0,AC$1=1)","v":false}]
[38,null,"-","-",{"$f":"IF(D66=\"-\",0,D66)","v":0},"-",{"$f":"IF(F66=\"-\",0,F66)","v":0},"-",{"$f":"IF(H66=\"-\",0,H66)","v":0},"-",{"$f":"IF(J66=\"-\",0,J66)","v":0},"-",{"$f":"IF(L66=\"-\",0,L66)","v":0},null,{"$f":"E66+G66+I66+K66+M66","v":0},{"$f":"MAX(D66,F66,H66,J66,L66)","v":0},{"$f":"IF(S66=1,O66,IF(S66=0,(O66-P66),\"-\"))","v":"-"},{"$f":"COUNTIF(U66:AD66,\"=TRUE\")","v":0},{"$f":"AE$1-R66","v":5},{"$f":"IF(S66<2,\"Yes\",\"No\")","v":"No"},{"$f":"IF(D66=\"-\",1,0)*U$1","v":1},{"$f":"AND(U66=0,U$1=1)","v":false},{"$f":"IF(F66=\"-\",1,0)*W$1","v":1},{"$f":"AND(W66=0,W$1=1)","v":false},{"$f":"IF(H66=\"-\",1,0)*Y$1","v":1},{"$f":"AND(Y66=0,Y$1=1)","v":false},{"$f":"IF(J66=\"-\",1,0)*AA$1","v":1},{"$f":"AND(AA66=0,AA$1=1)","v":false},{"$f":"IF(L66=\"-\",1,0)*AC$1","v":1},{"$f":"AND(AC66=0,AC$1=1)","v":false}]
[41,null,"-","-",{"$f":"IF(D67=\"-\",0,D67)","v":0},"-",{"$f":"IF(F67=\"-\",0,F67)","v":0},"-",{"$f":"IF(H67=\"-\",0,H67)","v":0},"-",{"$f":"IF(J67=\"-\",0,J67)","v":0},"-",{"$f":"IF(L67=\"-\",0,L67)","v":0},null,{"$f":"E67+G67+I67+K67+M67","v":0},{"$f":"MAX(D67,F67,H67,J67,L67)","v":0},{"$f":"IF(S67=1,O67,IF(S67=0,(O67-P67),\"-\"))","v":"-"},{"$f":"COUNTIF(U67:AD67,\"=TRUE\")","v":0},{"$f":"AE$1-R67","v":5},{"$f":"IF(S67<2,\"Yes\",\"No\")","v":"No"},{"$f":"IF(D67=\"-\",1,0)*U$1","v":1},{"$f":"AND(U67=0,U$1=1)","v":false},{"$f":"IF(F67=\"-\",1,0)*W$1","v":1},{"$f":"AND(W67=0,W$1=1)","v":false},{"$f":"IF(H67=\"-\",1,0)*Y$1","v":1},{"$f":"AND(Y67=0,Y$1=1)","v":false},{"$f":"IF(J67=\"-\",1,0)*AA$1","v":1},{"$f":"AND(AA67=0,AA$1=1)","v":false},{"$f":"IF(L67=\"-\",1,0)*AC$1","v":1},{"$f":"AND(AC67=0,AC$1=1)","v":false}]
[47,null,"-","-",{"$f":"IF(D68=\"-\",0,D68)","v":0},"-",{"$f":"IF(F68=\"-\",0,F68)","v":0},"-",{"$f":"IF(H68=\"-\",0,H68)","v":0},"-",{"$f":"IF(J68=\"-\",0,J68)","v":0},"-",{"$f":"IF(L68=\"-\",0,L68)","v":0},null,{"$f":"E68+G68+I68+K68+M68","v":0},{"$f":"MAX(D68,F68,H68,J68,L68)","v":0},{"$f":"IF(S68=1,O68,IF(S68=0,(O68-P68),\"-\"))","v":"-"},{"$f":"COUNTIF(U68:AD68,\"=TRUE\")","v":0},{"$f":"AE$1-R68","v":5},{"$f":"IF(S68<2,\"Yes\",\"No\")","v":"No"},{"$f":"IF(D68=\"-\",1,0)*U$1","v":1},{"$f":"AND(U68=0,U$1=1)","v":false},{"$f":"IF(F68=\"-\",1,0)*W$1","v":1},{"$f":"AND(W68=0,W$1=1)","v":false},{"$f":"IF(H68=\"-\",1,0)*Y$1","v":1},{"$f":"AND(Y68=0,Y$1=1)","v":false},{"$f":"IF(J68=\"-\",1,0)*AA$1","v":1},{"$f":"AND(AA68=0,AA$1=1)","v":false},{"$f":"IF(L68=\"-\",1,0)*AC$1","v":1},{"$f":"AND(AC68=0,AC$1=1)","v":false}]
[25,null,"-","-",{"$f":"IF(D69=\"-\",0,D69)","v":0},"-",{"$f":"IF(F69=\"-\",0,F69)","v":0},"-",{"$f":"IF(H69=\"-\",0,H69)","v":0},"-",{"$f":"IF(J69=\"-\",0,J69)","v":0},"-",{"$f":"IF(L69=\"-\",0,L69)","v":0},null,{"$f":"E69+G69+I69+K69+M69","v":0},{"$f":"MAX(D69,F69,H69,J69,L69)","v":0},{"$f":"IF(S69=1,O69,IF(S69=0,(O69-P69),\"-\"))","v":"-"},{"$f":"COUNTIF(U69:AD69,\"=TRUE\")","v":0},{"$f":"AE$1-R69","v":5},{"$f":"IF(S69<2,\"Yes\",\"No\")","v":"No"},{"$f":"IF(D69=\"-\",1,0)*U$1","v":1},{"$f":"AND(U69=0,U$1=1)","v":false},{"$f":"IF(F69=\"-\",1,0)*W$1","v":1},{"$f":"AND(W69=0,W$1=1)","v":false},{"$f":"IF(H69=\"-\",1,0)*Y$1","v":1},{"$f":"AND(Y69=0,Y$1=1)","v":false},{"$f":"IF(J69=\"-\",1,0)*AA$1","v":1},{"$f":"AND(AA69=0,AA$1=1)","v":false},{"$f":"IF(L69=\"-\",1,0)*AC$1","v":1},{"$f":"AND(AC69=0,AC$1=1)","v":false}]
[26,null,"-","-",{"$f":"IF(D70=\"-\",0,D70)","v":0},"-",{"$f":"IF(F70=\"-\",0,F70)","v":0},"-",{"$f":"IF(H70=\"-\",0,H70)","v":0},"-",{"$f":"IF(J70=\"-\",0,J70)","v":0},"-",{"$f":"IF(L70=\"-\",0,L70)","v":0},null,{"$f":"E70+G70+I70+K70+M70","v":0},{"$f":"MAX(D70,F70,H70,J70,L70)","v":0},{"$f":"IF(S70=1,O70,IF(S70=0,(O70-P70),\"-\"))","v":"-"},{"$f":"COUNTIF(U70:AD70,\"=TRUE\")","v":0},{"$f":"AE$1-R70","v":5},{"$f":"IF(S70<2,\"Yes\",\"No\")","v":"No"},{"$f":"IF(D70=\"-\",1,0)*U$1","v":1},{"$f":"AND(U70=0,U$1=1)","v":false},{"$f":"IF(F70=\"-\",1,0)*W$1","v":1},{"$f":"AND(W70=0,W$1=1)","v":false},{"$f":"IF(H70=\"-\",1,0)*Y$1","v":1},{"$f":"AND(Y70=0,Y$1=1)","v":false},{"$f":"IF(J70=\"-\",1,0)*AA$1","v":1},{"$f":"AND(AA70=0,AA$1=1)","v":false},{"$f":"IF(L70=\"-\",1,0)*AC$1","v":1},{"$f":"AND(AC70=0,AC$1=1)","v":false}]
[31,null,"-","-",{"$f":"IF(D71=\"-\",0,D71)","v":0},"-",{"$f":"IF(F71=\"-\",0,F71)","v":0},"-",{"$f":"IF(H71=\"-\",0,H71)","v":0},"-",{"$f":"IF(J71=\"-\",0,J71)","v":0},"-",{"$f":"IF(L71=\"-\",0,L71)","v":0},null,{"$f":"E71+G71+I71+K71+M71","v":0},{"$f":"MAX(D71,F71,H71,J71,L71)","v":0},{"$f":"IF(S71=1,O71,IF(S71=0,(O71-P71),\"-\"))","v":"-"},{"$f":"COUNTIF(U71:AD71,\"=TRUE\")","v":0},{"$f":"AE$1-R71","v":5},{"$f":"IF(S71<2,\"Yes\",\"No\")","v":"No"},{"$f":"IF(D71=\"-\",1,0)*U$1","v":1},{"$f":"AND(U71=0,U$1=1)","v":false},{"$f":"IF(F71=\"-\",1,0)*W$1","v":1},{"$f":"AND(W71=0,W$1=1)","v":false},{"$f":"IF(H71=\"-\",1,0)*Y$1","v":1},{"$f":"AND(Y71=0,Y$1=1)","v":false},{"$f":"IF(J71=\"-\",1,0)*AA$1","v":1},{"$f":"AND(AA71=0,AA$1=1)","v":false},{"$f":"IF(L71=\"-\",1,0)*AC$1","v":1},{"$f":"AND(AC71=0,AC$1=1)","v":false}]
[33,null,"-","-",{"$f":"IF(D72=\"-\",0,D72)","v":0},"-",{"$f":"IF(F72=\"-\",0,F72)","v":0},"-",{"$f":"IF(H72=\"-\",0,H72)","v":0},"-",{"$f":"IF(J72=\"-\",0,J72)","v":0},"-",{"$f":"IF(L72=\"-\",0,L72)","v":0},null,{"$f":"E72+G72+I72+K72+M72","v":0},{"$f":"MAX(D72,F72,H72,J72,L72)","v":0},{"$f":"IF(S72=1,O72,IF(S72=0,(O72-P72),\"-\"))","v":"-"},{"$f":"COUNTIF(U72:AD72,\"=TRUE\")","v":0},{"$f":"AE$1-R72","v":5},{"$f":"IF(S72<2,\"Yes\",\"No\")","v":"No"},{"$f":"IF(D72=\"-\",1,0)*U$1","v":1},{"$f":"AND(U72=0,U$1=1)","v":false},{"$f":"IF(F72=\"-\",1,0)*W$1","v":1},{"$f":"AND(W72=0,W$1=1)","v":false},{"$f":"IF(H72=\"-\",1,0)*Y$1","v":1},{"$f":"AND(Y72=0,Y$1=1)","v":false},{"$f":"IF(J72=\"-\",1,0)*AA$1","v":1},{"$f":"AND(AA72=0,AA$1=1)","v":false},{"$f":"IF(L72=\"-\",1,0)*AC$1","v":1},{"$f":"AND(AC72=0,AC$1=1)","v":false}]
[35,null,"-","-",{"$f":"IF(D73=\"-\",0,D73)","v":0},"-",{"$f":"IF(F73=\"-\",0,F73)","v":0},"-",{"$f":"IF(H73=\"-\",0,H73)","v":0},"-",{"$f":"IF(J73=\"-\",0,J73)","v":0},"-",{"$f":"IF(L73=\"-\",0,L73)","v":0},null,{"$f":"E73+G73+I73+K73+M73","v":0},{"$f":"MAX(D73,F73,H73,J73,L73)","v":0},{"$f":"IF(S73=1,O73,IF(S73=0,(O73-P73),\"-\"))","v":"-"},{"$f":"COUNTIF(U73:AD73,\"=TRUE\")","v":0},{"$f":"AE$1-R73","v":5},{"$f":"IF(S73<2,\"Yes\",\"No\")","v":"No"},{"$f":"IF(D73=\"-\",1,0)*U$1","v":1},{"$f":"AND(U73=0,U$1=1)","v":false},{"$f":"IF(F73=\"-\",1,0)*W$1","v":1},{"$f":"AND(W73=0,W$1=1)","v":false},{"$f":"IF(H73=\"-\",1,0)*Y$1","v":1},{"$f":"AND(Y73=0,Y$1=1)","v":false},{"$f":"IF(J73=\"-\",1,0)*AA$1","v":1},{"$f":"AND(AA73=0,AA$1=1)","v":false},{"$f":"IF(L73=\"-\",1,0)*AC$1","v":1},{"$f":"AND(AC73=0,AC$1=1)","v":false}]
[36,null,"-","-",{"$f":"IF(D74=\"-\",0,D74)","v":0},"-",{"$f":"IF(F74=\"-\",0,F74)","v":0},"-",{"$f":"IF(H74=\"-\",0,H74)","v":0},"-",{"$f":"IF(J74=\"-\",0,J74)","v":0},"-",{"$f":"IF(L74=\"-\",0,L74)","v":0},null,{"$f":"E74+G74+I74+K74+M74","v":0},{"$f":"MAX(D74,F74,H74,J74,L74)","v":0},{"$f":"IF(S74=1,O74,IF(S74=0,(O74-P74),\"-\"))","v":"-"},{"$f":"COUNTIF(U74:AD74,\"=TRUE\")","v":0},{"$f":"AE$1-R74","v":5},{"$f":"IF(S74<2,\"Yes\",\"No\")","v":"No"},{"$f":"IF(D74=\"-\",1,0)*U$1","v":1},{"$f":"AND(U74=0,U$1=1)","v":false},{"$f":"IF(F74=\"-\",1,0)*W$1","v":1},{"$f":"AND(W74=0,W$1=1)","v":false},{"$f":"IF(H74=\"-\",1,0)*Y$1","v":1},{"$f":"AND(Y74=0,Y$1=1)","v":false},{"$f":"IF(J74=\"-\",1,0)*AA$1","v":1},{"$f":"AND(AA74=0,AA$1=1)","v":false},{"$f":"IF(L74=\"-\",1,0)*AC$1","v":1},{"$f":"AND(AC74=0,AC$1=1)","v":false}]
[42,null,"-","-",{"$f":"IF(D75=\"-\",0,D75)","v":0},"-",{"$f":"IF(F75=\"-\",0,F75)","v":0},"-",{"$f":"IF(H75=\"-\",0,H75)","v":0},"-",{"$f":"IF(J75=\"-\",0,J75)","v":0},"-",{"$f":"IF(L75=\"-\",0,L75)","v":0},null,{"$f":"E75+G75+I75+K75+M75","v":0},{"$f":"MAX(D75,F75,H75,J75,L75)","v":0},{"$f":"IF(S75=1,O75,IF(S75=0,(O75-P75),\"-\"))","v":"-"},{"$f":"COUNTIF(U75:AD75,\"=TRUE\")","v":0},{"$f":"AE$1-R75","v":5},{"$f":"IF(S75<2,\"Yes\",\"No\")","v":"No"},{"$f":"IF(D75=\"-\",1,0)*U$1","v":1},{"$f":"AND(U75=0,U$1=1)","v":false},{"$f":"IF(F75=\"-\",1,0)*W$1","v":1},{"$f":"AND(W75=0,W$1=1)","v":false},{"$f":"IF(H75=\"-\",1,0)*Y$1","v":1},{"$f":"AND(Y75=0,Y$1=1)","v":false},{"$f":"IF(J75=\"-\",1,0)*AA$1","v":1},{"$f":"AND(AA75=0,AA$1=1)","v":false},{"$f":"IF(L75=\"-\",1,0)*AC$1","v":1},{"$f":"AND(AC75=0,AC$1=1)","v":false}]
[43,null,"-","-",{"$f":"IF(D76=\"-\",0,D76)","v":0},"-",{"$f":"IF(F76=\"-\",0,F76)","v":0},"-",{"$f":"IF(H76=\"-\",0,H76)","v":0},"-",{"$f":"IF(J76=\"-\",0,J76)","v":0},"-",{"$f":"IF(L76=\"-\",0,L76)","v":0},null,{"$f":"E76+G76+I76+K76+M76","v":0},{"$f":"MAX(D76,F76,H76,J76,L76)","v":0},{"$f":"IF(S76=1,O76,IF(S76=0,(O76-P76),\"-\"))","v":"-"},{"$f":"COUNTIF(U76:AD76,\"=TRUE\")","v":0},{"$f":"AE$1-R76","v":5},{"$f":"IF(S76<2,\"Yes\",\"No\")","v":"No"},{"$f":"IF(D76=\"-\",1,0)*U$1","v":1},{"$f":"AND(U76=0,U$1=1)","v":false},{"$f":"IF(F76=\"-\",1,0)*W$1","v":1},{"$f":"AND(W76=0,W$1=1)","v":false},{"$f":"IF(H76=\"-\",1,0)*Y$1","v":1},{"$f":"AND(Y76=0,Y$1=1)","v":false},{"$f":"IF(J76=\"-\",1,0)*AA$1","v":1},{"$f":"AND(AA76=0,AA$1=1)","v":false},{"$f":"IF(L76=\"-\",1,0)*AC$1","v":1},{"$f":"AND(AC76=0,AC$1=1)","v":false}]
[48,null,"-","-",{"$f":"IF(D77=\"-\",0,D77)","v":0},"-",{"$f":"IF(F77=\"-\",0,F77)","v":0},"-",{"$f":"IF(H77=\"-\",0,H77)","v":0},"-",{"$f":"IF(J77=\"-\",0,J77)","v":0},"-",{"$f":"IF(L77=\"-\",0,L77)","v":0},null,{"$f":"E77+G77+I77+K77+M77","v":0},{"$f":"MAX(D77,F77,H77,J77,L77)","v":0},{"$f":"IF(S77=1,O77,IF(S77=0,(O77-P77),\"-\"))","v":"-"},{"$f":"COUNTIF(U77:AD77,\"=TRUE\")","v":0},{"$f":"AE$1-R77","v":5},{"$f":"IF(S77<2,\"Yes\",\"No\")","v":"No"},{"$f":"IF(D77=\"-\",1,0)*U$1","v":1},{"$f":"AND(U77=0,U$1=1)","v":false},{"$f":"IF(F77=\"-\",1,0)*W$1","v":1},{"$f":"AND(W77=0,W$1=1)","v":false},{"$f":"IF(H77=\"-\",1,0)*Y$1","v":1},{"$f":"AND(Y77=0,Y$1=1)","v":false},{"$f":"IF(J77=\"-\",1,0)*AA$1","v":1},{"$f":"AND(AA77=0,AA$1=1)","v":false},{"$f":"IF(L77=\"-\",1,0)*AC$1","v":1},{"$f":"AND(AC77=0,AC$1=1)","v":false}]
[49,null,"-","-",{"$f":"IF(D78=\"-\",0,D78)","v":0},"-",{"$f":"IF(F78=\"-\",0,F78)","v":0},"-",{"$f":"IF(H78=\"-\",0,H78)","v":0},"-",{"$f":"IF(J78=\"-\",0,J78)","v":0},"-",{"$f":"IF(L78=\"-\",0,L78)","v":0},null,{"$f":"E78+G78+I78+K78+M78","v":0},{"$f":"MAX(D78,F78,H78,J78,L78)","v":0},{"$f":"IF(S78=1,O78,IF(S78=0,(O78-P78),\"-\"))","v":"-"},{"$f":"COUNTIF(U78:AD78,\"=TRUE\")","v":0},{"$f":"AE$1-R78","v":5},{"$f":"IF(S78<2,\"Yes\",\"No\")","v":"No"},{"$f":"IF(D78=\"-\",1,0)*U$1","v":1},{"$f":"AND(U78=0,U$1=1)","v":false},{"$f":"IF(F78=\"-\",1,0)*W$1","v":1},{"$f":"AND(W78=0,W$1=1)","v":false},{"$f":"IF(H78=\"-\",1,0)*Y$1","v":1},{"$f":"AND(Y78=0,Y$1=1)","v":false},{"$f":"IF(J78=\"-\",1,0)*AA$1","v":1},{"$f":"AND(AA78=0,AA$1=1)","v":false},{"$f":"IF(L78=\"-\",1,0)*AC$1","v":1},{"$f":"AND(AC78=0,AC$1=1)","v":false}]
[50,null,"-","-",{"$f":"IF(D79=\"-\",0,D79)","v":0},"-",{"$f":"IF(F79=\"-\",0,F79)","v":0},"-",{"$f":"IF(H79=\"-\",0,H79)","v":0},"-",{"$f":"IF(J79=\"-\",0,J79)","v":0},"-",{"$f":"IF(L79=\"-\",0,L79)","v":0},null,{"$f":"E79+G79+I79+K79+M79","v":0},{"$f":"MAX(D79,F79,H79,J79,L79)","v":0},{"$f":"IF(S79=1,O79,IF(S79=0,(O79-P79),\"-\"))","v":"-"},{"$f":"COUNTIF(U79:AD79,\"=TRUE\")","v":0},{"$f":"AE$1-R79","v":5},{"$f":"IF(S79<2,\"Yes\",\"No\")","v":"No"},{"$f":"IF(D79=\"-\",1,0)*U$1","v":1},{"$f":"AND(U79=0,U$1=1)","v":false},{"$f":"IF(F79=\"-\",1,0)*W$1","v":1},{"$f":"AND(W79=0,W$1=1)","v":false},{"$f":"IF(H79=\"-\",1,0)*Y$1","v":1},{"$f":"AND(Y79=0,Y$1=1)","v":false},{"$f":"IF(J79=\"-\",1,0)*AA$1","v":1},{"$f":"AND(AA79=0,AA$1=1)","v":false},{"$f":"IF(L79=\"-\",1,0)*AC$1","v":1},{"$f":"AND(AC79=0,AC$1=1)","v":false}]
[51,null,"-","-",{"$f":"IF(D80=\"-\",0,D80)","v":0},"-",{"$f":"IF(F80=\"-\",0,F80)","v":0},"-",{"$f":"IF(H80=\"-\",0,H80)","v":0},"-",{"$f":"IF(J80=\"-\",0,J80)","v":0},"-",{"$f":"IF(L80=\"-\",0,L80)","v":0},null,{"$f":"E80+G80+I80+K80+M80","v":0},{"$f":"MAX(D80,F80,H80,J80,L80)","v":0},{"$f":"IF(S80=1,O80,IF(S80=0,(O80-P80),\"-\"))","v":"-"},{"$f":"COUNTIF(U80:AD80,\"=TRUE\")","v":0},{"$f":"AE$1-R80","v":5},{"$f":"IF(S80<2,\"Yes\",\"No\")","v":"No"},{"$f":"IF(D80=\"-\",1,0)*U$1","v":1},{"$f":"AND(U80=0,U$1=1)","v":false},{"$f":"IF(F80=\"-\",1,0)*W$1","v":1},{"$f":"AND(W80=0,W$1=1)","v":false},{"$f":"IF(H80=\"-\",1,0)*Y$1","v":1},{"$f":"AND(Y80=0,Y$1=1)","v":false},{"$f":"IF(J80=\"-\",1,0)*AA$1","v":1},{"$f":"AND(AA80=0,AA$1=1)","v":false},{"$f":"IF(L80=\"-\",1,0)*AC$1","v":1},{"$f":"AND(AC80=0,AC$1=1)","v":false}]
[52,null,"-","-",{"$f":"IF(D81=\"-\",0,D81)","v":0},"-",{"$f":"IF(F81=\"-\",0,F81)","v":0},"-",{"$f":"IF(H81=\"-\",0,H81)","v":0},"-",{"$f":"IF(J81=\"-\",0,J81)","v":0},"-",{"$f":"IF(L81=\"-\",0,L81)","v":0},null,{"$f":"E81+G81+I81+K81+M81","v":0},{"$f":"MAX(D81,F81,H81,J81,L81)","v":0},{"$f":"IF(S81=1,O81,IF(S81=0,(O81-P81),\"-\"))","v":"-"},{"$f":"COUNTIF(U81:AD81,\"=TRUE\")","v":0},{"$f":"AE$1-R81","v":5},{"$f":"IF(S81<2,\"Yes\",\"No\")","v":"No"},{"$f":"IF(D81=\"-\",1,0)*U$1","v":1},{"$f":"AND(U81=0,U$1=1)","v":false},{"$f":"IF(F81=\"-\",1,0)*W$1","v":1},{"$f":"AND(W81=0,W$1=1)","v":false},{"$f":"IF(H81=\"-\",1,0)*Y$1","v":1},{"$f":"AND(Y81=0,Y$1=1)","v":false},{"$f":"IF(J81=\"-\",1,0)*AA$1","v":1},{"$f":"AND(AA81=0,AA$1=1)","v":false},{"$f":"IF(L81=\"-\",1,0)*AC$1","v":1},{"$f":"AND(AC81=0,AC$1=1)","v":false}]
[53,null,"-","-",{"$f":"IF(D82=\"-\",0,D82)","v":0},"-",{"$f":"IF(F82=\"-\",0,F82)","v":0},"-",{"$f":"IF(H82=\"-\",0,H82)","v":0},"-",{"$f":"IF(J82=\"-\",0,J82)","v":0},"-",{"$f":"IF(L82=\"-\",0,L82)","v":0},null,{"$f":"E82+G82+I82+K82+M82","v":0},{"$f":"MAX(D82,F82,H82,J82,L82)","v":0},{"$f":"IF(S82=1,O82,IF(S82=0,(O82-P82),\"-\"))","v":"-"},{"$f":"COUNTIF(U82:AD82,\"=TRUE\")","v":0},{"$f":"AE$1-R82","v":5},{"$f":"IF(S82<2,\"Yes\",\"No\")","v":"No"},{"$f":"IF(D82=\"-\",1,0)*U$1","v":1},{"$f":"AND(U82=0,U$1=1)","v":false},{"$f":"IF(F82=\"-\",1,0)*W$1","v":1},{"$f":"AND(W82=0,W$1=1)","v":false},{"$f":"IF(H82=\"-\",1,0)*Y$1","v":1},{"$f":"AND(Y82=0,Y$1=1)","v":false},{"$f":"IF(J82=\"-\",1,0)*AA$1","v":1},{"$f":"AND(AA82=0,AA$1=1)","v":false},{"$f":"IF(L82=\"-\",1,0)*AC$1","v":1},{"$f":"AND(AC82=0,AC$1=1)","v":false}]
[54,null,"-","-",{"$f":"IF(D83=\"-\",0,D83)","v":0},"-",{"$f":"IF(F83=\"-\",0,F83)","v":0},"-",{"$f":"IF(H83=\"-\",0,H83)","v":0},"-",{"$f":"IF(J83=\"-\",0,J83)","v":0},"-",{"$f":"IF(L83=\"-\",0,L83)","v":0},null,{"$f":"E83+G83+I83+K83+M83","v":0},{"$f":"MAX(D83,F83,H83,J83,L83)","v":0},{"$f":"IF(S83=1,O83,IF(S83=0,(O83-P83),\"-\"))","v":"-"},{"$f":"COUNTIF(U83:AD83,\"=TRUE\")","v":0},{"$f":"AE$1-R83","v":5},{"$f":"IF(S83<2,\"Yes\",\"No\")","v":"No"},{"$f":"IF(D83=\"-\",1,0)*U$1","v":1},{"$f":"AND(U83=0,U$1=1)","v":false},{"$f":"IF(F83=\"-\",1,0)*W$1","v":1},{"$f":"AND(W83=0,W$1=1)","v":false},{"$f":"IF(H83=\"-\",1,0)*Y$1","v":1},{"$f":"AND(Y83=0,Y$1=1)","v":false},{"$f":"IF(J83=\"-\",1,0)*AA$1","v":1},{"$f":"AND(AA83=0,AA$1=1)","v":false},{"$f":"IF(L83=\"-\",1,0)*AC$1","v":1},{"$f":"AND(AC83=0,AC$1=1)","v":false}]
[56,null,"-","-",{"$f":"IF(D84=\"-\",0,D84)","v":0},"-",{"$f":"IF(F84=\"-\",0,F84)","v":0},"-",{"$f":"IF(H84=\"-\",0,H84)","v":0},"-",{"$f":"IF(J84=\"-\",0,J84)","v":0},"-",{"$f":"IF(L84=\"-\",0,L84)","v":0},null,{"$f":"E84+G84+I84+K84+M84","v":0},{"$f":"MAX(D84,F84,H84,J84,L84)","v":0},{"$f":"IF(S84=1,O84,IF(S84=0,(O84-P84),\"-\"))","v":"-"},{"$f":"COUNTIF(U84:AD84,\"=TRUE\")","v":0},{"$f":"AE$1-R84","v":5},{"$f":"IF(S84<2,\"Yes\",\"No\")","v":"No"},{"$f":"IF(D84=\"-\",1,0)*U$1","v":1},{"$f":"AND(U84=0,U$1=1)","v":false},{"$f":"IF(F84=\"-\",1,0)*W$1","v":1},{"$f":"AND(W84=0,W$1=1)","v":false},{"$f":"IF(H84=\"-\",1,0)*Y$1","v":1},{"$f":"AND(Y84=0,Y$1=1)","v":false},{"$f":"IF(J84=\"-\",1,0)*AA$1","v":1},{"$f":"AND(AA84=0,AA$1=1)","v":false},{"$f":"IF(L84=\"-\",1,0)*AC$1","v":1},{"$f":"AND(AC84=0,AC$1=1)","v":false}]
[82,null,"-","-",{"$f":"IF(D85=\"-\",0,D85)","v":0},"-",{"$f":"IF(F85=\"-\",0,F85)","v":0},"-",{"$f":"IF(H85=\"-\",0,H85)","v":0},"-",{"$f":"IF(J85=\"-\",0,J85)","v":0},"-",{"$f":"IF(L85=\"-\",0,L85)","v":0},null,{"$f":"E85+G85+I85+K85+M85","v":0},{"$f":"MAX(D85,F85,H85,J85,L85)","v":0},{"$f":"IF(S85=1,O85,IF(S85=0,(O85-P85),\"-\"))","v":"-"},{"$f":"COUNTIF(U85:AD85,\"=TRUE\")","v":0},{"$f":"AE$1-R85","v":5},{"$f":"IF(S85<2,\"Yes\",\"No\")","v":"No"},{"$f":"IF(D85=\"-\",1,0)*U$1","v":1},{"$f":"AND(U85=0,U$1=1)","v":false},{"$f":"IF(F85=\"-\",1,0)*W$1","v":1},{"$f":"AND(W85=0,W$1=1)","v":false},{"$f":"IF(H85=\"-\",1,0)*Y$1","v":1},{"$f":"AND(Y85=0,Y$1=1)","v":false},{"$f":"IF(J85=\"-\",1,0)*AA$1","v":1},{"$f":"AND(AA85=0,AA$1=1)","v":false},{"$f":"IF(L85=\"-\",1,0)*AC$1","v":1},{"$f":"AND(AC85=0,AC$1=1)","v":false}]
[84,null,"-","-",{"$f":"IF(D86=\"-\",0,D86)","v":0},"-",{"$f":"IF(F86=\"-\",0,F86)","v":0},"-",{"$f":"IF(H86=\"-\",0,H86)","v":0},"-",{"$f":"IF(J86=\"-\",0,J86)","v":0},"-",{"$f":"IF(L86=\"-\",0,L86)","v":0},null,{"$f":"E86+G86+I86+K86+M86","v":0},{"$f":"MAX(D86,F86,H86,J86,L86)","v":0},{"$f":"IF(S86=1,O86,IF(S86=0,(O86-P86),\"-\"))","v":"-"},{"$f":"COUNTIF(U86:AD86,\"=TRUE\")","v":0},{"$f":"AE$1-R86","v":5},{"$f":"IF(S86<2,\"Yes\",\"No\")","v":"No"},{"$f":"IF(D86=\"-\",1,0)*U$1","v":1},{"$f":"AND(U86=0,U$1=1)","v":false},{"$f":"IF(F86=\"-\",1,0)*W$1","v":1},{"$f":"AND(W86=0,W$1=1)","v":false},{"$f":"IF(H86=\"-\",1,0)*Y$1","v":1},{"$f":"AND(Y86=0,Y$1=1)","v":false},{"$f":"IF(J86=\"-\",1,0)*AA$1","v":1},{"$f":"AND(AA86=0,AA$1=1)","v":false},{"$f":"IF(L86=\"-\",1,0)*AC$1","v":1},{"$f":"AND(AC86=0,AC$1=1)","v":false}]
[83,null,"-","-",{"$f":"IF(D87=\"-\",0,D87)","v":0},"-",{"$f":"IF(F87=\"-\",0,F87)","v":0},"-",{"$f":"IF(H87=\"-\",0,H87)","v":0},"-",{"$f":"IF(J87=\"-\",0,J87)","v":0},"-",{"$f":"IF(L87=\"-\",0,L87)","v":0},null,{"$f":"E87+G87+I87+K87+M87","v":0},{"$f":"MAX(D87,F87,H87,J87,L87)","v":0},{"$f":"IF(S87=1,O87,IF(S87=0,(O87-P87),\"-\"))","v":"-"},{"$f":"COUNTIF(U87:AD87,\"=TRUE\")","v":0},{"$f":"AE$1-R87","v":5},{"$f":"IF(S87<2,\"Yes\",\"No\")","v":"No"},{"$f":"IF(D87=\"-\",1,0)*U$1","v":1},{"$f":"AND(U87=0,U$1=1)","v":false},{"$f":"IF(F87=\"-\",1,0)*W$1","v":1},{"$f":"AND(W87=0,W$1=1)","v":false},{"$f":"IF(H87=\"-\",1,0)*Y$1","v":1},{"$f":"AND(Y87=0,Y$1=1)","v":false},{"$f":"IF(J87=\"-\",1,0)*AA$1","v":1},{"$f":"AND(AA87=0,AA$1=1)","v":false},{"$f":"IF(L87=\"-\",1,0)*AC$1","v":1},{"$f":"AND(AC87=0,AC$1=1)","v":false}]
[85,null,"-","-",{"$f":"IF(D88=\"-\",0,D88)","v":0},"-",{"$f":"IF(F88=\"-\",0,F88)","v":0},"-",{"$f":"IF(H88=\"-\",0,H88)","v":0},"-",{"$f":"IF(J88=\"-\",0,J88)","v":0},"-",{"$f":"IF(L88=\"-\",0,L88)","v":0},null,{"$f":"E88+G88+I88+K88+M88","v":0},{"$f":"MAX(D88,F88,H88,J88,L88)","v":0},{"$f":"IF(S88=1,O88,IF(S88=0,(O88-P88),\"-\"))","v":"-"},{"$f":"COUNTIF(U88:AD88,\"=TRUE\")","v":0},{"$f":"AE$1-R88","v":5},{"$f":"IF(S88<2,\"Yes\",\"No\")","v":"No"},{"$f":"IF(D88=\"-\",1,0)*U$1","v":1},{"$f":"AND(U88=0,U$1=1)","v":false},{"$f":"IF(F88=\"-\",1,0)*W$1","v":1},{"$f":"AND(W88=0,W$1=1)","v":false},{"$f":"IF(H88=\"-\",1,0)*Y$1","v":1},{"$f":"AND(Y88=0,Y$1=1)","v":false},{"$f":"IF(J88=\"-\",1,0)*AA$1","v":1},{"$f":"AND(AA88=0,AA$1=1)","v":false},{"$f":"IF(L88=\"-\",1,0)*AC$1","v":1},{"$f":"AND(AC88=0,AC$1=1)","v":false}]
[86,null,"-","-",{"$f":"IF(D89=\"-\",0,D89)","v":0},"-",{"$f":"IF(F89=\"-\",0,F89)","v":0},"-",{"$f":"IF(H89=\"-\",0,H89)","v":0},"-",{"$f":"IF(J89=\"-\",0,J89)","v":0},"-",{"$f":"IF(L89=\"-\",0,L89)","v":0},null,{"$f":"E89+G89+I89+K89+M89","v":0},{"$f":"MAX(D89,F89,H89,J89,L89)","v":0},{"$f":"IF(S89=1,O89,IF(S89=0,(O89-P89),\"-\"))","v":"-"},{"$f":"COUNTIF(U89:AD89,\"=TRUE\")","v":0},{"$f":"AE$1-R89","v":5},{"$f":"IF(S89<2,\"Yes\",\"No\")","v":"No"},{"$f":"IF(D89=\"-\",1,0)*U$1","v":1},{"$f":"AND(U89=0,U$1=1)","v":false},{"$f":"IF(F89=\"-\",1,0)*W$1","v":1},{"$f":"AND(W89=0,W$1=1)","v":false},{"$f":"IF(H89=\"-\",1,0)*Y$1","v":1},{"$f":"AND(Y89=0,Y$1=1)","v":false},{"$f":"IF(J89=\"-\",1,0)*AA$1","v":1},{"$f":"AND(AA89=0,AA$1=1)","v":false},{"$f":"IF(L89=\"-\",1,0)*AC$1","v":1},{"$f":"AND(AC89=0,AC$1=1)","v":false}]
[87,null,"-","-",{"$f":"IF(D90=\"-\",0,D90)","v":0},"-",{"$f":"IF(F90=\"-\",0,F90)","v":0},"-",{"$f":"IF(H90=\"-\",0,H90)","v":0},"-",{"$f":"IF(J90=\"-\",0,J90)","v":0},"-",{"$f":"IF(L90=\"-\",0,L90)","v":0},null,{"$f":"E90+G90+I90+K90+M90","v":0},{"$f":"MAX(D90,F90,H90,J90,L90)","v":0},{"$f":"IF(S90=1,O90,IF(S90=0,(O90-P90),\"-\"))","v":"-"},{"$f":"COUNTIF(U90:AD90,\"=TRUE\")","v":0},{"$f":"AE$1-R90","v":5},{"$f":"IF(S90<2,\"Yes\",\"No\")","v":"No"},{"$f":"IF(D90=\"-\",1,0)*U$1","v":1},{"$f":"AND(U90=0,U$1=1)","v":false},{"$f":"IF(F90=\"-\",1,0)*W$1","v":1},{"$f":"AND(W90=0,W$1=1)","v":false},{"$f":"IF(H90=\"-\",1,0)*Y$1","v":1},{"$f":"AND(Y90=0,Y$1=1)","v":false},{"$f":"IF(J90=\"-\",1,0)*AA$1","v":1},{"$f":"AND(AA90=0,AA$1=1)","v":false},{"$f":"IF(L90=\"-\",1,0)*AC$1","v":1},{"$f":"AND(AC90=0,AC$1=1)","v":false}]
[88,null,"-","-",{"$f":"IF(D91=\"-\",0,D91)","v":0},"-",{"$f":"IF(F91=\"-\",0,F91)","v":0},"-",{"$f":"IF(H91=\"-\",0,H91)","v":0},"-",{"$f":"IF(J91=\"-\",0,J91)","v":0},"-",{"$f":"IF(L91=\"-\",0,L91)","v":0},null,{"$f":"E91+G91+I91+K91+M91","v":0},{"$f":"MAX(D91,F91,H91,J91,L91)","v":0},{"$f":"IF(S91=1,O91,IF(S91=0,(O91-P91),\"-\"))","v":"-"},{"$f":"COUNTIF(U91:AD91,\"=TRUE\")","v":0},{"$f":"AE$1-R91","v":5},{"$f":"IF(S91<2,\"Yes\",\"No\")","v":"No"},{"$f":"IF(D91=\"-\",1,0)*U$1","v":1},{"$f":"AND(U91=0,U$1=1)","v":false},{"$f":"IF(F91=\"-\",1,0)*W$1","v":1},{"$f":"AND(W91=0,W$1=1)","v":false},{"$f":"IF(H91=\"-\",1,0)*Y$1","v":1},{"$f":"AND(Y91=0,Y$1=1)","v":false},{"$f":"IF(J91=\"-\",1,0)*AA$1","v":1},{"$f":"AND(AA91=0,AA$1=1)","v":false},{"$f":"IF(L91=\"-\",1,0)*AC$1","v":1},{"$f":"AND(AC91=0,AC$1=1)","v":false}]
[89,null,"-","-",{"$f":"IF(D92=\"-\",0,D92)","v":0},"-",{"$f":"IF(F92=\"-\",0,F92)","v":0},"-",{"$f":"IF(H92=\"-\",0,H92)","v":0},"-",{"$f":"IF(J92=\"-\",0,J92)","v":0},"-",{"$f":"IF(L92=\"-\",0,L92)","v":0},null,{"$f":"E92+G92+I92+K92+M92","v":0},{"$f":"MAX(D92,F92,H92,J92,L92)","v":0},{"$f":"IF(S92=1,O92,IF(S92=0,(O92-P92),\"-\"))","v":"-"},{"$f":"COUNTIF(U92:AD92,\"=TRUE\")","v":0},{"$f":"AE$1-R92","v":5},{"$f":"IF(S92<2,\"Yes\",\"No\")","v":"No"},{"$f":"IF(D92=\"-\",1,0)*U$1","v":1},{"$f":"AND(U92=0,U$1=1)","v":false},{"$f":"IF(F92=\"-\",1,0)*W$1","v":1},{"$f":"AND(W92=0,W$1=1)","v":false},{"$f":"IF(H92=\"-\",1,0)*Y$1","v":1},{"$f":"AND(Y92=0,Y$1=1)","v":false},{"$f":"IF(J92=\"-\",1,0)*AA$1","v":1},{"$f":"AND(AA92=0,AA$1=1)","v":false},{"$f":"IF(L92=\"-\",1,0)*AC$1","v":1},{"$f":"AND(AC92=0,AC$1=1)","v":false}]
[90,null,"-","-",{"$f":"IF(D93=\"-\",0,D93)","v":0},"-",{"$f":"IF(F93=\"-\",0,F93)","v":0},"-",{"$f":"IF(H93=\"-\",0,H93)","v":0},"-",{"$f":"IF(J93=\"-\",0,J93)","v":0},"-",{"$f":"IF(L93=\"-\",0,L93)","v":0},null,{"$f":"E93+G93+I93+K93+M93","v":0},{"$f":"MAX(D93,F93,H93,J93,L93)","v":0},{"$f":"IF(S93=1,O93,IF(S93=0,(O93-P93),\"-\"))","v":"-"},{"$f":"COUNTIF(U93:AD93,\"=TRUE\")","v":0},{"$f":"AE$1-R93","v":5},{"$f":"IF(S93<2,\"Yes\",\"No\")","v":"No"},{"$f":"IF(D93=\"-\",1,0)*U$1","v":1},{"$f":"AND(U93=0,U$1=1)","v":false},{"$f":"IF(F93=\"-\",1,0)*W$1","v":1},{"$f":"AND(W93=0,W$1=1)","v":false},{"$f":"IF(H93=\"-\",1,0)*Y$1","v":1},{"$f":"AND(Y93=0,Y$1=1)","v":false},{"$f":"IF(J93=\"-\",1,0)*AA$1","v":1},{"$f":"AND(AA93=0,AA$1=1)","v":false},{"$f":"IF(L93=\"-\",1,0)*AC$1","v":1},{"$f":"AND(AC93=0,AC$1=1)","v":false}]
[91,null,"-","-",{"$f":"IF(D94=\"-\",0,D94)","v":0},"-",{"$f":"IF(F94=\"-\",0,F94)","v":0},"-",{"$f":"IF(H94=\"-\",0,H94)","v":0},"-",{"$f":"IF(J94=\"-\",0,J94)","v":0},"-",{"$f":"IF(L94=\"-\",0,L94)","v":0},null,{"$f":"E94+G94+I94+K94+M94","v":0},{"$f":"MAX(D94,F94,H94,J94,L94)","v":0},{"$f":"IF(S94=1,O94,IF(S94=0,(O94-P94),\"-\"))","v":"-"},{"$f":"COUNTIF(U94:AD94,\"=TRUE\")","v":0},{"$f":"AE$1-R94","v":5},{"$f":"IF(S94<2,\"Yes\",\"No\")","v":"No"},{"$f":"IF(D94=\"-\",1,0)*U$1","v":1},{"$f":"AND(U94=0,U$1=1)","v":false},{"$f":"IF(F94=\"-\",1,0)*W$1","v":1},{"$f":"AND(W94=0,W$1=1)","v":false},{"$f":"IF(H94=\"-\",1,0)*Y$1","v":1},{"$f":"AND(Y94=0,Y$1=1)","v":false},{"$f":"IF(J94=\"-\",1,0)*AA$1","v":1},{"$f":"AND(AA94=0,AA$1=1)","v":false},{"$f":"IF(L94=\"-\",1,0)*AC$1","v":1},{"$f":"AND(AC94=0,AC$1=1)","v":false}]
[92,null,"-","-",{"$f":"IF(D95=\"-\",0,D95)","v":0},"-",{"$f":"IF(F95=\"-\",0,F95)","v":0},"-",{"$f":"IF(H95=\"-\",0,H95)","v":0},"-",{"$f":"IF(J95=\"-\",0,J95)","v":0},"-",{"$f":"IF(L95=\"-\",0,L95)","v":0},null,{"$f":"E95+G95+I95+K95+M95","v":0},{"$f":"MAX(D95,F95,H95,J95,L95)","v":0},{"$f":"IF(S95=1,O95,IF(S95=0,(O95-P95),\"-\"))","v":"-"},{"$f":"COUNTIF(U95:AD95,\"=TRUE\")","v":0},{"$f":"AE$1-R95","v":5},{"$f":"IF(S95<2,\"Yes\",\"No\")","v":"No"},{"$f":"IF(D95=\"-\",1,0)*U$1","v":1},{"$f":"AND(U95=0,U$1=1)","v":false},{"$f":"IF(F95=\"-\",1,0)*W$1","v":1},{"$f":"AND(W95=0,W$1=1)","v":false},{"$f":"IF(H95=\"-\",1,0)*Y$1","v":1},{"$f":"AND(Y95=0,Y$1=1)","v":false},{"$f":"IF(J95=\"-\",1,0)*AA$1","v":1},{"$f":"AND(AA95=0,AA$1=1)","v":false},{"$f":"IF(L95=\"-\",1,0)*AC$1","v":1},{"$f":"AND(AC95=0,AC$1=1)","v":false}]
[93,null,"-","-",{"$f":"IF(D96=\"-\",0,D96)","v":0},"-",{"$f":"IF(F96=\"-\",0,F96)","v":0},"-",{"$f":"IF(H96=\"-\",0,H96)","v":0},"-",{"$f":"IF(J96=\"-\",0,J96)","v":0},"-",{"$f":"IF(L96=\"-\",0,L96)","v":0},null,{"$f":"E96+G96+I96+K96+M96","v":0},{"$f":"MAX(D96,F96,H96,J96,L96)","v":0},{"$f":"IF(S96=1,O96,IF(S96=0,(O96-P96),\"-\"))","v":"-"},{"$f":"COUNTIF(U96:AD96,\"=TRUE\")","v":0},{"$f":"AE$1-R96","v":5},{"$f":"IF(S96<2,\"Yes\",\"No\")","v":"No"},{"$f":"IF(D96=\"-\",1,0)*U$1","v":1},{"$f":"AND(U96=0,U$1=1)","v":false},{"$f":"IF(F96=\"-\",1,0)*W$1","v":1},{"$f":"AND(W96=0,W$1=1)","v":false},{"$f":"IF(H96=\"-\",1,0)*Y$1","v":1},{"$f":"AND(Y96=0,Y$1=1)","v":false},{"$f":"IF(J96=\"-\",1,0)*AA$1","v":1},{"$f":"AND(AA96=0,AA$1=1)","v":false},{"$f":"IF(L96=\"-\",1,0)*AC$1","v":1},{"$f":"AND(AC96=0,AC$1=1)","v":false}]
[94,null,"-","-",{"$f":"IF(D97=\"-\",0,D97)","v":0},"-",{"$f":"IF(F97=\"-\",0,F97)","v":0},"-",{"$f":"IF(H97=\"-\",0,H97)","v":0},"-",{"$f":"IF(J97=\"-\",0,J97)","v":0},"-",{"$f":"IF(L97=\"-\",0,L97)","v":0},null,{"$f":"E97+G97+I97+K97+M97","v":0},{"$f":"MAX(D97,F97,H97,J97,L97)","v":0},{"$f":"IF(S97=1,O97,IF(S97=0,(O97-P97),\"-\"))","v":"-"},{"$f":"COUNTIF(U97:AD97,\"=TRUE\")","v":0},{"$f":"AE$1-R97","v":5},{"$f":"IF(S97<2,\"Yes\",\"No\")","v":"No"},{"$f":"IF(D97=\"-\",1,0)*U$1","v":1},{"$f":"AND(U97=0,U$1=1)","v":false},{"$f":"IF(F97=\"-\",1,0)*W$1","v":1},{"$f":"AND(W97=0,W$1=1)","v":false},{"$f":"IF(H97=\"-\",1,0)*Y$1","v":1},{"$f":"AND(Y97=0,Y$1=1)","v":false},{"$f":"IF(J97=\"-\",1,0)*AA$1","v":1},{"$f":"AND(AA97=0,AA$1=1)","v":false},{"$f":"IF(L97=\"-\",1,0)*AC$1","v":1},{"$f":"AND(AC97=0,AC$1=1)","v":false}]
[95,null,"-","-",{"$f":"IF(D98=\"-\",0,D98)","v":0},"-",{"$f":"IF(F98=\"-\",0,F98)","v":0},"-",{"$f":"IF(H98=\"-\",0,H98)","v":0},"-",{"$f":"IF(J98=\"-\",0,J98)","v":0},"-",{"$f":"IF(L98=\"-\",0,L98)","v":0},null,{"$f":"E98+G98+I98+K98+M98","v":0},{"$f":"MAX(D98,F98,H98,J98,L98)","v":0},{"$f":"IF(S98=1,O98,IF(S98=0,(O98-P98),\"-\"))","v":"-"},{"$f":"COUNTIF(U98:AD98,\"=TRUE\")","v":0},{"$f":"AE$1-R98","v":5},{"$f":"IF(S98<2,\"Yes\",\"No\")","v":"No"},{"$f":"IF(D98=\"-\",1,0)*U$1","v":1},{"$f":"AND(U98=0,U$1=1)","v":false},{"$f":"IF(F98=\"-\",1,0)*W$1","v":1},{"$f":"AND(W98=0,W$1=1)","v":false},{"$f":"IF(H98=\"-\",1,0)*Y$1","v":1},{"$f":"AND(Y98=0,Y$1=1)","v":false},{"$f":"IF(J98=\"-\",1,0)*AA$1","v":1},{"$f":"AND(AA98=0,AA$1=1)","v":false},{"$f":"IF(L98=\"-\",1,0)*AC$1","v":1},{"$f":"AND(AC98=0,AC$1=1)","v":false}]
[96,null,"-","-",{"$f":"IF(D99=\"-\",0,D99)","v":0},"-",{"$f":"IF(F99=\"-\",0,F99)","v":0},"-",{"$f":"IF(H99=\"-\",0,H99)","v":0},"-",{"$f":"IF(J99=\"-\",0,J99)","v":0},"-",{"$f":"IF(L99=\"-\",0,L99)","v":0},null,{"$f":"E99+G99+I99+K99+M99","v":0},{"$f":"MAX(D99,F99,H99,J99,L99)","v":0},{"$f":"IF(S99=1,O99,IF(S99=0,(O99-P99),\"-\"))","v":"-"},{"$f":"COUNTIF(U99:AD99,\"=TRUE\")","v":0},{"$f":"AE$1-R99","v":5},{"$f":"IF(S99<2,\"Yes\",\"No\")","v":"No"},{"$f":"IF(D99=\"-\",1,0)*U$1","v":1},{"$f":"AND(U99=0,U$1=1)","v":false},{"$f":"IF(F99=\"-\",1,0)*W$1","v":1},{"$f":"AND(W99=0,W$1=1)","v":false},{"$f":"IF(H99=\"-\",1,0)*Y$1","v":1},{"$f":"AND(Y99=0,Y$1=1)","v":false},{"$f":"IF(J99=\"-\",1,0)*AA$1","v":1},{"$f":"AND(AA99=0,AA$1=1)","v":false},{"$f":"IF(L99=\"-\",1,0)*AC$1","v":1},{"$f":"AND(AC99=0,AC$1=1)","v":false}]
[97,null,"-","-",{"$f":"IF(D100=\"-\",0,D100)","v":0},"-",{"$f":"IF(F100=\"-\",0,F100)","v":0},"-",{"$f":"IF(H100=\"-\",0,H100)","v":0},"-",{"$f":"IF(J100=\"-\",0,J100)","v":0},"-",{"$f":"IF(L100=\"-\",0,L100)","v":0},null,{"$f":"E100+G100+I100+K100+M100","v":0},{"$f":"MAX(D100,F100,H100,J100,L100)","v":0},{"$f":"IF(S100=1,O100,IF(S100=0,(O100-P100),\"-\"))","v":"-"},{"$f":"COUNTIF(U100:AD100,\"=TRUE\")","v":0},{"$f":"AE$1-R100","v":5},{"$f":"IF(S100<2,\"Yes\",\"No\")","v":"No"},{"$f":"IF(D100=\"-\",1,0)*U$1","v":1},{"$f":"AND(U100=0,U$1=1)","v":false},{"$f":"IF(F100=\"-\",1,0)*W$1","v":1},{"$f":"AND(W100=0,W$1=1)","v":false},{"$f":"IF(H100=\"-\",1,0)*Y$1","v":1},{"$f":"AND(Y100=0,Y$1=1)","v":false},{"$f":"IF(J100=\"-\",1,0)*AA$1","v":1},{"$f":"AND(AA100=0,AA$1=1)","v":false},{"$f":"IF(L100=\"-\",1,0)*AC$1","v":1},{"$f":"AND(AC100=0,AC$1=1)","v":false}]
[98,null,"-","-",{"$f":"IF(D101=\"-\",0,D101)","v":0},"-",{"$f":"IF(F101=\"-\",0,F101)","v":0},"-",{"$f":"IF(H101=\"-\",0,H101)","v":0},"-",{"$f":"IF(J101=\"-\",0,J101)","v":0},"-",{"$f":"IF(L101=\"-\",0,L101)","v":0},null,{"$f":"E101+G101+I101+K101+M101","v":0},{"$f":"MAX(D101,F101,H101,J101,L101)","v":0},{"$f":"IF(S101=1,O101,IF(S101=0,(O101-P101),\"-\"))","v":"-"},{"$f":"COUNTIF(U101:AD101,\"=TRUE\")","v":0},{"$f":"AE$1-R101","v":5},{"$f":"IF(S101<2,\"Yes\",\"No\")","v":"No"},{"$f":"IF(D101=\"-\",1,0)*U$1","v":1},{"$f":"AND(U101=0,U$1=1)","v":false},{"$f":"IF(F101=\"-\",1,0)*W$1","v":1},{"$f":"AND(W101=0,W$1=1)","v":false},{"$f":"IF(H101=\"-\",1,0)*Y$1","v":1},{"$f":"AND(Y101=0,Y$1=1)","v":false},{"$f":"IF(J101=\"-\",1,0)*AA$1","v":1},{"$f":"AND(AA101=0,AA$1=1)","v":false},{"$f":"IF(L101=\"-\",1,0)*AC$1","v":1},{"$f":"AND(AC101=0,AC$1=1)","v":false}]
[99,null,"-","-",{"$f":"IF(D102=\"-\",0,D102)","v":0},"-",{"$f":"IF(F102=\"-\",0,F102)","v":0},"-",{"$f":"IF(H102=\"-\",0,H102)","v":0},"-",{"$f":"IF(J102=\"-\",0,J102)","v":0},"-",{"$f":"IF(L102=\"-\",0,L102)","v":0},null,{"$f":"E102+G102+I102+K102+M102","v":0},{"$f":"MAX(D102,F102,H102,J102,L102)","v":0},{"$f":"IF(S102=1,O102,IF(S102=0,(O102-P102),\"-\"))","v":"-"},{"$f":"COUNTIF(U102:AD102,\"=TRUE\")","v":0},{"$f":"AE$1-R102","v":5},{"$f":"IF(S102<2,\"Yes\",\"No\")","v":"No"},{"$f":"IF(D102=\"-\",1,0)*U$1","v":1},{"$f":"AND(U102=0,U$1=1)","v":false},{"$f":"IF(F102=\"-\",1,0)*W$1","v":1},{"$f":"AND(W102=0,W$1=1)","v":false},{"$f":"IF(H102=\"-\",1,0)*Y$1","v":1},{"$f":"AND(Y102=0,Y$1=1)","v":false},{"$f":"IF(J102=\"-\",1,0)*AA$1","v":1},{"$f":"AND(AA102=0,AA$1=1)","v":false},{"$f":"IF(L102=\"-\",1,0)*AC$1","v":1},{"$f":"AND(AC102=0,AC$1=1)","v":false}]
[100,null,"-","-",{"$f":"IF(D103=\"-\",0,D103)","v":0},"-",{"$f":"IF(F103=\"-\",0,F103)","v":0},"-",{"$f":"IF(H103=\"-\",0,H103)","v":0},"-",{"$f":"IF(J103=\"-\",0,J103)","v":0},"-",{"$f":"IF(L103=\"-\",0,L103)","v":0},null,{"$f":"E103+G103+I103+K103+M103","v":0},{"$f":"MAX(D103,F103,H103,J103,L103)","v":0},{"$f":"IF(S103=1,O103,IF(S103=0,(O103-P103),\"-\"))","v":"-"},{"$f":"COUNTIF(U103:AD103,\"=TRUE\")","v":0},{"$f":"AE$1-R103","v":5},{"$f":"IF(S103<2,\"Yes\",\"No\")","v":"No"},{"$f":"IF(D103=\"-\",1,0)*U$1","v":1},{"$f":"AND(U103=0,U$1=1)","v":false},{"$f":"IF(F103=\"-\",1,0)*W$1","v":1},{"$f":"AND(W103=0,W$1=1)","v":false},{"$f":"IF(H103=\"-\",1,0)*Y$1","v":1},{"$f":"AND(Y103=0,Y$1=1)","v":false},{"$f":"IF(J103=\"-\",1,0)*AA$1","v":1},{"$f":"AND(AA103=0,AA$1=1)","v":false},{"$f":"IF(L103=\"-\",1,0)*AC$1","v":1},{"$f":"AND(AC103=0,AC$1=1)","v":false}]
[101,null,"-","-",{"$f":"IF(D104=\"-\",0,D104)","v":0},"-",{"$f":"IF(F104=\"-\",0,F104)","v":0},"-",{"$f":"IF(H104=\"-\",0,H104)","v":0},"-",{"$f":"IF(J104=\"-\",0,J104)","v":0},"-",{"$f":"IF(L104=\"-\",0,L104)","v":0},null,{"$f":"E104+G104+I104+K104+M104","v":0},{"$f":"MAX(D104,F104,H104,J104,L104)","v":0},{"$f":"IF(S104=1,O104,IF(S104=0,(O104-P104),\"-\"))","v":"-"},{"$f":"COUNTIF(U104:AD104,\"=TRUE\")","v":0},{"$f":"AE$1-R104","v":5},{"$f":"IF(S104<2,\"Yes\",\"No\")","v":"No"},{"$f":"IF(D104=\"-\",1,0)*U$1","v":1},{"$f":"AND(U104=0,U$1=1)","v":false},{"$f":"IF(F104=\"-\",1,0)*W$1","v":1},{"$f":"AND(W104=0,W$1=1)","v":false},{"$f":"IF(H104=\"-\",1,0)*Y$1","v":1},{"$f":"AND(Y104=0,Y$1=1)","v":false},{"$f":"IF(J104=\"-\",1,0)*AA$1","v":1},{"$f":"AND(AA104=0,AA$1=1)","v":false},{"$f":"IF(L104=\"-\",1,0)*AC$1","v":1},{"$f":"AND(AC104=0,AC$1=1)","v":false}]
[102,null,"-","-",{"$f":"IF(D105=\"-\",0,D105)","v":0},"-",{"$f":"IF(F105=\"-\",0,F105)","v":0},"-",{"$f":"IF(H105=\"-\",0,H105)","v":0},"-",{"$f":"IF(J105=\"-\",0,J105)","v":0},"-",{"$f":"IF(L105=\"-\",0,L105)","v":0},null,{"$f":"E105+G105+I105+K105+M105","v":0},{"$f":"MAX(D105,F105,H105,J105,L105)","v":0},{"$f":"IF(S105=1,O105,IF(S105=0,(O105-P105),\"-\"))","v":"-"},{"$f":"COUNTIF(U105:AD105,\"=TRUE\")","v":0},{"$f":"AE$1-R105","v":5},{"$f":"IF(S105<2,\"Yes\",\"No\")","v":"No"},{"$f":"IF(D105=\"-\",1,0)*U$1","v":1},{"$f":"AND(U105=0,U$1=1)","v":false},{"$f":"IF(F105=\"-\",1,0)*W$1","v":1},{"$f":"AND(W105=0,W$1=1)","v":false},{"$f":"IF(H105=\"-\",1,0)*Y$1","v":1},{"$f":"AND(Y105=0,Y$1=1)","v":false},{"$f":"IF(J105=\"-\",1,0)*AA$1","v":1},{"$f":"AND(AA105=0,AA$1=1)","v":false},{"$f":"IF(L105=\"-\",1,0)*AC$1","v":1},{"$f":"AND(AC105=0,AC$1=1)","v":false}]
[103,null,"-","-",{"$f":"IF(D106=\"-\",0,D106)","v":0},"-",{"$f":"IF(F106=\"-\",0,F106)","v":0},"-",{"$f":"IF(H106=\"-\",0,H106)","v":0},"-",{"$f":"IF(J106=\"-\",0,J106)","v":0},"-",{"$f":"IF(L106=\"-\",0,L106)","v":0},null,{"$f":"E106+G106+I106+K106+M106","v":0},{"$f":"MAX(D106,F106,H106,J106,L106)","v":0},{"$f":"IF(S106=1,O106,IF(S106=0,(O106-P106),\"-\"))","v":"-"},{"$f":"COUNTIF(U106:AD106,\"=TRUE\")","v":0},{"$f":"AE$1-R106","v":5},{"$f":"IF(S106<2,\"Yes\",\"No\")","v":"No"},{"$f":"IF(D106=\"-\",1,0)*U$1","v":1},{"$f":"AND(U106=0,U$1=1)","v":false},{"$f":"IF(F106=\"-\",1,0)*W$1","v":1},{"$f":"AND(W106=0,W$1=1)","v":false},{"$f":"IF(H106=\"-\",1,0)*Y$1","v":1},{"$f":"AND(Y106=0,Y$1=1)","v":false},{"$f":"IF(J106=\"-\",1,0)*AA$1","v":1},{"$f":"AND(AA106=0,AA$1=1)","v":false},{"$f":"IF(L106=\"-\",1,0)*AC$1","v":1},{"$f":"AND(AC106=0,AC$1=1)","v":false}]
[104,null,"-","-",{"$f":"IF(D107=\"-\",0,D107)","v":0},"-",{"$f":"IF(F107=\"-\",0,F107)","v":0},"-",{"$f":"IF(H107=\"-\",0,H107)","v":0},"-",{"$f":"IF(J107=\"-\",0,J107)","v":0},"-",{"$f":"IF(L107=\"-\",0,L107)","v":0},null,{"$f":"E107+G107+I107+K107+M107","v":0},{"$f":"MAX(D107,F107,H107,J107,L107)","v":0},{"$f":"IF(S107=1,O107,IF(S107=0,(O107-P107),\"-\"))","v":"-"},{"$f":"COUNTIF(U107:AD107,\"=TRUE\")","v":0},{"$f":"AE$1-R107","v":5},{"$f":"IF(S107<2,\"Yes\",\"No\")","v":"No"},{"$f":"IF(D107=\"-\",1,0)*U$1","v":1},{"$f":"AND(U107=0,U$1=1)","v":false},{"$f":"IF(F107=\"-\",1,0)*W$1","v":1},{"$f":"AND(W107=0,W$1=1)","v":false},{"$f":"IF(H107=\"-\",1,0)*Y$1","v":1},{"$f":"AND(Y107=0,Y$1=1)","v":false},{"$f":"IF(J107=\"-\",1,0)*AA$1","v":1},{"$f":"AND(AA107=0,AA$1=1)","v":false},{"$f":"IF(L107=\"-\",1,0)*AC$1","v":1},{"$f":"AND(AC107=0,AC$1=1)","v":false}]
[105,null,"-","-",{"$f":"IF(D108=\"-\",0,D108)","v":0},"-",{"$f":"IF(F108=\"-\",0,F108)","v":0},"-",{"$f":"IF(H108=\"-\",0,H108)","v":0},"-",{"$f":"IF(J108=\"-\",0,J108)","v":0},"-",{"$f":"IF(L108=\"-\",0,L108)","v":0},null,{"$f":"E108+G108+I108+K108+M108","v":0},{"$f":"MAX(D108,F108,H108,J108,L108)","v":0},{"$f":"IF(S108=1,O108,IF(S108=0,(O108-P108),\"-\"))","v":"-"},{"$f":"COUNTIF(U108:AD108,\"=TRUE\")","v":0},{"$f":"AE$1-R108","v":5},{"$f":"IF(S108<2,\"Yes\",\"No\")","v":"No"},{"$f":"IF(D108=\"-\",1,0)*U$1","v":1},{"$f":"AND(U108=0,U$1=1)","v":false},{"$f":"IF(F108=\"-\",1,0)*W$1","v":1},{"$f":"AND(W108=0,W$1=1)","v":false},{"$f":"IF(H108=\"-\",1,0)*Y$1","v":1},{"$f":"AND(Y108=0,Y$1=1)","v":false},{"$f":"IF(J108=\"-\",1,0)*AA$1","v":1},{"$f":"AND(AA108=0,AA$1=1)","v":false},{"$f":"IF(L108=\"-\",1,0)*AC$1","v":1},{"$f":"AND(AC108=0,AC$1=1)","v":false}]
[106,null,"-","-",{"$f":"IF(D109=\"-\",0,D109)","v":0},"-",{"$f":"IF(F109=\"-\",0,F109)","v":0},"-",{"$f":"IF(H109=\"-\",0,H109)","v":0},"-",{"$f":"IF(J109=\"-\",0,J109)","v":0},"-",{"$f":"IF(L109=\"-\",0,L109)","v":0},null,{"$f":"E109+G109+I109+K109+M109","v":0},{"$f":"MAX(D109,F109,H109,J109,L109)","v":0},{"$f":"IF(S109=1,O109,IF(S109=0,(O109-P109),\"-\"))","v":"-"},{"$f":"COUNTIF(U109:AD109,\"=TRUE\")","v":0},{"$f":"AE$1-R109","v":5},{"$f":"IF(S109<2,\"Yes\",\"No\")","v":"No"},{"$f":"IF(D109=\"-\",1,0)*U$1","v":1},{"$f":"AND(U109=0,U$1=1)","v":false},{"$f":"IF(F109=\"-\",1,0)*W$1","v":1},{"$f":"AND(W109=0,W$1=1)","v":false},{"$f":"IF(H109=\"-\",1,0)*Y$1","v":1},{"$f":"AND(Y109=0,Y$1=1)","v":false},{"$f":"IF(J109=\"-\",1,0)*AA$1","v":1},{"$f":"AND(AA109=0,AA$1=1)","v":false},{"$f":"IF(L109=\"-\",1,0)*AC$1","v":1},{"$f":"AND(AC109=0,AC$1=1)","v":false}]
[107,null,"-","-",{"$f":"IF(D110=\"-\",0,D110)","v":0},"-",{"$f":"IF(F110=\"-\",0,F110)","v":0},"-",{"$f":"IF(H110=\"-\",0,H110)","v":0},"-",{"$f":"IF(J110=\"-\",0,J110)","v":0},"-",{"$f":"IF(L110=\"-\",0,L110)","v":0},null,{"$f":"E110+G110+I110+K110+M110","v":0},{"$f":"MAX(D110,F110,H110,J110,L110)","v":0},{"$f":"IF(S110=1,O110,IF(S110=0,(O110-P110),\"-\"))","v":"-"},{"$f":"COUNTIF(U110:AD110,\"=TRUE\")","v":0},{"$f":"AE$1-R110","v":5},{"$f":"IF(S110<2,\"Yes\",\"No\")","v":"No"},{"$f":"IF(D110=\"-\",1,0)*U$1","v":1},{"$f":"AND(U110=0,U$1=1)","v":false},{"$f":"IF(F110=\"-\",1,0)*W$1","v":1},{"$f":"AND(W110=0,W$1=1)","v":false},{"$f":"IF(H110=\"-\",1,0)*Y$1","v":1},{"$f":"AND(Y110=0,Y$1=1)","v":false},{"$f":"IF(J110=\"-\",1,0)*AA$1","v":1},{"$f":"AND(AA110=0,AA$1=1)","v":false},{"$f":"IF(L110=\"-\",1,0)*AC$1","v":1},{"$f":"AND(AC110=0,AC$1=1)","v":false}]
[108,null,"-","-",{"$f":"IF(D111=\"-\",0,D111)","v":0},"-",{"$f":"IF(F111=\"-\",0,F111)","v":0},"-",{"$f":"IF(H111=\"-\",0,H111)","v":0},"-",{"$f":"IF(J111=\"-\",0,J111)","v":0},"-",{"$f":"IF(L111=\"-\",0,L111)","v":0},null,{"$f":"E111+G111+I111+K111+M111","v":0},{"$f":"MAX(D111,F111,H111,J111,L111)","v":0},{"$f":"IF(S111=1,O111,IF(S111=0,(O111-P111),\"-\"))","v":"-"},{"$f":"COUNTIF(U111:AD111,\"=TRUE\")","v":0},{"$f":"AE$1-R111","v":5},{"$f":"IF(S111<2,\"Yes\",\"No\")","v":"No"},{"$f":"IF(D111=\"-\",1,0)*U$1","v":1},{"$f":"AND(U111=0,U$1=1)","v":false},{"$f":"IF(F111=\"-\",1,0)*W$1","v":1},{"$f":"AND(W111=0,W$1=1)","v":false},{"$f":"IF(H111=\"-\",1,0)*Y$1","v":1},{"$f":"AND(Y111=0,Y$1=1)","v":false},{"$f":"IF(J111=\"-\",1,0)*AA$1","v":1},{"$f":"AND(AA111=0,AA$1=1)","v":false},{"$f":"IF(L111=\"-\",1,0)*AC$1","v":1},{"$f":"AND(AC111=0,AC$1=1)","v":false}]
[109,null,"-","-",{"$f":"IF(D112=\"-\",0,D112)","v":0},"-",{"$f":"IF(F112=\"-\",0,F112)","v":0},"-",{"$f":"IF(H112=\"-\",0,H112)","v":0},"-",{"$f":"IF(J112=\"-\",0,J112)","v":0},"-",{"$f":"IF(L112=\"-\",0,L112)","v":0},null,{"$f":"E112+G112+I112+K112+M112","v":0},{"$f":"MAX(D112,F112,H112,J112,L112)","v":0},{"$f":"IF(S112=1,O112,IF(S112=0,(O112-P112),\"-\"))","v":"-"},{"$f":"COUNTIF(U112:AD112,\"=TRUE\")","v":0},{"$f":"AE$1-R112","v":5},{"$f":"IF(S112<2,\"Yes\",\"No\")","v":"No"},{"$f":"IF(D112=\"-\",1,0)*U$1","v":1},{"$f":"AND(U112=0,U$1=1)","v":false},{"$f":"IF(F112=\"-\",1,0)*W$1","v":1},{"$f":"AND(W112=0,W$1=1)","v":false},{"$f":"IF(H112=\"-\",1,0)*Y$1","v":1},{"$f":"AND(Y112=0,Y$1=1)","v":false},{"$f":"IF(J112=\"-\",1,0)*AA$1","v":1},{"$f":"AND(AA112=0,AA$1=1)","v":false},{"$f":"IF(L112=\"-\",1,0)*AC$1","v":1},{"$f":"AND(AC112=0,AC$1=1)","v":false}]
[110,null,"-","-",{"$f":"IF(D113=\"-\",0,D113)","v":0},"-",{"$f":"IF(F113=\"-\",0,F113)","v":0},"-",{"$f":"IF(H113=\"-\",0,H113)","v":0},"-",{"$f":"IF(J113=\"-\",0,J113)","v":0},"-",{"$f":"IF(L113=\"-\",0,L113)","v":0},null,{"$f":"E113+G113+I113+K113+M113","v":0},{"$f":"MAX(D113,F113,H113,J113,L113)","v":0},{"$f":"IF(S113=1,O113,IF(S113=0,(O113-P113),\"-\"))","v":"-"},{"$f":"COUNTIF(U113:AD113,\"=TRUE\")","v":0},{"$f":"AE$1-R113","v":5},{"$f":"IF(S113<2,\"Yes\",\"No\")","v":"No"},{"$f":"IF(D113=\"-\",1,0)*U$1","v":1},{"$f":"AND(U113=0,U$1=1)","v":false},{"$f":"IF(F113=\"-\",1,0)*W$1","v":1},{"$f":"AND(W113=0,W$1=1)","v":false},{"$f":"IF(H113=\"-\",1,0)*Y$1","v":1},{"$f":"AND(Y113=0,Y$1=1)","v":false},{"$f":"IF(J113=\"-\",1,0)*AA$1","v":1},{"$f":"AND(AA113=0,AA$1=1)","v":false},{"$f":"IF(L113=\"-\",1,0)*AC$1","v":1},{"$f":"AND(AC113=0,AC$1=1)","v":false}]
[111,null,"-","-",{"$f":"IF(D114=\"-\",0,D114)","v":0},"-",{"$f":"IF(F114=\"-\",0,F114)","v":0},"-",{"$f":"IF(H114=\"-\",0,H114)","v":0},"-",{"$f":"IF(J114=\"-\",0,J114)","v":0},"-",{"$f":"IF(L114=\"-\",0,L114)","v":0},null,{"$f":"E114+G114+I114+K114+M114","v":0},{"$f":"MAX(D114,F114,H114,J114,L114)","v":0},{"$f":"IF(S114=1,O114,IF(S114=0,(O114-P114),\"-\"))","v":"-"},{"$f":"COUNTIF(U114:AD114,\"=TRUE\")","v":0},{"$f":"AE$1-R114","v":5},{"$f":"IF(S114<2,\"Yes\",\"No\")","v":"No"},{"$f":"IF(D114=\"-\",1,0)*U$1","v":1},{"$f":"AND(U114=0,U$1=1)","v":false},{"$f":"IF(F114=\"-\",1,0)*W$1","v":1},{"$f":"AND(W114=0,W$1=1)","v":false},{"$f":"IF(H114=\"-\",1,0)*Y$1","v":1},{"$f":"AND(Y114=0,Y$1=1)","v":false},{"$f":"IF(J114=\"-\",1,0)*AA$1","v":1},{"$f":"AND(AA114=0,AA$1=1)","v":false},{"$f":"IF(L114=\"-\",1,0)*AC$1","v":1},{"$f":"AND(AC114=0,AC$1=1)","v":false}]
[112,null,"-","-",{"$f":"IF(D115=\"-\",0,D115)","v":0},"-",{"$f":"IF(F115=\"-\",0,F115)","v":0},"-",{"$f":"IF(H115=\"-\",0,H115)","v":0},"-",{"$f":"IF(J115=\"-\",0,J115)","v":0},"-",{"$f":"IF(L115=\"-\",0,L115)","v":0},null,{"$f":"E115+G115+I115+K115+M115","v":0},{"$f":"MAX(D115,F115,H115,J115,L115)","v":0},{"$f":"IF(S115=1,O115,IF(S115=0,(O115-P115),\"-\"))","v":"-"},{"$f":"COUNTIF(U115:AD115,\"=TRUE\")","v":0},{"$f":"AE$1-R115","v":5},{"$f":"IF(S115<2,\"Yes\",\"No\")","v":"No"},{"$f":"IF(D115=\"-\",1,0)*U$1","v":1},{"$f":"AND(U115=0,U$1=1)","v":false},{"$f":"IF(F115=\"-\",1,0)*W$1","v":1},{"$f":"AND(W115=0,W$1=1)","v":false},{"$f":"IF(H115=\"-\",1,0)*Y$1","v":1},{"$f":"AND(Y115=0,Y$1=1)","v":false},{"$f":"IF(J115=\"-\",1,0)*AA$1","v":1},{"$f":"AND(AA115=0,AA$1=1)","v":false},{"$f":"IF(L115=\"-\",1,0)*AC$1","v":1},{"$f":"AND(AC115=0,AC$1=1)","v":false}]
[113,null,"-","-",{"$f":"IF(D116=\"-\",0,D116)","v":0},"-",{"$f":"IF(F116=\"-\",0,F116)","v":0},"-",{"$f":"IF(H116=\"-\",0,H116)","v":0},"-",{"$f":"IF(J116=\"-\",0,J116)","v":0},"-",{"$f":"IF(L116=\"-\",0,L116)","v":0},null,{"$f":"E116+G116+I116+K116+M116","v":0},{"$f":"MAX(D116,F116,H116,J116,L116)","v":0},{"$f":"IF(S116=1,O116,IF(S116=0,(O116-P116),\"-\"))","v":"-"},{"$f":"COUNTIF(U116:AD116,\"=TRUE\")","v":0},{"$f":"AE$1-R116","v":5},{"$f":"IF(S116<2,\"Yes\",\"No\")","v":"No"},{"$f":"IF(D116=\"-\",1,0)*U$1","v":1},{"$f":"AND(U116=0,U$1=1)","v":false},{"$f":"IF(F116=\"-\",1,0)*W$1","v":1},{"$f":"AND(W116=0,W$1=1)","v":false},{"$f":"IF(H116=\"-\",1,0)*Y$1","v":1},{"$f":"AND(Y116=0,Y$1=1)","v":false},{"$f":"IF(J116=\"-\",1,0)*AA$1","v":1},{"$f":"AND(AA116=0,AA$1=1)","v":false},{"$f":"IF(L116=\"-\",1,0)*AC$1","v":1},{"$f":"AND(AC116=0,AC$1=1)","v":false}]
[114,null,"-","-",{"$f":"IF(D117=\"-\",0,D117)","v":0},"-",{"$f":"IF(F117=\"-\",0,F117)","v":0},"-",{"$f":"IF(H117=\"-\",0,H117)","v":0},"-",{"$f":"IF(J117=\"-\",0,J117)","v":0},"-",{"$f":"IF(L117=\"-\",0,L117)","v":0},null,{"$f":"E117+G117+I117+K117+M117","v":0},{"$f":"MAX(D117,F117,H117,J117,L117)","v":0},{"$f":"IF(S117=1,O117,IF(S117=0,(O117-P117),\"-\"))","v":"-"},{"$f":"COUNTIF(U117:AD117,\"=TRUE\")","v":0},{"$f":"AE$1-R117","v":5},{"$f":"IF(S117<2,\"Yes\",\"No\")","v":"No"},{"$f":"IF(D117=\"-\",1,0)*U$1","v":1},{"$f":"AND(U117=0,U$1=1)","v":false},{"$f":"IF(F117=\"-\",1,0)*W$1","v":1},{"$f":"AND(W117=0,W$1=1)","v":false},{"$f":"IF(H117=\"-\",1,0)*Y$1","v":1},{"$f":"AND(Y117=0,Y$1=1)","v":false},{"$f":"IF(J117=\"-\",1,0)*AA$1","v":1},{"$f":"AND(AA117=0,AA$1=1)","v":false},{"$f":"IF(L117=\"-\",1,0)*AC$1","v":1},{"$f":"AND(AC117=0,AC$1=1)","v":false}]
[115,null,"-","-",{"$f":"IF(D118=\"-\",0,D118)","v":0},"-",{"$f":"IF(F118=\"-\",0,F118)","v":0},"-",{"$f":"IF(H118=\"-\",0,H118)","v":0},"-",{"$f":"IF(J118=\"-\",0,J118)","v":0},"-",{"$f":"IF(L118=\"-\",0,L118)","v":0},null,{"$f":"E118+G118+I118+K118+M118","v":0},{"$f":"MAX(D118,F118,H118,J118,L118)","v":0},{"$f":"IF(S118=1,O118,IF(S118=0,(O118-P118),\"-\"))","v":"-"},{"$f":"COUNTIF(U118:AD118,\"=TRUE\")","v":0},{"$f":"AE$1-R118","v":5},{"$f":"IF(S118<2,\"Yes\",\"No\")","v":"No"},{"$f":"IF(D118=\"-\",1,0)*U$1","v":1},{"$f":"AND(U118=0,U$1=1)","v":false},{"$f":"IF(F118=\"-\",1,0)*W$1","v":1},{"$f":"AND(W118=0,W$1=1)","v":false},{"$f":"IF(H118=\"-\",1,0)*Y$1","v":1},{"$f":"AND(Y118=0,Y$1=1)","v":false},{"$f":"IF(J118=\"-\",1,0)*AA$1","v":1},{"$f":"AND(AA118=0,AA$1=1)","v":false},{"$f":"IF(L118=\"-\",1,0)*AC$1","v":1},{"$f":"AND(AC118=0,AC$1=1)","v":false}]
[116,null,"-","-",{"$f":"IF(D119=\"-\",0,D119)","v":0},"-",{"$f":"IF(F119=\"-\",0,F119)","v":0},"-",{"$f":"IF(H119=\"-\",0,H119)","v":0},"-",{"$f":"IF(J119=\"-\",0,J119)","v":0},"-",{"$f":"IF(L119=\"-\",0,L119)","v":0},null,{"$f":"E119+G119+I119+K119+M119","v":0},{"$f":"MAX(D119,F119,H119,J119,L119)","v":0},{"$f":"IF(S119=1,O119,IF(S119=0,(O119-P119),\"-\"))","v":"-"},{"$f":"COUNTIF(U119:AD119,\"=TRUE\")","v":0},{"$f":"AE$1-R119","v":5},{"$f":"IF(S119<2,\"Yes\",\"No\")","v":"No"},{"$f":"IF(D119=\"-\",1,0)*U$1","v":1},{"$f":"AND(U119=0,U$1=1)","v":false},{"$f":"IF(F119=\"-\",1,0)*W$1","v":1},{"$f":"AND(W119=0,W$1=1)","v":false},{"$f":"IF(H119=\"-\",1,0)*Y$1","v":1},{"$f":"AND(Y119=0,Y$1=1)","v":false},{"$f":"IF(J119=\"-\",1,0)*AA$1","v":1},{"$f":"AND(AA119=0,AA$1=1)","v":false},{"$f":"IF(L119=\"-\",1,0)*AC$1","v":1},{"$f":"AND(AC119=0,AC$1=1)","v":false}]
[117,null,"-","-",{"$f":"IF(D120=\"-\",0,D120)","v":0},"-",{"$f":"IF(F120=\"-\",0,F120)","v":0},"-",{"$f":"IF(H120=\"-\",0,H120)","v":0},"-",{"$f":"IF(J120=\"-\",0,J120)","v":0},"-",{"$f":"IF(L120=\"-\",0,L120)","v":0},null,{"$f":"E120+G120+I120+K120+M120","v":0},{"$f":"MAX(D120,F120,H120,J120,L120)","v":0},{"$f":"IF(S120=1,O120,IF(S120=0,(O120-P120),\"-\"))","v":"-"},{"$f":"COUNTIF(U120:AD120,\"=TRUE\")","v":0},{"$f":"AE$1-R120","v":5},{"$f":"IF(S120<2,\"Yes\",\"No\")","v":"No"},{"$f":"IF(D120=\"-\",1,0)*U$1","v":1},{"$f":"AND(U120=0,U$1=1)","v":false},{"$f":"IF(F120=\"-\",1,0)*W$1","v":1},{"$f":"AND(W120=0,W$1=1)","v":false},{"$f":"IF(H120=\"-\",1,0)*Y$1","v":1},{"$f":"AND(Y120=0,Y$1=1)","v":false},{"$f":"IF(J120=\"-\",1,0)*AA$1","v":1},{"$f":"AND(AA120=0,AA$1=1)","v":false},{"$f":"IF(L120=\"-\",1,0)*AC$1","v":1},{"$f":"AND(AC120=0,AC$1=1)","v":false}]
[118,null,"-","-",{"$f":"IF(D121=\"-\",0,D121)","v":0},"-",{"$f":"IF(F121=\"-\",0,F121)","v":0},"-",{"$f":"IF(H121=\"-\",0,H121)","v":0},"-",{"$f":"IF(J121=\"-\",0,J121)","v":0},"-",{"$f":"IF(L121=\"-\",0,L121)","v":0},null,{"$f":"E121+G121+I121+K121+M121","v":0},{"$f":"MAX(D121,F121,H121,J121,L121)","v":0},{"$f":"IF(S121=1,O121,IF(S121=0,(O121-P121),\"-\"))","v":"-"},{"$f":"COUNTIF(U121:AD121,\"=TRUE\")","v":0},{"$f":"AE$1-R121","v":5},{"$f":"IF(S121<2,\"Yes\",\"No\")","v":"No"},{"$f":"IF(D121=\"-\",1,0)*U$1","v":1},{"$f":"AND(U121=0,U$1=1)","v":false},{"$f":"IF(F121=\"-\",1,0)*W$1","v":1},{"$f":"AND(W121=0,W$1=1)","v":false},{"$f":"IF(H121=\"-\",1,0)*Y$1","v":1},{"$f":"AND(Y121=0,Y$1=1)","v":false},{"$f":"IF(J121=\"-\",1,0)*AA$1","v":1},{"$f":"AND(AA121=0,AA$1=1)","v":false},{"$f":"IF(L121=\"-\",1,0)*AC$1","v":1},{"$f":"AND(AC121=0,AC$1=1)","v":false}]
[119,null,"-","-",{"$f":"IF(D122=\"-\",0,D122)","v":0},"-",{"$f":"IF(F122=\"-\",0,F122)","v":0},"-",{"$f":"IF(H122=\"-\",0,H122)","v":0},"-",{"$f":"IF(J122=\"-\",0,J122)","v":0},"-",{"$f":"IF(L122=\"-\",0,L122)","v":0},null,{"$f":"E122+G122+I122+K122+M122","v":0},{"$f":"MAX(D122,F122,H122,J122,L122)","v":0},{"$f":"IF(S122=1,O122,IF(S122=0,(O122-P122),\"-\"))","v":"-"},{"$f":"COUNTIF(U122:AD122,\"=TRUE\")","v":0},{"$f":"AE$1-R122","v":5},{"$f":"IF(S122<2,\"Yes\",\"No\")","v":"No"},{"$f":"IF(D122=\"-\",1,0)*U$1","v":1},{"$f":"AND(U122=0,U$1=1)","v":false},{"$f":"IF(F122=\"-\",1,0)*W$1","v":1},{"$f":"AND(W122=0,W$1=1)","v":false},{"$f":"IF(H122=\"-\",1,0)*Y$1","v":1},{"$f":"AND(Y122=0,Y$1=1)","v":false},{"$f":"IF(J122=\"-\",1,0)*AA$1","v":1},{"$f":"AND(AA122=0,AA$1=1)","v":false},{"$f":"IF(L122=\"-\",1,0)*AC$1","v":1},{"$f":"AND(AC122=0,AC$1=1)","v":false}]
[120,null,"-","-",{"$f":"IF(D123=\"-\",0,D123)","v":0},"-",{"$f":"IF(F123=\"-\",0,F123)","v":0},"-",{"$f":"IF(H123=\"-\",0,H123)","v":0},"-",{"$f":"IF(J123=\"-\",0,J123)","v":0},"-",{"$f":"IF(L123=\"-\",0,L123)","v":0},null,{"$f":"E123+G123+I123+K123+M123","v":0},{"$f":"MAX(D123,F123,H123,J123,L123)","v":0},{"$f":"IF(S123=1,O123,IF(S123=0,(O123-P123),\"-\"))","v":"-"},{"$f":"COUNTIF(U123:AD123,\"=TRUE\")","v":0},{"$f":"AE$1-R123","v":5},{"$f":"IF(S123<2,\"Yes\",\"No\")","v":"No"},{"$f":"IF(D123=\"-\",1,0)*U$1","v":1},{"$f":"AND(U123=0,U$1=1)","v":false},{"$f":"IF(F123=\"-\",1,0)*W$1","v":1},{"$f":"AND(W123=0,W$1=1)","v":false},{"$f":"IF(H123=\"-\",1,0)*Y$1","v":1},{"$f":"AND(Y123=0,Y$1=1)","v":false},{"$f":"IF(J123=\"-\",1,0)*AA$1","v":1},{"$f":"AND(AA123=0,AA$1=1)","v":false},{"$f":"IF(L123=\"-\",1,0)*AC$1","v":1},{"$f":"AND(AC123=0,AC$1=1)","v":false}]
[121,null,"-","-",{"$f":"IF(D124=\"-\",0,D124)","v":0},"-",{"$f":"IF(F124=\"-\",0,F124)","v":0},"-",{"$f":"IF(H124=\"-\",0,H124)","v":0},"-",{"$f":"IF(J124=\"-\",0,J124)","v":0},"-",{"$f":"IF(L124=\"-\",0,L124)","v":0},null,{"$f":"E124+G124+I124+K124+M124","v":0},{"$f":"MAX(D124,F124,H124,J124,L124)","v":0},{"$f":"IF(S124=1,O124,IF(S124=0,(O124-P124),\"-\"))","v":"-"},{"$f":"COUNTIF(U124:AD124,\"=TRUE\")","v":0},{"$f":"AE$1-R124","v":5},{"$f":"IF(S124<2,\"Yes\",\"No\")","v":"No"},{"$f":"IF(D124=\"-\",1,0)*U$1","v":1},{"$f":"AND(U124=0,U$1=1)","v":false},{"$f":"IF(F124=\"-\",1,0)*W$1","v":1},{"$f":"AND(W124=0,W$1=1)","v":false},{"$f":"IF(H124=\"-\",1,0)*Y$1","v":1},{"$f":"AND(Y124=0,Y$1=1)","v":false},{"$f":"IF(J124=\"-\",1,0)*AA$1","v":1},{"$f":"AND(AA124=0,AA$1=1)","v":false},{"$f":"IF(L124=\"-\",1,0)*AC$1","v":1},{"$f":"AND(AC124=0,AC$1=1)","v":false}]
[122,null,"-","-",{"$f":"IF(D125=\"-\",0,D125)","v":0},"-",{"$f":"IF(F125=\"-\",0,F125)","v":0},"-",{"$f":"IF(H125=\"-\",0,H125)","v":0},"-",{"$f":"IF(J125=\"-\",0,J125)","v":0},"-",{"$f":"IF(L125=\"-\",0,L125)","v":0},null,{"$f":"E125+G125+I125+K125+M125","v":0},{"$f":"MAX(D125,F125,H125,J125,L125)","v":0},{"$f":"IF(S125=1,O125,IF(S125=0,(O125-P125),\"-\"))","v":"-"},{"$f":"COUNTIF(U125:AD125,\"=TRUE\")","v":0},{"$f":"AE$1-R125","v":5},{"$f":"IF(S125<2,\"Yes\",\"No\")","v":"No"},{"$f":"IF(D125=\"-\",1,0)*U$1","v":1},{"$f":"AND(U125=0,U$1=1)","v":false},{"$f":"IF(F125=\"-\",1,0)*W$1","v":1},{"$f":"AND(W125=0,W$1=1)","v":false},{"$f":"IF(H125=\"-\",1,0)*Y$1","v":1},{"$f":"AND(Y125=0,Y$1=1)","v":false},{"$f":"IF(J125=\"-\",1,0)*AA$1","v":1},{"$f":"AND(AA125=0,AA$1=1)","v":false},{"$f":"IF(L125=\"-\",1,0)*AC$1","v":1},{"$f":"AND(AC125=0,AC$1=1)","v":false}]
[123,null,"-","-",{"$f":"IF(D126=\"-\",0,D126)","v":0},"-",{"$f":"IF(F126=\"-\",0,F126)","v":0},"-",{"$f":"IF(H126=\"-\",0,H126)","v":0},"-",{"$f":"IF(J126=\"-\",0,J126)","v":0},"-",{"$f":"IF(L126=\"-\",0,L126)","v":0},null,{"$f":"E126+G126+I126+K126+M126","v":0},{"$f":"MAX(D126,F126,H126,J126,L126)","v":0},{"$f":"IF(S126=1,O126,IF(S126=0,(O126-P126),\"-\"))","v":"-"},{"$f":"COUNTIF(U126:AD126,\"=TRUE\")","v":0},{"$f":"AE$1-R126","v":5},{"$f":"IF(S126<2,\"Yes\",\"No\")","v":"No"},{"$f":"IF(D126=\"-\",1,0)*U$1","v":1},{"$f":"AND(U126=0,U$1=1)","v":false},{"$f":"IF(F126=\"-\",1,0)*W$1","v":1},{"$f":"AND(W126=0,W$1=1)","v":false},{"$f":"IF(H126=\"-\",1,0)*Y$1","v":1},{"$f":"AND(Y126=0,Y$1=1)","v":false},{"$f":"IF(J126=\"-\",1,0)*AA$1","v":1},{"$f":"AND(AA126=0,AA$1=1)","v":false},{"$f":"IF(L126=\"-\",1,0)*AC$1","v":1},{"$f":"AND(AC126=0,AC$1=1)","v":false}]
[124,null,"-","-",{"$f":"IF(D127=\"-\",0,D127)","v":0},"-",{"$f":"IF(F127=\"-\",0,F127)","v":0},"-",{"$f":"IF(H127=\"-\",0,H127)","v":0},"-",{"$f":"IF(J127=\"-\",0,J127)","v":0},"-",{"$f":"IF(L127=\"-\",0,L127)","v":0},null,{"$f":"E127+G127+I127+K127+M127","v":0},{"$f":"MAX(D127,F127,H127,J127,L127)","v":0},{"$f":"IF(S127=1,O127,IF(S127=0,(O127-P127),\"-\"))","v":"-"},{"$f":"COUNTIF(U127:AD127,\"=TRUE\")","v":0},{"$f":"AE$1-R127","v":5},{"$f":"IF(S127<2,\"Yes\",\"No\")","v":"No"},{"$f":"IF(D127=\"-\",1,0)*U$1","v":1},{"$f":"AND(U127=0,U$1=1)","v":false},{"$f":"IF(F127=\"-\",1,0)*W$1","v":1},{"$f":"AND(W127=0,W$1=1)","v":false},{"$f":"IF(H127=\"-\",1,0)*Y$1","v":1},{"$f":"AND(Y127=0,Y$1=1)","v":false},{"$f":"IF(J127=\"-\",1,0)*AA$1","v":1},{"$f":"AND(AA127=0,AA$1=1)","v":false},{"$f":"IF(L127=\"-\",1,0)*AC$1","v":1},{"$f":"AND(AC127=0,AC$1=1)","v":false}]
[125,null,"-","-",{"$f":"IF(D128=\"-\",0,D128)","v":0},"-",{"$f":"IF(F128=\"-\",0,F128)","v":0},"-",{"$f":"IF(H128=\"-\",0,H128)","v":0},"-",{"$f":"IF(J128=\"-\",0,J128)","v":0},"-",{"$f":"IF(L128=\"-\",0,L128)","v":0},null,{"$f":"E128+G128+I128+K128+M128","v":0},{"$f":"MAX(D128,F128,H128,J128,L128)","v":0},{"$f":"IF(S128=1,O128,IF(S128=0,(O128-P128),\"-\"))","v":"-"},{"$f":"COUNTIF(U128:AD128,\"=TRUE\")","v":0},{"$f":"AE$1-R128","v":5},{"$f":"IF(S128<2,\"Yes\",\"No\")","v":"No"},{"$f":"IF(D128=\"-\",1,0)*U$1","v":1},{"$f":"AND(U128=0,U$1=1)","v":false},{"$f":"IF(F128=\"-\",1,0)*W$1","v":1},{"$f":"AND(W128=0,W$1=1)","v":false},{"$f":"IF(H128=\"-\",1,0)*Y$1","v":1},{"$f":"AND(Y128=0,Y$1=1)","v":false},{"$f":"IF(J128=\"-\",1,0)*AA$1","v":1},{"$f":"AND(AA128=0,AA$1=1)","v":false},{"$f":"IF(L128=\"-\",1,0)*AC$1","v":1},{"$f":"AND(AC128=0,AC$1=1)","v":false}]
[126,null,"-","-",{"$f":"IF(D129=\"-\",0,D129)","v":0},"-",{"$f":"IF(F129=\"-\",0,F129)","v":0},"-",{"$f":"IF(H129=\"-\",0,H129)","v":0},"-",{"$f":"IF(J129=\"-\",0,J129)","v":0},"-",{"$f":"IF(L129=\"-\",0,L129)","v":0},null,{"$f":"E129+G129+I129+K129+M129","v":0},{"$f":"MAX(D129,F129,H129,J129,L129)","v":0},{"$f":"IF(S129=1,O129,IF(S129=0,(O129-P129),\"-\"))","v":"-"},{"$f":"COUNTIF(U129:AD129,\"=TRUE\")","v":0},{"$f":"AE$1-R129","v":5},{"$f":"IF(S129<2,\"Yes\",\"No\")","v":"No"},{"$f":"IF(D129=\"-\",1,0)*U$1","v":1},{"$f":"AND(U129=0,U$1=1)","v":false},{"$f":"IF(F129=\"-\",1,0)*W$1","v":1},{"$f":"AND(W129=0,W$1=1)","v":false},{"$f":"IF(H129=\"-\",1,0)*Y$1","v":1},{"$f":"AND(Y129=0,Y$1=1)","v":false},{"$f":"IF(J129=\"-\",1,0)*AA$1","v":1},{"$f":"AND(AA129=0,AA$1=1)","v":false},{"$f":"IF(L129=\"-\",1,0)*AC$1","v":1},{"$f":"AND(AC129=0,AC$1=1)","v":false}]
[127,null,"-","-",{"$f":"IF(D130=\"-\",0,D130)","v":0},"-",{"$f":"IF(F130=\"-\",0,F130)","v":0},"-",{"$f":"IF(H130=\"-\",0,H130)","v":0},"-",{"$f":"IF(J130=\"-\",0,J130)","v":0},"-",{"$f":"IF(L130=\"-\",0,L130)","v":0},null,{"$f":"E130+G130+I130+K130+M130","v":0},{"$f":"MAX(D130,F130,H130,J130,L130)","v":0},{"$f":"IF(S130=1,O130,IF(S130=0,(O130-P130),\"-\"))","v":"-"},{"$f":"COUNTIF(U130:AD130,\"=TRUE\")","v":0},{"$f":"AE$1-R130","v":5},{"$f":"IF(S130<2,\"Yes\",\"No\")","v":"No"},{"$f":"IF(D130=\"-\",1,0)*U$1","v":1},{"$f":"AND(U130=0,U$1=1)","v":false},{"$f":"IF(F130=\"-\",1,0)*W$1","v":1},{"$f":"AND(W130=0,W$1=1)","v":false},{"$f":"IF(H130=\"-\",1,0)*Y$1","v":1},{"$f":"AND(Y130=0,Y$1=1)","v":false},{"$f":"IF(J130=\"-\",1,0)*AA$1","v":1},{"$f":"AND(AA130=0,AA$1=1)","v":false},{"$f":"IF(L130=\"-\",1,0)*AC$1","v":1},{"$f":"AND(AC130=0,AC$1=1)","v":false}]
[128,null,"-","-",{"$f":"IF(D131=\"-\",0,D131)","v":0},"-",{"$f":"IF(F131=\"-\",0,F131)","v":0},"-",{"$f":"IF(H131=\"-\",0,H131)","v":0},"-",{"$f":"IF(J131=\"-\",0,J131)","v":0},"-",{"$f":"IF(L131=\"-\",0,L131)","v":0},null,{"$f":"E131+G131+I131+K131+M131","v":0},{"$f":"MAX(D131,F131,H131,J131,L131)","v":0},{"$f":"IF(S131=1,O131,IF(S131=0,(O131-P131),\"-\"))","v":"-"},{"$f":"COUNTIF(U131:AD131,\"=TRUE\")","v":0},{"$f":"AE$1-R131","v":5},{"$f":"IF(S131<2,\"Yes\",\"No\")","v":"No"},{"$f":"IF(D131=\"-\",1,0)*U$1","v":1},{"$f":"AND(U131=0,U$1=1)","v":false},{"$f":"IF(F131=\"-\",1,0)*W$1","v":1},{"$f":"AND(W131=0,W$1=1)","v":false},{"$f":"IF(H131=\"-\",1,0)*Y$1","v":1},{"$f":"AND(Y131=0,Y$1=1)","v":false},{"$f":"IF(J131=\"-\",1,0)*AA$1","v":1},{"$f":"AND(AA131=0,AA$1=1)","v":false},{"$f":"IF(L131=\"-\",1,0)*AC$1","v":1},{"$f":"AND(AC131=0,AC$1=1)","v":false}]
[129,null,"-","-",{"$f":"IF(D132=\"-\",0,D132)","v":0},"-",{"$f":"IF(F132=\"-\",0,F132)","v":0},"-",{"$f":"IF(H132=\"-\",0,H132)","v":0},"-",{"$f":"IF(J132=\"-\",0,J132)","v":0},"-",{"$f":"IF(L132=\"-\",0,L132)","v":0},null,{"$f":"E132+G132+I132+K132+M132","v":0},{"$f":"MAX(D132,F132,H132,J132,L132)","v":0},{"$f":"IF(S132=1,O132,IF(S132=0,(O132-P132),\"-\"))","v":"-"},{"$f":"COUNTIF(U132:AD132,\"=TRUE\")","v":0},{"$f":"AE$1-R132","v":5},{"$f":"IF(S132<2,\"Yes\",\"No\")","v":"No"},{"$f":"IF(D132=\"-\",1,0)*U$1","v":1},{"$f":"AND(U132=0,U$1=1)","v":false},{"$f":"IF(F132=\"-\",1,0)*W$1","v":1},{"$f":"AND(W132=0,W$1=1)","v":false},{"$f":"IF(H132=\"-\",1,0)*Y$1","v":1},{"$f":"AND(Y132=0,Y$1=1)","v":false},{"$f":"IF(J132=\"-\",1,0)*AA$1","v":1},{"$f":"AND(AA132=0,AA$1=1)","v":false},{"$f":"IF(L132=\"-\",1,0)*AC$1","v":1},{"$f":"AND(AC132=0,AC$1=1)","v":false}]
[130,null,"-","-",{"$f":"IF(D133=\"-\",0,D133)","v":0},"-",{"$f":"IF(F133=\"-\",0,F133)","v":0},"-",{"$f":"IF(H133=\"-\",0,H133)","v":0},"-",{"$f":"IF(J133=\"-\",0,J133)","v":0},"-",{"$f":"IF(L133=\"-\",0,L133)","v":0},null,{"$f":"E133+G133+I133+K133+M133","v":0},{"$f":"MAX(D133,F133,H133,J133,L133)","v":0},{"$f":"IF(S133=1,O133,IF(S133=0,(O133-P133),\"-\"))","v":"-"},{"$f":"COUNTIF(U133:AD133,\"=TRUE\")","v":0},{"$f":"AE$1-R133","v":5},{"$f":"IF(S133<2,\"Yes\",\"No\")","v":"No"},{"$f":"IF(D133=\"-\",1,0)*U$1","v":1},{"$f":"AND(U133=0,U$1=1)","v":false},{"$f":"IF(F133=\"-\",1,0)*W$1","v":1},{"$f":"AND(W133=0,W$1=1)","v":false},{"$f":"IF(H133=\"-\",1,0)*Y$1","v":1},{"$f":"AND(Y133=0,Y$1=1)","v":false},{"$f":"IF(J133=\"-\",1,0)*AA$1","v":1},{"$f":"AND(AA133=0,AA$1=1)","v":false},{"$f":"IF(L133=\"-\",1,0)*AC$1","v":1},{"$f":"AND(AC133=0,AC$1=1)","v":false}]
[131,null,"-","-",{"$f":"IF(D134=\"-\",0,D134)","v":0},"-",{"$f":"IF(F134=\"-\",0,F134)","v":0},"-",{"$f":"IF(H134=\"-\",0,H134)","v":0},"-",{"$f":"IF(J134=\"-\",0,J134)","v":0},"-",{"$f":"IF(L134=\"-\",0,L134)","v":0},null,{"$f":"E134+G134+I134+K134+M134","v":0},{"$f":"MAX(D134,F134,H134,J134,L134)","v":0},{"$f":"IF(S134=1,O134,IF(S134=0,(O134-P134),\"-\"))","v":"-"},{"$f":"COUNTIF(U134:AD134,\"=TRUE\")","v":0},{"$f":"AE$1-R134","v":5},{"$f":"IF(S134<2,\"Yes\",\"No\")","v":"No"},{"$f":"IF(D134=\"-\",1,0)*U$1","v":1},{"$f":"AND(U134=0,U$1=1)","v":false},{"$f":"IF(F134=\"-\",1,0)*W$1","v":1},{"$f":"AND(W134=0,W$1=1)","v":false},{"$f":"IF(H134=\"-\",1,0)*Y$1","v":1},{"$f":"AND(Y134=0,Y$1=1)","v":false},{"$f":"IF(J134=\"-\",1,0)*AA$1","v":1},{"$f":"AND(AA134=0,AA$1=1)","v":false},{"$f":"IF(L134=\"-\",1,0)*AC$1","v":1},{"$f":"AND(AC134=0,AC$1=1)","v":false}]
[132,null,"-","-",{"$f":"IF(D135=\"-\",0,D135)","v":0},"-",{"$f":"IF(F135=\"-\",0,F135)","v":0},"-",{"$f":"IF(H135=\"-\",0,H135)","v":0},"-",{"$f":"IF(J135=\"-\",0,J135)","v":0},"-",{"$f":"IF(L135=\"-\",0,L135)","v":0},null,{"$f":"E135+G135+I135+K135+M135","v":0},{"$f":"MAX(D135,F135,H135,J135,L135)","v":0},{"$f":"IF(S135=1,O135,IF(S135=0,(O135-P135),\"-\"))","v":"-"},{"$f":"COUNTIF(U135:AD135,\"=TRUE\")","v":0},{"$f":"AE$1-R135","v":5},{"$f":"IF(S135<2,\"Yes\",\"No\")","v":"No"},{"$f":"IF(D135=\"-\",1,0)*U$1","v":1},{"$f":"AND(U135=0,U$1=1)","v":false},{"$f":"IF(F135=\"-\",1,0)*W$1","v":1},{"$f":"AND(W135=0,W$1=1)","v":false},{"$f":"IF(H135=\"-\",1,0)*Y$1","v":1},{"$f":"AND(Y135=0,Y$1=1)","v":false},{"$f":"IF(J135=\"-\",1,0)*AA$1","v":1},{"$f":"AND(AA135=0,AA$1=1)","v":false},{"$f":"IF(L135=\"-\",1,0)*AC$1","v":1},{"$f":"AND(AC135=0,AC$1=1)","v":false}]
[133,null,"-","-",{"$f":"IF(D136=\"-\",0,D136)","v":0},"-",{"$f":"IF(F136=\"-\",0,F136)","v":0},"-",{"$f":"IF(H136=\"-\",0,H136)","v":0},"-",{"$f":"IF(J136=\"-\",0,J136)","v":0},"-",{"$f":"IF(L136=\"-\",0,L136)","v":0},null,{"$f":"E136+G136+I136+K136+M136","v":0},{"$f":"MAX(D136,F136,H136,J136,L136)","v":0},{"$f":"IF(S136=1,O136,IF(S136=0,(O136-P136),\"-\"))","v":"-"},{"$f":"COUNTIF(U136:AD136,\"=TRUE\")","v":0},{"$f":"AE$1-R136","v":5},{"$f":"IF(S136<2,\"Yes\",\"No\")","v":"No"},{"$f":"IF(D136=\"-\",1,0)*U$1","v":1},{"$f":"AND(U136=0,U$1=1)","v":false},{"$f":"IF(F136=\"-\",1,0)*W$1","v":1},{"$f":"AND(W136=0,W$1=1)","v":false},{"$f":"IF(H136=\"-\",1,0)*Y$1","v":1},{"$f":"AND(Y136=0,Y$1=1)","v":false},{"$f":"IF(J136=\"-\",1,0)*AA$1","v":1},{"$f":"AND(AA136=0,AA$1=1)","v":false},{"$f":"IF(L136=\"-\",1,0)*AC$1","v":1},{"$f":"AND(AC136=0,AC$1=1)","v":false}]
[134,null,"-","-",{"$f":"IF(D137=\"-\",0,D137)","v":0},"-",{"$f":"IF(F137=\"-\",0,F137)","v":0},"-",{"$f":"IF(H137=\"-\",0,H137)","v":0},"-",{"$f":"IF(J137=\"-\",0,J137)","v":0},"-",{"$f":"IF(L137=\"-\",0,L137)","v":0},null,{"$f":"E137+G137+I137+K137+M137","v":0},{"$f":"MAX(D137,F137,H137,J137,L137)","v":0},{"$f":"IF(S137=1,O137,IF(S137=0,(O137-P137),\"-\"))","v":"-"},{"$f":"COUNTIF(U137:AD137,\"=TRUE\")","v":0},{"$f":"AE$1-R137","v":5},{"$f":"IF(S137<2,\"Yes\",\"No\")","v":"No"},{"$f":"IF(D137=\"-\",1,0)*U$1","v":1},{"$f":"AND(U137=0,U$1=1)","v":false},{"$f":"IF(F137=\"-\",1,0)*W$1","v":1},{"$f":"AND(W137=0,W$1=1)","v":false},{"$f":"IF(H137=\"-\",1,0)*Y$1","v":1},{"$f":"AND(Y137=0,Y$1=1)","v":false},{"$f":"IF(J137=\"-\",1,0)*AA$1","v":1},{"$f":"AND(AA137=0,AA$1=1)","v":false},{"$f":"IF(L137=\"-\",1,0)*AC$1","v":1},{"$f":"AND(AC137=0,AC$1=1)","v":false}]
[135,null,"-","-",{"$f":"IF(D138=\"-\",0,D138)","v":0},"-",{"$f":"IF(F138=\"-\",0,F138)","v":0},"-",{"$f":"IF(H138=\"-\",0,H138)","v":0},"-",{"$f":"IF(J138=\"-\",0,J138)","v":0},"-",{"$f":"IF(L138=\"-\",0,L138)","v":0},null,{"$f":"E138+G138+I138+K138+M138","v":0},{"$f":"MAX(D138,F138,H138,J138,L138)","v":0},{"$f":"IF(S138=1,O138,IF(S138=0,(O138-P138),\"-\"))","v":"-"},{"$f":"COUNTIF(U138:AD138,\"=TRUE\")","v":0},{"$f":"AE$1-R138","v":5},{"$f":"IF(S138<2,\"Yes\",\"No\")","v":"No"},{"$f":"IF(D138=\"-\",1,0)*U$1","v":1},{"$f":"AND(U138=0,U$1=1)","v":false},{"$f":"IF(F138=\"-\",1,0)*W$1","v":1},{"$f":"AND(W138=0,W$1=1)","v":false},{"$f":"IF(H138=\"-\",1,0)*Y$1","v":1},{"$f":"AND(Y138=0,Y$1=1)","v":false},{"$f":"IF(J138=\"-\",1,0)*AA$1","v":1},{"$f":"AND(AA138=0,AA$1=1)","v":false},{"$f":"IF(L138=\"-\",1,0)*AC$1","v":1},{"$f":"AND(AC138=0,AC$1=1)","v":false}]
[136,null,"-","-",{"$f":"IF(D139=\"-\",0,D139)","v":0},"-",{"$f":"IF(F139=\"-\",0,F139)","v":0},"-",{"$f":"IF(H139=\"-\",0,H139)","v":0},"-",{"$f":"IF(J139=\"-\",0,J139)","v":0},"-",{"$f":"IF(L139=\"-\",0,L139)","v":0},null,{"$f":"E139+G139+I139+K139+M139","v":0},{"$f":"MAX(D139,F139,H139,J139,L139)","v":0},{"$f":"IF(S139=1,O139,IF(S139=0,(O139-P139),\"-\"))","v":"-"},{"$f":"COUNTIF(U139:AD139,\"=TRUE\")","v":0},{"$f":"AE$1-R139","v":5},{"$f":"IF(S139<2,\"Yes\",\"No\")","v":"No"},{"$f":"IF(D139=\"-\",1,0)*U$1","v":1},{"$f":"AND(U139=0,U$1=1)","v":false},{"$f":"IF(F139=\"-\",1,0)*W$1","v":1},{"$f":"AND(W139=0,W$1=1)","v":false},{"$f":"IF(H139=\"-\",1,0)*Y$1","v":1},{"$f":"AND(Y139=0,Y$1=1)","v":false},{"$f":"IF(J139=\"-\",1,0)*AA$1","v":1},{"$f":"AND(AA139=0,AA$1=1)","v":false},{"$f":"IF(L139=\"-\",1,0)*AC$1","v":1},{"$f":"AND(AC139=0,AC$1=1)","v":false}]
[137,null,"-","-",{"$f":"IF(D140=\"-\",0,D140)","v":0},"-",{"$f":"IF(F140=\"-\",0,F140)","v":0},"-",{"$f":"IF(H140=\"-\",0,H140)","v":0},"-",{"$f":"IF(J140=\"-\",0,J140)","v":0},"-",{"$f":"IF(L140=\"-\",0,L140)","v":0},null,{"$f":"E140+G140+I140+K140+M140","v":0},{"$f":"MAX(D140,F140,H140,J140,L140)","v":0},{"$f":"IF(S140=1,O140,IF(S140=0,(O140-P140),\"-\"))","v":"-"},{"$f":"COUNTIF(U140:AD140,\"=TRUE\")","v":0},{"$f":"AE$1-R140","v":5},{"$f":"IF(S140<2,\"Yes\",\"No\")","v":"No"},{"$f":"IF(D140=\"-\",1,0)*U$1","v":1},{"$f":"AND(U140=0,U$1=1)","v":false},{"$f":"IF(F140=\"-\",1,0)*W$1","v":1},{"$f":"AND(W140=0,W$1=1)","v":false},{"$f":"IF(H140=\"-\",1,0)*Y$1","v":1},{"$f":"AND(Y140=0,Y$1=1)","v":false},{"$f":"IF(J140=\"-\",1,0)*AA$1","v":1},{"$f":"AND(AA140=0,AA$1=1)","v":false},{"$f":"IF(L140=\"-\",1,0)*AC$1","v":1},{"$f":"AND(AC140=0,AC$1=1)","v":false}]
[138,null,"-","-",{"$f":"IF(D141=\"-\",0,D141)","v":0},"-",{"$f":"IF(F141=\"-\",0,F141)","v":0},"-",{"$f":"IF(H141=\"-\",0,H141)","v":0},"-",{"$f":"IF(J141=\"-\",0,J141)","v":0},"-",{"$f":"IF(L141=\"-\",0,L141)","v":0},null,{"$f":"E141+G141+I141+K141+M141","v":0},{"$f":"MAX(D141,F141,H141,J141,L141)","v":0},{"$f":"IF(S141=1,O141,IF(S141=0,(O141-P141),\"-\"))","v":"-"},{"$f":"COUNTIF(U141:AD141,\"=TRUE\")","v":0},{"$f":"AE$1-R141","v":5},{"$f":"IF(S141<2,\"Yes\",\"No\")","v":"No"},{"$f":"IF(D141=\"-\",1,0)*U$1","v":1},{"$f":"AND(U141=0,U$1=1)","v":false},{"$f":"IF(F141=\"-\",1,0)*W$1","v":1},{"$f":"AND(W141=0,W$1=1)","v":false},{"$f":"IF(H141=\"-\",1,0)*Y$1","v":1},{"$f":"AND(Y141=0,Y$1=1)","v":false},{"$f":"IF(J141=\"-\",1,0)*AA$1","v":1},{"$f":"AND(AA141=0,AA$1=1)","v":false},{"$f":"IF(L141=\"-\",1,0)*AC$1","v":1},{"$f":"AND(AC141=0,AC$1=1)","v":false}]
[139,null,"-","-",{"$f":"IF(D142=\"-\",0,D142)","v":0},"-",{"$f":"IF(F142=\"-\",0,F142)","v":0},"-",{"$f":"IF(H142=\"-\",0,H142)","v":0},"-",{"$f":"IF(J142=\"-\",0,J142)","v":0},"-",{"$f":"IF(L142=\"-\",0,L142)","v":0},null,{"$f":"E142+G142+I142+K142+M142","v":0},{"$f":"MAX(D142,F142,H142,J142,L142)","v":0},{"$f":"IF(S142=1,O142,IF(S142=0,(O142-P142),\"-\"))","v":"-"},{"$f":"COUNTIF(U142:AD142,\"=TRUE\")","v":0},{"$f":"AE$1-R142","v":5},{"$f":"IF(S142<2,\"Yes\",\"No\")","v":"No"},{"$f":"IF(D142=\"-\",1,0)*U$1","v":1},{"$f":"AND(U142=0,U$1=1)","v":false},{"$f":"IF(F142=\"-\",1,0)*W$1","v":1},{"$f":"AND(W142=0,W$1=1)","v":false},{"$f":"IF(H142=\"-\",1,0)*Y$1","v":1},{"$f":"AND(Y142=0,Y$1=1)","v":false},{"$f":"IF(J142=\"-\",1,0)*AA$1","v":1},{"$f":"AND(AA142=0,AA$1=1)","v":false},{"$f":"IF(L142=\"-\",1,0)*AC$1","v":1},{"$f":"AND(AC142=0,AC$1=1)","v":false}]
[140,null,"-","-",{"$f":"IF(D143=\"-\",0,D143)","v":0},"-",{"$f":"IF(F143=\"-\",0,F143)","v":0},"-",{"$f":"IF(H143=\"-\",0,H143)","v":0},"-",{"$f":"IF(J143=\"-\",0,J143)","v":0},"-",{"$f":"IF(L143=\"-\",0,L143)","v":0},null,{"$f":"E143+G143+I143+K143+M143","v":0},{"$f":"MAX(D143,F143,H143,J143,L143)","v":0},{"$f":"IF(S143=1,O143,IF(S143=0,(O143-P143),\"-\"))","v":"-"},{"$f":"COUNTIF(U143:AD143,\"=TRUE\")","v":0},{"$f":"AE$1-R143","v":5},{"$f":"IF(S143<2,\"Yes\",\"No\")","v":"No"},{"$f":"IF(D143=\"-\",1,0)*U$1","v":1},{"$f":"AND(U143=0,U$1=1)","v":false},{"$f":"IF(F143=\"-\",1,0)*W$1","v":1},{"$f":"AND(W143=0,W$1=1)","v":false},{"$f":"IF(H143=\"-\",1,0)*Y$1","v":1},{"$f":"AND(Y143=0,Y$1=1)","v":false},{"$f":"IF(J143=\"-\",1,0)*AA$1","v":1},{"$f":"AND(AA143=0,AA$1=1)","v":false},{"$f":"IF(L143=\"-\",1,0)*AC$1","v":1},{"$f":"AND(AC143=0,AC$1=1)","v":false}]
[141,null,"-","-",{"$f":"IF(D144=\"-\",0,D144)","v":0},"-",{"$f":"IF(F144=\"-\",0,F144)","v":0},"-",{"$f":"IF(H144=\"-\",0,H144)","v":0},"-",{"$f":"IF(J144=\"-\",0,J144)","v":0},"-",{"$f":"IF(L144=\"-\",0,L144)","v":0},null,{"$f":"E144+G144+I144+K144+M144","v":0},{"$f":"MAX(D144,F144,H144,J144,L144)","v":0},{"$f":"IF(S144=1,O144,IF(S144=0,(O144-P144),\"-\"))","v":"-"},{"$f":"COUNTIF(U144:AD144,\"=TRUE\")","v":0},{"$f":"AE$1-R144","v":5},{"$f":"IF(S144<2,\"Yes\",\"No\")","v":"No"},{"$f":"IF(D144=\"-\",1,0)*U$1","v":1},{"$f":"AND(U144=0,U$1=1)","v":false},{"$f":"IF(F144=\"-\",1,0)*W$1","v":1},{"$f":"AND(W144=0,W$1=1)","v":false},{"$f":"IF(H144=\"-\",1,0)*Y$1","v":1},{"$f":"AND(Y144=0,Y$1=1)","v":false},{"$f":"IF(J144=\"-\",1,0)*AA$1","v":1},{"$f":"AND(AA144=0,AA$1=1)","v":false},{"$f":"IF(L144=\"-\",1,0)*AC$1","v":1},{"$f":"AND(AC144=0,AC$1=1)","v":false}]
[142,null,"-","-",{"$f":"IF(D145=\"-\",0,D145)","v":0},"-",{"$f":"IF(F145=\"-\",0,F145)","v":0},"-",{"$f":"IF(H145=\"-\",0,H145)","v":0},"-",{"$f":"IF(J145=\"-\",0,J145)","v":0},"-",{"$f":"IF(L145=\"-\",0,L145)","v":0},null,{"$f":"E145+G145+I145+K145+M145","v":0},{"$f":"MAX(D145,F145,H145,J145,L145)","v":0},{"$f":"IF(S145=1,O145,IF(S145=0,(O145-P145),\"-\"))","v":"-"},{"$f":"COUNTIF(U145:AD145,\"=TRUE\")","v":0},{"$f":"AE$1-R145","v":5},{"$f":"IF(S145<2,\"Yes\",\"No\")","v":"No"},{"$f":"IF(D145=\"-\",1,0)*U$1","v":1},{"$f":"AND(U145=0,U$1=1)","v":false},{"$f":"IF(F145=\"-\",1,0)*W$1","v":1},{"$f":"AND(W145=0,W$1=1)","v":false},{"$f":"IF(H145=\"-\",1,0)*Y$1","v":1},{"$f":"AND(Y145=0,Y$1=1)","v":false},{"$f":"IF(J145=\"-\",1,0)*AA$1","v":1},{"$f":"AND(AA145=0,AA$1=1)","v":false},{"$f":"IF(L145=\"-\",1,0)*AC$1","v":1},{"$f":"AND(AC145=0,AC$1=1)","v":false}]
[143,null,"-","-",{"$f":"IF(D146=\"-\",0,D146)","v":0},"-",{"$f":"IF(F146=\"-\",0,F146)","v":0},"-",{"$f":"IF(H146=\"-\",0,H146)","v":0},"-",{"$f":"IF(J146=\"-\",0,J146)","v":0},"-",{"$f":"IF(L146=\"-\",0,L146)","v":0},null,{"$f":"E146+G146+I146+K146+M146","v":0},{"$f":"MAX(D146,F146,H146,J146,L146)","v":0},{"$f":"IF(S146=1,O146,IF(S146=0,(O146-P146),\"-\"))","v":"-"},{"$f":"COUNTIF(U146:AD146,\"=TRUE\")","v":0},{"$f":"AE$1-R146","v":5},{"$f":"IF(S146<2,\"Yes\",\"No\")","v":"No"},{"$f":"IF(D146=\"-\",1,0)*U$1","v":1},{"$f":"AND(U146=0,U$1=1)","v":false},{"$f":"IF(F146=\"-\",1,0)*W$1","v":1},{"$f":"AND(W146=0,W$1=1)","v":false},{"$f":"IF(H146=\"-\",1,0)*Y$1","v":1},{"$f":"AND(Y146=0,Y$1=1)","v":false},{"$f":"IF(J146=\"-\",1,0)*AA$1","v":1},{"$f":"AND(AA146=0,AA$1=1)","v":false},{"$f":"IF(L146=\"-\",1,0)*AC$1","v":1},{"$f":"AND(AC146=0,AC$1=1)","v":false}]
[144,null,"-","-",{"$f":"IF(D147=\"-\",0,D147)","v":0},"-",{"$f":"IF(F147=\"-\",0,F147)","v":0},"-",{"$f":"IF(H147=\"-\",0,H147)","v":0},"-",{"$f":"IF(J147=\"-\",0,J147)","v":0},"-",{"$f":"IF(L147=\"-\",0,L147)","v":0},null,{"$f":"E147+G147+I147+K147+M147","v":0},{"$f":"MAX(D147,F147,H147,J147,L147)","v":0},{"$f":"IF(S147=1,O147,IF(S147=0,(O147-P147),\"-\"))","v":"-"},{"$f":"COUNTIF(U147:AD147,\"=TRUE\")","v":0},{"$f":"AE$1-R147","v":5},{"$f":"IF(S147<2,\"Yes\",\"No\")","v":"No"},{"$f":"IF(D147=\"-\",1,0)*U$1","v":1},{"$f":"AND(U147=0,U$1=1)","v":false},{"$f":"IF(F147=\"-\",1,0)*W$1","v":1},{"$f":"AND(W147=0,W$1=1)","v":false},{"$f":"IF(H147=\"-\",1,0)*Y$1","v":1},{"$f":"AND(Y147=0,Y$1=1)","v":false},{"$f":"IF(J147=\"-\",1,0)*AA$1","v":1},{"$f":"AND(AA147=0,AA$1=1)","v":false},{"$f":"IF(L147=\"-\",1,0)*AC$1","v":1},{"$f":"AND(AC147=0,AC$1=1)","v":false}]
[145,null,"-","-",{"$f":"IF(D148=\"-\",0,D148)","v":0},"-",{"$f":"IF(F148=\"-\",0,F148)","v":0},"-",{"$f":"IF(H148=\"-\",0,H148)","v":0},"-",{"$f":"IF(J148=\"-\",0,J148)","v":0},"-",{"$f":"IF(L148=\"-\",0,L148)","v":0},null,{"$f":"E148+G148+I148+K148+M148","v":0},{"$f":"MAX(D148,F148,H148,J148,L148)","v":0},{"$f":"IF(S148=1,O148,IF(S148=0,(O148-P148),\"-\"))","v":"-"},{"$f":"COUNTIF(U148:AD148,\"=TRUE\")","v":0},{"$f":"AE$1-R148","v":5},{"$f":"IF(S148<2,\"Yes\",\"No\")","v":"No"},{"$f":"IF(D148=\"-\",1,0)*U$1","v":1},{"$f":"AND(U148=0,U$1=1)","v":false},{"$f":"IF(F148=\"-\",1,0)*W$1","v":1},{"$f":"AND(W148=0,W$1=1)","v":false},{"$f":"IF(H148=\"-\",1,0)*Y$1","v":1},{"$f":"AND(Y148=0,Y$1=1)","v":false},{"$f":"IF(J148=\"-\",1,0)*AA$1","v":1},{"$f":"AND(AA148=0,AA$1=1)","v":false},{"$f":"IF(L148=\"-\",1,0)*AC$1","v":1},{"$f":"AND(AC148=0,AC$1=1)","v":false}]
[146,null,"-","-",{"$f":"IF(D149=\"-\",0,D149)","v":0},"-",{"$f":"IF(F149=\"-\",0,F149)","v":0},"-",{"$f":"IF(H149=\"-\",0,H149)","v":0},"-",{"$f":"IF(J149=\"-\",0,J149)","v":0},"-",{"$f":"IF(L149=\"-\",0,L149)","v":0},null,{"$f":"E149+G149+I149+K149+M149","v":0},{"$f":"MAX(D149,F149,H149,J149,L149)","v":0},{"$f":"IF(S149=1,O149,IF(S149=0,(O149-P149),\"-\"))","v":"-"},{"$f":"COUNTIF(U149:AD149,\"=TRUE\")","v":0},{"$f":"AE$1-R149","v":5},{"$f":"IF(S149<2,\"Yes\",\"No\")","v":"No"},{"$f":"IF(D149=\"-\",1,0)*U$1","v":1},{"$f":"AND(U149=0,U$1=1)","v":false},{"$f":"IF(F149=\"-\",1,0)*W$1","v":1},{"$f":"AND(W149=0,W$1=1)","v":false},{"$f":"IF(H149=\"-\",1,0)*Y$1","v":1},{"$f":"AND(Y149=0,Y$1=1)","v":false},{"$f":"IF(J149=\"-\",1,0)*AA$1","v":1},{"$f":"AND(AA149=0,AA$1=1)","v":false},{"$f":"IF(L149=\"-\",1,0)*AC$1","v":1},{"$f":"AND(AC149=0,AC$1=1)","v":false}]
[147]
[148]
[149]
[150]

{"sheet":"Inter Girls Teams","index":9,"n_rows":19,"n_cols":25,"rows_kept":19,"cut":false,"hidden":false,"merged":[[2,1,2,4],[2,5,2,8],[2,9,2,12],[2,13,2,16],[2,17,2,20]]}
[null,"Claimed Last Place",null,"Y","N","-"]
[]
["Total Finishers",{"$f":"'Inter Girls'!D2","v":20},null,null,null,{"$f":"'Inter Girls'!G2","v":14},null,null,null,{"$f":"'Inter Girls'!H2","v":14},null,null,null,{"$f":"'Inter Girls'!J2","v":13},null,null,null,{"$f":"'Inter Girls'!L2","v":14}]
["Team","Race 1 Position",null,"Race 1 Points Total","Claimed Last Place?","Race 2 Postion",null,"Race 2 Points Total","Claimed Last Place?","Race 3 Postion",null,"Race 3 Points Total","Claimed Last Place?","Race 4 Postion",null,"Race 4 Points Total","Claimed Last Place?","Race 5 Postion",null,"Race 5 Points Total","Claimed Last Place?","Number of claimed last places","Number of Races Without","Number of Races Completed","Total (All Races)"]
["De Lisle College",1,{"$f":"IF(B5=\"-\",0,B5)","v":1},35,"N","-",{"$f":"IF(F5=\"-\",0,F5)","v":0},"-","-",1,{"$f":"IF(J5=\"-\",0,J5)","v":1},21,"N",1,{"$f":"IF(N5=\"-\",0,N5)","v":1},18,"N",2,{"$f":"IF(R5=\"-\",0,R5)","v":2},30,"Y",{"$f":"COUNTIF(B5:U5,\"Y\")","v":1},{"$f":"COUNTIF(B5:U5,\"n\")","v":3},{"$f":"V5+W5","v":4},{"$f":"C5+G5+K5+O5+S5","v":5}]
["Our Lady's Convent",2,{"$f":"IF(B6=\"-\",0,B6)","v":2},40,"Y","-",{"$f":"IF(F6=\"-\",0,F6)","v":0},"-","-","-",{"$f":"IF(J6=\"-\",0,J6)","v":0},"-","-","-",{"$f":"IF(N6=\"-\",0,N6)","v":0},"-","-","-",{"$f":"IF(R6=\"-\",0,R6)","v":0},"-","-",{"$f":"COUNTIF(B6:U6,\"Y\")","v":1},{"$f":"COUNTIF(B6:U6,\"n\")","v":0},{"$f":"V6+W6","v":1},{"$f":"C6+G6+K6+O6+S6","v":2}]
["Beauchamp College",3,3,41,"Y","-",0,"-","-","-",0,"-","-","-",0,"-","-",1,1,25,"N",1,1,2,4]
["Loughborough High School",4,4,42,"Y","-",0,"-","-","-",0,"-","-","-",0,"-","-","-",0,"-","-",1,0,1,4]
["Robert Smyth Academy",5,5,53,"Y","-",0,"-","-","-",0,"-","-","-",0,"-","-","-",0,"-","-",1,0,1,5]
["Catmose College","-",0,"-","-",1,1,33,"N","-",0,"-","-","-",0,"-","-","-",0,"-","-",0,1,1,1]
["Lutterworth College","-",0,"-","-","-",0,"-","-",2,2,28,"Y","-",0,"-","-","-",0,"-","-",1,0,1,2]
["Humphrey Perkins School","-",0,"-","-","-",0,"-","-","-",0,"-","-",2,2,35,"Y","-",0,"-","-",1,0,1,2]
[null,"-",0,"-","-","-",0,"-","-","-",0,"-","-","-",0,"-","-","-",0,"-","-",0,0,0,0]
[null,"-",0,"-","-","-",0,"-","-","-",0,"-","-","-",0,"-","-","-",0,"-","-",0,0,0,0]
[null,"-",0,"-","-","-",0,"-","-","-",0,"-","-","-",0,"-","-","-",0,"-","-",0,0,0,0]
[null,"-",0,"-","-","-",0,"-","-","-",0,"-","-","-",0,"-","-","-",0,"-","-",0,0,0,0]
[null,"-",0,"-","-","-",0,"-","-","-",0,"-","-","-",0,"-","-","-",0,"-","-",0,0,0,0]
[null,"-",0,"-","-","-",0,"-","-","-",0,"-","-","-",0,"-","-","-",0,"-","-",0,0,0,0]
[null,"-",{"$f":"IF(B19=\"-\",0,B19)","v":0},"-","-","-",{"$f":"IF(F19=\"-\",0,F19)","v":0},"-","-","-",{"$f":"IF(J19=\"-\",0,J19)","v":0},"-",null,"-",{"$f":"IF(N19=\"-\",0,N19)","v":0},"-","-","-",{"$f":"IF(R19=\"-\",0,R19)","v":0},"-","-",0,0,0,0]

{"sheet":"Inter Boys","index":10,"n_rows":151,"n_cols":38,"rows_kept":151,"cut":false,"hidden":false,"merged":[]}
[null,"Total Number of Runners","Race Complete (Y/N) ",{"$f":"'Year 7 Girls '!D1","v":"Y"},null,{"$f":"'Year 7 Girls '!F1","v":"Y"},null,{"$f":"'Year 7 Girls '!H1","v":"Y"},null,{"$f":"'Year 7 Girls '!J1","v":"Y"},null,"Y",null,null,null,null,null,null,null,null,{"$f":"IF(D1=\"Y\",1,0)","v":1},null,{"$f":"IF(F1=\"Y\",1,0)","v":1},null,{"$f":"IF(H1=\"Y\",1,0)","v":1},null,{"$f":"IF(J1=\"Y\",1,0)","v":1},null,{"$f":"IF(L1=\"Y\",1,0)","v":1},null,{"$f":"SUM(U1:AC1)","v":5}]
[null,{"$f":"COUNTA(B5:B297)","v":49},"No of Finishers",{"$f":"MAX(D5:D148)","v":26},26,35,35,27,27,23,23,22]
[null,null,"Number of results recorded",{"$f":"COUNTIF(D5:D147,\">0\")","v":26},null,{"$f":"COUNTIF(G5:G147,\">0\")","v":32},null,27,null,22,null,22]
["Reset Column","Name","School","Race 1","Normalised result -1","Race 2","Normalised result -2","Race 3","Normalised result -3","Race 4","Normalised result -4","Race 5","Normalised result -5",null,"Total\n(All Races)","Lowest Place Finish","Final Total","Number of Races Completed","League contender?\n(No. of races - missed)","Elidgible For League Title","Competed in race 1\n0 = YES",null,"Competed in race 2\n0 = YES",null,"Competed in race 3\n0 = YES",null,"Competed in race 4\n0 = YES",null,"Competed in race 5\n0 = YES",null,null,null,null,null,null,null,null," "]
[58,"Isaac Akers","Robert Smyth Academy","-",{"$f":"IF(D5=\"-\",0,D5)","v":0},1,{"$f":"IF(F5=\"-\",0,F5)","v":1},"-",{"$f":"IF(H5=\"-\",0,H5)","v":0},2,{"$f":"IF(J5=\"-\",0,J5)","v":2},1,{"$f":"IF(L5=\"-\",0,L5)","v":1},null,{"$f":"E5+G5+I5+K5+M5","v":4},{"$f":"MAX(D5,F5,H5,J5,L5)","v":2},{"$f":"IF(S5=1,O5,IF(S5=0,(O5-P5),\"-\"))","v":"-"},{"$f":"COUNTIF(U5:AD5,\"=TRUE\")","v":3},{"$f":"AE$1-R5","v":2},{"$f":"IF(S5<2,\"Yes\",\"No\")","v":"No"},{"$f":"IF(D5=\"-\",1,0)*U$1","v":1},{"$f":"AND(U5=0,U$1=1)","v":false},{"$f":"IF(F5=\"-\",1,0)*W$1","v":0},{"$f":"AND(W5=0,W$1=1)","v":true},{"$f":"IF(H5=\"-\",1,0)*Y$1","v":1},{"$f":"AND(Y5=0,Y$1=1)","v":false},{"$f":"IF(J5=\"-\",1,0)*AA$1","v":0},{"$f":"AND(AA5=0,AA$1=1)","v":true},{"$f":"IF(L5=\"-\",1,0)*AC$1","v":0},{"$f":"AND(AC5=0,AC$1=1)","v":true}]
[78,"Tom Corby","Lutterworth College",1,{"$f":"IF(D6=\"-\",0,D6)","v":1},2,{"$f":"IF(F6=\"-\",0,F6)","v":2},2,{"$f":"IF(H6=\"-\",0,H6)","v":2},3,{"$f":"IF(J6=\"-\",0,J6)","v":3},2,{"$f":"IF(L6=\"-\",0,L6)","v":2},null,{"$f":"E6+G6+I6+K6+M6","v":10},{"$f":"MAX(D6,F6,H6,J6,L6)","v":3},{"$f":"IF(S6=1,O6,IF(S6=0,(O6-P6),\"-\"))","v":7},{"$f":"COUNTIF(U6:AD6,\"=TRUE\")","v":5},{"$f":"AE$1-R6","v":0},{"$f":"IF(S6<2,\"Yes\",\"No\")","v":"Yes"},{"$f":"IF(D6=\"-\",1,0)*U$1","v":0},{"$f":"AND(U6=0,U$1=1)","v":true},{"$f":"IF(F6=\"-\",1,0)*W$1","v":0},{"$f":"AND(W6=0,W$1=1)","v":true},{"$f":"IF(H6=\"-\",1,0)*Y$1","v":0},{"$f":"AND(Y6=0,Y$1=1)","v":true},{"$f":"IF(J6=\"-\",1,0)*AA$1","v":0},{"$f":"AND(AA6=0,AA$1=1)","v":true},{"$f":"IF(L6=\"-\",1,0)*AC$1","v":0},{"$f":"AND(AC6=0,AC$1=1)","v":true}]
[70,"Thomas Gostelow","Woodbrook Vale School","-",{"$f":"IF(D7=\"-\",0,D7)","v":0},4,{"$f":"IF(F7=\"-\",0,F7)","v":4},3,{"$f":"IF(H7=\"-\",0,H7)","v":3},4,{"$f":"IF(J7=\"-\",0,J7)","v":4},3,{"$f":"IF(L7=\"-\",0,L7)","v":3},null,{"$f":"E7+G7+I7+K7+M7","v":14},{"$f":"MAX(D7,F7,H7,J7,L7)","v":4},{"$f":"IF(S7=1,O7,IF(S7=0,(O7-P7),\"-\"))","v":14},{"$f":"COUNTIF(U7:AD7,\"=TRUE\")","v":4},{"$f":"AE$1-R7","v":1},{"$f":"IF(S7<2,\"Yes\",\"No\")","v":"Yes"},{"$f":"IF(D7=\"-\",1,0)*U$1","v":1},{"$f":"AND(U7=0,U$1=1)","v":false},{"$f":"IF(F7=\"-\",1,0)*W$1","v":0},{"$f":"AND(W7=0,W$1=1)","v":true},{"$f":"IF(H7=\"-\",1,0)*Y$1","v":0},{"$f":"AND(Y7=0,Y$1=1)","v":true},{"$f":"IF(J7=\"-\",1,0)*AA$1","v":0},{"$f":"AND(AA7=0,AA$1=1)","v":true},{"$f":"IF(L7=\"-\",1,0)*AC$1","v":0},{"$f":"AND(AC7=0,AC$1=1)","v":true}]
[2,"Ollie Freer","Lutterworth College",7,{"$f":"IF(D8=\"-\",0,D8)","v":7},15,{"$f":"IF(F8=\"-\",0,F8)","v":15},6,{"$f":"IF(H8=\"-\",0,H8)","v":6},7,{"$f":"IF(J8=\"-\",0,J8)","v":7},4,{"$f":"IF(L8=\"-\",0,L8)","v":4},null,{"$f":"E8+G8+I8+K8+M8","v":39},{"$f":"MAX(D8,F8,H8,J8,L8)","v":15},{"$f":"IF(S8=1,O8,IF(S8=0,(O8-P8),\"-\"))","v":24},{"$f":"COUNTIF(U8:AD8,\"=TRUE\")","v":5},{"$f":"AE$1-R8","v":0},{"$f":"IF(S8<2,\"Yes\",\"No\")","v":"Yes"},{"$f":"IF(D8=\"-\",1,0)*U$1","v":0},{"$f":"AND(U8=0,U$1=1)","v":true},{"$f":"IF(F8=\"-\",1,0)*W$1","v":0},{"$f":"AND(W8=0,W$1=1)","v":true},{"$f":"IF(H8=\"-\",1,0)*Y$1","v":0},{"$f":"AND(Y8=0,Y$1=1)","v":true},{"$f":"IF(J8=\"-\",1,0)*AA$1","v":0},{"$f":"AND(AA8=0,AA$1=1)","v":true},{"$f":"IF(L8=\"-\",1,0)*AC$1","v":0},{"$f":"AND(AC8=0,AC$1=1)","v":true}]
[20,"Sam Gartside","Ashby School",3,{"$f":"IF(D9=\"-\",0,D9)","v":3},7,{"$f":"IF(F9=\"-\",0,F9)","v":7},"-",{"$f":"IF(H9=\"-\",0,H9)","v":0},8,{"$f":"IF(J9=\"-\",0,J9)","v":8},5,{"$f":"IF(L9=\"-\",0,L9)","v":5},null,{"$f":"E9+G9+I9+K9+M9","v":23},{"$f":"MAX(D9,F9,H9,J9,L9)","v":8},{"$f":"IF(S9=1,O9,IF(S9=0,(O9-P9),\"-\"))","v":23},{"$f":"COUNTIF(U9:AD9,\"=TRUE\")","v":4},{"$f":"AE$1-R9","v":1},{"$f":"IF(S9<2,\"Yes\",\"No\")","v":"Yes"},{"$f":"IF(D9=\"-\",1,0)*U$1","v":0},{"$f":"AND(U9=0,U$1=1)","v":true},{"$f":"IF(F9=\"-\",1,0)*W$1","v":0},{"$f":"AND(W9=0,W$1=1)","v":true},{"$f":"IF(H9=\"-\",1,0)*Y$1","v":1},{"$f":"AND(Y9=0,Y$1=1)","v":false},{"$f":"IF(J9=\"-\",1,0)*AA$1","v":0},{"$f":"AND(AA9=0,AA$1=1)","v":true},{"$f":"IF(L9=\"-\",1,0)*AC$1","v":0},{"$f":"AND(AC9=0,AC$1=1)","v":true}]
[71,"Alfie Thompson","Humphrey Perkins School","-",{"$f":"IF(D10=\"-\",0,D10)","v":0},"-",{"$f":"IF(F10=\"-\",0,F10)","v":0},"-",{"$f":"IF(H10=\"-\",0,H10)","v":0},"-",{"$f":"IF(J10=\"-\",0,J10)","v":0},6,{"$f":"IF(L10=\"-\",0,L10)","v":6},null,{"$f":"E10+G10+I10+K10+M10","v":6},{"$f":"MAX(D10,F10,H10,J10,L10)","v":6},{"$f":"IF(S10=1,O10,IF(S10=0,(O10-P10),\"-\"))","v":"-"},{"$f":"COUNTIF(U10:AD10,\"=TRUE\")","v":1},{"$f":"AE$1-R10","v":4},{"$f":"IF(S10<2,\"Yes\",\"No\")","v":"No"},{"$f":"IF(D10=\"-\",1,0)*U$1","v":1},{"$f":"AND(U10=0,U$1=1)","v":false},{"$f":"IF(F10=\"-\",1,0)*W$1","v":1},{"$f":"AND(W10=0,W$1=1)","v":false},{"$f":"IF(H10=\"-\",1,0)*Y$1","v":1},{"$f":"AND(Y10=0,Y$1=1)","v":false},{"$f":"IF(J10=\"-\",1,0)*AA$1","v":1},{"$f":"AND(AA10=0,AA$1=1)","v":false},{"$f":"IF(L10=\"-\",1,0)*AC$1","v":0},{"$f":"AND(AC10=0,AC$1=1)","v":true}]
[12,"Nathanial Taylor","Oakham School","-",{"$f":"IF(D11=\"-\",0,D11)","v":0},"-",{"$f":"IF(F11=\"-\",0,F11)","v":0},"-",{"$f":"IF(H11=\"-\",0,H11)","v":0},"-",{"$f":"IF(J11=\"-\",0,J11)","v":0},7,{"$f":"IF(L11=\"-\",0,L11)","v":7},null,{"$f":"E11+G11+I11+K11+M11","v":7},{"$f":"MAX(D11,F11,H11,J11,L11)","v":7},{"$f":"IF(S11=1,O11,IF(S11=0,(O11-P11),\"-\"))","v":"-"},{"$f":"COUNTIF(U11:AD11,\"=TRUE\")","v":1},{"$f":"AE$1-R11","v":4},{"$f":"IF(S11<2,\"Yes\",\"No\")","v":"No"},{"$f":"IF(D11=\"-\",1,0)*U$1","v":1},{"$f":"AND(U11=0,U$1=1)","v":false},{"$f":"IF(F11=\"-\",1,0)*W$1","v":1},{"$f":"AND(W11=0,W$1=1)","v":false},{"$f":"IF(H11=\"-\",1,0)*Y$1","v":1},{"$f":"AND(Y11=0,Y$1=1)","v":false},{"$f":"IF(J11=\"-\",1,0)*AA$1","v":1},{"$f":"AND(AA11=0,AA$1=1)","v":false},{"$f":"IF(L11=\"-\",1,0)*AC$1","v":0},{"$f":"AND(AC11=0,AC$1=1)","v":true}]
[27,"Archie O'Boyle","Oakham School","-",{"$f":"IF(D12=\"-\",0,D12)","v":0},"-",{"$f":"IF(F12=\"-\",0,F12)","v":0},"-",{"$f":"IF(H12=\"-\",0,H12)","v":0},"-",{"$f":"IF(J12=\"-\",0,J12)","v":0},8,{"$f":"IF(L12=\"-\",0,L12)","v":8},null,{"$f":"E12+G12+I12+K12+M12","v":8},{"$f":"MAX(D12,F12,H12,J12,L12)","v":8},{"$f":"IF(S12=1,O12,IF(S12=0,(O12-P12),\"-\"))","v":"-"},{"$f":"COUNTIF(U12:AD12,\"=TRUE\")","v":1},{"$f":"AE$1-R12","v":4},{"$f":"IF(S12<2,\"Yes\",\"No\")","v":"No"},{"$f":"IF(D12=\"-\",1,0)*U$1","v":1},{"$f":"AND(U12=0,U$1=1)","v":false},{"$f":"IF(F12=\"-\",1,0)*W$1","v":1},{"$f":"AND(W12=0,W$1=1)","v":false},{"$f":"IF(H12=\"-\",1,0)*Y$1","v":1},{"$f":"AND(Y12=0,Y$1=1)","v":false},{"$f":"IF(J12=\"-\",1,0)*AA$1","v":1},{"$f":"AND(AA12=0,AA$1=1)","v":false},{"$f":"IF(L12=\"-\",1,0)*AC$1","v":0},{"$f":"AND(AC12=0,AC$1=1)","v":true}]
[19,"Luke Berryman","Groby CC",9,{"$f":"IF(D13=\"-\",0,D13)","v":9},10,{"$f":"IF(F13=\"-\",0,F13)","v":10},13,{"$f":"IF(H13=\"-\",0,H13)","v":13},12,{"$f":"IF(J13=\"-\",0,J13)","v":12},9,{"$f":"IF(L13=\"-\",0,L13)","v":9},null,{"$f":"E13+G13+I13+K13+M13","v":53},{"$f":"MAX(D13,F13,H13,J13,L13)","v":13},{"$f":"IF(S13=1,O13,IF(S13=0,(O13-P13),\"-\"))","v":40},{"$f":"COUNTIF(U13:AD13,\"=TRUE\")","v":5},{"$f":"AE$1-R13","v":0},{"$f":"IF(S13<2,\"Yes\",\"No\")","v":"Yes"},{"$f":"IF(D13=\"-\",1,0)*U$1","v":0},{"$f":"AND(U13=0,U$1=1)","v":true},{"$f":"IF(F13=\"-\",1,0)*W$1","v":0},{"$f":"AND(W13=0,W$1=1)","v":true},{"$f":"IF(H13=\"-\",1,0)*Y$1","v":0},{"$f":"AND(Y13=0,Y$1=1)","v":true},{"$f":"IF(J13=\"-\",1,0)*AA$1","v":0},{"$f":"AND(AA13=0,AA$1=1)","v":true},{"$f":"IF(L13=\"-\",1,0)*AC$1","v":0},{"$f":"AND(AC13=0,AC$1=1)","v":true}]
[80,"Scott Ram","Loughborough Grammar School","-",{"$f":"IF(D14=\"-\",0,D14)","v":0},16,{"$f":"IF(F14=\"-\",0,F14)","v":16},12,{"$f":"IF(H14=\"-\",0,H14)","v":12},15,{"$f":"IF(J14=\"-\",0,J14)","v":15},10,{"$f":"IF(L14=\"-\",0,L14)","v":10},null,{"$f":"E14+G14+I14+K14+M14","v":53},{"$f":"MAX(D14,F14,H14,J14,L14)","v":16},{"$f":"IF(S14=1,O14,IF(S14=0,(O14-P14),\"-\"))","v":53},{"$f":"COUNTIF(U14:AD14,\"=TRUE\")","v":4},{"$f":"AE$1-R14","v":1},{"$f":"IF(S14<2,\"Yes\",\"No\")","v":"Yes"},{"$f":"IF(D14=\"-\",1,0)*U$1","v":1},{"$f":"AND(U14=0,U$1=1)","v":false},{"$f":"IF(F14=\"-\",1,0)*W$1","v":0},{"$f":"AND(W14=0,W$1=1)","v":true},{"$f":"IF(H14=\"-\",1,0)*Y$1","v":0},{"$f":"AND(Y14=0,Y$1=1)","v":true},{"$f":"IF(J14=\"-\",1,0)*AA$1","v":0},{"$f":"AND(AA14=0,AA$1=1)","v":true},{"$f":"IF(L14=\"-\",1,0)*AC$1","v":0},{"$f":"AND(AC14=0,AC$1=1)","v":true}]
[45,"Oliver Cooper","Humphrey Perkins School",13,{"$f":"IF(D15=\"-\",0,D15)","v":13},17,{"$f":"IF(F15=\"-\",0,F15)","v":17},15,{"$f":"IF(H15=\"-\",0,H15)","v":15},11,{"$f":"IF(J15=\"-\",0,J15)","v":11},11,{"$f":"IF(L15=\"-\",0,L15)","v":11},null,{"$f":"E15+G15+I15+K15+M15","v":67},{"$f":"MAX(D15,F15,H15,J15,L15)","v":17},{"$f":"IF(S15=1,O15,IF(S15=0,(O15-P15),\"-\"))","v":50},{"$f":"COUNTIF(U15:AD15,\"=TRUE\")","v":5},{"$f":"AE$1-R15","v":0},{"$f":"IF(S15<2,\"Yes\",\"No\")","v":"Yes"},{"$f":"IF(D15=\"-\",1,0)*U$1","v":0},{"$f":"AND(U15=0,U$1=1)","v":true},{"$f":"IF(F15=\"-\",1,0)*W$1","v":0},{"$f":"AND(W15=0,W$1=1)","v":true},{"$f":"IF(H15=\"-\",1,0)*Y$1","v":0},{"$f":"AND(Y15=0,Y$1=1)","v":true},{"$f":"IF(J15=\"-\",1,0)*AA$1","v":0},{"$f":"AND(AA15=0,AA$1=1)","v":true},{"$f":"IF(L15=\"-\",1,0)*AC$1","v":0},{"$f":"AND(AC15=0,AC$1=1)","v":true}]
[10,"Mike Pitchers","Loughborough Grammar School",8,{"$f":"IF(D16=\"-\",0,D16)","v":8},9,{"$f":"IF(F16=\"-\",0,F16)","v":9},9,{"$f":"IF(H16=\"-\",0,H16)","v":9},10,{"$f":"IF(J16=\"-\",0,J16)","v":10},12,{"$f":"IF(L16=\"-\",0,L16)","v":12},null,{"$f":"E16+G16+I16+K16+M16","v":48},{"$f":"MAX(D16,F16,H16,J16,L16)","v":12},{"$f":"IF(S16=1,O16,IF(S16=0,(O16-P16),\"-\"))","v":36},{"$f":"COUNTIF(U16:AD16,\"=TRUE\")","v":5},{"$f":"AE$1-R16","v":0},{"$f":"IF(S16<2,\"Yes\",\"No\")","v":"Yes"},{"$f":"IF(D16=\"-\",1,0)*U$1","v":0},{"$f":"AND(U16=0,U$1=1)","v":true},{"$f":"IF(F16=\"-\",1,0)*W$1","v":0},{"$f":"AND(W16=0,W$1=1)","v":true},{"$f":"IF(H16=\"-\",1,0)*Y$1","v":0},{"$f":"AND(Y16=0,Y$1=1)","v":true},{"$f":"IF(J16=\"-\",1,0)*AA$1","v":0},{"$f":"AND(AA16=0,AA$1=1)","v":true},{"$f":"IF(L16=\"-\",1,0)*AC$1","v":0},{"$f":"AND(AC16=0,AC$1=1)","v":true}]
[69,"Jack Beanstead","Robert Smyth Academy",14,{"$f":"IF(D17=\"-\",0,D17)","v":14},13,{"$f":"IF(F17=\"-\",0,F17)","v":13},8,{"$f":"IF(H17=\"-\",0,H17)","v":8},9,{"$f":"IF(J17=\"-\",0,J17)","v":9},13,{"$f":"IF(L17=\"-\",0,L17)","v":13},null,{"$f":"E17+G17+I17+K17+M17","v":57},{"$f":"MAX(D17,F17,H17,J17,L17)","v":14},{"$f":"IF(S17=1,O17,IF(S17=0,(O17-P17),\"-\"))","v":43},{"$f":"COUNTIF(U17:AD17,\"=TRUE\")","v":5},{"$f":"AE$1-R17","v":0},{"$f":"IF(S17<2,\"Yes\",\"No\")","v":"Yes"},{"$f":"IF(D17=\"-\",1,0)*U$1","v":0},{"$f":"AND(U17=0,U$1=1)","v":true},{"$f":"IF(F17=\"-\",1,0)*W$1","v":0},{"$f":"AND(W17=0,W$1=1)","v":true},{"$f":"IF(H17=\"-\",1,0)*Y$1","v":0},{"$f":"AND(Y17=0,Y$1=1)","v":true},{"$f":"IF(J17=\"-\",1,0)*AA$1","v":0},{"$f":"AND(AA17=0,AA$1=1)","v":true},{"$f":"IF(L17=\"-\",1,0)*AC$1","v":0},{"$f":"AND(AC17=0,AC$1=1)","v":true}]
[16,"Alfie Lowe","Rawlins College",10,{"$f":"IF(D18=\"-\",0,D18)","v":10},19,{"$f":"IF(F18=\"-\",0,F18)","v":19},18,{"$f":"IF(H18=\"-\",0,H18)","v":18},20,{"$f":"IF(J18=\"-\",0,J18)","v":20},14,{"$f":"IF(L18=\"-\",0,L18)","v":14},null,{"$f":"E18+G18+I18+K18+M18","v":81},{"$f":"MAX(D18,F18,H18,J18,L18)","v":20},{"$f":"IF(S18=1,O18,IF(S18=0,(O18-P18),\"-\"))","v":61},{"$f":"COUNTIF(U18:AD18,\"=TRUE\")","v":5},{"$f":"AE$1-R18","v":0},{"$f":"IF(S18<2,\"Yes\",\"No\")","v":"Yes"},{"$f":"IF(D18=\"-\",1,0)*U$1","v":0},{"$f":"AND(U18=0,U$1=1)","v":true},{"$f":"IF(F18=\"-\",1,0)*W$1","v":0},{"$f":"AND(W18=0,W$1=1)","v":true},{"$f":"IF(H18=\"-\",1,0)*Y$1","v":0},{"$f":"AND(Y18=0,Y$1=1)","v":true},{"$f":"IF(J18=\"-\",1,0)*AA$1","v":0},{"$f":"AND(AA18=0,AA$1=1)","v":true},{"$f":"IF(L18=\"-\",1,0)*AC$1","v":0},{"$f":"AND(AC18=0,AC$1=1)","v":true}]
[64,"George Alvey","Humphrey Perkins School","-",{"$f":"IF(D19=\"-\",0,D19)","v":0},"-",{"$f":"IF(F19=\"-\",0,F19)","v":0},"-",{"$f":"IF(H19=\"-\",0,H19)","v":0},"-",{"$f":"IF(J19=\"-\",0,J19)","v":0},15,{"$f":"IF(L19=\"-\",0,L19)","v":15},null,{"$f":"E19+G19+I19+K19+M19","v":15},{"$f":"MAX(D19,F19,H19,J19,L19)","v":15},{"$f":"IF(S19=1,O19,IF(S19=0,(O19-P19),\"-\"))","v":"-"},{"$f":"COUNTIF(U19:AD19,\"=TRUE\")","v":1},{"$f":"AE$1-R19","v":4},{"$f":"IF(S19<2,\"Yes\",\"No\")","v":"No"},{"$f":"IF(D19=\"-\",1,0)*U$1","v":1},{"$f":"AND(U19=0,U$1=1)","v":false},{"$f":"IF(F19=\"-\",1,0)*W$1","v":1},{"$f":"AND(W19=0,W$1=1)","v":false},{"$f":"IF(H19=\"-\",1,0)*Y$1","v":1},{"$f":"AND(Y19=0,Y$1=1)","v":false},{"$f":"IF(J19=\"-\",1,0)*AA$1","v":1},{"$f":"AND(AA19=0,AA$1=1)","v":false},{"$f":"IF(L19=\"-\",1,0)*AC$1","v":0},{"$f":"AND(AC19=0,AC$1=1)","v":true}]
[17,"Ryan Broome","The Martin High School",15,{"$f":"IF(D20=\"-\",0,D20)","v":15},"-",{"$f":"IF(F20=\"-\",0,F20)","v":0},"-",{"$f":"IF(H20=\"-\",0,H20)","v":0},"-",{"$f":"IF(J20=\"-\",0,J20)","v":0},16,{"$f":"IF(L20=\"-\",0,L20)","v":16},null,{"$f":"E20+G20+I20+K20+M20","v":31},{"$f":"MAX(D20,F20,H20,J20,L20)","v":16},{"$f":"IF(S20=1,O20,IF(S20=0,(O20-P20),\"-\"))","v":"-"},{"$f":"COUNTIF(U20:AD20,\"=TRUE\")","v":2},{"$f":"AE$1-R20","v":3},{"$f":"IF(S20<2,\"Yes\",\"No\")","v":"No"},{"$f":"IF(D20=\"-\",1,0)*U$1","v":0},{"$f":"AND(U20=0,U$1=1)","v":true},{"$f":"IF(F20=\"-\",1,0)*W$1","v":1},{"$f":"AND(W20=0,W$1=1)","v":false},{"$f":"IF(H20=\"-\",1,0)*Y$1","v":1},{"$f":"AND(Y20=0,Y$1=1)","v":false},{"$f":"IF(J20=\"-\",1,0)*AA$1","v":1},{"$f":"AND(AA20=0,AA$1=1)","v":false},{"$f":"IF(L20=\"-\",1,0)*AC$1","v":0},{"$f":"AND(AC20=0,AC$1=1)","v":true}]
[13,"Ashley Parker","The Martin High School",11,{"$f":"IF(D21=\"-\",0,D21)","v":11},12,{"$f":"IF(F21=\"-\",0,F21)","v":12},19,{"$f":"IF(H21=\"-\",0,H21)","v":19},"-",{"$f":"IF(J21=\"-\",0,J21)","v":0},17,{"$f":"IF(L21=\"-\",0,L21)","v":17},null,{"$f":"E21+G21+I21+K21+M21","v":59},{"$f":"MAX(D21,F21,H21,J21,L21)","v":19},{"$f":"IF(S21=1,O21,IF(S21=0,(O21-P21),\"-\"))","v":59},{"$f":"COUNTIF(U21:AD21,\"=TRUE\")","v":4},{"$f":"AE$1-R21","v":1},{"$f":"IF(S21<2,\"Yes\",\"No\")","v":"Yes"},{"$f":"IF(D21=\"-\",1,0)*U$1","v":0},{"$f":"AND(U21=0,U$1=1)","v":true},{"$f":"IF(F21=\"-\",1,0)*W$1","v":0},{"$f":"AND(W21=0,W$1=1)","v":true},{"$f":"IF(H21=\"-\",1,0)*Y$1","v":0},{"$f":"AND(Y21=0,Y$1=1)","v":true},{"$f":"IF(J21=\"-\",1,0)*AA$1","v":1},{"$f":"AND(AA21=0,AA$1=1)","v":false},{"$f":"IF(L21=\"-\",1,0)*AC$1","v":0},{"$f":"AND(AC21=0,AC$1=1)","v":true}]
[57,"Josh Walker","Wreake Valley Academy",22,{"$f":"IF(D22=\"-\",0,D22)","v":22},24,{"$f":"IF(F22=\"-\",0,F22)","v":24},16,{"$f":"IF(H22=\"-\",0,H22)","v":16},21,{"$f":"IF(J22=\"-\",0,J22)","v":21},18,{"$f":"IF(L22=\"-\",0,L22)","v":18},null,{"$f":"E22+G22+I22+K22+M22","v":101},{"$f":"MAX(D22,F22,H22,J22,L22)","v":24},{"$f":"IF(S22=1,O22,IF(S22=0,(O22-P22),\"-\"))","v":77},{"$f":"COUNTIF(U22:AD22,\"=TRUE\")","v":5},{"$f":"AE$1-R22","v":0},{"$f":"IF(S22<2,\"Yes\",\"No\")","v":"Yes"},{"$f":"IF(D22=\"-\",1,0)*U$1","v":0},{"$f":"AND(U22=0,U$1=1)","v":true},{"$f":"IF(F22=\"-\",1,0)*W$1","v":0},{"$f":"AND(W22=0,W$1=1)","v":true},{"$f":"IF(H22=\"-\",1,0)*Y$1","v":0},{"$f":"AND(Y22=0,Y$1=1)","v":true},{"$f":"IF(J22=\"-\",1,0)*AA$1","v":0},{"$f":"AND(AA22=0,AA$1=1)","v":true},{"$f":"IF(L22=\"-\",1,0)*AC$1","v":0},{"$f":"AND(AC22=0,AC$1=1)","v":true}]
[3,"Josh Finn","Loughborough Grammar School",18,{"$f":"IF(D23=\"-\",0,D23)","v":18},14,{"$f":"IF(F23=\"-\",0,F23)","v":14},11,{"$f":"IF(H23=\"-\",0,H23)","v":11},16,{"$f":"IF(J23=\"-\",0,J23)","v":16},19,{"$f":"IF(L23=\"-\",0,L23)","v":19},null,{"$f":"E23+G23+I23+K23+M23","v":78},{"$f":"MAX(D23,F23,H23,J23,L23)","v":19},{"$f":"IF(S23=1,O23,IF(S23=0,(O23-P23),\"-\"))","v":59},{"$f":"COUNTIF(U23:AD23,\"=TRUE\")","v":5},{"$f":"AE$1-R23","v":0},{"$f":"IF(S23<2,\"Yes\",\"No\")","v":"Yes"},{"$f":"IF(D23=\"-\",1,0)*U$1","v":0},{"$f":"AND(U23=0,U$1=1)","v":true},{"$f":"IF(F23=\"-\",1,0)*W$1","v":0},{"$f":"AND(W23=0,W$1=1)","v":true},{"$f":"IF(H23=\"-\",1,0)*Y$1","v":0},{"$f":"AND(Y23=0,Y$1=1)","v":true},{"$f":"IF(J23=\"-\",1,0)*AA$1","v":0},{"$f":"AND(AA23=0,AA$1=1)","v":true},{"$f":"IF(L23=\"-\",1,0)*AC$1","v":0},{"$f":"AND(AC23=0,AC$1=1)","v":true}]
[37,"Darpen Rekhi","Loughborough Grammar School","-",{"$f":"IF(D24=\"-\",0,D24)","v":0},28,{"$f":"IF(F24=\"-\",0,F24)","v":28},21,{"$f":"IF(H24=\"-\",0,H24)","v":21},23,{"$f":"IF(J24=\"-\",0,J24)","v":23},20,{"$f":"IF(L24=\"-\",0,L24)","v":20},null,{"$f":"E24+G24+I24+K24+M24","v":92},{"$f":"MAX(D24,F24,H24,J24,L24)","v":28},{"$f":"IF(S24=1,O24,IF(S24=0,(O24-P24),\"-\"))","v":92},{"$f":"COUNTIF(U24:AD24,\"=TRUE\")","v":4},{"$f":"AE$1-R24","v":1},{"$f":"IF(S24<2,\"Yes\",\"No\")","v":"Yes"},{"$f":"IF(D24=\"-\",1,0)*U$1","v":1},{"$f":"AND(U24=0,U$1=1)","v":false},{"$f":"IF(F24=\"-\",1,0)*W$1","v":0},{"$f":"AND(W24=0,W$1=1)","v":true},{"$f":"IF(H24=\"-\",1,0)*Y$1","v":0},{"$f":"AND(Y24=0,Y$1=1)","v":true},{"$f":"IF(J24=\"-\",1,0)*AA$1","v":0},{"$f":"AND(AA24=0,AA$1=1)","v":true},{"$f":"IF(L24=\"-\",1,0)*AC$1","v":0},{"$f":"AND(AC24=0,AC$1=1)","v":true}]
[63,"Jamie Thomson","Robert Smyth Academy",26,{"$f":"IF(D25=\"-\",0,D25)","v":26},29,{"$f":"IF(F25=\"-\",0,F25)","v":29},25,{"$f":"IF(H25=\"-\",0,H25)","v":25},"-",{"$f":"IF(J25=\"-\",0,J25)","v":0},21,{"$f":"IF(L25=\"-\",0,L25)","v":21},null,{"$f":"E25+G25+I25+K25+M25","v":101},{"$f":"MAX(D25,F25,H25,J25,L25)","v":29},{"$f":"IF(S25=1,O25,IF(S25=0,(O25-P25),\"-\"))","v":101},{"$f":"COUNTIF(U25:AD25,\"=TRUE\")","v":4},{"$f":"AE$1-R25","v":1},{"$f":"IF(S25<2,\"Yes\",\"No\")","v":"Yes"},{"$f":"IF(D25=\"-\",1,0)*U$1","v":0},{"$f":"AND(U25=0,U$1=1)","v":true},{"$f":"IF(F25=\"-\",1,0)*W$1","v":0},{"$f":"AND(W25=0,W$1=1)","v":true},{"$f":"IF(H25=\"-\",1,0)*Y$1","v":0},{"$f":"AND(Y25=0,Y$1=1)","v":true},{"$f":"IF(J25=\"-\",1,0)*AA$1","v":1},{"$f":"AND(AA25=0,AA$1=1)","v":false},{"$f":"IF(L25=\"-\",1,0)*AC$1","v":0},{"$f":"AND(AC25=0,AC$1=1)","v":true}]
[81,"Tom Lea","Lutterworth College","-",{"$f":"IF(D26=\"-\",0,D26)","v":0},35,{"$f":"IF(F26=\"-\",0,F26)","v":35},26,{"$f":"IF(H26=\"-\",0,H26)","v":26},"-",{"$f":"IF(J26=\"-\",0,J26)","v":0},22,{"$f":"IF(L26=\"-\",0,L26)","v":22},null,{"$f":"E26+G26+I26+K26+M26","v":83},{"$f":"MAX(D26,F26,H26,J26,L26)","v":35},{"$f":"IF(S26=1,O26,IF(S26=0,(O26-P26),\"-\"))","v":"-"},{"$f":"COUNTIF(U26:AD26,\"=TRUE\")","v":3},{"$f":"AE$1-R26","v":2},{"$f":"IF(S26<2,\"Yes\",\"No\")","v":"No"},{"$f":"IF(D26=\"-\",1,0)*U$1","v":1},{"$f":"AND(U26=0,U$1=1)","v":false},{"$f":"IF(F26=\"-\",1,0)*W$1","v":0},{"$f":"AND(W26=0,W$1=1)","v":true},{"$f":"IF(H26=\"-\",1,0)*Y$1","v":0},{"$f":"AND(Y26=0,Y$1=1)","v":true},{"$f":"IF(J26=\"-\",1,0)*AA$1","v":1},{"$f":"AND(AA26=0,AA$1=1)","v":false},{"$f":"IF(L26=\"-\",1,0)*AC$1","v":0},{"$f":"AND(AC26=0,AC$1=1)","v":true}]
[9,"Ben Dijkstra","Loughborough Grammar School","-",{"$f":"IF(D27=\"-\",0,D27)","v":0},"-",{"$f":"IF(F27=\"-\",0,F27)","v":0},"-",{"$f":"IF(H27=\"-\",0,H27)","v":0},1,{"$f":"IF(J27=\"-\",0,J27)","v":1},"-",{"$f":"IF(L27=\"-\",0,L27)","v":0},null,{"$f":"E27+G27+I27+K27+M27","v":1},{"$f":"MAX(D27,F27,H27,J27,L27)","v":1},{"$f":"IF(S27=1,O27,IF(S27=0,(O27-P27),\"-\"))","v":"-"},{"$f":"COUNTIF(U27:AD27,\"=TRUE\")","v":1},{"$f":"AE$1-R27","v":4},{"$f":"IF(S27<2,\"Yes\",\"No\")","v":"No"},{"$f":"IF(D27=\"-\",1,0)*U$1","v":1},{"$f":"AND(U27=0,U$1=1)","v":false},{"$f":"IF(F27=\"-\",1,0)*W$1","v":1},{"$f":"AND(W27=0,W$1=1)","v":false},{"$f":"IF(H27=\"-\",1,0)*Y$1","v":1},{"$f":"AND(Y27=0,Y$1=1)","v":false},{"$f":"IF(J27=\"-\",1,0)*AA$1","v":0},{"$f":"AND(AA27=0,AA$1=1)","v":true},{"$f":"IF(L27=\"-\",1,0)*AC$1","v":1},{"$f":"AND(AC27=0,AC$1=1)","v":false}]
[24,"Pascal Bouttier-Butler","Groby CC",2,{"$f":"IF(D28=\"-\",0,D28)","v":2},5,{"$f":"IF(F28=\"-\",0,F28)","v":5},5,{"$f":"IF(H28=\"-\",0,H28)","v":5},5,{"$f":"IF(J28=\"-\",0,J28)","v":5},"-",{"$f":"IF(L28=\"-\",0,L28)","v":0},null,{"$f":"E28+G28+I28+K28+M28","v":17},{"$f":"MAX(D28,F28,H28,J28,L28)","v":5},{"$f":"IF(S28=1,O28,IF(S28=0,(O28-P28),\"-\"))","v":17},{"$f":"COUNTIF(U28:AD28,\"=TRUE\")","v":4},{"$f":"AE$1-R28","v":1},{"$f":"IF(S28<2,\"Yes\",\"No\")","v":"Yes"},{"$f":"IF(D28=\"-\",1,0)*U$1","v":0},{"$f":"AND(U28=0,U$1=1)","v":true},{"$f":"IF(F28=\"-\",1,0)*W$1","v":0},{"$f":"AND(W28=0,W$1=1)","v":true},{"$f":"IF(H28=\"-\",1,0)*Y$1","v":0},{"$f":"AND(Y28=0,Y$1=1)","v":true},{"$f":"IF(J28=\"-\",1,0)*AA$1","v":0},{"$f":"AND(AA28=0,AA$1=1)","v":true},{"$f":"IF(L28=\"-\",1,0)*AC$1","v":1},{"$f":"AND(AC28=0,AC$1=1)","v":false}]
[39,"Archie Banks","Loughborough Grammar School","-",{"$f":"IF(D29=\"-\",0,D29)","v":0},3,{"$f":"IF(F29=\"-\",0,F29)","v":3},"-",{"$f":"IF(H29=\"-\",0,H29)","v":0},6,{"$f":"IF(J29=\"-\",0,J29)","v":6},"-",{"$f":"IF(L29=\"-\",0,L29)","v":0},null,{"$f":"E29+G29+I29+K29+M29","v":9},{"$f":"MAX(D29,F29,H29,J29,L29)","v":6},{"$f":"IF(S29=1,O29,IF(S29=0,(O29-P29),\"-\"))","v":"-"},{"$f":"COUNTIF(U29:AD29,\"=TRUE\")","v":2},{"$f":"AE$1-R29","v":3},{"$f":"IF(S29<2,\"Yes\",\"No\")","v":"No"},{"$f":"IF(D29=\"-\",1,0)*U$1","v":1},{"$f":"AND(U29=0,U$1=1)","v":false},{"$f":"IF(F29=\"-\",1,0)*W$1","v":0},{"$f":"AND(W29=0,W$1=1)","v":true},{"$f":"IF(H29=\"-\",1,0)*Y$1","v":1},{"$f":"AND(Y29=0,Y$1=1)","v":false},{"$f":"IF(J29=\"-\",1,0)*AA$1","v":0},{"$f":"AND(AA29=0,AA$1=1)","v":true},{"$f":"IF(L29=\"-\",1,0)*AC$1","v":1},{"$f":"AND(AC29=0,AC$1=1)","v":false}]
[40,"Finn Lydon","Winstanley CC","-",{"$f":"IF(D30=\"-\",0,D30)","v":0},"-",{"$f":"IF(F30=\"-\",0,F30)","v":0},7,{"$f":"IF(H30=\"-\",0,H30)","v":7},13,{"$f":"IF(J30=\"-\",0,J30)","v":13},"-",{"$f":"IF(L30=\"-\",0,L30)","v":0},null,{"$f":"E30+G30+I30+K30+M30","v":20},{"$f":"MAX(D30,F30,H30,J30,L30)","v":13},{"$f":"IF(S30=1,O30,IF(S30=0,(O30-P30),\"-\"))","v":"-"},{"$f":"COUNTIF(U30:AD30,\"=TRUE\")","v":2},{"$f":"AE$1-R30","v":3},{"$f":"IF(S30<2,\"Yes\",\"No\")","v":"No"},{"$f":"IF(D30=\"-\",1,0)*U$1","v":1},{"$f":"AND(U30=0,U$1=1)","v":false},{"$f":"IF(F30=\"-\",1,0)*W$1","v":1},{"$f":"AND(W30=0,W$1=1)","v":false},{"$f":"IF(H30=\"-\",1,0)*Y$1","v":0},{"$f":"AND(Y30=0,Y$1=1)","v":true},{"$f":"IF(J30=\"-\",1,0)*AA$1","v":0},{"$f":"AND(AA30=0,AA$1=1)","v":true},{"$f":"IF(L30=\"-\",1,0)*AC$1","v":1},{"$f":"AND(AC30=0,AC$1=1)","v":false}]
[75,"Edward Thomas","Rawlins College",19,{"$f":"IF(D31=\"-\",0,D31)","v":19},21,{"$f":"IF(F31=\"-\",0,F31)","v":21},17,{"$f":"IF(H31=\"-\",0,H31)","v":17},14,{"$f":"IF(J31=\"-\",0,J31)","v":14},"-",{"$f":"IF(L31=\"-\",0,L31)","v":0},null,{"$f":"E31+G31+I31+K31+M31","v":71},{"$f":"MAX(D31,F31,H31,J31,L31)","v":21},{"$f":"IF(S31=1,O31,IF(S31=0,(O31-P31),\"-\"))","v":71},{"$f":"COUNTIF(U31:AD31,\"=TRUE\")","v":4},{"$f":"AE$1-R31","v":1},{"$f":"IF(S31<2,\"Yes\",\"No\")","v":"Yes"},{"$f":"IF(D31=\"-\",1,0)*U$1","v":0},{"$f":"AND(U31=0,U$1=1)","v":true},{"$f":"IF(F31=\"-\",1,0)*W$1","v":0},{"$f":"AND(W31=0,W$1=1)","v":true},{"$f":"IF(H31=\"-\",1,0)*Y$1","v":0},{"$f":"AND(Y31=0,Y$1=1)","v":true},{"$f":"IF(J31=\"-\",1,0)*AA$1","v":0},{"$f":"AND(AA31=0,AA$1=1)","v":true},{"$f":"IF(L31=\"-\",1,0)*AC$1","v":1},{"$f":"AND(AC31=0,AC$1=1)","v":false}]
[4,"Mason Dade","Bosworth Academy",5,{"$f":"IF(D32=\"-\",0,D32)","v":5},"-",{"$f":"IF(F32=\"-\",0,F32)","v":0},14,{"$f":"IF(H32=\"-\",0,H32)","v":14},17,{"$f":"IF(J32=\"-\",0,J32)","v":17},"-",{"$f":"IF(L32=\"-\",0,L32)","v":0},null,{"$f":"E32+G32+I32+K32+M32","v":36},{"$f":"MAX(D32,F32,H32,J32,L32)","v":17},{"$f":"IF(S32=1,O32,IF(S32=0,(O32-P32),\"-\"))","v":"-"},{"$f":"COUNTIF(U32:AD32,\"=TRUE\")","v":3},{"$f":"AE$1-R32","v":2},{"$f":"IF(S32<2,\"Yes\",\"No\")","v":"No"},{"$f":"IF(D32=\"-\",1,0)*U$1","v":0},{"$f":"AND(U32=0,U$1=1)","v":true},{"$f":"IF(F32=\"-\",1,0)*W$1","v":1},{"$f":"AND(W32=0,W$1=1)","v":false},{"$f":"IF(H32=\"-\",1,0)*Y$1","v":0},{"$f":"AND(Y32=0,Y$1=1)","v":true},{"$f":"IF(J32=\"-\",1,0)*AA$1","v":0},{"$f":"AND(AA32=0,AA$1=1)","v":true},{"$f":"IF(L32=\"-\",1,0)*AC$1","v":1},{"$f":"AND(AC32=0,AC$1=1)","v":false}]
[79,"Wais Kaire","Soar Valley College","-",{"$f":"IF(D33=\"-\",0,D33)","v":0},18,{"$f":"IF(F33=\"-\",0,F33)","v":18},"-",{"$f":"IF(H33=\"-\",0,H33)","v":0},18,{"$f":"IF(J33=\"-\",0,J33)","v":18},"-",{"$f":"IF(L33=\"-\",0,L33)","v":0},null,{"$f":"E33+G33+I33+K33+M33","v":36},{"$f":"MAX(D33,F33,H33,J33,L33)","v":18},{"$f":"IF(S33=1,O33,IF(S33=0,(O33-P33),\"-\"))","v":"-"},{"$f":"COUNTIF(U33:AD33,\"=TRUE\")","v":2},{"$f":"AE$1-R33","v":3},{"$f":"IF(S33<2,\"Yes\",\"No\")","v":"No"},{"$f":"IF(D33=\"-\",1,0)*U$1","v":1},{"$f":"AND(U33=0,U$1=1)","v":false},{"$f":"IF(F33=\"-\",1,0)*W$1","v":0},{"$f":"AND(W33=0,W$1=1)","v":true},{"$f":"IF(H33=\"-\",1,0)*Y$1","v":1},{"$f":"AND(Y33=0,Y$1=1)","v":false},{"$f":"IF(J33=\"-\",1,0)*AA$1","v":0},{"$f":"AND(AA33=0,AA$1=1)","v":true},{"$f":"IF(L33=\"-\",1,0)*AC$1","v":1},{"$f":"AND(AC33=0,AC$1=1)","v":false}]
[6,"Toby Langrick","Uppingham CC",16,{"$f":"IF(D34=\"-\",0,D34)","v":16},20,{"$f":"IF(F34=\"-\",0,F34)","v":20},"-",{"$f":"IF(H34=\"-\",0,H34)","v":0},19,{"$f":"IF(J34=\"-\",0,J34)","v":19},"-",{"$f":"IF(L34=\"-\",0,L34)","v":0},null,{"$f":"E34+G34+I34+K34+M34","v":55},{"$f":"MAX(D34,F34,H34,J34,L34)","v":20},{"$f":"IF(S34=1,O34,IF(S34=0,(O34-P34),\"-\"))","v":"-"},{"$f":"COUNTIF(U34:AD34,\"=TRUE\")","v":3},{"$f":"AE$1-R34","v":2},{"$f":"IF(S34<2,\"Yes\",\"No\")","v":"No"},{"$f":"IF(D34=\"-\",1,0)*U$1","v":0},{"$f":"AND(U34=0,U$1=1)","v":true},{"$f":"IF(F34=\"-\",1,0)*W$1","v":0},{"$f":"AND(W34=0,W$1=1)","v":true},{"$f":"IF(H34=\"-\",1,0)*Y$1","v":1},{"$f":"AND(Y34=0,Y$1=1)","v":false},{"$f":"IF(J34=\"-\",1,0)*AA$1","v":0},{"$f":"AND(AA34=0,AA$1=1)","v":true},{"$f":"IF(L34=\"-\",1,0)*AC$1","v":1},{"$f":"AND(AC34=0,AC$1=1)","v":false}]
[11,"George Burnett","Loughborough Grammar School","-",{"$f":"IF(D35=\"-\",0,D35)","v":0},"-",{"$f":"IF(F35=\"-\",0,F35)","v":0},1,{"$f":"IF(H35=\"-\",0,H35)","v":1},"-",{"$f":"IF(J35=\"-\",0,J35)","v":0},"-",{"$f":"IF(L35=\"-\",0,L35)","v":0},null,{"$f":"E35+G35+I35+K35+M35","v":1},{"$f":"MAX(D35,F35,H35,J35,L35)","v":1},{"$f":"IF(S35=1,O35,IF(S35=0,(O35-P35),\"-\"))","v":"-"},{"$f":"COUNTIF(U35:AD35,\"=TRUE\")","v":1},{"$f":"AE$1-R35","v":4},{"$f":"IF(S35<2,\"Yes\",\"No\")","v":"No"},{"$f":"IF(D35=\"-\",1,0)*U$1","v":1},{"$f":"AND(U35=0,U$1=1)","v":false},{"$f":"IF(F35=\"-\",1,0)*W$1","v":1},{"$f":"AND(W35=0,W$1=1)","v":false},{"$f":"IF(H35=\"-\",1,0)*Y$1","v":0},{"$f":"AND(Y35=0,Y$1=1)","v":true},{"$f":"IF(J35=\"-\",1,0)*AA$1","v":1},{"$f":"AND(AA35=0,AA$1=1)","v":false},{"$f":"IF(L35=\"-\",1,0)*AC$1","v":1},{"$f":"AND(AC35=0,AC$1=1)","v":false}]
[14,"Joseph Pollard","King Edward VII College","-",{"$f":"IF(D36=\"-\",0,D36)","v":0},"-",{"$f":"IF(F36=\"-\",0,F36)","v":0},4,{"$f":"IF(H36=\"-\",0,H36)","v":4},"-",{"$f":"IF(J36=\"-\",0,J36)","v":0},"-",{"$f":"IF(L36=\"-\",0,L36)","v":0},null,{"$f":"E36+G36+I36+K36+M36","v":4},{"$f":"MAX(D36,F36,H36,J36,L36)","v":4},{"$f":"IF(S36=1,O36,IF(S36=0,(O36-P36),\"-\"))","v":"-"},{"$f":"COUNTIF(U36:AD36,\"=TRUE\")","v":1},{"$f":"AE$1-R36","v":4},{"$f":"IF(S36<2,\"Yes\",\"No\")","v":"No"},{"$f":"IF(D36=\"-\",1,0)*U$1","v":1},{"$f":"AND(U36=0,U$1=1)","v":false},{"$f":"IF(F36=\"-\",1,0)*W$1","v":1},{"$f":"AND(W36=0,W$1=1)","v":false},{"$f":"IF(H36=\"-\",1,0)*Y$1","v":0},{"$f":"AND(Y36=0,Y$1=1)","v":true},{"$f":"IF(J36=\"-\",1,0)*AA$1","v":1},{"$f":"AND(AA36=0,AA$1=1)","v":false},{"$f":"IF(L36=\"-\",1,0)*AC$1","v":1},{"$f":"AND(AC36=0,AC$1=1)","v":false}]
[8,"Chai Grant","Bosworth Academy",4,{"$f":"IF(D37=\"-\",0,D37)","v":4},"-",{"$f":"IF(F37=\"-\",0,F37)","v":0},10,{"$f":"IF(H37=\"-\",0,H37)","v":10},"-",{"$f":"IF(J37=\"-\",0,J37)","v":0},"-",{"$f":"IF(L37=\"-\",0,L37)","v":0},null,{"$f":"E37+G37+I37+K37+M37","v":14},{"$f":"MAX(D37,F37,H37,J37,L37)","v":10},{"$f":"IF(S37=1,O37,IF(S37=0,(O37-P37),\"-\"))","v":"-"},{"$f":"COUNTIF(U37:AD37,\"=TRUE\")","v":2},{"$f":"AE$1-R37","v":3},{"$f":"IF(S37<2,\"Yes\",\"No\")","v":"No"},{"$f":"IF(D37=\"-\",1,0)*U$1","v":0},{"$f":"AND(U37=0,U$1=1)","v":true},{"$f":"IF(F37=\"-\",1,0)*W$1","v":1},{"$f":"AND(W37=0,W$1=1)","v":false},{"$f":"IF(H37=\"-\",1,0)*Y$1","v":0},{"$f":"AND(Y37=0,Y$1=1)","v":true},{"$f":"IF(J37=\"-\",1,0)*AA$1","v":1},{"$f":"AND(AA37=0,AA$1=1)","v":false},{"$f":"IF(L37=\"-\",1,0)*AC$1","v":1},{"$f":"AND(AC37=0,AC$1=1)","v":false}]
[66,"James McCall","Dixie Grammar School","-",{"$f":"IF(D38=\"-\",0,D38)","v":0},"-",{"$f":"IF(F38=\"-\",0,F38)","v":0},20,{"$f":"IF(H38=\"-\",0,H38)","v":20},"-",{"$f":"IF(J38=\"-\",0,J38)","v":0},"-",{"$f":"IF(L38=\"-\",0,L38)","v":0},null,{"$f":"E38+G38+I38+K38+M38","v":20},{"$f":"MAX(D38,F38,H38,J38,L38)","v":20},{"$f":"IF(S38=1,O38,IF(S38=0,(O38-P38),\"-\"))","v":"-"},{"$f":"COUNTIF(U38:AD38,\"=TRUE\")","v":1},{"$f":"AE$1-R38","v":4},{"$f":"IF(S38<2,\"Yes\",\"No\")","v":"No"},{"$f":"IF(D38=\"-\",1,0)*U$1","v":1},{"$f":"AND(U38=0,U$1=1)","v":false},{"$f":"IF(F38=\"-\",1,0)*W$1","v":1},{"$f":"AND(W38=0,W$1=1)","v":false},{"$f":"IF(H38=\"-\",1,0)*Y$1","v":0},{"$f":"AND(Y38=0,Y$1=1)","v":true},{"$f":"IF(J38=\"-\",1,0)*AA$1","v":1},{"$f":"AND(AA38=0,AA$1=1)","v":false},{"$f":"IF(L38=\"-\",1,0)*AC$1","v":1},{"$f":"AND(AC38=0,AC$1=1)","v":false}]
[46,"Harry Brown","Rawlins College",23,{"$f":"IF(D39=\"-\",0,D39)","v":23},25,{"$f":"IF(F39=\"-\",0,F39)","v":25},22,{"$f":"IF(H39=\"-\",0,H39)","v":22},"-",{"$f":"IF(J39=\"-\",0,J39)","v":0},"-",{"$f":"IF(L39=\"-\",0,L39)","v":0},null,{"$f":"E39+G39+I39+K39+M39","v":70},{"$f":"MAX(D39,F39,H39,J39,L39)","v":25},{"$f":"IF(S39=1,O39,IF(S39=0,(O39-P39),\"-\"))","v":"-"},{"$f":"COUNTIF(U39:AD39,\"=TRUE\")","v":3},{"$f":"AE$1-R39","v":2},{"$f":"IF(S39<2,\"Yes\",\"No\")","v":"No"},{"$f":"IF(D39=\"-\",1,0)*U$1","v":0},{"$f":"AND(U39=0,U$1=1)","v":true},{"$f":"IF(F39=\"-\",1,0)*W$1","v":0},{"$f":"AND(W39=0,W$1=1)","v":true},{"$f":"IF(H39=\"-\",1,0)*Y$1","v":0},{"$f":"AND(Y39=0,Y$1=1)","v":true},{"$f":"IF(J39=\"-\",1,0)*AA$1","v":1},{"$f":"AND(AA39=0,AA$1=1)","v":false},{"$f":"IF(L39=\"-\",1,0)*AC$1","v":1},{"$f":"AND(AC39=0,AC$1=1)","v":false}]
[76,"Mark McCall","Dixie Grammar School","-",{"$f":"IF(D40=\"-\",0,D40)","v":0},"-",{"$f":"IF(F40=\"-\",0,F40)","v":0},23,{"$f":"IF(H40=\"-\",0,H40)","v":23},"-",{"$f":"IF(J40=\"-\",0,J40)","v":0},"-",{"$f":"IF(L40=\"-\",0,L40)","v":0},null,{"$f":"E40+G40+I40+K40+M40","v":23},{"$f":"MAX(D40,F40,H40,J40,L40)","v":23},{"$f":"IF(S40=1,O40,IF(S40=0,(O40-P40),\"-\"))","v":"-"},{"$f":"COUNTIF(U40:AD40,\"=TRUE\")","v":1},{"$f":"AE$1-R40","v":4},{"$f":"IF(S40<2,\"Yes\",\"No\")","v":"No"},{"$f":"IF(D40=\"-\",1,0)*U$1","v":1},{"$f":"AND(U40=0,U$1=1)","v":false},{"$f":"IF(F40=\"-\",1,0)*W$1","v":1},{"$f":"AND(W40=0,W$1=1)","v":false},{"$f":"IF(H40=\"-\",1,0)*Y$1","v":0},{"$f":"AND(Y40=0,Y$1=1)","v":true},{"$f":"IF(J40=\"-\",1,0)*AA$1","v":1},{"$f":"AND(AA40=0,AA$1=1)","v":false},{"$f":"IF(L40=\"-\",1,0)*AC$1","v":1},{"$f":"AND(AC40=0,AC$1=1)","v":false}]
[22,"Luke Hulson-Brown","Longslade CC","-",{"$f":"IF(D41=\"-\",0,D41)","v":0},22,{"$f":"IF(F41=\"-\",0,F41)","v":22},24,{"$f":"IF(H41=\"-\",0,H41)","v":24},"-",{"$f":"IF(J41=\"-\",0,J41)","v":0},"-",{"$f":"IF(L41=\"-\",0,L41)","v":0},null,{"$f":"E41+G41+I41+K41+M41","v":46},{"$f":"MAX(D41,F41,H41,J41,L41)","v":24},{"$f":"IF(S41=1,O41,IF(S41=0,(O41-P41),\"-\"))","v":"-"},{"$f":"COUNTIF(U41:AD41,\"=TRUE\")","v":2},{"$f":"AE$1-R41","v":3},{"$f":"IF(S41<2,\"Yes\",\"No\")","v":"No"},{"$f":"IF(D41=\"-\",1,0)*U$1","v":1},{"$f":"AND(U41=0,U$1=1)","v":false},{"$f":"IF(F41=\"-\",1,0)*W$1","v":0},{"$f":"AND(W41=0,W$1=1)","v":true},{"$f":"IF(H41=\"-\",1,0)*Y$1","v":0},{"$f":"AND(Y41=0,Y$1=1)","v":true},{"$f":"IF(J41=\"-\",1,0)*AA$1","v":1},{"$f":"AND(AA41=0,AA$1=1)","v":false},{"$f":"IF(L41=\"-\",1,0)*AC$1","v":1},{"$f":"AND(AC41=0,AC$1=1)","v":false}]
[44,"Charlie Blencowe","St Crispins School",24,{"$f":"IF(D42=\"-\",0,D42)","v":24},32,{"$f":"IF(F42=\"-\",0,F42)","v":32},27,{"$f":"IF(H42=\"-\",0,H42)","v":27},"-",{"$f":"IF(J42=\"-\",0,J42)","v":0},"-",{"$f":"IF(L42=\"-\",0,L42)","v":0},null,{"$f":"E42+G42+I42+K42+M42","v":83},{"$f":"MAX(D42,F42,H42,J42,L42)","v":32},{"$f":"IF(S42=1,O42,IF(S42=0,(O42-P42),\"-\"))","v":"-"},{"$f":"COUNTIF(U42:AD42,\"=TRUE\")","v":3},{"$f":"AE$1-R42","v":2},{"$f":"IF(S42<2,\"Yes\",\"No\")","v":"No"},{"$f":"IF(D42=\"-\",1,0)*U$1","v":0},{"$f":"AND(U42=0,U$1=1)","v":true},{"$f":"IF(F42=\"-\",1,0)*W$1","v":0},{"$f":"AND(W42=0,W$1=1)","v":true},{"$f":"IF(H42=\"-\",1,0)*Y$1","v":0},{"$f":"AND(Y42=0,Y$1=1)","v":true},{"$f":"IF(J42=\"-\",1,0)*AA$1","v":1},{"$f":"AND(AA42=0,AA$1=1)","v":false},{"$f":"IF(L42=\"-\",1,0)*AC$1","v":1},{"$f":"AND(AC42=0,AC$1=1)","v":false}]
[7,"Harry Freeman","Uppingham CC","-",{"$f":"IF(D43=\"-\",0,D43)","v":0},6,{"$f":"IF(F43=\"-\",0,F43)","v":6},"-",{"$f":"IF(H43=\"-\",0,H43)","v":0},"-",{"$f":"IF(J43=\"-\",0,J43)","v":0},"-",{"$f":"IF(L43=\"-\",0,L43)","v":0},null,{"$f":"E43+G43+I43+K43+M43","v":6},{"$f":"MAX(D43,F43,H43,J43,L43)","v":6},{"$f":"IF(S43=1,O43,IF(S43=0,(O43-P43),\"-\"))","v":"-"},{"$f":"COUNTIF(U43:AD43,\"=TRUE\")","v":1},{"$f":"AE$1-R43","v":4},{"$f":"IF(S43<2,\"Yes\",\"No\")","v":"No"},{"$f":"IF(D43=\"-\",1,0)*U$1","v":1},{"$f":"AND(U43=0,U$1=1)","v":false},{"$f":"IF(F43=\"-\",1,0)*W$1","v":0},{"$f":"AND(W43=0,W$1=1)","v":true},{"$f":"IF(H43=\"-\",1,0)*Y$1","v":1},{"$f":"AND(Y43=0,Y$1=1)","v":false},{"$f":"IF(J43=\"-\",1,0)*AA$1","v":1},{"$f":"AND(AA43=0,AA$1=1)","v":false},{"$f":"IF(L43=\"-\",1,0)*AC$1","v":1},{"$f":"AND(AC43=0,AC$1=1)","v":false}]
[62,"Josh Smith","Hind Leys College","-",{"$f":"IF(D44=\"-\",0,D44)","v":0},8,{"$f":"IF(F44=\"-\",0,F44)","v":8},"-",{"$f":"IF(H44=\"-\",0,H44)","v":0},"-",{"$f":"IF(J44=\"-\",0,J44)","v":0},"-",{"$f":"IF(L44=\"-\",0,L44)","v":0},null,{"$f":"E44+G44+I44+K44+M44","v":8},{"$f":"MAX(D44,F44,H44,J44,L44)","v":8},{"$f":"IF(S44=1,O44,IF(S44=0,(O44-P44),\"-\"))","v":"-"},{"$f":"COUNTIF(U44:AD44,\"=TRUE\")","v":1},{"$f":"AE$1-R44","v":4},{"$f":"IF(S44<2,\"Yes\",\"No\")","v":"No"},{"$f":"IF(D44=\"-\",1,0)*U$1","v":1},{"$f":"AND(U44=0,U$1=1)","v":false},{"$f":"IF(F44=\"-\",1,0)*W$1","v":0},{"$f":"AND(W44=0,W$1=1)","v":true},{"$f":"IF(H44=\"-\",1,0)*Y$1","v":1},{"$f":"AND(Y44=0,Y$1=1)","v":false},{"$f":"IF(J44=\"-\",1,0)*AA$1","v":1},{"$f":"AND(AA44=0,AA$1=1)","v":false},{"$f":"IF(L44=\"-\",1,0)*AC$1","v":1},{"$f":"AND(AC44=0,AC$1=1)","v":false}]
[5,"Max Bishop","Robert Smyth Academy",6,{"$f":"IF(D45=\"-\",0,D45)","v":6},11,{"$f":"IF(F45=\"-\",0,F45)","v":11},"-",{"$f":"IF(H45=\"-\",0,H45)","v":0},"-",{"$f":"IF(J45=\"-\",0,J45)","v":0},"-",{"$f":"IF(L45=\"-\",0,L45)","v":0},null,{"$f":"E45+G45+I45+K45+M45","v":17},{"$f":"MAX(D45,F45,H45,J45,L45)","v":11},{"$f":"IF(S45=1,O45,IF(S45=0,(O45-P45),\"-\"))","v":"-"},{"$f":"COUNTIF(U45:AD45,\"=TRUE\")","v":2},{"$f":"AE$1-R45","v":3},{"$f":"IF(S45<2,\"Yes\",\"No\")","v":"No"},{"$f":"IF(D45=\"-\",1,0)*U$1","v":0},{"$f":"AND(U45=0,U$1=1)","v":true},{"$f":"IF(F45=\"-\",1,0)*W$1","v":0},{"$f":"AND(W45=0,W$1=1)","v":true},{"$f":"IF(H45=\"-\",1,0)*Y$1","v":1},{"$f":"AND(Y45=0,Y$1=1)","v":false},{"$f":"IF(J45=\"-\",1,0)*AA$1","v":1},{"$f":"AND(AA45=0,AA$1=1)","v":false},{"$f":"IF(L45=\"-\",1,0)*AC$1","v":1},{"$f":"AND(AC45=0,AC$1=1)","v":false}]
[67,"Tom Jackson","Groby CC","-",{"$f":"IF(D46=\"-\",0,D46)","v":0},23,{"$f":"IF(F46=\"-\",0,F46)","v":23},"-",{"$f":"IF(H46=\"-\",0,H46)","v":0},"-",{"$f":"IF(J46=\"-\",0,J46)","v":0},"-",{"$f":"IF(L46=\"-\",0,L46)","v":0},null,{"$f":"E46+G46+I46+K46+M46","v":23},{"$f":"MAX(D46,F46,H46,J46,L46)","v":23},{"$f":"IF(S46=1,O46,IF(S46=0,(O46-P46),\"-\"))","v":"-"},{"$f":"COUNTIF(U46:AD46,\"=TRUE\")","v":1},{"$f":"AE$1-R46","v":4},{"$f":"IF(S46<2,\"Yes\",\"No\")","v":"No"},{"$f":"IF(D46=\"-\",1,0)*U$1","v":1},{"$f":"AND(U46=0,U$1=1)","v":false},{"$f":"IF(F46=\"-\",1,0)*W$1","v":0},{"$f":"AND(W46=0,W$1=1)","v":true},{"$f":"IF(H46=\"-\",1,0)*Y$1","v":1},{"$f":"AND(Y46=0,Y$1=1)","v":false},{"$f":"IF(J46=\"-\",1,0)*AA$1","v":1},{"$f":"AND(AA46=0,AA$1=1)","v":false},{"$f":"IF(L46=\"-\",1,0)*AC$1","v":1},{"$f":"AND(AC46=0,AC$1=1)","v":false}]
[77,"Ben Timson","Countesthorpe CC",20,{"$f":"IF(D47=\"-\",0,D47)","v":20},26,{"$f":"IF(F47=\"-\",0,F47)","v":26},"-",{"$f":"IF(H47=\"-\",0,H47)","v":0},"-",{"$f":"IF(J47=\"-\",0,J47)","v":0},"-",{"$f":"IF(L47=\"-\",0,L47)","v":0},null,{"$f":"E47+G47+I47+K47+M47","v":46},{"$f":"MAX(D47,F47,H47,J47,L47)","v":26},{"$f":"IF(S47=1,O47,IF(S47=0,(O47-P47),\"-\"))","v":"-"},{"$f":"COUNTIF(U47:AD47,\"=TRUE\")","v":2},{"$f":"AE$1-R47","v":3},{"$f":"IF(S47<2,\"Yes\",\"No\")","v":"No"},{"$f":"IF(D47=\"-\",1,0)*U$1","v":0},{"$f":"AND(U47=0,U$1=1)","v":true},{"$f":"IF(F47=\"-\",1,0)*W$1","v":0},{"$f":"AND(W47=0,W$1=1)","v":true},{"$f":"IF(H47=\"-\",1,0)*Y$1","v":1},{"$f":"AND(Y47=0,Y$1=1)","v":false},{"$f":"IF(J47=\"-\",1,0)*AA$1","v":1},{"$f":"AND(AA47=0,AA$1=1)","v":false},{"$f":"IF(L47=\"-\",1,0)*AC$1","v":1},{"$f":"AND(AC47=0,AC$1=1)","v":false}]
[74,"Robin Kearns","Humphrey Perkins School","-",{"$f":"IF(D48=\"-\",0,D48)","v":0},27,{"$f":"IF(F48=\"-\",0,F48)","v":27},"-",{"$f":"IF(H48=\"-\",0,H48)","v":0},"-",{"$f":"IF(J48=\"-\",0,J48)","v":0},"-",{"$f":"IF(L48=\"-\",0,L48)","v":0},null,{"$f":"E48+G48+I48+K48+M48","v":27},{"$f":"MAX(D48,F48,H48,J48,L48)","v":27},{"$f":"IF(S48=1,O48,IF(S48=0,(O48-P48),\"-\"))","v":"-"},{"$f":"COUNTIF(U48:AD48,\"=TRUE\")","v":1},{"$f":"AE$1-R48","v":4},{"$f":"IF(S48<2,\"Yes\",\"No\")","v":"No"},{"$f":"IF(D48=\"-\",1,0)*U$1","v":1},{"$f":"AND(U48=0,U$1=1)","v":false},{"$f":"IF(F48=\"-\",1,0)*W$1","v":0},{"$f":"AND(W48=0,W$1=1)","v":true},{"$f":"IF(H48=\"-\",1,0)*Y$1","v":1},{"$f":"AND(Y48=0,Y$1=1)","v":false},{"$f":"IF(J48=\"-\",1,0)*AA$1","v":1},{"$f":"AND(AA48=0,AA$1=1)","v":false},{"$f":"IF(L48=\"-\",1,0)*AC$1","v":1},{"$f":"AND(AC48=0,AC$1=1)","v":false}]
[1,"Alex Lucas","John Ferneley College","-",{"$f":"IF(D49=\"-\",0,D49)","v":0},30,{"$f":"IF(F49=\"-\",0,F49)","v":30},"-",{"$f":"IF(H49=\"-\",0,H49)","v":0},"-",{"$f":"IF(J49=\"-\",0,J49)","v":0},"-",{"$f":"IF(L49=\"-\",0,L49)","v":0},null,{"$f":"E49+G49+I49+K49+M49","v":30},{"$f":"MAX(D49,F49,H49,J49,L49)","v":30},{"$f":"IF(S49=1,O49,IF(S49=0,(O49-P49),\"-\"))","v":"-"},{"$f":"COUNTIF(U49:AD49,\"=TRUE\")","v":1},{"$f":"AE$1-R49","v":4},{"$f":"IF(S49<2,\"Yes\",\"No\")","v":"No"},{"$f":"IF(D49=\"-\",1,0)*U$1","v":1},{"$f":"AND(U49=0,U$1=1)","v":false},{"$f":"IF(F49=\"-\",1,0)*W$1","v":0},{"$f":"AND(W49=0,W$1=1)","v":true},{"$f":"IF(H49=\"-\",1,0)*Y$1","v":1},{"$f":"AND(Y49=0,Y$1=1)","v":false},{"$f":"IF(J49=\"-\",1,0)*AA$1","v":1},{"$f":"AND(AA49=0,AA$1=1)","v":false},{"$f":"IF(L49=\"-\",1,0)*AC$1","v":1},{"$f":"AND(AC49=0,AC$1=1)","v":false}]
[29,"Ed Partis","The Martin High School",12,{"$f":"IF(D50=\"-\",0,D50)","v":12},"-",{"$f":"IF(F50=\"-\",0,F50)","v":0},"-",{"$f":"IF(H50=\"-\",0,H50)","v":0},"-",{"$f":"IF(J50=\"-\",0,J50)","v":0},"-",{"$f":"IF(L50=\"-\",0,L50)","v":0},null,{"$f":"E50+G50+I50+K50+M50","v":12},{"$f":"MAX(D50,F50,H50,J50,L50)","v":12},{"$f":"IF(S50=1,O50,IF(S50=0,(O50-P50),\"-\"))","v":"-"},{"$f":"COUNTIF(U50:AD50,\"=TRUE\")","v":1},{"$f":"AE$1-R50","v":4},{"$f":"IF(S50<2,\"Yes\",\"No\")","v":"No"},{"$f":"IF(D50=\"-\",1,0)*U$1","v":0},{"$f":"AND(U50=0,U$1=1)","v":true},{"$f":"IF(F50=\"-\",1,0)*W$1","v":1},{"$f":"AND(W50=0,W$1=1)","v":false},{"$f":"IF(H50=\"-\",1,0)*Y$1","v":1},{"$f":"AND(Y50=0,Y$1=1)","v":false},{"$f":"IF(J50=\"-\",1,0)*AA$1","v":1},{"$f":"AND(AA50=0,AA$1=1)","v":false},{"$f":"IF(L50=\"-\",1,0)*AC$1","v":1},{"$f":"AND(AC50=0,AC$1=1)","v":false}]
[28,"Nick Wilson","Groby CC",17,{"$f":"IF(D51=\"-\",0,D51)","v":17},"-",{"$f":"IF(F51=\"-\",0,F51)","v":0},"-",{"$f":"IF(H51=\"-\",0,H51)","v":0},"-",{"$f":"IF(J51=\"-\",0,J51)","v":0},"-",{"$f":"IF(L51=\"-\",0,L51)","v":0},null,{"$f":"E51+G51+I51+K51+M51","v":17},{"$f":"MAX(D51,F51,H51,J51,L51)","v":17},{"$f":"IF(S51=1,O51,IF(S51=0,(O51-P51),\"-\"))","v":"-"},{"$f":"COUNTIF(U51:AD51,\"=TRUE\")","v":1},{"$f":"AE$1-R51","v":4},{"$f":"IF(S51<2,\"Yes\",\"No\")","v":"No"},{"$f":"IF(D51=\"-\",1,0)*U$1","v":0},{"$f":"AND(U51=0,U$1=1)","v":true},{"$f":"IF(F51=\"-\",1,0)*W$1","v":1},{"$f":"AND(W51=0,W$1=1)","v":false},{"$f":"IF(H51=\"-\",1,0)*Y$1","v":1},{"$f":"AND(Y51=0,Y$1=1)","v":false},{"$f":"IF(J51=\"-\",1,0)*AA$1","v":1},{"$f":"AND(AA51=0,AA$1=1)","v":false},{"$f":"IF(L51=\"-\",1,0)*AC$1","v":1},{"$f":"AND(AC51=0,AC$1=1)","v":false}]
[55,"George Jackson","Dixie Grammar School",21,{"$f":"IF(D52=\"-\",0,D52)","v":21},"-",{"$f":"IF(F52=\"-\",0,F52)","v":0},"-",{"$f":"IF(H52=\"-\",0,H52)","v":0},"-",{"$f":"IF(J52=\"-\",0,J52)","v":0},"-",{"$f":"IF(L52=\"-\",0,L52)","v":0},null,{"$f":"E52+G52+I52+K52+M52","v":21},{"$f":"MAX(D52,F52,H52,J52,L52)","v":21},{"$f":"IF(S52=1,O52,IF(S52=0,(O52-P52),\"-\"))","v":"-"},{"$f":"COUNTIF(U52:AD52,\"=TRUE\")","v":1},{"$f":"AE$1-R52","v":4},{"$f":"IF(S52<2,\"Yes\",\"No\")","v":"No"},{"$f":"IF(D52=\"-\",1,0)*U$1","v":0},{"$f":"AND(U52=0,U$1=1)","v":true},{"$f":"IF(F52=\"-\",1,0)*W$1","v":1},{"$f":"AND(W52=0,W$1=1)","v":false},{"$f":"IF(H52=\"-\",1,0)*Y$1","v":1},{"$f":"AND(Y52=0,Y$1=1)","v":false},{"$f":"IF(J52=\"-\",1,0)*AA$1","v":1},{"$f":"AND(AA52=0,AA$1=1)","v":false},{"$f":"IF(L52=\"-\",1,0)*AC$1","v":1},{"$f":"AND(AC52=0,AC$1=1)","v":false}]
[34,"Thomas Young","Hind Leys College",25,{"$f":"IF(D53=\"-\",0,D53)","v":25},"-",{"$f":"IF(F53=\"-\",0,F53)","v":0},"-",{"$f":"IF(H53=\"-\",0,H53)","v":0},"-",{"$f":"IF(J53=\"-\",0,J53)","v":0},"-",{"$f":"IF(L53=\"-\",0,L53)","v":0},null,{"$f":"E53+G53+I53+K53+M53","v":25},{"$f":"MAX(D53,F53,H53,J53,L53)","v":25},{"$f":"IF(S53=1,O53,IF(S53=0,(O53-P53),\"-\"))","v":"-"},{"$f":"COUNTIF(U53:AD53,\"=TRUE\")","v":1},{"$f":"AE$1-R53","v":4},{"$f":"IF(S53<2,\"Yes\",\"No\")","v":"No"},{"$f":"IF(D53=\"-\",1,0)*U$1","v":0},{"$f":"AND(U53=0,U$1=1)","v":true},{"$f":"IF(F53=\"-\",1,0)*W$1","v":1},{"$f":"AND(W53=0,W$1=1)","v":false},{"$f":"IF(H53=\"-\",1,0)*Y$1","v":1},{"$f":"AND(Y53=0,Y$1=1)","v":false},{"$f":"IF(J53=\"-\",1,0)*AA$1","v":1},{"$f":"AND(AA53=0,AA$1=1)","v":false},{"$f":"IF(L53=\"-\",1,0)*AC$1","v":1},{"$f":"AND(AC53=0,AC$1=1)","v":false}]
[23,null,"-","-",{"$f":"IF(D54=\"-\",0,D54)","v":0},"-",{"$f":"IF(F54=\"-\",0,F54)","v":0},"-",{"$f":"IF(H54=\"-\",0,H54)","v":0},"-",{"$f":"IF(J54=\"-\",0,J54)","v":0},"-",{"$f":"IF(L54=\"-\",0,L54)","v":0},null,{"$f":"E54+G54+I54+K54+M54","v":0},{"$f":"MAX(D54,F54,H54,J54,L54)","v":0},{"$f":"IF(S54=1,O54,IF(S54=0,(O54-P54),\"-\"))","v":"-"},{"$f":"COUNTIF(U54:AD54,\"=TRUE\")","v":0},{"$f":"AE$1-R54","v":5},{"$f":"IF(S54<2,\"Yes\",\"No\")","v":"No"},{"$f":"IF(D54=\"-\",1,0)*U$1","v":1},{"$f":"AND(U54=0,U$1=1)","v":false},{"$f":"IF(F54=\"-\",1,0)*W$1","v":1},{"$f":"AND(W54=0,W$1=1)","v":false},{"$f":"IF(H54=\"-\",1,0)*Y$1","v":1},{"$f":"AND(Y54=0,Y$1=1)","v":false},{"$f":"IF(J54=\"-\",1,0)*AA$1","v":1},{"$f":"AND(AA54=0,AA$1=1)","v":false},{"$f":"IF(L54=\"-\",1,0)*AC$1","v":1},{"$f":"AND(AC54=0,AC$1=1)","v":false}]
[30,null,"-","-",{"$f":"IF(D55=\"-\",0,D55)","v":0},"-",{"$f":"IF(F55=\"-\",0,F55)","v":0},"-",{"$f":"IF(H55=\"-\",0,H55)","v":0},"-",{"$f":"IF(J55=\"-\",0,J55)","v":0},"-",{"$f":"IF(L55=\"-\",0,L55)","v":0},null,{"$f":"E55+G55+I55+K55+M55","v":0},{"$f":"MAX(D55,F55,H55,J55,L55)","v":0},{"$f":"IF(S55=1,O55,IF(S55=0,(O55-P55),\"-\"))","v":"-"},{"$f":"COUNTIF(U55:AD55,\"=TRUE\")","v":0},{"$f":"AE$1-R55","v":5},{"$f":"IF(S55<2,\"Yes\",\"No\")","v":"No"},{"$f":"IF(D55=\"-\",1,0)*U$1","v":1},{"$f":"AND(U55=0,U$1=1)","v":false},{"$f":"IF(F55=\"-\",1,0)*W$1","v":1},{"$f":"AND(W55=0,W$1=1)","v":false},{"$f":"IF(H55=\"-\",1,0)*Y$1","v":1},{"$f":"AND(Y55=0,Y$1=1)","v":false},{"$f":"IF(J55=\"-\",1,0)*AA$1","v":1},{"$f":"AND(AA55=0,AA$1=1)","v":false},{"$f":"IF(L55=\"-\",1,0)*AC$1","v":1},{"$f":"AND(AC55=0,AC$1=1)","v":false}]
[18,null,"-","-",{"$f":"IF(D56=\"-\",0,D56)","v":0},"-",{"$f":"IF(F56=\"-\",0,F56)","v":0},"-",{"$f":"IF(H56=\"-\",0,H56)","v":0},"-",{"$f":"IF(J56=\"-\",0,J56)","v":0},"-",{"$f":"IF(L56=\"-\",0,L56)","v":0},null,{"$f":"E56+G56+I56+K56+M56","v":0},{"$f":"MAX(D56,F56,H56,J56,L56)","v":0},{"$f":"IF(S56=1,O56,IF(S56=0,(O56-P56),\"-\"))","v":"-"},{"$f":"COUNTIF(U56:AD56,\"=TRUE\")","v":0},{"$f":"AE$1-R56","v":5},{"$f":"IF(S56<2,\"Yes\",\"No\")","v":"No"},{"$f":"IF(D56=\"-\",1,0)*U$1","v":1},{"$f":"AND(U56=0,U$1=1)","v":false},{"$f":"IF(F56=\"-\",1,0)*W$1","v":1},{"$f":"AND(W56=0,W$1=1)","v":false},{"$f":"IF(H56=\"-\",1,0)*Y$1","v":1},{"$f":"AND(Y56=0,Y$1=1)","v":false},{"$f":"IF(J56=\"-\",1,0)*AA$1","v":1},{"$f":"AND(AA56=0,AA$1=1)","v":false},{"$f":"IF(L56=\"-\",1,0)*AC$1","v":1},{"$f":"AND(AC56=0,AC$1=1)","v":false}]
[60,null,"-","-",{"$f":"IF(D57=\"-\",0,D57)","v":0},"-",{"$f":"IF(F57=\"-\",0,F57)","v":0},"-",{"$f":"IF(H57=\"-\",0,H57)","v":0},"-",{"$f":"IF(J57=\"-\",0,J57)","v":0},"-",{"$f":"IF(L57=\"-\",0,L57)","v":0},null,{"$f":"E57+G57+I57+K57+M57","v":0},{"$f":"MAX(D57,F57,H57,J57,L57)","v":0},{"$f":"IF(S57=1,O57,IF(S57=0,(O57-P57),\"-\"))","v":"-"},{"$f":"COUNTIF(U57:AD57,\"=TRUE\")","v":0},{"$f":"AE$1-R57","v":5},{"$f":"IF(S57<2,\"Yes\",\"No\")","v":"No"},{"$f":"IF(D57=\"-\",1,0)*U$1","v":1},{"$f":"AND(U57=0,U$1=1)","v":false},{"$f":"IF(F57=\"-\",1,0)*W$1","v":1},{"$f":"AND(W57=0,W$1=1)","v":false},{"$f":"IF(H57=\"-\",1,0)*Y$1","v":1},{"$f":"AND(Y57=0,Y$1=1)","v":false},{"$f":"IF(J57=\"-\",1,0)*AA$1","v":1},{"$f":"AND(AA57=0,AA$1=1)","v":false},{"$f":"IF(L57=\"-\",1,0)*AC$1","v":1},{"$f":"AND(AC57=0,AC$1=1)","v":false}]
[59,null,"-","-",{"$f":"IF(D58=\"-\",0,D58)","v":0},"-",{"$f":"IF(F58=\"-\",0,F58)","v":0},"-",{"$f":"IF(H58=\"-\",0,H58)","v":0},"-",{"$f":"IF(J58=\"-\",0,J58)","v":0},"-",{"$f":"IF(L58=\"-\",0,L58)","v":0},null,{"$f":"E58+G58+I58+K58+M58","v":0},{"$f":"MAX(D58,F58,H58,J58,L58)","v":0},{"$f":"IF(S58=1,O58,IF(S58=0,(O58-P58),\"-\"))","v":"-"},{"$f":"COUNTIF(U58:AD58,\"=TRUE\")","v":0},{"$f":"AE$1-R58","v":5},{"$f":"IF(S58<2,\"Yes\",\"No\")","v":"No"},{"$f":"IF(D58=\"-\",1,0)*U$1","v":1},{"$f":"AND(U58=0,U$1=1)","v":false},{"$f":"IF(F58=\"-\",1,0)*W$1","v":1},{"$f":"AND(W58=0,W$1=1)","v":false},{"$f":"IF(H58=\"-\",1,0)*Y$1","v":1},{"$f":"AND(Y58=0,Y$1=1)","v":false},{"$f":"IF(J58=\"-\",1,0)*AA$1","v":1},{"$f":"AND(AA58=0,AA$1=1)","v":false},{"$f":"IF(L58=\"-\",1,0)*AC$1","v":1},{"$f":"AND(AC58=0,AC$1=1)","v":false}]
[15,null,"-","-",{"$f":"IF(D59=\"-\",0,D59)","v":0},"-",{"$f":"IF(F59=\"-\",0,F59)","v":0},"-",{"$f":"IF(H59=\"-\",0,H59)","v":0},"-",{"$f":"IF(J59=\"-\",0,J59)","v":0},"-",{"$f":"IF(L59=\"-\",0,L59)","v":0},null,{"$f":"E59+G59+I59+K59+M59","v":0},{"$f":"MAX(D59,F59,H59,J59,L59)","v":0},{"$f":"IF(S59=1,O59,IF(S59=0,(O59-P59),\"-\"))","v":"-"},{"$f":"COUNTIF(U59:AD59,\"=TRUE\")","v":0},{"$f":"AE$1-R59","v":5},{"$f":"IF(S59<2,\"Yes\",\"No\")","v":"No"},{"$f":"IF(D59=\"-\",1,0)*U$1","v":1},{"$f":"AND(U59=0,U$1=1)","v":false},{"$f":"IF(F59=\"-\",1,0)*W$1","v":1},{"$f":"AND(W59=0,W$1=1)","v":false},{"$f":"IF(H59=\"-\",1,0)*Y$1","v":1},{"$f":"AND(Y59=0,Y$1=1)","v":false},{"$f":"IF(J59=\"-\",1,0)*AA$1","v":1},{"$f":"AND(AA59=0,AA$1=1)","v":false},{"$f":"IF(L59=\"-\",1,0)*AC$1","v":1},{"$f":"AND(AC59=0,AC$1=1)","v":false}]
[21,null,"-","-",{"$f":"IF(D60=\"-\",0,D60)","v":0},"-",{"$f":"IF(F60=\"-\",0,F60)","v":0},"-",{"$f":"IF(H60=\"-\",0,H60)","v":0},"-",{"$f":"IF(J60=\"-\",0,J60)","v":0},"-",{"$f":"IF(L60=\"-\",0,L60)","v":0},null,{"$f":"E60+G60+I60+K60+M60","v":0},{"$f":"MAX(D60,F60,H60,J60,L60)","v":0},{"$f":"IF(S60=1,O60,IF(S60=0,(O60-P60),\"-\"))","v":"-"},{"$f":"COUNTIF(U60:AD60,\"=TRUE\")","v":0},{"$f":"AE$1-R60","v":5},{"$f":"IF(S60<2,\"Yes\",\"No\")","v":"No"},{"$f":"IF(D60=\"-\",1,0)*U$1","v":1},{"$f":"AND(U60=0,U$1=1)","v":false},{"$f":"IF(F60=\"-\",1,0)*W$1","v":1},{"$f":"AND(W60=0,W$1=1)","v":false},{"$f":"IF(H60=\"-\",1,0)*Y$1","v":1},{"$f":"AND(Y60=0,Y$1=1)","v":false},{"$f":"IF(J60=\"-\",1,0)*AA$1","v":1},{"$f":"AND(AA60=0,AA$1=1)","v":false},{"$f":"IF(L60=\"-\",1,0)*AC$1","v":1},{"$f":"AND(AC60=0,AC$1=1)","v":false}]
[61,null,"-","-",{"$f":"IF(D61=\"-\",0,D61)","v":0},"-",{"$f":"IF(F61=\"-\",0,F61)","v":0},"-",{"$f":"IF(H61=\"-\",0,H61)","v":0},"-",{"$f":"IF(J61=\"-\",0,J61)","v":0},"-",{"$f":"IF(L61=\"-\",0,L61)","v":0},null,{"$f":"E61+G61+I61+K61+M61","v":0},{"$f":"MAX(D61,F61,H61,J61,L61)","v":0},{"$f":"IF(S61=1,O61,IF(S61=0,(O61-P61),\"-\"))","v":"-"},{"$f":"COUNTIF(U61:AD61,\"=TRUE\")","v":0},{"$f":"AE$1-R61","v":5},{"$f":"IF(S61<2,\"Yes\",\"No\")","v":"No"},{"$f":"IF(D61=\"-\",1,0)*U$1","v":1},{"$f":"AND(U61=0,U$1=1)","v":false},{"$f":"IF(F61=\"-\",1,0)*W$1","v":1},{"$f":"AND(W61=0,W$1=1)","v":false},{"$f":"IF(H61=\"-\",1,0)*Y$1","v":1},{"$f":"AND(Y61=0,Y$1=1)","v":false},{"$f":"IF(J61=\"-\",1,0)*AA$1","v":1},{"$f":"AND(AA61=0,AA$1=1)","v":false},{"$f":"IF(L61=\"-\",1,0)*AC$1","v":1},{"$f":"AND(AC61=0,AC$1=1)","v":false}]
[73,null,"-","-",{"$f":"IF(D62=\"-\",0,D62)","v":0},"-",{"$f":"IF(F62=\"-\",0,F62)","v":0},"-",{"$f":"IF(H62=\"-\",0,H62)","v":0},"-",{"$f":"IF(J62=\"-\",0,J62)","v":0},"-",{"$f":"IF(L62=\"-\",0,L62)","v":0},null,{"$f":"E62+G62+I62+K62+M62","v":0},{"$f":"MAX(D62,F62,H62,J62,L62)","v":0},{"$f":"IF(S62=1,O62,IF(S62=0,(O62-P62),\"-\"))","v":"-"},{"$f":"COUNTIF(U62:AD62,\"=TRUE\")","v":0},{"$f":"AE$1-R62","v":5},{"$f":"IF(S62<2,\"Yes\",\"No\")","v":"No"},{"$f":"IF(D62=\"-\",1,0)*U$1","v":1},{"$f":"AND(U62=0,U$1=1)","v":false},{"$f":"IF(F62=\"-\",1,0)*W$1","v":1},{"$f":"AND(W62=0,W$1=1)","v":false},{"$f":"IF(H62=\"-\",1,0)*Y$1","v":1},{"$f":"AND(Y62=0,Y$1=1)","v":false},{"$f":"IF(J62=\"-\",1,0)*AA$1","v":1},{"$f":"AND(AA62=0,AA$1=1)","v":false},{"$f":"IF(L62=\"-\",1,0)*AC$1","v":1},{"$f":"AND(AC62=0,AC$1=1)","v":false}]
[32,null,"-","-",{"$f":"IF(D63=\"-\",0,D63)","v":0},"-",{"$f":"IF(F63=\"-\",0,F63)","v":0},"-",{"$f":"IF(H63=\"-\",0,H63)","v":0},"-",{"$f":"IF(J63=\"-\",0,J63)","v":0},"-",{"$f":"IF(L63=\"-\",0,L63)","v":0},null,{"$f":"E63+G63+I63+K63+M63","v":0},{"$f":"MAX(D63,F63,H63,J63,L63)","v":0},{"$f":"IF(S63=1,O63,IF(S63=0,(O63-P63),\"-\"))","v":"-"},{"$f":"COUNTIF(U63:AD63,\"=TRUE\")","v":0},{"$f":"AE$1-R63","v":5},{"$f":"IF(S63<2,\"Yes\",\"No\")","v":"No"},{"$f":"IF(D63=\"-\",1,0)*U$1","v":1},{"$f":"AND(U63=0,U$1=1)","v":false},{"$f":"IF(F63=\"-\",1,0)*W$1","v":1},{"$f":"AND(W63=0,W$1=1)","v":false},{"$f":"IF(H63=\"-\",1,0)*Y$1","v":1},{"$f":"AND(Y63=0,Y$1=1)","v":false},{"$f":"IF(J63=\"-\",1,0)*AA$1","v":1},{"$f":"AND(AA63=0,AA$1=1)","v":false},{"$f":"IF(L63=\"-\",1,0)*AC$1","v":1},{"$f":"AND(AC63=0,AC$1=1)","v":false}]
[38,null,"-","-",{"$f":"IF(D64=\"-\",0,D64)","v":0},"-",{"$f":"IF(F64=\"-\",0,F64)","v":0},"-",{"$f":"IF(H64=\"-\",0,H64)","v":0},"-",{"$f":"IF(J64=\"-\",0,J64)","v":0},"-",{"$f":"IF(L64=\"-\",0,L64)","v":0},null,{"$f":"E64+G64+I64+K64+M64","v":0},{"$f":"MAX(D64,F64,H64,J64,L64)","v":0},{"$f":"IF(S64=1,O64,IF(S64=0,(O64-P64),\"-\"))","v":"-"},{"$f":"COUNTIF(U64:AD64,\"=TRUE\")","v":0},{"$f":"AE$1-R64","v":5},{"$f":"IF(S64<2,\"Yes\",\"No\")","v":"No"},{"$f":"IF(D64=\"-\",1,0)*U$1","v":1},{"$f":"AND(U64=0,U$1=1)","v":false},{"$f":"IF(F64=\"-\",1,0)*W$1","v":1},{"$f":"AND(W64=0,W$1=1)","v":false},{"$f":"IF(H64=\"-\",1,0)*Y$1","v":1},{"$f":"AND(Y64=0,Y$1=1)","v":false},{"$f":"IF(J64=\"-\",1,0)*AA$1","v":1},{"$f":"AND(AA64=0,AA$1=1)","v":false},{"$f":"IF(L64=\"-\",1,0)*AC$1","v":1},{"$f":"AND(AC64=0,AC$1=1)","v":false}]
[41,null,"-","-",{"$f":"IF(D65=\"-\",0,D65)","v":0},"-",{"$f":"IF(F65=\"-\",0,F65)","v":0},"-",{"$f":"IF(H65=\"-\",0,H65)","v":0},"-",{"$f":"IF(J65=\"-\",0,J65)","v":0},"-",{"$f":"IF(L65=\"-\",0,L65)","v":0},null,{"$f":"E65+G65+I65+K65+M65","v":0},{"$f":"MAX(D65,F65,H65,J65,L65)","v":0},{"$f":"IF(S65=1,O65,IF(S65=0,(O65-P65),\"-\"))","v":"-"},{"$f":"COUNTIF(U65:AD65,\"=TRUE\")","v":0},{"$f":"AE$1-R65","v":5},{"$f":"IF(S65<2,\"Yes\",\"No\")","v":"No"},{"$f":"IF(D65=\"-\",1,0)*U$1","v":1},{"$f":"AND(U65=0,U$1=1)","v":false},{"$f":"IF(F65=\"-\",1,0)*W$1","v":1},{"$f":"AND(W65=0,W$1=1)","v":false},{"$f":"IF(H65=\"-\",1,0)*Y$1","v":1},{"$f":"AND(Y65=0,Y$1=1)","v":false},{"$f":"IF(J65=\"-\",1,0)*AA$1","v":1},{"$f":"AND(AA65=0,AA$1=1)","v":false},{"$f":"IF(L65=\"-\",1,0)*AC$1","v":1},{"$f":"AND(AC65=0,AC$1=1)","v":false}]
[47,null,"-","-",{"$f":"IF(D66=\"-\",0,D66)","v":0},"-",{"$f":"IF(F66=\"-\",0,F66)","v":0},"-",{"$f":"IF(H66=\"-\",0,H66)","v":0},"-",{"$f":"IF(J66=\"-\",0,J66)","v":0},"-",{"$f":"IF(L66=\"-\",0,L66)","v":0},null,{"$f":"E66+G66+I66+K66+M66","v":0},{"$f":"MAX(D66,F66,H66,J66,L66)","v":0},{"$f":"IF(S66=1,O66,IF(S66=0,(O66-P66),\"-\"))","v":"-"},{"$f":"COUNTIF(U66:AD66,\"=TRUE\")","v":0},{"$f":"AE$1-R66","v":5},{"$f":"IF(S66<2,\"Yes\",\"No\")","v":"No"},{"$f":"IF(D66=\"-\",1,0)*U$1","v":1},{"$f":"AND(U66=0,U$1=1)","v":false},{"$f":"IF(F66=\"-\",1,0)*W$1","v":1},{"$f":"AND(W66=0,W$1=1)","v":false},{"$f":"IF(H66=\"-\",1,0)*Y$1","v":1},{"$f":"AND(Y66=0,Y$1=1)","v":false},{"$f":"IF(J66=\"-\",1,0)*AA$1","v":1},{"$f":"AND(AA66=0,AA$1=1)","v":false},{"$f":"IF(L66=\"-\",1,0)*AC$1","v":1},{"$f":"AND(AC66=0,AC$1=1)","v":false}]
[25,null,"-","-",{"$f":"IF(D67=\"-\",0,D67)","v":0},"-",{"$f":"IF(F67=\"-\",0,F67)","v":0},"-",{"$f":"IF(H67=\"-\",0,H67)","v":0},"-",{"$f":"IF(J67=\"-\",0,J67)","v":0},"-",{"$f":"IF(L67=\"-\",0,L67)","v":0},null,{"$f":"E67+G67+I67+K67+M67","v":0},{"$f":"MAX(D67,F67,H67,J67,L67)","v":0},{"$f":"IF(S67=1,O67,IF(S67=0,(O67-P67),\"-\"))","v":"-"},{"$f":"COUNTIF(U67:AD67,\"=TRUE\")","v":0},{"$f":"AE$1-R67","v":5},{"$f":"IF(S67<2,\"Yes\",\"No\")","v":"No"},{"$f":"IF(D67=\"-\",1,0)*U$1","v":1},{"$f":"AND(U67=0,U$1=1)","v":false},{"$f":"IF(F67=\"-\",1,0)*W$1","v":1},{"$f":"AND(W67=0,W$1=1)","v":false},{"$f":"IF(H67=\"-\",1,0)*Y$1","v":1},{"$f":"AND(Y67=0,Y$1=1)","v":false},{"$f":"IF(J67=\"-\",1,0)*AA$1","v":1},{"$f":"AND(AA67=0,AA$1=1)","v":false},{"$f":"IF(L67=\"-\",1,0)*AC$1","v":1},{"$f":"AND(AC67=0,AC$1=1)","v":false}]
[26,null,"-","-",{"$f":"IF(D68=\"-\",0,D68)","v":0},"-",{"$f":"IF(F68=\"-\",0,F68)","v":0},"-",{"$f":"IF(H68=\"-\",0,H68)","v":0},"-",{"$f":"IF(J68=\"-\",0,J68)","v":0},"-",{"$f":"IF(L68=\"-\",0,L68)","v":0},null,{"$f":"E68+G68+I68+K68+M68","v":0},{"$f":"MAX(D68,F68,H68,J68,L68)","v":0},{"$f":"IF(S68=1,O68,IF(S68=0,(O68-P68),\"-\"))","v":"-"},{"$f":"COUNTIF(U68:AD68,\"=TRUE\")","v":0},{"$f":"AE$1-R68","v":5},{"$f":"IF(S68<2,\"Yes\",\"No\")","v":"No"},{"$f":"IF(D68=\"-\",1,0)*U$1","v":1},{"$f":"AND(U68=0,U$1=1)","v":false},{"$f":"IF(F68=\"-\",1,0)*W$1","v":1},{"$f":"AND(W68=0,W$1=1)","v":false},{"$f":"IF(H68=\"-\",1,0)*Y$1","v":1},{"$f":"AND(Y68=0,Y$1=1)","v":false},{"$f":"IF(J68=\"-\",1,0)*AA$1","v":1},{"$f":"AND(AA68=0,AA$1=1)","v":false},{"$f":"IF(L68=\"-\",1,0)*AC$1","v":1},{"$f":"AND(AC68=0,AC$1=1)","v":false}]
[31,null,"-","-",{"$f":"IF(D69=\"-\",0,D69)","v":0},"-",{"$f":"IF(F69=\"-\",0,F69)","v":0},"-",{"$f":"IF(H69=\"-\",0,H69)","v":0},"-",{"$f":"IF(J69=\"-\",0,J69)","v":0},"-",{"$f":"IF(L69=\"-\",0,L69)","v":0},null,{"$f":"E69+G69+I69+K69+M69","v":0},{"$f":"MAX(D69,F69,H69,J69,L69)","v":0},{"$f":"IF(S69=1,O69,IF(S69=0,(O69-P69),\"-\"))","v":"-"},{"$f":"COUNTIF(U69:AD69,\"=TRUE\")","v":0},{"$f":"AE$1-R69","v":5},{"$f":"IF(S69<2,\"Yes\",\"No\")","v":"No"},{"$f":"IF(D69=\"-\",1,0)*U$1","v":1},{"$f":"AND(U69=0,U$1=1)","v":false},{"$f":"IF(F69=\"-\",1,0)*W$1","v":1},{"$f":"AND(W69=0,W$1=1)","v":false},{"$f":"IF(H69=\"-\",1,0)*Y$1","v":1},{"$f":"AND(Y69=0,Y$1=1)","v":false},{"$f":"IF(J69=\"-\",1,0)*AA$1","v":1},{"$f":"AND(AA69=0,AA$1=1)","v":false},{"$f":"IF(L69=\"-\",1,0)*AC$1","v":1},{"$f":"AND(AC69=0,AC$1=1)","v":false}]
[33,null,"-","-",{"$f":"IF(D70=\"-\",0,D70)","v":0},"-",{"$f":"IF(F70=\"-\",0,F70)","v":0},"-",{"$f":"IF(H70=\"-\",0,H70)","v":0},"-",{"$f":"IF(J70=\"-\",0,J70)","v":0},"-",{"$f":"IF(L70=\"-\",0,L70)","v":0},null,{"$f":"E70+G70+I70+K70+M70","v":0},{"$f":"MAX(D70,F70,H70,J70,L70)","v":0},{"$f":"IF(S70=1,O70,IF(S70=0,(O70-P70),\"-\"))","v":"-"},{"$f":"COUNTIF(U70:AD70,\"=TRUE\")","v":0},{"$f":"AE$1-R70","v":5},{"$f":"IF(S70<2,\"Yes\",\"No\")","v":"No"},{"$f":"IF(D70=\"-\",1,0)*U$1","v":1},{"$f":"AND(U70=0,U$1=1)","v":false},{"$f":"IF(F70=\"-\",1,0)*W$1","v":1},{"$f":"AND(W70=0,W$1=1)","v":false},{"$f":"IF(H70=\"-\",1,0)*Y$1","v":1},{"$f":"AND(Y70=0,Y$1=1)","v":false},{"$f":"IF(J70=\"-\",1,0)*AA$1","v":1},{"$f":"AND(AA70=0,AA$1=1)","v":false},{"$f":"IF(L70=\"-\",1,0)*AC$1","v":1},{"$f":"AND(AC70=0,AC$1=1)","v":false}]
[35,null,"-","-",{"$f":"IF(D71=\"-\",0,D71)","v":0},"-",{"$f":"IF(F71=\"-\",0,F71)","v":0},"-",{"$f":"IF(H71=\"-\",0,H71)","v":0},"-",{"$f":"IF(J71=\"-\",0,J71)","v":0},"-",{"$f":"IF(L71=\"-\",0,L71)","v":0},null,{"$f":"E71+G71+I71+K71+M71","v":0},{"$f":"MAX(D71,F71,H71,J71,L71)","v":0},{"$f":"IF(S71=1,O71,IF(S71=0,(O71-P71),\"-\"))","v":"-"},{"$f":"COUNTIF(U71:AD71,\"=TRUE\")","v":0},{"$f":"AE$1-R71","v":5},{"$f":"IF(S71<2,\"Yes\",\"No\")","v":"No"},{"$f":"IF(D71=\"-\",1,0)*U$1","v":1},{"$f":"AND(U71=0,U$1=1)","v":false},{"$f":"IF(F71=\"-\",1,0)*W$1","v":1},{"$f":"AND(W71=0,W$1=1)","v":false},{"$f":"IF(H71=\"-\",1,0)*Y$1","v":1},{"$f":"AND(Y71=0,Y$1=1)","v":false},{"$f":"IF(J71=\"-\",1,0)*AA$1","v":1},{"$f":"AND(AA71=0,AA$1=1)","v":false},{"$f":"IF(L71=\"-\",1,0)*AC$1","v":1},{"$f":"AND(AC71=0,AC$1=1)","v":false}]
[36,null,"-","-",{"$f":"IF(D72=\"-\",0,D72)","v":0},"-",{"$f":"IF(F72=\"-\",0,F72)","v":0},"-",{"$f":"IF(H72=\"-\",0,H72)","v":0},"-",{"$f":"IF(J72=\"-\",0,J72)","v":0},"-",{"$f":"IF(L72=\"-\",0,L72)","v":0},null,{"$f":"E72+G72+I72+K72+M72","v":0},{"$f":"MAX(D72,F72,H72,J72,L72)","v":0},{"$f":"IF(S72=1,O72,IF(S72=0,(O72-P72),\"-\"))","v":"-"},{"$f":"COUNTIF(U72:AD72,\"=TRUE\")","v":0},{"$f":"AE$1-R72","v":5},{"$f":"IF(S72<2,\"Yes\",\"No\")","v":"No"},{"$f":"IF(D72=\"-\",1,0)*U$1","v":1},{"$f":"AND(U72=0,U$1=1)","v":false},{"$f":"IF(F72=\"-\",1,0)*W$1","v":1},{"$f":"AND(W72=0,W$1=1)","v":false},{"$f":"IF(H72=\"-\",1,0)*Y$1","v":1},{"$f":"AND(Y72=0,Y$1=1)","v":false},{"$f":"IF(J72=\"-\",1,0)*AA$1","v":1},{"$f":"AND(AA72=0,AA$1=1)","v":false},{"$f":"IF(L72=\"-\",1,0)*AC$1","v":1},{"$f":"AND(AC72=0,AC$1=1)","v":false}]
[42,null,"-","-",{"$f":"IF(D73=\"-\",0,D73)","v":0},"-",{"$f":"IF(F73=\"-\",0,F73)","v":0},"-",{"$f":"IF(H73=\"-\",0,H73)","v":0},"-",{"$f":"IF(J73=\"-\",0,J73)","v":0},"-",{"$f":"IF(L73=\"-\",0,L73)","v":0},null,{"$f":"E73+G73+I73+K73+M73","v":0},{"$f":"MAX(D73,F73,H73,J73,L73)","v":0},{"$f":"IF(S73=1,O73,IF(S73=0,(O73-P73),\"-\"))","v":"-"},{"$f":"COUNTIF(U73:AD73,\"=TRUE\")","v":0},{"$f":"AE$1-R73","v":5},{"$f":"IF(S73<2,\"Yes\",\"No\")","v":"No"},{"$f":"IF(D73=\"-\",1,0)*U$1","v":1},{"$f":"AND(U73=0,U$1=1)","v":false},{"$f":"IF(F73=\"-\",1,0)*W$1","v":1},{"$f":"AND(W73=0,W$1=1)","v":false},{"$f":"IF(H73=\"-\",1,0)*Y$1","v":1},{"$f":"AND(Y73=0,Y$1=1)","v":false},{"$f":"IF(J73=\"-\",1,0)*AA$1","v":1},{"$f":"AND(AA73=0,AA$1=1)","v":false},{"$f":"IF(L73=\"-\",1,0)*AC$1","v":1},{"$f":"AND(AC73=0,AC$1=1)","v":false}]
[43,null,"-","-",{"$f":"IF(D74=\"-\",0,D74)","v":0},"-",{"$f":"IF(F74=\"-\",0,F74)","v":0},"-",{"$f":"IF(H74=\"-\",0,H74)","v":0},"-",{"$f":"IF(J74=\"-\",0,J74)","v":0},"-",{"$f":"IF(L74=\"-\",0,L74)","v":0},null,{"$f":"E74+G74+I74+K74+M74","v":0},{"$f":"MAX(D74,F74,H74,J74,L74)","v":0},{"$f":"IF(S74=1,O74,IF(S74=0,(O74-P74),\"-\"))","v":"-"},{"$f":"COUNTIF(U74:AD74,\"=TRUE\")","v":0},{"$f":"AE$1-R74","v":5},{"$f":"IF(S74<2,\"Yes\",\"No\")","v":"No"},{"$f":"IF(D74=\"-\",1,0)*U$1","v":1},{"$f":"AND(U74=0,U$1=1)","v":false},{"$f":"IF(F74=\"-\",1,0)*W$1","v":1},{"$f":"AND(W74=0,W$1=1)","v":false},{"$f":"IF(H74=\"-\",1,0)*Y$1","v":1},{"$f":"AND(Y74=0,Y$1=1)","v":false},{"$f":"IF(J74=\"-\",1,0)*AA$1","v":1},{"$f":"AND(AA74=0,AA$1=1)","v":false},{"$f":"IF(L74=\"-\",1,0)*AC$1","v":1},{"$f":"AND(AC74=0,AC$1=1)","v":false}]
[48,null,"-","-",{"$f":"IF(D75=\"-\",0,D75)","v":0},"-",{"$f":"IF(F75=\"-\",0,F75)","v":0},"-",{"$f":"IF(H75=\"-\",0,H75)","v":0},"-",{"$f":"IF(J75=\"-\",0,J75)","v":0},"-",{"$f":"IF(L75=\"-\",0,L75)","v":0},null,{"$f":"E75+G75+I75+K75+M75","v":0},{"$f":"MAX(D75,F75,H75,J75,L75)","v":0},{"$f":"IF(S75=1,O75,IF(S75=0,(O75-P75),\"-\"))","v":"-"},{"$f":"COUNTIF(U75:AD75,\"=TRUE\")","v":0},{"$f":"AE$1-R75","v":5},{"$f":"IF(S75<2,\"Yes\",\"No\")","v":"No"},{"$f":"IF(D75=\"-\",1,0)*U$1","v":1},{"$f":"AND(U75=0,U$1=1)","v":false},{"$f":"IF(F75=\"-\",1,0)*W$1","v":1},{"$f":"AND(W75=0,W$1=1)","v":false},{"$f":"IF(H75=\"-\",1,0)*Y$1","v":1},{"$f":"AND(Y75=0,Y$1=1)","v":false},{"$f":"IF(J75=\"-\",1,0)*AA$1","v":1},{"$f":"AND(AA75=0,AA$1=1)","v":false},{"$f":"IF(L75=\"-\",1,0)*AC$1","v":1},{"$f":"AND(AC75=0,AC$1=1)","v":false}]
[49,null,"-","-",{"$f":"IF(D76=\"-\",0,D76)","v":0},"-",{"$f":"IF(F76=\"-\",0,F76)","v":0},"-",{"$f":"IF(H76=\"-\",0,H76)","v":0},"-",{"$f":"IF(J76=\"-\",0,J76)","v":0},"-",{"$f":"IF(L76=\"-\",0,L76)","v":0},null,{"$f":"E76+G76+I76+K76+M76","v":0},{"$f":"MAX(D76,F76,H76,J76,L76)","v":0},{"$f":"IF(S76=1,O76,IF(S76=0,(O76-P76),\"-\"))","v":"-"},{"$f":"COUNTIF(U76:AD76,\"=TRUE\")","v":0},{"$f":"AE$1-R76","v":5},{"$f":"IF(S76<2,\"Yes\",\"No\")","v":"No"},{"$f":"IF(D76=\"-\",1,0)*U$1","v":1},{"$f":"AND(U76=0,U$1=1)","v":false},{"$f":"IF(F76=\"-\",1,0)*W$1","v":1},{"$f":"AND(W76=0,W$1=1)","v":false},{"$f":"IF(H76=\"-\",1,0)*Y$1","v":1},{"$f":"AND(Y76=0,Y$1=1)","v":false},{"$f":"IF(J76=\"-\",1,0)*AA$1","v":1},{"$f":"AND(AA76=0,AA$1=1)","v":false},{"$f":"IF(L76=\"-\",1,0)*AC$1","v":1},{"$f":"AND(AC76=0,AC$1=1)","v":false}]
[50,null,"-","-",{"$f":"IF(D77=\"-\",0,D77)","v":0},"-",{"$f":"IF(F77=\"-\",0,F77)","v":0},"-",{"$f":"IF(H77=\"-\",0,H77)","v":0},"-",{"$f":"IF(J77=\"-\",0,J77)","v":0},"-",{"$f":"IF(L77=\"-\",0,L77)","v":0},null,{"$f":"E77+G77+I77+K77+M77","v":0},{"$f":"MAX(D77,F77,H77,J77,L77)","v":0},{"$f":"IF(S77=1,O77,IF(S77=0,(O77-P77),\"-\"))","v":"-"},{"$f":"COUNTIF(U77:AD77,\"=TRUE\")","v":0},{"$f":"AE$1-R77","v":5},{"$f":"IF(S77<2,\"Yes\",\"No\")","v":"No"},{"$f":"IF(D77=\"-\",1,0)*U$1","v":1},{"$f":"AND(U77=0,U$1=1)","v":false},{"$f":"IF(F77=\"-\",1,0)*W$1","v":1},{"$f":"AND(W77=0,W$1=1)","v":false},{"$f":"IF(H77=\"-\",1,0)*Y$1","v":1},{"$f":"AND(Y77=0,Y$1=1)","v":false},{"$f":"IF(J77=\"-\",1,0)*AA$1","v":1},{"$f":"AND(AA77=0,AA$1=1)","v":false},{"$f":"IF(L77=\"-\",1,0)*AC$1","v":1},{"$f":"AND(AC77=0,AC$1=1)","v":false}]
[51,null,"-","-",{"$f":"IF(D78=\"-\",0,D78)","v":0},"-",{"$f":"IF(F78=\"-\",0,F78)","v":0},"-",{"$f":"IF(H78=\"-\",0,H78)","v":0},"-",{"$f":"IF(J78=\"-\",0,J78)","v":0},"-",{"$f":"IF(L78=\"-\",0,L78)","v":0},null,{"$f":"E78+G78+I78+K78+M78","v":0},{"$f":"MAX(D78,F78,H78,J78,L78)","v":0},{"$f":"IF(S78=1,O78,IF(S78=0,(O78-P78),\"-\"))","v":"-"},{"$f":"COUNTIF(U78:AD78,\"=TRUE\")","v":0},{"$f":"AE$1-R78","v":5},{"$f":"IF(S78<2,\"Yes\",\"No\")","v":"No"},{"$f":"IF(D78=\"-\",1,0)*U$1","v":1},{"$f":"AND(U78=0,U$1=1)","v":false},{"$f":"IF(F78=\"-\",1,0)*W$1","v":1},{"$f":"AND(W78=0,W$1=1)","v":false},{"$f":"IF(H78=\"-\",1,0)*Y$1","v":1},{"$f":"AND(Y78=0,Y$1=1)","v":false},{"$f":"IF(J78=\"-\",1,0)*AA$1","v":1},{"$f":"AND(AA78=0,AA$1=1)","v":false},{"$f":"IF(L78=\"-\",1,0)*AC$1","v":1},{"$f":"AND(AC78=0,AC$1=1)","v":false}]
[52,null,"-","-",{"$f":"IF(D79=\"-\",0,D79)","v":0},"-",{"$f":"IF(F79=\"-\",0,F79)","v":0},"-",{"$f":"IF(H79=\"-\",0,H79)","v":0},"-",{"$f":"IF(J79=\"-\",0,J79)","v":0},"-",{"$f":"IF(L79=\"-\",0,L79)","v":0},null,{"$f":"E79+G79+I79+K79+M79","v":0},{"$f":"MAX(D79,F79,H79,J79,L79)","v":0},{"$f":"IF(S79=1,O79,IF(S79=0,(O79-P79),\"-\"))","v":"-"},{"$f":"COUNTIF(U79:AD79,\"=TRUE\")","v":0},{"$f":"AE$1-R79","v":5},{"$f":"IF(S79<2,\"Yes\",\"No\")","v":"No"},{"$f":"IF(D79=\"-\",1,0)*U$1","v":1},{"$f":"AND(U79=0,U$1=1)","v":false},{"$f":"IF(F79=\"-\",1,0)*W$1","v":1},{"$f":"AND(W79=0,W$1=1)","v":false},{"$f":"IF(H79=\"-\",1,0)*Y$1","v":1},{"$f":"AND(Y79=0,Y$1=1)","v":false},{"$f":"IF(J79=\"-\",1,0)*AA$1","v":1},{"$f":"AND(AA79=0,AA$1=1)","v":false},{"$f":"IF(L79=\"-\",1,0)*AC$1","v":1},{"$f":"AND(AC79=0,AC$1=1)","v":false}]
[53,null,"-","-",{"$f":"IF(D80=\"-\",0,D80)","v":0},"-",{"$f":"IF(F80=\"-\",0,F80)","v":0},"-",{"$f":"IF(H80=\"-\",0,H80)","v":0},"-",{"$f":"IF(J80=\"-\",0,J80)","v":0},"-",{"$f":"IF(L80=\"-\",0,L80)","v":0},null,{"$f":"E80+G80+I80+K80+M80","v":0},{"$f":"MAX(D80,F80,H80,J80,L80)","v":0},{"$f":"IF(S80=1,O80,IF(S80=0,(O80-P80),\"-\"))","v":"-"},{"$f":"COUNTIF(U80:AD80,\"=TRUE\")","v":0},{"$f":"AE$1-R80","v":5},{"$f":"IF(S80<2,\"Yes\",\"No\")","v":"No"},{"$f":"IF(D80=\"-\",1,0)*U$1","v":1},{"$f":"AND(U80=0,U$1=1)","v":false},{"$f":"IF(F80=\"-\",1,0)*W$1","v":1},{"$f":"AND(W80=0,W$1=1)","v":false},{"$f":"IF(H80=\"-\",1,0)*Y$1","v":1},{"$f":"AND(Y80=0,Y$1=1)","v":false},{"$f":"IF(J80=\"-\",1,0)*AA$1","v":1},{"$f":"AND(AA80=0,AA$1=1)","v":false},{"$f":"IF(L80=\"-\",1,0)*AC$1","v":1},{"$f":"AND(AC80=0,AC$1=1)","v":false}]
[54,null,"-","-",{"$f":"IF(D81=\"-\",0,D81)","v":0},"-",{"$f":"IF(F81=\"-\",0,F81)","v":0},"-",{"$f":"IF(H81=\"-\",0,H81)","v":0},"-",{"$f":"IF(J81=\"-\",0,J81)","v":0},"-",{"$f":"IF(L81=\"-\",0,L81)","v":0},null,{"$f":"E81+G81+I81+K81+M81","v":0},{"$f":"MAX(D81,F81,H81,J81,L81)","v":0},{"$f":"IF(S81=1,O81,IF(S81=0,(O81-P81),\"-\"))","v":"-"},{"$f":"COUNTIF(U81:AD81,\"=TRUE\")","v":0},{"$f":"AE$1-R81","v":5},{"$f":"IF(S81<2,\"Yes\",\"No\")","v":"No"},{"$f":"IF(D81=\"-\",1,0)*U$1","v":1},{"$f":"AND(U81=0,U$1=1)","v":false},{"$f":"IF(F81=\"-\",1,0)*W$1","v":1},{"$f":"AND(W81=0,W$1=1)","v":false},{"$f":"IF(H81=\"-\",1,0)*Y$1","v":1},{"$f":"AND(Y81=0,Y$1=1)","v":false},{"$f":"IF(J81=\"-\",1,0)*AA$1","v":1},{"$f":"AND(AA81=0,AA$1=1)","v":false},{"$f":"IF(L81=\"-\",1,0)*AC$1","v":1},{"$f":"AND(AC81=0,AC$1=1)","v":false}]
[56,null,"-","-",{"$f":"IF(D82=\"-\",0,D82)","v":0},"-",{"$f":"IF(F82=\"-\",0,F82)","v":0},"-",{"$f":"IF(H82=\"-\",0,H82)","v":0},"-",{"$f":"IF(J82=\"-\",0,J82)","v":0},"-",{"$f":"IF(L82=\"-\",0,L82)","v":0},null,{"$f":"E82+G82+I82+K82+M82","v":0},{"$f":"MAX(D82,F82,H82,J82,L82)","v":0},{"$f":"IF(S82=1,O82,IF(S82=0,(O82-P82),\"-\"))","v":"-"},{"$f":"COUNTIF(U82:AD82,\"=TRUE\")","v":0},{"$f":"AE$1-R82","v":5},{"$f":"IF(S82<2,\"Yes\",\"No\")","v":"No"},{"$f":"IF(D82=\"-\",1,0)*U$1","v":1},{"$f":"AND(U82=0,U$1=1)","v":false},{"$f":"IF(F82=\"-\",1,0)*W$1","v":1},{"$f":"AND(W82=0,W$1=1)","v":false},{"$f":"IF(H82=\"-\",1,0)*Y$1","v":1},{"$f":"AND(Y82=0,Y$1=1)","v":false},{"$f":"IF(J82=\"-\",1,0)*AA$1","v":1},{"$f":"AND(AA82=0,AA$1=1)","v":false},{"$f":"IF(L82=\"-\",1,0)*AC$1","v":1},{"$f":"AND(AC82=0,AC$1=1)","v":false}]
[82,null,"-","-",{"$f":"IF(D83=\"-\",0,D83)","v":0},"-",{"$f":"IF(F83=\"-\",0,F83)","v":0},"-",{"$f":"IF(H83=\"-\",0,H83)","v":0},"-",{"$f":"IF(J83=\"-\",0,J83)","v":0},"-",{"$f":"IF(L83=\"-\",0,L83)","v":0},null,{"$f":"E83+G83+I83+K83+M83","v":0},{"$f":"MAX(D83,F83,H83,J83,L83)","v":0},{"$f":"IF(S83=1,O83,IF(S83=0,(O83-P83),\"-\"))","v":"-"},{"$f":"COUNTIF(U83:AD83,\"=TRUE\")","v":0},{"$f":"AE$1-R83","v":5},{"$f":"IF(S83<2,\"Yes\",\"No\")","v":"No"},{"$f":"IF(D83=\"-\",1,0)*U$1","v":1},{"$f":"AND(U83=0,U$1=1)","v":false},{"$f":"IF(F83=\"-\",1,0)*W$1","v":1},{"$f":"AND(W83=0,W$1=1)","v":false},{"$f":"IF(H83=\"-\",1,0)*Y$1","v":1},{"$f":"AND(Y83=0,Y$1=1)","v":false},{"$f":"IF(J83=\"-\",1,0)*AA$1","v":1},{"$f":"AND(AA83=0,AA$1=1)","v":false},{"$f":"IF(L83=\"-\",1,0)*AC$1","v":1},{"$f":"AND(AC83=0,AC$1=1)","v":false}]
[84,null,"-","-",{"$f":"IF(D84=\"-\",0,D84)","v":0},"-",{"$f":"IF(F84=\"-\",0,F84)","v":0},"-",{"$f":"IF(H84=\"-\",0,H84)","v":0},"-",{"$f":"IF(J84=\"-\",0,J84)","v":0},"-",{"$f":"IF(L84=\"-\",0,L84)","v":0},null,{"$f":"E84+G84+I84+K84+M84","v":0},{"$f":"MAX(D84,F84,H84,J84,L84)","v":0},{"$f":"IF(S84=1,O84,IF(S84=0,(O84-P84),\"-\"))","v":"-"},{"$f":"COUNTIF(U84:AD84,\"=TRUE\")","v":0},{"$f":"AE$1-R84","v":5},{"$f":"IF(S84<2,\"Yes\",\"No\")","v":"No"},{"$f":"IF(D84=\"-\",1,0)*U$1","v":1},{"$f":"AND(U84=0,U$1=1)","v":false},{"$f":"IF(F84=\"-\",1,0)*W$1","v":1},{"$f":"AND(W84=0,W$1=1)","v":false},{"$f":"IF(H84=\"-\",1,0)*Y$1","v":1},{"$f":"AND(Y84=0,Y$1=1)","v":false},{"$f":"IF(J84=\"-\",1,0)*AA$1","v":1},{"$f":"AND(AA84=0,AA$1=1)","v":false},{"$f":"IF(L84=\"-\",1,0)*AC$1","v":1},{"$f":"AND(AC84=0,AC$1=1)","v":false}]
[83,null,"-","-",{"$f":"IF(D85=\"-\",0,D85)","v":0},"-",{"$f":"IF(F85=\"-\",0,F85)","v":0},"-",{"$f":"IF(H85=\"-\",0,H85)","v":0},"-",{"$f":"IF(J85=\"-\",0,J85)","v":0},"-",{"$f":"IF(L85=\"-\",0,L85)","v":0},null,{"$f":"E85+G85+I85+K85+M85","v":0},{"$f":"MAX(D85,F85,H85,J85,L85)","v":0},{"$f":"IF(S85=1,O85,IF(S85=0,(O85-P85),\"-\"))","v":"-"},{"$f":"COUNTIF(U85:AD85,\"=TRUE\")","v":0},{"$f":"AE$1-R85","v":5},{"$f":"IF(S85<2,\"Yes\",\"No\")","v":"No"},{"$f":"IF(D85=\"-\",1,0)*U$1","v":1},{"$f":"AND(U85=0,U$1=1)","v":false},{"$f":"IF(F85=\"-\",1,0)*W$1","v":1},{"$f":"AND(W85=0,W$1=1)","v":false},{"$f":"IF(H85=\"-\",1,0)*Y$1","v":1},{"$f":"AND(Y85=0,Y$1=1)","v":false},{"$f":"IF(J85=\"-\",1,0)*AA$1","v":1},{"$f":"AND(AA85=0,AA$1=1)","v":false},{"$f":"IF(L85=\"-\",1,0)*AC$1","v":1},{"$f":"AND(AC85=0,AC$1=1)","v":false}]
[85,null,"-","-",{"$f":"IF(D86=\"-\",0,D86)","v":0},"-",{"$f":"IF(F86=\"-\",0,F86)","v":0},"-",{"$f":"IF(H86=\"-\",0,H86)","v":0},"-",{"$f":"IF(J86=\"-\",0,J86)","v":0},"-",{"$f":"IF(L86=\"-\",0,L86)","v":0},null,{"$f":"E86+G86+I86+K86+M86","v":0},{"$f":"MAX(D86,F86,H86,J86,L86)","v":0},{"$f":"IF(S86=1,O86,IF(S86=0,(O86-P86),\"-\"))","v":"-"},{"$f":"COUNTIF(U86:AD86,\"=TRUE\")","v":0},{"$f":"AE$1-R86","v":5},{"$f":"IF(S86<2,\"Yes\",\"No\")","v":"No"},{"$f":"IF(D86=\"-\",1,0)*U$1","v":1},{"$f":"AND(U86=0,U$1=1)","v":false},{"$f":"IF(F86=\"-\",1,0)*W$1","v":1},{"$f":"AND(W86=0,W$1=1)","v":false},{"$f":"IF(H86=\"-\",1,0)*Y$1","v":1},{"$f":"AND(Y86=0,Y$1=1)","v":false},{"$f":"IF(J86=\"-\",1,0)*AA$1","v":1},{"$f":"AND(AA86=0,AA$1=1)","v":false},{"$f":"IF(L86=\"-\",1,0)*AC$1","v":1},{"$f":"AND(AC86=0,AC$1=1)","v":false}]
[86,null,"-","-",{"$f":"IF(D87=\"-\",0,D87)","v":0},"-",{"$f":"IF(F87=\"-\",0,F87)","v":0},"-",{"$f":"IF(H87=\"-\",0,H87)","v":0},"-",{"$f":"IF(J87=\"-\",0,J87)","v":0},"-",{"$f":"IF(L87=\"-\",0,L87)","v":0},null,{"$f":"E87+G87+I87+K87+M87","v":0},{"$f":"MAX(D87,F87,H87,J87,L87)","v":0},{"$f":"IF(S87=1,O87,IF(S87=0,(O87-P87),\"-\"))","v":"-"},{"$f":"COUNTIF(U87:AD87,\"=TRUE\")","v":0},{"$f":"AE$1-R87","v":5},{"$f":"IF(S87<2,\"Yes\",\"No\")","v":"No"},{"$f":"IF(D87=\"-\",1,0)*U$1","v":1},{"$f":"AND(U87=0,U$1=1)","v":false},{"$f":"IF(F87=\"-\",1,0)*W$1","v":1},{"$f":"AND(W87=0,W$1=1)","v":false},{"$f":"IF(H87=\"-\",1,0)*Y$1","v":1},{"$f":"AND(Y87=0,Y$1=1)","v":false},{"$f":"IF(J87=\"-\",1,0)*AA$1","v":1},{"$f":"AND(AA87=0,AA$1=1)","v":false},{"$f":"IF(L87=\"-\",1,0)*AC$1","v":1},{"$f":"AND(AC87=0,AC$1=1)","v":false}]
[87,null,"-","-",{"$f":"IF(D88=\"-\",0,D88)","v":0},"-",{"$f":"IF(F88=\"-\",0,F88)","v":0},"-",{"$f":"IF(H88=\"-\",0,H88)","v":0},"-",{"$f":"IF(J88=\"-\",0,J88)","v":0},"-",{"$f":"IF(L88=\"-\",0,L88)","v":0},null,{"$f":"E88+G88+I88+K88+M88","v":0},{"$f":"MAX(D88,F88,H88,J88,L88)","v":0},{"$f":"IF(S88=1,O88,IF(S88=0,(O88-P88),\"-\"))","v":"-"},{"$f":"COUNTIF(U88:AD88,\"=TRUE\")","v":0},{"$f":"AE$1-R88","v":5},{"$f":"IF(S88<2,\"Yes\",\"No\")","v":"No"},{"$f":"IF(D88=\"-\",1,0)*U$1","v":1},{"$f":"AND(U88=0,U$1=1)","v":false},{"$f":"IF(F88=\"-\",1,0)*W$1","v":1},{"$f":"AND(W88=0,W$1=1)","v":false},{"$f":"IF(H88=\"-\",1,0)*Y$1","v":1},{"$f":"AND(Y88=0,Y$1=1)","v":false},{"$f":"IF(J88=\"-\",1,0)*AA$1","v":1},{"$f":"AND(AA88=0,AA$1=1)","v":false},{"$f":"IF(L88=\"-\",1,0)*AC$1","v":1},{"$f":"AND(AC88=0,AC$1=1)","v":false}]
[88,null,"-","-",{"$f":"IF(D89=\"-\",0,D89)","v":0},"-",{"$f":"IF(F89=\"-\",0,F89)","v":0},"-",{"$f":"IF(H89=\"-\",0,H89)","v":0},"-",{"$f":"IF(J89=\"-\",0,J89)","v":0},"-",{"$f":"IF(L89=\"-\",0,L89)","v":0},null,{"$f":"E89+G89+I89+K89+M89","v":0},{"$f":"MAX(D89,F89,H89,J89,L89)","v":0},{"$f":"IF(S89=1,O89,IF(S89=0,(O89-P89),\"-\"))","v":"-"},{"$f":"COUNTIF(U89:AD89,\"=TRUE\")","v":0},{"$f":"AE$1-R89","v":5},{"$f":"IF(S89<2,\"Yes\",\"No\")","v":"No"},{"$f":"IF(D89=\"-\",1,0)*U$1","v":1},{"$f":"AND(U89=0,U$1=1)","v":false},{"$f":"IF(F89=\"-\",1,0)*W$1","v":1},{"$f":"AND(W89=0,W$1=1)","v":false},{"$f":"IF(H89=\"-\",1,0)*Y$1","v":1},{"$f":"AND(Y89=0,Y$1=1)","v":false},{"$f":"IF(J89=\"-\",1,0)*AA$1","v":1},{"$f":"AND(AA89=0,AA$1=1)","v":false},{"$f":"IF(L89=\"-\",1,0)*AC$1","v":1},{"$f":"AND(AC89=0,AC$1=1)","v":false}]
[89,null,"-","-",{"$f":"IF(D90=\"-\",0,D90)","v":0},"-",{"$f":"IF(F90=\"-\",0,F90)","v":0},"-",{"$f":"IF(H90=\"-\",0,H90)","v":0},"-",{"$f":"IF(J90=\"-\",0,J90)","v":0},"-",{"$f":"IF(L90=\"-\",0,L90)","v":0},null,{"$f":"E90+G90+I90+K90+M90","v":0},{"$f":"MAX(D90,F90,H90,J90,L90)","v":0},{"$f":"IF(S90=1,O90,IF(S90=0,(O90-P90),\"-\"))","v":"-"},{"$f":"COUNTIF(U90:AD90,\"=TRUE\")","v":0},{"$f":"AE$1-R90","v":5},{"$f":"IF(S90<2,\"Yes\",\"No\")","v":"No"},{"$f":"IF(D90=\"-\",1,0)*U$1","v":1},{"$f":"AND(U90=0,U$1=1)","v":false},{"$f":"IF(F90=\"-\",1,0)*W$1","v":1},{"$f":"AND(W90=0,W$1=1)","v":false},{"$f":"IF(H90=\"-\",1,0)*Y$1","v":1},{"$f":"AND(Y90=0,Y$1=1)","v":false},{"$f":"IF(J90=\"-\",1,0)*AA$1","v":1},{"$f":"AND(AA90=0,AA$1=1)","v":false},{"$f":"IF(L90=\"-\",1,0)*AC$1","v":1},{"$f":"AND(AC90=0,AC$1=1)","v":false}]
[90,null,"-","-",{"$f":"IF(D91=\"-\",0,D91)","v":0},"-",{"$f":"IF(F91=\"-\",0,F91)","v":0},"-",{"$f":"IF(H91=\"-\",0,H91)","v":0},"-",{"$f":"IF(J91=\"-\",0,J91)","v":0},"-",{"$f":"IF(L91=\"-\",0,L91)","v":0},null,{"$f":"E91+G91+I91+K91+M91","v":0},{"$f":"MAX(D91,F91,H91,J91,L91)","v":0},{"$f":"IF(S91=1,O91,IF(S91=0,(O91-P91),\"-\"))","v":"-"},{"$f":"COUNTIF(U91:AD91,\"=TRUE\")","v":0},{"$f":"AE$1-R91","v":5},{"$f":"IF(S91<2,\"Yes\",\"No\")","v":"No"},{"$f":"IF(D91=\"-\",1,0)*U$1","v":1},{"$f":"AND(U91=0,U$1=1)","v":false},{"$f":"IF(F91=\"-\",1,0)*W$1","v":1},{"$f":"AND(W91=0,W$1=1)","v":false},{"$f":"IF(H91=\"-\",1,0)*Y$1","v":1},{"$f":"AND(Y91=0,Y$1=1)","v":false},{"$f":"IF(J91=\"-\",1,0)*AA$1","v":1},{"$f":"AND(AA91=0,AA$1=1)","v":false},{"$f":"IF(L91=\"-\",1,0)*AC$1","v":1},{"$f":"AND(AC91=0,AC$1=1)","v":false}]
[91,null,"-","-",{"$f":"IF(D92=\"-\",0,D92)","v":0},"-",{"$f":"IF(F92=\"-\",0,F92)","v":0},"-",{"$f":"IF(H92=\"-\",0,H92)","v":0},"-",{"$f":"IF(J92=\"-\",0,J92)","v":0},"-",{"$f":"IF(L92=\"-\",0,L92)","v":0},null,{"$f":"E92+G92+I92+K92+M92","v":0},{"$f":"MAX(D92,F92,H92,J92,L92)","v":0},{"$f":"IF(S92=1,O92,IF(S92=0,(O92-P92),\"-\"))","v":"-"},{"$f":"COUNTIF(U92:AD92,\"=TRUE\")","v":0},{"$f":"AE$1-R92","v":5},{"$f":"IF(S92<2,\"Yes\",\"No\")","v":"No"},{"$f":"IF(D92=\"-\",1,0)*U$1","v":1},{"$f":"AND(U92=0,U$1=1)","v":false},{"$f":"IF(F92=\"-\",1,0)*W$1","v":1},{"$f":"AND(W92=0,W$1=1)","v":false},{"$f":"IF(H92=\"-\",1,0)*Y$1","v":1},{"$f":"AND(Y92=0,Y$1=1)","v":false},{"$f":"IF(J92=\"-\",1,0)*AA$1","v":1},{"$f":"AND(AA92=0,AA$1=1)","v":false},{"$f":"IF(L92=\"-\",1,0)*AC$1","v":1},{"$f":"AND(AC92=0,AC$1=1)","v":false}]
[92,null,"-","-",{"$f":"IF(D93=\"-\",0,D93)","v":0},"-",{"$f":"IF(F93=\"-\",0,F93)","v":0},"-",{"$f":"IF(H93=\"-\",0,H93)","v":0},"-",{"$f":"IF(J93=\"-\",0,J93)","v":0},"-",{"$f":"IF(L93=\"-\",0,L93)","v":0},null,{"$f":"E93+G93+I93+K93+M93","v":0},{"$f":"MAX(D93,F93,H93,J93,L93)","v":0},{"$f":"IF(S93=1,O93,IF(S93=0,(O93-P93),\"-\"))","v":"-"},{"$f":"COUNTIF(U93:AD93,\"=TRUE\")","v":0},{"$f":"AE$1-R93","v":5},{"$f":"IF(S93<2,\"Yes\",\"No\")","v":"No"},{"$f":"IF(D93=\"-\",1,0)*U$1","v":1},{"$f":"AND(U93=0,U$1=1)","v":false},{"$f":"IF(F93=\"-\",1,0)*W$1","v":1},{"$f":"AND(W93=0,W$1=1)","v":false},{"$f":"IF(H93=\"-\",1,0)*Y$1","v":1},{"$f":"AND(Y93=0,Y$1=1)","v":false},{"$f":"IF(J93=\"-\",1,0)*AA$1","v":1},{"$f":"AND(AA93=0,AA$1=1)","v":false},{"$f":"IF(L93=\"-\",1,0)*AC$1","v":1},{"$f":"AND(AC93=0,AC$1=1)","v":false}]
[93,null,"-","-",{"$f":"IF(D94=\"-\",0,D94)","v":0},"-",{"$f":"IF(F94=\"-\",0,F94)","v":0},"-",{"$f":"IF(H94=\"-\",0,H94)","v":0},"-",{"$f":"IF(J94=\"-\",0,J94)","v":0},"-",{"$f":"IF(L94=\"-\",0,L94)","v":0},null,{"$f":"E94+G94+I94+K94+M94","v":0},{"$f":"MAX(D94,F94,H94,J94,L94)","v":0},{"$f":"IF(S94=1,O94,IF(S94=0,(O94-P94),\"-\"))","v":"-"},{"$f":"COUNTIF(U94:AD94,\"=TRUE\")","v":0},{"$f":"AE$1-R94","v":5},{"$f":"IF(S94<2,\"Yes\",\"No\")","v":"No"},{"$f":"IF(D94=\"-\",1,0)*U$1","v":1},{"$f":"AND(U94=0,U$1=1)","v":false},{"$f":"IF(F94=\"-\",1,0)*W$1","v":1},{"$f":"AND(W94=0,W$1=1)","v":false},{"$f":"IF(H94=\"-\",1,0)*Y$1","v":1},{"$f":"AND(Y94=0,Y$1=1)","v":false},{"$f":"IF(J94=\"-\",1,0)*AA$1","v":1},{"$f":"AND(AA94=0,AA$1=1)","v":false},{"$f":"IF(L94=\"-\",1,0)*AC$1","v":1},{"$f":"AND(AC94=0,AC$1=1)","v":false}]
[94,null,"-","-",{"$f":"IF(D95=\"-\",0,D95)","v":0},"-",{"$f":"IF(F95=\"-\",0,F95)","v":0},"-",{"$f":"IF(H95=\"-\",0,H95)","v":0},"-",{"$f":"IF(J95=\"-\",0,J95)","v":0},"-",{"$f":"IF(L95=\"-\",0,L95)","v":0},null,{"$f":"E95+G95+I95+K95+M95","v":0},{"$f":"MAX(D95,F95,H95,J95,L95)","v":0},{"$f":"IF(S95=1,O95,IF(S95=0,(O95-P95),\"-\"))","v":"-"},{"$f":"COUNTIF(U95:AD95,\"=TRUE\")","v":0},{"$f":"AE$1-R95","v":5},{"$f":"IF(S95<2,\"Yes\",\"No\")","v":"No"},{"$f":"IF(D95=\"-\",1,0)*U$1","v":1},{"$f":"AND(U95=0,U$1=1)","v":false},{"$f":"IF(F95=\"-\",1,0)*W$1","v":1},{"$f":"AND(W95=0,W$1=1)","v":false},{"$f":"IF(H95=\"-\",1,0)*Y$1","v":1},{"$f":"AND(Y95=0,Y$1=1)","v":false},{"$f":"IF(J95=\"-\",1,0)*AA$1","v":1},{"$f":"AND(AA95=0,AA$1=1)","v":false},{"$f":"IF(L95=\"-\",1,0)*AC$1","v":1},{"$f":"AND(AC95=0,AC$1=1)","v":false}]
[95,null,"-","-",{"$f":"IF(D96=\"-\",0,D96)","v":0},"-",{"$f":"IF(F96=\"-\",0,F96)","v":0},"-",{"$f":"IF(H96=\"-\",0,H96)","v":0},"-",{"$f":"IF(J96=\"-\",0,J96)","v":0},"-",{"$f":"IF(L96=\"-\",0,L96)","v":0},null,{"$f":"E96+G96+I96+K96+M96","v":0},{"$f":"MAX(D96,F96,H96,J96,L96)","v":0},{"$f":"IF(S96=1,O96,IF(S96=0,(O96-P96),\"-\"))","v":"-"},{"$f":"COUNTIF(U96:AD96,\"=TRUE\")","v":0},{"$f":"AE$1-R96","v":5},{"$f":"IF(S96<2,\"Yes\",\"No\")","v":"No"},{"$f":"IF(D96=\"-\",1,0)*U$1","v":1},{"$f":"AND(U96=0,U$1=1)","v":false},{"$f":"IF(F96=\"-\",1,0)*W$1","v":1},{"$f":"AND(W96=0,W$1=1)","v":false},{"$f":"IF(H96=\"-\",1,0)*Y$1","v":1},{"$f":"AND(Y96=0,Y$1=1)","v":false},{"$f":"IF(J96=\"-\",1,0)*AA$1","v":1},{"$f":"AND(AA96=0,AA$1=1)","v":false},{"$f":"IF(L96=\"-\",1,0)*AC$1","v":1},{"$f":"AND(AC96=0,AC$1=1)","v":false}]
[96,null,"-","-",{"$f":"IF(D97=\"-\",0,D97)","v":0},"-",{"$f":"IF(F97=\"-\",0,F97)","v":0},"-",{"$f":"IF(H97=\"-\",0,H97)","v":0},"-",{"$f":"IF(J97=\"-\",0,J97)","v":0},"-",{"$f":"IF(L97=\"-\",0,L97)","v":0},null,{"$f":"E97+G97+I97+K97+M97","v":0},{"$f":"MAX(D97,F97,H97,J97,L97)","v":0},{"$f":"IF(S97=1,O97,IF(S97=0,(O97-P97),\"-\"))","v":"-"},{"$f":"COUNTIF(U97:AD97,\"=TRUE\")","v":0},{"$f":"AE$1-R97","v":5},{"$f":"IF(S97<2,\"Yes\",\"No\")","v":"No"},{"$f":"IF(D97=\"-\",1,0)*U$1","v":1},{"$f":"AND(U97=0,U$1=1)","v":false},{"$f":"IF(F97=\"-\",1,0)*W$1","v":1},{"$f":"AND(W97=0,W$1=1)","v":false},{"$f":"IF(H97=\"-\",1,0)*Y$1","v":1},{"$f":"AND(Y97=0,Y$1=1)","v":false},{"$f":"IF(J97=\"-\",1,0)*AA$1","v":1},{"$f":"AND(AA97=0,AA$1=1)","v":false},{"$f":"IF(L97=\"-\",1,0)*AC$1","v":1},{"$f":"AND(AC97=0,AC$1=1)","v":false}]
[97,null,"-","-",{"$f":"IF(D98=\"-\",0,D98)","v":0},"-",{"$f":"IF(F98=\"-\",0,F98)","v":0},"-",{"$f":"IF(H98=\"-\",0,H98)","v":0},"-",{"$f":"IF(J98=\"-\",0,J98)","v":0},"-",{"$f":"IF(L98=\"-\",0,L98)","v":0},null,{"$f":"E98+G98+I98+K98+M98","v":0},{"$f":"MAX(D98,F98,H98,J98,L98)","v":0},{"$f":"IF(S98=1,O98,IF(S98=0,(O98-P98),\"-\"))","v":"-"},{"$f":"COUNTIF(U98:AD98,\"=TRUE\")","v":0},{"$f":"AE$1-R98","v":5},{"$f":"IF(S98<2,\"Yes\",\"No\")","v":"No"},{"$f":"IF(D98=\"-\",1,0)*U$1","v":1},{"$f":"AND(U98=0,U$1=1)","v":false},{"$f":"IF(F98=\"-\",1,0)*W$1","v":1},{"$f":"AND(W98=0,W$1=1)","v":false},{"$f":"IF(H98=\"-\",1,0)*Y$1","v":1},{"$f":"AND(Y98=0,Y$1=1)","v":false},{"$f":"IF(J98=\"-\",1,0)*AA$1","v":1},{"$f":"AND(AA98=0,AA$1=1)","v":false},{"$f":"IF(L98=\"-\",1,0)*AC$1","v":1},{"$f":"AND(AC98=0,AC$1=1)","v":false}]
[98,null,"-","-",{"$f":"IF(D99=\"-\",0,D99)","v":0},"-",{"$f":"IF(F99=\"-\",0,F99)","v":0},"-",{"$f":"IF(H99=\"-\",0,H99)","v":0},"-",{"$f":"IF(J99=\"-\",0,J99)","v":0},"-",{"$f":"IF(L99=\"-\",0,L99)","v":0},null,{"$f":"E99+G99+I99+K99+M99","v":0},{"$f":"MAX(D99,F99,H99,J99,L99)","v":0},{"$f":"IF(S99=1,O99,IF(S99=0,(O99-P99),\"-\"))","v":"-"},{"$f":"COUNTIF(U99:AD99,\"=TRUE\")","v":0},{"$f":"AE$1-R99","v":5},{"$f":"IF(S99<2,\"Yes\",\"No\")","v":"No"},{"$f":"IF(D99=\"-\",1,0)*U$1","v":1},{"$f":"AND(U99=0,U$1=1)","v":false},{"$f":"IF(F99=\"-\",1,0)*W$1","v":1},{"$f":"AND(W99=0,W$1=1)","v":false},{"$f":"IF(H99=\"-\",1,0)*Y$1","v":1},{"$f":"AND(Y99=0,Y$1=1)","v":false},{"$f":"IF(J99=\"-\",1,0)*AA$1","v":1},{"$f":"AND(AA99=0,AA$1=1)","v":false},{"$f":"IF(L99=\"-\",1,0)*AC$1","v":1},{"$f":"AND(AC99=0,AC$1=1)","v":false}]
[99,null,"-","-",{"$f":"IF(D100=\"-\",0,D100)","v":0},"-",{"$f":"IF(F100=\"-\",0,F100)","v":0},"-",{"$f":"IF(H100=\"-\",0,H100)","v":0},"-",{"$f":"IF(J100=\"-\",0,J100)","v":0},"-",{"$f":"IF(L100=\"-\",0,L100)","v":0},null,{"$f":"E100+G100+I100+K100+M100","v":0},{"$f":"MAX(D100,F100,H100,J100,L100)","v":0},{"$f":"IF(S100=1,O100,IF(S100=0,(O100-P100),\"-\"))","v":"-"},{"$f":"COUNTIF(U100:AD100,\"=TRUE\")","v":0},{"$f":"AE$1-R100","v":5},{"$f":"IF(S100<2,\"Yes\",\"No\")","v":"No"},{"$f":"IF(D100=\"-\",1,0)*U$1","v":1},{"$f":"AND(U100=0,U$1=1)","v":false},{"$f":"IF(F100=\"-\",1,0)*W$1","v":1},{"$f":"AND(W100=0,W$1=1)","v":false},{"$f":"IF(H100=\"-\",1,0)*Y$1","v":1},{"$f":"AND(Y100=0,Y$1=1)","v":false},{"$f":"IF(J100=\"-\",1,0)*AA$1","v":1},{"$f":"AND(AA100=0,AA$1=1)","v":false},{"$f":"IF(L100=\"-\",1,0)*AC$1","v":1},{"$f":"AND(AC100=0,AC$1=1)","v":false}]
[100,null,"-","-",{"$f":"IF(D101=\"-\",0,D101)","v":0},"-",{"$f":"IF(F101=\"-\",0,F101)","v":0},"-",{"$f":"IF(H101=\"-\",0,H101)","v":0},"-",{"$f":"IF(J101=\"-\",0,J101)","v":0},"-",{"$f":"IF(L101=\"-\",0,L101)","v":0},null,{"$f":"E101+G101+I101+K101+M101","v":0},{"$f":"MAX(D101,F101,H101,J101,L101)","v":0},{"$f":"IF(S101=1,O101,IF(S101=0,(O101-P101),\"-\"))","v":"-"},{"$f":"COUNTIF(U101:AD101,\"=TRUE\")","v":0},{"$f":"AE$1-R101","v":5},{"$f":"IF(S101<2,\"Yes\",\"No\")","v":"No"},{"$f":"IF(D101=\"-\",1,0)*U$1","v":1},{"$f":"AND(U101=0,U$1=1)","v":false},{"$f":"IF(F101=\"-\",1,0)*W$1","v":1},{"$f":"AND(W101=0,W$1=1)","v":false},{"$f":"IF(H101=\"-\",1,0)*Y$1","v":1},{"$f":"AND(Y101=0,Y$1=1)","v":false},{"$f":"IF(J101=\"-\",1,0)*AA$1","v":1},{"$f":"AND(AA101=0,AA$1=1)","v":false},{"$f":"IF(L101=\"-\",1,0)*AC$1","v":1},{"$f":"AND(AC101=0,AC$1=1)","v":false}]
[101,null,"-","-",{"$f":"IF(D102=\"-\",0,D102)","v":0},"-",{"$f":"IF(F102=\"-\",0,F102)","v":0},"-",{"$f":"IF(H102=\"-\",0,H102)","v":0},"-",{"$f":"IF(J102=\"-\",0,J102)","v":0},"-",{"$f":"IF(L102=\"-\",0,L102)","v":0},null,{"$f":"E102+G102+I102+K102+M102","v":0},{"$f":"MAX(D102,F102,H102,J102,L102)","v":0},{"$f":"IF(S102=1,O102,IF(S102=0,(O102-P102),\"-\"))","v":"-"},{"$f":"COUNTIF(U102:AD102,\"=TRUE\")","v":0},{"$f":"AE$1-R102","v":5},{"$f":"IF(S102<2,\"Yes\",\"No\")","v":"No"},{"$f":"IF(D102=\"-\",1,0)*U$1","v":1},{"$f":"AND(U102=0,U$1=1)","v":false},{"$f":"IF(F102=\"-\",1,0)*W$1","v":1},{"$f":"AND(W102=0,W$1=1)","v":false},{"$f":"IF(H102=\"-\",1,0)*Y$1","v":1},{"$f":"AND(Y102=0,Y$1=1)","v":false},{"$f":"IF(J102=\"-\",1,0)*AA$1","v":1},{"$f":"AND(AA102=0,AA$1=1)","v":false},{"$f":"IF(L102=\"-\",1,0)*AC$1","v":1},{"$f":"AND(AC102=0,AC$1=1)","v":false}]
[102,null,"-","-",{"$f":"IF(D103=\"-\",0,D103)","v":0},"-",{"$f":"IF(F103=\"-\",0,F103)","v":0},"-",{"$f":"IF(H103=\"-\",0,H103)","v":0},"-",{"$f":"IF(J103=\"-\",0,J103)","v":0},"-",{"$f":"IF(L103=\"-\",0,L103)","v":0},null,{"$f":"E103+G103+I103+K103+M103","v":0},{"$f":"MAX(D103,F103,H103,J103,L103)","v":0},{"$f":"IF(S103=1,O103,IF(S103=0,(O103-P103),\"-\"))","v":"-"},{"$f":"COUNTIF(U103:AD103,\"=TRUE\")","v":0},{"$f":"AE$1-R103","v":5},{"$f":"IF(S103<2,\"Yes\",\"No\")","v":"No"},{"$f":"IF(D103=\"-\",1,0)*U$1","v":1},{"$f":"AND(U103=0,U$1=1)","v":false},{"$f":"IF(F103=\"-\",1,0)*W$1","v":1},{"$f":"AND(W103=0,W$1=1)","v":false},{"$f":"IF(H103=\"-\",1,0)*Y$1","v":1},{"$f":"AND(Y103=0,Y$1=1)","v":false},{"$f":"IF(J103=\"-\",1,0)*AA$1","v":1},{"$f":"AND(AA103=0,AA$1=1)","v":false},{"$f":"IF(L103=\"-\",1,0)*AC$1","v":1},{"$f":"AND(AC103=0,AC$1=1)","v":false}]
[103,null,"-","-",{"$f":"IF(D104=\"-\",0,D104)","v":0},"-",{"$f":"IF(F104=\"-\",0,F104)","v":0},"-",{"$f":"IF(H104=\"-\",0,H104)","v":0},"-",{"$f":"IF(J104=\"-\",0,J104)","v":0},"-",{"$f":"IF(L104=\"-\",0,L104)","v":0},null,{"$f":"E104+G104+I104+K104+M104","v":0},{"$f":"MAX(D104,F104,H104,J104,L104)","v":0},{"$f":"IF(S104=1,O104,IF(S104=0,(O104-P104),\"-\"))","v":"-"},{"$f":"COUNTIF(U104:AD104,\"=TRUE\")","v":0},{"$f":"AE$1-R104","v":5},{"$f":"IF(S104<2,\"Yes\",\"No\")","v":"No"},{"$f":"IF(D104=\"-\",1,0)*U$1","v":1},{"$f":"AND(U104=0,U$1=1)","v":false},{"$f":"IF(F104=\"-\",1,0)*W$1","v":1},{"$f":"AND(W104=0,W$1=1)","v":false},{"$f":"IF(H104=\"-\",1,0)*Y$1","v":1},{"$f":"AND(Y104=0,Y$1=1)","v":false},{"$f":"IF(J104=\"-\",1,0)*AA$1","v":1},{"$f":"AND(AA104=0,AA$1=1)","v":false},{"$f":"IF(L104=\"-\",1,0)*AC$1","v":1},{"$f":"AND(AC104=0,AC$1=1)","v":false}]
[104,null,"-","-",{"$f":"IF(D105=\"-\",0,D105)","v":0},"-",{"$f":"IF(F105=\"-\",0,F105)","v":0},"-",{"$f":"IF(H105=\"-\",0,H105)","v":0},"-",{"$f":"IF(J105=\"-\",0,J105)","v":0},"-",{"$f":"IF(L105=\"-\",0,L105)","v":0},null,{"$f":"E105+G105+I105+K105+M105","v":0},{"$f":"MAX(D105,F105,H105,J105,L105)","v":0},{"$f":"IF(S105=1,O105,IF(S105=0,(O105-P105),\"-\"))","v":"-"},{"$f":"COUNTIF(U105:AD105,\"=TRUE\")","v":0},{"$f":"AE$1-R105","v":5},{"$f":"IF(S105<2,\"Yes\",\"No\")","v":"No"},{"$f":"IF(D105=\"-\",1,0)*U$1","v":1},{"$f":"AND(U105=0,U$1=1)","v":false},{"$f":"IF(F105=\"-\",1,0)*W$1","v":1},{"$f":"AND(W105=0,W$1=1)","v":false},{"$f":"IF(H105=\"-\",1,0)*Y$1","v":1},{"$f":"AND(Y105=0,Y$1=1)","v":false},{"$f":"IF(J105=\"-\",1,0)*AA$1","v":1},{"$f":"AND(AA105=0,AA$1=1)","v":false},{"$f":"IF(L105=\"-\",1,0)*AC$1","v":1},{"$f":"AND(AC105=0,AC$1=1)","v":false}]
[105,null,"-","-",{"$f":"IF(D106=\"-\",0,D106)","v":0},"-",{"$f":"IF(F106=\"-\",0,F106)","v":0},"-",{"$f":"IF(H106=\"-\",0,H106)","v":0},"-",{"$f":"IF(J106=\"-\",0,J106)","v":0},"-",{"$f":"IF(L106=\"-\",0,L106)","v":0},null,{"$f":"E106+G106+I106+K106+M106","v":0},{"$f":"MAX(D106,F106,H106,J106,L106)","v":0},{"$f":"IF(S106=1,O106,IF(S106=0,(O106-P106),\"-\"))","v":"-"},{"$f":"COUNTIF(U106:AD106,\"=TRUE\")","v":0},{"$f":"AE$1-R106","v":5},{"$f":"IF(S106<2,\"Yes\",\"No\")","v":"No"},{"$f":"IF(D106=\"-\",1,0)*U$1","v":1},{"$f":"AND(U106=0,U$1=1)","v":false},{"$f":"IF(F106=\"-\",1,0)*W$1","v":1},{"$f":"AND(W106=0,W$1=1)","v":false},{"$f":"IF(H106=\"-\",1,0)*Y$1","v":1},{"$f":"AND(Y106=0,Y$1=1)","v":false},{"$f":"IF(J106=\"-\",1,0)*AA$1","v":1},{"$f":"AND(AA106=0,AA$1=1)","v":false},{"$f":"IF(L106=\"-\",1,0)*AC$1","v":1},{"$f":"AND(AC106=0,AC$1=1)","v":false}]
[106,null,"-","-",{"$f":"IF(D107=\"-\",0,D107)","v":0},"-",{"$f":"IF(F107=\"-\",0,F107)","v":0},"-",{"$f":"IF(H107=\"-\",0,H107)","v":0},"-",{"$f":"IF(J107=\"-\",0,J107)","v":0},"-",{"$f":"IF(L107=\"-\",0,L107)","v":0},null,{"$f":"E107+G107+I107+K107+M107","v":0},{"$f":"MAX(D107,F107,H107,J107,L107)","v":0},{"$f":"IF(S107=1,O107,IF(S107=0,(O107-P107),\"-\"))","v":"-"},{"$f":"COUNTIF(U107:AD107,\"=TRUE\")","v":0},{"$f":"AE$1-R107","v":5},{"$f":"IF(S107<2,\"Yes\",\"No\")","v":"No"},{"$f":"IF(D107=\"-\",1,0)*U$1","v":1},{"$f":"AND(U107=0,U$1=1)","v":false},{"$f":"IF(F107=\"-\",1,0)*W$1","v":1},{"$f":"AND(W107=0,W$1=1)","v":false},{"$f":"IF(H107=\"-\",1,0)*Y$1","v":1},{"$f":"AND(Y107=0,Y$1=1)","v":false},{"$f":"IF(J107=\"-\",1,0)*AA$1","v":1},{"$f":"AND(AA107=0,AA$1=1)","v":false},{"$f":"IF(L107=\"-\",1,0)*AC$1","v":1},{"$f":"AND(AC107=0,AC$1=1)","v":false}]
[107,null,"-","-",{"$f":"IF(D108=\"-\",0,D108)","v":0},"-",{"$f":"IF(F108=\"-\",0,F108)","v":0},"-",{"$f":"IF(H108=\"-\",0,H108)","v":0},"-",{"$f":"IF(J108=\"-\",0,J108)","v":0},"-",{"$f":"IF(L108=\"-\",0,L108)","v":0},null,{"$f":"E108+G108+I108+K108+M108","v":0},{"$f":"MAX(D108,F108,H108,J108,L108)","v":0},{"$f":"IF(S108=1,O108,IF(S108=0,(O108-P108),\"-\"))","v":"-"},{"$f":"COUNTIF(U108:AD108,\"=TRUE\")","v":0},{"$f":"AE$1-R108","v":5},{"$f":"IF(S108<2,\"Yes\",\"No\")","v":"No"},{"$f":"IF(D108=\"-\",1,0)*U$1","v":1},{"$f":"AND(U108=0,U$1=1)","v":false},{"$f":"IF(F108=\"-\",1,0)*W$1","v":1},{"$f":"AND(W108=0,W$1=1)","v":false},{"$f":"IF(H108=\"-\",1,0)*Y$1","v":1},{"$f":"AND(Y108=0,Y$1=1)","v":false},{"$f":"IF(J108=\"-\",1,0)*AA$1","v":1},{"$f":"AND(AA108=0,AA$1=1)","v":false},{"$f":"IF(L108=\"-\",1,0)*AC$1","v":1},{"$f":"AND(AC108=0,AC$1=1)","v":false}]
[108,null,"-","-",{"$f":"IF(D109=\"-\",0,D109)","v":0},"-",{"$f":"IF(F109=\"-\",0,F109)","v":0},"-",{"$f":"IF(H109=\"-\",0,H109)","v":0},"-",{"$f":"IF(J109=\"-\",0,J109)","v":0},"-",{"$f":"IF(L109=\"-\",0,L109)","v":0},null,{"$f":"E109+G109+I109+K109+M109","v":0},{"$f":"MAX(D109,F109,H109,J109,L109)","v":0},{"$f":"IF(S109=1,O109,IF(S109=0,(O109-P109),\"-\"))","v":"-"},{"$f":"COUNTIF(U109:AD109,\"=TRUE\")","v":0},{"$f":"AE$1-R109","v":5},{"$f":"IF(S109<2,\"Yes\",\"No\")","v":"No"},{"$f":"IF(D109=\"-\",1,0)*U$1","v":1},{"$f":"AND(U109=0,U$1=1)","v":false},{"$f":"IF(F109=\"-\",1,0)*W$1","v":1},{"$f":"AND(W109=0,W$1=1)","v":false},{"$f":"IF(H109=\"-\",1,0)*Y$1","v":1},{"$f":"AND(Y109=0,Y$1=1)","v":false},{"$f":"IF(J109=\"-\",1,0)*AA$1","v":1},{"$f":"AND(AA109=0,AA$1=1)","v":false},{"$f":"IF(L109=\"-\",1,0)*AC$1","v":1},{"$f":"AND(AC109=0,AC$1=1)","v":false}]
[109,null,"-","-",{"$f":"IF(D110=\"-\",0,D110)","v":0},"-",{"$f":"IF(F110=\"-\",0,F110)","v":0},"-",{"$f":"IF(H110=\"-\",0,H110)","v":0},"-",{"$f":"IF(J110=\"-\",0,J110)","v":0},"-",{"$f":"IF(L110=\"-\",0,L110)","v":0},null,{"$f":"E110+G110+I110+K110+M110","v":0},{"$f":"MAX(D110,F110,H110,J110,L110)","v":0},{"$f":"IF(S110=1,O110,IF(S110=0,(O110-P110),\"-\"))","v":"-"},{"$f":"COUNTIF(U110:AD110,\"=TRUE\")","v":0},{"$f":"AE$1-R110","v":5},{"$f":"IF(S110<2,\"Yes\",\"No\")","v":"No"},{"$f":"IF(D110=\"-\",1,0)*U$1","v":1},{"$f":"AND(U110=0,U$1=1)","v":false},{"$f":"IF(F110=\"-\",1,0)*W$1","v":1},{"$f":"AND(W110=0,W$1=1)","v":false},{"$f":"IF(H110=\"-\",1,0)*Y$1","v":1},{"$f":"AND(Y110=0,Y$1=1)","v":false},{"$f":"IF(J110=\"-\",1,0)*AA$1","v":1},{"$f":"AND(AA110=0,AA$1=1)","v":false},{"$f":"IF(L110=\"-\",1,0)*AC$1","v":1},{"$f":"AND(AC110=0,AC$1=1)","v":false}]
[110,null,"-","-",{"$f":"IF(D111=\"-\",0,D111)","v":0},"-",{"$f":"IF(F111=\"-\",0,F111)","v":0},"-",{"$f":"IF(H111=\"-\",0,H111)","v":0},"-",{"$f":"IF(J111=\"-\",0,J111)","v":0},"-",{"$f":"IF(L111=\"-\",0,L111)","v":0},null,{"$f":"E111+G111+I111+K111+M111","v":0},{"$f":"MAX(D111,F111,H111,J111,L111)","v":0},{"$f":"IF(S111=1,O111,IF(S111=0,(O111-P111),\"-\"))","v":"-"},{"$f":"COUNTIF(U111:AD111,\"=TRUE\")","v":0},{"$f":"AE$1-R111","v":5},{"$f":"IF(S111<2,\"Yes\",\"No\")","v":"No"},{"$f":"IF(D111=\"-\",1,0)*U$1","v":1},{"$f":"AND(U111=0,U$1=1)","v":false},{"$f":"IF(F111=\"-\",1,0)*W$1","v":1},{"$f":"AND(W111=0,W$1=1)","v":false},{"$f":"IF(H111=\"-\",1,0)*Y$1","v":1},{"$f":"AND(Y111=0,Y$1=1)","v":false},{"$f":"IF(J111=\"-\",1,0)*AA$1","v":1},{"$f":"AND(AA111=0,AA$1=1)","v":false},{"$f":"IF(L111=\"-\",1,0)*AC$1","v":1},{"$f":"AND(AC111=0,AC$1=1)","v":false}]
[111,null,"-","-",{"$f":"IF(D112=\"-\",0,D112)","v":0},"-",{"$f":"IF(F112=\"-\",0,F112)","v":0},"-",{"$f":"IF(H112=\"-\",0,H112)","v":0},"-",{"$f":"IF(J112=\"-\",0,J112)","v":0},"-",{"$f":"IF(L112=\"-\",0,L112)","v":0},null,{"$f":"E112+G112+I112+K112+M112","v":0},{"$f":"MAX(D112,F112,H112,J112,L112)","v":0},{"$f":"IF(S112=1,O112,IF(S112=0,(O112-P112),\"-\"))","v":"-"},{"$f":"COUNTIF(U112:AD112,\"=TRUE\")","v":0},{"$f":"AE$1-R112","v":5},{"$f":"IF(S112<2,\"Yes\",\"No\")","v":"No"},{"$f":"IF(D112=\"-\",1,0)*U$1","v":1},{"$f":"AND(U112=0,U$1=1)","v":false},{"$f":"IF(F112=\"-\",1,0)*W$1","v":1},{"$f":"AND(W112=0,W$1=1)","v":false},{"$f":"IF(H112=\"-\",1,0)*Y$1","v":1},{"$f":"AND(Y112=0,Y$1=1)","v":false},{"$f":"IF(J112=\"-\",1,0)*AA$1","v":1},{"$f":"AND(AA112=0,AA$1=1)","v":false},{"$f":"IF(L112=\"-\",1,0)*AC$1","v":1},{"$f":"AND(AC112=0,AC$1=1)","v":false}]
[112,null,"-","-",{"$f":"IF(D113=\"-\",0,D113)","v":0},"-",{"$f":"IF(F113=\"-\",0,F113)","v":0},"-",{"$f":"IF(H113=\"-\",0,H113)","v":0},"-",{"$f":"IF(J113=\"-\",0,J113)","v":0},"-",{"$f":"IF(L113=\"-\",0,L113)","v":0},null,{"$f":"E113+G113+I113+K113+M113","v":0},{"$f":"MAX(D113,F113,H113,J113,L113)","v":0},{"$f":"IF(S113=1,O113,IF(S113=0,(O113-P113),\"-\"))","v":"-"},{"$f":"COUNTIF(U113:AD113,\"=TRUE\")","v":0},{"$f":"AE$1-R113","v":5},{"$f":"IF(S113<2,\"Yes\",\"No\")","v":"No"},{"$f":"IF(D113=\"-\",1,0)*U$1","v":1},{"$f":"AND(U113=0,U$1=1)","v":false},{"$f":"IF(F113=\"-\",1,0)*W$1","v":1},{"$f":"AND(W113=0,W$1=1)","v":false},{"$f":"IF(H113=\"-\",1,0)*Y$1","v":1},{"$f":"AND(Y113=0,Y$1=1)","v":false},{"$f":"IF(J113=\"-\",1,0)*AA$1","v":1},{"$f":"AND(AA113=0,AA$1=1)","v":false},{"$f":"IF(L113=\"-\",1,0)*AC$1","v":1},{"$f":"AND(AC113=0,AC$1=1)","v":false}]
[113,null,"-","-",{"$f":"IF(D114=\"-\",0,D114)","v":0},"-",{"$f":"IF(F114=\"-\",0,F114)","v":0},"-",{"$f":"IF(H114=\"-\",0,H114)","v":0},"-",{"$f":"IF(J114=\"-\",0,J114)","v":0},"-",{"$f":"IF(L114=\"-\",0,L114)","v":0},null,{"$f":"E114+G114+I114+K114+M114","v":0},{"$f":"MAX(D114,F114,H114,J114,L114)","v":0},{"$f":"IF(S114=1,O114,IF(S114=0,(O114-P114),\"-\"))","v":"-"},{"$f":"COUNTIF(U114:AD114,\"=TRUE\")","v":0},{"$f":"AE$1-R114","v":5},{"$f":"IF(S114<2,\"Yes\",\"No\")","v":"No"},{"$f":"IF(D114=\"-\",1,0)*U$1","v":1},{"$f":"AND(U114=0,U$1=1)","v":false},{"$f":"IF(F114=\"-\",1,0)*W$1","v":1},{"$f":"AND(W114=0,W$1=1)","v":false},{"$f":"IF(H114=\"-\",1,0)*Y$1","v":1},{"$f":"AND(Y114=0,Y$1=1)","v":false},{"$f":"IF(J114=\"-\",1,0)*AA$1","v":1},{"$f":"AND(AA114=0,AA$1=1)","v":false},{"$f":"IF(L114=\"-\",1,0)*AC$1","v":1},{"$f":"AND(AC114=0,AC$1=1)","v":false}]
[114,null,"-","-",{"$f":"IF(D115=\"-\",0,D115)","v":0},"-",{"$f":"IF(F115=\"-\",0,F115)","v":0},"-",{"$f":"IF(H115=\"-\",0,H115)","v":0},"-",{"$f":"IF(J115=\"-\",0,J115)","v":0},"-",{"$f":"IF(L115=\"-\",0,L115)","v":0},null,{"$f":"E115+G115+I115+K115+M115","v":0},{"$f":"MAX(D115,F115,H115,J115,L115)","v":0},{"$f":"IF(S115=1,O115,IF(S115=0,(O115-P115),\"-\"))","v":"-"},{"$f":"COUNTIF(U115:AD115,\"=TRUE\")","v":0},{"$f":"AE$1-R115","v":5},{"$f":"IF(S115<2,\"Yes\",\"No\")","v":"No"},{"$f":"IF(D115=\"-\",1,0)*U$1","v":1},{"$f":"AND(U115=0,U$1=1)","v":false},{"$f":"IF(F115=\"-\",1,0)*W$1","v":1},{"$f":"AND(W115=0,W$1=1)","v":false},{"$f":"IF(H115=\"-\",1,0)*Y$1","v":1},{"$f":"AND(Y115=0,Y$1=1)","v":false},{"$f":"IF(J115=\"-\",1,0)*AA$1","v":1},{"$f":"AND(AA115=0,AA$1=1)","v":false},{"$f":"IF(L115=\"-\",1,0)*AC$1","v":1},{"$f":"AND(AC115=0,AC$1=1)","v":false}]
[115,null,"-","-",{"$f":"IF(D116=\"-\",0,D116)","v":0},"-",{"$f":"IF(F116=\"-\",0,F116)","v":0},"-",{"$f":"IF(H116=\"-\",0,H116)","v":0},"-",{"$f":"IF(J116=\"-\",0,J116)","v":0},"-",{"$f":"IF(L116=\"-\",0,L116)","v":0},null,{"$f":"E116+G116+I116+K116+M116","v":0},{"$f":"MAX(D116,F116,H116,J116,L116)","v":0},{"$f":"IF(S116=1,O116,IF(S116=0,(O116-P116),\"-\"))","v":"-"},{"$f":"COUNTIF(U116:AD116,\"=TRUE\")","v":0},{"$f":"AE$1-R116","v":5},{"$f":"IF(S116<2,\"Yes\",\"No\")","v":"No"},{"$f":"IF(D116=\"-\",1,0)*U$1","v":1},{"$f":"AND(U116=0,U$1=1)","v":false},{"$f":"IF(F116=\"-\",1,0)*W$1","v":1},{"$f":"AND(W116=0,W$1=1)","v":false},{"$f":"IF(H116=\"-\",1,0)*Y$1","v":1},{"$f":"AND(Y116=0,Y$1=1)","v":false},{"$f":"IF(J116=\"-\",1,0)*AA$1","v":1},{"$f":"AND(AA116=0,AA$1=1)","v":false},{"$f":"IF(L116=\"-\",1,0)*AC$1","v":1},{"$f":"AND(AC116=0,AC$1=1)","v":false}]
[116,null,"-","-",{"$f":"IF(D117=\"-\",0,D117)","v":0},"-",{"$f":"IF(F117=\"-\",0,F117)","v":0},"-",{"$f":"IF(H117=\"-\",0,H117)","v":0},"-",{"$f":"IF(J117=\"-\",0,J117)","v":0},"-",{"$f":"IF(L117=\"-\",0,L117)","v":0},null,{"$f":"E117+G117+I117+K117+M117","v":0},{"$f":"MAX(D117,F117,H117,J117,L117)","v":0},{"$f":"IF(S117=1,O117,IF(S117=0,(O117-P117),\"-\"))","v":"-"},{"$f":"COUNTIF(U117:AD117,\"=TRUE\")","v":0},{"$f":"AE$1-R117","v":5},{"$f":"IF(S117<2,\"Yes\",\"No\")","v":"No"},{"$f":"IF(D117=\"-\",1,0)*U$1","v":1},{"$f":"AND(U117=0,U$1=1)","v":false},{"$f":"IF(F117=\"-\",1,0)*W$1","v":1},{"$f":"AND(W117=0,W$1=1)","v":false},{"$f":"IF(H117=\"-\",1,0)*Y$1","v":1},{"$f":"AND(Y117=0,Y$1=1)","v":false},{"$f":"IF(J117=\"-\",1,0)*AA$1","v":1},{"$f":"AND(AA117=0,AA$1=1)","v":false},{"$f":"IF(L117=\"-\",1,0)*AC$1","v":1},{"$f":"AND(AC117=0,AC$1=1)","v":false}]
[117,null,"-","-",{"$f":"IF(D118=\"-\",0,D118)","v":0},"-",{"$f":"IF(F118=\"-\",0,F118)","v":0},"-",{"$f":"IF(H118=\"-\",0,H118)","v":0},"-",{"$f":"IF(J118=\"-\",0,J118)","v":0},"-",{"$f":"IF(L118=\"-\",0,L118)","v":0},null,{"$f":"E118+G118+I118+K118+M118","v":0},{"$f":"MAX(D118,F118,H118,J118,L118)","v":0},{"$f":"IF(S118=1,O118,IF(S118=0,(O118-P118),\"-\"))","v":"-"},{"$f":"COUNTIF(U118:AD118,\"=TRUE\")","v":0},{"$f":"AE$1-R118","v":5},{"$f":"IF(S118<2,\"Yes\",\"No\")","v":"No"},{"$f":"IF(D118=\"-\",1,0)*U$1","v":1},{"$f":"AND(U118=0,U$1=1)","v":false},{"$f":"IF(F118=\"-\",1,0)*W$1","v":1},{"$f":"AND(W118=0,W$1=1)","v":false},{"$f":"IF(H118=\"-\",1,0)*Y$1","v":1},{"$f":"AND(Y118=0,Y$1=1)","v":false},{"$f":"IF(J118=\"-\",1,0)*AA$1","v":1},{"$f":"AND(AA118=0,AA$1=1)","v":false},{"$f":"IF(L118=\"-\",1,0)*AC$1","v":1},{"$f":"AND(AC118=0,AC$1=1)","v":false}]
[118,null,"-","-",{"$f":"IF(D119=\"-\",0,D119)","v":0},"-",{"$f":"IF(F119=\"-\",0,F119)","v":0},"-",{"$f":"IF(H119=\"-\",0,H119)","v":0},"-",{"$f":"IF(J119=\"-\",0,J119)","v":0},"-",{"$f":"IF(L119=\"-\",0,L119)","v":0},null,{"$f":"E119+G119+I119+K119+M119","v":0},{"$f":"MAX(D119,F119,H119,J119,L119)","v":0},{"$f":"IF(S119=1,O119,IF(S119=0,(O119-P119),\"-\"))","v":"-"},{"$f":"COUNTIF(U119:AD119,\"=TRUE\")","v":0},{"$f":"AE$1-R119","v":5},{"$f":"IF(S119<2,\"Yes\",\"No\")","v":"No"},{"$f":"IF(D119=\"-\",1,0)*U$1","v":1},{"$f":"AND(U119=0,U$1=1)","v":false},{"$f":"IF(F119=\"-\",1,0)*W$1","v":1},{"$f":"AND(W119=0,W$1=1)","v":false},{"$f":"IF(H119=\"-\",1,0)*Y$1","v":1},{"$f":"AND(Y119=0,Y$1=1)","v":false},{"$f":"IF(J119=\"-\",1,0)*AA$1","v":1},{"$f":"AND(AA119=0,AA$1=1)","v":false},{"$f":"IF(L119=\"-\",1,0)*AC$1","v":1},{"$f":"AND(AC119=0,AC$1=1)","v":false}]
[119,null,"-","-",{"$f":"IF(D120=\"-\",0,D120)","v":0},"-",{"$f":"IF(F120=\"-\",0,F120)","v":0},"-",{"$f":"IF(H120=\"-\",0,H120)","v":0},"-",{"$f":"IF(J120=\"-\",0,J120)","v":0},"-",{"$f":"IF(L120=\"-\",0,L120)","v":0},null,{"$f":"E120+G120+I120+K120+M120","v":0},{"$f":"MAX(D120,F120,H120,J120,L120)","v":0},{"$f":"IF(S120=1,O120,IF(S120=0,(O120-P120),\"-\"))","v":"-"},{"$f":"COUNTIF(U120:AD120,\"=TRUE\")","v":0},{"$f":"AE$1-R120","v":5},{"$f":"IF(S120<2,\"Yes\",\"No\")","v":"No"},{"$f":"IF(D120=\"-\",1,0)*U$1","v":1},{"$f":"AND(U120=0,U$1=1)","v":false},{"$f":"IF(F120=\"-\",1,0)*W$1","v":1},{"$f":"AND(W120=0,W$1=1)","v":false},{"$f":"IF(H120=\"-\",1,0)*Y$1","v":1},{"$f":"AND(Y120=0,Y$1=1)","v":false},{"$f":"IF(J120=\"-\",1,0)*AA$1","v":1},{"$f":"AND(AA120=0,AA$1=1)","v":false},{"$f":"IF(L120=\"-\",1,0)*AC$1","v":1},{"$f":"AND(AC120=0,AC$1=1)","v":false}]
[120,null,"-","-",{"$f":"IF(D121=\"-\",0,D121)","v":0},"-",{"$f":"IF(F121=\"-\",0,F121)","v":0},"-",{"$f":"IF(H121=\"-\",0,H121)","v":0},"-",{"$f":"IF(J121=\"-\",0,J121)","v":0},"-",{"$f":"IF(L121=\"-\",0,L121)","v":0},null,{"$f":"E121+G121+I121+K121+M121","v":0},{"$f":"MAX(D121,F121,H121,J121,L121)","v":0},{"$f":"IF(S121=1,O121,IF(S121=0,(O121-P121),\"-\"))","v":"-"},{"$f":"COUNTIF(U121:AD121,\"=TRUE\")","v":0},{"$f":"AE$1-R121","v":5},{"$f":"IF(S121<2,\"Yes\",\"No\")","v":"No"},{"$f":"IF(D121=\"-\",1,0)*U$1","v":1},{"$f":"AND(U121=0,U$1=1)","v":false},{"$f":"IF(F121=\"-\",1,0)*W$1","v":1},{"$f":"AND(W121=0,W$1=1)","v":false},{"$f":"IF(H121=\"-\",1,0)*Y$1","v":1},{"$f":"AND(Y121=0,Y$1=1)","v":false},{"$f":"IF(J121=\"-\",1,0)*AA$1","v":1},{"$f":"AND(AA121=0,AA$1=1)","v":false},{"$f":"IF(L121=\"-\",1,0)*AC$1","v":1},{"$f":"AND(AC121=0,AC$1=1)","v":false}]
[121,null,"-","-",{"$f":"IF(D122=\"-\",0,D122)","v":0},"-",{"$f":"IF(F122=\"-\",0,F122)","v":0},"-",{"$f":"IF(H122=\"-\",0,H122)","v":0},"-",{"$f":"IF(J122=\"-\",0,J122)","v":0},"-",{"$f":"IF(L122=\"-\",0,L122)","v":0},null,{"$f":"E122+G122+I122+K122+M122","v":0},{"$f":"MAX(D122,F122,H122,J122,L122)","v":0},{"$f":"IF(S122=1,O122,IF(S122=0,(O122-P122),\"-\"))","v":"-"},{"$f":"COUNTIF(U122:AD122,\"=TRUE\")","v":0},{"$f":"AE$1-R122","v":5},{"$f":"IF(S122<2,\"Yes\",\"No\")","v":"No"},{"$f":"IF(D122=\"-\",1,0)*U$1","v":1},{"$f":"AND(U122=0,U$1=1)","v":false},{"$f":"IF(F122=\"-\",1,0)*W$1","v":1},{"$f":"AND(W122=0,W$1=1)","v":false},{"$f":"IF(H122=\"-\",1,0)*Y$1","v":1},{"$f":"AND(Y122=0,Y$1=1)","v":false},{"$f":"IF(J122=\"-\",1,0)*AA$1","v":1},{"$f":"AND(AA122=0,AA$1=1)","v":false},{"$f":"IF(L122=\"-\",1,0)*AC$1","v":1},{"$f":"AND(AC122=0,AC$1=1)","v":false}]
[122,null,"-","-",{"$f":"IF(D123=\"-\",0,D123)","v":0},"-",{"$f":"IF(F123=\"-\",0,F123)","v":0},"-",{"$f":"IF(H123=\"-\",0,H123)","v":0},"-",{"$f":"IF(J123=\"-\",0,J123)","v":0},"-",{"$f":"IF(L123=\"-\",0,L123)","v":0},null,{"$f":"E123+G123+I123+K123+M123","v":0},{"$f":"MAX(D123,F123,H123,J123,L123)","v":0},{"$f":"IF(S123=1,O123,IF(S123=0,(O123-P123),\"-\"))","v":"-"},{"$f":"COUNTIF(U123:AD123,\"=TRUE\")","v":0},{"$f":"AE$1-R123","v":5},{"$f":"IF(S123<2,\"Yes\",\"No\")","v":"No"},{"$f":"IF(D123=\"-\",1,0)*U$1","v":1},{"$f":"AND(U123=0,U$1=1)","v":false},{"$f":"IF(F123=\"-\",1,0)*W$1","v":1},{"$f":"AND(W123=0,W$1=1)","v":false},{"$f":"IF(H123=\"-\",1,0)*Y$1","v":1},{"$f":"AND(Y123=0,Y$1=1)","v":false},{"$f":"IF(J123=\"-\",1,0)*AA$1","v":1},{"$f":"AND(AA123=0,AA$1=1)","v":false},{"$f":"IF(L123=\"-\",1,0)*AC$1","v":1},{"$f":"AND(AC123=0,AC$1=1)","v":false}]
[123,null,"-","-",{"$f":"IF(D124=\"-\",0,D124)","v":0},"-",{"$f":"IF(F124=\"-\",0,F124)","v":0},"-",{"$f":"IF(H124=\"-\",0,H124)","v":0},"-",{"$f":"IF(J124=\"-\",0,J124)","v":0},"-",{"$f":"IF(L124=\"-\",0,L124)","v":0},null,{"$f":"E124+G124+I124+K124+M124","v":0},{"$f":"MAX(D124,F124,H124,J124,L124)","v":0},{"$f":"IF(S124=1,O124,IF(S124=0,(O124-P124),\"-\"))","v":"-"},{"$f":"COUNTIF(U124:AD124,\"=TRUE\")","v":0},{"$f":"AE$1-R124","v":5},{"$f":"IF(S124<2,\"Yes\",\"No\")","v":"No"},{"$f":"IF(D124=\"-\",1,0)*U$1","v":1},{"$f":"AND(U124=0,U$1=1)","v":false},{"$f":"IF(F124=\"-\",1,0)*W$1","v":1},{"$f":"AND(W124=0,W$1=1)","v":false},{"$f":"IF(H124=\"-\",1,0)*Y$1","v":1},{"$f":"AND(Y124=0,Y$1=1)","v":false},{"$f":"IF(J124=\"-\",1,0)*AA$1","v":1},{"$f":"AND(AA124=0,AA$1=1)","v":false},{"$f":"IF(L124=\"-\",1,0)*AC$1","v":1},{"$f":"AND(AC124=0,AC$1=1)","v":false}]
[124,null,"-","-",{"$f":"IF(D125=\"-\",0,D125)","v":0},"-",{"$f":"IF(F125=\"-\",0,F125)","v":0},"-",{"$f":"IF(H125=\"-\",0,H125)","v":0},"-",{"$f":"IF(J125=\"-\",0,J125)","v":0},"-",{"$f":"IF(L125=\"-\",0,L125)","v":0},null,{"$f":"E125+G125+I125+K125+M125","v":0},{"$f":"MAX(D125,F125,H125,J125,L125)","v":0},{"$f":"IF(S125=1,O125,IF(S125=0,(O125-P125),\"-\"))","v":"-"},{"$f":"COUNTIF(U125:AD125,\"=TRUE\")","v":0},{"$f":"AE$1-R125","v":5},{"$f":"IF(S125<2,\"Yes\",\"No\")","v":"No"},{"$f":"IF(D125=\"-\",1,0)*U$1","v":1},{"$f":"AND(U125=0,U$1=1)","v":false},{"$f":"IF(F125=\"-\",1,0)*W$1","v":1},{"$f":"AND(W125=0,W$1=1)","v":false},{"$f":"IF(H125=\"-\",1,0)*Y$1","v":1},{"$f":"AND(Y125=0,Y$1=1)","v":false},{"$f":"IF(J125=\"-\",1,0)*AA$1","v":1},{"$f":"AND(AA125=0,AA$1=1)","v":false},{"$f":"IF(L125=\"-\",1,0)*AC$1","v":1},{"$f":"AND(AC125=0,AC$1=1)","v":false}]
[125,null,"-","-",{"$f":"IF(D126=\"-\",0,D126)","v":0},"-",{"$f":"IF(F126=\"-\",0,F126)","v":0},"-",{"$f":"IF(H126=\"-\",0,H126)","v":0},"-",{"$f":"IF(J126=\"-\",0,J126)","v":0},"-",{"$f":"IF(L126=\"-\",0,L126)","v":0},null,{"$f":"E126+G126+I126+K126+M126","v":0},{"$f":"MAX(D126,F126,H126,J126,L126)","v":0},{"$f":"IF(S126=1,O126,IF(S126=0,(O126-P126),\"-\"))","v":"-"},{"$f":"COUNTIF(U126:AD126,\"=TRUE\")","v":0},{"$f":"AE$1-R126","v":5},{"$f":"IF(S126<2,\"Yes\",\"No\")","v":"No"},{"$f":"IF(D126=\"-\",1,0)*U$1","v":1},{"$f":"AND(U126=0,U$1=1)","v":false},{"$f":"IF(F126=\"-\",1,0)*W$1","v":1},{"$f":"AND(W126=0,W$1=1)","v":false},{"$f":"IF(H126=\"-\",1,0)*Y$1","v":1},{"$f":"AND(Y126=0,Y$1=1)","v":false},{"$f":"IF(J126=\"-\",1,0)*AA$1","v":1},{"$f":"AND(AA126=0,AA$1=1)","v":false},{"$f":"IF(L126=\"-\",1,0)*AC$1","v":1},{"$f":"AND(AC126=0,AC$1=1)","v":false}]
[126,null,"-","-",{"$f":"IF(D127=\"-\",0,D127)","v":0},"-",{"$f":"IF(F127=\"-\",0,F127)","v":0},"-",{"$f":"IF(H127=\"-\",0,H127)","v":0},"-",{"$f":"IF(J127=\"-\",0,J127)","v":0},"-",{"$f":"IF(L127=\"-\",0,L127)","v":0},null,{"$f":"E127+G127+I127+K127+M127","v":0},{"$f":"MAX(D127,F127,H127,J127,L127)","v":0},{"$f":"IF(S127=1,O127,IF(S127=0,(O127-P127),\"-\"))","v":"-"},{"$f":"COUNTIF(U127:AD127,\"=TRUE\")","v":0},{"$f":"AE$1-R127","v":5},{"$f":"IF(S127<2,\"Yes\",\"No\")","v":"No"},{"$f":"IF(D127=\"-\",1,0)*U$1","v":1},{"$f":"AND(U127=0,U$1=1)","v":false},{"$f":"IF(F127=\"-\",1,0)*W$1","v":1},{"$f":"AND(W127=0,W$1=1)","v":false},{"$f":"IF(H127=\"-\",1,0)*Y$1","v":1},{"$f":"AND(Y127=0,Y$1=1)","v":false},{"$f":"IF(J127=\"-\",1,0)*AA$1","v":1},{"$f":"AND(AA127=0,AA$1=1)","v":false},{"$f":"IF(L127=\"-\",1,0)*AC$1","v":1},{"$f":"AND(AC127=0,AC$1=1)","v":false}]
[127,null,"-","-",{"$f":"IF(D128=\"-\",0,D128)","v":0},"-",{"$f":"IF(F128=\"-\",0,F128)","v":0},"-",{"$f":"IF(H128=\"-\",0,H128)","v":0},"-",{"$f":"IF(J128=\"-\",0,J128)","v":0},"-",{"$f":"IF(L128=\"-\",0,L128)","v":0},null,{"$f":"E128+G128+I128+K128+M128","v":0},{"$f":"MAX(D128,F128,H128,J128,L128)","v":0},{"$f":"IF(S128=1,O128,IF(S128=0,(O128-P128),\"-\"))","v":"-"},{"$f":"COUNTIF(U128:AD128,\"=TRUE\")","v":0},{"$f":"AE$1-R128","v":5},{"$f":"IF(S128<2,\"Yes\",\"No\")","v":"No"},{"$f":"IF(D128=\"-\",1,0)*U$1","v":1},{"$f":"AND(U128=0,U$1=1)","v":false},{"$f":"IF(F128=\"-\",1,0)*W$1","v":1},{"$f":"AND(W128=0,W$1=1)","v":false},{"$f":"IF(H128=\"-\",1,0)*Y$1","v":1},{"$f":"AND(Y128=0,Y$1=1)","v":false},{"$f":"IF(J128=\"-\",1,0)*AA$1","v":1},{"$f":"AND(AA128=0,AA$1=1)","v":false},{"$f":"IF(L128=\"-\",1,0)*AC$1","v":1},{"$f":"AND(AC128=0,AC$1=1)","v":false}]
[128,null,"-","-",{"$f":"IF(D129=\"-\",0,D129)","v":0},"-",{"$f":"IF(F129=\"-\",0,F129)","v":0},"-",{"$f":"IF(H129=\"-\",0,H129)","v":0},"-",{"$f":"IF(J129=\"-\",0,J129)","v":0},"-",{"$f":"IF(L129=\"-\",0,L129)","v":0},null,{"$f":"E129+G129+I129+K129+M129","v":0},{"$f":"MAX(D129,F129,H129,J129,L129)","v":0},{"$f":"IF(S129=1,O129,IF(S129=0,(O129-P129),\"-\"))","v":"-"},{"$f":"COUNTIF(U129:AD129,\"=TRUE\")","v":0},{"$f":"AE$1-R129","v":5},{"$f":"IF(S129<2,\"Yes\",\"No\")","v":"No"},{"$f":"IF(D129=\"-\",1,0)*U$1","v":1},{"$f":"AND(U129=0,U$1=1)","v":false},{"$f":"IF(F129=\"-\",1,0)*W$1","v":1},{"$f":"AND(W129=0,W$1=1)","v":false},{"$f":"IF(H129=\"-\",1,0)*Y$1","v":1},{"$f":"AND(Y129=0,Y$1=1)","v":false},{"$f":"IF(J129=\"-\",1,0)*AA$1","v":1},{"$f":"AND(AA129=0,AA$1=1)","v":false},{"$f":"IF(L129=\"-\",1,0)*AC$1","v":1},{"$f":"AND(AC129=0,AC$1=1)","v":false}]
[129,null,"-","-",{"$f":"IF(D130=\"-\",0,D130)","v":0},"-",{"$f":"IF(F130=\"-\",0,F130)","v":0},"-",{"$f":"IF(H130=\"-\",0,H130)","v":0},"-",{"$f":"IF(J130=\"-\",0,J130)","v":0},"-",{"$f":"IF(L130=\"-\",0,L130)","v":0},null,{"$f":"E130+G130+I130+K130+M130","v":0},{"$f":"MAX(D130,F130,H130,J130,L130)","v":0},{"$f":"IF(S130=1,O130,IF(S130=0,(O130-P130),\"-\"))","v":"-"},{"$f":"COUNTIF(U130:AD130,\"=TRUE\")","v":0},{"$f":"AE$1-R130","v":5},{"$f":"IF(S130<2,\"Yes\",\"No\")","v":"No"},{"$f":"IF(D130=\"-\",1,0)*U$1","v":1},{"$f":"AND(U130=0,U$1=1)","v":false},{"$f":"IF(F130=\"-\",1,0)*W$1","v":1},{"$f":"AND(W130=0,W$1=1)","v":false},{"$f":"IF(H130=\"-\",1,0)*Y$1","v":1},{"$f":"AND(Y130=0,Y$1=1)","v":false},{"$f":"IF(J130=\"-\",1,0)*AA$1","v":1},{"$f":"AND(AA130=0,AA$1=1)","v":false},{"$f":"IF(L130=\"-\",1,0)*AC$1","v":1},{"$f":"AND(AC130=0,AC$1=1)","v":false}]
[130,null,"-","-",{"$f":"IF(D131=\"-\",0,D131)","v":0},"-",{"$f":"IF(F131=\"-\",0,F131)","v":0},"-",{"$f":"IF(H131=\"-\",0,H131)","v":0},"-",{"$f":"IF(J131=\"-\",0,J131)","v":0},"-",{"$f":"IF(L131=\"-\",0,L131)","v":0},null,{"$f":"E131+G131+I131+K131+M131","v":0},{"$f":"MAX(D131,F131,H131,J131,L131)","v":0},{"$f":"IF(S131=1,O131,IF(S131=0,(O131-P131),\"-\"))","v":"-"},{"$f":"COUNTIF(U131:AD131,\"=TRUE\")","v":0},{"$f":"AE$1-R131","v":5},{"$f":"IF(S131<2,\"Yes\",\"No\")","v":"No"},{"$f":"IF(D131=\"-\",1,0)*U$1","v":1},{"$f":"AND(U131=0,U$1=1)","v":false},{"$f":"IF(F131=\"-\",1,0)*W$1","v":1},{"$f":"AND(W131=0,W$1=1)","v":false},{"$f":"IF(H131=\"-\",1,0)*Y$1","v":1},{"$f":"AND(Y131=0,Y$1=1)","v":false},{"$f":"IF(J131=\"-\",1,0)*AA$1","v":1},{"$f":"AND(AA131=0,AA$1=1)","v":false},{"$f":"IF(L131=\"-\",1,0)*AC$1","v":1},{"$f":"AND(AC131=0,AC$1=1)","v":false}]
[131,null,"-","-",{"$f":"IF(D132=\"-\",0,D132)","v":0},"-",{"$f":"IF(F132=\"-\",0,F132)","v":0},"-",{"$f":"IF(H132=\"-\",0,H132)","v":0},"-",{"$f":"IF(J132=\"-\",0,J132)","v":0},"-",{"$f":"IF(L132=\"-\",0,L132)","v":0},null,{"$f":"E132+G132+I132+K132+M132","v":0},{"$f":"MAX(D132,F132,H132,J132,L132)","v":0},{"$f":"IF(S132=1,O132,IF(S132=0,(O132-P132),\"-\"))","v":"-"},{"$f":"COUNTIF(U132:AD132,\"=TRUE\")","v":0},{"$f":"AE$1-R132","v":5},{"$f":"IF(S132<2,\"Yes\",\"No\")","v":"No"},{"$f":"IF(D132=\"-\",1,0)*U$1","v":1},{"$f":"AND(U132=0,U$1=1)","v":false},{"$f":"IF(F132=\"-\",1,0)*W$1","v":1},{"$f":"AND(W132=0,W$1=1)","v":false},{"$f":"IF(H132=\"-\",1,0)*Y$1","v":1},{"$f":"AND(Y132=0,Y$1=1)","v":false},{"$f":"IF(J132=\"-\",1,0)*AA$1","v":1},{"$f":"AND(AA132=0,AA$1=1)","v":false},{"$f":"IF(L132=\"-\",1,0)*AC$1","v":1},{"$f":"AND(AC132=0,AC$1=1)","v":false}]
[132,null,"-","-",{"$f":"IF(D133=\"-\",0,D133)","v":0},"-",{"$f":"IF(F133=\"-\",0,F133)","v":0},"-",{"$f":"IF(H133=\"-\",0,H133)","v":0},"-",{"$f":"IF(J133=\"-\",0,J133)","v":0},"-",{"$f":"IF(L133=\"-\",0,L133)","v":0},null,{"$f":"E133+G133+I133+K133+M133","v":0},{"$f":"MAX(D133,F133,H133,J133,L133)","v":0},{"$f":"IF(S133=1,O133,IF(S133=0,(O133-P133),\"-\"))","v":"-"},{"$f":"COUNTIF(U133:AD133,\"=TRUE\")","v":0},{"$f":"AE$1-R133","v":5},{"$f":"IF(S133<2,\"Yes\",\"No\")","v":"No"},{"$f":"IF(D133=\"-\",1,0)*U$1","v":1},{"$f":"AND(U133=0,U$1=1)","v":false},{"$f":"IF(F133=\"-\",1,0)*W$1","v":1},{"$f":"AND(W133=0,W$1=1)","v":false},{"$f":"IF(H133=\"-\",1,0)*Y$1","v":1},{"$f":"AND(Y133=0,Y$1=1)","v":false},{"$f":"IF(J133=\"-\",1,0)*AA$1","v":1},{"$f":"AND(AA133=0,AA$1=1)","v":false},{"$f":"IF(L133=\"-\",1,0)*AC$1","v":1},{"$f":"AND(AC133=0,AC$1=1)","v":false}]
[133,null,"-","-",{"$f":"IF(D134=\"-\",0,D134)","v":0},"-",{"$f":"IF(F134=\"-\",0,F134)","v":0},"-",{"$f":"IF(H134=\"-\",0,H134)","v":0},"-",{"$f":"IF(J134=\"-\",0,J134)","v":0},"-",{"$f":"IF(L134=\"-\",0,L134)","v":0},null,{"$f":"E134+G134+I134+K134+M134","v":0},{"$f":"MAX(D134,F134,H134,J134,L134)","v":0},{"$f":"IF(S134=1,O134,IF(S134=0,(O134-P134),\"-\"))","v":"-"},{"$f":"COUNTIF(U134:AD134,\"=TRUE\")","v":0},{"$f":"AE$1-R134","v":5},{"$f":"IF(S134<2,\"Yes\",\"No\")","v":"No"},{"$f":"IF(D134=\"-\",1,0)*U$1","v":1},{"$f":"AND(U134=0,U$1=1)","v":false},{"$f":"IF(F134=\"-\",1,0)*W$1","v":1},{"$f":"AND(W134=0,W$1=1)","v":false},{"$f":"IF(H134=\"-\",1,0)*Y$1","v":1},{"$f":"AND(Y134=0,Y$1=1)","v":false},{"$f":"IF(J134=\"-\",1,0)*AA$1","v":1},{"$f":"AND(AA134=0,AA$1=1)","v":false},{"$f":"IF(L134=\"-\",1,0)*AC$1","v":1},{"$f":"AND(AC134=0,AC$1=1)","v":false}]
[134,null,"-","-",{"$f":"IF(D135=\"-\",0,D135)","v":0},"-",{"$f":"IF(F135=\"-\",0,F135)","v":0},"-",{"$f":"IF(H135=\"-\",0,H135)","v":0},"-",{"$f":"IF(J135=\"-\",0,J135)","v":0},"-",{"$f":"IF(L135=\"-\",0,L135)","v":0},null,{"$f":"E135+G135+I135+K135+M135","v":0},{"$f":"MAX(D135,F135,H135,J135,L135)","v":0},{"$f":"IF(S135=1,O135,IF(S135=0,(O135-P135),\"-\"))","v":"-"},{"$f":"COUNTIF(U135:AD135,\"=TRUE\")","v":0},{"$f":"AE$1-R135","v":5},{"$f":"IF(S135<2,\"Yes\",\"No\")","v":"No"},{"$f":"IF(D135=\"-\",1,0)*U$1","v":1},{"$f":"AND(U135=0,U$1=1)","v":false},{"$f":"IF(F135=\"-\",1,0)*W$1","v":1},{"$f":"AND(W135=0,W$1=1)","v":false},{"$f":"IF(H135=\"-\",1,0)*Y$1","v":1},{"$f":"AND(Y135=0,Y$1=1)","v":false},{"$f":"IF(J135=\"-\",1,0)*AA$1","v":1},{"$f":"AND(AA135=0,AA$1=1)","v":false},{"$f":"IF(L135=\"-\",1,0)*AC$1","v":1},{"$f":"AND(AC135=0,AC$1=1)","v":false}]
[135,null,"-","-",{"$f":"IF(D136=\"-\",0,D136)","v":0},"-",{"$f":"IF(F136=\"-\",0,F136)","v":0},"-",{"$f":"IF(H136=\"-\",0,H136)","v":0},"-",{"$f":"IF(J136=\"-\",0,J136)","v":0},"-",{"$f":"IF(L136=\"-\",0,L136)","v":0},null,{"$f":"E136+G136+I136+K136+M136","v":0},{"$f":"MAX(D136,F136,H136,J136,L136)","v":0},{"$f":"IF(S136=1,O136,IF(S136=0,(O136-P136),\"-\"))","v":"-"},{"$f":"COUNTIF(U136:AD136,\"=TRUE\")","v":0},{"$f":"AE$1-R136","v":5},{"$f":"IF(S136<2,\"Yes\",\"No\")","v":"No"},{"$f":"IF(D136=\"-\",1,0)*U$1","v":1},{"$f":"AND(U136=0,U$1=1)","v":false},{"$f":"IF(F136=\"-\",1,0)*W$1","v":1},{"$f":"AND(W136=0,W$1=1)","v":false},{"$f":"IF(H136=\"-\",1,0)*Y$1","v":1},{"$f":"AND(Y136=0,Y$1=1)","v":false},{"$f":"IF(J136=\"-\",1,0)*AA$1","v":1},{"$f":"AND(AA136=0,AA$1=1)","v":false},{"$f":"IF(L136=\"-\",1,0)*AC$1","v":1},{"$f":"AND(AC136=0,AC$1=1)","v":false}]
[136,null,"-","-",{"$f":"IF(D137=\"-\",0,D137)","v":0},"-",{"$f":"IF(F137=\"-\",0,F137)","v":0},"-",{"$f":"IF(H137=\"-\",0,H137)","v":0},"-",{"$f":"IF(J137=\"-\",0,J137)","v":0},"-",{"$f":"IF(L137=\"-\",0,L137)","v":0},null,{"$f":"E137+G137+I137+K137+M137","v":0},{"$f":"MAX(D137,F137,H137,J137,L137)","v":0},{"$f":"IF(S137=1,O137,IF(S137=0,(O137-P137),\"-\"))","v":"-"},{"$f":"COUNTIF(U137:AD137,\"=TRUE\")","v":0},{"$f":"AE$1-R137","v":5},{"$f":"IF(S137<2,\"Yes\",\"No\")","v":"No"},{"$f":"IF(D137=\"-\",1,0)*U$1","v":1},{"$f":"AND(U137=0,U$1=1)","v":false},{"$f":"IF(F137=\"-\",1,0)*W$1","v":1},{"$f":"AND(W137=0,W$1=1)","v":false},{"$f":"IF(H137=\"-\",1,0)*Y$1","v":1},{"$f":"AND(Y137=0,Y$1=1)","v":false},{"$f":"IF(J137=\"-\",1,0)*AA$1","v":1},{"$f":"AND(AA137=0,AA$1=1)","v":false},{"$f":"IF(L137=\"-\",1,0)*AC$1","v":1},{"$f":"AND(AC137=0,AC$1=1)","v":false}]
[137,null,"-","-",{"$f":"IF(D138=\"-\",0,D138)","v":0},"-",{"$f":"IF(F138=\"-\",0,F138)","v":0},"-",{"$f":"IF(H138=\"-\",0,H138)","v":0},"-",{"$f":"IF(J138=\"-\",0,J138)","v":0},"-",{"$f":"IF(L138=\"-\",0,L138)","v":0},null,{"$f":"E138+G138+I138+K138+M138","v":0},{"$f":"MAX(D138,F138,H138,J138,L138)","v":0},{"$f":"IF(S138=1,O138,IF(S138=0,(O138-P138),\"-\"))","v":"-"},{"$f":"COUNTIF(U138:AD138,\"=TRUE\")","v":0},{"$f":"AE$1-R138","v":5},{"$f":"IF(S138<2,\"Yes\",\"No\")","v":"No"},{"$f":"IF(D138=\"-\",1,0)*U$1","v":1},{"$f":"AND(U138=0,U$1=1)","v":false},{"$f":"IF(F138=\"-\",1,0)*W$1","v":1},{"$f":"AND(W138=0,W$1=1)","v":false},{"$f":"IF(H138=\"-\",1,0)*Y$1","v":1},{"$f":"AND(Y138=0,Y$1=1)","v":false},{"$f":"IF(J138=\"-\",1,0)*AA$1","v":1},{"$f":"AND(AA138=0,AA$1=1)","v":false},{"$f":"IF(L138=\"-\",1,0)*AC$1","v":1},{"$f":"AND(AC138=0,AC$1=1)","v":false}]
[138,null,"-","-",{"$f":"IF(D139=\"-\",0,D139)","v":0},"-",{"$f":"IF(F139=\"-\",0,F139)","v":0},"-",{"$f":"IF(H139=\"-\",0,H139)","v":0},"-",{"$f":"IF(J139=\"-\",0,J139)","v":0},"-",{"$f":"IF(L139=\"-\",0,L139)","v":0},null,{"$f":"E139+G139+I139+K139+M139","v":0},{"$f":"MAX(D139,F139,H139,J139,L139)","v":0},{"$f":"IF(S139=1,O139,IF(S139=0,(O139-P139),\"-\"))","v":"-"},{"$f":"COUNTIF(U139:AD139,\"=TRUE\")","v":0},{"$f":"AE$1-R139","v":5},{"$f":"IF(S139<2,\"Yes\",\"No\")","v":"No"},{"$f":"IF(D139=\"-\",1,0)*U$1","v":1},{"$f":"AND(U139=0,U$1=1)","v":false},{"$f":"IF(F139=\"-\",1,0)*W$1","v":1},{"$f":"AND(W139=0,W$1=1)","v":false},{"$f":"IF(H139=\"-\",1,0)*Y$1","v":1},{"$f":"AND(Y139=0,Y$1=1)","v":false},{"$f":"IF(J139=\"-\",1,0)*AA$1","v":1},{"$f":"AND(AA139=0,AA$1=1)","v":false},{"$f":"IF(L139=\"-\",1,0)*AC$1","v":1},{"$f":"AND(AC139=0,AC$1=1)","v":false}]
[139,null,"-","-",{"$f":"IF(D140=\"-\",0,D140)","v":0},"-",{"$f":"IF(F140=\"-\",0,F140)","v":0},"-",{"$f":"IF(H140=\"-\",0,H140)","v":0},"-",{"$f":"IF(J140=\"-\",0,J140)","v":0},"-",{"$f":"IF(L140=\"-\",0,L140)","v":0},null,{"$f":"E140+G140+I140+K140+M140","v":0},{"$f":"MAX(D140,F140,H140,J140,L140)","v":0},{"$f":"IF(S140=1,O140,IF(S140=0,(O140-P140),\"-\"))","v":"-"},{"$f":"COUNTIF(U140:AD140,\"=TRUE\")","v":0},{"$f":"AE$1-R140","v":5},{"$f":"IF(S140<2,\"Yes\",\"No\")","v":"No"},{"$f":"IF(D140=\"-\",1,0)*U$1","v":1},{"$f":"AND(U140=0,U$1=1)","v":false},{"$f":"IF(F140=\"-\",1,0)*W$1","v":1},{"$f":"AND(W140=0,W$1=1)","v":false},{"$f":"IF(H140=\"-\",1,0)*Y$1","v":1},{"$f":"AND(Y140=0,Y$1=1)","v":false},{"$f":"IF(J140=\"-\",1,0)*AA$1","v":1},{"$f":"AND(AA140=0,AA$1=1)","v":false},{"$f":"IF(L140=\"-\",1,0)*AC$1","v":1},{"$f":"AND(AC140=0,AC$1=1)","v":false}]
[140,null,"-","-",{"$f":"IF(D141=\"-\",0,D141)","v":0},"-",{"$f":"IF(F141=\"-\",0,F141)","v":0},"-",{"$f":"IF(H141=\"-\",0,H141)","v":0},"-",{"$f":"IF(J141=\"-\",0,J141)","v":0},"-",{"$f":"IF(L141=\"-\",0,L141)","v":0},null,{"$f":"E141+G141+I141+K141+M141","v":0},{"$f":"MAX(D141,F141,H141,J141,L141)","v":0},{"$f":"IF(S141=1,O141,IF(S141=0,(O141-P141),\"-\"))","v":"-"},{"$f":"COUNTIF(U141:AD141,\"=TRUE\")","v":0},{"$f":"AE$1-R141","v":5},{"$f":"IF(S141<2,\"Yes\",\"No\")","v":"No"},{"$f":"IF(D141=\"-\",1,0)*U$1","v":1},{"$f":"AND(U141=0,U$1=1)","v":false},{"$f":"IF(F141=\"-\",1,0)*W$1","v":1},{"$f":"AND(W141=0,W$1=1)","v":false},{"$f":"IF(H141=\"-\",1,0)*Y$1","v":1},{"$f":"AND(Y141=0,Y$1=1)","v":false},{"$f":"IF(J141=\"-\",1,0)*AA$1","v":1},{"$f":"AND(AA141=0,AA$1=1)","v":false},{"$f":"IF(L141=\"-\",1,0)*AC$1","v":1},{"$f":"AND(AC141=0,AC$1=1)","v":false}]
[141,null,"-","-",{"$f":"IF(D142=\"-\",0,D142)","v":0},"-",{"$f":"IF(F142=\"-\",0,F142)","v":0},"-",{"$f":"IF(H142=\"-\",0,H142)","v":0},"-",{"$f":"IF(J142=\"-\",0,J142)","v":0},"-",{"$f":"IF(L142=\"-\",0,L142)","v":0},null,{"$f":"E142+G142+I142+K142+M142","v":0},{"$f":"MAX(D142,F142,H142,J142,L142)","v":0},{"$f":"IF(S142=1,O142,IF(S142=0,(O142-P142),\"-\"))","v":"-"},{"$f":"COUNTIF(U142:AD142,\"=TRUE\")","v":0},{"$f":"AE$1-R142","v":5},{"$f":"IF(S142<2,\"Yes\",\"No\")","v":"No"},{"$f":"IF(D142=\"-\",1,0)*U$1","v":1},{"$f":"AND(U142=0,U$1=1)","v":false},{"$f":"IF(F142=\"-\",1,0)*W$1","v":1},{"$f":"AND(W142=0,W$1=1)","v":false},{"$f":"IF(H142=\"-\",1,0)*Y$1","v":1},{"$f":"AND(Y142=0,Y$1=1)","v":false},{"$f":"IF(J142=\"-\",1,0)*AA$1","v":1},{"$f":"AND(AA142=0,AA$1=1)","v":false},{"$f":"IF(L142=\"-\",1,0)*AC$1","v":1},{"$f":"AND(AC142=0,AC$1=1)","v":false}]
[142,null,"-","-",{"$f":"IF(D143=\"-\",0,D143)","v":0},"-",{"$f":"IF(F143=\"-\",0,F143)","v":0},"-",{"$f":"IF(H143=\"-\",0,H143)","v":0},"-",{"$f":"IF(J143=\"-\",0,J143)","v":0},"-",{"$f":"IF(L143=\"-\",0,L143)","v":0},null,{"$f":"E143+G143+I143+K143+M143","v":0},{"$f":"MAX(D143,F143,H143,J143,L143)","v":0},{"$f":"IF(S143=1,O143,IF(S143=0,(O143-P143),\"-\"))","v":"-"},{"$f":"COUNTIF(U143:AD143,\"=TRUE\")","v":0},{"$f":"AE$1-R143","v":5},{"$f":"IF(S143<2,\"Yes\",\"No\")","v":"No"},{"$f":"IF(D143=\"-\",1,0)*U$1","v":1},{"$f":"AND(U143=0,U$1=1)","v":false},{"$f":"IF(F143=\"-\",1,0)*W$1","v":1},{"$f":"AND(W143=0,W$1=1)","v":false},{"$f":"IF(H143=\"-\",1,0)*Y$1","v":1},{"$f":"AND(Y143=0,Y$1=1)","v":false},{"$f":"IF(J143=\"-\",1,0)*AA$1","v":1},{"$f":"AND(AA143=0,AA$1=1)","v":false},{"$f":"IF(L143=\"-\",1,0)*AC$1","v":1},{"$f":"AND(AC143=0,AC$1=1)","v":false}]
[143,null,"-","-",{"$f":"IF(D144=\"-\",0,D144)","v":0},"-",{"$f":"IF(F144=\"-\",0,F144)","v":0},"-",{"$f":"IF(H144=\"-\",0,H144)","v":0},"-",{"$f":"IF(J144=\"-\",0,J144)","v":0},"-",{"$f":"IF(L144=\"-\",0,L144)","v":0},null,{"$f":"E144+G144+I144+K144+M144","v":0},{"$f":"MAX(D144,F144,H144,J144,L144)","v":0},{"$f":"IF(S144=1,O144,IF(S144=0,(O144-P144),\"-\"))","v":"-"},{"$f":"COUNTIF(U144:AD144,\"=TRUE\")","v":0},{"$f":"AE$1-R144","v":5},{"$f":"IF(S144<2,\"Yes\",\"No\")","v":"No"},{"$f":"IF(D144=\"-\",1,0)*U$1","v":1},{"$f":"AND(U144=0,U$1=1)","v":false},{"$f":"IF(F144=\"-\",1,0)*W$1","v":1},{"$f":"AND(W144=0,W$1=1)","v":false},{"$f":"IF(H144=\"-\",1,0)*Y$1","v":1},{"$f":"AND(Y144=0,Y$1=1)","v":false},{"$f":"IF(J144=\"-\",1,0)*AA$1","v":1},{"$f":"AND(AA144=0,AA$1=1)","v":false},{"$f":"IF(L144=\"-\",1,0)*AC$1","v":1},{"$f":"AND(AC144=0,AC$1=1)","v":false}]
[144,null,"-","-",{"$f":"IF(D145=\"-\",0,D145)","v":0},"-",{"$f":"IF(F145=\"-\",0,F145)","v":0},"-",{"$f":"IF(H145=\"-\",0,H145)","v":0},"-",{"$f":"IF(J145=\"-\",0,J145)","v":0},"-",{"$f":"IF(L145=\"-\",0,L145)","v":0},null,{"$f":"E145+G145+I145+K145+M145","v":0},{"$f":"MAX(D145,F145,H145,J145,L145)","v":0},{"$f":"IF(S145=1,O145,IF(S145=0,(O145-P145),\"-\"))","v":"-"},{"$f":"COUNTIF(U145:AD145,\"=TRUE\")","v":0},{"$f":"AE$1-R145","v":5},{"$f":"IF(S145<2,\"Yes\",\"No\")","v":"No"},{"$f":"IF(D145=\"-\",1,0)*U$1","v":1},{"$f":"AND(U145=0,U$1=1)","v":false},{"$f":"IF(F145=\"-\",1,0)*W$1","v":1},{"$f":"AND(W145=0,W$1=1)","v":false},{"$f":"IF(H145=\"-\",1,0)*Y$1","v":1},{"$f":"AND(Y145=0,Y$1=1)","v":false},{"$f":"IF(J145=\"-\",1,0)*AA$1","v":1},{"$f":"AND(AA145=0,AA$1=1)","v":false},{"$f":"IF(L145=\"-\",1,0)*AC$1","v":1},{"$f":"AND(AC145=0,AC$1=1)","v":false}]
[145,null,"-","-",{"$f":"IF(D146=\"-\",0,D146)","v":0},"-",{"$f":"IF(F146=\"-\",0,F146)","v":0},"-",{"$f":"IF(H146=\"-\",0,H146)","v":0},"-",{"$f":"IF(J146=\"-\",0,J146)","v":0},"-",{"$f":"IF(L146=\"-\",0,L146)","v":0},null,{"$f":"E146+G146+I146+K146+M146","v":0},{"$f":"MAX(D146,F146,H146,J146,L146)","v":0},{"$f":"IF(S146=1,O146,IF(S146=0,(O146-P146),\"-\"))","v":"-"},{"$f":"COUNTIF(U146:AD146,\"=TRUE\")","v":0},{"$f":"AE$1-R146","v":5},{"$f":"IF(S146<2,\"Yes\",\"No\")","v":"No"},{"$f":"IF(D146=\"-\",1,0)*U$1","v":1},{"$f":"AND(U146=0,U$1=1)","v":false},{"$f":"IF(F146=\"-\",1,0)*W$1","v":1},{"$f":"AND(W146=0,W$1=1)","v":false},{"$f":"IF(H146=\"-\",1,0)*Y$1","v":1},{"$f":"AND(Y146=0,Y$1=1)","v":false},{"$f":"IF(J146=\"-\",1,0)*AA$1","v":1},{"$f":"AND(AA146=0,AA$1=1)","v":false},{"$f":"IF(L146=\"-\",1,0)*AC$1","v":1},{"$f":"AND(AC146=0,AC$1=1)","v":false}]
[146,null,"-","-",{"$f":"IF(D147=\"-\",0,D147)","v":0},"-",{"$f":"IF(F147=\"-\",0,F147)","v":0},"-",{"$f":"IF(H147=\"-\",0,H147)","v":0},"-",{"$f":"IF(J147=\"-\",0,J147)","v":0},"-",{"$f":"IF(L147=\"-\",0,L147)","v":0},null,{"$f":"E147+G147+I147+K147+M147","v":0},{"$f":"MAX(D147,F147,H147,J147,L147)","v":0},{"$f":"IF(S147=1,O147,IF(S147=0,(O147-P147),\"-\"))","v":"-"},{"$f":"COUNTIF(U147:AD147,\"=TRUE\")","v":0},{"$f":"AE$1-R147","v":5},{"$f":"IF(S147<2,\"Yes\",\"No\")","v":"No"},{"$f":"IF(D147=\"-\",1,0)*U$1","v":1},{"$f":"AND(U147=0,U$1=1)","v":false},{"$f":"IF(F147=\"-\",1,0)*W$1","v":1},{"$f":"AND(W147=0,W$1=1)","v":false},{"$f":"IF(H147=\"-\",1,0)*Y$1","v":1},{"$f":"AND(Y147=0,Y$1=1)","v":false},{"$f":"IF(J147=\"-\",1,0)*AA$1","v":1},{"$f":"AND(AA147=0,AA$1=1)","v":false},{"$f":"IF(L147=\"-\",1,0)*AC$1","v":1},{"$f":"AND(AC147=0,AC$1=1)","v":false}]
[147]
[148]
[149]
[150]

{"sheet":"Inter Boys Teams","index":11,"n_rows":19,"n_cols":25,"rows_kept":19,"cut":false,"hidden":false,"merged":[[2,1,2,4],[2,5,2,8],[2,9,2,12],[2,13,2,16],[2,17,2,20]]}
[null,"Claimed Last Place",null,"Y","N","-"]
[]
["Total Finishers",{"$f":"'Inter Boys'!D2","v":26},null,null,null,{"$f":"'Inter Boys'!G2","v":35},null,null,null,{"$f":"'Inter Boys'!H2","v":27},null,null,null,{"$f":"'Inter Boys'!J2","v":23},null,null,null,{"$f":"'Inter Boys'!L2","v":22}]
["Team","Race 1 Position",null,"Race 1 Points Total","Claimed Last Place?","Race 2 Postion",null,"Race 2 Points Total","Claimed Last Place?","Race 3 Postion",null,"Race 3 Points Total","Claimed Last Place?","Race 4 Postion",null,"Race 4 Points Total","Claimed Last Place?","Race 5 Postion",null,"Race 5 Points Total","Claimed Last Place?","Number of claimed last places","Number of Races Without","Number of Races Completed","Total (All Races)"]
["Groby Community College",1,{"$f":"IF(B5=\"-\",0,B5)","v":1},28,"N",3,{"$f":"IF(F5=\"-\",0,F5)","v":3},38,"N",3,{"$f":"IF(J5=\"-\",0,J5)","v":3},46,"Y",4,{"$f":"IF(N5=\"-\",0,N5)","v":4},41,"Y","-",{"$f":"IF(R5=\"-\",0,R5)","v":0},"-","-",{"$f":"COUNTIF(B5:U5,\"Y\")","v":2},{"$f":"COUNTIF(B5:U5,\"n\")","v":2},{"$f":"V5+W5","v":4},{"$f":"C5+G5+K5+O5+S5","v":11}]
["Lutterworth College",2,{"$f":"IF(B6=\"-\",0,B6)","v":2},35,"Y",4,{"$f":"IF(F6=\"-\",0,F6)","v":4},52,"N",2,{"$f":"IF(J6=\"-\",0,J6)","v":2},34,"N",2,{"$f":"IF(N6=\"-\",0,N6)","v":2},34,"Y",1,{"$f":"IF(R6=\"-\",0,R6)","v":1},28,"N",{"$f":"COUNTIF(B6:U6,\"Y\")","v":2},{"$f":"COUNTIF(B6:U6,\"n\")","v":3},{"$f":"V6+W6","v":5},{"$f":"C6+G6+K6+O6+S6","v":11}]
["Bosworth Academy",3,3,36,"Y","-",0,"-","-","-",0,"-","-","-",0,"-","-","-",0,"-","-",1,0,1,3]
["The Martin High School",4,4,38,"N","-",0,"-","-","-",0,"-","-","-",0,"-","-",6,6,56,"Y",1,1,2,10]
["Robert Smyth Academy",5,5,46,"N",1,1,25,"N",5,5,61,"Y",3,3,35,"Y",3,3,35,"N",2,3,5,17]
["Rawlins College",6,6,52,"N",6,6,65,"N",4,4,57,"N",6,6,58,"Y","-",0,"-","-",1,3,4,22]
["Loughborough Grammar School A",7,7,53,"Y",2,2,26,"N",1,1,21,"N",1,1,17,"N",5,5,41,"N",1,4,5,16]
["Uppingham CC","-",0,"-","-",5,5,59,"Y","-",0,"-","-","-",0,"-","-","-",0,"-","-",1,0,1,5]
["Humphrey Perkins School","-",0,"-","-",7,7,77,"Y","-",0,"-","-","-",0,"-","-",2,2,32,"N",1,1,2,9]
["Loughborough Grammar School B","-",0,"-","-",7,7,77,"Y","-",0,"-","-",5,5,54,"N","-",0,"-","-",1,1,2,12]
["Dixie Grammar School","-",0,"-","-","-",0,"-","-",6,6,71,"Y","-",0,"-","-","-",0,"-","-",1,0,1,6]
["Oakham School","-",0,"-","-","-",0,"-","-","-",0,"-","-","-",0,"-","-",4,4,38,"Y",1,0,1,4]
[null,"-",0,"-","-","-",0,"-","-","-",0,"-","-","-",0,"-","-","-",0,"-","-",0,0,0,0]
[null,"-",0,"-","-","-",0,"-","-","-",0,"-","-","-",0,"-","-","-",0,"-","-",0,0,0,0]
[null,"-",{"$f":"IF(B19=\"-\",0,B19)","v":0},"-","-","-",{"$f":"IF(F19=\"-\",0,F19)","v":0},"-","-","-",{"$f":"IF(J19=\"-\",0,J19)","v":0},"-",null,"-",{"$f":"IF(N19=\"-\",0,N19)","v":0},"-","-","-",{"$f":"IF(R19=\"-\",0,R19)","v":0},"-","-",0,0,0,0]

{"sheet":"Senior Girls","index":12,"n_rows":154,"n_cols":38,"rows_kept":154,"cut":false,"hidden":false,"merged":[]}
[null,"Total Number of Runners","Race Complete (Y/N) ",{"$f":"'Year 7 Girls '!D1","v":"Y"},null,{"$f":"'Year 7 Girls '!F1","v":"Y"},null,{"$f":"'Year 7 Girls '!H1","v":"Y"},null,{"$f":"'Year 7 Girls '!J1","v":"Y"},null,"Y",null,null,null,null,null,null,null,null,{"$f":"IF(D1=\"Y\",1,0)","v":1},null,{"$f":"IF(F1=\"Y\",1,0)","v":1},null,{"$f":"IF(H1=\"Y\",1,0)","v":1},null,{"$f":"IF(J1=\"Y\",1,0)","v":1},null,{"$f":"IF(L1=\"Y\",1,0)","v":1},null,{"$f":"SUM(U1:AC1)","v":5}]
[null,{"$f":"COUNTA(B5:B300)","v":16},"No of Finishers",{"$f":"MAX(D5:D151)","v":7},{"$f":"MAX(E5:E151)","v":7},8,8,11,11,9,9,10]
[null,null,"Number of results recorded",{"$f":"COUNTIF(D5:D150,\">0\")","v":7},null,{"$f":"COUNTIF(G5:G150,\">0\")","v":8},null,11,null,9,null,10]
["Reset Column","Name","School","Race 1","Normalised result -1","Race 2","Normalised result -2","Race 3","Normalised result -3","Race 4","Normalised result -4","Race 5","Normalised result -5",null,"Total\n(All Races)","Lowest Place Finish","Final Total","Number of Races Completed","League contender?\n(No. of races - missed)","Elidgible For League Title","Competed in race 1\n0 = YES",null,"Competed in race 2\n0 = YES",null,"Competed in race 3\n0 = YES",null,"Competed in race 4\n0 = YES",null,"Competed in race 5\n0 = YES",null,null,null,null,null,null,null,null," "]
[10,"Hannah Cox","Groby CC",2,{"$f":"IF(D5=\"-\",0,D5)","v":2},"-",{"$f":"IF(F5=\"-\",0,F5)","v":0},2,{"$f":"IF(H5=\"-\",0,H5)","v":2},4,{"$f":"IF(J5=\"-\",0,J5)","v":4},1,{"$f":"IF(L5=\"-\",0,L5)","v":1},null,{"$f":"E5+G5+I5+K5+M5","v":9},{"$f":"MAX(D5,F5,H5,J5,L5)","v":4},{"$f":"IF(S5=1,O5,IF(S5=0,(O5-P5),\"-\"))","v":9},{"$f":"COUNTIF(U5:AD5,\"=TRUE\")","v":4},{"$f":"AE$1-R5","v":1},{"$f":"IF(S5<2,\"Yes\",\"No\")","v":"Yes"},{"$f":"IF(D5=\"-\",1,0)*U$1","v":0},{"$f":"AND(U5=0,U$1=1)","v":true},{"$f":"IF(F5=\"-\",1,0)*W$1","v":1},{"$f":"AND(W5=0,W$1=1)","v":false},{"$f":"IF(H5=\"-\",1,0)*Y$1","v":0},{"$f":"AND(Y5=0,Y$1=1)","v":true},{"$f":"IF(J5=\"-\",1,0)*AA$1","v":0},{"$f":"AND(AA5=0,AA$1=1)","v":true},{"$f":"IF(L5=\"-\",1,0)*AC$1","v":0},{"$f":"AND(AC5=0,AC$1=1)","v":true}]
[75,"Martha Clapp","Robert Smyth Academy",3,{"$f":"IF(D6=\"-\",0,D6)","v":3},2,{"$f":"IF(F6=\"-\",0,F6)","v":2},3,{"$f":"IF(H6=\"-\",0,H6)","v":3},"-",{"$f":"IF(J6=\"-\",0,J6)","v":0},2,{"$f":"IF(L6=\"-\",0,L6)","v":2},null,{"$f":"E6+G6+I6+K6+M6","v":10},{"$f":"MAX(D6,F6,H6,J6,L6)","v":3},{"$f":"IF(S6=1,O6,IF(S6=0,(O6-P6),\"-\"))","v":10},{"$f":"COUNTIF(U6:AD6,\"=TRUE\")","v":4},{"$f":"AE$1-R6","v":1},{"$f":"IF(S6<2,\"Yes\",\"No\")","v":"Yes"},{"$f":"IF(D6=\"-\",1,0)*U$1","v":0},{"$f":"AND(U6=0,U$1=1)","v":true},{"$f":"IF(F6=\"-\",1,0)*W$1","v":0},{"$f":"AND(W6=0,W$1=1)","v":true},{"$f":"IF(H6=\"-\",1,0)*Y$1","v":0},{"$f":"AND(Y6=0,Y$1=1)","v":true},{"$f":"IF(J6=\"-\",1,0)*AA$1","v":1},{"$f":"AND(AA6=0,AA$1=1)","v":false},{"$f":"IF(L6=\"-\",1,0)*AC$1","v":0},{"$f":"AND(AC6=0,AC$1=1)","v":true}]
[20,"Mikela Gilmore","Lutterworth College",5,{"$f":"IF(D7=\"-\",0,D7)","v":5},5,{"$f":"IF(F7=\"-\",0,F7)","v":5},6,{"$f":"IF(H7=\"-\",0,H7)","v":6},6,{"$f":"IF(J7=\"-\",0,J7)","v":6},3,{"$f":"IF(L7=\"-\",0,L7)","v":3},null,{"$f":"E7+G7+I7+K7+M7","v":25},{"$f":"MAX(D7,F7,H7,J7,L7)","v":6},{"$f":"IF(S7=1,O7,IF(S7=0,(O7-P7),\"-\"))","v":19},{"$f":"COUNTIF(U7:AD7,\"=TRUE\")","v":5},{"$f":"AE$1-R7","v":0},{"$f":"IF(S7<2,\"Yes\",\"No\")","v":"Yes"},{"$f":"IF(D7=\"-\",1,0)*U$1","v":0},{"$f":"AND(U7=0,U$1=1)","v":true},{"$f":"IF(F7=\"-\",1,0)*W$1","v":0},{"$f":"AND(W7=0,W$1=1)","v":true},{"$f":"IF(H7=\"-\",1,0)*Y$1","v":0},{"$f":"AND(Y7=0,Y$1=1)","v":true},{"$f":"IF(J7=\"-\",1,0)*AA$1","v":0},{"$f":"AND(AA7=0,AA$1=1)","v":true},{"$f":"IF(L7=\"-\",1,0)*AC$1","v":0},{"$f":"AND(AC7=0,AC$1=1)","v":true}]
[2,"Emily Hollis","Ratcliffe College","-",{"$f":"IF(D8=\"-\",0,D8)","v":0},"-",{"$f":"IF(F8=\"-\",0,F8)","v":0},5,{"$f":"IF(H8=\"-\",0,H8)","v":5},"-",{"$f":"IF(J8=\"-\",0,J8)","v":0},4,{"$f":"IF(L8=\"-\",0,L8)","v":4},null,{"$f":"E8+G8+I8+K8+M8","v":9},{"$f":"MAX(D8,F8,H8,J8,L8)","v":5},{"$f":"IF(S8=1,O8,IF(S8=0,(O8-P8),\"-\"))","v":"-"},{"$f":"COUNTIF(U8:AD8,\"=TRUE\")","v":2},{"$f":"AE$1-R8","v":3},{"$f":"IF(S8<2,\"Yes\",\"No\")","v":"No"},{"$f":"IF(D8=\"-\",1,0)*U$1","v":1},{"$f":"AND(U8=0,U$1=1)","v":false},{"$f":"IF(F8=\"-\",1,0)*W$1","v":1},{"$f":"AND(W8=0,W$1=1)","v":false},{"$f":"IF(H8=\"-\",1,0)*Y$1","v":0},{"$f":"AND(Y8=0,Y$1=1)","v":true},{"$f":"IF(J8=\"-\",1,0)*AA$1","v":1},{"$f":"AND(AA8=0,AA$1=1)","v":false},{"$f":"IF(L8=\"-\",1,0)*AC$1","v":0},{"$f":"AND(AC8=0,AC$1=1)","v":true}]
[11,"Asia Hamdorff","Oakham School","-",{"$f":"IF(D9=\"-\",0,D9)","v":0},"-",{"$f":"IF(F9=\"-\",0,F9)","v":0},"-",{"$f":"IF(H9=\"-\",0,H9)","v":0},"-",{"$f":"IF(J9=\"-\",0,J9)","v":0},5,{"$f":"IF(L9=\"-\",0,L9)","v":5},null,{"$f":"E9+G9+I9+K9+M9","v":5},{"$f":"MAX(D9,F9,H9,J9,L9)","v":5},{"$f":"IF(S9=1,O9,IF(S9=0,(O9-P9),\"-\"))","v":"-"},{"$f":"COUNTIF(U9:AD9,\"=TRUE\")","v":1},{"$f":"AE$1-R9","v":4},{"$f":"IF(S9<2,\"Yes\",\"No\")","v":"No"},{"$f":"IF(D9=\"-\",1,0)*U$1","v":1},{"$f":"AND(U9=0,U$1=1)","v":false},{"$f":"IF(F9=\"-\",1,0)*W$1","v":1},{"$f":"AND(W9=0,W$1=1)","v":false},{"$f":"IF(H9=\"-\",1,0)*Y$1","v":1},{"$f":"AND(Y9=0,Y$1=1)","v":false},{"$f":"IF(J9=\"-\",1,0)*AA$1","v":1},{"$f":"AND(AA9=0,AA$1=1)","v":false},{"$f":"IF(L9=\"-\",1,0)*AC$1","v":0},{"$f":"AND(AC9=0,AC$1=1)","v":true}]
[29,"Harriet Wright","Oakham School","-",{"$f":"IF(D10=\"-\",0,D10)","v":0},"-",{"$f":"IF(F10=\"-\",0,F10)","v":0},"-",{"$f":"IF(H10=\"-\",0,H10)","v":0},"-",{"$f":"IF(J10=\"-\",0,J10)","v":0},6,{"$f":"IF(L10=\"-\",0,L10)","v":6},null,{"$f":"E10+G10+I10+K10+M10","v":6},{"$f":"MAX(D10,F10,H10,J10,L10)","v":6},{"$f":"IF(S10=1,O10,IF(S10=0,(O10-P10),\"-\"))","v":"-"},{"$f":"COUNTIF(U10:AD10,\"=TRUE\")","v":1},{"$f":"AE$1-R10","v":4},{"$f":"IF(S10<2,\"Yes\",\"No\")","v":"No"},{"$f":"IF(D10=\"-\",1,0)*U$1","v":1},{"$f":"AND(U10=0,U$1=1)","v":false},{"$f":"IF(F10=\"-\",1,0)*W$1","v":1},{"$f":"AND(W10=0,W$1=1)","v":false},{"$f":"IF(H10=\"-\",1,0)*Y$1","v":1},{"$f":"AND(Y10=0,Y$1=1)","v":false},{"$f":"IF(J10=\"-\",1,0)*AA$1","v":1},{"$f":"AND(AA10=0,AA$1=1)","v":false},{"$f":"IF(L10=\"-\",1,0)*AC$1","v":0},{"$f":"AND(AC10=0,AC$1=1)","v":true}]
[5,"Gabrielle McNeelance","Leicester Grammar School","-",{"$f":"IF(D11=\"-\",0,D11)","v":0},4,{"$f":"IF(F11=\"-\",0,F11)","v":4},7,{"$f":"IF(H11=\"-\",0,H11)","v":7},7,{"$f":"IF(J11=\"-\",0,J11)","v":7},7,{"$f":"IF(L11=\"-\",0,L11)","v":7},null,{"$f":"E11+G11+I11+K11+M11","v":25},{"$f":"MAX(D11,F11,H11,J11,L11)","v":7},{"$f":"IF(S11=1,O11,IF(S11=0,(O11-P11),\"-\"))","v":25},{"$f":"COUNTIF(U11:AD11,\"=TRUE\")","v":4},{"$f":"AE$1-R11","v":1},{"$f":"IF(S11<2,\"Yes\",\"No\")","v":"Yes"},{"$f":"IF(D11=\"-\",1,0)*U$1","v":1},{"$f":"AND(U11=0,U$1=1)","v":false},{"$f":"IF(F11=\"-\",1,0)*W$1","v":0},{"$f":"AND(W11=0,W$1=1)","v":true},{"$f":"IF(H11=\"-\",1,0)*Y$1","v":0},{"$f":"AND(Y11=0,Y$1=1)","v":true},{"$f":"IF(J11=\"-\",1,0)*AA$1","v":0},{"$f":"AND(AA11=0,AA$1=1)","v":true},{"$f":"IF(L11=\"-\",1,0)*AC$1","v":0},{"$f":"AND(AC11=0,AC$1=1)","v":true}]
[19,"Alex Fuller","Lutterworth College",7,{"$f":"IF(D12=\"-\",0,D12)","v":7},"-",{"$f":"IF(F12=\"-\",0,F12)","v":0},10,{"$f":"IF(H12=\"-\",0,H12)","v":10},"-",{"$f":"IF(J12=\"-\",0,J12)","v":0},8,{"$f":"IF(L12=\"-\",0,L12)","v":8},null,{"$f":"E12+G12+I12+K12+M12","v":25},{"$f":"MAX(D12,F12,H12,J12,L12)","v":10},{"$f":"IF(S12=1,O12,IF(S12=0,(O12-P12),\"-\"))","v":"-"},{"$f":"COUNTIF(U12:AD12,\"=TRUE\")","v":3},{"$f":"AE$1-R12","v":2},{"$f":"IF(S12<2,\"Yes\",\"No\")","v":"No"},{"$f":"IF(D12=\"-\",1,0)*U$1","v":0},{"$f":"AND(U12=0,U$1=1)","v":true},{"$f":"IF(F12=\"-\",1,0)*W$1","v":1},{"$f":"AND(W12=0,W$1=1)","v":false},{"$f":"IF(H12=\"-\",1,0)*Y$1","v":0},{"$f":"AND(Y12=0,Y$1=1)","v":true},{"$f":"IF(J12=\"-\",1,0)*AA$1","v":1},{"$f":"AND(AA12=0,AA$1=1)","v":false},{"$f":"IF(L12=\"-\",1,0)*AC$1","v":0},{"$f":"AND(AC12=0,AC$1=1)","v":true}]
[58,"Charlie Preston","Lutterworth College",4,{"$f":"IF(D13=\"-\",0,D13)","v":4},8,{"$f":"IF(F13=\"-\",0,F13)","v":8},8,{"$f":"IF(H13=\"-\",0,H13)","v":8},8,{"$f":"IF(J13=\"-\",0,J13)","v":8},9,{"$f":"IF(L13=\"-\",0,L13)","v":9},null,{"$f":"E13+G13+I13+K13+M13","v":37},{"$f":"MAX(D13,F13,H13,J13,L13)","v":9},{"$f":"IF(S13=1,O13,IF(S13=0,(O13-P13),\"-\"))","v":28},{"$f":"COUNTIF(U13:AD13,\"=TRUE\")","v":5},{"$f":"AE$1-R13","v":0},{"$f":"IF(S13<2,\"Yes\",\"No\")","v":"Yes"},{"$f":"IF(D13=\"-\",1,0)*U$1","v":0},{"$f":"AND(U13=0,U$1=1)","v":true},{"$f":"IF(F13=\"-\",1,0)*W$1","v":0},{"$f":"AND(W13=0,W$1=1)","v":true},{"$f":"IF(H13=\"-\",1,0)*Y$1","v":0},{"$f":"AND(Y13=0,Y$1=1)","v":true},{"$f":"IF(J13=\"-\",1,0)*AA$1","v":0},{"$f":"AND(AA13=0,AA$1=1)","v":true},{"$f":"IF(L13=\"-\",1,0)*AC$1","v":0},{"$f":"AND(AC13=0,AC$1=1)","v":true}]
[1,"Victoria Preston","Lutterworth College",6,{"$f":"IF(D14=\"-\",0,D14)","v":6},"-",{"$f":"IF(F14=\"-\",0,F14)","v":0},11,{"$f":"IF(H14=\"-\",0,H14)","v":11},9,{"$f":"IF(J14=\"-\",0,J14)","v":9},10,{"$f":"IF(L14=\"-\",0,L14)","v":10},null,{"$f":"E14+G14+I14+K14+M14","v":36},{"$f":"MAX(D14,F14,H14,J14,L14)","v":11},{"$f":"IF(S14=1,O14,IF(S14=0,(O14-P14),\"-\"))","v":36},{"$f":"COUNTIF(U14:AD14,\"=TRUE\")","v":4},{"$f":"AE$1-R14","v":1},{"$f":"IF(S14<2,\"Yes\",\"No\")","v":"Yes"},{"$f":"IF(D14=\"-\",1,0)*U$1","v":0},{"$f":"AND(U14=0,U$1=1)","v":true},{"$f":"IF(F14=\"-\",1,0)*W$1","v":1},{"$f":"AND(W14=0,W$1=1)","v":false},{"$f":"IF(H14=\"-\",1,0)*Y$1","v":0},{"$f":"AND(Y14=0,Y$1=1)","v":true},{"$f":"IF(J14=\"-\",1,0)*AA$1","v":0},{"$f":"AND(AA14=0,AA$1=1)","v":true},{"$f":"IF(L14=\"-\",1,0)*AC$1","v":0},{"$f":"AND(AC14=0,AC$1=1)","v":true}]
[16,"Hannah Nuttall","Loughborough College","-",{"$f":"IF(D15=\"-\",0,D15)","v":0},"-",{"$f":"IF(F15=\"-\",0,F15)","v":0},"-",{"$f":"IF(H15=\"-\",0,H15)","v":0},1,{"$f":"IF(J15=\"-\",0,J15)","v":1},"-",{"$f":"IF(L15=\"-\",0,L15)","v":0},null,{"$f":"E15+G15+I15+K15+M15","v":1},{"$f":"MAX(D15,F15,H15,J15,L15)","v":1},{"$f":"IF(S15=1,O15,IF(S15=0,(O15-P15),\"-\"))","v":"-"},{"$f":"COUNTIF(U15:AD15,\"=TRUE\")","v":1},{"$f":"AE$1-R15","v":4},{"$f":"IF(S15<2,\"Yes\",\"No\")","v":"No"},{"$f":"IF(D15=\"-\",1,0)*U$1","v":1},{"$f":"AND(U15=0,U$1=1)","v":false},{"$f":"IF(F15=\"-\",1,0)*W$1","v":1},{"$f":"AND(W15=0,W$1=1)","v":false},{"$f":"IF(H15=\"-\",1,0)*Y$1","v":1},{"$f":"AND(Y15=0,Y$1=1)","v":false},{"$f":"IF(J15=\"-\",1,0)*AA$1","v":0},{"$f":"AND(AA15=0,AA$1=1)","v":true},{"$f":"IF(L15=\"-\",1,0)*AC$1","v":1},{"$f":"AND(AC15=0,AC$1=1)","v":false}]
[4,"Alice Daniel","Ratcliffe College","-",{"$f":"IF(D16=\"-\",0,D16)","v":0},"-",{"$f":"IF(F16=\"-\",0,F16)","v":0},"-",{"$f":"IF(H16=\"-\",0,H16)","v":0},2,{"$f":"IF(J16=\"-\",0,J16)","v":2},"-",{"$f":"IF(L16=\"-\",0,L16)","v":0},null,{"$f":"E16+G16+I16+K16+M16","v":2},{"$f":"MAX(D16,F16,H16,J16,L16)","v":2},{"$f":"IF(S16=1,O16,IF(S16=0,(O16-P16),\"-\"))","v":"-"},{"$f":"COUNTIF(U16:AD16,\"=TRUE\")","v":1},{"$f":"AE$1-R16","v":4},{"$f":"IF(S16<2,\"Yes\",\"No\")","v":"No"},{"$f":"IF(D16=\"-\",1,0)*U$1","v":1},{"$f":"AND(U16=0,U$1=1)","v":false},{"$f":"IF(F16=\"-\",1,0)*W$1","v":1},{"$f":"AND(W16=0,W$1=1)","v":false},{"$f":"IF(H16=\"-\",1,0)*Y$1","v":1},{"$f":"AND(Y16=0,Y$1=1)","v":false},{"$f":"IF(J16=\"-\",1,0)*AA$1","v":0},{"$f":"AND(AA16=0,AA$1=1)","v":true},{"$f":"IF(L16=\"-\",1,0)*AC$1","v":1},{"$f":"AND(AC16=0,AC$1=1)","v":false}]
[7,"Helena Keenan","Beauchamp College",1,{"$f":"IF(D17=\"-\",0,D17)","v":1},1,{"$f":"IF(F17=\"-\",0,F17)","v":1},1,{"$f":"IF(H17=\"-\",0,H17)","v":1},3,{"$f":"IF(J17=\"-\",0,J17)","v":3},"-",{"$f":"IF(L17=\"-\",0,L17)","v":0},null,{"$f":"E17+G17+I17+K17+M17","v":6},{"$f":"MAX(D17,F17,H17,J17,L17)","v":3},{"$f":"IF(S17=1,O17,IF(S17=0,(O17-P17),\"-\"))","v":6},{"$f":"COUNTIF(U17:AD17,\"=TRUE\")","v":4},{"$f":"AE$1-R17","v":1},{"$f":"IF(S17<2,\"Yes\",\"No\")","v":"Yes"},{"$f":"IF(D17=\"-\",1,0)*U$1","v":0},{"$f":"AND(U17=0,U$1=1)","v":true},{"$f":"IF(F17=\"-\",1,0)*W$1","v":0},{"$f":"AND(W17=0,W$1=1)","v":true},{"$f":"IF(H17=\"-\",1,0)*Y$1","v":0},{"$f":"AND(Y17=0,Y$1=1)","v":true},{"$f":"IF(J17=\"-\",1,0)*AA$1","v":0},{"$f":"AND(AA17=0,AA$1=1)","v":true},{"$f":"IF(L17=\"-\",1,0)*AC$1","v":1},{"$f":"AND(AC17=0,AC$1=1)","v":false}]
[14,"Fiona Brown","Countesthorpe CC","-",{"$f":"IF(D18=\"-\",0,D18)","v":0},7,{"$f":"IF(F18=\"-\",0,F18)","v":7},9,{"$f":"IF(H18=\"-\",0,H18)","v":9},5,{"$f":"IF(J18=\"-\",0,J18)","v":5},"-",{"$f":"IF(L18=\"-\",0,L18)","v":0},null,{"$f":"E18+G18+I18+K18+M18","v":21},{"$f":"MAX(D18,F18,H18,J18,L18)","v":9},{"$f":"IF(S18=1,O18,IF(S18=0,(O18-P18),\"-\"))","v":"-"},{"$f":"COUNTIF(U18:AD18,\"=TRUE\")","v":3},{"$f":"AE$1-R18","v":2},{"$f":"IF(S18<2,\"Yes\",\"No\")","v":"No"},{"$f":"IF(D18=\"-\",1,0)*U$1","v":1},{"$f":"AND(U18=0,U$1=1)","v":false},{"$f":"IF(F18=\"-\",1,0)*W$1","v":0},{"$f":"AND(W18=0,W$1=1)","v":true},{"$f":"IF(H18=\"-\",1,0)*Y$1","v":0},{"$f":"AND(Y18=0,Y$1=1)","v":true},{"$f":"IF(J18=\"-\",1,0)*AA$1","v":0},{"$f":"AND(AA18=0,AA$1=1)","v":true},{"$f":"IF(L18=\"-\",1,0)*AC$1","v":1},{"$f":"AND(AC18=0,AC$1=1)","v":false}]
[78,"Beth Ellis","Robert Smyth Academy","-",{"$f":"IF(D19=\"-\",0,D19)","v":0},3,{"$f":"IF(F19=\"-\",0,F19)","v":3},4,{"$f":"IF(H19=\"-\",0,H19)","v":4},"-",{"$f":"IF(J19=\"-\",0,J19)","v":0},"-",{"$f":"IF(L19=\"-\",0,L19)","v":0},null,{"$f":"E19+G19+I19+K19+M19","v":7},{"$f":"MAX(D19,F19,H19,J19,L19)","v":4},{"$f":"IF(S19=1,O19,IF(S19=0,(O19-P19),\"-\"))","v":"-"},{"$f":"COUNTIF(U19:AD19,\"=TRUE\")","v":2},{"$f":"AE$1-R19","v":3},{"$f":"IF(S19<2,\"Yes\",\"No\")","v":"No"},{"$f":"IF(D19=\"-\",1,0)*U$1","v":1},{"$f":"AND(U19=0,U$1=1)","v":false},{"$f":"IF(F19=\"-\",1,0)*W$1","v":0},{"$f":"AND(W19=0,W$1=1)","v":true},{"$f":"IF(H19=\"-\",1,0)*Y$1","v":0},{"$f":"AND(Y19=0,Y$1=1)","v":true},{"$f":"IF(J19=\"-\",1,0)*AA$1","v":1},{"$f":"AND(AA19=0,AA$1=1)","v":false},{"$f":"IF(L19=\"-\",1,0)*AC$1","v":1},{"$f":"AND(AC19=0,AC$1=1)","v":false}]
[8,"Abi Coleman","Robert Smyth Academy","-",{"$f":"IF(D20=\"-\",0,D20)","v":0},6,{"$f":"IF(F20=\"-\",0,F20)","v":6},"-",{"$f":"IF(H20=\"-\",0,H20)","v":0},"-",{"$f":"IF(J20=\"-\",0,J20)","v":0},"-",{"$f":"IF(L20=\"-\",0,L20)","v":0},null,{"$f":"E20+G20+I20+K20+M20","v":6},{"$f":"MAX(D20,F20,H20,J20,L20)","v":6},{"$f":"IF(S20=1,O20,IF(S20=0,(O20-P20),\"-\"))","v":"-"},{"$f":"COUNTIF(U20:AD20,\"=TRUE\")","v":1},{"$f":"AE$1-R20","v":4},{"$f":"IF(S20<2,\"Yes\",\"No\")","v":"No"},{"$f":"IF(D20=\"-\",1,0)*U$1","v":1},{"$f":"AND(U20=0,U$1=1)","v":false},{"$f":"IF(F20=\"-\",1,0)*W$1","v":0},{"$f":"AND(W20=0,W$1=1)","v":true},{"$f":"IF(H20=\"-\",1,0)*Y$1","v":1},{"$f":"AND(Y20=0,Y$1=1)","v":false},{"$f":"IF(J20=\"-\",1,0)*AA$1","v":1},{"$f":"AND(AA20=0,AA$1=1)","v":false},{"$f":"IF(L20=\"-\",1,0)*AC$1","v":1},{"$f":"AND(AC20=0,AC$1=1)","v":false}]
[76,null,"-","-",{"$f":"IF(D21=\"-\",0,D21)","v":0},"-",{"$f":"IF(F21=\"-\",0,F21)","v":0},"-",{"$f":"IF(H21=\"-\",0,H21)","v":0},"-",{"$f":"IF(J21=\"-\",0,J21)","v":0},"-",{"$f":"IF(L21=\"-\",0,L21)","v":0},null,{"$f":"E21+G21+I21+K21+M21","v":0},{"$f":"MAX(D21,F21,H21,J21,L21)","v":0},{"$f":"IF(S21=1,O21,IF(S21=0,(O21-P21),\"-\"))","v":"-"},{"$f":"COUNTIF(U21:AD21,\"=TRUE\")","v":0},{"$f":"AE$1-R21","v":5},{"$f":"IF(S21<2,\"Yes\",\"No\")","v":"No"},{"$f":"IF(D21=\"-\",1,0)*U$1","v":1},{"$f":"AND(U21=0,U$1=1)","v":false},{"$f":"IF(F21=\"-\",1,0)*W$1","v":1},{"$f":"AND(W21=0,W$1=1)","v":false},{"$f":"IF(H21=\"-\",1,0)*Y$1","v":1},{"$f":"AND(Y21=0,Y$1=1)","v":false},{"$f":"IF(J21=\"-\",1,0)*AA$1","v":1},{"$f":"AND(AA21=0,AA$1=1)","v":false},{"$f":"IF(L21=\"-\",1,0)*AC$1","v":1},{"$f":"AND(AC21=0,AC$1=1)","v":false}]
[63,null,"-","-",{"$f":"IF(D22=\"-\",0,D22)","v":0},"-",{"$f":"IF(F22=\"-\",0,F22)","v":0},"-",{"$f":"IF(H22=\"-\",0,H22)","v":0},"-",{"$f":"IF(J22=\"-\",0,J22)","v":0},"-",{"$f":"IF(L22=\"-\",0,L22)","v":0},null,{"$f":"E22+G22+I22+K22+M22","v":0},{"$f":"MAX(D22,F22,H22,J22,L22)","v":0},{"$f":"IF(S22=1,O22,IF(S22=0,(O22-P22),\"-\"))","v":"-"},{"$f":"COUNTIF(U22:AD22,\"=TRUE\")","v":0},{"$f":"AE$1-R22","v":5},{"$f":"IF(S22<2,\"Yes\",\"No\")","v":"No"},{"$f":"IF(D22=\"-\",1,0)*U$1","v":1},{"$f":"AND(U22=0,U$1=1)","v":false},{"$f":"IF(F22=\"-\",1,0)*W$1","v":1},{"$f":"AND(W22=0,W$1=1)","v":false},{"$f":"IF(H22=\"-\",1,0)*Y$1","v":1},{"$f":"AND(Y22=0,Y$1=1)","v":false},{"$f":"IF(J22=\"-\",1,0)*AA$1","v":1},{"$f":"AND(AA22=0,AA$1=1)","v":false},{"$f":"IF(L22=\"-\",1,0)*AC$1","v":1},{"$f":"AND(AC22=0,AC$1=1)","v":false}]
[13,null,"-","-",{"$f":"IF(D23=\"-\",0,D23)","v":0},"-",{"$f":"IF(F23=\"-\",0,F23)","v":0},"-",{"$f":"IF(H23=\"-\",0,H23)","v":0},"-",{"$f":"IF(J23=\"-\",0,J23)","v":0},"-",{"$f":"IF(L23=\"-\",0,L23)","v":0},null,{"$f":"E23+G23+I23+K23+M23","v":0},{"$f":"MAX(D23,F23,H23,J23,L23)","v":0},{"$f":"IF(S23=1,O23,IF(S23=0,(O23-P23),\"-\"))","v":"-"},{"$f":"COUNTIF(U23:AD23,\"=TRUE\")","v":0},{"$f":"AE$1-R23","v":5},{"$f":"IF(S23<2,\"Yes\",\"No\")","v":"No"},{"$f":"IF(D23=\"-\",1,0)*U$1","v":1},{"$f":"AND(U23=0,U$1=1)","v":false},{"$f":"IF(F23=\"-\",1,0)*W$1","v":1},{"$f":"AND(W23=0,W$1=1)","v":false},{"$f":"IF(H23=\"-\",1,0)*Y$1","v":1},{"$f":"AND(Y23=0,Y$1=1)","v":false},{"$f":"IF(J23=\"-\",1,0)*AA$1","v":1},{"$f":"AND(AA23=0,AA$1=1)","v":false},{"$f":"IF(L23=\"-\",1,0)*AC$1","v":1},{"$f":"AND(AC23=0,AC$1=1)","v":false}]
[77,null,"-","-",{"$f":"IF(D24=\"-\",0,D24)","v":0},"-",{"$f":"IF(F24=\"-\",0,F24)","v":0},"-",{"$f":"IF(H24=\"-\",0,H24)","v":0},"-",{"$f":"IF(J24=\"-\",0,J24)","v":0},"-",{"$f":"IF(L24=\"-\",0,L24)","v":0},null,{"$f":"E24+G24+I24+K24+M24","v":0},{"$f":"MAX(D24,F24,H24,J24,L24)","v":0},{"$f":"IF(S24=1,O24,IF(S24=0,(O24-P24),\"-\"))","v":"-"},{"$f":"COUNTIF(U24:AD24,\"=TRUE\")","v":0},{"$f":"AE$1-R24","v":5},{"$f":"IF(S24<2,\"Yes\",\"No\")","v":"No"},{"$f":"IF(D24=\"-\",1,0)*U$1","v":1},{"$f":"AND(U24=0,U$1=1)","v":false},{"$f":"IF(F24=\"-\",1,0)*W$1","v":1},{"$f":"AND(W24=0,W$1=1)","v":false},{"$f":"IF(H24=\"-\",1,0)*Y$1","v":1},{"$f":"AND(Y24=0,Y$1=1)","v":false},{"$f":"IF(J24=\"-\",1,0)*AA$1","v":1},{"$f":"AND(AA24=0,AA$1=1)","v":false},{"$f":"IF(L24=\"-\",1,0)*AC$1","v":1},{"$f":"AND(AC24=0,AC$1=1)","v":false}]
[17,null,"-","-",{"$f":"IF(D25=\"-\",0,D25)","v":0},"-",{"$f":"IF(F25=\"-\",0,F25)","v":0},"-",{"$f":"IF(H25=\"-\",0,H25)","v":0},"-",{"$f":"IF(J25=\"-\",0,J25)","v":0},"-",{"$f":"IF(L25=\"-\",0,L25)","v":0},null,{"$f":"E25+G25+I25+K25+M25","v":0},{"$f":"MAX(D25,F25,H25,J25,L25)","v":0},{"$f":"IF(S25=1,O25,IF(S25=0,(O25-P25),\"-\"))","v":"-"},{"$f":"COUNTIF(U25:AD25,\"=TRUE\")","v":0},{"$f":"AE$1-R25","v":5},{"$f":"IF(S25<2,\"Yes\",\"No\")","v":"No"},{"$f":"IF(D25=\"-\",1,0)*U$1","v":1},{"$f":"AND(U25=0,U$1=1)","v":false},{"$f":"IF(F25=\"-\",1,0)*W$1","v":1},{"$f":"AND(W25=0,W$1=1)","v":false},{"$f":"IF(H25=\"-\",1,0)*Y$1","v":1},{"$f":"AND(Y25=0,Y$1=1)","v":false},{"$f":"IF(J25=\"-\",1,0)*AA$1","v":1},{"$f":"AND(AA25=0,AA$1=1)","v":false},{"$f":"IF(L25=\"-\",1,0)*AC$1","v":1},{"$f":"AND(AC25=0,AC$1=1)","v":false}]
[62,null,"-","-",{"$f":"IF(D26=\"-\",0,D26)","v":0},"-",{"$f":"IF(F26=\"-\",0,F26)","v":0},"-",{"$f":"IF(H26=\"-\",0,H26)","v":0},"-",{"$f":"IF(J26=\"-\",0,J26)","v":0},"-",{"$f":"IF(L26=\"-\",0,L26)","v":0},null,{"$f":"E26+G26+I26+K26+M26","v":0},{"$f":"MAX(D26,F26,H26,J26,L26)","v":0},{"$f":"IF(S26=1,O26,IF(S26=0,(O26-P26),\"-\"))","v":"-"},{"$f":"COUNTIF(U26:AD26,\"=TRUE\")","v":0},{"$f":"AE$1-R26","v":5},{"$f":"IF(S26<2,\"Yes\",\"No\")","v":"No"},{"$f":"IF(D26=\"-\",1,0)*U$1","v":1},{"$f":"AND(U26=0,U$1=1)","v":false},{"$f":"IF(F26=\"-\",1,0)*W$1","v":1},{"$f":"AND(W26=0,W$1=1)","v":false},{"$f":"IF(H26=\"-\",1,0)*Y$1","v":1},{"$f":"AND(Y26=0,Y$1=1)","v":false},{"$f":"IF(J26=\"-\",1,0)*AA$1","v":1},{"$f":"AND(AA26=0,AA$1=1)","v":false},{"$f":"IF(L26=\"-\",1,0)*AC$1","v":1},{"$f":"AND(AC26=0,AC$1=1)","v":false}]
[44,null,"-","-",{"$f":"IF(D27=\"-\",0,D27)","v":0},"-",{"$f":"IF(F27=\"-\",0,F27)","v":0},"-",{"$f":"IF(H27=\"-\",0,H27)","v":0},"-",{"$f":"IF(J27=\"-\",0,J27)","v":0},"-",{"$f":"IF(L27=\"-\",0,L27)","v":0},null,{"$f":"E27+G27+I27+K27+M27","v":0},{"$f":"MAX(D27,F27,H27,J27,L27)","v":0},{"$f":"IF(S27=1,O27,IF(S27=0,(O27-P27),\"-\"))","v":"-"},{"$f":"COUNTIF(U27:AD27,\"=TRUE\")","v":0},{"$f":"AE$1-R27","v":5},{"$f":"IF(S27<2,\"Yes\",\"No\")","v":"No"},{"$f":"IF(D27=\"-\",1,0)*U$1","v":1},{"$f":"AND(U27=0,U$1=1)","v":false},{"$f":"IF(F27=\"-\",1,0)*W$1","v":1},{"$f":"AND(W27=0,W$1=1)","v":false},{"$f":"IF(H27=\"-\",1,0)*Y$1","v":1},{"$f":"AND(Y27=0,Y$1=1)","v":false},{"$f":"IF(J27=\"-\",1,0)*AA$1","v":1},{"$f":"AND(AA27=0,AA$1=1)","v":false},{"$f":"IF(L27=\"-\",1,0)*AC$1","v":1},{"$f":"AND(AC27=0,AC$1=1)","v":false}]
[65,null,"-","-",{"$f":"IF(D28=\"-\",0,D28)","v":0},"-",{"$f":"IF(F28=\"-\",0,F28)","v":0},"-",{"$f":"IF(H28=\"-\",0,H28)","v":0},"-",{"$f":"IF(J28=\"-\",0,J28)","v":0},"-",{"$f":"IF(L28=\"-\",0,L28)","v":0},null,{"$f":"E28+G28+I28+K28+M28","v":0},{"$f":"MAX(D28,F28,H28,J28,L28)","v":0},{"$f":"IF(S28=1,O28,IF(S28=0,(O28-P28),\"-\"))","v":"-"},{"$f":"COUNTIF(U28:AD28,\"=TRUE\")","v":0},{"$f":"AE$1-R28","v":5},{"$f":"IF(S28<2,\"Yes\",\"No\")","v":"No"},{"$f":"IF(D28=\"-\",1,0)*U$1","v":1},{"$f":"AND(U28=0,U$1=1)","v":false},{"$f":"IF(F28=\"-\",1,0)*W$1","v":1},{"$f":"AND(W28=0,W$1=1)","v":false},{"$f":"IF(H28=\"-\",1,0)*Y$1","v":1},{"$f":"AND(Y28=0,Y$1=1)","v":false},{"$f":"IF(J28=\"-\",1,0)*AA$1","v":1},{"$f":"AND(AA28=0,AA$1=1)","v":false},{"$f":"IF(L28=\"-\",1,0)*AC$1","v":1},{"$f":"AND(AC28=0,AC$1=1)","v":false}]
[24,null,"-","-",{"$f":"IF(D29=\"-\",0,D29)","v":0},"-",{"$f":"IF(F29=\"-\",0,F29)","v":0},"-",{"$f":"IF(H29=\"-\",0,H29)","v":0},"-",{"$f":"IF(J29=\"-\",0,J29)","v":0},"-",{"$f":"IF(L29=\"-\",0,L29)","v":0},null,{"$f":"E29+G29+I29+K29+M29","v":0},{"$f":"MAX(D29,F29,H29,J29,L29)","v":0},{"$f":"IF(S29=1,O29,IF(S29=0,(O29-P29),\"-\"))","v":"-"},{"$f":"COUNTIF(U29:AD29,\"=TRUE\")","v":0},{"$f":"AE$1-R29","v":5},{"$f":"IF(S29<2,\"Yes\",\"No\")","v":"No"},{"$f":"IF(D29=\"-\",1,0)*U$1","v":1},{"$f":"AND(U29=0,U$1=1)","v":false},{"$f":"IF(F29=\"-\",1,0)*W$1","v":1},{"$f":"AND(W29=0,W$1=1)","v":false},{"$f":"IF(H29=\"-\",1,0)*Y$1","v":1},{"$f":"AND(Y29=0,Y$1=1)","v":false},{"$f":"IF(J29=\"-\",1,0)*AA$1","v":1},{"$f":"AND(AA29=0,AA$1=1)","v":false},{"$f":"IF(L29=\"-\",1,0)*AC$1","v":1},{"$f":"AND(AC29=0,AC$1=1)","v":false}]
[45,null,"-","-",{"$f":"IF(D30=\"-\",0,D30)","v":0},"-",{"$f":"IF(F30=\"-\",0,F30)","v":0},"-",{"$f":"IF(H30=\"-\",0,H30)","v":0},"-",{"$f":"IF(J30=\"-\",0,J30)","v":0},"-",{"$f":"IF(L30=\"-\",0,L30)","v":0},null,{"$f":"E30+G30+I30+K30+M30","v":0},{"$f":"MAX(D30,F30,H30,J30,L30)","v":0},{"$f":"IF(S30=1,O30,IF(S30=0,(O30-P30),\"-\"))","v":"-"},{"$f":"COUNTIF(U30:AD30,\"=TRUE\")","v":0},{"$f":"AE$1-R30","v":5},{"$f":"IF(S30<2,\"Yes\",\"No\")","v":"No"},{"$f":"IF(D30=\"-\",1,0)*U$1","v":1},{"$f":"AND(U30=0,U$1=1)","v":false},{"$f":"IF(F30=\"-\",1,0)*W$1","v":1},{"$f":"AND(W30=0,W$1=1)","v":false},{"$f":"IF(H30=\"-\",1,0)*Y$1","v":1},{"$f":"AND(Y30=0,Y$1=1)","v":false},{"$f":"IF(J30=\"-\",1,0)*AA$1","v":1},{"$f":"AND(AA30=0,AA$1=1)","v":false},{"$f":"IF(L30=\"-\",1,0)*AC$1","v":1},{"$f":"AND(AC30=0,AC$1=1)","v":false}]
[69,null,"-","-",{"$f":"IF(D31=\"-\",0,D31)","v":0},"-",{"$f":"IF(F31=\"-\",0,F31)","v":0},"-",{"$f":"IF(H31=\"-\",0,H31)","v":0},"-",{"$f":"IF(J31=\"-\",0,J31)","v":0},"-",{"$f":"IF(L31=\"-\",0,L31)","v":0},null,{"$f":"E31+G31+I31+K31+M31","v":0},{"$f":"MAX(D31,F31,H31,J31,L31)","v":0},{"$f":"IF(S31=1,O31,IF(S31=0,(O31-P31),\"-\"))","v":"-"},{"$f":"COUNTIF(U31:AD31,\"=TRUE\")","v":0},{"$f":"AE$1-R31","v":5},{"$f":"IF(S31<2,\"Yes\",\"No\")","v":"No"},{"$f":"IF(D31=\"-\",1,0)*U$1","v":1},{"$f":"AND(U31=0,U$1=1)","v":false},{"$f":"IF(F31=\"-\",1,0)*W$1","v":1},{"$f":"AND(W31=0,W$1=1)","v":false},{"$f":"IF(H31=\"-\",1,0)*Y$1","v":1},{"$f":"AND(Y31=0,Y$1=1)","v":false},{"$f":"IF(J31=\"-\",1,0)*AA$1","v":1},{"$f":"AND(AA31=0,AA$1=1)","v":false},{"$f":"IF(L31=\"-\",1,0)*AC$1","v":1},{"$f":"AND(AC31=0,AC$1=1)","v":false}]
[28,null,"-","-",{"$f":"IF(D32=\"-\",0,D32)","v":0},"-",{"$f":"IF(F32=\"-\",0,F32)","v":0},"-",{"$f":"IF(H32=\"-\",0,H32)","v":0},"-",{"$f":"IF(J32=\"-\",0,J32)","v":0},"-",{"$f":"IF(L32=\"-\",0,L32)","v":0},null,{"$f":"E32+G32+I32+K32+M32","v":0},{"$f":"MAX(D32,F32,H32,J32,L32)","v":0},{"$f":"IF(S32=1,O32,IF(S32=0,(O32-P32),\"-\"))","v":"-"},{"$f":"COUNTIF(U32:AD32,\"=TRUE\")","v":0},{"$f":"AE$1-R32","v":5},{"$f":"IF(S32<2,\"Yes\",\"No\")","v":"No"},{"$f":"IF(D32=\"-\",1,0)*U$1","v":1},{"$f":"AND(U32=0,U$1=1)","v":false},{"$f":"IF(F32=\"-\",1,0)*W$1","v":1},{"$f":"AND(W32=0,W$1=1)","v":false},{"$f":"IF(H32=\"-\",1,0)*Y$1","v":1},{"$f":"AND(Y32=0,Y$1=1)","v":false},{"$f":"IF(J32=\"-\",1,0)*AA$1","v":1},{"$f":"AND(AA32=0,AA$1=1)","v":false},{"$f":"IF(L32=\"-\",1,0)*AC$1","v":1},{"$f":"AND(AC32=0,AC$1=1)","v":false}]
[22,null,"-","-",{"$f":"IF(D33=\"-\",0,D33)","v":0},"-",{"$f":"IF(F33=\"-\",0,F33)","v":0},"-",{"$f":"IF(H33=\"-\",0,H33)","v":0},"-",{"$f":"IF(J33=\"-\",0,J33)","v":0},"-",{"$f":"IF(L33=\"-\",0,L33)","v":0},null,{"$f":"E33+G33+I33+K33+M33","v":0},{"$f":"MAX(D33,F33,H33,J33,L33)","v":0},{"$f":"IF(S33=1,O33,IF(S33=0,(O33-P33),\"-\"))","v":"-"},{"$f":"COUNTIF(U33:AD33,\"=TRUE\")","v":0},{"$f":"AE$1-R33","v":5},{"$f":"IF(S33<2,\"Yes\",\"No\")","v":"No"},{"$f":"IF(D33=\"-\",1,0)*U$1","v":1},{"$f":"AND(U33=0,U$1=1)","v":false},{"$f":"IF(F33=\"-\",1,0)*W$1","v":1},{"$f":"AND(W33=0,W$1=1)","v":false},{"$f":"IF(H33=\"-\",1,0)*Y$1","v":1},{"$f":"AND(Y33=0,Y$1=1)","v":false},{"$f":"IF(J33=\"-\",1,0)*AA$1","v":1},{"$f":"AND(AA33=0,AA$1=1)","v":false},{"$f":"IF(L33=\"-\",1,0)*AC$1","v":1},{"$f":"AND(AC33=0,AC$1=1)","v":false}]
[74,null,"-","-",{"$f":"IF(D34=\"-\",0,D34)","v":0},"-",{"$f":"IF(F34=\"-\",0,F34)","v":0},"-",{"$f":"IF(H34=\"-\",0,H34)","v":0},"-",{"$f":"IF(J34=\"-\",0,J34)","v":0},"-",{"$f":"IF(L34=\"-\",0,L34)","v":0},null,{"$f":"E34+G34+I34+K34+M34","v":0},{"$f":"MAX(D34,F34,H34,J34,L34)","v":0},{"$f":"IF(S34=1,O34,IF(S34=0,(O34-P34),\"-\"))","v":"-"},{"$f":"COUNTIF(U34:AD34,\"=TRUE\")","v":0},{"$f":"AE$1-R34","v":5},{"$f":"IF(S34<2,\"Yes\",\"No\")","v":"No"},{"$f":"IF(D34=\"-\",1,0)*U$1","v":1},{"$f":"AND(U34=0,U$1=1)","v":false},{"$f":"IF(F34=\"-\",1,0)*W$1","v":1},{"$f":"AND(W34=0,W$1=1)","v":false},{"$f":"IF(H34=\"-\",1,0)*Y$1","v":1},{"$f":"AND(Y34=0,Y$1=1)","v":false},{"$f":"IF(J34=\"-\",1,0)*AA$1","v":1},{"$f":"AND(AA34=0,AA$1=1)","v":false},{"$f":"IF(L34=\"-\",1,0)*AC$1","v":1},{"$f":"AND(AC34=0,AC$1=1)","v":false}]
[79,null,"-","-",{"$f":"IF(D35=\"-\",0,D35)","v":0},"-",{"$f":"IF(F35=\"-\",0,F35)","v":0},"-",{"$f":"IF(H35=\"-\",0,H35)","v":0},"-",{"$f":"IF(J35=\"-\",0,J35)","v":0},"-",{"$f":"IF(L35=\"-\",0,L35)","v":0},null,{"$f":"E35+G35+I35+K35+M35","v":0},{"$f":"MAX(D35,F35,H35,J35,L35)","v":0},{"$f":"IF(S35=1,O35,IF(S35=0,(O35-P35),\"-\"))","v":"-"},{"$f":"COUNTIF(U35:AD35,\"=TRUE\")","v":0},{"$f":"AE$1-R35","v":5},{"$f":"IF(S35<2,\"Yes\",\"No\")","v":"No"},{"$f":"IF(D35=\"-\",1,0)*U$1","v":1},{"$f":"AND(U35=0,U$1=1)","v":false},{"$f":"IF(F35=\"-\",1,0)*W$1","v":1},{"$f":"AND(W35=0,W$1=1)","v":false},{"$f":"IF(H35=\"-\",1,0)*Y$1","v":1},{"$f":"AND(Y35=0,Y$1=1)","v":false},{"$f":"IF(J35=\"-\",1,0)*AA$1","v":1},{"$f":"AND(AA35=0,AA$1=1)","v":false},{"$f":"IF(L35=\"-\",1,0)*AC$1","v":1},{"$f":"AND(AC35=0,AC$1=1)","v":false}]
[34,null,"-","-",{"$f":"IF(D36=\"-\",0,D36)","v":0},"-",{"$f":"IF(F36=\"-\",0,F36)","v":0},"-",{"$f":"IF(H36=\"-\",0,H36)","v":0},"-",{"$f":"IF(J36=\"-\",0,J36)","v":0},"-",{"$f":"IF(L36=\"-\",0,L36)","v":0},null,{"$f":"E36+G36+I36+K36+M36","v":0},{"$f":"MAX(D36,F36,H36,J36,L36)","v":0},{"$f":"IF(S36=1,O36,IF(S36=0,(O36-P36),\"-\"))","v":"-"},{"$f":"COUNTIF(U36:AD36,\"=TRUE\")","v":0},{"$f":"AE$1-R36","v":5},{"$f":"IF(S36<2,\"Yes\",\"No\")","v":"No"},{"$f":"IF(D36=\"-\",1,0)*U$1","v":1},{"$f":"AND(U36=0,U$1=1)","v":false},{"$f":"IF(F36=\"-\",1,0)*W$1","v":1},{"$f":"AND(W36=0,W$1=1)","v":false},{"$f":"IF(H36=\"-\",1,0)*Y$1","v":1},{"$f":"AND(Y36=0,Y$1=1)","v":false},{"$f":"IF(J36=\"-\",1,0)*AA$1","v":1},{"$f":"AND(AA36=0,AA$1=1)","v":false},{"$f":"IF(L36=\"-\",1,0)*AC$1","v":1},{"$f":"AND(AC36=0,AC$1=1)","v":false}]
[70,null,"-","-",{"$f":"IF(D37=\"-\",0,D37)","v":0},"-",{"$f":"IF(F37=\"-\",0,F37)","v":0},"-",{"$f":"IF(H37=\"-\",0,H37)","v":0},"-",{"$f":"IF(J37=\"-\",0,J37)","v":0},"-",{"$f":"IF(L37=\"-\",0,L37)","v":0},null,{"$f":"E37+G37+I37+K37+M37","v":0},{"$f":"MAX(D37,F37,H37,J37,L37)","v":0},{"$f":"IF(S37=1,O37,IF(S37=0,(O37-P37),\"-\"))","v":"-"},{"$f":"COUNTIF(U37:AD37,\"=TRUE\")","v":0},{"$f":"AE$1-R37","v":5},{"$f":"IF(S37<2,\"Yes\",\"No\")","v":"No"},{"$f":"IF(D37=\"-\",1,0)*U$1","v":1},{"$f":"AND(U37=0,U$1=1)","v":false},{"$f":"IF(F37=\"-\",1,0)*W$1","v":1},{"$f":"AND(W37=0,W$1=1)","v":false},{"$f":"IF(H37=\"-\",1,0)*Y$1","v":1},{"$f":"AND(Y37=0,Y$1=1)","v":false},{"$f":"IF(J37=\"-\",1,0)*AA$1","v":1},{"$f":"AND(AA37=0,AA$1=1)","v":false},{"$f":"IF(L37=\"-\",1,0)*AC$1","v":1},{"$f":"AND(AC37=0,AC$1=1)","v":false}]
[68,null,"-","-",{"$f":"IF(D38=\"-\",0,D38)","v":0},"-",{"$f":"IF(F38=\"-\",0,F38)","v":0},"-",{"$f":"IF(H38=\"-\",0,H38)","v":0},"-",{"$f":"IF(J38=\"-\",0,J38)","v":0},"-",{"$f":"IF(L38=\"-\",0,L38)","v":0},null,{"$f":"E38+G38+I38+K38+M38","v":0},{"$f":"MAX(D38,F38,H38,J38,L38)","v":0},{"$f":"IF(S38=1,O38,IF(S38=0,(O38-P38),\"-\"))","v":"-"},{"$f":"COUNTIF(U38:AD38,\"=TRUE\")","v":0},{"$f":"AE$1-R38","v":5},{"$f":"IF(S38<2,\"Yes\",\"No\")","v":"No"},{"$f":"IF(D38=\"-\",1,0)*U$1","v":1},{"$f":"AND(U38=0,U$1=1)","v":false},{"$f":"IF(F38=\"-\",1,0)*W$1","v":1},{"$f":"AND(W38=0,W$1=1)","v":false},{"$f":"IF(H38=\"-\",1,0)*Y$1","v":1},{"$f":"AND(Y38=0,Y$1=1)","v":false},{"$f":"IF(J38=\"-\",1,0)*AA$1","v":1},{"$f":"AND(AA38=0,AA$1=1)","v":false},{"$f":"IF(L38=\"-\",1,0)*AC$1","v":1},{"$f":"AND(AC38=0,AC$1=1)","v":false}]
[66,null,"-","-",{"$f":"IF(D39=\"-\",0,D39)","v":0},"-",{"$f":"IF(F39=\"-\",0,F39)","v":0},"-",{"$f":"IF(H39=\"-\",0,H39)","v":0},"-",{"$f":"IF(J39=\"-\",0,J39)","v":0},"-",{"$f":"IF(L39=\"-\",0,L39)","v":0},null,{"$f":"E39+G39+I39+K39+M39","v":0},{"$f":"MAX(D39,F39,H39,J39,L39)","v":0},{"$f":"IF(S39=1,O39,IF(S39=0,(O39-P39),\"-\"))","v":"-"},{"$f":"COUNTIF(U39:AD39,\"=TRUE\")","v":0},{"$f":"AE$1-R39","v":5},{"$f":"IF(S39<2,\"Yes\",\"No\")","v":"No"},{"$f":"IF(D39=\"-\",1,0)*U$1","v":1},{"$f":"AND(U39=0,U$1=1)","v":false},{"$f":"IF(F39=\"-\",1,0)*W$1","v":1},{"$f":"AND(W39=0,W$1=1)","v":false},{"$f":"IF(H39=\"-\",1,0)*Y$1","v":1},{"$f":"AND(Y39=0,Y$1=1)","v":false},{"$f":"IF(J39=\"-\",1,0)*AA$1","v":1},{"$f":"AND(AA39=0,AA$1=1)","v":false},{"$f":"IF(L39=\"-\",1,0)*AC$1","v":1},{"$f":"AND(AC39=0,AC$1=1)","v":false}]
[40,null,"-","-",{"$f":"IF(D40=\"-\",0,D40)","v":0},"-",{"$f":"IF(F40=\"-\",0,F40)","v":0},"-",{"$f":"IF(H40=\"-\",0,H40)","v":0},"-",{"$f":"IF(J40=\"-\",0,J40)","v":0},"-",{"$f":"IF(L40=\"-\",0,L40)","v":0},null,{"$f":"E40+G40+I40+K40+M40","v":0},{"$f":"MAX(D40,F40,H40,J40,L40)","v":0},{"$f":"IF(S40=1,O40,IF(S40=0,(O40-P40),\"-\"))","v":"-"},{"$f":"COUNTIF(U40:AD40,\"=TRUE\")","v":0},{"$f":"AE$1-R40","v":5},{"$f":"IF(S40<2,\"Yes\",\"No\")","v":"No"},{"$f":"IF(D40=\"-\",1,0)*U$1","v":1},{"$f":"AND(U40=0,U$1=1)","v":false},{"$f":"IF(F40=\"-\",1,0)*W$1","v":1},{"$f":"AND(W40=0,W$1=1)","v":false},{"$f":"IF(H40=\"-\",1,0)*Y$1","v":1},{"$f":"AND(Y40=0,Y$1=1)","v":false},{"$f":"IF(J40=\"-\",1,0)*AA$1","v":1},{"$f":"AND(AA40=0,AA$1=1)","v":false},{"$f":"IF(L40=\"-\",1,0)*AC$1","v":1},{"$f":"AND(AC40=0,AC$1=1)","v":false}]
[80,null,"-","-",{"$f":"IF(D41=\"-\",0,D41)","v":0},"-",{"$f":"IF(F41=\"-\",0,F41)","v":0},"-",{"$f":"IF(H41=\"-\",0,H41)","v":0},"-",{"$f":"IF(J41=\"-\",0,J41)","v":0},"-",{"$f":"IF(L41=\"-\",0,L41)","v":0},null,{"$f":"E41+G41+I41+K41+M41","v":0},{"$f":"MAX(D41,F41,H41,J41,L41)","v":0},{"$f":"IF(S41=1,O41,IF(S41=0,(O41-P41),\"-\"))","v":"-"},{"$f":"COUNTIF(U41:AD41,\"=TRUE\")","v":0},{"$f":"AE$1-R41","v":5},{"$f":"IF(S41<2,\"Yes\",\"No\")","v":"No"},{"$f":"IF(D41=\"-\",1,0)*U$1","v":1},{"$f":"AND(U41=0,U$1=1)","v":false},{"$f":"IF(F41=\"-\",1,0)*W$1","v":1},{"$f":"AND(W41=0,W$1=1)","v":false},{"$f":"IF(H41=\"-\",1,0)*Y$1","v":1},{"$f":"AND(Y41=0,Y$1=1)","v":false},{"$f":"IF(J41=\"-\",1,0)*AA$1","v":1},{"$f":"AND(AA41=0,AA$1=1)","v":false},{"$f":"IF(L41=\"-\",1,0)*AC$1","v":1},{"$f":"AND(AC41=0,AC$1=1)","v":false}]
[81,null,"-","-",{"$f":"IF(D42=\"-\",0,D42)","v":0},"-",{"$f":"IF(F42=\"-\",0,F42)","v":0},"-",{"$f":"IF(H42=\"-\",0,H42)","v":0},"-",{"$f":"IF(J42=\"-\",0,J42)","v":0},"-",{"$f":"IF(L42=\"-\",0,L42)","v":0},null,{"$f":"E42+G42+I42+K42+M42","v":0},{"$f":"MAX(D42,F42,H42,J42,L42)","v":0},{"$f":"IF(S42=1,O42,IF(S42=0,(O42-P42),\"-\"))","v":"-"},{"$f":"COUNTIF(U42:AD42,\"=TRUE\")","v":0},{"$f":"AE$1-R42","v":5},{"$f":"IF(S42<2,\"Yes\",\"No\")","v":"No"},{"$f":"IF(D42=\"-\",1,0)*U$1","v":1},{"$f":"AND(U42=0,U$1=1)","v":false},{"$f":"IF(F42=\"-\",1,0)*W$1","v":1},{"$f":"AND(W42=0,W$1=1)","v":false},{"$f":"IF(H42=\"-\",1,0)*Y$1","v":1},{"$f":"AND(Y42=0,Y$1=1)","v":false},{"$f":"IF(J42=\"-\",1,0)*AA$1","v":1},{"$f":"AND(AA42=0,AA$1=1)","v":false},{"$f":"IF(L42=\"-\",1,0)*AC$1","v":1},{"$f":"AND(AC42=0,AC$1=1)","v":false}]
[67,null,"-","-",{"$f":"IF(D43=\"-\",0,D43)","v":0},"-",{"$f":"IF(F43=\"-\",0,F43)","v":0},"-",{"$f":"IF(H43=\"-\",0,H43)","v":0},"-",{"$f":"IF(J43=\"-\",0,J43)","v":0},"-",{"$f":"IF(L43=\"-\",0,L43)","v":0},null,{"$f":"E43+G43+I43+K43+M43","v":0},{"$f":"MAX(D43,F43,H43,J43,L43)","v":0},{"$f":"IF(S43=1,O43,IF(S43=0,(O43-P43),\"-\"))","v":"-"},{"$f":"COUNTIF(U43:AD43,\"=TRUE\")","v":0},{"$f":"AE$1-R43","v":5},{"$f":"IF(S43<2,\"Yes\",\"No\")","v":"No"},{"$f":"IF(D43=\"-\",1,0)*U$1","v":1},{"$f":"AND(U43=0,U$1=1)","v":false},{"$f":"IF(F43=\"-\",1,0)*W$1","v":1},{"$f":"AND(W43=0,W$1=1)","v":false},{"$f":"IF(H43=\"-\",1,0)*Y$1","v":1},{"$f":"AND(Y43=0,Y$1=1)","v":false},{"$f":"IF(J43=\"-\",1,0)*AA$1","v":1},{"$f":"AND(AA43=0,AA$1=1)","v":false},{"$f":"IF(L43=\"-\",1,0)*AC$1","v":1},{"$f":"AND(AC43=0,AC$1=1)","v":false}]
[39,null,"-","-",{"$f":"IF(D44=\"-\",0,D44)","v":0},"-",{"$f":"IF(F44=\"-\",0,F44)","v":0},"-",{"$f":"IF(H44=\"-\",0,H44)","v":0},"-",{"$f":"IF(J44=\"-\",0,J44)","v":0},"-",{"$f":"IF(L44=\"-\",0,L44)","v":0},null,{"$f":"E44+G44+I44+K44+M44","v":0},{"$f":"MAX(D44,F44,H44,J44,L44)","v":0},{"$f":"IF(S44=1,O44,IF(S44=0,(O44-P44),\"-\"))","v":"-"},{"$f":"COUNTIF(U44:AD44,\"=TRUE\")","v":0},{"$f":"AE$1-R44","v":5},{"$f":"IF(S44<2,\"Yes\",\"No\")","v":"No"},{"$f":"IF(D44=\"-\",1,0)*U$1","v":1},{"$f":"AND(U44=0,U$1=1)","v":false},{"$f":"IF(F44=\"-\",1,0)*W$1","v":1},{"$f":"AND(W44=0,W$1=1)","v":false},{"$f":"IF(H44=\"-\",1,0)*Y$1","v":1},{"$f":"AND(Y44=0,Y$1=1)","v":false},{"$f":"IF(J44=\"-\",1,0)*AA$1","v":1},{"$f":"AND(AA44=0,AA$1=1)","v":false},{"$f":"IF(L44=\"-\",1,0)*AC$1","v":1},{"$f":"AND(AC44=0,AC$1=1)","v":false}]
[37,null,"-","-",{"$f":"IF(D45=\"-\",0,D45)","v":0},"-",{"$f":"IF(F45=\"-\",0,F45)","v":0},"-",{"$f":"IF(H45=\"-\",0,H45)","v":0},"-",{"$f":"IF(J45=\"-\",0,J45)","v":0},"-",{"$f":"IF(L45=\"-\",0,L45)","v":0},null,{"$f":"E45+G45+I45+K45+M45","v":0},{"$f":"MAX(D45,F45,H45,J45,L45)","v":0},{"$f":"IF(S45=1,O45,IF(S45=0,(O45-P45),\"-\"))","v":"-"},{"$f":"COUNTIF(U45:AD45,\"=TRUE\")","v":0},{"$f":"AE$1-R45","v":5},{"$f":"IF(S45<2,\"Yes\",\"No\")","v":"No"},{"$f":"IF(D45=\"-\",1,0)*U$1","v":1},{"$f":"AND(U45=0,U$1=1)","v":false},{"$f":"IF(F45=\"-\",1,0)*W$1","v":1},{"$f":"AND(W45=0,W$1=1)","v":false},{"$f":"IF(H45=\"-\",1,0)*Y$1","v":1},{"$f":"AND(Y45=0,Y$1=1)","v":false},{"$f":"IF(J45=\"-\",1,0)*AA$1","v":1},{"$f":"AND(AA45=0,AA$1=1)","v":false},{"$f":"IF(L45=\"-\",1,0)*AC$1","v":1},{"$f":"AND(AC45=0,AC$1=1)","v":false}]
[46,null,"-","-",{"$f":"IF(D46=\"-\",0,D46)","v":0},"-",{"$f":"IF(F46=\"-\",0,F46)","v":0},"-",{"$f":"IF(H46=\"-\",0,H46)","v":0},"-",{"$f":"IF(J46=\"-\",0,J46)","v":0},"-",{"$f":"IF(L46=\"-\",0,L46)","v":0},null,{"$f":"E46+G46+I46+K46+M46","v":0},{"$f":"MAX(D46,F46,H46,J46,L46)","v":0},{"$f":"IF(S46=1,O46,IF(S46=0,(O46-P46),\"-\"))","v":"-"},{"$f":"COUNTIF(U46:AD46,\"=TRUE\")","v":0},{"$f":"AE$1-R46","v":5},{"$f":"IF(S46<2,\"Yes\",\"No\")","v":"No"},{"$f":"IF(D46=\"-\",1,0)*U$1","v":1},{"$f":"AND(U46=0,U$1=1)","v":false},{"$f":"IF(F46=\"-\",1,0)*W$1","v":1},{"$f":"AND(W46=0,W$1=1)","v":false},{"$f":"IF(H46=\"-\",1,0)*Y$1","v":1},{"$f":"AND(Y46=0,Y$1=1)","v":false},{"$f":"IF(J46=\"-\",1,0)*AA$1","v":1},{"$f":"AND(AA46=0,AA$1=1)","v":false},{"$f":"IF(L46=\"-\",1,0)*AC$1","v":1},{"$f":"AND(AC46=0,AC$1=1)","v":false}]
[55,null,"-","-",{"$f":"IF(D47=\"-\",0,D47)","v":0},"-",{"$f":"IF(F47=\"-\",0,F47)","v":0},"-",{"$f":"IF(H47=\"-\",0,H47)","v":0},"-",{"$f":"IF(J47=\"-\",0,J47)","v":0},"-",{"$f":"IF(L47=\"-\",0,L47)","v":0},null,{"$f":"E47+G47+I47+K47+M47","v":0},{"$f":"MAX(D47,F47,H47,J47,L47)","v":0},{"$f":"IF(S47=1,O47,IF(S47=0,(O47-P47),\"-\"))","v":"-"},{"$f":"COUNTIF(U47:AD47,\"=TRUE\")","v":0},{"$f":"AE$1-R47","v":5},{"$f":"IF(S47<2,\"Yes\",\"No\")","v":"No"},{"$f":"IF(D47=\"-\",1,0)*U$1","v":1},{"$f":"AND(U47=0,U$1=1)","v":false},{"$f":"IF(F47=\"-\",1,0)*W$1","v":1},{"$f":"AND(W47=0,W$1=1)","v":false},{"$f":"IF(H47=\"-\",1,0)*Y$1","v":1},{"$f":"AND(Y47=0,Y$1=1)","v":false},{"$f":"IF(J47=\"-\",1,0)*AA$1","v":1},{"$f":"AND(AA47=0,AA$1=1)","v":false},{"$f":"IF(L47=\"-\",1,0)*AC$1","v":1},{"$f":"AND(AC47=0,AC$1=1)","v":false}]
[6,null,"-","-",{"$f":"IF(D48=\"-\",0,D48)","v":0},"-",{"$f":"IF(F48=\"-\",0,F48)","v":0},"-",{"$f":"IF(H48=\"-\",0,H48)","v":0},"-",{"$f":"IF(J48=\"-\",0,J48)","v":0},"-",{"$f":"IF(L48=\"-\",0,L48)","v":0},null,{"$f":"E48+G48+I48+K48+M48","v":0},{"$f":"MAX(D48,F48,H48,J48,L48)","v":0},{"$f":"IF(S48=1,O48,IF(S48=0,(O48-P48),\"-\"))","v":"-"},{"$f":"COUNTIF(U48:AD48,\"=TRUE\")","v":0},{"$f":"AE$1-R48","v":5},{"$f":"IF(S48<2,\"Yes\",\"No\")","v":"No"},{"$f":"IF(D48=\"-\",1,0)*U$1","v":1},{"$f":"AND(U48=0,U$1=1)","v":false},{"$f":"IF(F48=\"-\",1,0)*W$1","v":1},{"$f":"AND(W48=0,W$1=1)","v":false},{"$f":"IF(H48=\"-\",1,0)*Y$1","v":1},{"$f":"AND(Y48=0,Y$1=1)","v":false},{"$f":"IF(J48=\"-\",1,0)*AA$1","v":1},{"$f":"AND(AA48=0,AA$1=1)","v":false},{"$f":"IF(L48=\"-\",1,0)*AC$1","v":1},{"$f":"AND(AC48=0,AC$1=1)","v":false}]
[3,null,"-","-",{"$f":"IF(D49=\"-\",0,D49)","v":0},"-",{"$f":"IF(F49=\"-\",0,F49)","v":0},"-",{"$f":"IF(H49=\"-\",0,H49)","v":0},"-",{"$f":"IF(J49=\"-\",0,J49)","v":0},"-",{"$f":"IF(L49=\"-\",0,L49)","v":0},null,{"$f":"E49+G49+I49+K49+M49","v":0},{"$f":"MAX(D49,F49,H49,J49,L49)","v":0},{"$f":"IF(S49=1,O49,IF(S49=0,(O49-P49),\"-\"))","v":"-"},{"$f":"COUNTIF(U49:AD49,\"=TRUE\")","v":0},{"$f":"AE$1-R49","v":5},{"$f":"IF(S49<2,\"Yes\",\"No\")","v":"No"},{"$f":"IF(D49=\"-\",1,0)*U$1","v":1},{"$f":"AND(U49=0,U$1=1)","v":false},{"$f":"IF(F49=\"-\",1,0)*W$1","v":1},{"$f":"AND(W49=0,W$1=1)","v":false},{"$f":"IF(H49=\"-\",1,0)*Y$1","v":1},{"$f":"AND(Y49=0,Y$1=1)","v":false},{"$f":"IF(J49=\"-\",1,0)*AA$1","v":1},{"$f":"AND(AA49=0,AA$1=1)","v":false},{"$f":"IF(L49=\"-\",1,0)*AC$1","v":1},{"$f":"AND(AC49=0,AC$1=1)","v":false}]
[57,null,"-","-",{"$f":"IF(D50=\"-\",0,D50)","v":0},"-",{"$f":"IF(F50=\"-\",0,F50)","v":0},"-",{"$f":"IF(H50=\"-\",0,H50)","v":0},"-",{"$f":"IF(J50=\"-\",0,J50)","v":0},"-",{"$f":"IF(L50=\"-\",0,L50)","v":0},null,{"$f":"E50+G50+I50+K50+M50","v":0},{"$f":"MAX(D50,F50,H50,J50,L50)","v":0},{"$f":"IF(S50=1,O50,IF(S50=0,(O50-P50),\"-\"))","v":"-"},{"$f":"COUNTIF(U50:AD50,\"=TRUE\")","v":0},{"$f":"AE$1-R50","v":5},{"$f":"IF(S50<2,\"Yes\",\"No\")","v":"No"},{"$f":"IF(D50=\"-\",1,0)*U$1","v":1},{"$f":"AND(U50=0,U$1=1)","v":false},{"$f":"IF(F50=\"-\",1,0)*W$1","v":1},{"$f":"AND(W50=0,W$1=1)","v":false},{"$f":"IF(H50=\"-\",1,0)*Y$1","v":1},{"$f":"AND(Y50=0,Y$1=1)","v":false},{"$f":"IF(J50=\"-\",1,0)*AA$1","v":1},{"$f":"AND(AA50=0,AA$1=1)","v":false},{"$f":"IF(L50=\"-\",1,0)*AC$1","v":1},{"$f":"AND(AC50=0,AC$1=1)","v":false}]
[9,null,"-","-",{"$f":"IF(D51=\"-\",0,D51)","v":0},"-",{"$f":"IF(F51=\"-\",0,F51)","v":0},"-",{"$f":"IF(H51=\"-\",0,H51)","v":0},"-",{"$f":"IF(J51=\"-\",0,J51)","v":0},"-",{"$f":"IF(L51=\"-\",0,L51)","v":0},null,{"$f":"E51+G51+I51+K51+M51","v":0},{"$f":"MAX(D51,F51,H51,J51,L51)","v":0},{"$f":"IF(S51=1,O51,IF(S51=0,(O51-P51),\"-\"))","v":"-"},{"$f":"COUNTIF(U51:AD51,\"=TRUE\")","v":0},{"$f":"AE$1-R51","v":5},{"$f":"IF(S51<2,\"Yes\",\"No\")","v":"No"},{"$f":"IF(D51=\"-\",1,0)*U$1","v":1},{"$f":"AND(U51=0,U$1=1)","v":false},{"$f":"IF(F51=\"-\",1,0)*W$1","v":1},{"$f":"AND(W51=0,W$1=1)","v":false},{"$f":"IF(H51=\"-\",1,0)*Y$1","v":1},{"$f":"AND(Y51=0,Y$1=1)","v":false},{"$f":"IF(J51=\"-\",1,0)*AA$1","v":1},{"$f":"AND(AA51=0,AA$1=1)","v":false},{"$f":"IF(L51=\"-\",1,0)*AC$1","v":1},{"$f":"AND(AC51=0,AC$1=1)","v":false}]
[71,null,"-","-",{"$f":"IF(D52=\"-\",0,D52)","v":0},"-",{"$f":"IF(F52=\"-\",0,F52)","v":0},"-",{"$f":"IF(H52=\"-\",0,H52)","v":0},"-",{"$f":"IF(J52=\"-\",0,J52)","v":0},"-",{"$f":"IF(L52=\"-\",0,L52)","v":0},null,{"$f":"E52+G52+I52+K52+M52","v":0},{"$f":"MAX(D52,F52,H52,J52,L52)","v":0},{"$f":"IF(S52=1,O52,IF(S52=0,(O52-P52),\"-\"))","v":"-"},{"$f":"COUNTIF(U52:AD52,\"=TRUE\")","v":0},{"$f":"AE$1-R52","v":5},{"$f":"IF(S52<2,\"Yes\",\"No\")","v":"No"},{"$f":"IF(D52=\"-\",1,0)*U$1","v":1},{"$f":"AND(U52=0,U$1=1)","v":false},{"$f":"IF(F52=\"-\",1,0)*W$1","v":1},{"$f":"AND(W52=0,W$1=1)","v":false},{"$f":"IF(H52=\"-\",1,0)*Y$1","v":1},{"$f":"AND(Y52=0,Y$1=1)","v":false},{"$f":"IF(J52=\"-\",1,0)*AA$1","v":1},{"$f":"AND(AA52=0,AA$1=1)","v":false},{"$f":"IF(L52=\"-\",1,0)*AC$1","v":1},{"$f":"AND(AC52=0,AC$1=1)","v":false}]
[64,null,"-","-",{"$f":"IF(D53=\"-\",0,D53)","v":0},"-",{"$f":"IF(F53=\"-\",0,F53)","v":0},"-",{"$f":"IF(H53=\"-\",0,H53)","v":0},"-",{"$f":"IF(J53=\"-\",0,J53)","v":0},"-",{"$f":"IF(L53=\"-\",0,L53)","v":0},null,{"$f":"E53+G53+I53+K53+M53","v":0},{"$f":"MAX(D53,F53,H53,J53,L53)","v":0},{"$f":"IF(S53=1,O53,IF(S53=0,(O53-P53),\"-\"))","v":"-"},{"$f":"COUNTIF(U53:AD53,\"=TRUE\")","v":0},{"$f":"AE$1-R53","v":5},{"$f":"IF(S53<2,\"Yes\",\"No\")","v":"No"},{"$f":"IF(D53=\"-\",1,0)*U$1","v":1},{"$f":"AND(U53=0,U$1=1)","v":false},{"$f":"IF(F53=\"-\",1,0)*W$1","v":1},{"$f":"AND(W53=0,W$1=1)","v":false},{"$f":"IF(H53=\"-\",1,0)*Y$1","v":1},{"$f":"AND(Y53=0,Y$1=1)","v":false},{"$f":"IF(J53=\"-\",1,0)*AA$1","v":1},{"$f":"AND(AA53=0,AA$1=1)","v":false},{"$f":"IF(L53=\"-\",1,0)*AC$1","v":1},{"$f":"AND(AC53=0,AC$1=1)","v":false}]
[72,null,"-","-",{"$f":"IF(D54=\"-\",0,D54)","v":0},"-",{"$f":"IF(F54=\"-\",0,F54)","v":0},"-",{"$f":"IF(H54=\"-\",0,H54)","v":0},"-",{"$f":"IF(J54=\"-\",0,J54)","v":0},"-",{"$f":"IF(L54=\"-\",0,L54)","v":0},null,{"$f":"E54+G54+I54+K54+M54","v":0},{"$f":"MAX(D54,F54,H54,J54,L54)","v":0},{"$f":"IF(S54=1,O54,IF(S54=0,(O54-P54),\"-\"))","v":"-"},{"$f":"COUNTIF(U54:AD54,\"=TRUE\")","v":0},{"$f":"AE$1-R54","v":5},{"$f":"IF(S54<2,\"Yes\",\"No\")","v":"No"},{"$f":"IF(D54=\"-\",1,0)*U$1","v":1},{"$f":"AND(U54=0,U$1=1)","v":false},{"$f":"IF(F54=\"-\",1,0)*W$1","v":1},{"$f":"AND(W54=0,W$1=1)","v":false},{"$f":"IF(H54=\"-\",1,0)*Y$1","v":1},{"$f":"AND(Y54=0,Y$1=1)","v":false},{"$f":"IF(J54=\"-\",1,0)*AA$1","v":1},{"$f":"AND(AA54=0,AA$1=1)","v":false},{"$f":"IF(L54=\"-\",1,0)*AC$1","v":1},{"$f":"AND(AC54=0,AC$1=1)","v":false}]
[12,null,"-","-",{"$f":"IF(D55=\"-\",0,D55)","v":0},"-",{"$f":"IF(F55=\"-\",0,F55)","v":0},"-",{"$f":"IF(H55=\"-\",0,H55)","v":0},"-",{"$f":"IF(J55=\"-\",0,J55)","v":0},"-",{"$f":"IF(L55=\"-\",0,L55)","v":0},null,{"$f":"E55+G55+I55+K55+M55","v":0},{"$f":"MAX(D55,F55,H55,J55,L55)","v":0},{"$f":"IF(S55=1,O55,IF(S55=0,(O55-P55),\"-\"))","v":"-"},{"$f":"COUNTIF(U55:AD55,\"=TRUE\")","v":0},{"$f":"AE$1-R55","v":5},{"$f":"IF(S55<2,\"Yes\",\"No\")","v":"No"},{"$f":"IF(D55=\"-\",1,0)*U$1","v":1},{"$f":"AND(U55=0,U$1=1)","v":false},{"$f":"IF(F55=\"-\",1,0)*W$1","v":1},{"$f":"AND(W55=0,W$1=1)","v":false},{"$f":"IF(H55=\"-\",1,0)*Y$1","v":1},{"$f":"AND(Y55=0,Y$1=1)","v":false},{"$f":"IF(J55=\"-\",1,0)*AA$1","v":1},{"$f":"AND(AA55=0,AA$1=1)","v":false},{"$f":"IF(L55=\"-\",1,0)*AC$1","v":1},{"$f":"AND(AC55=0,AC$1=1)","v":false}]
[27,null,"-","-",{"$f":"IF(D56=\"-\",0,D56)","v":0},"-",{"$f":"IF(F56=\"-\",0,F56)","v":0},"-",{"$f":"IF(H56=\"-\",0,H56)","v":0},"-",{"$f":"IF(J56=\"-\",0,J56)","v":0},"-",{"$f":"IF(L56=\"-\",0,L56)","v":0},null,{"$f":"E56+G56+I56+K56+M56","v":0},{"$f":"MAX(D56,F56,H56,J56,L56)","v":0},{"$f":"IF(S56=1,O56,IF(S56=0,(O56-P56),\"-\"))","v":"-"},{"$f":"COUNTIF(U56:AD56,\"=TRUE\")","v":0},{"$f":"AE$1-R56","v":5},{"$f":"IF(S56<2,\"Yes\",\"No\")","v":"No"},{"$f":"IF(D56=\"-\",1,0)*U$1","v":1},{"$f":"AND(U56=0,U$1=1)","v":false},{"$f":"IF(F56=\"-\",1,0)*W$1","v":1},{"$f":"AND(W56=0,W$1=1)","v":false},{"$f":"IF(H56=\"-\",1,0)*Y$1","v":1},{"$f":"AND(Y56=0,Y$1=1)","v":false},{"$f":"IF(J56=\"-\",1,0)*AA$1","v":1},{"$f":"AND(AA56=0,AA$1=1)","v":false},{"$f":"IF(L56=\"-\",1,0)*AC$1","v":1},{"$f":"AND(AC56=0,AC$1=1)","v":false}]
[23,null,"-","-",{"$f":"IF(D57=\"-\",0,D57)","v":0},"-",{"$f":"IF(F57=\"-\",0,F57)","v":0},"-",{"$f":"IF(H57=\"-\",0,H57)","v":0},"-",{"$f":"IF(J57=\"-\",0,J57)","v":0},"-",{"$f":"IF(L57=\"-\",0,L57)","v":0},null,{"$f":"E57+G57+I57+K57+M57","v":0},{"$f":"MAX(D57,F57,H57,J57,L57)","v":0},{"$f":"IF(S57=1,O57,IF(S57=0,(O57-P57),\"-\"))","v":"-"},{"$f":"COUNTIF(U57:AD57,\"=TRUE\")","v":0},{"$f":"AE$1-R57","v":5},{"$f":"IF(S57<2,\"Yes\",\"No\")","v":"No"},{"$f":"IF(D57=\"-\",1,0)*U$1","v":1},{"$f":"AND(U57=0,U$1=1)","v":false},{"$f":"IF(F57=\"-\",1,0)*W$1","v":1},{"$f":"AND(W57=0,W$1=1)","v":false},{"$f":"IF(H57=\"-\",1,0)*Y$1","v":1},{"$f":"AND(Y57=0,Y$1=1)","v":false},{"$f":"IF(J57=\"-\",1,0)*AA$1","v":1},{"$f":"AND(AA57=0,AA$1=1)","v":false},{"$f":"IF(L57=\"-\",1,0)*AC$1","v":1},{"$f":"AND(AC57=0,AC$1=1)","v":false}]
[30,null,"-","-",{"$f":"IF(D58=\"-\",0,D58)","v":0},"-",{"$f":"IF(F58=\"-\",0,F58)","v":0},"-",{"$f":"IF(H58=\"-\",0,H58)","v":0},"-",{"$f":"IF(J58=\"-\",0,J58)","v":0},"-",{"$f":"IF(L58=\"-\",0,L58)","v":0},null,{"$f":"E58+G58+I58+K58+M58","v":0},{"$f":"MAX(D58,F58,H58,J58,L58)","v":0},{"$f":"IF(S58=1,O58,IF(S58=0,(O58-P58),\"-\"))","v":"-"},{"$f":"COUNTIF(U58:AD58,\"=TRUE\")","v":0},{"$f":"AE$1-R58","v":5},{"$f":"IF(S58<2,\"Yes\",\"No\")","v":"No"},{"$f":"IF(D58=\"-\",1,0)*U$1","v":1},{"$f":"AND(U58=0,U$1=1)","v":false},{"$f":"IF(F58=\"-\",1,0)*W$1","v":1},{"$f":"AND(W58=0,W$1=1)","v":false},{"$f":"IF(H58=\"-\",1,0)*Y$1","v":1},{"$f":"AND(Y58=0,Y$1=1)","v":false},{"$f":"IF(J58=\"-\",1,0)*AA$1","v":1},{"$f":"AND(AA58=0,AA$1=1)","v":false},{"$f":"IF(L58=\"-\",1,0)*AC$1","v":1},{"$f":"AND(AC58=0,AC$1=1)","v":false}]
[18,null,"-","-",{"$f":"IF(D59=\"-\",0,D59)","v":0},"-",{"$f":"IF(F59=\"-\",0,F59)","v":0},"-",{"$f":"IF(H59=\"-\",0,H59)","v":0},"-",{"$f":"IF(J59=\"-\",0,J59)","v":0},"-",{"$f":"IF(L59=\"-\",0,L59)","v":0},null,{"$f":"E59+G59+I59+K59+M59","v":0},{"$f":"MAX(D59,F59,H59,J59,L59)","v":0},{"$f":"IF(S59=1,O59,IF(S59=0,(O59-P59),\"-\"))","v":"-"},{"$f":"COUNTIF(U59:AD59,\"=TRUE\")","v":0},{"$f":"AE$1-R59","v":5},{"$f":"IF(S59<2,\"Yes\",\"No\")","v":"No"},{"$f":"IF(D59=\"-\",1,0)*U$1","v":1},{"$f":"AND(U59=0,U$1=1)","v":false},{"$f":"IF(F59=\"-\",1,0)*W$1","v":1},{"$f":"AND(W59=0,W$1=1)","v":false},{"$f":"IF(H59=\"-\",1,0)*Y$1","v":1},{"$f":"AND(Y59=0,Y$1=1)","v":false},{"$f":"IF(J59=\"-\",1,0)*AA$1","v":1},{"$f":"AND(AA59=0,AA$1=1)","v":false},{"$f":"IF(L59=\"-\",1,0)*AC$1","v":1},{"$f":"AND(AC59=0,AC$1=1)","v":false}]
[60,null,"-","-",{"$f":"IF(D60=\"-\",0,D60)","v":0},"-",{"$f":"IF(F60=\"-\",0,F60)","v":0},"-",{"$f":"IF(H60=\"-\",0,H60)","v":0},"-",{"$f":"IF(J60=\"-\",0,J60)","v":0},"-",{"$f":"IF(L60=\"-\",0,L60)","v":0},null,{"$f":"E60+G60+I60+K60+M60","v":0},{"$f":"MAX(D60,F60,H60,J60,L60)","v":0},{"$f":"IF(S60=1,O60,IF(S60=0,(O60-P60),\"-\"))","v":"-"},{"$f":"COUNTIF(U60:AD60,\"=TRUE\")","v":0},{"$f":"AE$1-R60","v":5},{"$f":"IF(S60<2,\"Yes\",\"No\")","v":"No"},{"$f":"IF(D60=\"-\",1,0)*U$1","v":1},{"$f":"AND(U60=0,U$1=1)","v":false},{"$f":"IF(F60=\"-\",1,0)*W$1","v":1},{"$f":"AND(W60=0,W$1=1)","v":false},{"$f":"IF(H60=\"-\",1,0)*Y$1","v":1},{"$f":"AND(Y60=0,Y$1=1)","v":false},{"$f":"IF(J60=\"-\",1,0)*AA$1","v":1},{"$f":"AND(AA60=0,AA$1=1)","v":false},{"$f":"IF(L60=\"-\",1,0)*AC$1","v":1},{"$f":"AND(AC60=0,AC$1=1)","v":false}]
[59,null,"-","-",{"$f":"IF(D61=\"-\",0,D61)","v":0},"-",{"$f":"IF(F61=\"-\",0,F61)","v":0},"-",{"$f":"IF(H61=\"-\",0,H61)","v":0},"-",{"$f":"IF(J61=\"-\",0,J61)","v":0},"-",{"$f":"IF(L61=\"-\",0,L61)","v":0},null,{"$f":"E61+G61+I61+K61+M61","v":0},{"$f":"MAX(D61,F61,H61,J61,L61)","v":0},{"$f":"IF(S61=1,O61,IF(S61=0,(O61-P61),\"-\"))","v":"-"},{"$f":"COUNTIF(U61:AD61,\"=TRUE\")","v":0},{"$f":"AE$1-R61","v":5},{"$f":"IF(S61<2,\"Yes\",\"No\")","v":"No"},{"$f":"IF(D61=\"-\",1,0)*U$1","v":1},{"$f":"AND(U61=0,U$1=1)","v":false},{"$f":"IF(F61=\"-\",1,0)*W$1","v":1},{"$f":"AND(W61=0,W$1=1)","v":false},{"$f":"IF(H61=\"-\",1,0)*Y$1","v":1},{"$f":"AND(Y61=0,Y$1=1)","v":false},{"$f":"IF(J61=\"-\",1,0)*AA$1","v":1},{"$f":"AND(AA61=0,AA$1=1)","v":false},{"$f":"IF(L61=\"-\",1,0)*AC$1","v":1},{"$f":"AND(AC61=0,AC$1=1)","v":false}]
[15,null,"-","-",{"$f":"IF(D62=\"-\",0,D62)","v":0},"-",{"$f":"IF(F62=\"-\",0,F62)","v":0},"-",{"$f":"IF(H62=\"-\",0,H62)","v":0},"-",{"$f":"IF(J62=\"-\",0,J62)","v":0},"-",{"$f":"IF(L62=\"-\",0,L62)","v":0},null,{"$f":"E62+G62+I62+K62+M62","v":0},{"$f":"MAX(D62,F62,H62,J62,L62)","v":0},{"$f":"IF(S62=1,O62,IF(S62=0,(O62-P62),\"-\"))","v":"-"},{"$f":"COUNTIF(U62:AD62,\"=TRUE\")","v":0},{"$f":"AE$1-R62","v":5},{"$f":"IF(S62<2,\"Yes\",\"No\")","v":"No"},{"$f":"IF(D62=\"-\",1,0)*U$1","v":1},{"$f":"AND(U62=0,U$1=1)","v":false},{"$f":"IF(F62=\"-\",1,0)*W$1","v":1},{"$f":"AND(W62=0,W$1=1)","v":false},{"$f":"IF(H62=\"-\",1,0)*Y$1","v":1},{"$f":"AND(Y62=0,Y$1=1)","v":false},{"$f":"IF(J62=\"-\",1,0)*AA$1","v":1},{"$f":"AND(AA62=0,AA$1=1)","v":false},{"$f":"IF(L62=\"-\",1,0)*AC$1","v":1},{"$f":"AND(AC62=0,AC$1=1)","v":false}]
[21,null,"-","-",{"$f":"IF(D63=\"-\",0,D63)","v":0},"-",{"$f":"IF(F63=\"-\",0,F63)","v":0},"-",{"$f":"IF(H63=\"-\",0,H63)","v":0},"-",{"$f":"IF(J63=\"-\",0,J63)","v":0},"-",{"$f":"IF(L63=\"-\",0,L63)","v":0},null,{"$f":"E63+G63+I63+K63+M63","v":0},{"$f":"MAX(D63,F63,H63,J63,L63)","v":0},{"$f":"IF(S63=1,O63,IF(S63=0,(O63-P63),\"-\"))","v":"-"},{"$f":"COUNTIF(U63:AD63,\"=TRUE\")","v":0},{"$f":"AE$1-R63","v":5},{"$f":"IF(S63<2,\"Yes\",\"No\")","v":"No"},{"$f":"IF(D63=\"-\",1,0)*U$1","v":1},{"$f":"AND(U63=0,U$1=1)","v":false},{"$f":"IF(F63=\"-\",1,0)*W$1","v":1},{"$f":"AND(W63=0,W$1=1)","v":false},{"$f":"IF(H63=\"-\",1,0)*Y$1","v":1},{"$f":"AND(Y63=0,Y$1=1)","v":false},{"$f":"IF(J63=\"-\",1,0)*AA$1","v":1},{"$f":"AND(AA63=0,AA$1=1)","v":false},{"$f":"IF(L63=\"-\",1,0)*AC$1","v":1},{"$f":"AND(AC63=0,AC$1=1)","v":false}]
[61,null,"-","-",{"$f":"IF(D64=\"-\",0,D64)","v":0},"-",{"$f":"IF(F64=\"-\",0,F64)","v":0},"-",{"$f":"IF(H64=\"-\",0,H64)","v":0},"-",{"$f":"IF(J64=\"-\",0,J64)","v":0},"-",{"$f":"IF(L64=\"-\",0,L64)","v":0},null,{"$f":"E64+G64+I64+K64+M64","v":0},{"$f":"MAX(D64,F64,H64,J64,L64)","v":0},{"$f":"IF(S64=1,O64,IF(S64=0,(O64-P64),\"-\"))","v":"-"},{"$f":"COUNTIF(U64:AD64,\"=TRUE\")","v":0},{"$f":"AE$1-R64","v":5},{"$f":"IF(S64<2,\"Yes\",\"No\")","v":"No"},{"$f":"IF(D64=\"-\",1,0)*U$1","v":1},{"$f":"AND(U64=0,U$1=1)","v":false},{"$f":"IF(F64=\"-\",1,0)*W$1","v":1},{"$f":"AND(W64=0,W$1=1)","v":false},{"$f":"IF(H64=\"-\",1,0)*Y$1","v":1},{"$f":"AND(Y64=0,Y$1=1)","v":false},{"$f":"IF(J64=\"-\",1,0)*AA$1","v":1},{"$f":"AND(AA64=0,AA$1=1)","v":false},{"$f":"IF(L64=\"-\",1,0)*AC$1","v":1},{"$f":"AND(AC64=0,AC$1=1)","v":false}]
[73,null,"-","-",{"$f":"IF(D65=\"-\",0,D65)","v":0},"-",{"$f":"IF(F65=\"-\",0,F65)","v":0},"-",{"$f":"IF(H65=\"-\",0,H65)","v":0},"-",{"$f":"IF(J65=\"-\",0,J65)","v":0},"-",{"$f":"IF(L65=\"-\",0,L65)","v":0},null,{"$f":"E65+G65+I65+K65+M65","v":0},{"$f":"MAX(D65,F65,H65,J65,L65)","v":0},{"$f":"IF(S65=1,O65,IF(S65=0,(O65-P65),\"-\"))","v":"-"},{"$f":"COUNTIF(U65:AD65,\"=TRUE\")","v":0},{"$f":"AE$1-R65","v":5},{"$f":"IF(S65<2,\"Yes\",\"No\")","v":"No"},{"$f":"IF(D65=\"-\",1,0)*U$1","v":1},{"$f":"AND(U65=0,U$1=1)","v":false},{"$f":"IF(F65=\"-\",1,0)*W$1","v":1},{"$f":"AND(W65=0,W$1=1)","v":false},{"$f":"IF(H65=\"-\",1,0)*Y$1","v":1},{"$f":"AND(Y65=0,Y$1=1)","v":false},{"$f":"IF(J65=\"-\",1,0)*AA$1","v":1},{"$f":"AND(AA65=0,AA$1=1)","v":false},{"$f":"IF(L65=\"-\",1,0)*AC$1","v":1},{"$f":"AND(AC65=0,AC$1=1)","v":false}]
[32,null,"-","-",{"$f":"IF(D66=\"-\",0,D66)","v":0},"-",{"$f":"IF(F66=\"-\",0,F66)","v":0},"-",{"$f":"IF(H66=\"-\",0,H66)","v":0},"-",{"$f":"IF(J66=\"-\",0,J66)","v":0},"-",{"$f":"IF(L66=\"-\",0,L66)","v":0},null,{"$f":"E66+G66+I66+K66+M66","v":0},{"$f":"MAX(D66,F66,H66,J66,L66)","v":0},{"$f":"IF(S66=1,O66,IF(S66=0,(O66-P66),\"-\"))","v":"-"},{"$f":"COUNTIF(U66:AD66,\"=TRUE\")","v":0},{"$f":"AE$1-R66","v":5},{"$f":"IF(S66<2,\"Yes\",\"No\")","v":"No"},{"$f":"IF(D66=\"-\",1,0)*U$1","v":1},{"$f":"AND(U66=0,U$1=1)","v":false},{"$f":"IF(F66=\"-\",1,0)*W$1","v":1},{"$f":"AND(W66=0,W$1=1)","v":false},{"$f":"IF(H66=\"-\",1,0)*Y$1","v":1},{"$f":"AND(Y66=0,Y$1=1)","v":false},{"$f":"IF(J66=\"-\",1,0)*AA$1","v":1},{"$f":"AND(AA66=0,AA$1=1)","v":false},{"$f":"IF(L66=\"-\",1,0)*AC$1","v":1},{"$f":"AND(AC66=0,AC$1=1)","v":false}]
[38,null,"-","-",{"$f":"IF(D67=\"-\",0,D67)","v":0},"-",{"$f":"IF(F67=\"-\",0,F67)","v":0},"-",{"$f":"IF(H67=\"-\",0,H67)","v":0},"-",{"$f":"IF(J67=\"-\",0,J67)","v":0},"-",{"$f":"IF(L67=\"-\",0,L67)","v":0},null,{"$f":"E67+G67+I67+K67+M67","v":0},{"$f":"MAX(D67,F67,H67,J67,L67)","v":0},{"$f":"IF(S67=1,O67,IF(S67=0,(O67-P67),\"-\"))","v":"-"},{"$f":"COUNTIF(U67:AD67,\"=TRUE\")","v":0},{"$f":"AE$1-R67","v":5},{"$f":"IF(S67<2,\"Yes\",\"No\")","v":"No"},{"$f":"IF(D67=\"-\",1,0)*U$1","v":1},{"$f":"AND(U67=0,U$1=1)","v":false},{"$f":"IF(F67=\"-\",1,0)*W$1","v":1},{"$f":"AND(W67=0,W$1=1)","v":false},{"$f":"IF(H67=\"-\",1,0)*Y$1","v":1},{"$f":"AND(Y67=0,Y$1=1)","v":false},{"$f":"IF(J67=\"-\",1,0)*AA$1","v":1},{"$f":"AND(AA67=0,AA$1=1)","v":false},{"$f":"IF(L67=\"-\",1,0)*AC$1","v":1},{"$f":"AND(AC67=0,AC$1=1)","v":false}]
[41,null,"-","-",{"$f":"IF(D68=\"-\",0,D68)","v":0},"-",{"$f":"IF(F68=\"-\",0,F68)","v":0},"-",{"$f":"IF(H68=\"-\",0,H68)","v":0},"-",{"$f":"IF(J68=\"-\",0,J68)","v":0},"-",{"$f":"IF(L68=\"-\",0,L68)","v":0},null,{"$f":"E68+G68+I68+K68+M68","v":0},{"$f":"MAX(D68,F68,H68,J68,L68)","v":0},{"$f":"IF(S68=1,O68,IF(S68=0,(O68-P68),\"-\"))","v":"-"},{"$f":"COUNTIF(U68:AD68,\"=TRUE\")","v":0},{"$f":"AE$1-R68","v":5},{"$f":"IF(S68<2,\"Yes\",\"No\")","v":"No"},{"$f":"IF(D68=\"-\",1,0)*U$1","v":1},{"$f":"AND(U68=0,U$1=1)","v":false},{"$f":"IF(F68=\"-\",1,0)*W$1","v":1},{"$f":"AND(W68=0,W$1=1)","v":false},{"$f":"IF(H68=\"-\",1,0)*Y$1","v":1},{"$f":"AND(Y68=0,Y$1=1)","v":false},{"$f":"IF(J68=\"-\",1,0)*AA$1","v":1},{"$f":"AND(AA68=0,AA$1=1)","v":false},{"$f":"IF(L68=\"-\",1,0)*AC$1","v":1},{"$f":"AND(AC68=0,AC$1=1)","v":false}]
[47,null,"-","-",{"$f":"IF(D69=\"-\",0,D69)","v":0},"-",{"$f":"IF(F69=\"-\",0,F69)","v":0},"-",{"$f":"IF(H69=\"-\",0,H69)","v":0},"-",{"$f":"IF(J69=\"-\",0,J69)","v":0},"-",{"$f":"IF(L69=\"-\",0,L69)","v":0},null,{"$f":"E69+G69+I69+K69+M69","v":0},{"$f":"MAX(D69,F69,H69,J69,L69)","v":0},{"$f":"IF(S69=1,O69,IF(S69=0,(O69-P69),\"-\"))","v":"-"},{"$f":"COUNTIF(U69:AD69,\"=TRUE\")","v":0},{"$f":"AE$1-R69","v":5},{"$f":"IF(S69<2,\"Yes\",\"No\")","v":"No"},{"$f":"IF(D69=\"-\",1,0)*U$1","v":1},{"$f":"AND(U69=0,U$1=1)","v":false},{"$f":"IF(F69=\"-\",1,0)*W$1","v":1},{"$f":"AND(W69=0,W$1=1)","v":false},{"$f":"IF(H69=\"-\",1,0)*Y$1","v":1},{"$f":"AND(Y69=0,Y$1=1)","v":false},{"$f":"IF(J69=\"-\",1,0)*AA$1","v":1},{"$f":"AND(AA69=0,AA$1=1)","v":false},{"$f":"IF(L69=\"-\",1,0)*AC$1","v":1},{"$f":"AND(AC69=0,AC$1=1)","v":false}]
[25,null,"-","-",{"$f":"IF(D70=\"-\",0,D70)","v":0},"-",{"$f":"IF(F70=\"-\",0,F70)","v":0},"-",{"$f":"IF(H70=\"-\",0,H70)","v":0},"-",{"$f":"IF(J70=\"-\",0,J70)","v":0},"-",{"$f":"IF(L70=\"-\",0,L70)","v":0},null,{"$f":"E70+G70+I70+K70+M70","v":0},{"$f":"MAX(D70,F70,H70,J70,L70)","v":0},{"$f":"IF(S70=1,O70,IF(S70=0,(O70-P70),\"-\"))","v":"-"},{"$f":"COUNTIF(U70:AD70,\"=TRUE\")","v":0},{"$f":"AE$1-R70","v":5},{"$f":"IF(S70<2,\"Yes\",\"No\")","v":"No"},{"$f":"IF(D70=\"-\",1,0)*U$1","v":1},{"$f":"AND(U70=0,U$1=1)","v":false},{"$f":"IF(F70=\"-\",1,0)*W$1","v":1},{"$f":"AND(W70=0,W$1=1)","v":false},{"$f":"IF(H70=\"-\",1,0)*Y$1","v":1},{"$f":"AND(Y70=0,Y$1=1)","v":false},{"$f":"IF(J70=\"-\",1,0)*AA$1","v":1},{"$f":"AND(AA70=0,AA$1=1)","v":false},{"$f":"IF(L70=\"-\",1,0)*AC$1","v":1},{"$f":"AND(AC70=0,AC$1=1)","v":false}]
[26,null,"-","-",{"$f":"IF(D71=\"-\",0,D71)","v":0},"-",{"$f":"IF(F71=\"-\",0,F71)","v":0},"-",{"$f":"IF(H71=\"-\",0,H71)","v":0},"-",{"$f":"IF(J71=\"-\",0,J71)","v":0},"-",{"$f":"IF(L71=\"-\",0,L71)","v":0},null,{"$f":"E71+G71+I71+K71+M71","v":0},{"$f":"MAX(D71,F71,H71,J71,L71)","v":0},{"$f":"IF(S71=1,O71,IF(S71=0,(O71-P71),\"-\"))","v":"-"},{"$f":"COUNTIF(U71:AD71,\"=TRUE\")","v":0},{"$f":"AE$1-R71","v":5},{"$f":"IF(S71<2,\"Yes\",\"No\")","v":"No"},{"$f":"IF(D71=\"-\",1,0)*U$1","v":1},{"$f":"AND(U71=0,U$1=1)","v":false},{"$f":"IF(F71=\"-\",1,0)*W$1","v":1},{"$f":"AND(W71=0,W$1=1)","v":false},{"$f":"IF(H71=\"-\",1,0)*Y$1","v":1},{"$f":"AND(Y71=0,Y$1=1)","v":false},{"$f":"IF(J71=\"-\",1,0)*AA$1","v":1},{"$f":"AND(AA71=0,AA$1=1)","v":false},{"$f":"IF(L71=\"-\",1,0)*AC$1","v":1},{"$f":"AND(AC71=0,AC$1=1)","v":false}]
[31,null,"-","-",{"$f":"IF(D72=\"-\",0,D72)","v":0},"-",{"$f":"IF(F72=\"-\",0,F72)","v":0},"-",{"$f":"IF(H72=\"-\",0,H72)","v":0},"-",{"$f":"IF(J72=\"-\",0,J72)","v":0},"-",{"$f":"IF(L72=\"-\",0,L72)","v":0},null,{"$f":"E72+G72+I72+K72+M72","v":0},{"$f":"MAX(D72,F72,H72,J72,L72)","v":0},{"$f":"IF(S72=1,O72,IF(S72=0,(O72-P72),\"-\"))","v":"-"},{"$f":"COUNTIF(U72:AD72,\"=TRUE\")","v":0},{"$f":"AE$1-R72","v":5},{"$f":"IF(S72<2,\"Yes\",\"No\")","v":"No"},{"$f":"IF(D72=\"-\",1,0)*U$1","v":1},{"$f":"AND(U72=0,U$1=1)","v":false},{"$f":"IF(F72=\"-\",1,0)*W$1","v":1},{"$f":"AND(W72=0,W$1=1)","v":false},{"$f":"IF(H72=\"-\",1,0)*Y$1","v":1},{"$f":"AND(Y72=0,Y$1=1)","v":false},{"$f":"IF(J72=\"-\",1,0)*AA$1","v":1},{"$f":"AND(AA72=0,AA$1=1)","v":false},{"$f":"IF(L72=\"-\",1,0)*AC$1","v":1},{"$f":"AND(AC72=0,AC$1=1)","v":false}]
[33,null,"-","-",{"$f":"IF(D73=\"-\",0,D73)","v":0},"-",{"$f":"IF(F73=\"-\",0,F73)","v":0},"-",{"$f":"IF(H73=\"-\",0,H73)","v":0},"-",{"$f":"IF(J73=\"-\",0,J73)","v":0},"-",{"$f":"IF(L73=\"-\",0,L73)","v":0},null,{"$f":"E73+G73+I73+K73+M73","v":0},{"$f":"MAX(D73,F73,H73,J73,L73)","v":0},{"$f":"IF(S73=1,O73,IF(S73=0,(O73-P73),\"-\"))","v":"-"},{"$f":"COUNTIF(U73:AD73,\"=TRUE\")","v":0},{"$f":"AE$1-R73","v":5},{"$f":"IF(S73<2,\"Yes\",\"No\")","v":"No"},{"$f":"IF(D73=\"-\",1,0)*U$1","v":1},{"$f":"AND(U73=0,U$1=1)","v":false},{"$f":"IF(F73=\"-\",1,0)*W$1","v":1},{"$f":"AND(W73=0,W$1=1)","v":false},{"$f":"IF(H73=\"-\",1,0)*Y$1","v":1},{"$f":"AND(Y73=0,Y$1=1)","v":false},{"$f":"IF(J73=\"-\",1,0)*AA$1","v":1},{"$f":"AND(AA73=0,AA$1=1)","v":false},{"$f":"IF(L73=\"-\",1,0)*AC$1","v":1},{"$f":"AND(AC73=0,AC$1=1)","v":false}]
[35,null,"-","-",{"$f":"IF(D74=\"-\",0,D74)","v":0},"-",{"$f":"IF(F74=\"-\",0,F74)","v":0},"-",{"$f":"IF(H74=\"-\",0,H74)","v":0},"-",{"$f":"IF(J74=\"-\",0,J74)","v":0},"-",{"$f":"IF(L74=\"-\",0,L74)","v":0},null,{"$f":"E74+G74+I74+K74+M74","v":0},{"$f":"MAX(D74,F74,H74,J74,L74)","v":0},{"$f":"IF(S74=1,O74,IF(S74=0,(O74-P74),\"-\"))","v":"-"},{"$f":"COUNTIF(U74:AD74,\"=TRUE\")","v":0},{"$f":"AE$1-R74","v":5},{"$f":"IF(S74<2,\"Yes\",\"No\")","v":"No"},{"$f":"IF(D74=\"-\",1,0)*U$1","v":1},{"$f":"AND(U74=0,U$1=1)","v":false},{"$f":"IF(F74=\"-\",1,0)*W$1","v":1},{"$f":"AND(W74=0,W$1=1)","v":false},{"$f":"IF(H74=\"-\",1,0)*Y$1","v":1},{"$f":"AND(Y74=0,Y$1=1)","v":false},{"$f":"IF(J74=\"-\",1,0)*AA$1","v":1},{"$f":"AND(AA74=0,AA$1=1)","v":false},{"$f":"IF(L74=\"-\",1,0)*AC$1","v":1},{"$f":"AND(AC74=0,AC$1=1)","v":false}]
[36,null,"-","-",{"$f":"IF(D75=\"-\",0,D75)","v":0},"-",{"$f":"IF(F75=\"-\",0,F75)","v":0},"-",{"$f":"IF(H75=\"-\",0,H75)","v":0},"-",{"$f":"IF(J75=\"-\",0,J75)","v":0},"-",{"$f":"IF(L75=\"-\",0,L75)","v":0},null,{"$f":"E75+G75+I75+K75+M75","v":0},{"$f":"MAX(D75,F75,H75,J75,L75)","v":0},{"$f":"IF(S75=1,O75,IF(S75=0,(O75-P75),\"-\"))","v":"-"},{"$f":"COUNTIF(U75:AD75,\"=TRUE\")","v":0},{"$f":"AE$1-R75","v":5},{"$f":"IF(S75<2,\"Yes\",\"No\")","v":"No"},{"$f":"IF(D75=\"-\",1,0)*U$1","v":1},{"$f":"AND(U75=0,U$1=1)","v":false},{"$f":"IF(F75=\"-\",1,0)*W$1","v":1},{"$f":"AND(W75=0,W$1=1)","v":false},{"$f":"IF(H75=\"-\",1,0)*Y$1","v":1},{"$f":"AND(Y75=0,Y$1=1)","v":false},{"$f":"IF(J75=\"-\",1,0)*AA$1","v":1},{"$f":"AND(AA75=0,AA$1=1)","v":false},{"$f":"IF(L75=\"-\",1,0)*AC$1","v":1},{"$f":"AND(AC75=0,AC$1=1)","v":false}]
[42,null,"-","-",{"$f":"IF(D76=\"-\",0,D76)","v":0},"-",{"$f":"IF(F76=\"-\",0,F76)","v":0},"-",{"$f":"IF(H76=\"-\",0,H76)","v":0},"-",{"$f":"IF(J76=\"-\",0,J76)","v":0},"-",{"$f":"IF(L76=\"-\",0,L76)","v":0},null,{"$f":"E76+G76+I76+K76+M76","v":0},{"$f":"MAX(D76,F76,H76,J76,L76)","v":0},{"$f":"IF(S76=1,O76,IF(S76=0,(O76-P76),\"-\"))","v":"-"},{"$f":"COUNTIF(U76:AD76,\"=TRUE\")","v":0},{"$f":"AE$1-R76","v":5},{"$f":"IF(S76<2,\"Yes\",\"No\")","v":"No"},{"$f":"IF(D76=\"-\",1,0)*U$1","v":1},{"$f":"AND(U76=0,U$1=1)","v":false},{"$f":"IF(F76=\"-\",1,0)*W$1","v":1},{"$f":"AND(W76=0,W$1=1)","v":false},{"$f":"IF(H76=\"-\",1,0)*Y$1","v":1},{"$f":"AND(Y76=0,Y$1=1)","v":false},{"$f":"IF(J76=\"-\",1,0)*AA$1","v":1},{"$f":"AND(AA76=0,AA$1=1)","v":false},{"$f":"IF(L76=\"-\",1,0)*AC$1","v":1},{"$f":"AND(AC76=0,AC$1=1)","v":false}]
[43,null,"-","-",{"$f":"IF(D77=\"-\",0,D77)","v":0},"-",{"$f":"IF(F77=\"-\",0,F77)","v":0},"-",{"$f":"IF(H77=\"-\",0,H77)","v":0},"-",{"$f":"IF(J77=\"-\",0,J77)","v":0},"-",{"$f":"IF(L77=\"-\",0,L77)","v":0},null,{"$f":"E77+G77+I77+K77+M77","v":0},{"$f":"MAX(D77,F77,H77,J77,L77)","v":0},{"$f":"IF(S77=1,O77,IF(S77=0,(O77-P77),\"-\"))","v":"-"},{"$f":"COUNTIF(U77:AD77,\"=TRUE\")","v":0},{"$f":"AE$1-R77","v":5},{"$f":"IF(S77<2,\"Yes\",\"No\")","v":"No"},{"$f":"IF(D77=\"-\",1,0)*U$1","v":1},{"$f":"AND(U77=0,U$1=1)","v":false},{"$f":"IF(F77=\"-\",1,0)*W$1","v":1},{"$f":"AND(W77=0,W$1=1)","v":false},{"$f":"IF(H77=\"-\",1,0)*Y$1","v":1},{"$f":"AND(Y77=0,Y$1=1)","v":false},{"$f":"IF(J77=\"-\",1,0)*AA$1","v":1},{"$f":"AND(AA77=0,AA$1=1)","v":false},{"$f":"IF(L77=\"-\",1,0)*AC$1","v":1},{"$f":"AND(AC77=0,AC$1=1)","v":false}]
[48,null,"-","-",{"$f":"IF(D78=\"-\",0,D78)","v":0},"-",{"$f":"IF(F78=\"-\",0,F78)","v":0},"-",{"$f":"IF(H78=\"-\",0,H78)","v":0},"-",{"$f":"IF(J78=\"-\",0,J78)","v":0},"-",{"$f":"IF(L78=\"-\",0,L78)","v":0},null,{"$f":"E78+G78+I78+K78+M78","v":0},{"$f":"MAX(D78,F78,H78,J78,L78)","v":0},{"$f":"IF(S78=1,O78,IF(S78=0,(O78-P78),\"-\"))","v":"-"},{"$f":"COUNTIF(U78:AD78,\"=TRUE\")","v":0},{"$f":"AE$1-R78","v":5},{"$f":"IF(S78<2,\"Yes\",\"No\")","v":"No"},{"$f":"IF(D78=\"-\",1,0)*U$1","v":1},{"$f":"AND(U78=0,U$1=1)","v":false},{"$f":"IF(F78=\"-\",1,0)*W$1","v":1},{"$f":"AND(W78=0,W$1=1)","v":false},{"$f":"IF(H78=\"-\",1,0)*Y$1","v":1},{"$f":"AND(Y78=0,Y$1=1)","v":false},{"$f":"IF(J78=\"-\",1,0)*AA$1","v":1},{"$f":"AND(AA78=0,AA$1=1)","v":false},{"$f":"IF(L78=\"-\",1,0)*AC$1","v":1},{"$f":"AND(AC78=0,AC$1=1)","v":false}]
[49,null,"-","-",{"$f":"IF(D79=\"-\",0,D79)","v":0},"-",{"$f":"IF(F79=\"-\",0,F79)","v":0},"-",{"$f":"IF(H79=\"-\",0,H79)","v":0},"-",{"$f":"IF(J79=\"-\",0,J79)","v":0},"-",{"$f":"IF(L79=\"-\",0,L79)","v":0},null,{"$f":"E79+G79+I79+K79+M79","v":0},{"$f":"MAX(D79,F79,H79,J79,L79)","v":0},{"$f":"IF(S79=1,O79,IF(S79=0,(O79-P79),\"-\"))","v":"-"},{"$f":"COUNTIF(U79:AD79,\"=TRUE\")","v":0},{"$f":"AE$1-R79","v":5},{"$f":"IF(S79<2,\"Yes\",\"No\")","v":"No"},{"$f":"IF(D79=\"-\",1,0)*U$1","v":1},{"$f":"AND(U79=0,U$1=1)","v":false},{"$f":"IF(F79=\"-\",1,0)*W$1","v":1},{"$f":"AND(W79=0,W$1=1)","v":false},{"$f":"IF(H79=\"-\",1,0)*Y$1","v":1},{"$f":"AND(Y79=0,Y$1=1)","v":false},{"$f":"IF(J79=\"-\",1,0)*AA$1","v":1},{"$f":"AND(AA79=0,AA$1=1)","v":false},{"$f":"IF(L79=\"-\",1,0)*AC$1","v":1},{"$f":"AND(AC79=0,AC$1=1)","v":false}]
[50,null,"-","-",{"$f":"IF(D80=\"-\",0,D80)","v":0},"-",{"$f":"IF(F80=\"-\",0,F80)","v":0},"-",{"$f":"IF(H80=\"-\",0,H80)","v":0},"-",{"$f":"IF(J80=\"-\",0,J80)","v":0},"-",{"$f":"IF(L80=\"-\",0,L80)","v":0},null,{"$f":"E80+G80+I80+K80+M80","v":0},{"$f":"MAX(D80,F80,H80,J80,L80)","v":0},{"$f":"IF(S80=1,O80,IF(S80=0,(O80-P80),\"-\"))","v":"-"},{"$f":"COUNTIF(U80:AD80,\"=TRUE\")","v":0},{"$f":"AE$1-R80","v":5},{"$f":"IF(S80<2,\"Yes\",\"No\")","v":"No"},{"$f":"IF(D80=\"-\",1,0)*U$1","v":1},{"$f":"AND(U80=0,U$1=1)","v":false},{"$f":"IF(F80=\"-\",1,0)*W$1","v":1},{"$f":"AND(W80=0,W$1=1)","v":false},{"$f":"IF(H80=\"-\",1,0)*Y$1","v":1},{"$f":"AND(Y80=0,Y$1=1)","v":false},{"$f":"IF(J80=\"-\",1,0)*AA$1","v":1},{"$f":"AND(AA80=0,AA$1=1)","v":false},{"$f":"IF(L80=\"-\",1,0)*AC$1","v":1},{"$f":"AND(AC80=0,AC$1=1)","v":false}]
[51,null,"-","-",{"$f":"IF(D81=\"-\",0,D81)","v":0},"-",{"$f":"IF(F81=\"-\",0,F81)","v":0},"-",{"$f":"IF(H81=\"-\",0,H81)","v":0},"-",{"$f":"IF(J81=\"-\",0,J81)","v":0},"-",{"$f":"IF(L81=\"-\",0,L81)","v":0},null,{"$f":"E81+G81+I81+K81+M81","v":0},{"$f":"MAX(D81,F81,H81,J81,L81)","v":0},{"$f":"IF(S81=1,O81,IF(S81=0,(O81-P81),\"-\"))","v":"-"},{"$f":"COUNTIF(U81:AD81,\"=TRUE\")","v":0},{"$f":"AE$1-R81","v":5},{"$f":"IF(S81<2,\"Yes\",\"No\")","v":"No"},{"$f":"IF(D81=\"-\",1,0)*U$1","v":1},{"$f":"AND(U81=0,U$1=1)","v":false},{"$f":"IF(F81=\"-\",1,0)*W$1","v":1},{"$f":"AND(W81=0,W$1=1)","v":false},{"$f":"IF(H81=\"-\",1,0)*Y$1","v":1},{"$f":"AND(Y81=0,Y$1=1)","v":false},{"$f":"IF(J81=\"-\",1,0)*AA$1","v":1},{"$f":"AND(AA81=0,AA$1=1)","v":false},{"$f":"IF(L81=\"-\",1,0)*AC$1","v":1},{"$f":"AND(AC81=0,AC$1=1)","v":false}]
[52,null,"-","-",{"$f":"IF(D82=\"-\",0,D82)","v":0},"-",{"$f":"IF(F82=\"-\",0,F82)","v":0},"-",{"$f":"IF(H82=\"-\",0,H82)","v":0},"-",{"$f":"IF(J82=\"-\",0,J82)","v":0},"-",{"$f":"IF(L82=\"-\",0,L82)","v":0},null,{"$f":"E82+G82+I82+K82+M82","v":0},{"$f":"MAX(D82,F82,H82,J82,L82)","v":0},{"$f":"IF(S82=1,O82,IF(S82=0,(O82-P82),\"-\"))","v":"-"},{"$f":"COUNTIF(U82:AD82,\"=TRUE\")","v":0},{"$f":"AE$1-R82","v":5},{"$f":"IF(S82<2,\"Yes\",\"No\")","v":"No"},{"$f":"IF(D82=\"-\",1,0)*U$1","v":1},{"$f":"AND(U82=0,U$1=1)","v":false},{"$f":"IF(F82=\"-\",1,0)*W$1","v":1},{"$f":"AND(W82=0,W$1=1)","v":false},{"$f":"IF(H82=\"-\",1,0)*Y$1","v":1},{"$f":"AND(Y82=0,Y$1=1)","v":false},{"$f":"IF(J82=\"-\",1,0)*AA$1","v":1},{"$f":"AND(AA82=0,AA$1=1)","v":false},{"$f":"IF(L82=\"-\",1,0)*AC$1","v":1},{"$f":"AND(AC82=0,AC$1=1)","v":false}]
[53,null,"-","-",{"$f":"IF(D83=\"-\",0,D83)","v":0},"-",{"$f":"IF(F83=\"-\",0,F83)","v":0},"-",{"$f":"IF(H83=\"-\",0,H83)","v":0},"-",{"$f":"IF(J83=\"-\",0,J83)","v":0},"-",{"$f":"IF(L83=\"-\",0,L83)","v":0},null,{"$f":"E83+G83+I83+K83+M83","v":0},{"$f":"MAX(D83,F83,H83,J83,L83)","v":0},{"$f":"IF(S83=1,O83,IF(S83=0,(O83-P83),\"-\"))","v":"-"},{"$f":"COUNTIF(U83:AD83,\"=TRUE\")","v":0},{"$f":"AE$1-R83","v":5},{"$f":"IF(S83<2,\"Yes\",\"No\")","v":"No"},{"$f":"IF(D83=\"-\",1,0)*U$1","v":1},{"$f":"AND(U83=0,U$1=1)","v":false},{"$f":"IF(F83=\"-\",1,0)*W$1","v":1},{"$f":"AND(W83=0,W$1=1)","v":false},{"$f":"IF(H83=\"-\",1,0)*Y$1","v":1},{"$f":"AND(Y83=0,Y$1=1)","v":false},{"$f":"IF(J83=\"-\",1,0)*AA$1","v":1},{"$f":"AND(AA83=0,AA$1=1)","v":false},{"$f":"IF(L83=\"-\",1,0)*AC$1","v":1},{"$f":"AND(AC83=0,AC$1=1)","v":false}]
[54,null,"-","-",{"$f":"IF(D84=\"-\",0,D84)","v":0},"-",{"$f":"IF(F84=\"-\",0,F84)","v":0},"-",{"$f":"IF(H84=\"-\",0,H84)","v":0},"-",{"$f":"IF(J84=\"-\",0,J84)","v":0},"-",{"$f":"IF(L84=\"-\",0,L84)","v":0},null,{"$f":"E84+G84+I84+K84+M84","v":0},{"$f":"MAX(D84,F84,H84,J84,L84)","v":0},{"$f":"IF(S84=1,O84,IF(S84=0,(O84-P84),\"-\"))","v":"-"},{"$f":"COUNTIF(U84:AD84,\"=TRUE\")","v":0},{"$f":"AE$1-R84","v":5},{"$f":"IF(S84<2,\"Yes\",\"No\")","v":"No"},{"$f":"IF(D84=\"-\",1,0)*U$1","v":1},{"$f":"AND(U84=0,U$1=1)","v":false},{"$f":"IF(F84=\"-\",1,0)*W$1","v":1},{"$f":"AND(W84=0,W$1=1)","v":false},{"$f":"IF(H84=\"-\",1,0)*Y$1","v":1},{"$f":"AND(Y84=0,Y$1=1)","v":false},{"$f":"IF(J84=\"-\",1,0)*AA$1","v":1},{"$f":"AND(AA84=0,AA$1=1)","v":false},{"$f":"IF(L84=\"-\",1,0)*AC$1","v":1},{"$f":"AND(AC84=0,AC$1=1)","v":false}]
[56,null,"-","-",{"$f":"IF(D85=\"-\",0,D85)","v":0},"-",{"$f":"IF(F85=\"-\",0,F85)","v":0},"-",{"$f":"IF(H85=\"-\",0,H85)","v":0},"-",{"$f":"IF(J85=\"-\",0,J85)","v":0},"-",{"$f":"IF(L85=\"-\",0,L85)","v":0},null,{"$f":"E85+G85+I85+K85+M85","v":0},{"$f":"MAX(D85,F85,H85,J85,L85)","v":0},{"$f":"IF(S85=1,O85,IF(S85=0,(O85-P85),\"-\"))","v":"-"},{"$f":"COUNTIF(U85:AD85,\"=TRUE\")","v":0},{"$f":"AE$1-R85","v":5},{"$f":"IF(S85<2,\"Yes\",\"No\")","v":"No"},{"$f":"IF(D85=\"-\",1,0)*U$1","v":1},{"$f":"AND(U85=0,U$1=1)","v":false},{"$f":"IF(F85=\"-\",1,0)*W$1","v":1},{"$f":"AND(W85=0,W$1=1)","v":false},{"$f":"IF(H85=\"-\",1,0)*Y$1","v":1},{"$f":"AND(Y85=0,Y$1=1)","v":false},{"$f":"IF(J85=\"-\",1,0)*AA$1","v":1},{"$f":"AND(AA85=0,AA$1=1)","v":false},{"$f":"IF(L85=\"-\",1,0)*AC$1","v":1},{"$f":"AND(AC85=0,AC$1=1)","v":false}]
[82,null,"-","-",{"$f":"IF(D86=\"-\",0,D86)","v":0},"-",{"$f":"IF(F86=\"-\",0,F86)","v":0},"-",{"$f":"IF(H86=\"-\",0,H86)","v":0},"-",{"$f":"IF(J86=\"-\",0,J86)","v":0},"-",{"$f":"IF(L86=\"-\",0,L86)","v":0},null,{"$f":"E86+G86+I86+K86+M86","v":0},{"$f":"MAX(D86,F86,H86,J86,L86)","v":0},{"$f":"IF(S86=1,O86,IF(S86=0,(O86-P86),\"-\"))","v":"-"},{"$f":"COUNTIF(U86:AD86,\"=TRUE\")","v":0},{"$f":"AE$1-R86","v":5},{"$f":"IF(S86<2,\"Yes\",\"No\")","v":"No"},{"$f":"IF(D86=\"-\",1,0)*U$1","v":1},{"$f":"AND(U86=0,U$1=1)","v":false},{"$f":"IF(F86=\"-\",1,0)*W$1","v":1},{"$f":"AND(W86=0,W$1=1)","v":false},{"$f":"IF(H86=\"-\",1,0)*Y$1","v":1},{"$f":"AND(Y86=0,Y$1=1)","v":false},{"$f":"IF(J86=\"-\",1,0)*AA$1","v":1},{"$f":"AND(AA86=0,AA$1=1)","v":false},{"$f":"IF(L86=\"-\",1,0)*AC$1","v":1},{"$f":"AND(AC86=0,AC$1=1)","v":false}]
[84,null,"-","-",{"$f":"IF(D87=\"-\",0,D87)","v":0},"-",{"$f":"IF(F87=\"-\",0,F87)","v":0},"-",{"$f":"IF(H87=\"-\",0,H87)","v":0},"-",{"$f":"IF(J87=\"-\",0,J87)","v":0},"-",{"$f":"IF(L87=\"-\",0,L87)","v":0},null,{"$f":"E87+G87+I87+K87+M87","v":0},{"$f":"MAX(D87,F87,H87,J87,L87)","v":0},{"$f":"IF(S87=1,O87,IF(S87=0,(O87-P87),\"-\"))","v":"-"},{"$f":"COUNTIF(U87:AD87,\"=TRUE\")","v":0},{"$f":"AE$1-R87","v":5},{"$f":"IF(S87<2,\"Yes\",\"No\")","v":"No"},{"$f":"IF(D87=\"-\",1,0)*U$1","v":1},{"$f":"AND(U87=0,U$1=1)","v":false},{"$f":"IF(F87=\"-\",1,0)*W$1","v":1},{"$f":"AND(W87=0,W$1=1)","v":false},{"$f":"IF(H87=\"-\",1,0)*Y$1","v":1},{"$f":"AND(Y87=0,Y$1=1)","v":false},{"$f":"IF(J87=\"-\",1,0)*AA$1","v":1},{"$f":"AND(AA87=0,AA$1=1)","v":false},{"$f":"IF(L87=\"-\",1,0)*AC$1","v":1},{"$f":"AND(AC87=0,AC$1=1)","v":false}]
[83,null,"-","-",{"$f":"IF(D88=\"-\",0,D88)","v":0},"-",{"$f":"IF(F88=\"-\",0,F88)","v":0},"-",{"$f":"IF(H88=\"-\",0,H88)","v":0},"-",{"$f":"IF(J88=\"-\",0,J88)","v":0},"-",{"$f":"IF(L88=\"-\",0,L88)","v":0},null,{"$f":"E88+G88+I88+K88+M88","v":0},{"$f":"MAX(D88,F88,H88,J88,L88)","v":0},{"$f":"IF(S88=1,O88,IF(S88=0,(O88-P88),\"-\"))","v":"-"},{"$f":"COUNTIF(U88:AD88,\"=TRUE\")","v":0},{"$f":"AE$1-R88","v":5},{"$f":"IF(S88<2,\"Yes\",\"No\")","v":"No"},{"$f":"IF(D88=\"-\",1,0)*U$1","v":1},{"$f":"AND(U88=0,U$1=1)","v":false},{"$f":"IF(F88=\"-\",1,0)*W$1","v":1},{"$f":"AND(W88=0,W$1=1)","v":false},{"$f":"IF(H88=\"-\",1,0)*Y$1","v":1},{"$f":"AND(Y88=0,Y$1=1)","v":false},{"$f":"IF(J88=\"-\",1,0)*AA$1","v":1},{"$f":"AND(AA88=0,AA$1=1)","v":false},{"$f":"IF(L88=\"-\",1,0)*AC$1","v":1},{"$f":"AND(AC88=0,AC$1=1)","v":false}]
[85,null,"-","-",{"$f":"IF(D89=\"-\",0,D89)","v":0},"-",{"$f":"IF(F89=\"-\",0,F89)","v":0},"-",{"$f":"IF(H89=\"-\",0,H89)","v":0},"-",{"$f":"IF(J89=\"-\",0,J89)","v":0},"-",{"$f":"IF(L89=\"-\",0,L89)","v":0},null,{"$f":"E89+G89+I89+K89+M89","v":0},{"$f":"MAX(D89,F89,H89,J89,L89)","v":0},{"$f":"IF(S89=1,O89,IF(S89=0,(O89-P89),\"-\"))","v":"-"},{"$f":"COUNTIF(U89:AD89,\"=TRUE\")","v":0},{"$f":"AE$1-R89","v":5},{"$f":"IF(S89<2,\"Yes\",\"No\")","v":"No"},{"$f":"IF(D89=\"-\",1,0)*U$1","v":1},{"$f":"AND(U89=0,U$1=1)","v":false},{"$f":"IF(F89=\"-\",1,0)*W$1","v":1},{"$f":"AND(W89=0,W$1=1)","v":false},{"$f":"IF(H89=\"-\",1,0)*Y$1","v":1},{"$f":"AND(Y89=0,Y$1=1)","v":false},{"$f":"IF(J89=\"-\",1,0)*AA$1","v":1},{"$f":"AND(AA89=0,AA$1=1)","v":false},{"$f":"IF(L89=\"-\",1,0)*AC$1","v":1},{"$f":"AND(AC89=0,AC$1=1)","v":false}]
[86,null,"-","-",{"$f":"IF(D90=\"-\",0,D90)","v":0},"-",{"$f":"IF(F90=\"-\",0,F90)","v":0},"-",{"$f":"IF(H90=\"-\",0,H90)","v":0},"-",{"$f":"IF(J90=\"-\",0,J90)","v":0},"-",{"$f":"IF(L90=\"-\",0,L90)","v":0},null,{"$f":"E90+G90+I90+K90+M90","v":0},{"$f":"MAX(D90,F90,H90,J90,L90)","v":0},{"$f":"IF(S90=1,O90,IF(S90=0,(O90-P90),\"-\"))","v":"-"},{"$f":"COUNTIF(U90:AD90,\"=TRUE\")","v":0},{"$f":"AE$1-R90","v":5},{"$f":"IF(S90<2,\"Yes\",\"No\")","v":"No"},{"$f":"IF(D90=\"-\",1,0)*U$1","v":1},{"$f":"AND(U90=0,U$1=1)","v":false},{"$f":"IF(F90=\"-\",1,0)*W$1","v":1},{"$f":"AND(W90=0,W$1=1)","v":false},{"$f":"IF(H90=\"-\",1,0)*Y$1","v":1},{"$f":"AND(Y90=0,Y$1=1)","v":false},{"$f":"IF(J90=\"-\",1,0)*AA$1","v":1},{"$f":"AND(AA90=0,AA$1=1)","v":false},{"$f":"IF(L90=\"-\",1,0)*AC$1","v":1},{"$f":"AND(AC90=0,AC$1=1)","v":false}]
[87,null,"-","-",{"$f":"IF(D91=\"-\",0,D91)","v":0},"-",{"$f":"IF(F91=\"-\",0,F91)","v":0},"-",{"$f":"IF(H91=\"-\",0,H91)","v":0},"-",{"$f":"IF(J91=\"-\",0,J91)","v":0},"-",{"$f":"IF(L91=\"-\",0,L91)","v":0},null,{"$f":"E91+G91+I91+K91+M91","v":0},{"$f":"MAX(D91,F91,H91,J91,L91)","v":0},{"$f":"IF(S91=1,O91,IF(S91=0,(O91-P91),\"-\"))","v":"-"},{"$f":"COUNTIF(U91:AD91,\"=TRUE\")","v":0},{"$f":"AE$1-R91","v":5},{"$f":"IF(S91<2,\"Yes\",\"No\")","v":"No"},{"$f":"IF(D91=\"-\",1,0)*U$1","v":1},{"$f":"AND(U91=0,U$1=1)","v":false},{"$f":"IF(F91=\"-\",1,0)*W$1","v":1},{"$f":"AND(W91=0,W$1=1)","v":false},{"$f":"IF(H91=\"-\",1,0)*Y$1","v":1},{"$f":"AND(Y91=0,Y$1=1)","v":false},{"$f":"IF(J91=\"-\",1,0)*AA$1","v":1},{"$f":"AND(AA91=0,AA$1=1)","v":false},{"$f":"IF(L91=\"-\",1,0)*AC$1","v":1},{"$f":"AND(AC91=0,AC$1=1)","v":false}]
[88,null,"-","-",{"$f":"IF(D92=\"-\",0,D92)","v":0},"-",{"$f":"IF(F92=\"-\",0,F92)","v":0},"-",{"$f":"IF(H92=\"-\",0,H92)","v":0},"-",{"$f":"IF(J92=\"-\",0,J92)","v":0},"-",{"$f":"IF(L92=\"-\",0,L92)","v":0},null,{"$f":"E92+G92+I92+K92+M92","v":0},{"$f":"MAX(D92,F92,H92,J92,L92)","v":0},{"$f":"IF(S92=1,O92,IF(S92=0,(O92-P92),\"-\"))","v":"-"},{"$f":"COUNTIF(U92:AD92,\"=TRUE\")","v":0},{"$f":"AE$1-R92","v":5},{"$f":"IF(S92<2,\"Yes\",\"No\")","v":"No"},{"$f":"IF(D92=\"-\",1,0)*U$1","v":1},{"$f":"AND(U92=0,U$1=1)","v":false},{"$f":"IF(F92=\"-\",1,0)*W$1","v":1},{"$f":"AND(W92=0,W$1=1)","v":false},{"$f":"IF(H92=\"-\",1,0)*Y$1","v":1},{"$f":"AND(Y92=0,Y$1=1)","v":false},{"$f":"IF(J92=\"-\",1,0)*AA$1","v":1},{"$f":"AND(AA92=0,AA$1=1)","v":false},{"$f":"IF(L92=\"-\",1,0)*AC$1","v":1},{"$f":"AND(AC92=0,AC$1=1)","v":false}]
[89,null,"-","-",{"$f":"IF(D93=\"-\",0,D93)","v":0},"-",{"$f":"IF(F93=\"-\",0,F93)","v":0},"-",{"$f":"IF(H93=\"-\",0,H93)","v":0},"-",{"$f":"IF(J93=\"-\",0,J93)","v":0},"-",{"$f":"IF(L93=\"-\",0,L93)","v":0},null,{"$f":"E93+G93+I93+K93+M93","v":0},{"$f":"MAX(D93,F93,H93,J93,L93)","v":0},{"$f":"IF(S93=1,O93,IF(S93=0,(O93-P93),\"-\"))","v":"-"},{"$f":"COUNTIF(U93:AD93,\"=TRUE\")","v":0},{"$f":"AE$1-R93","v":5},{"$f":"IF(S93<2,\"Yes\",\"No\")","v":"No"},{"$f":"IF(D93=\"-\",1,0)*U$1","v":1},{"$f":"AND(U93=0,U$1=1)","v":false},{"$f":"IF(F93=\"-\",1,0)*W$1","v":1},{"$f":"AND(W93=0,W$1=1)","v":false},{"$f":"IF(H93=\"-\",1,0)*Y$1","v":1},{"$f":"AND(Y93=0,Y$1=1)","v":false},{"$f":"IF(J93=\"-\",1,0)*AA$1","v":1},{"$f":"AND(AA93=0,AA$1=1)","v":false},{"$f":"IF(L93=\"-\",1,0)*AC$1","v":1},{"$f":"AND(AC93=0,AC$1=1)","v":false}]
[90,null,"-","-",{"$f":"IF(D94=\"-\",0,D94)","v":0},"-",{"$f":"IF(F94=\"-\",0,F94)","v":0},"-",{"$f":"IF(H94=\"-\",0,H94)","v":0},"-",{"$f":"IF(J94=\"-\",0,J94)","v":0},"-",{"$f":"IF(L94=\"-\",0,L94)","v":0},null,{"$f":"E94+G94+I94+K94+M94","v":0},{"$f":"MAX(D94,F94,H94,J94,L94)","v":0},{"$f":"IF(S94=1,O94,IF(S94=0,(O94-P94),\"-\"))","v":"-"},{"$f":"COUNTIF(U94:AD94,\"=TRUE\")","v":0},{"$f":"AE$1-R94","v":5},{"$f":"IF(S94<2,\"Yes\",\"No\")","v":"No"},{"$f":"IF(D94=\"-\",1,0)*U$1","v":1},{"$f":"AND(U94=0,U$1=1)","v":false},{"$f":"IF(F94=\"-\",1,0)*W$1","v":1},{"$f":"AND(W94=0,W$1=1)","v":false},{"$f":"IF(H94=\"-\",1,0)*Y$1","v":1},{"$f":"AND(Y94=0,Y$1=1)","v":false},{"$f":"IF(J94=\"-\",1,0)*AA$1","v":1},{"$f":"AND(AA94=0,AA$1=1)","v":false},{"$f":"IF(L94=\"-\",1,0)*AC$1","v":1},{"$f":"AND(AC94=0,AC$1=1)","v":false}]
[91,null,"-","-",{"$f":"IF(D95=\"-\",0,D95)","v":0},"-",{"$f":"IF(F95=\"-\",0,F95)","v":0},"-",{"$f":"IF(H95=\"-\",0,H95)","v":0},"-",{"$f":"IF(J95=\"-\",0,J95)","v":0},"-",{"$f":"IF(L95=\"-\",0,L95)","v":0},null,{"$f":"E95+G95+I95+K95+M95","v":0},{"$f":"MAX(D95,F95,H95,J95,L95)","v":0},{"$f":"IF(S95=1,O95,IF(S95=0,(O95-P95),\"-\"))","v":"-"},{"$f":"COUNTIF(U95:AD95,\"=TRUE\")","v":0},{"$f":"AE$1-R95","v":5},{"$f":"IF(S95<2,\"Yes\",\"No\")","v":"No"},{"$f":"IF(D95=\"-\",1,0)*U$1","v":1},{"$f":"AND(U95=0,U$1=1)","v":false},{"$f":"IF(F95=\"-\",1,0)*W$1","v":1},{"$f":"AND(W95=0,W$1=1)","v":false},{"$f":"IF(H95=\"-\",1,0)*Y$1","v":1},{"$f":"AND(Y95=0,Y$1=1)","v":false},{"$f":"IF(J95=\"-\",1,0)*AA$1","v":1},{"$f":"AND(AA95=0,AA$1=1)","v":false},{"$f":"IF(L95=\"-\",1,0)*AC$1","v":1},{"$f":"AND(AC95=0,AC$1=1)","v":false}]
[92,null,"-","-",{"$f":"IF(D96=\"-\",0,D96)","v":0},"-",{"$f":"IF(F96=\"-\",0,F96)","v":0},"-",{"$f":"IF(H96=\"-\",0,H96)","v":0},"-",{"$f":"IF(J96=\"-\",0,J96)","v":0},"-",{"$f":"IF(L96=\"-\",0,L96)","v":0},null,{"$f":"E96+G96+I96+K96+M96","v":0},{"$f":"MAX(D96,F96,H96,J96,L96)","v":0},{"$f":"IF(S96=1,O96,IF(S96=0,(O96-P96),\"-\"))","v":"-"},{"$f":"COUNTIF(U96:AD96,\"=TRUE\")","v":0},{"$f":"AE$1-R96","v":5},{"$f":"IF(S96<2,\"Yes\",\"No\")","v":"No"},{"$f":"IF(D96=\"-\",1,0)*U$1","v":1},{"$f":"AND(U96=0,U$1=1)","v":false},{"$f":"IF(F96=\"-\",1,0)*W$1","v":1},{"$f":"AND(W96=0,W$1=1)","v":false},{"$f":"IF(H96=\"-\",1,0)*Y$1","v":1},{"$f":"AND(Y96=0,Y$1=1)","v":false},{"$f":"IF(J96=\"-\",1,0)*AA$1","v":1},{"$f":"AND(AA96=0,AA$1=1)","v":false},{"$f":"IF(L96=\"-\",1,0)*AC$1","v":1},{"$f":"AND(AC96=0,AC$1=1)","v":false}]
[93,null,"-","-",{"$f":"IF(D97=\"-\",0,D97)","v":0},"-",{"$f":"IF(F97=\"-\",0,F97)","v":0},"-",{"$f":"IF(H97=\"-\",0,H97)","v":0},"-",{"$f":"IF(J97=\"-\",0,J97)","v":0},"-",{"$f":"IF(L97=\"-\",0,L97)","v":0},null,{"$f":"E97+G97+I97+K97+M97","v":0},{"$f":"MAX(D97,F97,H97,J97,L97)","v":0},{"$f":"IF(S97=1,O97,IF(S97=0,(O97-P97),\"-\"))","v":"-"},{"$f":"COUNTIF(U97:AD97,\"=TRUE\")","v":0},{"$f":"AE$1-R97","v":5},{"$f":"IF(S97<2,\"Yes\",\"No\")","v":"No"},{"$f":"IF(D97=\"-\",1,0)*U$1","v":1},{"$f":"AND(U97=0,U$1=1)","v":false},{"$f":"IF(F97=\"-\",1,0)*W$1","v":1},{"$f":"AND(W97=0,W$1=1)","v":false},{"$f":"IF(H97=\"-\",1,0)*Y$1","v":1},{"$f":"AND(Y97=0,Y$1=1)","v":false},{"$f":"IF(J97=\"-\",1,0)*AA$1","v":1},{"$f":"AND(AA97=0,AA$1=1)","v":false},{"$f":"IF(L97=\"-\",1,0)*AC$1","v":1},{"$f":"AND(AC97=0,AC$1=1)","v":false}]
[94,null,"-","-",{"$f":"IF(D98=\"-\",0,D98)","v":0},"-",{"$f":"IF(F98=\"-\",0,F98)","v":0},"-",{"$f":"IF(H98=\"-\",0,H98)","v":0},"-",{"$f":"IF(J98=\"-\",0,J98)","v":0},"-",{"$f":"IF(L98=\"-\",0,L98)","v":0},null,{"$f":"E98+G98+I98+K98+M98","v":0},{"$f":"MAX(D98,F98,H98,J98,L98)","v":0},{"$f":"IF(S98=1,O98,IF(S98=0,(O98-P98),\"-\"))","v":"-"},{"$f":"COUNTIF(U98:AD98,\"=TRUE\")","v":0},{"$f":"AE$1-R98","v":5},{"$f":"IF(S98<2,\"Yes\",\"No\")","v":"No"},{"$f":"IF(D98=\"-\",1,0)*U$1","v":1},{"$f":"AND(U98=0,U$1=1)","v":false},{"$f":"IF(F98=\"-\",1,0)*W$1","v":1},{"$f":"AND(W98=0,W$1=1)","v":false},{"$f":"IF(H98=\"-\",1,0)*Y$1","v":1},{"$f":"AND(Y98=0,Y$1=1)","v":false},{"$f":"IF(J98=\"-\",1,0)*AA$1","v":1},{"$f":"AND(AA98=0,AA$1=1)","v":false},{"$f":"IF(L98=\"-\",1,0)*AC$1","v":1},{"$f":"AND(AC98=0,AC$1=1)","v":false}]
[95,null,"-","-",{"$f":"IF(D99=\"-\",0,D99)","v":0},"-",{"$f":"IF(F99=\"-\",0,F99)","v":0},"-",{"$f":"IF(H99=\"-\",0,H99)","v":0},"-",{"$f":"IF(J99=\"-\",0,J99)","v":0},"-",{"$f":"IF(L99=\"-\",0,L99)","v":0},null,{"$f":"E99+G99+I99+K99+M99","v":0},{"$f":"MAX(D99,F99,H99,J99,L99)","v":0},{"$f":"IF(S99=1,O99,IF(S99=0,(O99-P99),\"-\"))","v":"-"},{"$f":"COUNTIF(U99:AD99,\"=TRUE\")","v":0},{"$f":"AE$1-R99","v":5},{"$f":"IF(S99<2,\"Yes\",\"No\")","v":"No"},{"$f":"IF(D99=\"-\",1,0)*U$1","v":1},{"$f":"AND(U99=0,U$1=1)","v":false},{"$f":"IF(F99=\"-\",1,0)*W$1","v":1},{"$f":"AND(W99=0,W$1=1)","v":false},{"$f":"IF(H99=\"-\",1,0)*Y$1","v":1},{"$f":"AND(Y99=0,Y$1=1)","v":false},{"$f":"IF(J99=\"-\",1,0)*AA$1","v":1},{"$f":"AND(AA99=0,AA$1=1)","v":false},{"$f":"IF(L99=\"-\",1,0)*AC$1","v":1},{"$f":"AND(AC99=0,AC$1=1)","v":false}]
[96,null,"-","-",{"$f":"IF(D100=\"-\",0,D100)","v":0},"-",{"$f":"IF(F100=\"-\",0,F100)","v":0},"-",{"$f":"IF(H100=\"-\",0,H100)","v":0},"-",{"$f":"IF(J100=\"-\",0,J100)","v":0},"-",{"$f":"IF(L100=\"-\",0,L100)","v":0},null,{"$f":"E100+G100+I100+K100+M100","v":0},{"$f":"MAX(D100,F100,H100,J100,L100)","v":0},{"$f":"IF(S100=1,O100,IF(S100=0,(O100-P100),\"-\"))","v":"-"},{"$f":"COUNTIF(U100:AD100,\"=TRUE\")","v":0},{"$f":"AE$1-R100","v":5},{"$f":"IF(S100<2,\"Yes\",\"No\")","v":"No"},{"$f":"IF(D100=\"-\",1,0)*U$1","v":1},{"$f":"AND(U100=0,U$1=1)","v":false},{"$f":"IF(F100=\"-\",1,0)*W$1","v":1},{"$f":"AND(W100=0,W$1=1)","v":false},{"$f":"IF(H100=\"-\",1,0)*Y$1","v":1},{"$f":"AND(Y100=0,Y$1=1)","v":false},{"$f":"IF(J100=\"-\",1,0)*AA$1","v":1},{"$f":"AND(AA100=0,AA$1=1)","v":false},{"$f":"IF(L100=\"-\",1,0)*AC$1","v":1},{"$f":"AND(AC100=0,AC$1=1)","v":false}]
[97,null,"-","-",{"$f":"IF(D101=\"-\",0,D101)","v":0},"-",{"$f":"IF(F101=\"-\",0,F101)","v":0},"-",{"$f":"IF(H101=\"-\",0,H101)","v":0},"-",{"$f":"IF(J101=\"-\",0,J101)","v":0},"-",{"$f":"IF(L101=\"-\",0,L101)","v":0},null,{"$f":"E101+G101+I101+K101+M101","v":0},{"$f":"MAX(D101,F101,H101,J101,L101)","v":0},{"$f":"IF(S101=1,O101,IF(S101=0,(O101-P101),\"-\"))","v":"-"},{"$f":"COUNTIF(U101:AD101,\"=TRUE\")","v":0},{"$f":"AE$1-R101","v":5},{"$f":"IF(S101<2,\"Yes\",\"No\")","v":"No"},{"$f":"IF(D101=\"-\",1,0)*U$1","v":1},{"$f":"AND(U101=0,U$1=1)","v":false},{"$f":"IF(F101=\"-\",1,0)*W$1","v":1},{"$f":"AND(W101=0,W$1=1)","v":false},{"$f":"IF(H101=\"-\",1,0)*Y$1","v":1},{"$f":"AND(Y101=0,Y$1=1)","v":false},{"$f":"IF(J101=\"-\",1,0)*AA$1","v":1},{"$f":"AND(AA101=0,AA$1=1)","v":false},{"$f":"IF(L101=\"-\",1,0)*AC$1","v":1},{"$f":"AND(AC101=0,AC$1=1)","v":false}]
[98,null,"-","-",{"$f":"IF(D102=\"-\",0,D102)","v":0},"-",{"$f":"IF(F102=\"-\",0,F102)","v":0},"-",{"$f":"IF(H102=\"-\",0,H102)","v":0},"-",{"$f":"IF(J102=\"-\",0,J102)","v":0},"-",{"$f":"IF(L102=\"-\",0,L102)","v":0},null,{"$f":"E102+G102+I102+K102+M102","v":0},{"$f":"MAX(D102,F102,H102,J102,L102)","v":0},{"$f":"IF(S102=1,O102,IF(S102=0,(O102-P102),\"-\"))","v":"-"},{"$f":"COUNTIF(U102:AD102,\"=TRUE\")","v":0},{"$f":"AE$1-R102","v":5},{"$f":"IF(S102<2,\"Yes\",\"No\")","v":"No"},{"$f":"IF(D102=\"-\",1,0)*U$1","v":1},{"$f":"AND(U102=0,U$1=1)","v":false},{"$f":"IF(F102=\"-\",1,0)*W$1","v":1},{"$f":"AND(W102=0,W$1=1)","v":false},{"$f":"IF(H102=\"-\",1,0)*Y$1","v":1},{"$f":"AND(Y102=0,Y$1=1)","v":false},{"$f":"IF(J102=\"-\",1,0)*AA$1","v":1},{"$f":"AND(AA102=0,AA$1=1)","v":false},{"$f":"IF(L102=\"-\",1,0)*AC$1","v":1},{"$f":"AND(AC102=0,AC$1=1)","v":false}]
[99,null,"-","-",{"$f":"IF(D103=\"-\",0,D103)","v":0},"-",{"$f":"IF(F103=\"-\",0,F103)","v":0},"-",{"$f":"IF(H103=\"-\",0,H103)","v":0},"-",{"$f":"IF(J103=\"-\",0,J103)","v":0},"-",{"$f":"IF(L103=\"-\",0,L103)","v":0},null,{"$f":"E103+G103+I103+K103+M103","v":0},{"$f":"MAX(D103,F103,H103,J103,L103)","v":0},{"$f":"IF(S103=1,O103,IF(S103=0,(O103-P103),\"-\"))","v":"-"},{"$f":"COUNTIF(U103:AD103,\"=TRUE\")","v":0},{"$f":"AE$1-R103","v":5},{"$f":"IF(S103<2,\"Yes\",\"No\")","v":"No"},{"$f":"IF(D103=\"-\",1,0)*U$1","v":1},{"$f":"AND(U103=0,U$1=1)","v":false},{"$f":"IF(F103=\"-\",1,0)*W$1","v":1},{"$f":"AND(W103=0,W$1=1)","v":false},{"$f":"IF(H103=\"-\",1,0)*Y$1","v":1},{"$f":"AND(Y103=0,Y$1=1)","v":false},{"$f":"IF(J103=\"-\",1,0)*AA$1","v":1},{"$f":"AND(AA103=0,AA$1=1)","v":false},{"$f":"IF(L103=\"-\",1,0)*AC$1","v":1},{"$f":"AND(AC103=0,AC$1=1)","v":false}]
[100,null,"-","-",{"$f":"IF(D104=\"-\",0,D104)","v":0},"-",{"$f":"IF(F104=\"-\",0,F104)","v":0},"-",{"$f":"IF(H104=\"-\",0,H104)","v":0},"-",{"$f":"IF(J104=\"-\",0,J104)","v":0},"-",{"$f":"IF(L104=\"-\",0,L104)","v":0},null,{"$f":"E104+G104+I104+K104+M104","v":0},{"$f":"MAX(D104,F104,H104,J104,L104)","v":0},{"$f":"IF(S104=1,O104,IF(S104=0,(O104-P104),\"-\"))","v":"-"},{"$f":"COUNTIF(U104:AD104,\"=TRUE\")","v":0},{"$f":"AE$1-R104","v":5},{"$f":"IF(S104<2,\"Yes\",\"No\")","v":"No"},{"$f":"IF(D104=\"-\",1,0)*U$1","v":1},{"$f":"AND(U104=0,U$1=1)","v":false},{"$f":"IF(F104=\"-\",1,0)*W$1","v":1},{"$f":"AND(W104=0,W$1=1)","v":false},{"$f":"IF(H104=\"-\",1,0)*Y$1","v":1},{"$f":"AND(Y104=0,Y$1=1)","v":false},{"$f":"IF(J104=\"-\",1,0)*AA$1","v":1},{"$f":"AND(AA104=0,AA$1=1)","v":false},{"$f":"IF(L104=\"-\",1,0)*AC$1","v":1},{"$f":"AND(AC104=0,AC$1=1)","v":false}]
[101,null,"-","-",{"$f":"IF(D105=\"-\",0,D105)","v":0},"-",{"$f":"IF(F105=\"-\",0,F105)","v":0},"-",{"$f":"IF(H105=\"-\",0,H105)","v":0},"-",{"$f":"IF(J105=\"-\",0,J105)","v":0},"-",{"$f":"IF(L105=\"-\",0,L105)","v":0},null,{"$f":"E105+G105+I105+K105+M105","v":0},{"$f":"MAX(D105,F105,H105,J105,L105)","v":0},{"$f":"IF(S105=1,O105,IF(S105=0,(O105-P105),\"-\"))","v":"-"},{"$f":"COUNTIF(U105:AD105,\"=TRUE\")","v":0},{"$f":"AE$1-R105","v":5},{"$f":"IF(S105<2,\"Yes\",\"No\")","v":"No"},{"$f":"IF(D105=\"-\",1,0)*U$1","v":1},{"$f":"AND(U105=0,U$1=1)","v":false},{"$f":"IF(F105=\"-\",1,0)*W$1","v":1},{"$f":"AND(W105=0,W$1=1)","v":false},{"$f":"IF(H105=\"-\",1,0)*Y$1","v":1},{"$f":"AND(Y105=0,Y$1=1)","v":false},{"$f":"IF(J105=\"-\",1,0)*AA$1","v":1},{"$f":"AND(AA105=0,AA$1=1)","v":false},{"$f":"IF(L105=\"-\",1,0)*AC$1","v":1},{"$f":"AND(AC105=0,AC$1=1)","v":false}]
[102,null,"-","-",{"$f":"IF(D106=\"-\",0,D106)","v":0},"-",{"$f":"IF(F106=\"-\",0,F106)","v":0},"-",{"$f":"IF(H106=\"-\",0,H106)","v":0},"-",{"$f":"IF(J106=\"-\",0,J106)","v":0},"-",{"$f":"IF(L106=\"-\",0,L106)","v":0},null,{"$f":"E106+G106+I106+K106+M106","v":0},{"$f":"MAX(D106,F106,H106,J106,L106)","v":0},{"$f":"IF(S106=1,O106,IF(S106=0,(O106-P106),\"-\"))","v":"-"},{"$f":"COUNTIF(U106:AD106,\"=TRUE\")","v":0},{"$f":"AE$1-R106","v":5},{"$f":"IF(S106<2,\"Yes\",\"No\")","v":"No"},{"$f":"IF(D106=\"-\",1,0)*U$1","v":1},{"$f":"AND(U106=0,U$1=1)","v":false},{"$f":"IF(F106=\"-\",1,0)*W$1","v":1},{"$f":"AND(W106=0,W$1=1)","v":false},{"$f":"IF(H106=\"-\",1,0)*Y$1","v":1},{"$f":"AND(Y106=0,Y$1=1)","v":false},{"$f":"IF(J106=\"-\",1,0)*AA$1","v":1},{"$f":"AND(AA106=0,AA$1=1)","v":false},{"$f":"IF(L106=\"-\",1,0)*AC$1","v":1},{"$f":"AND(AC106=0,AC$1=1)","v":false}]
[103,null,"-","-",{"$f":"IF(D107=\"-\",0,D107)","v":0},"-",{"$f":"IF(F107=\"-\",0,F107)","v":0},"-",{"$f":"IF(H107=\"-\",0,H107)","v":0},"-",{"$f":"IF(J107=\"-\",0,J107)","v":0},"-",{"$f":"IF(L107=\"-\",0,L107)","v":0},null,{"$f":"E107+G107+I107+K107+M107","v":0},{"$f":"MAX(D107,F107,H107,J107,L107)","v":0},{"$f":"IF(S107=1,O107,IF(S107=0,(O107-P107),\"-\"))","v":"-"},{"$f":"COUNTIF(U107:AD107,\"=TRUE\")","v":0},{"$f":"AE$1-R107","v":5},{"$f":"IF(S107<2,\"Yes\",\"No\")","v":"No"},{"$f":"IF(D107=\"-\",1,0)*U$1","v":1},{"$f":"AND(U107=0,U$1=1)","v":false},{"$f":"IF(F107=\"-\",1,0)*W$1","v":1},{"$f":"AND(W107=0,W$1=1)","v":false},{"$f":"IF(H107=\"-\",1,0)*Y$1","v":1},{"$f":"AND(Y107=0,Y$1=1)","v":false},{"$f":"IF(J107=\"-\",1,0)*AA$1","v":1},{"$f":"AND(AA107=0,AA$1=1)","v":false},{"$f":"IF(L107=\"-\",1,0)*AC$1","v":1},{"$f":"AND(AC107=0,AC$1=1)","v":false}]
[104,null,"-","-",{"$f":"IF(D108=\"-\",0,D108)","v":0},"-",{"$f":"IF(F108=\"-\",0,F108)","v":0},"-",{"$f":"IF(H108=\"-\",0,H108)","v":0},"-",{"$f":"IF(J108=\"-\",0,J108)","v":0},"-",{"$f":"IF(L108=\"-\",0,L108)","v":0},null,{"$f":"E108+G108+I108+K108+M108","v":0},{"$f":"MAX(D108,F108,H108,J108,L108)","v":0},{"$f":"IF(S108=1,O108,IF(S108=0,(O108-P108),\"-\"))","v":"-"},{"$f":"COUNTIF(U108:AD108,\"=TRUE\")","v":0},{"$f":"AE$1-R108","v":5},{"$f":"IF(S108<2,\"Yes\",\"No\")","v":"No"},{"$f":"IF(D108=\"-\",1,0)*U$1","v":1},{"$f":"AND(U108=0,U$1=1)","v":false},{"$f":"IF(F108=\"-\",1,0)*W$1","v":1},{"$f":"AND(W108=0,W$1=1)","v":false},{"$f":"IF(H108=\"-\",1,0)*Y$1","v":1},{"$f":"AND(Y108=0,Y$1=1)","v":false},{"$f":"IF(J108=\"-\",1,0)*AA$1","v":1},{"$f":"AND(AA108=0,AA$1=1)","v":false},{"$f":"IF(L108=\"-\",1,0)*AC$1","v":1},{"$f":"AND(AC108=0,AC$1=1)","v":false}]
[105,null,"-","-",{"$f":"IF(D109=\"-\",0,D109)","v":0},"-",{"$f":"IF(F109=\"-\",0,F109)","v":0},"-",{"$f":"IF(H109=\"-\",0,H109)","v":0},"-",{"$f":"IF(J109=\"-\",0,J109)","v":0},"-",{"$f":"IF(L109=\"-\",0,L109)","v":0},null,{"$f":"E109+G109+I109+K109+M109","v":0},{"$f":"MAX(D109,F109,H109,J109,L109)","v":0},{"$f":"IF(S109=1,O109,IF(S109=0,(O109-P109),\"-\"))","v":"-"},{"$f":"COUNTIF(U109:AD109,\"=TRUE\")","v":0},{"$f":"AE$1-R109","v":5},{"$f":"IF(S109<2,\"Yes\",\"No\")","v":"No"},{"$f":"IF(D109=\"-\",1,0)*U$1","v":1},{"$f":"AND(U109=0,U$1=1)","v":false},{"$f":"IF(F109=\"-\",1,0)*W$1","v":1},{"$f":"AND(W109=0,W$1=1)","v":false},{"$f":"IF(H109=\"-\",1,0)*Y$1","v":1},{"$f":"AND(Y109=0,Y$1=1)","v":false},{"$f":"IF(J109=\"-\",1,0)*AA$1","v":1},{"$f":"AND(AA109=0,AA$1=1)","v":false},{"$f":"IF(L109=\"-\",1,0)*AC$1","v":1},{"$f":"AND(AC109=0,AC$1=1)","v":false}]
[106,null,"-","-",{"$f":"IF(D110=\"-\",0,D110)","v":0},"-",{"$f":"IF(F110=\"-\",0,F110)","v":0},"-",{"$f":"IF(H110=\"-\",0,H110)","v":0},"-",{"$f":"IF(J110=\"-\",0,J110)","v":0},"-",{"$f":"IF(L110=\"-\",0,L110)","v":0},null,{"$f":"E110+G110+I110+K110+M110","v":0},{"$f":"MAX(D110,F110,H110,J110,L110)","v":0},{"$f":"IF(S110=1,O110,IF(S110=0,(O110-P110),\"-\"))","v":"-"},{"$f":"COUNTIF(U110:AD110,\"=TRUE\")","v":0},{"$f":"AE$1-R110","v":5},{"$f":"IF(S110<2,\"Yes\",\"No\")","v":"No"},{"$f":"IF(D110=\"-\",1,0)*U$1","v":1},{"$f":"AND(U110=0,U$1=1)","v":false},{"$f":"IF(F110=\"-\",1,0)*W$1","v":1},{"$f":"AND(W110=0,W$1=1)","v":false},{"$f":"IF(H110=\"-\",1,0)*Y$1","v":1},{"$f":"AND(Y110=0,Y$1=1)","v":false},{"$f":"IF(J110=\"-\",1,0)*AA$1","v":1},{"$f":"AND(AA110=0,AA$1=1)","v":false},{"$f":"IF(L110=\"-\",1,0)*AC$1","v":1},{"$f":"AND(AC110=0,AC$1=1)","v":false}]
[107,null,"-","-",{"$f":"IF(D111=\"-\",0,D111)","v":0},"-",{"$f":"IF(F111=\"-\",0,F111)","v":0},"-",{"$f":"IF(H111=\"-\",0,H111)","v":0},"-",{"$f":"IF(J111=\"-\",0,J111)","v":0},"-",{"$f":"IF(L111=\"-\",0,L111)","v":0},null,{"$f":"E111+G111+I111+K111+M111","v":0},{"$f":"MAX(D111,F111,H111,J111,L111)","v":0},{"$f":"IF(S111=1,O111,IF(S111=0,(O111-P111),\"-\"))","v":"-"},{"$f":"COUNTIF(U111:AD111,\"=TRUE\")","v":0},{"$f":"AE$1-R111","v":5},{"$f":"IF(S111<2,\"Yes\",\"No\")","v":"No"},{"$f":"IF(D111=\"-\",1,0)*U$1","v":1},{"$f":"AND(U111=0,U$1=1)","v":false},{"$f":"IF(F111=\"-\",1,0)*W$1","v":1},{"$f":"AND(W111=0,W$1=1)","v":false},{"$f":"IF(H111=\"-\",1,0)*Y$1","v":1},{"$f":"AND(Y111=0,Y$1=1)","v":false},{"$f":"IF(J111=\"-\",1,0)*AA$1","v":1},{"$f":"AND(AA111=0,AA$1=1)","v":false},{"$f":"IF(L111=\"-\",1,0)*AC$1","v":1},{"$f":"AND(AC111=0,AC$1=1)","v":false}]
[108,null,"-","-",{"$f":"IF(D112=\"-\",0,D112)","v":0},"-",{"$f":"IF(F112=\"-\",0,F112)","v":0},"-",{"$f":"IF(H112=\"-\",0,H112)","v":0},"-",{"$f":"IF(J112=\"-\",0,J112)","v":0},"-",{"$f":"IF(L112=\"-\",0,L112)","v":0},null,{"$f":"E112+G112+I112+K112+M112","v":0},{"$f":"MAX(D112,F112,H112,J112,L112)","v":0},{"$f":"IF(S112=1,O112,IF(S112=0,(O112-P112),\"-\"))","v":"-"},{"$f":"COUNTIF(U112:AD112,\"=TRUE\")","v":0},{"$f":"AE$1-R112","v":5},{"$f":"IF(S112<2,\"Yes\",\"No\")","v":"No"},{"$f":"IF(D112=\"-\",1,0)*U$1","v":1},{"$f":"AND(U112=0,U$1=1)","v":false},{"$f":"IF(F112=\"-\",1,0)*W$1","v":1},{"$f":"AND(W112=0,W$1=1)","v":false},{"$f":"IF(H112=\"-\",1,0)*Y$1","v":1},{"$f":"AND(Y112=0,Y$1=1)","v":false},{"$f":"IF(J112=\"-\",1,0)*AA$1","v":1},{"$f":"AND(AA112=0,AA$1=1)","v":false},{"$f":"IF(L112=\"-\",1,0)*AC$1","v":1},{"$f":"AND(AC112=0,AC$1=1)","v":false}]
[109,null,"-","-",{"$f":"IF(D113=\"-\",0,D113)","v":0},"-",{"$f":"IF(F113=\"-\",0,F113)","v":0},"-",{"$f":"IF(H113=\"-\",0,H113)","v":0},"-",{"$f":"IF(J113=\"-\",0,J113)","v":0},"-",{"$f":"IF(L113=\"-\",0,L113)","v":0},null,{"$f":"E113+G113+I113+K113+M113","v":0},{"$f":"MAX(D113,F113,H113,J113,L113)","v":0},{"$f":"IF(S113=1,O113,IF(S113=0,(O113-P113),\"-\"))","v":"-"},{"$f":"COUNTIF(U113:AD113,\"=TRUE\")","v":0},{"$f":"AE$1-R113","v":5},{"$f":"IF(S113<2,\"Yes\",\"No\")","v":"No"},{"$f":"IF(D113=\"-\",1,0)*U$1","v":1},{"$f":"AND(U113=0,U$1=1)","v":false},{"$f":"IF(F113=\"-\",1,0)*W$1","v":1},{"$f":"AND(W113=0,W$1=1)","v":false},{"$f":"IF(H113=\"-\",1,0)*Y$1","v":1},{"$f":"AND(Y113=0,Y$1=1)","v":false},{"$f":"IF(J113=\"-\",1,0)*AA$1","v":1},{"$f":"AND(AA113=0,AA$1=1)","v":false},{"$f":"IF(L113=\"-\",1,0)*AC$1","v":1},{"$f":"AND(AC113=0,AC$1=1)","v":false}]
[110,null,"-","-",{"$f":"IF(D114=\"-\",0,D114)","v":0},"-",{"$f":"IF(F114=\"-\",0,F114)","v":0},"-",{"$f":"IF(H114=\"-\",0,H114)","v":0},"-",{"$f":"IF(J114=\"-\",0,J114)","v":0},"-",{"$f":"IF(L114=\"-\",0,L114)","v":0},null,{"$f":"E114+G114+I114+K114+M114","v":0},{"$f":"MAX(D114,F114,H114,J114,L114)","v":0},{"$f":"IF(S114=1,O114,IF(S114=0,(O114-P114),\"-\"))","v":"-"},{"$f":"COUNTIF(U114:AD114,\"=TRUE\")","v":0},{"$f":"AE$1-R114","v":5},{"$f":"IF(S114<2,\"Yes\",\"No\")","v":"No"},{"$f":"IF(D114=\"-\",1,0)*U$1","v":1},{"$f":"AND(U114=0,U$1=1)","v":false},{"$f":"IF(F114=\"-\",1,0)*W$1","v":1},{"$f":"AND(W114=0,W$1=1)","v":false},{"$f":"IF(H114=\"-\",1,0)*Y$1","v":1},{"$f":"AND(Y114=0,Y$1=1)","v":false},{"$f":"IF(J114=\"-\",1,0)*AA$1","v":1},{"$f":"AND(AA114=0,AA$1=1)","v":false},{"$f":"IF(L114=\"-\",1,0)*AC$1","v":1},{"$f":"AND(AC114=0,AC$1=1)","v":false}]
[111,null,"-","-",{"$f":"IF(D115=\"-\",0,D115)","v":0},"-",{"$f":"IF(F115=\"-\",0,F115)","v":0},"-",{"$f":"IF(H115=\"-\",0,H115)","v":0},"-",{"$f":"IF(J115=\"-\",0,J115)","v":0},"-",{"$f":"IF(L115=\"-\",0,L115)","v":0},null,{"$f":"E115+G115+I115+K115+M115","v":0},{"$f":"MAX(D115,F115,H115,J115,L115)","v":0},{"$f":"IF(S115=1,O115,IF(S115=0,(O115-P115),\"-\"))","v":"-"},{"$f":"COUNTIF(U115:AD115,\"=TRUE\")","v":0},{"$f":"AE$1-R115","v":5},{"$f":"IF(S115<2,\"Yes\",\"No\")","v":"No"},{"$f":"IF(D115=\"-\",1,0)*U$1","v":1},{"$f":"AND(U115=0,U$1=1)","v":false},{"$f":"IF(F115=\"-\",1,0)*W$1","v":1},{"$f":"AND(W115=0,W$1=1)","v":false},{"$f":"IF(H115=\"-\",1,0)*Y$1","v":1},{"$f":"AND(Y115=0,Y$1=1)","v":false},{"$f":"IF(J115=\"-\",1,0)*AA$1","v":1},{"$f":"AND(AA115=0,AA$1=1)","v":false},{"$f":"IF(L115=\"-\",1,0)*AC$1","v":1},{"$f":"AND(AC115=0,AC$1=1)","v":false}]
[112,null,"-","-",{"$f":"IF(D116=\"-\",0,D116)","v":0},"-",{"$f":"IF(F116=\"-\",0,F116)","v":0},"-",{"$f":"IF(H116=\"-\",0,H116)","v":0},"-",{"$f":"IF(J116=\"-\",0,J116)","v":0},"-",{"$f":"IF(L116=\"-\",0,L116)","v":0},null,{"$f":"E116+G116+I116+K116+M116","v":0},{"$f":"MAX(D116,F116,H116,J116,L116)","v":0},{"$f":"IF(S116=1,O116,IF(S116=0,(O116-P116),\"-\"))","v":"-"},{"$f":"COUNTIF(U116:AD116,\"=TRUE\")","v":0},{"$f":"AE$1-R116","v":5},{"$f":"IF(S116<2,\"Yes\",\"No\")","v":"No"},{"$f":"IF(D116=\"-\",1,0)*U$1","v":1},{"$f":"AND(U116=0,U$1=1)","v":false},{"$f":"IF(F116=\"-\",1,0)*W$1","v":1},{"$f":"AND(W116=0,W$1=1)","v":false},{"$f":"IF(H116=\"-\",1,0)*Y$1","v":1},{"$f":"AND(Y116=0,Y$1=1)","v":false},{"$f":"IF(J116=\"-\",1,0)*AA$1","v":1},{"$f":"AND(AA116=0,AA$1=1)","v":false},{"$f":"IF(L116=\"-\",1,0)*AC$1","v":1},{"$f":"AND(AC116=0,AC$1=1)","v":false}]
[113,null,"-","-",{"$f":"IF(D117=\"-\",0,D117)","v":0},"-",{"$f":"IF(F117=\"-\",0,F117)","v":0},"-",{"$f":"IF(H117=\"-\",0,H117)","v":0},"-",{"$f":"IF(J117=\"-\",0,J117)","v":0},"-",{"$f":"IF(L117=\"-\",0,L117)","v":0},null,{"$f":"E117+G117+I117+K117+M117","v":0},{"$f":"MAX(D117,F117,H117,J117,L117)","v":0},{"$f":"IF(S117=1,O117,IF(S117=0,(O117-P117),\"-\"))","v":"-"},{"$f":"COUNTIF(U117:AD117,\"=TRUE\")","v":0},{"$f":"AE$1-R117","v":5},{"$f":"IF(S117<2,\"Yes\",\"No\")","v":"No"},{"$f":"IF(D117=\"-\",1,0)*U$1","v":1},{"$f":"AND(U117=0,U$1=1)","v":false},{"$f":"IF(F117=\"-\",1,0)*W$1","v":1},{"$f":"AND(W117=0,W$1=1)","v":false},{"$f":"IF(H117=\"-\",1,0)*Y$1","v":1},{"$f":"AND(Y117=0,Y$1=1)","v":false},{"$f":"IF(J117=\"-\",1,0)*AA$1","v":1},{"$f":"AND(AA117=0,AA$1=1)","v":false},{"$f":"IF(L117=\"-\",1,0)*AC$1","v":1},{"$f":"AND(AC117=0,AC$1=1)","v":false}]
[114,null,"-","-",{"$f":"IF(D118=\"-\",0,D118)","v":0},"-",{"$f":"IF(F118=\"-\",0,F118)","v":0},"-",{"$f":"IF(H118=\"-\",0,H118)","v":0},"-",{"$f":"IF(J118=\"-\",0,J118)","v":0},"-",{"$f":"IF(L118=\"-\",0,L118)","v":0},null,{"$f":"E118+G118+I118+K118+M118","v":0},{"$f":"MAX(D118,F118,H118,J118,L118)","v":0},{"$f":"IF(S118=1,O118,IF(S118=0,(O118-P118),\"-\"))","v":"-"},{"$f":"COUNTIF(U118:AD118,\"=TRUE\")","v":0},{"$f":"AE$1-R118","v":5},{"$f":"IF(S118<2,\"Yes\",\"No\")","v":"No"},{"$f":"IF(D118=\"-\",1,0)*U$1","v":1},{"$f":"AND(U118=0,U$1=1)","v":false},{"$f":"IF(F118=\"-\",1,0)*W$1","v":1},{"$f":"AND(W118=0,W$1=1)","v":false},{"$f":"IF(H118=\"-\",1,0)*Y$1","v":1},{"$f":"AND(Y118=0,Y$1=1)","v":false},{"$f":"IF(J118=\"-\",1,0)*AA$1","v":1},{"$f":"AND(AA118=0,AA$1=1)","v":false},{"$f":"IF(L118=\"-\",1,0)*AC$1","v":1},{"$f":"AND(AC118=0,AC$1=1)","v":false}]
[115,null,"-","-",{"$f":"IF(D119=\"-\",0,D119)","v":0},"-",{"$f":"IF(F119=\"-\",0,F119)","v":0},"-",{"$f":"IF(H119=\"-\",0,H119)","v":0},"-",{"$f":"IF(J119=\"-\",0,J119)","v":0},"-",{"$f":"IF(L119=\"-\",0,L119)","v":0},null,{"$f":"E119+G119+I119+K119+M119","v":0},{"$f":"MAX(D119,F119,H119,J119,L119)","v":0},{"$f":"IF(S119=1,O119,IF(S119=0,(O119-P119),\"-\"))","v":"-"},{"$f":"COUNTIF(U119:AD119,\"=TRUE\")","v":0},{"$f":"AE$1-R119","v":5},{"$f":"IF(S119<2,\"Yes\",\"No\")","v":"No"},{"$f":"IF(D119=\"-\",1,0)*U$1","v":1},{"$f":"AND(U119=0,U$1=1)","v":false},{"$f":"IF(F119=\"-\",1,0)*W$1","v":1},{"$f":"AND(W119=0,W$1=1)","v":false},{"$f":"IF(H119=\"-\",1,0)*Y$1","v":1},{"$f":"AND(Y119=0,Y$1=1)","v":false},{"$f":"IF(J119=\"-\",1,0)*AA$1","v":1},{"$f":"AND(AA119=0,AA$1=1)","v":false},{"$f":"IF(L119=\"-\",1,0)*AC$1","v":1},{"$f":"AND(AC119=0,AC$1=1)","v":false}]
[116,null,"-","-",{"$f":"IF(D120=\"-\",0,D120)","v":0},"-",{"$f":"IF(F120=\"-\",0,F120)","v":0},"-",{"$f":"IF(H120=\"-\",0,H120)","v":0},"-",{"$f":"IF(J120=\"-\",0,J120)","v":0},"-",{"$f":"IF(L120=\"-\",0,L120)","v":0},null,{"$f":"E120+G120+I120+K120+M120","v":0},{"$f":"MAX(D120,F120,H120,J120,L120)","v":0},{"$f":"IF(S120=1,O120,IF(S120=0,(O120-P120),\"-\"))","v":"-"},{"$f":"COUNTIF(U120:AD120,\"=TRUE\")","v":0},{"$f":"AE$1-R120","v":5},{"$f":"IF(S120<2,\"Yes\",\"No\")","v":"No"},{"$f":"IF(D120=\"-\",1,0)*U$1","v":1},{"$f":"AND(U120=0,U$1=1)","v":false},{"$f":"IF(F120=\"-\",1,0)*W$1","v":1},{"$f":"AND(W120=0,W$1=1)","v":false},{"$f":"IF(H120=\"-\",1,0)*Y$1","v":1},{"$f":"AND(Y120=0,Y$1=1)","v":false},{"$f":"IF(J120=\"-\",1,0)*AA$1","v":1},{"$f":"AND(AA120=0,AA$1=1)","v":false},{"$f":"IF(L120=\"-\",1,0)*AC$1","v":1},{"$f":"AND(AC120=0,AC$1=1)","v":false}]
[117,null,"-","-",{"$f":"IF(D121=\"-\",0,D121)","v":0},"-",{"$f":"IF(F121=\"-\",0,F121)","v":0},"-",{"$f":"IF(H121=\"-\",0,H121)","v":0},"-",{"$f":"IF(J121=\"-\",0,J121)","v":0},"-",{"$f":"IF(L121=\"-\",0,L121)","v":0},null,{"$f":"E121+G121+I121+K121+M121","v":0},{"$f":"MAX(D121,F121,H121,J121,L121)","v":0},{"$f":"IF(S121=1,O121,IF(S121=0,(O121-P121),\"-\"))","v":"-"},{"$f":"COUNTIF(U121:AD121,\"=TRUE\")","v":0},{"$f":"AE$1-R121","v":5},{"$f":"IF(S121<2,\"Yes\",\"No\")","v":"No"},{"$f":"IF(D121=\"-\",1,0)*U$1","v":1},{"$f":"AND(U121=0,U$1=1)","v":false},{"$f":"IF(F121=\"-\",1,0)*W$1","v":1},{"$f":"AND(W121=0,W$1=1)","v":false},{"$f":"IF(H121=\"-\",1,0)*Y$1","v":1},{"$f":"AND(Y121=0,Y$1=1)","v":false},{"$f":"IF(J121=\"-\",1,0)*AA$1","v":1},{"$f":"AND(AA121=0,AA$1=1)","v":false},{"$f":"IF(L121=\"-\",1,0)*AC$1","v":1},{"$f":"AND(AC121=0,AC$1=1)","v":false}]
[118,null,"-","-",{"$f":"IF(D122=\"-\",0,D122)","v":0},"-",{"$f":"IF(F122=\"-\",0,F122)","v":0},"-",{"$f":"IF(H122=\"-\",0,H122)","v":0},"-",{"$f":"IF(J122=\"-\",0,J122)","v":0},"-",{"$f":"IF(L122=\"-\",0,L122)","v":0},null,{"$f":"E122+G122+I122+K122+M122","v":0},{"$f":"MAX(D122,F122,H122,J122,L122)","v":0},{"$f":"IF(S122=1,O122,IF(S122=0,(O122-P122),\"-\"))","v":"-"},{"$f":"COUNTIF(U122:AD122,\"=TRUE\")","v":0},{"$f":"AE$1-R122","v":5},{"$f":"IF(S122<2,\"Yes\",\"No\")","v":"No"},{"$f":"IF(D122=\"-\",1,0)*U$1","v":1},{"$f":"AND(U122=0,U$1=1)","v":false},{"$f":"IF(F122=\"-\",1,0)*W$1","v":1},{"$f":"AND(W122=0,W$1=1)","v":false},{"$f":"IF(H122=\"-\",1,0)*Y$1","v":1},{"$f":"AND(Y122=0,Y$1=1)","v":false},{"$f":"IF(J122=\"-\",1,0)*AA$1","v":1},{"$f":"AND(AA122=0,AA$1=1)","v":false},{"$f":"IF(L122=\"-\",1,0)*AC$1","v":1},{"$f":"AND(AC122=0,AC$1=1)","v":false}]
[119,null,"-","-",{"$f":"IF(D123=\"-\",0,D123)","v":0},"-",{"$f":"IF(F123=\"-\",0,F123)","v":0},"-",{"$f":"IF(H123=\"-\",0,H123)","v":0},"-",{"$f":"IF(J123=\"-\",0,J123)","v":0},"-",{"$f":"IF(L123=\"-\",0,L123)","v":0},null,{"$f":"E123+G123+I123+K123+M123","v":0},{"$f":"MAX(D123,F123,H123,J123,L123)","v":0},{"$f":"IF(S123=1,O123,IF(S123=0,(O123-P123),\"-\"))","v":"-"},{"$f":"COUNTIF(U123:AD123,\"=TRUE\")","v":0},{"$f":"AE$1-R123","v":5},{"$f":"IF(S123<2,\"Yes\",\"No\")","v":"No"},{"$f":"IF(D123=\"-\",1,0)*U$1","v":1},{"$f":"AND(U123=0,U$1=1)","v":false},{"$f":"IF(F123=\"-\",1,0)*W$1","v":1},{"$f":"AND(W123=0,W$1=1)","v":false},{"$f":"IF(H123=\"-\",1,0)*Y$1","v":1},{"$f":"AND(Y123=0,Y$1=1)","v":false},{"$f":"IF(J123=\"-\",1,0)*AA$1","v":1},{"$f":"AND(AA123=0,AA$1=1)","v":false},{"$f":"IF(L123=\"-\",1,0)*AC$1","v":1},{"$f":"AND(AC123=0,AC$1=1)","v":false}]
[120,null,"-","-",{"$f":"IF(D124=\"-\",0,D124)","v":0},"-",{"$f":"IF(F124=\"-\",0,F124)","v":0},"-",{"$f":"IF(H124=\"-\",0,H124)","v":0},"-",{"$f":"IF(J124=\"-\",0,J124)","v":0},"-",{"$f":"IF(L124=\"-\",0,L124)","v":0},null,{"$f":"E124+G124+I124+K124+M124","v":0},{"$f":"MAX(D124,F124,H124,J124,L124)","v":0},{"$f":"IF(S124=1,O124,IF(S124=0,(O124-P124),\"-\"))","v":"-"},{"$f":"COUNTIF(U124:AD124,\"=TRUE\")","v":0},{"$f":"AE$1-R124","v":5},{"$f":"IF(S124<2,\"Yes\",\"No\")","v":"No"},{"$f":"IF(D124=\"-\",1,0)*U$1","v":1},{"$f":"AND(U124=0,U$1=1)","v":false},{"$f":"IF(F124=\"-\",1,0)*W$1","v":1},{"$f":"AND(W124=0,W$1=1)","v":false},{"$f":"IF(H124=\"-\",1,0)*Y$1","v":1},{"$f":"AND(Y124=0,Y$1=1)","v":false},{"$f":"IF(J124=\"-\",1,0)*AA$1","v":1},{"$f":"AND(AA124=0,AA$1=1)","v":false},{"$f":"IF(L124=\"-\",1,0)*AC$1","v":1},{"$f":"AND(AC124=0,AC$1=1)","v":false}]
[121,null,"-","-",{"$f":"IF(D125=\"-\",0,D125)","v":0},"-",{"$f":"IF(F125=\"-\",0,F125)","v":0},"-",{"$f":"IF(H125=\"-\",0,H125)","v":0},"-",{"$f":"IF(J125=\"-\",0,J125)","v":0},"-",{"$f":"IF(L125=\"-\",0,L125)","v":0},null,{"$f":"E125+G125+I125+K125+M125","v":0},{"$f":"MAX(D125,F125,H125,J125,L125)","v":0},{"$f":"IF(S125=1,O125,IF(S125=0,(O125-P125),\"-\"))","v":"-"},{"$f":"COUNTIF(U125:AD125,\"=TRUE\")","v":0},{"$f":"AE$1-R125","v":5},{"$f":"IF(S125<2,\"Yes\",\"No\")","v":"No"},{"$f":"IF(D125=\"-\",1,0)*U$1","v":1},{"$f":"AND(U125=0,U$1=1)","v":false},{"$f":"IF(F125=\"-\",1,0)*W$1","v":1},{"$f":"AND(W125=0,W$1=1)","v":false},{"$f":"IF(H125=\"-\",1,0)*Y$1","v":1},{"$f":"AND(Y125=0,Y$1=1)","v":false},{"$f":"IF(J125=\"-\",1,0)*AA$1","v":1},{"$f":"AND(AA125=0,AA$1=1)","v":false},{"$f":"IF(L125=\"-\",1,0)*AC$1","v":1},{"$f":"AND(AC125=0,AC$1=1)","v":false}]
[122,null,"-","-",{"$f":"IF(D126=\"-\",0,D126)","v":0},"-",{"$f":"IF(F126=\"-\",0,F126)","v":0},"-",{"$f":"IF(H126=\"-\",0,H126)","v":0},"-",{"$f":"IF(J126=\"-\",0,J126)","v":0},"-",{"$f":"IF(L126=\"-\",0,L126)","v":0},null,{"$f":"E126+G126+I126+K126+M126","v":0},{"$f":"MAX(D126,F126,H126,J126,L126)","v":0},{"$f":"IF(S126=1,O126,IF(S126=0,(O126-P126),\"-\"))","v":"-"},{"$f":"COUNTIF(U126:AD126,\"=TRUE\")","v":0},{"$f":"AE$1-R126","v":5},{"$f":"IF(S126<2,\"Yes\",\"No\")","v":"No"},{"$f":"IF(D126=\"-\",1,0)*U$1","v":1},{"$f":"AND(U126=0,U$1=1)","v":false},{"$f":"IF(F126=\"-\",1,0)*W$1","v":1},{"$f":"AND(W126=0,W$1=1)","v":false},{"$f":"IF(H126=\"-\",1,0)*Y$1","v":1},{"$f":"AND(Y126=0,Y$1=1)","v":false},{"$f":"IF(J126=\"-\",1,0)*AA$1","v":1},{"$f":"AND(AA126=0,AA$1=1)","v":false},{"$f":"IF(L126=\"-\",1,0)*AC$1","v":1},{"$f":"AND(AC126=0,AC$1=1)","v":false}]
[123,null,"-","-",{"$f":"IF(D127=\"-\",0,D127)","v":0},"-",{"$f":"IF(F127=\"-\",0,F127)","v":0},"-",{"$f":"IF(H127=\"-\",0,H127)","v":0},"-",{"$f":"IF(J127=\"-\",0,J127)","v":0},"-",{"$f":"IF(L127=\"-\",0,L127)","v":0},null,{"$f":"E127+G127+I127+K127+M127","v":0},{"$f":"MAX(D127,F127,H127,J127,L127)","v":0},{"$f":"IF(S127=1,O127,IF(S127=0,(O127-P127),\"-\"))","v":"-"},{"$f":"COUNTIF(U127:AD127,\"=TRUE\")","v":0},{"$f":"AE$1-R127","v":5},{"$f":"IF(S127<2,\"Yes\",\"No\")","v":"No"},{"$f":"IF(D127=\"-\",1,0)*U$1","v":1},{"$f":"AND(U127=0,U$1=1)","v":false},{"$f":"IF(F127=\"-\",1,0)*W$1","v":1},{"$f":"AND(W127=0,W$1=1)","v":false},{"$f":"IF(H127=\"-\",1,0)*Y$1","v":1},{"$f":"AND(Y127=0,Y$1=1)","v":false},{"$f":"IF(J127=\"-\",1,0)*AA$1","v":1},{"$f":"AND(AA127=0,AA$1=1)","v":false},{"$f":"IF(L127=\"-\",1,0)*AC$1","v":1},{"$f":"AND(AC127=0,AC$1=1)","v":false}]
[124,null,"-","-",{"$f":"IF(D128=\"-\",0,D128)","v":0},"-",{"$f":"IF(F128=\"-\",0,F128)","v":0},"-",{"$f":"IF(H128=\"-\",0,H128)","v":0},"-",{"$f":"IF(J128=\"-\",0,J128)","v":0},"-",{"$f":"IF(L128=\"-\",0,L128)","v":0},null,{"$f":"E128+G128+I128+K128+M128","v":0},{"$f":"MAX(D128,F128,H128,J128,L128)","v":0},{"$f":"IF(S128=1,O128,IF(S128=0,(O128-P128),\"-\"))","v":"-"},{"$f":"COUNTIF(U128:AD128,\"=TRUE\")","v":0},{"$f":"AE$1-R128","v":5},{"$f":"IF(S128<2,\"Yes\",\"No\")","v":"No"},{"$f":"IF(D128=\"-\",1,0)*U$1","v":1},{"$f":"AND(U128=0,U$1=1)","v":false},{"$f":"IF(F128=\"-\",1,0)*W$1","v":1},{"$f":"AND(W128=0,W$1=1)","v":false},{"$f":"IF(H128=\"-\",1,0)*Y$1","v":1},{"$f":"AND(Y128=0,Y$1=1)","v":false},{"$f":"IF(J128=\"-\",1,0)*AA$1","v":1},{"$f":"AND(AA128=0,AA$1=1)","v":false},{"$f":"IF(L128=\"-\",1,0)*AC$1","v":1},{"$f":"AND(AC128=0,AC$1=1)","v":false}]
[125,null,"-","-",{"$f":"IF(D129=\"-\",0,D129)","v":0},"-",{"$f":"IF(F129=\"-\",0,F129)","v":0},"-",{"$f":"IF(H129=\"-\",0,H129)","v":0},"-",{"$f":"IF(J129=\"-\",0,J129)","v":0},"-",{"$f":"IF(L129=\"-\",0,L129)","v":0},null,{"$f":"E129+G129+I129+K129+M129","v":0},{"$f":"MAX(D129,F129,H129,J129,L129)","v":0},{"$f":"IF(S129=1,O129,IF(S129=0,(O129-P129),\"-\"))","v":"-"},{"$f":"COUNTIF(U129:AD129,\"=TRUE\")","v":0},{"$f":"AE$1-R129","v":5},{"$f":"IF(S129<2,\"Yes\",\"No\")","v":"No"},{"$f":"IF(D129=\"-\",1,0)*U$1","v":1},{"$f":"AND(U129=0,U$1=1)","v":false},{"$f":"IF(F129=\"-\",1,0)*W$1","v":1},{"$f":"AND(W129=0,W$1=1)","v":false},{"$f":"IF(H129=\"-\",1,0)*Y$1","v":1},{"$f":"AND(Y129=0,Y$1=1)","v":false},{"$f":"IF(J129=\"-\",1,0)*AA$1","v":1},{"$f":"AND(AA129=0,AA$1=1)","v":false},{"$f":"IF(L129=\"-\",1,0)*AC$1","v":1},{"$f":"AND(AC129=0,AC$1=1)","v":false}]
[126,null,"-","-",{"$f":"IF(D130=\"-\",0,D130)","v":0},"-",{"$f":"IF(F130=\"-\",0,F130)","v":0},"-",{"$f":"IF(H130=\"-\",0,H130)","v":0},"-",{"$f":"IF(J130=\"-\",0,J130)","v":0},"-",{"$f":"IF(L130=\"-\",0,L130)","v":0},null,{"$f":"E130+G130+I130+K130+M130","v":0},{"$f":"MAX(D130,F130,H130,J130,L130)","v":0},{"$f":"IF(S130=1,O130,IF(S130=0,(O130-P130),\"-\"))","v":"-"},{"$f":"COUNTIF(U130:AD130,\"=TRUE\")","v":0},{"$f":"AE$1-R130","v":5},{"$f":"IF(S130<2,\"Yes\",\"No\")","v":"No"},{"$f":"IF(D130=\"-\",1,0)*U$1","v":1},{"$f":"AND(U130=0,U$1=1)","v":false},{"$f":"IF(F130=\"-\",1,0)*W$1","v":1},{"$f":"AND(W130=0,W$1=1)","v":false},{"$f":"IF(H130=\"-\",1,0)*Y$1","v":1},{"$f":"AND(Y130=0,Y$1=1)","v":false},{"$f":"IF(J130=\"-\",1,0)*AA$1","v":1},{"$f":"AND(AA130=0,AA$1=1)","v":false},{"$f":"IF(L130=\"-\",1,0)*AC$1","v":1},{"$f":"AND(AC130=0,AC$1=1)","v":false}]
[127,null,"-","-",{"$f":"IF(D131=\"-\",0,D131)","v":0},"-",{"$f":"IF(F131=\"-\",0,F131)","v":0},"-",{"$f":"IF(H131=\"-\",0,H131)","v":0},"-",{"$f":"IF(J131=\"-\",0,J131)","v":0},"-",{"$f":"IF(L131=\"-\",0,L131)","v":0},null,{"$f":"E131+G131+I131+K131+M131","v":0},{"$f":"MAX(D131,F131,H131,J131,L131)","v":0},{"$f":"IF(S131=1,O131,IF(S131=0,(O131-P131),\"-\"))","v":"-"},{"$f":"COUNTIF(U131:AD131,\"=TRUE\")","v":0},{"$f":"AE$1-R131","v":5},{"$f":"IF(S131<2,\"Yes\",\"No\")","v":"No"},{"$f":"IF(D131=\"-\",1,0)*U$1","v":1},{"$f":"AND(U131=0,U$1=1)","v":false},{"$f":"IF(F131=\"-\",1,0)*W$1","v":1},{"$f":"AND(W131=0,W$1=1)","v":false},{"$f":"IF(H131=\"-\",1,0)*Y$1","v":1},{"$f":"AND(Y131=0,Y$1=1)","v":false},{"$f":"IF(J131=\"-\",1,0)*AA$1","v":1},{"$f":"AND(AA131=0,AA$1=1)","v":false},{"$f":"IF(L131=\"-\",1,0)*AC$1","v":1},{"$f":"AND(AC131=0,AC$1=1)","v":false}]
[128,null,"-","-",{"$f":"IF(D132=\"-\",0,D132)","v":0},"-",{"$f":"IF(F132=\"-\",0,F132)","v":0},"-",{"$f":"IF(H132=\"-\",0,H132)","v":0},"-",{"$f":"IF(J132=\"-\",0,J132)","v":0},"-",{"$f":"IF(L132=\"-\",0,L132)","v":0},null,{"$f":"E132+G132+I132+K132+M132","v":0},{"$f":"MAX(D132,F132,H132,J132,L132)","v":0},{"$f":"IF(S132=1,O132,IF(S132=0,(O132-P132),\"-\"))","v":"-"},{"$f":"COUNTIF(U132:AD132,\"=TRUE\")","v":0},{"$f":"AE$1-R132","v":5},{"$f":"IF(S132<2,\"Yes\",\"No\")","v":"No"},{"$f":"IF(D132=\"-\",1,0)*U$1","v":1},{"$f":"AND(U132=0,U$1=1)","v":false},{"$f":"IF(F132=\"-\",1,0)*W$1","v":1},{"$f":"AND(W132=0,W$1=1)","v":false},{"$f":"IF(H132=\"-\",1,0)*Y$1","v":1},{"$f":"AND(Y132=0,Y$1=1)","v":false},{"$f":"IF(J132=\"-\",1,0)*AA$1","v":1},{"$f":"AND(AA132=0,AA$1=1)","v":false},{"$f":"IF(L132=\"-\",1,0)*AC$1","v":1},{"$f":"AND(AC132=0,AC$1=1)","v":false}]
[129,null,"-","-",{"$f":"IF(D133=\"-\",0,D133)","v":0},"-",{"$f":"IF(F133=\"-\",0,F133)","v":0},"-",{"$f":"IF(H133=\"-\",0,H133)","v":0},"-",{"$f":"IF(J133=\"-\",0,J133)","v":0},"-",{"$f":"IF(L133=\"-\",0,L133)","v":0},null,{"$f":"E133+G133+I133+K133+M133","v":0},{"$f":"MAX(D133,F133,H133,J133,L133)","v":0},{"$f":"IF(S133=1,O133,IF(S133=0,(O133-P133),\"-\"))","v":"-"},{"$f":"COUNTIF(U133:AD133,\"=TRUE\")","v":0},{"$f":"AE$1-R133","v":5},{"$f":"IF(S133<2,\"Yes\",\"No\")","v":"No"},{"$f":"IF(D133=\"-\",1,0)*U$1","v":1},{"$f":"AND(U133=0,U$1=1)","v":false},{"$f":"IF(F133=\"-\",1,0)*W$1","v":1},{"$f":"AND(W133=0,W$1=1)","v":false},{"$f":"IF(H133=\"-\",1,0)*Y$1","v":1},{"$f":"AND(Y133=0,Y$1=1)","v":false},{"$f":"IF(J133=\"-\",1,0)*AA$1","v":1},{"$f":"AND(AA133=0,AA$1=1)","v":false},{"$f":"IF(L133=\"-\",1,0)*AC$1","v":1},{"$f":"AND(AC133=0,AC$1=1)","v":false}]
[130,null,"-","-",{"$f":"IF(D134=\"-\",0,D134)","v":0},"-",{"$f":"IF(F134=\"-\",0,F134)","v":0},"-",{"$f":"IF(H134=\"-\",0,H134)","v":0},"-",{"$f":"IF(J134=\"-\",0,J134)","v":0},"-",{"$f":"IF(L134=\"-\",0,L134)","v":0},null,{"$f":"E134+G134+I134+K134+M134","v":0},{"$f":"MAX(D134,F134,H134,J134,L134)","v":0},{"$f":"IF(S134=1,O134,IF(S134=0,(O134-P134),\"-\"))","v":"-"},{"$f":"COUNTIF(U134:AD134,\"=TRUE\")","v":0},{"$f":"AE$1-R134","v":5},{"$f":"IF(S134<2,\"Yes\",\"No\")","v":"No"},{"$f":"IF(D134=\"-\",1,0)*U$1","v":1},{"$f":"AND(U134=0,U$1=1)","v":false},{"$f":"IF(F134=\"-\",1,0)*W$1","v":1},{"$f":"AND(W134=0,W$1=1)","v":false},{"$f":"IF(H134=\"-\",1,0)*Y$1","v":1},{"$f":"AND(Y134=0,Y$1=1)","v":false},{"$f":"IF(J134=\"-\",1,0)*AA$1","v":1},{"$f":"AND(AA134=0,AA$1=1)","v":false},{"$f":"IF(L134=\"-\",1,0)*AC$1","v":1},{"$f":"AND(AC134=0,AC$1=1)","v":false}]
[131,null,"-","-",{"$f":"IF(D135=\"-\",0,D135)","v":0},"-",{"$f":"IF(F135=\"-\",0,F135)","v":0},"-",{"$f":"IF(H135=\"-\",0,H135)","v":0},"-",{"$f":"IF(J135=\"-\",0,J135)","v":0},"-",{"$f":"IF(L135=\"-\",0,L135)","v":0},null,{"$f":"E135+G135+I135+K135+M135","v":0},{"$f":"MAX(D135,F135,H135,J135,L135)","v":0},{"$f":"IF(S135=1,O135,IF(S135=0,(O135-P135),\"-\"))","v":"-"},{"$f":"COUNTIF(U135:AD135,\"=TRUE\")","v":0},{"$f":"AE$1-R135","v":5},{"$f":"IF(S135<2,\"Yes\",\"No\")","v":"No"},{"$f":"IF(D135=\"-\",1,0)*U$1","v":1},{"$f":"AND(U135=0,U$1=1)","v":false},{"$f":"IF(F135=\"-\",1,0)*W$1","v":1},{"$f":"AND(W135=0,W$1=1)","v":false},{"$f":"IF(H135=\"-\",1,0)*Y$1","v":1},{"$f":"AND(Y135=0,Y$1=1)","v":false},{"$f":"IF(J135=\"-\",1,0)*AA$1","v":1},{"$f":"AND(AA135=0,AA$1=1)","v":false},{"$f":"IF(L135=\"-\",1,0)*AC$1","v":1},{"$f":"AND(AC135=0,AC$1=1)","v":false}]
[132,null,"-","-",{"$f":"IF(D136=\"-\",0,D136)","v":0},"-",{"$f":"IF(F136=\"-\",0,F136)","v":0},"-",{"$f":"IF(H136=\"-\",0,H136)","v":0},"-",{"$f":"IF(J136=\"-\",0,J136)","v":0},"-",{"$f":"IF(L136=\"-\",0,L136)","v":0},null,{"$f":"E136+G136+I136+K136+M136","v":0},{"$f":"MAX(D136,F136,H136,J136,L136)","v":0},{"$f":"IF(S136=1,O136,IF(S136=0,(O136-P136),\"-\"))","v":"-"},{"$f":"COUNTIF(U136:AD136,\"=TRUE\")","v":0},{"$f":"AE$1-R136","v":5},{"$f":"IF(S136<2,\"Yes\",\"No\")","v":"No"},{"$f":"IF(D136=\"-\",1,0)*U$1","v":1},{"$f":"AND(U136=0,U$1=1)","v":false},{"$f":"IF(F136=\"-\",1,0)*W$1","v":1},{"$f":"AND(W136=0,W$1=1)","v":false},{"$f":"IF(H136=\"-\",1,0)*Y$1","v":1},{"$f":"AND(Y136=0,Y$1=1)","v":false},{"$f":"IF(J136=\"-\",1,0)*AA$1","v":1},{"$f":"AND(AA136=0,AA$1=1)","v":false},{"$f":"IF(L136=\"-\",1,0)*AC$1","v":1},{"$f":"AND(AC136=0,AC$1=1)","v":false}]
[133,null,"-","-",{"$f":"IF(D137=\"-\",0,D137)","v":0},"-",{"$f":"IF(F137=\"-\",0,F137)","v":0},"-",{"$f":"IF(H137=\"-\",0,H137)","v":0},"-",{"$f":"IF(J137=\"-\",0,J137)","v":0},"-",{"$f":"IF(L137=\"-\",0,L137)","v":0},null,{"$f":"E137+G137+I137+K137+M137","v":0},{"$f":"MAX(D137,F137,H137,J137,L137)","v":0},{"$f":"IF(S137=1,O137,IF(S137=0,(O137-P137),\"-\"))","v":"-"},{"$f":"COUNTIF(U137:AD137,\"=TRUE\")","v":0},{"$f":"AE$1-R137","v":5},{"$f":"IF(S137<2,\"Yes\",\"No\")","v":"No"},{"$f":"IF(D137=\"-\",1,0)*U$1","v":1},{"$f":"AND(U137=0,U$1=1)","v":false},{"$f":"IF(F137=\"-\",1,0)*W$1","v":1},{"$f":"AND(W137=0,W$1=1)","v":false},{"$f":"IF(H137=\"-\",1,0)*Y$1","v":1},{"$f":"AND(Y137=0,Y$1=1)","v":false},{"$f":"IF(J137=\"-\",1,0)*AA$1","v":1},{"$f":"AND(AA137=0,AA$1=1)","v":false},{"$f":"IF(L137=\"-\",1,0)*AC$1","v":1},{"$f":"AND(AC137=0,AC$1=1)","v":false}]
[134,null,"-","-",{"$f":"IF(D138=\"-\",0,D138)","v":0},"-",{"$f":"IF(F138=\"-\",0,F138)","v":0},"-",{"$f":"IF(H138=\"-\",0,H138)","v":0},"-",{"$f":"IF(J138=\"-\",0,J138)","v":0},"-",{"$f":"IF(L138=\"-\",0,L138)","v":0},null,{"$f":"E138+G138+I138+K138+M138","v":0},{"$f":"MAX(D138,F138,H138,J138,L138)","v":0},{"$f":"IF(S138=1,O138,IF(S138=0,(O138-P138),\"-\"))","v":"-"},{"$f":"COUNTIF(U138:AD138,\"=TRUE\")","v":0},{"$f":"AE$1-R138","v":5},{"$f":"IF(S138<2,\"Yes\",\"No\")","v":"No"},{"$f":"IF(D138=\"-\",1,0)*U$1","v":1},{"$f":"AND(U138=0,U$1=1)","v":false},{"$f":"IF(F138=\"-\",1,0)*W$1","v":1},{"$f":"AND(W138=0,W$1=1)","v":false},{"$f":"IF(H138=\"-\",1,0)*Y$1","v":1},{"$f":"AND(Y138=0,Y$1=1)","v":false},{"$f":"IF(J138=\"-\",1,0)*AA$1","v":1},{"$f":"AND(AA138=0,AA$1=1)","v":false},{"$f":"IF(L138=\"-\",1,0)*AC$1","v":1},{"$f":"AND(AC138=0,AC$1=1)","v":false}]
[135,null,"-","-",{"$f":"IF(D139=\"-\",0,D139)","v":0},"-",{"$f":"IF(F139=\"-\",0,F139)","v":0},"-",{"$f":"IF(H139=\"-\",0,H139)","v":0},"-",{"$f":"IF(J139=\"-\",0,J139)","v":0},"-",{"$f":"IF(L139=\"-\",0,L139)","v":0},null,{"$f":"E139+G139+I139+K139+M139","v":0},{"$f":"MAX(D139,F139,H139,J139,L139)","v":0},{"$f":"IF(S139=1,O139,IF(S139=0,(O139-P139),\"-\"))","v":"-"},{"$f":"COUNTIF(U139:AD139,\"=TRUE\")","v":0},{"$f":"AE$1-R139","v":5},{"$f":"IF(S139<2,\"Yes\",\"No\")","v":"No"},{"$f":"IF(D139=\"-\",1,0)*U$1","v":1},{"$f":"AND(U139=0,U$1=1)","v":false},{"$f":"IF(F139=\"-\",1,0)*W$1","v":1},{"$f":"AND(W139=0,W$1=1)","v":false},{"$f":"IF(H139=\"-\",1,0)*Y$1","v":1},{"$f":"AND(Y139=0,Y$1=1)","v":false},{"$f":"IF(J139=\"-\",1,0)*AA$1","v":1},{"$f":"AND(AA139=0,AA$1=1)","v":false},{"$f":"IF(L139=\"-\",1,0)*AC$1","v":1},{"$f":"AND(AC139=0,AC$1=1)","v":false}]
[136,null,"-","-",{"$f":"IF(D140=\"-\",0,D140)","v":0},"-",{"$f":"IF(F140=\"-\",0,F140)","v":0},"-",{"$f":"IF(H140=\"-\",0,H140)","v":0},"-",{"$f":"IF(J140=\"-\",0,J140)","v":0},"-",{"$f":"IF(L140=\"-\",0,L140)","v":0},null,{"$f":"E140+G140+I140+K140+M140","v":0},{"$f":"MAX(D140,F140,H140,J140,L140)","v":0},{"$f":"IF(S140=1,O140,IF(S140=0,(O140-P140),\"-\"))","v":"-"},{"$f":"COUNTIF(U140:AD140,\"=TRUE\")","v":0},{"$f":"AE$1-R140","v":5},{"$f":"IF(S140<2,\"Yes\",\"No\")","v":"No"},{"$f":"IF(D140=\"-\",1,0)*U$1","v":1},{"$f":"AND(U140=0,U$1=1)","v":false},{"$f":"IF(F140=\"-\",1,0)*W$1","v":1},{"$f":"AND(W140=0,W$1=1)","v":false},{"$f":"IF(H140=\"-\",1,0)*Y$1","v":1},{"$f":"AND(Y140=0,Y$1=1)","v":false},{"$f":"IF(J140=\"-\",1,0)*AA$1","v":1},{"$f":"AND(AA140=0,AA$1=1)","v":false},{"$f":"IF(L140=\"-\",1,0)*AC$1","v":1},{"$f":"AND(AC140=0,AC$1=1)","v":false}]
[137,null,"-","-",{"$f":"IF(D141=\"-\",0,D141)","v":0},"-",{"$f":"IF(F141=\"-\",0,F141)","v":0},"-",{"$f":"IF(H141=\"-\",0,H141)","v":0},"-",{"$f":"IF(J141=\"-\",0,J141)","v":0},"-",{"$f":"IF(L141=\"-\",0,L141)","v":0},null,{"$f":"E141+G141+I141+K141+M141","v":0},{"$f":"MAX(D141,F141,H141,J141,L141)","v":0},{"$f":"IF(S141=1,O141,IF(S141=0,(O141-P141),\"-\"))","v":"-"},{"$f":"COUNTIF(U141:AD141,\"=TRUE\")","v":0},{"$f":"AE$1-R141","v":5},{"$f":"IF(S141<2,\"Yes\",\"No\")","v":"No"},{"$f":"IF(D141=\"-\",1,0)*U$1","v":1},{"$f":"AND(U141=0,U$1=1)","v":false},{"$f":"IF(F141=\"-\",1,0)*W$1","v":1},{"$f":"AND(W141=0,W$1=1)","v":false},{"$f":"IF(H141=\"-\",1,0)*Y$1","v":1},{"$f":"AND(Y141=0,Y$1=1)","v":false},{"$f":"IF(J141=\"-\",1,0)*AA$1","v":1},{"$f":"AND(AA141=0,AA$1=1)","v":false},{"$f":"IF(L141=\"-\",1,0)*AC$1","v":1},{"$f":"AND(AC141=0,AC$1=1)","v":false}]
[138,null,"-","-",{"$f":"IF(D142=\"-\",0,D142)","v":0},"-",{"$f":"IF(F142=\"-\",0,F142)","v":0},"-",{"$f":"IF(H142=\"-\",0,H142)","v":0},"-",{"$f":"IF(J142=\"-\",0,J142)","v":0},"-",{"$f":"IF(L142=\"-\",0,L142)","v":0},null,{"$f":"E142+G142+I142+K142+M142","v":0},{"$f":"MAX(D142,F142,H142,J142,L142)","v":0},{"$f":"IF(S142=1,O142,IF(S142=0,(O142-P142),\"-\"))","v":"-"},{"$f":"COUNTIF(U142:AD142,\"=TRUE\")","v":0},{"$f":"AE$1-R142","v":5},{"$f":"IF(S142<2,\"Yes\",\"No\")","v":"No"},{"$f":"IF(D142=\"-\",1,0)*U$1","v":1},{"$f":"AND(U142=0,U$1=1)","v":false},{"$f":"IF(F142=\"-\",1,0)*W$1","v":1},{"$f":"AND(W142=0,W$1=1)","v":false},{"$f":"IF(H142=\"-\",1,0)*Y$1","v":1},{"$f":"AND(Y142=0,Y$1=1)","v":false},{"$f":"IF(J142=\"-\",1,0)*AA$1","v":1},{"$f":"AND(AA142=0,AA$1=1)","v":false},{"$f":"IF(L142=\"-\",1,0)*AC$1","v":1},{"$f":"AND(AC142=0,AC$1=1)","v":false}]
[139,null,"-","-",{"$f":"IF(D143=\"-\",0,D143)","v":0},"-",{"$f":"IF(F143=\"-\",0,F143)","v":0},"-",{"$f":"IF(H143=\"-\",0,H143)","v":0},"-",{"$f":"IF(J143=\"-\",0,J143)","v":0},"-",{"$f":"IF(L143=\"-\",0,L143)","v":0},null,{"$f":"E143+G143+I143+K143+M143","v":0},{"$f":"MAX(D143,F143,H143,J143,L143)","v":0},{"$f":"IF(S143=1,O143,IF(S143=0,(O143-P143),\"-\"))","v":"-"},{"$f":"COUNTIF(U143:AD143,\"=TRUE\")","v":0},{"$f":"AE$1-R143","v":5},{"$f":"IF(S143<2,\"Yes\",\"No\")","v":"No"},{"$f":"IF(D143=\"-\",1,0)*U$1","v":1},{"$f":"AND(U143=0,U$1=1)","v":false},{"$f":"IF(F143=\"-\",1,0)*W$1","v":1},{"$f":"AND(W143=0,W$1=1)","v":false},{"$f":"IF(H143=\"-\",1,0)*Y$1","v":1},{"$f":"AND(Y143=0,Y$1=1)","v":false},{"$f":"IF(J143=\"-\",1,0)*AA$1","v":1},{"$f":"AND(AA143=0,AA$1=1)","v":false},{"$f":"IF(L143=\"-\",1,0)*AC$1","v":1},{"$f":"AND(AC143=0,AC$1=1)","v":false}]
[140,null,"-","-",{"$f":"IF(D144=\"-\",0,D144)","v":0},"-",{"$f":"IF(F144=\"-\",0,F144)","v":0},"-",{"$f":"IF(H144=\"-\",0,H144)","v":0},"-",{"$f":"IF(J144=\"-\",0,J144)","v":0},"-",{"$f":"IF(L144=\"-\",0,L144)","v":0},null,{"$f":"E144+G144+I144+K144+M144","v":0},{"$f":"MAX(D144,F144,H144,J144,L144)","v":0},{"$f":"IF(S144=1,O144,IF(S144=0,(O144-P144),\"-\"))","v":"-"},{"$f":"COUNTIF(U144:AD144,\"=TRUE\")","v":0},{"$f":"AE$1-R144","v":5},{"$f":"IF(S144<2,\"Yes\",\"No\")","v":"No"},{"$f":"IF(D144=\"-\",1,0)*U$1","v":1},{"$f":"AND(U144=0,U$1=1)","v":false},{"$f":"IF(F144=\"-\",1,0)*W$1","v":1},{"$f":"AND(W144=0,W$1=1)","v":false},{"$f":"IF(H144=\"-\",1,0)*Y$1","v":1},{"$f":"AND(Y144=0,Y$1=1)","v":false},{"$f":"IF(J144=\"-\",1,0)*AA$1","v":1},{"$f":"AND(AA144=0,AA$1=1)","v":false},{"$f":"IF(L144=\"-\",1,0)*AC$1","v":1},{"$f":"AND(AC144=0,AC$1=1)","v":false}]
[141,null,"-","-",{"$f":"IF(D145=\"-\",0,D145)","v":0},"-",{"$f":"IF(F145=\"-\",0,F145)","v":0},"-",{"$f":"IF(H145=\"-\",0,H145)","v":0},"-",{"$f":"IF(J145=\"-\",0,J145)","v":0},"-",{"$f":"IF(L145=\"-\",0,L145)","v":0},null,{"$f":"E145+G145+I145+K145+M145","v":0},{"$f":"MAX(D145,F145,H145,J145,L145)","v":0},{"$f":"IF(S145=1,O145,IF(S145=0,(O145-P145),\"-\"))","v":"-"},{"$f":"COUNTIF(U145:AD145,\"=TRUE\")","v":0},{"$f":"AE$1-R145","v":5},{"$f":"IF(S145<2,\"Yes\",\"No\")","v":"No"},{"$f":"IF(D145=\"-\",1,0)*U$1","v":1},{"$f":"AND(U145=0,U$1=1)","v":false},{"$f":"IF(F145=\"-\",1,0)*W$1","v":1},{"$f":"AND(W145=0,W$1=1)","v":false},{"$f":"IF(H145=\"-\",1,0)*Y$1","v":1},{"$f":"AND(Y145=0,Y$1=1)","v":false},{"$f":"IF(J145=\"-\",1,0)*AA$1","v":1},{"$f":"AND(AA145=0,AA$1=1)","v":false},{"$f":"IF(L145=\"-\",1,0)*AC$1","v":1},{"$f":"AND(AC145=0,AC$1=1)","v":false}]
[142,null,"-","-",{"$f":"IF(D146=\"-\",0,D146)","v":0},"-",{"$f":"IF(F146=\"-\",0,F146)","v":0},"-",{"$f":"IF(H146=\"-\",0,H146)","v":0},"-",{"$f":"IF(J146=\"-\",0,J146)","v":0},"-",{"$f":"IF(L146=\"-\",0,L146)","v":0},null,{"$f":"E146+G146+I146+K146+M146","v":0},{"$f":"MAX(D146,F146,H146,J146,L146)","v":0},{"$f":"IF(S146=1,O146,IF(S146=0,(O146-P146),\"-\"))","v":"-"},{"$f":"COUNTIF(U146:AD146,\"=TRUE\")","v":0},{"$f":"AE$1-R146","v":5},{"$f":"IF(S146<2,\"Yes\",\"No\")","v":"No"},{"$f":"IF(D146=\"-\",1,0)*U$1","v":1},{"$f":"AND(U146=0,U$1=1)","v":false},{"$f":"IF(F146=\"-\",1,0)*W$1","v":1},{"$f":"AND(W146=0,W$1=1)","v":false},{"$f":"IF(H146=\"-\",1,0)*Y$1","v":1},{"$f":"AND(Y146=0,Y$1=1)","v":false},{"$f":"IF(J146=\"-\",1,0)*AA$1","v":1},{"$f":"AND(AA146=0,AA$1=1)","v":false},{"$f":"IF(L146=\"-\",1,0)*AC$1","v":1},{"$f":"AND(AC146=0,AC$1=1)","v":false}]
[143,null,"-","-",{"$f":"IF(D147=\"-\",0,D147)","v":0},"-",{"$f":"IF(F147=\"-\",0,F147)","v":0},"-",{"$f":"IF(H147=\"-\",0,H147)","v":0},"-",{"$f":"IF(J147=\"-\",0,J147)","v":0},"-",{"$f":"IF(L147=\"-\",0,L147)","v":0},null,{"$f":"E147+G147+I147+K147+M147","v":0},{"$f":"MAX(D147,F147,H147,J147,L147)","v":0},{"$f":"IF(S147=1,O147,IF(S147=0,(O147-P147),\"-\"))","v":"-"},{"$f":"COUNTIF(U147:AD147,\"=TRUE\")","v":0},{"$f":"AE$1-R147","v":5},{"$f":"IF(S147<2,\"Yes\",\"No\")","v":"No"},{"$f":"IF(D147=\"-\",1,0)*U$1","v":1},{"$f":"AND(U147=0,U$1=1)","v":false},{"$f":"IF(F147=\"-\",1,0)*W$1","v":1},{"$f":"AND(W147=0,W$1=1)","v":false},{"$f":"IF(H147=\"-\",1,0)*Y$1","v":1},{"$f":"AND(Y147=0,Y$1=1)","v":false},{"$f":"IF(J147=\"-\",1,0)*AA$1","v":1},{"$f":"AND(AA147=0,AA$1=1)","v":false},{"$f":"IF(L147=\"-\",1,0)*AC$1","v":1},{"$f":"AND(AC147=0,AC$1=1)","v":false}]
[144,null,"-","-",{"$f":"IF(D148=\"-\",0,D148)","v":0},"-",{"$f":"IF(F148=\"-\",0,F148)","v":0},"-",{"$f":"IF(H148=\"-\",0,H148)","v":0},"-",{"$f":"IF(J148=\"-\",0,J148)","v":0},"-",{"$f":"IF(L148=\"-\",0,L148)","v":0},null,{"$f":"E148+G148+I148+K148+M148","v":0},{"$f":"MAX(D148,F148,H148,J148,L148)","v":0},{"$f":"IF(S148=1,O148,IF(S148=0,(O148-P148),\"-\"))","v":"-"},{"$f":"COUNTIF(U148:AD148,\"=TRUE\")","v":0},{"$f":"AE$1-R148","v":5},{"$f":"IF(S148<2,\"Yes\",\"No\")","v":"No"},{"$f":"IF(D148=\"-\",1,0)*U$1","v":1},{"$f":"AND(U148=0,U$1=1)","v":false},{"$f":"IF(F148=\"-\",1,0)*W$1","v":1},{"$f":"AND(W148=0,W$1=1)","v":false},{"$f":"IF(H148=\"-\",1,0)*Y$1","v":1},{"$f":"AND(Y148=0,Y$1=1)","v":false},{"$f":"IF(J148=\"-\",1,0)*AA$1","v":1},{"$f":"AND(AA148=0,AA$1=1)","v":false},{"$f":"IF(L148=\"-\",1,0)*AC$1","v":1},{"$f":"AND(AC148=0,AC$1=1)","v":false}]
[145,null,"-","-",{"$f":"IF(D149=\"-\",0,D149)","v":0},"-",{"$f":"IF(F149=\"-\",0,F149)","v":0},"-",{"$f":"IF(H149=\"-\",0,H149)","v":0},"-",{"$f":"IF(J149=\"-\",0,J149)","v":0},"-",{"$f":"IF(L149=\"-\",0,L149)","v":0},null,{"$f":"E149+G149+I149+K149+M149","v":0},{"$f":"MAX(D149,F149,H149,J149,L149)","v":0},{"$f":"IF(S149=1,O149,IF(S149=0,(O149-P149),\"-\"))","v":"-"},{"$f":"COUNTIF(U149:AD149,\"=TRUE\")","v":0},{"$f":"AE$1-R149","v":5},{"$f":"IF(S149<2,\"Yes\",\"No\")","v":"No"},{"$f":"IF(D149=\"-\",1,0)*U$1","v":1},{"$f":"AND(U149=0,U$1=1)","v":false},{"$f":"IF(F149=\"-\",1,0)*W$1","v":1},{"$f":"AND(W149=0,W$1=1)","v":false},{"$f":"IF(H149=\"-\",1,0)*Y$1","v":1},{"$f":"AND(Y149=0,Y$1=1)","v":false},{"$f":"IF(J149=\"-\",1,0)*AA$1","v":1},{"$f":"AND(AA149=0,AA$1=1)","v":false},{"$f":"IF(L149=\"-\",1,0)*AC$1","v":1},{"$f":"AND(AC149=0,AC$1=1)","v":false}]
[146,null,"-","-",{"$f":"IF(D150=\"-\",0,D150)","v":0},"-",{"$f":"IF(F150=\"-\",0,F150)","v":0},"-",{"$f":"IF(H150=\"-\",0,H150)","v":0},"-",{"$f":"IF(J150=\"-\",0,J150)","v":0},"-",{"$f":"IF(L150=\"-\",0,L150)","v":0},null,{"$f":"E150+G150+I150+K150+M150","v":0},{"$f":"MAX(D150,F150,H150,J150,L150)","v":0},{"$f":"IF(S150=1,O150,IF(S150=0,(O150-P150),\"-\"))","v":"-"},{"$f":"COUNTIF(U150:AD150,\"=TRUE\")","v":0},{"$f":"AE$1-R150","v":5},{"$f":"IF(S150<2,\"Yes\",\"No\")","v":"No"},{"$f":"IF(D150=\"-\",1,0)*U$1","v":1},{"$f":"AND(U150=0,U$1=1)","v":false},{"$f":"IF(F150=\"-\",1,0)*W$1","v":1},{"$f":"AND(W150=0,W$1=1)","v":false},{"$f":"IF(H150=\"-\",1,0)*Y$1","v":1},{"$f":"AND(Y150=0,Y$1=1)","v":false},{"$f":"IF(J150=\"-\",1,0)*AA$1","v":1},{"$f":"AND(AA150=0,AA$1=1)","v":false},{"$f":"IF(L150=\"-\",1,0)*AC$1","v":1},{"$f":"AND(AC150=0,AC$1=1)","v":false}]
[147]
[148]
[149]
[150]

{"sheet":"Senior Girls Teams","index":13,"n_rows":19,"n_cols":25,"rows_kept":19,"cut":false,"hidden":false,"merged":[[2,1,2,4],[2,5,2,8],[2,9,2,12],[2,13,2,16],[2,17,2,20]]}
[null,"Claimed Last Place",null,"Y","N","-"]
[]
["Total Finishers",{"$f":"'Senior Girls'!D2","v":7},null,null,null,{"$f":"'Senior Girls'!G2","v":8},null,null,null,{"$f":"'Senior Girls'!H2","v":11},null,null,null,{"$f":"'Senior Girls'!J2","v":9},null,null,null,{"$f":"'Senior Girls'!L2","v":10}]
["Team","Race 1 Position",null,"Race 1 Points Total","Claimed Last Place?","Race 2 Postion",null,"Race 2 Points Total","Claimed Last Place?","Race 3 Postion",null,"Race 3 Points Total","Claimed Last Place?","Race 4 Postion",null,"Race 4 Points Total","Claimed Last Place?","Race 5 Postion",null,"Race 5 Points Total","Claimed Last Place?","Number of claimed last places","Number of Races Without","Number of Races Completed","Total (All Races)"]
["Lutterworth College",1,{"$f":"IF(B5=\"-\",0,B5)","v":1},15,"N",2,{"$f":"IF(F5=\"-\",0,F5)","v":2},22,"Y",2,{"$f":"IF(J5=\"-\",0,J5)","v":2},24,"N",1,{"$f":"IF(N5=\"-\",0,N5)","v":1},23,"N",1,{"$f":"IF(R5=\"-\",0,R5)","v":1},20,"N",{"$f":"COUNTIF(B5:U5,\"Y\")","v":1},{"$f":"COUNTIF(B5:U5,\"n\")","v":4},{"$f":"V5+W5","v":5},{"$f":"C5+G5+K5+O5+S5","v":7}]
["Robert Smyth Academy","-",{"$f":"IF(B6=\"-\",0,B6)","v":0},"-","-",1,{"$f":"IF(F6=\"-\",0,F6)","v":1},11,"N",1,{"$f":"IF(J6=\"-\",0,J6)","v":1},20,"Y","-",{"$f":"IF(N6=\"-\",0,N6)","v":0},"-","-","-",{"$f":"IF(R6=\"-\",0,R6)","v":0},"-","-",{"$f":"COUNTIF(B6:U6,\"Y\")","v":1},{"$f":"COUNTIF(B6:U6,\"n\")","v":1},{"$f":"V6+W6","v":2},{"$f":"C6+G6+K6+O6+S6","v":2}]
["Oakham School","-",0,"-","-","-",0,"-","-","-",0,"-","-","-",0,"-","-",2,2,22,"Y",1,0,1,2]
[null,"-",0,"-","-","-",0,"-","-","-",0,"-","-","-",0,"-","-","-",0,"-","-",0,0,0,0]
[null,"-",0,"-","-","-",0,"-","-","-",0,"-","-","-",0,"-","-","-",0,"-","-",0,0,0,0]
[null,"-",0,"-","-","-",0,"-","-","-",0,"-","-","-",0,"-","-","-",0,"-","-",0,0,0,0]
[null,"-",0,"-","-","-",0,"-","-","-",0,"-","-","-",0,"-","-","-",0,"-","-",0,0,0,0]
[null,"-",0,"-","-","-",0,"-","-","-",0,"-","-","-",0,"-","-","-",0,"-","-",0,0,0,0]
[null,"-",0,"-","-","-",0,"-","-","-",0,"-","-","-",0,"-","-","-",0,"-","-",0,0,0,0]
[null,"-",0,"-","-","-",0,"-","-","-",0,"-","-","-",0,"-","-","-",0,"-","-",0,0,0,0]
[null,"-",0,"-","-","-",0,"-","-","-",0,"-","-","-",0,"-","-","-",0,"-","-",0,0,0,0]
[null,"-",0,"-","-","-",0,"-","-","-",0,"-","-","-",0,"-","-","-",0,"-","-",0,0,0,0]
[null,"-",0,"-","-","-",0,"-","-","-",0,"-","-","-",0,"-","-","-",0,"-","-",0,0,0,0]
[null,"-",0,"-","-","-",0,"-","-","-",0,"-","-","-",0,"-","-","-",0,"-","-",0,0,0,0]
[null,"-",{"$f":"IF(B19=\"-\",0,B19)","v":0},"-","-","-",{"$f":"IF(F19=\"-\",0,F19)","v":0},"-","-","-",{"$f":"IF(J19=\"-\",0,J19)","v":0},"-",null,"-",{"$f":"IF(N19=\"-\",0,N19)","v":0},"-","-","-",{"$f":"IF(R19=\"-\",0,R19)","v":0},"-","-",0,0,0,0]

{"sheet":"Senior Boys","index":14,"n_rows":153,"n_cols":38,"rows_kept":153,"cut":false,"hidden":false,"merged":[]}
[null,"Total Number of Runners","Race Complete (Y/N) ",{"$f":"'Year 7 Girls '!D1","v":"Y"},null,{"$f":"'Year 7 Girls '!F1","v":"Y"},null,{"$f":"'Year 7 Girls '!H1","v":"Y"},null,{"$f":"'Year 7 Girls '!J1","v":"Y"},null,"Y",null,null,null,null,null,null,null,null,{"$f":"IF(D1=\"Y\",1,0)","v":1},null,{"$f":"IF(F1=\"Y\",1,0)","v":1},null,{"$f":"IF(H1=\"Y\",1,0)","v":1},null,{"$f":"IF(J1=\"Y\",1,0)","v":1},null,{"$f":"IF(L1=\"Y\",1,0)","v":1},null,{"$f":"SUM(U1:AC1)","v":5}]
[null,{"$f":"COUNTA(B5:B299)","v":19},"No of Finishers",{"$f":"MAX(D5:D150)","v":9},9,8,8,14,14,9,9,8]
[null,null,"Number of results recorded",{"$f":"COUNTIF(D5:D149,\">0\")","v":9},null,{"$f":"COUNTIF(G5:G149,\">0\")","v":8},null,14,null,9,null,8]
["Reset Column","Name","School","Race 1","Normalised result -1","Race 2","Normalised result -2","Race 3","Normalised result -3","Race 4","Normalised result -4","Race 5","Normalised result -5",null,"Total\n(All Races)","Lowest Place Finish","Final Total","Number of Races Completed","League contender?\n(No. of races - missed)","Elidgible For League Title","Competed in race 1\n0 = YES",null,"Competed in race 2\n0 = YES",null,"Competed in race 3\n0 = YES",null,"Competed in race 4\n0 = YES",null,"Competed in race 5\n0 = YES",null,null,null,null,null,null,null,null," "]
[17,"Alex Percy","Groby CC",1,{"$f":"IF(D5=\"-\",0,D5)","v":1},1,{"$f":"IF(F5=\"-\",0,F5)","v":1},5,{"$f":"IF(H5=\"-\",0,H5)","v":5},3,{"$f":"IF(J5=\"-\",0,J5)","v":3},1,{"$f":"IF(L5=\"-\",0,L5)","v":1},null,{"$f":"E5+G5+I5+K5+M5","v":11},{"$f":"MAX(D5,F5,H5,J5,L5)","v":5},{"$f":"IF(S5=1,O5,IF(S5=0,(O5-P5),\"-\"))","v":6},{"$f":"COUNTIF(U5:AD5,\"=TRUE\")","v":5},{"$f":"AE$1-R5","v":0},{"$f":"IF(S5<2,\"Yes\",\"No\")","v":"Yes"},{"$f":"IF(D5=\"-\",1,0)*U$1","v":0},{"$f":"AND(U5=0,U$1=1)","v":true},{"$f":"IF(F5=\"-\",1,0)*W$1","v":0},{"$f":"AND(W5=0,W$1=1)","v":true},{"$f":"IF(H5=\"-\",1,0)*Y$1","v":0},{"$f":"AND(Y5=0,Y$1=1)","v":true},{"$f":"IF(J5=\"-\",1,0)*AA$1","v":0},{"$f":"AND(AA5=0,AA$1=1)","v":true},{"$f":"IF(L5=\"-\",1,0)*AC$1","v":0},{"$f":"AND(AC5=0,AC$1=1)","v":true}]
[14,"Nathan Lawson","Lutterworth College","-",{"$f":"IF(D6=\"-\",0,D6)","v":0},"-",{"$f":"IF(F6=\"-\",0,F6)","v":0},7,{"$f":"IF(H6=\"-\",0,H6)","v":7},"-",{"$f":"IF(J6=\"-\",0,J6)","v":0},2,{"$f":"IF(L6=\"-\",0,L6)","v":2},null,{"$f":"E6+G6+I6+K6+M6","v":9},{"$f":"MAX(D6,F6,H6,J6,L6)","v":7},{"$f":"IF(S6=1,O6,IF(S6=0,(O6-P6),\"-\"))","v":"-"},{"$f":"COUNTIF(U6:AD6,\"=TRUE\")","v":2},{"$f":"AE$1-R6","v":3},{"$f":"IF(S6<2,\"Yes\",\"No\")","v":"No"},{"$f":"IF(D6=\"-\",1,0)*U$1","v":1},{"$f":"AND(U6=0,U$1=1)","v":false},{"$f":"IF(F6=\"-\",1,0)*W$1","v":1},{"$f":"AND(W6=0,W$1=1)","v":false},{"$f":"IF(H6=\"-\",1,0)*Y$1","v":0},{"$f":"AND(Y6=0,Y$1=1)","v":true},{"$f":"IF(J6=\"-\",1,0)*AA$1","v":1},{"$f":"AND(AA6=0,AA$1=1)","v":false},{"$f":"IF(L6=\"-\",1,0)*AC$1","v":0},{"$f":"AND(AC6=0,AC$1=1)","v":true}]
[75,"Amrik Gill","Beauchamp College",2,{"$f":"IF(D7=\"-\",0,D7)","v":2},4,{"$f":"IF(F7=\"-\",0,F7)","v":4},2,{"$f":"IF(H7=\"-\",0,H7)","v":2},2,{"$f":"IF(J7=\"-\",0,J7)","v":2},3,{"$f":"IF(L7=\"-\",0,L7)","v":3},null,{"$f":"E7+G7+I7+K7+M7","v":13},{"$f":"MAX(D7,F7,H7,J7,L7)","v":4},{"$f":"IF(S7=1,O7,IF(S7=0,(O7-P7),\"-\"))","v":9},{"$f":"COUNTIF(U7:AD7,\"=TRUE\")","v":5},{"$f":"AE$1-R7","v":0},{"$f":"IF(S7<2,\"Yes\",\"No\")","v":"Yes"},{"$f":"IF(D7=\"-\",1,0)*U$1","v":0},{"$f":"AND(U7=0,U$1=1)","v":true},{"$f":"IF(F7=\"-\",1,0)*W$1","v":0},{"$f":"AND(W7=0,W$1=1)","v":true},{"$f":"IF(H7=\"-\",1,0)*Y$1","v":0},{"$f":"AND(Y7=0,Y$1=1)","v":true},{"$f":"IF(J7=\"-\",1,0)*AA$1","v":0},{"$f":"AND(AA7=0,AA$1=1)","v":true},{"$f":"IF(L7=\"-\",1,0)*AC$1","v":0},{"$f":"AND(AC7=0,AC$1=1)","v":true}]
[4,"Tom Johnson","Loughborough Grammar School",6,{"$f":"IF(D8=\"-\",0,D8)","v":6},"-",{"$f":"IF(F8=\"-\",0,F8)","v":0},11,{"$f":"IF(H8=\"-\",0,H8)","v":11},"-",{"$f":"IF(J8=\"-\",0,J8)","v":0},4,{"$f":"IF(L8=\"-\",0,L8)","v":4},null,{"$f":"E8+G8+I8+K8+M8","v":21},{"$f":"MAX(D8,F8,H8,J8,L8)","v":11},{"$f":"IF(S8=1,O8,IF(S8=0,(O8-P8),\"-\"))","v":"-"},{"$f":"COUNTIF(U8:AD8,\"=TRUE\")","v":3},{"$f":"AE$1-R8","v":2},{"$f":"IF(S8<2,\"Yes\",\"No\")","v":"No"},{"$f":"IF(D8=\"-\",1,0)*U$1","v":0},{"$f":"AND(U8=0,U$1=1)","v":true},{"$f":"IF(F8=\"-\",1,0)*W$1","v":1},{"$f":"AND(W8=0,W$1=1)","v":false},{"$f":"IF(H8=\"-\",1,0)*Y$1","v":0},{"$f":"AND(Y8=0,Y$1=1)","v":true},{"$f":"IF(J8=\"-\",1,0)*AA$1","v":1},{"$f":"AND(AA8=0,AA$1=1)","v":false},{"$f":"IF(L8=\"-\",1,0)*AC$1","v":0},{"$f":"AND(AC8=0,AC$1=1)","v":true}]
[19,"Greg Jones","Bosworth Academy","-",{"$f":"IF(D9=\"-\",0,D9)","v":0},2,{"$f":"IF(F9=\"-\",0,F9)","v":2},3,{"$f":"IF(H9=\"-\",0,H9)","v":3},1,{"$f":"IF(J9=\"-\",0,J9)","v":1},5,{"$f":"IF(L9=\"-\",0,L9)","v":5},null,{"$f":"E9+G9+I9+K9+M9","v":11},{"$f":"MAX(D9,F9,H9,J9,L9)","v":5},{"$f":"IF(S9=1,O9,IF(S9=0,(O9-P9),\"-\"))","v":11},{"$f":"COUNTIF(U9:AD9,\"=TRUE\")","v":4},{"$f":"AE$1-R9","v":1},{"$f":"IF(S9<2,\"Yes\",\"No\")","v":"Yes"},{"$f":"IF(D9=\"-\",1,0)*U$1","v":1},{"$f":"AND(U9=0,U$1=1)","v":false},{"$f":"IF(F9=\"-\",1,0)*W$1","v":0},{"$f":"AND(W9=0,W$1=1)","v":true},{"$f":"IF(H9=\"-\",1,0)*Y$1","v":0},{"$f":"AND(Y9=0,Y$1=1)","v":true},{"$f":"IF(J9=\"-\",1,0)*AA$1","v":0},{"$f":"AND(AA9=0,AA$1=1)","v":true},{"$f":"IF(L9=\"-\",1,0)*AC$1","v":0},{"$f":"AND(AC9=0,AC$1=1)","v":true}]
[10,"Finn Miskin-Young","Wreake Valley Academy","-",{"$f":"IF(D10=\"-\",0,D10)","v":0},6,{"$f":"IF(F10=\"-\",0,F10)","v":6},9,{"$f":"IF(H10=\"-\",0,H10)","v":9},4,{"$f":"IF(J10=\"-\",0,J10)","v":4},6,{"$f":"IF(L10=\"-\",0,L10)","v":6},null,{"$f":"E10+G10+I10+K10+M10","v":25},{"$f":"MAX(D10,F10,H10,J10,L10)","v":9},{"$f":"IF(S10=1,O10,IF(S10=0,(O10-P10),\"-\"))","v":25},{"$f":"COUNTIF(U10:AD10,\"=TRUE\")","v":4},{"$f":"AE$1-R10","v":1},{"$f":"IF(S10<2,\"Yes\",\"No\")","v":"Yes"},{"$f":"IF(D10=\"-\",1,0)*U$1","v":1},{"$f":"AND(U10=0,U$1=1)","v":false},{"$f":"IF(F10=\"-\",1,0)*W$1","v":0},{"$f":"AND(W10=0,W$1=1)","v":true},{"$f":"IF(H10=\"-\",1,0)*Y$1","v":0},{"$f":"AND(Y10=0,Y$1=1)","v":true},{"$f":"IF(J10=\"-\",1,0)*AA$1","v":0},{"$f":"AND(AA10=0,AA$1=1)","v":true},{"$f":"IF(L10=\"-\",1,0)*AC$1","v":0},{"$f":"AND(AC10=0,AC$1=1)","v":true}]
[1,"Zachary Meakin","Bosworth Academy",3,{"$f":"IF(D11=\"-\",0,D11)","v":3},5,{"$f":"IF(F11=\"-\",0,F11)","v":5},8,{"$f":"IF(H11=\"-\",0,H11)","v":8},5,{"$f":"IF(J11=\"-\",0,J11)","v":5},7,{"$f":"IF(L11=\"-\",0,L11)","v":7},null,{"$f":"E11+G11+I11+K11+M11","v":28},{"$f":"MAX(D11,F11,H11,J11,L11)","v":8},{"$f":"IF(S11=1,O11,IF(S11=0,(O11-P11),\"-\"))","v":20},{"$f":"COUNTIF(U11:AD11,\"=TRUE\")","v":5},{"$f":"AE$1-R11","v":0},{"$f":"IF(S11<2,\"Yes\",\"No\")","v":"Yes"},{"$f":"IF(D11=\"-\",1,0)*U$1","v":0},{"$f":"AND(U11=0,U$1=1)","v":true},{"$f":"IF(F11=\"-\",1,0)*W$1","v":0},{"$f":"AND(W11=0,W$1=1)","v":true},{"$f":"IF(H11=\"-\",1,0)*Y$1","v":0},{"$f":"AND(Y11=0,Y$1=1)","v":true},{"$f":"IF(J11=\"-\",1,0)*AA$1","v":0},{"$f":"AND(AA11=0,AA$1=1)","v":true},{"$f":"IF(L11=\"-\",1,0)*AC$1","v":0},{"$f":"AND(AC11=0,AC$1=1)","v":true}]
[63,"Sacha Lazutin","Loughborough Grammar School",9,{"$f":"IF(D12=\"-\",0,D12)","v":9},"-",{"$f":"IF(F12=\"-\",0,F12)","v":0},13,{"$f":"IF(H12=\"-\",0,H12)","v":13},9,{"$f":"IF(J12=\"-\",0,J12)","v":9},8,{"$f":"IF(L12=\"-\",0,L12)","v":8},null,{"$f":"E12+G12+I12+K12+M12","v":39},{"$f":"MAX(D12,F12,H12,J12,L12)","v":13},{"$f":"IF(S12=1,O12,IF(S12=0,(O12-P12),\"-\"))","v":39},{"$f":"COUNTIF(U12:AD12,\"=TRUE\")","v":4},{"$f":"AE$1-R12","v":1},{"$f":"IF(S12<2,\"Yes\",\"No\")","v":"Yes"},{"$f":"IF(D12=\"-\",1,0)*U$1","v":0},{"$f":"AND(U12=0,U$1=1)","v":true},{"$f":"IF(F12=\"-\",1,0)*W$1","v":1},{"$f":"AND(W12=0,W$1=1)","v":false},{"$f":"IF(H12=\"-\",1,0)*Y$1","v":0},{"$f":"AND(Y12=0,Y$1=1)","v":true},{"$f":"IF(J12=\"-\",1,0)*AA$1","v":0},{"$f":"AND(AA12=0,AA$1=1)","v":true},{"$f":"IF(L12=\"-\",1,0)*AC$1","v":0},{"$f":"AND(AC12=0,AC$1=1)","v":true}]
[16,"Cameron Hart","Ratcliffe College","-",{"$f":"IF(D13=\"-\",0,D13)","v":0},3,{"$f":"IF(F13=\"-\",0,F13)","v":3},"-",{"$f":"IF(H13=\"-\",0,H13)","v":0},6,{"$f":"IF(J13=\"-\",0,J13)","v":6},"-",{"$f":"IF(L13=\"-\",0,L13)","v":0},null,{"$f":"E13+G13+I13+K13+M13","v":9},{"$f":"MAX(D13,F13,H13,J13,L13)","v":6},{"$f":"IF(S13=1,O13,IF(S13=0,(O13-P13),\"-\"))","v":"-"},{"$f":"COUNTIF(U13:AD13,\"=TRUE\")","v":2},{"$f":"AE$1-R13","v":3},{"$f":"IF(S13<2,\"Yes\",\"No\")","v":"No"},{"$f":"IF(D13=\"-\",1,0)*U$1","v":1},{"$f":"AND(U13=0,U$1=1)","v":false},{"$f":"IF(F13=\"-\",1,0)*W$1","v":0},{"$f":"AND(W13=0,W$1=1)","v":true},{"$f":"IF(H13=\"-\",1,0)*Y$1","v":1},{"$f":"AND(Y13=0,Y$1=1)","v":false},{"$f":"IF(J13=\"-\",1,0)*AA$1","v":0},{"$f":"AND(AA13=0,AA$1=1)","v":true},{"$f":"IF(L13=\"-\",1,0)*AC$1","v":1},{"$f":"AND(AC13=0,AC$1=1)","v":false}]
[5,"Josh Phillips","Loughborough Grammar School",4,{"$f":"IF(D14=\"-\",0,D14)","v":4},7,{"$f":"IF(F14=\"-\",0,F14)","v":7},10,{"$f":"IF(H14=\"-\",0,H14)","v":10},7,{"$f":"IF(J14=\"-\",0,J14)","v":7},"-",{"$f":"IF(L14=\"-\",0,L14)","v":0},null,{"$f":"E14+G14+I14+K14+M14","v":28},{"$f":"MAX(D14,F14,H14,J14,L14)","v":10},{"$f":"IF(S14=1,O14,IF(S14=0,(O14-P14),\"-\"))","v":28},{"$f":"COUNTIF(U14:AD14,\"=TRUE\")","v":4},{"$f":"AE$1-R14","v":1},{"$f":"IF(S14<2,\"Yes\",\"No\")","v":"Yes"},{"$f":"IF(D14=\"-\",1,0)*U$1","v":0},{"$f":"AND(U14=0,U$1=1)","v":true},{"$f":"IF(F14=\"-\",1,0)*W$1","v":0},{"$f":"AND(W14=0,W$1=1)","v":true},{"$f":"IF(H14=\"-\",1,0)*Y$1","v":0},{"$f":"AND(Y14=0,Y$1=1)","v":true},{"$f":"IF(J14=\"-\",1,0)*AA$1","v":0},{"$f":"AND(AA14=0,AA$1=1)","v":true},{"$f":"IF(L14=\"-\",1,0)*AC$1","v":1},{"$f":"AND(AC14=0,AC$1=1)","v":false}]
[2,"Andrew Brine","De Lisle College",8,{"$f":"IF(D15=\"-\",0,D15)","v":8},8,{"$f":"IF(F15=\"-\",0,F15)","v":8},12,{"$f":"IF(H15=\"-\",0,H15)","v":12},8,{"$f":"IF(J15=\"-\",0,J15)","v":8},"-",{"$f":"IF(L15=\"-\",0,L15)","v":0},null,{"$f":"E15+G15+I15+K15+M15","v":36},{"$f":"MAX(D15,F15,H15,J15,L15)","v":12},{"$f":"IF(S15=1,O15,IF(S15=0,(O15-P15),\"-\"))","v":36},{"$f":"COUNTIF(U15:AD15,\"=TRUE\")","v":4},{"$f":"AE$1-R15","v":1},{"$f":"IF(S15<2,\"Yes\",\"No\")","v":"Yes"},{"$f":"IF(D15=\"-\",1,0)*U$1","v":0},{"$f":"AND(U15=0,U$1=1)","v":true},{"$f":"IF(F15=\"-\",1,0)*W$1","v":0},{"$f":"AND(W15=0,W$1=1)","v":true},{"$f":"IF(H15=\"-\",1,0)*Y$1","v":0},{"$f":"AND(Y15=0,Y$1=1)","v":true},{"$f":"IF(J15=\"-\",1,0)*AA$1","v":0},{"$f":"AND(AA15=0,AA$1=1)","v":true},{"$f":"IF(L15=\"-\",1,0)*AC$1","v":1},{"$f":"AND(AC15=0,AC$1=1)","v":false}]
[28,"Euan Makepeace","Rawlins College","-",{"$f":"IF(D16=\"-\",0,D16)","v":0},"-",{"$f":"IF(F16=\"-\",0,F16)","v":0},1,{"$f":"IF(H16=\"-\",0,H16)","v":1},"-",{"$f":"IF(J16=\"-\",0,J16)","v":0},"-",{"$f":"IF(L16=\"-\",0,L16)","v":0},null,{"$f":"E16+G16+I16+K16+M16","v":1},{"$f":"MAX(D16,F16,H16,J16,L16)","v":1},{"$f":"IF(S16=1,O16,IF(S16=0,(O16-P16),\"-\"))","v":"-"},{"$f":"COUNTIF(U16:AD16,\"=TRUE\")","v":1},{"$f":"AE$1-R16","v":4},{"$f":"IF(S16<2,\"Yes\",\"No\")","v":"No"},{"$f":"IF(D16=\"-\",1,0)*U$1","v":1},{"$f":"AND(U16=0,U$1=1)","v":false},{"$f":"IF(F16=\"-\",1,0)*W$1","v":1},{"$f":"AND(W16=0,W$1=1)","v":false},{"$f":"IF(H16=\"-\",1,0)*Y$1","v":0},{"$f":"AND(Y16=0,Y$1=1)","v":true},{"$f":"IF(J16=\"-\",1,0)*AA$1","v":1},{"$f":"AND(AA16=0,AA$1=1)","v":false},{"$f":"IF(L16=\"-\",1,0)*AC$1","v":1},{"$f":"AND(AC16=0,AC$1=1)","v":false}]
[79,"Josh Gilbert-Weavers","De Lisle College","-",{"$f":"IF(D17=\"-\",0,D17)","v":0},"-",{"$f":"IF(F17=\"-\",0,F17)","v":0},4,{"$f":"IF(H17=\"-\",0,H17)","v":4},"-",{"$f":"IF(J17=\"-\",0,J17)","v":0},"-",{"$f":"IF(L17=\"-\",0,L17)","v":0},null,{"$f":"E17+G17+I17+K17+M17","v":4},{"$f":"MAX(D17,F17,H17,J17,L17)","v":4},{"$f":"IF(S17=1,O17,IF(S17=0,(O17-P17),\"-\"))","v":"-"},{"$f":"COUNTIF(U17:AD17,\"=TRUE\")","v":1},{"$f":"AE$1-R17","v":4},{"$f":"IF(S17<2,\"Yes\",\"No\")","v":"No"},{"$f":"IF(D17=\"-\",1,0)*U$1","v":1},{"$f":"AND(U17=0,U$1=1)","v":false},{"$f":"IF(F17=\"-\",1,0)*W$1","v":1},{"$f":"AND(W17=0,W$1=1)","v":false},{"$f":"IF(H17=\"-\",1,0)*Y$1","v":0},{"$f":"AND(Y17=0,Y$1=1)","v":true},{"$f":"IF(J17=\"-\",1,0)*AA$1","v":1},{"$f":"AND(AA17=0,AA$1=1)","v":false},{"$f":"IF(L17=\"-\",1,0)*AC$1","v":1},{"$f":"AND(AC17=0,AC$1=1)","v":false}]
[11,"James Hatton","Beauchamp College","-",{"$f":"IF(D18=\"-\",0,D18)","v":0},"-",{"$f":"IF(F18=\"-\",0,F18)","v":0},6,{"$f":"IF(H18=\"-\",0,H18)","v":6},"-",{"$f":"IF(J18=\"-\",0,J18)","v":0},"-",{"$f":"IF(L18=\"-\",0,L18)","v":0},null,{"$f":"E18+G18+I18+K18+M18","v":6},{"$f":"MAX(D18,F18,H18,J18,L18)","v":6},{"$f":"IF(S18=1,O18,IF(S18=0,(O18-P18),\"-\"))","v":"-"},{"$f":"COUNTIF(U18:AD18,\"=TRUE\")","v":1},{"$f":"AE$1-R18","v":4},{"$f":"IF(S18<2,\"Yes\",\"No\")","v":"No"},{"$f":"IF(D18=\"-\",1,0)*U$1","v":1},{"$f":"AND(U18=0,U$1=1)","v":false},{"$f":"IF(F18=\"-\",1,0)*W$1","v":1},{"$f":"AND(W18=0,W$1=1)","v":false},{"$f":"IF(H18=\"-\",1,0)*Y$1","v":0},{"$f":"AND(Y18=0,Y$1=1)","v":true},{"$f":"IF(J18=\"-\",1,0)*AA$1","v":1},{"$f":"AND(AA18=0,AA$1=1)","v":false},{"$f":"IF(L18=\"-\",1,0)*AC$1","v":1},{"$f":"AND(AC18=0,AC$1=1)","v":false}]
[78,"T Evans","Loughborough Grammar School","-",{"$f":"IF(D19=\"-\",0,D19)","v":0},"-",{"$f":"IF(F19=\"-\",0,F19)","v":0},14,{"$f":"IF(H19=\"-\",0,H19)","v":14},"-",{"$f":"IF(J19=\"-\",0,J19)","v":0},"-",{"$f":"IF(L19=\"-\",0,L19)","v":0},null,{"$f":"E19+G19+I19+K19+M19","v":14},{"$f":"MAX(D19,F19,H19,J19,L19)","v":14},{"$f":"IF(S19=1,O19,IF(S19=0,(O19-P19),\"-\"))","v":"-"},{"$f":"COUNTIF(U19:AD19,\"=TRUE\")","v":1},{"$f":"AE$1-R19","v":4},{"$f":"IF(S19<2,\"Yes\",\"No\")","v":"No"},{"$f":"IF(D19=\"-\",1,0)*U$1","v":1},{"$f":"AND(U19=0,U$1=1)","v":false},{"$f":"IF(F19=\"-\",1,0)*W$1","v":1},{"$f":"AND(W19=0,W$1=1)","v":false},{"$f":"IF(H19=\"-\",1,0)*Y$1","v":0},{"$f":"AND(Y19=0,Y$1=1)","v":true},{"$f":"IF(J19=\"-\",1,0)*AA$1","v":1},{"$f":"AND(AA19=0,AA$1=1)","v":false},{"$f":"IF(L19=\"-\",1,0)*AC$1","v":1},{"$f":"AND(AC19=0,AC$1=1)","v":false}]
[13,"Peter Mumford","Melton Vale Post 16 Centre",5,{"$f":"IF(D20=\"-\",0,D20)","v":5},"-",{"$f":"IF(F20=\"-\",0,F20)","v":0},"-",{"$f":"IF(H20=\"-\",0,H20)","v":0},"-",{"$f":"IF(J20=\"-\",0,J20)","v":0},"-",{"$f":"IF(L20=\"-\",0,L20)","v":0},null,{"$f":"E20+G20+I20+K20+M20","v":5},{"$f":"MAX(D20,F20,H20,J20,L20)","v":5},{"$f":"IF(S20=1,O20,IF(S20=0,(O20-P20),\"-\"))","v":"-"},{"$f":"COUNTIF(U20:AD20,\"=TRUE\")","v":1},{"$f":"AE$1-R20","v":4},{"$f":"IF(S20<2,\"Yes\",\"No\")","v":"No"},{"$f":"IF(D20=\"-\",1,0)*U$1","v":0},{"$f":"AND(U20=0,U$1=1)","v":true},{"$f":"IF(F20=\"-\",1,0)*W$1","v":1},{"$f":"AND(W20=0,W$1=1)","v":false},{"$f":"IF(H20=\"-\",1,0)*Y$1","v":1},{"$f":"AND(Y20=0,Y$1=1)","v":false},{"$f":"IF(J20=\"-\",1,0)*AA$1","v":1},{"$f":"AND(AA20=0,AA$1=1)","v":false},{"$f":"IF(L20=\"-\",1,0)*AC$1","v":1},{"$f":"AND(AC20=0,AC$1=1)","v":false}]
[24,"Joshua Beach","Beauchamp College",7,{"$f":"IF(D21=\"-\",0,D21)","v":7},"-",{"$f":"IF(F21=\"-\",0,F21)","v":0},"-",{"$f":"IF(H21=\"-\",0,H21)","v":0},"-",{"$f":"IF(J21=\"-\",0,J21)","v":0},"-",{"$f":"IF(L21=\"-\",0,L21)","v":0},null,{"$f":"E21+G21+I21+K21+M21","v":7},{"$f":"MAX(D21,F21,H21,J21,L21)","v":7},{"$f":"IF(S21=1,O21,IF(S21=0,(O21-P21),\"-\"))","v":"-"},{"$f":"COUNTIF(U21:AD21,\"=TRUE\")","v":1},{"$f":"AE$1-R21","v":4},{"$f":"IF(S21<2,\"Yes\",\"No\")","v":"No"},{"$f":"IF(D21=\"-\",1,0)*U$1","v":0},{"$f":"AND(U21=0,U$1=1)","v":true},{"$f":"IF(F21=\"-\",1,0)*W$1","v":1},{"$f":"AND(W21=0,W$1=1)","v":false},{"$f":"IF(H21=\"-\",1,0)*Y$1","v":1},{"$f":"AND(Y21=0,Y$1=1)","v":false},{"$f":"IF(J21=\"-\",1,0)*AA$1","v":1},{"$f":"AND(AA21=0,AA$1=1)","v":false},{"$f":"IF(L21=\"-\",1,0)*AC$1","v":1},{"$f":"AND(AC21=0,AC$1=1)","v":false}]
[65,"Luke Hulson-Brown","Longslade CC","-",{"$f":"IF(D22=\"-\",0,D22)","v":0},"-",{"$f":"IF(F22=\"-\",0,F22)","v":0},"-",{"$f":"IF(H22=\"-\",0,H22)","v":0},"-",{"$f":"IF(J22=\"-\",0,J22)","v":0},"-",{"$f":"IF(L22=\"-\",0,L22)","v":0},null,{"$f":"E22+G22+I22+K22+M22","v":0},{"$f":"MAX(D22,F22,H22,J22,L22)","v":0},{"$f":"IF(S22=1,O22,IF(S22=0,(O22-P22),\"-\"))","v":"-"},{"$f":"COUNTIF(U22:AD22,\"=TRUE\")","v":0},{"$f":"AE$1-R22","v":5},{"$f":"IF(S22<2,\"Yes\",\"No\")","v":"No"},{"$f":"IF(D22=\"-\",1,0)*U$1","v":1},{"$f":"AND(U22=0,U$1=1)","v":false},{"$f":"IF(F22=\"-\",1,0)*W$1","v":1},{"$f":"AND(W22=0,W$1=1)","v":false},{"$f":"IF(H22=\"-\",1,0)*Y$1","v":1},{"$f":"AND(Y22=0,Y$1=1)","v":false},{"$f":"IF(J22=\"-\",1,0)*AA$1","v":1},{"$f":"AND(AA22=0,AA$1=1)","v":false},{"$f":"IF(L22=\"-\",1,0)*AC$1","v":1},{"$f":"AND(AC22=0,AC$1=1)","v":false}]
[69,"T","-","-",{"$f":"IF(D23=\"-\",0,D23)","v":0},"-",{"$f":"IF(F23=\"-\",0,F23)","v":0},"-",{"$f":"IF(H23=\"-\",0,H23)","v":0},"-",{"$f":"IF(J23=\"-\",0,J23)","v":0},"-",{"$f":"IF(L23=\"-\",0,L23)","v":0},null,{"$f":"E23+G23+I23+K23+M23","v":0},{"$f":"MAX(D23,F23,H23,J23,L23)","v":0},{"$f":"IF(S23=1,O23,IF(S23=0,(O23-P23),\"-\"))","v":"-"},{"$f":"COUNTIF(U23:AD23,\"=TRUE\")","v":0},{"$f":"AE$1-R23","v":5},{"$f":"IF(S23<2,\"Yes\",\"No\")","v":"No"},{"$f":"IF(D23=\"-\",1,0)*U$1","v":1},{"$f":"AND(U23=0,U$1=1)","v":false},{"$f":"IF(F23=\"-\",1,0)*W$1","v":1},{"$f":"AND(W23=0,W$1=1)","v":false},{"$f":"IF(H23=\"-\",1,0)*Y$1","v":1},{"$f":"AND(Y23=0,Y$1=1)","v":false},{"$f":"IF(J23=\"-\",1,0)*AA$1","v":1},{"$f":"AND(AA23=0,AA$1=1)","v":false},{"$f":"IF(L23=\"-\",1,0)*AC$1","v":1},{"$f":"AND(AC23=0,AC$1=1)","v":false}]
[22,null,"-","-",{"$f":"IF(D24=\"-\",0,D24)","v":0},"-",{"$f":"IF(F24=\"-\",0,F24)","v":0},"-",{"$f":"IF(H24=\"-\",0,H24)","v":0},"-",{"$f":"IF(J24=\"-\",0,J24)","v":0},"-",{"$f":"IF(L24=\"-\",0,L24)","v":0},null,{"$f":"E24+G24+I24+K24+M24","v":0},{"$f":"MAX(D24,F24,H24,J24,L24)","v":0},{"$f":"IF(S24=1,O24,IF(S24=0,(O24-P24),\"-\"))","v":"-"},{"$f":"COUNTIF(U24:AD24,\"=TRUE\")","v":0},{"$f":"AE$1-R24","v":5},{"$f":"IF(S24<2,\"Yes\",\"No\")","v":"No"},{"$f":"IF(D24=\"-\",1,0)*U$1","v":1},{"$f":"AND(U24=0,U$1=1)","v":false},{"$f":"IF(F24=\"-\",1,0)*W$1","v":1},{"$f":"AND(W24=0,W$1=1)","v":false},{"$f":"IF(H24=\"-\",1,0)*Y$1","v":1},{"$f":"AND(Y24=0,Y$1=1)","v":false},{"$f":"IF(J24=\"-\",1,0)*AA$1","v":1},{"$f":"AND(AA24=0,AA$1=1)","v":false},{"$f":"IF(L24=\"-\",1,0)*AC$1","v":1},{"$f":"AND(AC24=0,AC$1=1)","v":false}]
[8,null,"-","-",{"$f":"IF(D25=\"-\",0,D25)","v":0},"-",{"$f":"IF(F25=\"-\",0,F25)","v":0},"-",{"$f":"IF(H25=\"-\",0,H25)","v":0},"-",{"$f":"IF(J25=\"-\",0,J25)","v":0},"-",{"$f":"IF(L25=\"-\",0,L25)","v":0},null,{"$f":"E25+G25+I25+K25+M25","v":0},{"$f":"MAX(D25,F25,H25,J25,L25)","v":0},{"$f":"IF(S25=1,O25,IF(S25=0,(O25-P25),\"-\"))","v":"-"},{"$f":"COUNTIF(U25:AD25,\"=TRUE\")","v":0},{"$f":"AE$1-R25","v":5},{"$f":"IF(S25<2,\"Yes\",\"No\")","v":"No"},{"$f":"IF(D25=\"-\",1,0)*U$1","v":1},{"$f":"AND(U25=0,U$1=1)","v":false},{"$f":"IF(F25=\"-\",1,0)*W$1","v":1},{"$f":"AND(W25=0,W$1=1)","v":false},{"$f":"IF(H25=\"-\",1,0)*Y$1","v":1},{"$f":"AND(Y25=0,Y$1=1)","v":false},{"$f":"IF(J25=\"-\",1,0)*AA$1","v":1},{"$f":"AND(AA25=0,AA$1=1)","v":false},{"$f":"IF(L25=\"-\",1,0)*AC$1","v":1},{"$f":"AND(AC25=0,AC$1=1)","v":false}]
[45,null,"-","-",{"$f":"IF(D26=\"-\",0,D26)","v":0},"-",{"$f":"IF(F26=\"-\",0,F26)","v":0},"-",{"$f":"IF(H26=\"-\",0,H26)","v":0},"-",{"$f":"IF(J26=\"-\",0,J26)","v":0},"-",{"$f":"IF(L26=\"-\",0,L26)","v":0},null,{"$f":"E26+G26+I26+K26+M26","v":0},{"$f":"MAX(D26,F26,H26,J26,L26)","v":0},{"$f":"IF(S26=1,O26,IF(S26=0,(O26-P26),\"-\"))","v":"-"},{"$f":"COUNTIF(U26:AD26,\"=TRUE\")","v":0},{"$f":"AE$1-R26","v":5},{"$f":"IF(S26<2,\"Yes\",\"No\")","v":"No"},{"$f":"IF(D26=\"-\",1,0)*U$1","v":1},{"$f":"AND(U26=0,U$1=1)","v":false},{"$f":"IF(F26=\"-\",1,0)*W$1","v":1},{"$f":"AND(W26=0,W$1=1)","v":false},{"$f":"IF(H26=\"-\",1,0)*Y$1","v":1},{"$f":"AND(Y26=0,Y$1=1)","v":false},{"$f":"IF(J26=\"-\",1,0)*AA$1","v":1},{"$f":"AND(AA26=0,AA$1=1)","v":false},{"$f":"IF(L26=\"-\",1,0)*AC$1","v":1},{"$f":"AND(AC26=0,AC$1=1)","v":false}]
[7,null,"-","-",{"$f":"IF(D27=\"-\",0,D27)","v":0},"-",{"$f":"IF(F27=\"-\",0,F27)","v":0},"-",{"$f":"IF(H27=\"-\",0,H27)","v":0},"-",{"$f":"IF(J27=\"-\",0,J27)","v":0},"-",{"$f":"IF(L27=\"-\",0,L27)","v":0},null,{"$f":"E27+G27+I27+K27+M27","v":0},{"$f":"MAX(D27,F27,H27,J27,L27)","v":0},{"$f":"IF(S27=1,O27,IF(S27=0,(O27-P27),\"-\"))","v":"-"},{"$f":"COUNTIF(U27:AD27,\"=TRUE\")","v":0},{"$f":"AE$1-R27","v":5},{"$f":"IF(S27<2,\"Yes\",\"No\")","v":"No"},{"$f":"IF(D27=\"-\",1,0)*U$1","v":1},{"$f":"AND(U27=0,U$1=1)","v":false},{"$f":"IF(F27=\"-\",1,0)*W$1","v":1},{"$f":"AND(W27=0,W$1=1)","v":false},{"$f":"IF(H27=\"-\",1,0)*Y$1","v":1},{"$f":"AND(Y27=0,Y$1=1)","v":false},{"$f":"IF(J27=\"-\",1,0)*AA$1","v":1},{"$f":"AND(AA27=0,AA$1=1)","v":false},{"$f":"IF(L27=\"-\",1,0)*AC$1","v":1},{"$f":"AND(AC27=0,AC$1=1)","v":false}]
[62,null,"-","-",{"$f":"IF(D28=\"-\",0,D28)","v":0},"-",{"$f":"IF(F28=\"-\",0,F28)","v":0},"-",{"$f":"IF(H28=\"-\",0,H28)","v":0},"-",{"$f":"IF(J28=\"-\",0,J28)","v":0},"-",{"$f":"IF(L28=\"-\",0,L28)","v":0},null,{"$f":"E28+G28+I28+K28+M28","v":0},{"$f":"MAX(D28,F28,H28,J28,L28)","v":0},{"$f":"IF(S28=1,O28,IF(S28=0,(O28-P28),\"-\"))","v":"-"},{"$f":"COUNTIF(U28:AD28,\"=TRUE\")","v":0},{"$f":"AE$1-R28","v":5},{"$f":"IF(S28<2,\"Yes\",\"No\")","v":"No"},{"$f":"IF(D28=\"-\",1,0)*U$1","v":1},{"$f":"AND(U28=0,U$1=1)","v":false},{"$f":"IF(F28=\"-\",1,0)*W$1","v":1},{"$f":"AND(W28=0,W$1=1)","v":false},{"$f":"IF(H28=\"-\",1,0)*Y$1","v":1},{"$f":"AND(Y28=0,Y$1=1)","v":false},{"$f":"IF(J28=\"-\",1,0)*AA$1","v":1},{"$f":"AND(AA28=0,AA$1=1)","v":false},{"$f":"IF(L28=\"-\",1,0)*AC$1","v":1},{"$f":"AND(AC28=0,AC$1=1)","v":false}]
[77,null,"-","-",{"$f":"IF(D29=\"-\",0,D29)","v":0},"-",{"$f":"IF(F29=\"-\",0,F29)","v":0},"-",{"$f":"IF(H29=\"-\",0,H29)","v":0},"-",{"$f":"IF(J29=\"-\",0,J29)","v":0},"-",{"$f":"IF(L29=\"-\",0,L29)","v":0},null,{"$f":"E29+G29+I29+K29+M29","v":0},{"$f":"MAX(D29,F29,H29,J29,L29)","v":0},{"$f":"IF(S29=1,O29,IF(S29=0,(O29-P29),\"-\"))","v":"-"},{"$f":"COUNTIF(U29:AD29,\"=TRUE\")","v":0},{"$f":"AE$1-R29","v":5},{"$f":"IF(S29<2,\"Yes\",\"No\")","v":"No"},{"$f":"IF(D29=\"-\",1,0)*U$1","v":1},{"$f":"AND(U29=0,U$1=1)","v":false},{"$f":"IF(F29=\"-\",1,0)*W$1","v":1},{"$f":"AND(W29=0,W$1=1)","v":false},{"$f":"IF(H29=\"-\",1,0)*Y$1","v":1},{"$f":"AND(Y29=0,Y$1=1)","v":false},{"$f":"IF(J29=\"-\",1,0)*AA$1","v":1},{"$f":"AND(AA29=0,AA$1=1)","v":false},{"$f":"IF(L29=\"-\",1,0)*AC$1","v":1},{"$f":"AND(AC29=0,AC$1=1)","v":false}]
[74,null,"-","-",{"$f":"IF(D30=\"-\",0,D30)","v":0},"-",{"$f":"IF(F30=\"-\",0,F30)","v":0},"-",{"$f":"IF(H30=\"-\",0,H30)","v":0},"-",{"$f":"IF(J30=\"-\",0,J30)","v":0},"-",{"$f":"IF(L30=\"-\",0,L30)","v":0},null,{"$f":"E30+G30+I30+K30+M30","v":0},{"$f":"MAX(D30,F30,H30,J30,L30)","v":0},{"$f":"IF(S30=1,O30,IF(S30=0,(O30-P30),\"-\"))","v":"-"},{"$f":"COUNTIF(U30:AD30,\"=TRUE\")","v":0},{"$f":"AE$1-R30","v":5},{"$f":"IF(S30<2,\"Yes\",\"No\")","v":"No"},{"$f":"IF(D30=\"-\",1,0)*U$1","v":1},{"$f":"AND(U30=0,U$1=1)","v":false},{"$f":"IF(F30=\"-\",1,0)*W$1","v":1},{"$f":"AND(W30=0,W$1=1)","v":false},{"$f":"IF(H30=\"-\",1,0)*Y$1","v":1},{"$f":"AND(Y30=0,Y$1=1)","v":false},{"$f":"IF(J30=\"-\",1,0)*AA$1","v":1},{"$f":"AND(AA30=0,AA$1=1)","v":false},{"$f":"IF(L30=\"-\",1,0)*AC$1","v":1},{"$f":"AND(AC30=0,AC$1=1)","v":false}]
[44,null,"-","-",{"$f":"IF(D31=\"-\",0,D31)","v":0},"-",{"$f":"IF(F31=\"-\",0,F31)","v":0},"-",{"$f":"IF(H31=\"-\",0,H31)","v":0},"-",{"$f":"IF(J31=\"-\",0,J31)","v":0},"-",{"$f":"IF(L31=\"-\",0,L31)","v":0},null,{"$f":"E31+G31+I31+K31+M31","v":0},{"$f":"MAX(D31,F31,H31,J31,L31)","v":0},{"$f":"IF(S31=1,O31,IF(S31=0,(O31-P31),\"-\"))","v":"-"},{"$f":"COUNTIF(U31:AD31,\"=TRUE\")","v":0},{"$f":"AE$1-R31","v":5},{"$f":"IF(S31<2,\"Yes\",\"No\")","v":"No"},{"$f":"IF(D31=\"-\",1,0)*U$1","v":1},{"$f":"AND(U31=0,U$1=1)","v":false},{"$f":"IF(F31=\"-\",1,0)*W$1","v":1},{"$f":"AND(W31=0,W$1=1)","v":false},{"$f":"IF(H31=\"-\",1,0)*Y$1","v":1},{"$f":"AND(Y31=0,Y$1=1)","v":false},{"$f":"IF(J31=\"-\",1,0)*AA$1","v":1},{"$f":"AND(AA31=0,AA$1=1)","v":false},{"$f":"IF(L31=\"-\",1,0)*AC$1","v":1},{"$f":"AND(AC31=0,AC$1=1)","v":false}]
[58,null,"-","-",{"$f":"IF(D32=\"-\",0,D32)","v":0},"-",{"$f":"IF(F32=\"-\",0,F32)","v":0},"-",{"$f":"IF(H32=\"-\",0,H32)","v":0},"-",{"$f":"IF(J32=\"-\",0,J32)","v":0},"-",{"$f":"IF(L32=\"-\",0,L32)","v":0},null,{"$f":"E32+G32+I32+K32+M32","v":0},{"$f":"MAX(D32,F32,H32,J32,L32)","v":0},{"$f":"IF(S32=1,O32,IF(S32=0,(O32-P32),\"-\"))","v":"-"},{"$f":"COUNTIF(U32:AD32,\"=TRUE\")","v":0},{"$f":"AE$1-R32","v":5},{"$f":"IF(S32<2,\"Yes\",\"No\")","v":"No"},{"$f":"IF(D32=\"-\",1,0)*U$1","v":1},{"$f":"AND(U32=0,U$1=1)","v":false},{"$f":"IF(F32=\"-\",1,0)*W$1","v":1},{"$f":"AND(W32=0,W$1=1)","v":false},{"$f":"IF(H32=\"-\",1,0)*Y$1","v":1},{"$f":"AND(Y32=0,Y$1=1)","v":false},{"$f":"IF(J32=\"-\",1,0)*AA$1","v":1},{"$f":"AND(AA32=0,AA$1=1)","v":false},{"$f":"IF(L32=\"-\",1,0)*AC$1","v":1},{"$f":"AND(AC32=0,AC$1=1)","v":false}]
[29,null,"-","-",{"$f":"IF(D33=\"-\",0,D33)","v":0},"-",{"$f":"IF(F33=\"-\",0,F33)","v":0},"-",{"$f":"IF(H33=\"-\",0,H33)","v":0},"-",{"$f":"IF(J33=\"-\",0,J33)","v":0},"-",{"$f":"IF(L33=\"-\",0,L33)","v":0},null,{"$f":"E33+G33+I33+K33+M33","v":0},{"$f":"MAX(D33,F33,H33,J33,L33)","v":0},{"$f":"IF(S33=1,O33,IF(S33=0,(O33-P33),\"-\"))","v":"-"},{"$f":"COUNTIF(U33:AD33,\"=TRUE\")","v":0},{"$f":"AE$1-R33","v":5},{"$f":"IF(S33<2,\"Yes\",\"No\")","v":"No"},{"$f":"IF(D33=\"-\",1,0)*U$1","v":1},{"$f":"AND(U33=0,U$1=1)","v":false},{"$f":"IF(F33=\"-\",1,0)*W$1","v":1},{"$f":"AND(W33=0,W$1=1)","v":false},{"$f":"IF(H33=\"-\",1,0)*Y$1","v":1},{"$f":"AND(Y33=0,Y$1=1)","v":false},{"$f":"IF(J33=\"-\",1,0)*AA$1","v":1},{"$f":"AND(AA33=0,AA$1=1)","v":false},{"$f":"IF(L33=\"-\",1,0)*AC$1","v":1},{"$f":"AND(AC33=0,AC$1=1)","v":false}]
[76,null,"-","-",{"$f":"IF(D34=\"-\",0,D34)","v":0},"-",{"$f":"IF(F34=\"-\",0,F34)","v":0},"-",{"$f":"IF(H34=\"-\",0,H34)","v":0},"-",{"$f":"IF(J34=\"-\",0,J34)","v":0},"-",{"$f":"IF(L34=\"-\",0,L34)","v":0},null,{"$f":"E34+G34+I34+K34+M34","v":0},{"$f":"MAX(D34,F34,H34,J34,L34)","v":0},{"$f":"IF(S34=1,O34,IF(S34=0,(O34-P34),\"-\"))","v":"-"},{"$f":"COUNTIF(U34:AD34,\"=TRUE\")","v":0},{"$f":"AE$1-R34","v":5},{"$f":"IF(S34<2,\"Yes\",\"No\")","v":"No"},{"$f":"IF(D34=\"-\",1,0)*U$1","v":1},{"$f":"AND(U34=0,U$1=1)","v":false},{"$f":"IF(F34=\"-\",1,0)*W$1","v":1},{"$f":"AND(W34=0,W$1=1)","v":false},{"$f":"IF(H34=\"-\",1,0)*Y$1","v":1},{"$f":"AND(Y34=0,Y$1=1)","v":false},{"$f":"IF(J34=\"-\",1,0)*AA$1","v":1},{"$f":"AND(AA34=0,AA$1=1)","v":false},{"$f":"IF(L34=\"-\",1,0)*AC$1","v":1},{"$f":"AND(AC34=0,AC$1=1)","v":false}]
[34,null,"-","-",{"$f":"IF(D35=\"-\",0,D35)","v":0},"-",{"$f":"IF(F35=\"-\",0,F35)","v":0},"-",{"$f":"IF(H35=\"-\",0,H35)","v":0},"-",{"$f":"IF(J35=\"-\",0,J35)","v":0},"-",{"$f":"IF(L35=\"-\",0,L35)","v":0},null,{"$f":"E35+G35+I35+K35+M35","v":0},{"$f":"MAX(D35,F35,H35,J35,L35)","v":0},{"$f":"IF(S35=1,O35,IF(S35=0,(O35-P35),\"-\"))","v":"-"},{"$f":"COUNTIF(U35:AD35,\"=TRUE\")","v":0},{"$f":"AE$1-R35","v":5},{"$f":"IF(S35<2,\"Yes\",\"No\")","v":"No"},{"$f":"IF(D35=\"-\",1,0)*U$1","v":1},{"$f":"AND(U35=0,U$1=1)","v":false},{"$f":"IF(F35=\"-\",1,0)*W$1","v":1},{"$f":"AND(W35=0,W$1=1)","v":false},{"$f":"IF(H35=\"-\",1,0)*Y$1","v":1},{"$f":"AND(Y35=0,Y$1=1)","v":false},{"$f":"IF(J35=\"-\",1,0)*AA$1","v":1},{"$f":"AND(AA35=0,AA$1=1)","v":false},{"$f":"IF(L35=\"-\",1,0)*AC$1","v":1},{"$f":"AND(AC35=0,AC$1=1)","v":false}]
[70,null,"-","-",{"$f":"IF(D36=\"-\",0,D36)","v":0},"-",{"$f":"IF(F36=\"-\",0,F36)","v":0},"-",{"$f":"IF(H36=\"-\",0,H36)","v":0},"-",{"$f":"IF(J36=\"-\",0,J36)","v":0},"-",{"$f":"IF(L36=\"-\",0,L36)","v":0},null,{"$f":"E36+G36+I36+K36+M36","v":0},{"$f":"MAX(D36,F36,H36,J36,L36)","v":0},{"$f":"IF(S36=1,O36,IF(S36=0,(O36-P36),\"-\"))","v":"-"},{"$f":"COUNTIF(U36:AD36,\"=TRUE\")","v":0},{"$f":"AE$1-R36","v":5},{"$f":"IF(S36<2,\"Yes\",\"No\")","v":"No"},{"$f":"IF(D36=\"-\",1,0)*U$1","v":1},{"$f":"AND(U36=0,U$1=1)","v":false},{"$f":"IF(F36=\"-\",1,0)*W$1","v":1},{"$f":"AND(W36=0,W$1=1)","v":false},{"$f":"IF(H36=\"-\",1,0)*Y$1","v":1},{"$f":"AND(Y36=0,Y$1=1)","v":false},{"$f":"IF(J36=\"-\",1,0)*AA$1","v":1},{"$f":"AND(AA36=0,AA$1=1)","v":false},{"$f":"IF(L36=\"-\",1,0)*AC$1","v":1},{"$f":"AND(AC36=0,AC$1=1)","v":false}]
[68,null,"-","-",{"$f":"IF(D37=\"-\",0,D37)","v":0},"-",{"$f":"IF(F37=\"-\",0,F37)","v":0},"-",{"$f":"IF(H37=\"-\",0,H37)","v":0},"-",{"$f":"IF(J37=\"-\",0,J37)","v":0},"-",{"$f":"IF(L37=\"-\",0,L37)","v":0},null,{"$f":"E37+G37+I37+K37+M37","v":0},{"$f":"MAX(D37,F37,H37,J37,L37)","v":0},{"$f":"IF(S37=1,O37,IF(S37=0,(O37-P37),\"-\"))","v":"-"},{"$f":"COUNTIF(U37:AD37,\"=TRUE\")","v":0},{"$f":"AE$1-R37","v":5},{"$f":"IF(S37<2,\"Yes\",\"No\")","v":"No"},{"$f":"IF(D37=\"-\",1,0)*U$1","v":1},{"$f":"AND(U37=0,U$1=1)","v":false},{"$f":"IF(F37=\"-\",1,0)*W$1","v":1},{"$f":"AND(W37=0,W$1=1)","v":false},{"$f":"IF(H37=\"-\",1,0)*Y$1","v":1},{"$f":"AND(Y37=0,Y$1=1)","v":false},{"$f":"IF(J37=\"-\",1,0)*AA$1","v":1},{"$f":"AND(AA37=0,AA$1=1)","v":false},{"$f":"IF(L37=\"-\",1,0)*AC$1","v":1},{"$f":"AND(AC37=0,AC$1=1)","v":false}]
[66,null,"-","-",{"$f":"IF(D38=\"-\",0,D38)","v":0},"-",{"$f":"IF(F38=\"-\",0,F38)","v":0},"-",{"$f":"IF(H38=\"-\",0,H38)","v":0},"-",{"$f":"IF(J38=\"-\",0,J38)","v":0},"-",{"$f":"IF(L38=\"-\",0,L38)","v":0},null,{"$f":"E38+G38+I38+K38+M38","v":0},{"$f":"MAX(D38,F38,H38,J38,L38)","v":0},{"$f":"IF(S38=1,O38,IF(S38=0,(O38-P38),\"-\"))","v":"-"},{"$f":"COUNTIF(U38:AD38,\"=TRUE\")","v":0},{"$f":"AE$1-R38","v":5},{"$f":"IF(S38<2,\"Yes\",\"No\")","v":"No"},{"$f":"IF(D38=\"-\",1,0)*U$1","v":1},{"$f":"AND(U38=0,U$1=1)","v":false},{"$f":"IF(F38=\"-\",1,0)*W$1","v":1},{"$f":"AND(W38=0,W$1=1)","v":false},{"$f":"IF(H38=\"-\",1,0)*Y$1","v":1},{"$f":"AND(Y38=0,Y$1=1)","v":false},{"$f":"IF(J38=\"-\",1,0)*AA$1","v":1},{"$f":"AND(AA38=0,AA$1=1)","v":false},{"$f":"IF(L38=\"-\",1,0)*AC$1","v":1},{"$f":"AND(AC38=0,AC$1=1)","v":false}]
[40,null,"-","-",{"$f":"IF(D39=\"-\",0,D39)","v":0},"-",{"$f":"IF(F39=\"-\",0,F39)","v":0},"-",{"$f":"IF(H39=\"-\",0,H39)","v":0},"-",{"$f":"IF(J39=\"-\",0,J39)","v":0},"-",{"$f":"IF(L39=\"-\",0,L39)","v":0},null,{"$f":"E39+G39+I39+K39+M39","v":0},{"$f":"MAX(D39,F39,H39,J39,L39)","v":0},{"$f":"IF(S39=1,O39,IF(S39=0,(O39-P39),\"-\"))","v":"-"},{"$f":"COUNTIF(U39:AD39,\"=TRUE\")","v":0},{"$f":"AE$1-R39","v":5},{"$f":"IF(S39<2,\"Yes\",\"No\")","v":"No"},{"$f":"IF(D39=\"-\",1,0)*U$1","v":1},{"$f":"AND(U39=0,U$1=1)","v":false},{"$f":"IF(F39=\"-\",1,0)*W$1","v":1},{"$f":"AND(W39=0,W$1=1)","v":false},{"$f":"IF(H39=\"-\",1,0)*Y$1","v":1},{"$f":"AND(Y39=0,Y$1=1)","v":false},{"$f":"IF(J39=\"-\",1,0)*AA$1","v":1},{"$f":"AND(AA39=0,AA$1=1)","v":false},{"$f":"IF(L39=\"-\",1,0)*AC$1","v":1},{"$f":"AND(AC39=0,AC$1=1)","v":false}]
[80,null,"-","-",{"$f":"IF(D40=\"-\",0,D40)","v":0},"-",{"$f":"IF(F40=\"-\",0,F40)","v":0},"-",{"$f":"IF(H40=\"-\",0,H40)","v":0},"-",{"$f":"IF(J40=\"-\",0,J40)","v":0},"-",{"$f":"IF(L40=\"-\",0,L40)","v":0},null,{"$f":"E40+G40+I40+K40+M40","v":0},{"$f":"MAX(D40,F40,H40,J40,L40)","v":0},{"$f":"IF(S40=1,O40,IF(S40=0,(O40-P40),\"-\"))","v":"-"},{"$f":"COUNTIF(U40:AD40,\"=TRUE\")","v":0},{"$f":"AE$1-R40","v":5},{"$f":"IF(S40<2,\"Yes\",\"No\")","v":"No"},{"$f":"IF(D40=\"-\",1,0)*U$1","v":1},{"$f":"AND(U40=0,U$1=1)","v":false},{"$f":"IF(F40=\"-\",1,0)*W$1","v":1},{"$f":"AND(W40=0,W$1=1)","v":false},{"$f":"IF(H40=\"-\",1,0)*Y$1","v":1},{"$f":"AND(Y40=0,Y$1=1)","v":false},{"$f":"IF(J40=\"-\",1,0)*AA$1","v":1},{"$f":"AND(AA40=0,AA$1=1)","v":false},{"$f":"IF(L40=\"-\",1,0)*AC$1","v":1},{"$f":"AND(AC40=0,AC$1=1)","v":false}]
[81,null,"-","-",{"$f":"IF(D41=\"-\",0,D41)","v":0},"-",{"$f":"IF(F41=\"-\",0,F41)","v":0},"-",{"$f":"IF(H41=\"-\",0,H41)","v":0},"-",{"$f":"IF(J41=\"-\",0,J41)","v":0},"-",{"$f":"IF(L41=\"-\",0,L41)","v":0},null,{"$f":"E41+G41+I41+K41+M41","v":0},{"$f":"MAX(D41,F41,H41,J41,L41)","v":0},{"$f":"IF(S41=1,O41,IF(S41=0,(O41-P41),\"-\"))","v":"-"},{"$f":"COUNTIF(U41:AD41,\"=TRUE\")","v":0},{"$f":"AE$1-R41","v":5},{"$f":"IF(S41<2,\"Yes\",\"No\")","v":"No"},{"$f":"IF(D41=\"-\",1,0)*U$1","v":1},{"$f":"AND(U41=0,U$1=1)","v":false},{"$f":"IF(F41=\"-\",1,0)*W$1","v":1},{"$f":"AND(W41=0,W$1=1)","v":false},{"$f":"IF(H41=\"-\",1,0)*Y$1","v":1},{"$f":"AND(Y41=0,Y$1=1)","v":false},{"$f":"IF(J41=\"-\",1,0)*AA$1","v":1},{"$f":"AND(AA41=0,AA$1=1)","v":false},{"$f":"IF(L41=\"-\",1,0)*AC$1","v":1},{"$f":"AND(AC41=0,AC$1=1)","v":false}]
[67,null,"-","-",{"$f":"IF(D42=\"-\",0,D42)","v":0},"-",{"$f":"IF(F42=\"-\",0,F42)","v":0},"-",{"$f":"IF(H42=\"-\",0,H42)","v":0},"-",{"$f":"IF(J42=\"-\",0,J42)","v":0},"-",{"$f":"IF(L42=\"-\",0,L42)","v":0},null,{"$f":"E42+G42+I42+K42+M42","v":0},{"$f":"MAX(D42,F42,H42,J42,L42)","v":0},{"$f":"IF(S42=1,O42,IF(S42=0,(O42-P42),\"-\"))","v":"-"},{"$f":"COUNTIF(U42:AD42,\"=TRUE\")","v":0},{"$f":"AE$1-R42","v":5},{"$f":"IF(S42<2,\"Yes\",\"No\")","v":"No"},{"$f":"IF(D42=\"-\",1,0)*U$1","v":1},{"$f":"AND(U42=0,U$1=1)","v":false},{"$f":"IF(F42=\"-\",1,0)*W$1","v":1},{"$f":"AND(W42=0,W$1=1)","v":false},{"$f":"IF(H42=\"-\",1,0)*Y$1","v":1},{"$f":"AND(Y42=0,Y$1=1)","v":false},{"$f":"IF(J42=\"-\",1,0)*AA$1","v":1},{"$f":"AND(AA42=0,AA$1=1)","v":false},{"$f":"IF(L42=\"-\",1,0)*AC$1","v":1},{"$f":"AND(AC42=0,AC$1=1)","v":false}]
[39,null,"-","-",{"$f":"IF(D43=\"-\",0,D43)","v":0},"-",{"$f":"IF(F43=\"-\",0,F43)","v":0},"-",{"$f":"IF(H43=\"-\",0,H43)","v":0},"-",{"$f":"IF(J43=\"-\",0,J43)","v":0},"-",{"$f":"IF(L43=\"-\",0,L43)","v":0},null,{"$f":"E43+G43+I43+K43+M43","v":0},{"$f":"MAX(D43,F43,H43,J43,L43)","v":0},{"$f":"IF(S43=1,O43,IF(S43=0,(O43-P43),\"-\"))","v":"-"},{"$f":"COUNTIF(U43:AD43,\"=TRUE\")","v":0},{"$f":"AE$1-R43","v":5},{"$f":"IF(S43<2,\"Yes\",\"No\")","v":"No"},{"$f":"IF(D43=\"-\",1,0)*U$1","v":1},{"$f":"AND(U43=0,U$1=1)","v":false},{"$f":"IF(F43=\"-\",1,0)*W$1","v":1},{"$f":"AND(W43=0,W$1=1)","v":false},{"$f":"IF(H43=\"-\",1,0)*Y$1","v":1},{"$f":"AND(Y43=0,Y$1=1)","v":false},{"$f":"IF(J43=\"-\",1,0)*AA$1","v":1},{"$f":"AND(AA43=0,AA$1=1)","v":false},{"$f":"IF(L43=\"-\",1,0)*AC$1","v":1},{"$f":"AND(AC43=0,AC$1=1)","v":false}]
[37,null,"-","-",{"$f":"IF(D44=\"-\",0,D44)","v":0},"-",{"$f":"IF(F44=\"-\",0,F44)","v":0},"-",{"$f":"IF(H44=\"-\",0,H44)","v":0},"-",{"$f":"IF(J44=\"-\",0,J44)","v":0},"-",{"$f":"IF(L44=\"-\",0,L44)","v":0},null,{"$f":"E44+G44+I44+K44+M44","v":0},{"$f":"MAX(D44,F44,H44,J44,L44)","v":0},{"$f":"IF(S44=1,O44,IF(S44=0,(O44-P44),\"-\"))","v":"-"},{"$f":"COUNTIF(U44:AD44,\"=TRUE\")","v":0},{"$f":"AE$1-R44","v":5},{"$f":"IF(S44<2,\"Yes\",\"No\")","v":"No"},{"$f":"IF(D44=\"-\",1,0)*U$1","v":1},{"$f":"AND(U44=0,U$1=1)","v":false},{"$f":"IF(F44=\"-\",1,0)*W$1","v":1},{"$f":"AND(W44=0,W$1=1)","v":false},{"$f":"IF(H44=\"-\",1,0)*Y$1","v":1},{"$f":"AND(Y44=0,Y$1=1)","v":false},{"$f":"IF(J44=\"-\",1,0)*AA$1","v":1},{"$f":"AND(AA44=0,AA$1=1)","v":false},{"$f":"IF(L44=\"-\",1,0)*AC$1","v":1},{"$f":"AND(AC44=0,AC$1=1)","v":false}]
[46,null,"-","-",{"$f":"IF(D45=\"-\",0,D45)","v":0},"-",{"$f":"IF(F45=\"-\",0,F45)","v":0},"-",{"$f":"IF(H45=\"-\",0,H45)","v":0},"-",{"$f":"IF(J45=\"-\",0,J45)","v":0},"-",{"$f":"IF(L45=\"-\",0,L45)","v":0},null,{"$f":"E45+G45+I45+K45+M45","v":0},{"$f":"MAX(D45,F45,H45,J45,L45)","v":0},{"$f":"IF(S45=1,O45,IF(S45=0,(O45-P45),\"-\"))","v":"-"},{"$f":"COUNTIF(U45:AD45,\"=TRUE\")","v":0},{"$f":"AE$1-R45","v":5},{"$f":"IF(S45<2,\"Yes\",\"No\")","v":"No"},{"$f":"IF(D45=\"-\",1,0)*U$1","v":1},{"$f":"AND(U45=0,U$1=1)","v":false},{"$f":"IF(F45=\"-\",1,0)*W$1","v":1},{"$f":"AND(W45=0,W$1=1)","v":false},{"$f":"IF(H45=\"-\",1,0)*Y$1","v":1},{"$f":"AND(Y45=0,Y$1=1)","v":false},{"$f":"IF(J45=\"-\",1,0)*AA$1","v":1},{"$f":"AND(AA45=0,AA$1=1)","v":false},{"$f":"IF(L45=\"-\",1,0)*AC$1","v":1},{"$f":"AND(AC45=0,AC$1=1)","v":false}]
[55,null,"-","-",{"$f":"IF(D46=\"-\",0,D46)","v":0},"-",{"$f":"IF(F46=\"-\",0,F46)","v":0},"-",{"$f":"IF(H46=\"-\",0,H46)","v":0},"-",{"$f":"IF(J46=\"-\",0,J46)","v":0},"-",{"$f":"IF(L46=\"-\",0,L46)","v":0},null,{"$f":"E46+G46+I46+K46+M46","v":0},{"$f":"MAX(D46,F46,H46,J46,L46)","v":0},{"$f":"IF(S46=1,O46,IF(S46=0,(O46-P46),\"-\"))","v":"-"},{"$f":"COUNTIF(U46:AD46,\"=TRUE\")","v":0},{"$f":"AE$1-R46","v":5},{"$f":"IF(S46<2,\"Yes\",\"No\")","v":"No"},{"$f":"IF(D46=\"-\",1,0)*U$1","v":1},{"$f":"AND(U46=0,U$1=1)","v":false},{"$f":"IF(F46=\"-\",1,0)*W$1","v":1},{"$f":"AND(W46=0,W$1=1)","v":false},{"$f":"IF(H46=\"-\",1,0)*Y$1","v":1},{"$f":"AND(Y46=0,Y$1=1)","v":false},{"$f":"IF(J46=\"-\",1,0)*AA$1","v":1},{"$f":"AND(AA46=0,AA$1=1)","v":false},{"$f":"IF(L46=\"-\",1,0)*AC$1","v":1},{"$f":"AND(AC46=0,AC$1=1)","v":false}]
[6,null,"-","-",{"$f":"IF(D47=\"-\",0,D47)","v":0},"-",{"$f":"IF(F47=\"-\",0,F47)","v":0},"-",{"$f":"IF(H47=\"-\",0,H47)","v":0},"-",{"$f":"IF(J47=\"-\",0,J47)","v":0},"-",{"$f":"IF(L47=\"-\",0,L47)","v":0},null,{"$f":"E47+G47+I47+K47+M47","v":0},{"$f":"MAX(D47,F47,H47,J47,L47)","v":0},{"$f":"IF(S47=1,O47,IF(S47=0,(O47-P47),\"-\"))","v":"-"},{"$f":"COUNTIF(U47:AD47,\"=TRUE\")","v":0},{"$f":"AE$1-R47","v":5},{"$f":"IF(S47<2,\"Yes\",\"No\")","v":"No"},{"$f":"IF(D47=\"-\",1,0)*U$1","v":1},{"$f":"AND(U47=0,U$1=1)","v":false},{"$f":"IF(F47=\"-\",1,0)*W$1","v":1},{"$f":"AND(W47=0,W$1=1)","v":false},{"$f":"IF(H47=\"-\",1,0)*Y$1","v":1},{"$f":"AND(Y47=0,Y$1=1)","v":false},{"$f":"IF(J47=\"-\",1,0)*AA$1","v":1},{"$f":"AND(AA47=0,AA$1=1)","v":false},{"$f":"IF(L47=\"-\",1,0)*AC$1","v":1},{"$f":"AND(AC47=0,AC$1=1)","v":false}]
[3,null,"-","-",{"$f":"IF(D48=\"-\",0,D48)","v":0},"-",{"$f":"IF(F48=\"-\",0,F48)","v":0},"-",{"$f":"IF(H48=\"-\",0,H48)","v":0},"-",{"$f":"IF(J48=\"-\",0,J48)","v":0},"-",{"$f":"IF(L48=\"-\",0,L48)","v":0},null,{"$f":"E48+G48+I48+K48+M48","v":0},{"$f":"MAX(D48,F48,H48,J48,L48)","v":0},{"$f":"IF(S48=1,O48,IF(S48=0,(O48-P48),\"-\"))","v":"-"},{"$f":"COUNTIF(U48:AD48,\"=TRUE\")","v":0},{"$f":"AE$1-R48","v":5},{"$f":"IF(S48<2,\"Yes\",\"No\")","v":"No"},{"$f":"IF(D48=\"-\",1,0)*U$1","v":1},{"$f":"AND(U48=0,U$1=1)","v":false},{"$f":"IF(F48=\"-\",1,0)*W$1","v":1},{"$f":"AND(W48=0,W$1=1)","v":false},{"$f":"IF(H48=\"-\",1,0)*Y$1","v":1},{"$f":"AND(Y48=0,Y$1=1)","v":false},{"$f":"IF(J48=\"-\",1,0)*AA$1","v":1},{"$f":"AND(AA48=0,AA$1=1)","v":false},{"$f":"IF(L48=\"-\",1,0)*AC$1","v":1},{"$f":"AND(AC48=0,AC$1=1)","v":false}]
[57,null,"-","-",{"$f":"IF(D49=\"-\",0,D49)","v":0},"-",{"$f":"IF(F49=\"-\",0,F49)","v":0},"-",{"$f":"IF(H49=\"-\",0,H49)","v":0},"-",{"$f":"IF(J49=\"-\",0,J49)","v":0},"-",{"$f":"IF(L49=\"-\",0,L49)","v":0},null,{"$f":"E49+G49+I49+K49+M49","v":0},{"$f":"MAX(D49,F49,H49,J49,L49)","v":0},{"$f":"IF(S49=1,O49,IF(S49=0,(O49-P49),\"-\"))","v":"-"},{"$f":"COUNTIF(U49:AD49,\"=TRUE\")","v":0},{"$f":"AE$1-R49","v":5},{"$f":"IF(S49<2,\"Yes\",\"No\")","v":"No"},{"$f":"IF(D49=\"-\",1,0)*U$1","v":1},{"$f":"AND(U49=0,U$1=1)","v":false},{"$f":"IF(F49=\"-\",1,0)*W$1","v":1},{"$f":"AND(W49=0,W$1=1)","v":false},{"$f":"IF(H49=\"-\",1,0)*Y$1","v":1},{"$f":"AND(Y49=0,Y$1=1)","v":false},{"$f":"IF(J49=\"-\",1,0)*AA$1","v":1},{"$f":"AND(AA49=0,AA$1=1)","v":false},{"$f":"IF(L49=\"-\",1,0)*AC$1","v":1},{"$f":"AND(AC49=0,AC$1=1)","v":false}]
[9,null,"-","-",{"$f":"IF(D50=\"-\",0,D50)","v":0},"-",{"$f":"IF(F50=\"-\",0,F50)","v":0},"-",{"$f":"IF(H50=\"-\",0,H50)","v":0},"-",{"$f":"IF(J50=\"-\",0,J50)","v":0},"-",{"$f":"IF(L50=\"-\",0,L50)","v":0},null,{"$f":"E50+G50+I50+K50+M50","v":0},{"$f":"MAX(D50,F50,H50,J50,L50)","v":0},{"$f":"IF(S50=1,O50,IF(S50=0,(O50-P50),\"-\"))","v":"-"},{"$f":"COUNTIF(U50:AD50,\"=TRUE\")","v":0},{"$f":"AE$1-R50","v":5},{"$f":"IF(S50<2,\"Yes\",\"No\")","v":"No"},{"$f":"IF(D50=\"-\",1,0)*U$1","v":1},{"$f":"AND(U50=0,U$1=1)","v":false},{"$f":"IF(F50=\"-\",1,0)*W$1","v":1},{"$f":"AND(W50=0,W$1=1)","v":false},{"$f":"IF(H50=\"-\",1,0)*Y$1","v":1},{"$f":"AND(Y50=0,Y$1=1)","v":false},{"$f":"IF(J50=\"-\",1,0)*AA$1","v":1},{"$f":"AND(AA50=0,AA$1=1)","v":false},{"$f":"IF(L50=\"-\",1,0)*AC$1","v":1},{"$f":"AND(AC50=0,AC$1=1)","v":false}]
[71,null,"-","-",{"$f":"IF(D51=\"-\",0,D51)","v":0},"-",{"$f":"IF(F51=\"-\",0,F51)","v":0},"-",{"$f":"IF(H51=\"-\",0,H51)","v":0},"-",{"$f":"IF(J51=\"-\",0,J51)","v":0},"-",{"$f":"IF(L51=\"-\",0,L51)","v":0},null,{"$f":"E51+G51+I51+K51+M51","v":0},{"$f":"MAX(D51,F51,H51,J51,L51)","v":0},{"$f":"IF(S51=1,O51,IF(S51=0,(O51-P51),\"-\"))","v":"-"},{"$f":"COUNTIF(U51:AD51,\"=TRUE\")","v":0},{"$f":"AE$1-R51","v":5},{"$f":"IF(S51<2,\"Yes\",\"No\")","v":"No"},{"$f":"IF(D51=\"-\",1,0)*U$1","v":1},{"$f":"AND(U51=0,U$1=1)","v":false},{"$f":"IF(F51=\"-\",1,0)*W$1","v":1},{"$f":"AND(W51=0,W$1=1)","v":false},{"$f":"IF(H51=\"-\",1,0)*Y$1","v":1},{"$f":"AND(Y51=0,Y$1=1)","v":false},{"$f":"IF(J51=\"-\",1,0)*AA$1","v":1},{"$f":"AND(AA51=0,AA$1=1)","v":false},{"$f":"IF(L51=\"-\",1,0)*AC$1","v":1},{"$f":"AND(AC51=0,AC$1=1)","v":false}]
[64,null,"-","-",{"$f":"IF(D52=\"-\",0,D52)","v":0},"-",{"$f":"IF(F52=\"-\",0,F52)","v":0},"-",{"$f":"IF(H52=\"-\",0,H52)","v":0},"-",{"$f":"IF(J52=\"-\",0,J52)","v":0},"-",{"$f":"IF(L52=\"-\",0,L52)","v":0},null,{"$f":"E52+G52+I52+K52+M52","v":0},{"$f":"MAX(D52,F52,H52,J52,L52)","v":0},{"$f":"IF(S52=1,O52,IF(S52=0,(O52-P52),\"-\"))","v":"-"},{"$f":"COUNTIF(U52:AD52,\"=TRUE\")","v":0},{"$f":"AE$1-R52","v":5},{"$f":"IF(S52<2,\"Yes\",\"No\")","v":"No"},{"$f":"IF(D52=\"-\",1,0)*U$1","v":1},{"$f":"AND(U52=0,U$1=1)","v":false},{"$f":"IF(F52=\"-\",1,0)*W$1","v":1},{"$f":"AND(W52=0,W$1=1)","v":false},{"$f":"IF(H52=\"-\",1,0)*Y$1","v":1},{"$f":"AND(Y52=0,Y$1=1)","v":false},{"$f":"IF(J52=\"-\",1,0)*AA$1","v":1},{"$f":"AND(AA52=0,AA$1=1)","v":false},{"$f":"IF(L52=\"-\",1,0)*AC$1","v":1},{"$f":"AND(AC52=0,AC$1=1)","v":false}]
[72,null,"-","-",{"$f":"IF(D53=\"-\",0,D53)","v":0},"-",{"$f":"IF(F53=\"-\",0,F53)","v":0},"-",{"$f":"IF(H53=\"-\",0,H53)","v":0},"-",{"$f":"IF(J53=\"-\",0,J53)","v":0},"-",{"$f":"IF(L53=\"-\",0,L53)","v":0},null,{"$f":"E53+G53+I53+K53+M53","v":0},{"$f":"MAX(D53,F53,H53,J53,L53)","v":0},{"$f":"IF(S53=1,O53,IF(S53=0,(O53-P53),\"-\"))","v":"-"},{"$f":"COUNTIF(U53:AD53,\"=TRUE\")","v":0},{"$f":"AE$1-R53","v":5},{"$f":"IF(S53<2,\"Yes\",\"No\")","v":"No"},{"$f":"IF(D53=\"-\",1,0)*U$1","v":1},{"$f":"AND(U53=0,U$1=1)","v":false},{"$f":"IF(F53=\"-\",1,0)*W$1","v":1},{"$f":"AND(W53=0,W$1=1)","v":false},{"$f":"IF(H53=\"-\",1,0)*Y$1","v":1},{"$f":"AND(Y53=0,Y$1=1)","v":false},{"$f":"IF(J53=\"-\",1,0)*AA$1","v":1},{"$f":"AND(AA53=0,AA$1=1)","v":false},{"$f":"IF(L53=\"-\",1,0)*AC$1","v":1},{"$f":"AND(AC53=0,AC$1=1)","v":false}]
[12,null,"-","-",{"$f":"IF(D54=\"-\",0,D54)","v":0},"-",{"$f":"IF(F54=\"-\",0,F54)","v":0},"-",{"$f":"IF(H54=\"-\",0,H54)","v":0},"-",{"$f":"IF(J54=\"-\",0,J54)","v":0},"-",{"$f":"IF(L54=\"-\",0,L54)","v":0},null,{"$f":"E54+G54+I54+K54+M54","v":0},{"$f":"MAX(D54,F54,H54,J54,L54)","v":0},{"$f":"IF(S54=1,O54,IF(S54=0,(O54-P54),\"-\"))","v":"-"},{"$f":"COUNTIF(U54:AD54,\"=TRUE\")","v":0},{"$f":"AE$1-R54","v":5},{"$f":"IF(S54<2,\"Yes\",\"No\")","v":"No"},{"$f":"IF(D54=\"-\",1,0)*U$1","v":1},{"$f":"AND(U54=0,U$1=1)","v":false},{"$f":"IF(F54=\"-\",1,0)*W$1","v":1},{"$f":"AND(W54=0,W$1=1)","v":false},{"$f":"IF(H54=\"-\",1,0)*Y$1","v":1},{"$f":"AND(Y54=0,Y$1=1)","v":false},{"$f":"IF(J54=\"-\",1,0)*AA$1","v":1},{"$f":"AND(AA54=0,AA$1=1)","v":false},{"$f":"IF(L54=\"-\",1,0)*AC$1","v":1},{"$f":"AND(AC54=0,AC$1=1)","v":false}]
[27,null,"-","-",{"$f":"IF(D55=\"-\",0,D55)","v":0},"-",{"$f":"IF(F55=\"-\",0,F55)","v":0},"-",{"$f":"IF(H55=\"-\",0,H55)","v":0},"-",{"$f":"IF(J55=\"-\",0,J55)","v":0},"-",{"$f":"IF(L55=\"-\",0,L55)","v":0},null,{"$f":"E55+G55+I55+K55+M55","v":0},{"$f":"MAX(D55,F55,H55,J55,L55)","v":0},{"$f":"IF(S55=1,O55,IF(S55=0,(O55-P55),\"-\"))","v":"-"},{"$f":"COUNTIF(U55:AD55,\"=TRUE\")","v":0},{"$f":"AE$1-R55","v":5},{"$f":"IF(S55<2,\"Yes\",\"No\")","v":"No"},{"$f":"IF(D55=\"-\",1,0)*U$1","v":1},{"$f":"AND(U55=0,U$1=1)","v":false},{"$f":"IF(F55=\"-\",1,0)*W$1","v":1},{"$f":"AND(W55=0,W$1=1)","v":false},{"$f":"IF(H55=\"-\",1,0)*Y$1","v":1},{"$f":"AND(Y55=0,Y$1=1)","v":false},{"$f":"IF(J55=\"-\",1,0)*AA$1","v":1},{"$f":"AND(AA55=0,AA$1=1)","v":false},{"$f":"IF(L55=\"-\",1,0)*AC$1","v":1},{"$f":"AND(AC55=0,AC$1=1)","v":false}]
[23,null,"-","-",{"$f":"IF(D56=\"-\",0,D56)","v":0},"-",{"$f":"IF(F56=\"-\",0,F56)","v":0},"-",{"$f":"IF(H56=\"-\",0,H56)","v":0},"-",{"$f":"IF(J56=\"-\",0,J56)","v":0},"-",{"$f":"IF(L56=\"-\",0,L56)","v":0},null,{"$f":"E56+G56+I56+K56+M56","v":0},{"$f":"MAX(D56,F56,H56,J56,L56)","v":0},{"$f":"IF(S56=1,O56,IF(S56=0,(O56-P56),\"-\"))","v":"-"},{"$f":"COUNTIF(U56:AD56,\"=TRUE\")","v":0},{"$f":"AE$1-R56","v":5},{"$f":"IF(S56<2,\"Yes\",\"No\")","v":"No"},{"$f":"IF(D56=\"-\",1,0)*U$1","v":1},{"$f":"AND(U56=0,U$1=1)","v":false},{"$f":"IF(F56=\"-\",1,0)*W$1","v":1},{"$f":"AND(W56=0,W$1=1)","v":false},{"$f":"IF(H56=\"-\",1,0)*Y$1","v":1},{"$f":"AND(Y56=0,Y$1=1)","v":false},{"$f":"IF(J56=\"-\",1,0)*AA$1","v":1},{"$f":"AND(AA56=0,AA$1=1)","v":false},{"$f":"IF(L56=\"-\",1,0)*AC$1","v":1},{"$f":"AND(AC56=0,AC$1=1)","v":false}]
[30,null,"-","-",{"$f":"IF(D57=\"-\",0,D57)","v":0},"-",{"$f":"IF(F57=\"-\",0,F57)","v":0},"-",{"$f":"IF(H57=\"-\",0,H57)","v":0},"-",{"$f":"IF(J57=\"-\",0,J57)","v":0},"-",{"$f":"IF(L57=\"-\",0,L57)","v":0},null,{"$f":"E57+G57+I57+K57+M57","v":0},{"$f":"MAX(D57,F57,H57,J57,L57)","v":0},{"$f":"IF(S57=1,O57,IF(S57=0,(O57-P57),\"-\"))","v":"-"},{"$f":"COUNTIF(U57:AD57,\"=TRUE\")","v":0},{"$f":"AE$1-R57","v":5},{"$f":"IF(S57<2,\"Yes\",\"No\")","v":"No"},{"$f":"IF(D57=\"-\",1,0)*U$1","v":1},{"$f":"AND(U57=0,U$1=1)","v":false},{"$f":"IF(F57=\"-\",1,0)*W$1","v":1},{"$f":"AND(W57=0,W$1=1)","v":false},{"$f":"IF(H57=\"-\",1,0)*Y$1","v":1},{"$f":"AND(Y57=0,Y$1=1)","v":false},{"$f":"IF(J57=\"-\",1,0)*AA$1","v":1},{"$f":"AND(AA57=0,AA$1=1)","v":false},{"$f":"IF(L57=\"-\",1,0)*AC$1","v":1},{"$f":"AND(AC57=0,AC$1=1)","v":false}]
[18,null,"-","-",{"$f":"IF(D58=\"-\",0,D58)","v":0},"-",{"$f":"IF(F58=\"-\",0,F58)","v":0},"-",{"$f":"IF(H58=\"-\",0,H58)","v":0},"-",{"$f":"IF(J58=\"-\",0,J58)","v":0},"-",{"$f":"IF(L58=\"-\",0,L58)","v":0},null,{"$f":"E58+G58+I58+K58+M58","v":0},{"$f":"MAX(D58,F58,H58,J58,L58)","v":0},{"$f":"IF(S58=1,O58,IF(S58=0,(O58-P58),\"-\"))","v":"-"},{"$f":"COUNTIF(U58:AD58,\"=TRUE\")","v":0},{"$f":"AE$1-R58","v":5},{"$f":"IF(S58<2,\"Yes\",\"No\")","v":"No"},{"$f":"IF(D58=\"-\",1,0)*U$1","v":1},{"$f":"AND(U58=0,U$1=1)","v":false},{"$f":"IF(F58=\"-\",1,0)*W$1","v":1},{"$f":"AND(W58=0,W$1=1)","v":false},{"$f":"IF(H58=\"-\",1,0)*Y$1","v":1},{"$f":"AND(Y58=0,Y$1=1)","v":false},{"$f":"IF(J58=\"-\",1,0)*AA$1","v":1},{"$f":"AND(AA58=0,AA$1=1)","v":false},{"$f":"IF(L58=\"-\",1,0)*AC$1","v":1},{"$f":"AND(AC58=0,AC$1=1)","v":false}]
[60,null,"-","-",{"$f":"IF(D59=\"-\",0,D59)","v":0},"-",{"$f":"IF(F59=\"-\",0,F59)","v":0},"-",{"$f":"IF(H59=\"-\",0,H59)","v":0},"-",{"$f":"IF(J59=\"-\",0,J59)","v":0},"-",{"$f":"IF(L59=\"-\",0,L59)","v":0},null,{"$f":"E59+G59+I59+K59+M59","v":0},{"$f":"MAX(D59,F59,H59,J59,L59)","v":0},{"$f":"IF(S59=1,O59,IF(S59=0,(O59-P59),\"-\"))","v":"-"},{"$f":"COUNTIF(U59:AD59,\"=TRUE\")","v":0},{"$f":"AE$1-R59","v":5},{"$f":"IF(S59<2,\"Yes\",\"No\")","v":"No"},{"$f":"IF(D59=\"-\",1,0)*U$1","v":1},{"$f":"AND(U59=0,U$1=1)","v":false},{"$f":"IF(F59=\"-\",1,0)*W$1","v":1},{"$f":"AND(W59=0,W$1=1)","v":false},{"$f":"IF(H59=\"-\",1,0)*Y$1","v":1},{"$f":"AND(Y59=0,Y$1=1)","v":false},{"$f":"IF(J59=\"-\",1,0)*AA$1","v":1},{"$f":"AND(AA59=0,AA$1=1)","v":false},{"$f":"IF(L59=\"-\",1,0)*AC$1","v":1},{"$f":"AND(AC59=0,AC$1=1)","v":false}]
[59,null,"-","-",{"$f":"IF(D60=\"-\",0,D60)","v":0},"-",{"$f":"IF(F60=\"-\",0,F60)","v":0},"-",{"$f":"IF(H60=\"-\",0,H60)","v":0},"-",{"$f":"IF(J60=\"-\",0,J60)","v":0},"-",{"$f":"IF(L60=\"-\",0,L60)","v":0},null,{"$f":"E60+G60+I60+K60+M60","v":0},{"$f":"MAX(D60,F60,H60,J60,L60)","v":0},{"$f":"IF(S60=1,O60,IF(S60=0,(O60-P60),\"-\"))","v":"-"},{"$f":"COUNTIF(U60:AD60,\"=TRUE\")","v":0},{"$f":"AE$1-R60","v":5},{"$f":"IF(S60<2,\"Yes\",\"No\")","v":"No"},{"$f":"IF(D60=\"-\",1,0)*U$1","v":1},{"$f":"AND(U60=0,U$1=1)","v":false},{"$f":"IF(F60=\"-\",1,0)*W$1","v":1},{"$f":"AND(W60=0,W$1=1)","v":false},{"$f":"IF(H60=\"-\",1,0)*Y$1","v":1},{"$f":"AND(Y60=0,Y$1=1)","v":false},{"$f":"IF(J60=\"-\",1,0)*AA$1","v":1},{"$f":"AND(AA60=0,AA$1=1)","v":false},{"$f":"IF(L60=\"-\",1,0)*AC$1","v":1},{"$f":"AND(AC60=0,AC$1=1)","v":false}]
[15,null,"-","-",{"$f":"IF(D61=\"-\",0,D61)","v":0},"-",{"$f":"IF(F61=\"-\",0,F61)","v":0},"-",{"$f":"IF(H61=\"-\",0,H61)","v":0},"-",{"$f":"IF(J61=\"-\",0,J61)","v":0},"-",{"$f":"IF(L61=\"-\",0,L61)","v":0},null,{"$f":"E61+G61+I61+K61+M61","v":0},{"$f":"MAX(D61,F61,H61,J61,L61)","v":0},{"$f":"IF(S61=1,O61,IF(S61=0,(O61-P61),\"-\"))","v":"-"},{"$f":"COUNTIF(U61:AD61,\"=TRUE\")","v":0},{"$f":"AE$1-R61","v":5},{"$f":"IF(S61<2,\"Yes\",\"No\")","v":"No"},{"$f":"IF(D61=\"-\",1,0)*U$1","v":1},{"$f":"AND(U61=0,U$1=1)","v":false},{"$f":"IF(F61=\"-\",1,0)*W$1","v":1},{"$f":"AND(W61=0,W$1=1)","v":false},{"$f":"IF(H61=\"-\",1,0)*Y$1","v":1},{"$f":"AND(Y61=0,Y$1=1)","v":false},{"$f":"IF(J61=\"-\",1,0)*AA$1","v":1},{"$f":"AND(AA61=0,AA$1=1)","v":false},{"$f":"IF(L61=\"-\",1,0)*AC$1","v":1},{"$f":"AND(AC61=0,AC$1=1)","v":false}]
[21,null,"-","-",{"$f":"IF(D62=\"-\",0,D62)","v":0},"-",{"$f":"IF(F62=\"-\",0,F62)","v":0},"-",{"$f":"IF(H62=\"-\",0,H62)","v":0},"-",{"$f":"IF(J62=\"-\",0,J62)","v":0},"-",{"$f":"IF(L62=\"-\",0,L62)","v":0},null,{"$f":"E62+G62+I62+K62+M62","v":0},{"$f":"MAX(D62,F62,H62,J62,L62)","v":0},{"$f":"IF(S62=1,O62,IF(S62=0,(O62-P62),\"-\"))","v":"-"},{"$f":"COUNTIF(U62:AD62,\"=TRUE\")","v":0},{"$f":"AE$1-R62","v":5},{"$f":"IF(S62<2,\"Yes\",\"No\")","v":"No"},{"$f":"IF(D62=\"-\",1,0)*U$1","v":1},{"$f":"AND(U62=0,U$1=1)","v":false},{"$f":"IF(F62=\"-\",1,0)*W$1","v":1},{"$f":"AND(W62=0,W$1=1)","v":false},{"$f":"IF(H62=\"-\",1,0)*Y$1","v":1},{"$f":"AND(Y62=0,Y$1=1)","v":false},{"$f":"IF(J62=\"-\",1,0)*AA$1","v":1},{"$f":"AND(AA62=0,AA$1=1)","v":false},{"$f":"IF(L62=\"-\",1,0)*AC$1","v":1},{"$f":"AND(AC62=0,AC$1=1)","v":false}]
[61,null,"-","-",{"$f":"IF(D63=\"-\",0,D63)","v":0},"-",{"$f":"IF(F63=\"-\",0,F63)","v":0},"-",{"$f":"IF(H63=\"-\",0,H63)","v":0},"-",{"$f":"IF(J63=\"-\",0,J63)","v":0},"-",{"$f":"IF(L63=\"-\",0,L63)","v":0},null,{"$f":"E63+G63+I63+K63+M63","v":0},{"$f":"MAX(D63,F63,H63,J63,L63)","v":0},{"$f":"IF(S63=1,O63,IF(S63=0,(O63-P63),\"-\"))","v":"-"},{"$f":"COUNTIF(U63:AD63,\"=TRUE\")","v":0},{"$f":"AE$1-R63","v":5},{"$f":"IF(S63<2,\"Yes\",\"No\")","v":"No"},{"$f":"IF(D63=\"-\",1,0)*U$1","v":1},{"$f":"AND(U63=0,U$1=1)","v":false},{"$f":"IF(F63=\"-\",1,0)*W$1","v":1},{"$f":"AND(W63=0,W$1=1)","v":false},{"$f":"IF(H63=\"-\",1,0)*Y$1","v":1},{"$f":"AND(Y63=0,Y$1=1)","v":false},{"$f":"IF(J63=\"-\",1,0)*AA$1","v":1},{"$f":"AND(AA63=0,AA$1=1)","v":false},{"$f":"IF(L63=\"-\",1,0)*AC$1","v":1},{"$f":"AND(AC63=0,AC$1=1)","v":false}]
[73,null,"-","-",{"$f":"IF(D64=\"-\",0,D64)","v":0},"-",{"$f":"IF(F64=\"-\",0,F64)","v":0},"-",{"$f":"IF(H64=\"-\",0,H64)","v":0},"-",{"$f":"IF(J64=\"-\",0,J64)","v":0},"-",{"$f":"IF(L64=\"-\",0,L64)","v":0},null,{"$f":"E64+G64+I64+K64+M64","v":0},{"$f":"MAX(D64,F64,H64,J64,L64)","v":0},{"$f":"IF(S64=1,O64,IF(S64=0,(O64-P64),\"-\"))","v":"-"},{"$f":"COUNTIF(U64:AD64,\"=TRUE\")","v":0},{"$f":"AE$1-R64","v":5},{"$f":"IF(S64<2,\"Yes\",\"No\")","v":"No"},{"$f":"IF(D64=\"-\",1,0)*U$1","v":1},{"$f":"AND(U64=0,U$1=1)","v":false},{"$f":"IF(F64=\"-\",1,0)*W$1","v":1},{"$f":"AND(W64=0,W$1=1)","v":false},{"$f":"IF(H64=\"-\",1,0)*Y$1","v":1},{"$f":"AND(Y64=0,Y$1=1)","v":false},{"$f":"IF(J64=\"-\",1,0)*AA$1","v":1},{"$f":"AND(AA64=0,AA$1=1)","v":false},{"$f":"IF(L64=\"-\",1,0)*AC$1","v":1},{"$f":"AND(AC64=0,AC$1=1)","v":false}]
[32,null,"-","-",{"$f":"IF(D65=\"-\",0,D65)","v":0},"-",{"$f":"IF(F65=\"-\",0,F65)","v":0},"-",{"$f":"IF(H65=\"-\",0,H65)","v":0},"-",{"$f":"IF(J65=\"-\",0,J65)","v":0},"-",{"$f":"IF(L65=\"-\",0,L65)","v":0},null,{"$f":"E65+G65+I65+K65+M65","v":0},{"$f":"MAX(D65,F65,H65,J65,L65)","v":0},{"$f":"IF(S65=1,O65,IF(S65=0,(O65-P65),\"-\"))","v":"-"},{"$f":"COUNTIF(U65:AD65,\"=TRUE\")","v":0},{"$f":"AE$1-R65","v":5},{"$f":"IF(S65<2,\"Yes\",\"No\")","v":"No"},{"$f":"IF(D65=\"-\",1,0)*U$1","v":1},{"$f":"AND(U65=0,U$1=1)","v":false},{"$f":"IF(F65=\"-\",1,0)*W$1","v":1},{"$f":"AND(W65=0,W$1=1)","v":false},{"$f":"IF(H65=\"-\",1,0)*Y$1","v":1},{"$f":"AND(Y65=0,Y$1=1)","v":false},{"$f":"IF(J65=\"-\",1,0)*AA$1","v":1},{"$f":"AND(AA65=0,AA$1=1)","v":false},{"$f":"IF(L65=\"-\",1,0)*AC$1","v":1},{"$f":"AND(AC65=0,AC$1=1)","v":false}]
[38,null,"-","-",{"$f":"IF(D66=\"-\",0,D66)","v":0},"-",{"$f":"IF(F66=\"-\",0,F66)","v":0},"-",{"$f":"IF(H66=\"-\",0,H66)","v":0},"-",{"$f":"IF(J66=\"-\",0,J66)","v":0},"-",{"$f":"IF(L66=\"-\",0,L66)","v":0},null,{"$f":"E66+G66+I66+K66+M66","v":0},{"$f":"MAX(D66,F66,H66,J66,L66)","v":0},{"$f":"IF(S66=1,O66,IF(S66=0,(O66-P66),\"-\"))","v":"-"},{"$f":"COUNTIF(U66:AD66,\"=TRUE\")","v":0},{"$f":"AE$1-R66","v":5},{"$f":"IF(S66<2,\"Yes\",\"No\")","v":"No"},{"$f":"IF(D66=\"-\",1,0)*U$1","v":1},{"$f":"AND(U66=0,U$1=1)","v":false},{"$f":"IF(F66=\"-\",1,0)*W$1","v":1},{"$f":"AND(W66=0,W$1=1)","v":false},{"$f":"IF(H66=\"-\",1,0)*Y$1","v":1},{"$f":"AND(Y66=0,Y$1=1)","v":false},{"$f":"IF(J66=\"-\",1,0)*AA$1","v":1},{"$f":"AND(AA66=0,AA$1=1)","v":false},{"$f":"IF(L66=\"-\",1,0)*AC$1","v":1},{"$f":"AND(AC66=0,AC$1=1)","v":false}]
[41,null,"-","-",{"$f":"IF(D67=\"-\",0,D67)","v":0},"-",{"$f":"IF(F67=\"-\",0,F67)","v":0},"-",{"$f":"IF(H67=\"-\",0,H67)","v":0},"-",{"$f":"IF(J67=\"-\",0,J67)","v":0},"-",{"$f":"IF(L67=\"-\",0,L67)","v":0},null,{"$f":"E67+G67+I67+K67+M67","v":0},{"$f":"MAX(D67,F67,H67,J67,L67)","v":0},{"$f":"IF(S67=1,O67,IF(S67=0,(O67-P67),\"-\"))","v":"-"},{"$f":"COUNTIF(U67:AD67,\"=TRUE\")","v":0},{"$f":"AE$1-R67","v":5},{"$f":"IF(S67<2,\"Yes\",\"No\")","v":"No"},{"$f":"IF(D67=\"-\",1,0)*U$1","v":1},{"$f":"AND(U67=0,U$1=1)","v":false},{"$f":"IF(F67=\"-\",1,0)*W$1","v":1},{"$f":"AND(W67=0,W$1=1)","v":false},{"$f":"IF(H67=\"-\",1,0)*Y$1","v":1},{"$f":"AND(Y67=0,Y$1=1)","v":false},{"$f":"IF(J67=\"-\",1,0)*AA$1","v":1},{"$f":"AND(AA67=0,AA$1=1)","v":false},{"$f":"IF(L67=\"-\",1,0)*AC$1","v":1},{"$f":"AND(AC67=0,AC$1=1)","v":false}]
[47,null,"-","-",{"$f":"IF(D68=\"-\",0,D68)","v":0},"-",{"$f":"IF(F68=\"-\",0,F68)","v":0},"-",{"$f":"IF(H68=\"-\",0,H68)","v":0},"-",{"$f":"IF(J68=\"-\",0,J68)","v":0},"-",{"$f":"IF(L68=\"-\",0,L68)","v":0},null,{"$f":"E68+G68+I68+K68+M68","v":0},{"$f":"MAX(D68,F68,H68,J68,L68)","v":0},{"$f":"IF(S68=1,O68,IF(S68=0,(O68-P68),\"-\"))","v":"-"},{"$f":"COUNTIF(U68:AD68,\"=TRUE\")","v":0},{"$f":"AE$1-R68","v":5},{"$f":"IF(S68<2,\"Yes\",\"No\")","v":"No"},{"$f":"IF(D68=\"-\",1,0)*U$1","v":1},{"$f":"AND(U68=0,U$1=1)","v":false},{"$f":"IF(F68=\"-\",1,0)*W$1","v":1},{"$f":"AND(W68=0,W$1=1)","v":false},{"$f":"IF(H68=\"-\",1,0)*Y$1","v":1},{"$f":"AND(Y68=0,Y$1=1)","v":false},{"$f":"IF(J68=\"-\",1,0)*AA$1","v":1},{"$f":"AND(AA68=0,AA$1=1)","v":false},{"$f":"IF(L68=\"-\",1,0)*AC$1","v":1},{"$f":"AND(AC68=0,AC$1=1)","v":false}]
[25,null,"-","-",{"$f":"IF(D69=\"-\",0,D69)","v":0},"-",{"$f":"IF(F69=\"-\",0,F69)","v":0},"-",{"$f":"IF(H69=\"-\",0,H69)","v":0},"-",{"$f":"IF(J69=\"-\",0,J69)","v":0},"-",{"$f":"IF(L69=\"-\",0,L69)","v":0},null,{"$f":"E69+G69+I69+K69+M69","v":0},{"$f":"MAX(D69,F69,H69,J69,L69)","v":0},{"$f":"IF(S69=1,O69,IF(S69=0,(O69-P69),\"-\"))","v":"-"},{"$f":"COUNTIF(U69:AD69,\"=TRUE\")","v":0},{"$f":"AE$1-R69","v":5},{"$f":"IF(S69<2,\"Yes\",\"No\")","v":"No"},{"$f":"IF(D69=\"-\",1,0)*U$1","v":1},{"$f":"AND(U69=0,U$1=1)","v":false},{"$f":"IF(F69=\"-\",1,0)*W$1","v":1},{"$f":"AND(W69=0,W$1=1)","v":false},{"$f":"IF(H69=\"-\",1,0)*Y$1","v":1},{"$f":"AND(Y69=0,Y$1=1)","v":false},{"$f":"IF(J69=\"-\",1,0)*AA$1","v":1},{"$f":"AND(AA69=0,AA$1=1)","v":false},{"$f":"IF(L69=\"-\",1,0)*AC$1","v":1},{"$f":"AND(AC69=0,AC$1=1)","v":false}]
[26,null,"-","-",{"$f":"IF(D70=\"-\",0,D70)","v":0},"-",{"$f":"IF(F70=\"-\",0,F70)","v":0},"-",{"$f":"IF(H70=\"-\",0,H70)","v":0},"-",{"$f":"IF(J70=\"-\",0,J70)","v":0},"-",{"$f":"IF(L70=\"-\",0,L70)","v":0},null,{"$f":"E70+G70+I70+K70+M70","v":0},{"$f":"MAX(D70,F70,H70,J70,L70)","v":0},{"$f":"IF(S70=1,O70,IF(S70=0,(O70-P70),\"-\"))","v":"-"},{"$f":"COUNTIF(U70:AD70,\"=TRUE\")","v":0},{"$f":"AE$1-R70","v":5},{"$f":"IF(S70<2,\"Yes\",\"No\")","v":"No"},{"$f":"IF(D70=\"-\",1,0)*U$1","v":1},{"$f":"AND(U70=0,U$1=1)","v":false},{"$f":"IF(F70=\"-\",1,0)*W$1","v":1},{"$f":"AND(W70=0,W$1=1)","v":false},{"$f":"IF(H70=\"-\",1,0)*Y$1","v":1},{"$f":"AND(Y70=0,Y$1=1)","v":false},{"$f":"IF(J70=\"-\",1,0)*AA$1","v":1},{"$f":"AND(AA70=0,AA$1=1)","v":false},{"$f":"IF(L70=\"-\",1,0)*AC$1","v":1},{"$f":"AND(AC70=0,AC$1=1)","v":false}]
[31,null,"-","-",{"$f":"IF(D71=\"-\",0,D71)","v":0},"-",{"$f":"IF(F71=\"-\",0,F71)","v":0},"-",{"$f":"IF(H71=\"-\",0,H71)","v":0},"-",{"$f":"IF(J71=\"-\",0,J71)","v":0},"-",{"$f":"IF(L71=\"-\",0,L71)","v":0},null,{"$f":"E71+G71+I71+K71+M71","v":0},{"$f":"MAX(D71,F71,H71,J71,L71)","v":0},{"$f":"IF(S71=1,O71,IF(S71=0,(O71-P71),\"-\"))","v":"-"},{"$f":"COUNTIF(U71:AD71,\"=TRUE\")","v":0},{"$f":"AE$1-R71","v":5},{"$f":"IF(S71<2,\"Yes\",\"No\")","v":"No"},{"$f":"IF(D71=\"-\",1,0)*U$1","v":1},{"$f":"AND(U71=0,U$1=1)","v":false},{"$f":"IF(F71=\"-\",1,0)*W$1","v":1},{"$f":"AND(W71=0,W$1=1)","v":false},{"$f":"IF(H71=\"-\",1,0)*Y$1","v":1},{"$f":"AND(Y71=0,Y$1=1)","v":false},{"$f":"IF(J71=\"-\",1,0)*AA$1","v":1},{"$f":"AND(AA71=0,AA$1=1)","v":false},{"$f":"IF(L71=\"-\",1,0)*AC$1","v":1},{"$f":"AND(AC71=0,AC$1=1)","v":false}]
[33,null,"-","-",{"$f":"IF(D72=\"-\",0,D72)","v":0},"-",{"$f":"IF(F72=\"-\",0,F72)","v":0},"-",{"$f":"IF(H72=\"-\",0,H72)","v":0},"-",{"$f":"IF(J72=\"-\",0,J72)","v":0},"-",{"$f":"IF(L72=\"-\",0,L72)","v":0},null,{"$f":"E72+G72+I72+K72+M72","v":0},{"$f":"MAX(D72,F72,H72,J72,L72)","v":0},{"$f":"IF(S72=1,O72,IF(S72=0,(O72-P72),\"-\"))","v":"-"},{"$f":"COUNTIF(U72:AD72,\"=TRUE\")","v":0},{"$f":"AE$1-R72","v":5},{"$f":"IF(S72<2,\"Yes\",\"No\")","v":"No"},{"$f":"IF(D72=\"-\",1,0)*U$1","v":1},{"$f":"AND(U72=0,U$1=1)","v":false},{"$f":"IF(F72=\"-\",1,0)*W$1","v":1},{"$f":"AND(W72=0,W$1=1)","v":false},{"$f":"IF(H72=\"-\",1,0)*Y$1","v":1},{"$f":"AND(Y72=0,Y$1=1)","v":false},{"$f":"IF(J72=\"-\",1,0)*AA$1","v":1},{"$f":"AND(AA72=0,AA$1=1)","v":false},{"$f":"IF(L72=\"-\",1,0)*AC$1","v":1},{"$f":"AND(AC72=0,AC$1=1)","v":false}]
[35,null,"-","-",{"$f":"IF(D73=\"-\",0,D73)","v":0},"-",{"$f":"IF(F73=\"-\",0,F73)","v":0},"-",{"$f":"IF(H73=\"-\",0,H73)","v":0},"-",{"$f":"IF(J73=\"-\",0,J73)","v":0},"-",{"$f":"IF(L73=\"-\",0,L73)","v":0},null,{"$f":"E73+G73+I73+K73+M73","v":0},{"$f":"MAX(D73,F73,H73,J73,L73)","v":0},{"$f":"IF(S73=1,O73,IF(S73=0,(O73-P73),\"-\"))","v":"-"},{"$f":"COUNTIF(U73:AD73,\"=TRUE\")","v":0},{"$f":"AE$1-R73","v":5},{"$f":"IF(S73<2,\"Yes\",\"No\")","v":"No"},{"$f":"IF(D73=\"-\",1,0)*U$1","v":1},{"$f":"AND(U73=0,U$1=1)","v":false},{"$f":"IF(F73=\"-\",1,0)*W$1","v":1},{"$f":"AND(W73=0,W$1=1)","v":false},{"$f":"IF(H73=\"-\",1,0)*Y$1","v":1},{"$f":"AND(Y73=0,Y$1=1)","v":false},{"$f":"IF(J73=\"-\",1,0)*AA$1","v":1},{"$f":"AND(AA73=0,AA$1=1)","v":false},{"$f":"IF(L73=\"-\",1,0)*AC$1","v":1},{"$f":"AND(AC73=0,AC$1=1)","v":false}]
[36,null,"-","-",{"$f":"IF(D74=\"-\",0,D74)","v":0},"-",{"$f":"IF(F74=\"-\",0,F74)","v":0},"-",{"$f":"IF(H74=\"-\",0,H74)","v":0},"-",{"$f":"IF(J74=\"-\",0,J74)","v":0},"-",{"$f":"IF(L74=\"-\",0,L74)","v":0},null,{"$f":"E74+G74+I74+K74+M74","v":0},{"$f":"MAX(D74,F74,H74,J74,L74)","v":0},{"$f":"IF(S74=1,O74,IF(S74=0,(O74-P74),\"-\"))","v":"-"},{"$f":"COUNTIF(U74:AD74,\"=TRUE\")","v":0},{"$f":"AE$1-R74","v":5},{"$f":"IF(S74<2,\"Yes\",\"No\")","v":"No"},{"$f":"IF(D74=\"-\",1,0)*U$1","v":1},{"$f":"AND(U74=0,U$1=1)","v":false},{"$f":"IF(F74=\"-\",1,0)*W$1","v":1},{"$f":"AND(W74=0,W$1=1)","v":false},{"$f":"IF(H74=\"-\",1,0)*Y$1","v":1},{"$f":"AND(Y74=0,Y$1=1)","v":false},{"$f":"IF(J74=\"-\",1,0)*AA$1","v":1},{"$f":"AND(AA74=0,AA$1=1)","v":false},{"$f":"IF(L74=\"-\",1,0)*AC$1","v":1},{"$f":"AND(AC74=0,AC$1=1)","v":false}]
[42,null,"-","-",{"$f":"IF(D75=\"-\",0,D75)","v":0},"-",{"$f":"IF(F75=\"-\",0,F75)","v":0},"-",{"$f":"IF(H75=\"-\",0,H75)","v":0},"-",{"$f":"IF(J75=\"-\",0,J75)","v":0},"-",{"$f":"IF(L75=\"-\",0,L75)","v":0},null,{"$f":"E75+G75+I75+K75+M75","v":0},{"$f":"MAX(D75,F75,H75,J75,L75)","v":0},{"$f":"IF(S75=1,O75,IF(S75=0,(O75-P75),\"-\"))","v":"-"},{"$f":"COUNTIF(U75:AD75,\"=TRUE\")","v":0},{"$f":"AE$1-R75","v":5},{"$f":"IF(S75<2,\"Yes\",\"No\")","v":"No"},{"$f":"IF(D75=\"-\",1,0)*U$1","v":1},{"$f":"AND(U75=0,U$1=1)","v":false},{"$f":"IF(F75=\"-\",1,0)*W$1","v":1},{"$f":"AND(W75=0,W$1=1)","v":false},{"$f":"IF(H75=\"-\",1,0)*Y$1","v":1},{"$f":"AND(Y75=0,Y$1=1)","v":false},{"$f":"IF(J75=\"-\",1,0)*AA$1","v":1},{"$f":"AND(AA75=0,AA$1=1)","v":false},{"$f":"IF(L75=\"-\",1,0)*AC$1","v":1},{"$f":"AND(AC75=0,AC$1=1)","v":false}]
[43,null,"-","-",{"$f":"IF(D76=\"-\",0,D76)","v":0},"-",{"$f":"IF(F76=\"-\",0,F76)","v":0},"-",{"$f":"IF(H76=\"-\",0,H76)","v":0},"-",{"$f":"IF(J76=\"-\",0,J76)","v":0},"-",{"$f":"IF(L76=\"-\",0,L76)","v":0},null,{"$f":"E76+G76+I76+K76+M76","v":0},{"$f":"MAX(D76,F76,H76,J76,L76)","v":0},{"$f":"IF(S76=1,O76,IF(S76=0,(O76-P76),\"-\"))","v":"-"},{"$f":"COUNTIF(U76:AD76,\"=TRUE\")","v":0},{"$f":"AE$1-R76","v":5},{"$f":"IF(S76<2,\"Yes\",\"No\")","v":"No"},{"$f":"IF(D76=\"-\",1,0)*U$1","v":1},{"$f":"AND(U76=0,U$1=1)","v":false},{"$f":"IF(F76=\"-\",1,0)*W$1","v":1},{"$f":"AND(W76=0,W$1=1)","v":false},{"$f":"IF(H76=\"-\",1,0)*Y$1","v":1},{"$f":"AND(Y76=0,Y$1=1)","v":false},{"$f":"IF(J76=\"-\",1,0)*AA$1","v":1},{"$f":"AND(AA76=0,AA$1=1)","v":false},{"$f":"IF(L76=\"-\",1,0)*AC$1","v":1},{"$f":"AND(AC76=0,AC$1=1)","v":false}]
[48,null,"-","-",{"$f":"IF(D77=\"-\",0,D77)","v":0},"-",{"$f":"IF(F77=\"-\",0,F77)","v":0},"-",{"$f":"IF(H77=\"-\",0,H77)","v":0},"-",{"$f":"IF(J77=\"-\",0,J77)","v":0},"-",{"$f":"IF(L77=\"-\",0,L77)","v":0},null,{"$f":"E77+G77+I77+K77+M77","v":0},{"$f":"MAX(D77,F77,H77,J77,L77)","v":0},{"$f":"IF(S77=1,O77,IF(S77=0,(O77-P77),\"-\"))","v":"-"},{"$f":"COUNTIF(U77:AD77,\"=TRUE\")","v":0},{"$f":"AE$1-R77","v":5},{"$f":"IF(S77<2,\"Yes\",\"No\")","v":"No"},{"$f":"IF(D77=\"-\",1,0)*U$1","v":1},{"$f":"AND(U77=0,U$1=1)","v":false},{"$f":"IF(F77=\"-\",1,0)*W$1","v":1},{"$f":"AND(W77=0,W$1=1)","v":false},{"$f":"IF(H77=\"-\",1,0)*Y$1","v":1},{"$f":"AND(Y77=0,Y$1=1)","v":false},{"$f":"IF(J77=\"-\",1,0)*AA$1","v":1},{"$f":"AND(AA77=0,AA$1=1)","v":false},{"$f":"IF(L77=\"-\",1,0)*AC$1","v":1},{"$f":"AND(AC77=0,AC$1=1)","v":false}]
[49,null,"-","-",{"$f":"IF(D78=\"-\",0,D78)","v":0},"-",{"$f":"IF(F78=\"-\",0,F78)","v":0},"-",{"$f":"IF(H78=\"-\",0,H78)","v":0},"-",{"$f":"IF(J78=\"-\",0,J78)","v":0},"-",{"$f":"IF(L78=\"-\",0,L78)","v":0},null,{"$f":"E78+G78+I78+K78+M78","v":0},{"$f":"MAX(D78,F78,H78,J78,L78)","v":0},{"$f":"IF(S78=1,O78,IF(S78=0,(O78-P78),\"-\"))","v":"-"},{"$f":"COUNTIF(U78:AD78,\"=TRUE\")","v":0},{"$f":"AE$1-R78","v":5},{"$f":"IF(S78<2,\"Yes\",\"No\")","v":"No"},{"$f":"IF(D78=\"-\",1,0)*U$1","v":1},{"$f":"AND(U78=0,U$1=1)","v":false},{"$f":"IF(F78=\"-\",1,0)*W$1","v":1},{"$f":"AND(W78=0,W$1=1)","v":false},{"$f":"IF(H78=\"-\",1,0)*Y$1","v":1},{"$f":"AND(Y78=0,Y$1=1)","v":false},{"$f":"IF(J78=\"-\",1,0)*AA$1","v":1},{"$f":"AND(AA78=0,AA$1=1)","v":false},{"$f":"IF(L78=\"-\",1,0)*AC$1","v":1},{"$f":"AND(AC78=0,AC$1=1)","v":false}]
[50,null,"-","-",{"$f":"IF(D79=\"-\",0,D79)","v":0},"-",{"$f":"IF(F79=\"-\",0,F79)","v":0},"-",{"$f":"IF(H79=\"-\",0,H79)","v":0},"-",{"$f":"IF(J79=\"-\",0,J79)","v":0},"-",{"$f":"IF(L79=\"-\",0,L79)","v":0},null,{"$f":"E79+G79+I79+K79+M79","v":0},{"$f":"MAX(D79,F79,H79,J79,L79)","v":0},{"$f":"IF(S79=1,O79,IF(S79=0,(O79-P79),\"-\"))","v":"-"},{"$f":"COUNTIF(U79:AD79,\"=TRUE\")","v":0},{"$f":"AE$1-R79","v":5},{"$f":"IF(S79<2,\"Yes\",\"No\")","v":"No"},{"$f":"IF(D79=\"-\",1,0)*U$1","v":1},{"$f":"AND(U79=0,U$1=1)","v":false},{"$f":"IF(F79=\"-\",1,0)*W$1","v":1},{"$f":"AND(W79=0,W$1=1)","v":false},{"$f":"IF(H79=\"-\",1,0)*Y$1","v":1},{"$f":"AND(Y79=0,Y$1=1)","v":false},{"$f":"IF(J79=\"-\",1,0)*AA$1","v":1},{"$f":"AND(AA79=0,AA$1=1)","v":false},{"$f":"IF(L79=\"-\",1,0)*AC$1","v":1},{"$f":"AND(AC79=0,AC$1=1)","v":false}]
[51,null,"-","-",{"$f":"IF(D80=\"-\",0,D80)","v":0},"-",{"$f":"IF(F80=\"-\",0,F80)","v":0},"-",{"$f":"IF(H80=\"-\",0,H80)","v":0},"-",{"$f":"IF(J80=\"-\",0,J80)","v":0},"-",{"$f":"IF(L80=\"-\",0,L80)","v":0},null,{"$f":"E80+G80+I80+K80+M80","v":0},{"$f":"MAX(D80,F80,H80,J80,L80)","v":0},{"$f":"IF(S80=1,O80,IF(S80=0,(O80-P80),\"-\"))","v":"-"},{"$f":"COUNTIF(U80:AD80,\"=TRUE\")","v":0},{"$f":"AE$1-R80","v":5},{"$f":"IF(S80<2,\"Yes\",\"No\")","v":"No"},{"$f":"IF(D80=\"-\",1,0)*U$1","v":1},{"$f":"AND(U80=0,U$1=1)","v":false},{"$f":"IF(F80=\"-\",1,0)*W$1","v":1},{"$f":"AND(W80=0,W$1=1)","v":false},{"$f":"IF(H80=\"-\",1,0)*Y$1","v":1},{"$f":"AND(Y80=0,Y$1=1)","v":false},{"$f":"IF(J80=\"-\",1,0)*AA$1","v":1},{"$f":"AND(AA80=0,AA$1=1)","v":false},{"$f":"IF(L80=\"-\",1,0)*AC$1","v":1},{"$f":"AND(AC80=0,AC$1=1)","v":false}]
[52,null,"-","-",{"$f":"IF(D81=\"-\",0,D81)","v":0},"-",{"$f":"IF(F81=\"-\",0,F81)","v":0},"-",{"$f":"IF(H81=\"-\",0,H81)","v":0},"-",{"$f":"IF(J81=\"-\",0,J81)","v":0},"-",{"$f":"IF(L81=\"-\",0,L81)","v":0},null,{"$f":"E81+G81+I81+K81+M81","v":0},{"$f":"MAX(D81,F81,H81,J81,L81)","v":0},{"$f":"IF(S81=1,O81,IF(S81=0,(O81-P81),\"-\"))","v":"-"},{"$f":"COUNTIF(U81:AD81,\"=TRUE\")","v":0},{"$f":"AE$1-R81","v":5},{"$f":"IF(S81<2,\"Yes\",\"No\")","v":"No"},{"$f":"IF(D81=\"-\",1,0)*U$1","v":1},{"$f":"AND(U81=0,U$1=1)","v":false},{"$f":"IF(F81=\"-\",1,0)*W$1","v":1},{"$f":"AND(W81=0,W$1=1)","v":false},{"$f":"IF(H81=\"-\",1,0)*Y$1","v":1},{"$f":"AND(Y81=0,Y$1=1)","v":false},{"$f":"IF(J81=\"-\",1,0)*AA$1","v":1},{"$f":"AND(AA81=0,AA$1=1)","v":false},{"$f":"IF(L81=\"-\",1,0)*AC$1","v":1},{"$f":"AND(AC81=0,AC$1=1)","v":false}]
[53,null,"-","-",{"$f":"IF(D82=\"-\",0,D82)","v":0},"-",{"$f":"IF(F82=\"-\",0,F82)","v":0},"-",{"$f":"IF(H82=\"-\",0,H82)","v":0},"-",{"$f":"IF(J82=\"-\",0,J82)","v":0},"-",{"$f":"IF(L82=\"-\",0,L82)","v":0},null,{"$f":"E82+G82+I82+K82+M82","v":0},{"$f":"MAX(D82,F82,H82,J82,L82)","v":0},{"$f":"IF(S82=1,O82,IF(S82=0,(O82-P82),\"-\"))","v":"-"},{"$f":"COUNTIF(U82:AD82,\"=TRUE\")","v":0},{"$f":"AE$1-R82","v":5},{"$f":"IF(S82<2,\"Yes\",\"No\")","v":"No"},{"$f":"IF(D82=\"-\",1,0)*U$1","v":1},{"$f":"AND(U82=0,U$1=1)","v":false},{"$f":"IF(F82=\"-\",1,0)*W$1","v":1},{"$f":"AND(W82=0,W$1=1)","v":false},{"$f":"IF(H82=\"-\",1,0)*Y$1","v":1},{"$f":"AND(Y82=0,Y$1=1)","v":false},{"$f":"IF(J82=\"-\",1,0)*AA$1","v":1},{"$f":"AND(AA82=0,AA$1=1)","v":false},{"$f":"IF(L82=\"-\",1,0)*AC$1","v":1},{"$f":"AND(AC82=0,AC$1=1)","v":false}]
[54,null,"-","-",{"$f":"IF(D83=\"-\",0,D83)","v":0},"-",{"$f":"IF(F83=\"-\",0,F83)","v":0},"-",{"$f":"IF(H83=\"-\",0,H83)","v":0},"-",{"$f":"IF(J83=\"-\",0,J83)","v":0},"-",{"$f":"IF(L83=\"-\",0,L83)","v":0},null,{"$f":"E83+G83+I83+K83+M83","v":0},{"$f":"MAX(D83,F83,H83,J83,L83)","v":0},{"$f":"IF(S83=1,O83,IF(S83=0,(O83-P83),\"-\"))","v":"-"},{"$f":"COUNTIF(U83:AD83,\"=TRUE\")","v":0},{"$f":"AE$1-R83","v":5},{"$f":"IF(S83<2,\"Yes\",\"No\")","v":"No"},{"$f":"IF(D83=\"-\",1,0)*U$1","v":1},{"$f":"AND(U83=0,U$1=1)","v":false},{"$f":"IF(F83=\"-\",1,0)*W$1","v":1},{"$f":"AND(W83=0,W$1=1)","v":false},{"$f":"IF(H83=\"-\",1,0)*Y$1","v":1},{"$f":"AND(Y83=0,Y$1=1)","v":false},{"$f":"IF(J83=\"-\",1,0)*AA$1","v":1},{"$f":"AND(AA83=0,AA$1=1)","v":false},{"$f":"IF(L83=\"-\",1,0)*AC$1","v":1},{"$f":"AND(AC83=0,AC$1=1)","v":false}]
[56,null,"-","-",{"$f":"IF(D84=\"-\",0,D84)","v":0},"-",{"$f":"IF(F84=\"-\",0,F84)","v":0},"-",{"$f":"IF(H84=\"-\",0,H84)","v":0},"-",{"$f":"IF(J84=\"-\",0,J84)","v":0},"-",{"$f":"IF(L84=\"-\",0,L84)","v":0},null,{"$f":"E84+G84+I84+K84+M84","v":0},{"$f":"MAX(D84,F84,H84,J84,L84)","v":0},{"$f":"IF(S84=1,O84,IF(S84=0,(O84-P84),\"-\"))","v":"-"},{"$f":"COUNTIF(U84:AD84,\"=TRUE\")","v":0},{"$f":"AE$1-R84","v":5},{"$f":"IF(S84<2,\"Yes\",\"No\")","v":"No"},{"$f":"IF(D84=\"-\",1,0)*U$1","v":1},{"$f":"AND(U84=0,U$1=1)","v":false},{"$f":"IF(F84=\"-\",1,0)*W$1","v":1},{"$f":"AND(W84=0,W$1=1)","v":false},{"$f":"IF(H84=\"-\",1,0)*Y$1","v":1},{"$f":"AND(Y84=0,Y$1=1)","v":false},{"$f":"IF(J84=\"-\",1,0)*AA$1","v":1},{"$f":"AND(AA84=0,AA$1=1)","v":false},{"$f":"IF(L84=\"-\",1,0)*AC$1","v":1},{"$f":"AND(AC84=0,AC$1=1)","v":false}]
[82,null,"-","-",{"$f":"IF(D85=\"-\",0,D85)","v":0},"-",{"$f":"IF(F85=\"-\",0,F85)","v":0},"-",{"$f":"IF(H85=\"-\",0,H85)","v":0},"-",{"$f":"IF(J85=\"-\",0,J85)","v":0},"-",{"$f":"IF(L85=\"-\",0,L85)","v":0},null,{"$f":"E85+G85+I85+K85+M85","v":0},{"$f":"MAX(D85,F85,H85,J85,L85)","v":0},{"$f":"IF(S85=1,O85,IF(S85=0,(O85-P85),\"-\"))","v":"-"},{"$f":"COUNTIF(U85:AD85,\"=TRUE\")","v":0},{"$f":"AE$1-R85","v":5},{"$f":"IF(S85<2,\"Yes\",\"No\")","v":"No"},{"$f":"IF(D85=\"-\",1,0)*U$1","v":1},{"$f":"AND(U85=0,U$1=1)","v":false},{"$f":"IF(F85=\"-\",1,0)*W$1","v":1},{"$f":"AND(W85=0,W$1=1)","v":false},{"$f":"IF(H85=\"-\",1,0)*Y$1","v":1},{"$f":"AND(Y85=0,Y$1=1)","v":false},{"$f":"IF(J85=\"-\",1,0)*AA$1","v":1},{"$f":"AND(AA85=0,AA$1=1)","v":false},{"$f":"IF(L85=\"-\",1,0)*AC$1","v":1},{"$f":"AND(AC85=0,AC$1=1)","v":false}]
[84,null,"-","-",{"$f":"IF(D86=\"-\",0,D86)","v":0},"-",{"$f":"IF(F86=\"-\",0,F86)","v":0},"-",{"$f":"IF(H86=\"-\",0,H86)","v":0},"-",{"$f":"IF(J86=\"-\",0,J86)","v":0},"-",{"$f":"IF(L86=\"-\",0,L86)","v":0},null,{"$f":"E86+G86+I86+K86+M86","v":0},{"$f":"MAX(D86,F86,H86,J86,L86)","v":0},{"$f":"IF(S86=1,O86,IF(S86=0,(O86-P86),\"-\"))","v":"-"},{"$f":"COUNTIF(U86:AD86,\"=TRUE\")","v":0},{"$f":"AE$1-R86","v":5},{"$f":"IF(S86<2,\"Yes\",\"No\")","v":"No"},{"$f":"IF(D86=\"-\",1,0)*U$1","v":1},{"$f":"AND(U86=0,U$1=1)","v":false},{"$f":"IF(F86=\"-\",1,0)*W$1","v":1},{"$f":"AND(W86=0,W$1=1)","v":false},{"$f":"IF(H86=\"-\",1,0)*Y$1","v":1},{"$f":"AND(Y86=0,Y$1=1)","v":false},{"$f":"IF(J86=\"-\",1,0)*AA$1","v":1},{"$f":"AND(AA86=0,AA$1=1)","v":false},{"$f":"IF(L86=\"-\",1,0)*AC$1","v":1},{"$f":"AND(AC86=0,AC$1=1)","v":false}]
[83,null,"-","-",{"$f":"IF(D87=\"-\",0,D87)","v":0},"-",{"$f":"IF(F87=\"-\",0,F87)","v":0},"-",{"$f":"IF(H87=\"-\",0,H87)","v":0},"-",{"$f":"IF(J87=\"-\",0,J87)","v":0},"-",{"$f":"IF(L87=\"-\",0,L87)","v":0},null,{"$f":"E87+G87+I87+K87+M87","v":0},{"$f":"MAX(D87,F87,H87,J87,L87)","v":0},{"$f":"IF(S87=1,O87,IF(S87=0,(O87-P87),\"-\"))","v":"-"},{"$f":"COUNTIF(U87:AD87,\"=TRUE\")","v":0},{"$f":"AE$1-R87","v":5},{"$f":"IF(S87<2,\"Yes\",\"No\")","v":"No"},{"$f":"IF(D87=\"-\",1,0)*U$1","v":1},{"$f":"AND(U87=0,U$1=1)","v":false},{"$f":"IF(F87=\"-\",1,0)*W$1","v":1},{"$f":"AND(W87=0,W$1=1)","v":false},{"$f":"IF(H87=\"-\",1,0)*Y$1","v":1},{"$f":"AND(Y87=0,Y$1=1)","v":false},{"$f":"IF(J87=\"-\",1,0)*AA$1","v":1},{"$f":"AND(AA87=0,AA$1=1)","v":false},{"$f":"IF(L87=\"-\",1,0)*AC$1","v":1},{"$f":"AND(AC87=0,AC$1=1)","v":false}]
[85,null,"-","-",{"$f":"IF(D88=\"-\",0,D88)","v":0},"-",{"$f":"IF(F88=\"-\",0,F88)","v":0},"-",{"$f":"IF(H88=\"-\",0,H88)","v":0},"-",{"$f":"IF(J88=\"-\",0,J88)","v":0},"-",{"$f":"IF(L88=\"-\",0,L88)","v":0},null,{"$f":"E88+G88+I88+K88+M88","v":0},{"$f":"MAX(D88,F88,H88,J88,L88)","v":0},{"$f":"IF(S88=1,O88,IF(S88=0,(O88-P88),\"-\"))","v":"-"},{"$f":"COUNTIF(U88:AD88,\"=TRUE\")","v":0},{"$f":"AE$1-R88","v":5},{"$f":"IF(S88<2,\"Yes\",\"No\")","v":"No"},{"$f":"IF(D88=\"-\",1,0)*U$1","v":1},{"$f":"AND(U88=0,U$1=1)","v":false},{"$f":"IF(F88=\"-\",1,0)*W$1","v":1},{"$f":"AND(W88=0,W$1=1)","v":false},{"$f":"IF(H88=\"-\",1,0)*Y$1","v":1},{"$f":"AND(Y88=0,Y$1=1)","v":false},{"$f":"IF(J88=\"-\",1,0)*AA$1","v":1},{"$f":"AND(AA88=0,AA$1=1)","v":false},{"$f":"IF(L88=\"-\",1,0)*AC$1","v":1},{"$f":"AND(AC88=0,AC$1=1)","v":false}]
[86,null,"-","-",{"$f":"IF(D89=\"-\",0,D89)","v":0},"-",{"$f":"IF(F89=\"-\",0,F89)","v":0},"-",{"$f":"IF(H89=\"-\",0,H89)","v":0},"-",{"$f":"IF(J89=\"-\",0,J89)","v":0},"-",{"$f":"IF(L89=\"-\",0,L89)","v":0},null,{"$f":"E89+G89+I89+K89+M89","v":0},{"$f":"MAX(D89,F89,H89,J89,L89)","v":0},{"$f":"IF(S89=1,O89,IF(S89=0,(O89-P89),\"-\"))","v":"-"},{"$f":"COUNTIF(U89:AD89,\"=TRUE\")","v":0},{"$f":"AE$1-R89","v":5},{"$f":"IF(S89<2,\"Yes\",\"No\")","v":"No"},{"$f":"IF(D89=\"-\",1,0)*U$1","v":1},{"$f":"AND(U89=0,U$1=1)","v":false},{"$f":"IF(F89=\"-\",1,0)*W$1","v":1},{"$f":"AND(W89=0,W$1=1)","v":false},{"$f":"IF(H89=\"-\",1,0)*Y$1","v":1},{"$f":"AND(Y89=0,Y$1=1)","v":false},{"$f":"IF(J89=\"-\",1,0)*AA$1","v":1},{"$f":"AND(AA89=0,AA$1=1)","v":false},{"$f":"IF(L89=\"-\",1,0)*AC$1","v":1},{"$f":"AND(AC89=0,AC$1=1)","v":false}]
[87,null,"-","-",{"$f":"IF(D90=\"-\",0,D90)","v":0},"-",{"$f":"IF(F90=\"-\",0,F90)","v":0},"-",{"$f":"IF(H90=\"-\",0,H90)","v":0},"-",{"$f":"IF(J90=\"-\",0,J90)","v":0},"-",{"$f":"IF(L90=\"-\",0,L90)","v":0},null,{"$f":"E90+G90+I90+K90+M90","v":0},{"$f":"MAX(D90,F90,H90,J90,L90)","v":0},{"$f":"IF(S90=1,O90,IF(S90=0,(O90-P90),\"-\"))","v":"-"},{"$f":"COUNTIF(U90:AD90,\"=TRUE\")","v":0},{"$f":"AE$1-R90","v":5},{"$f":"IF(S90<2,\"Yes\",\"No\")","v":"No"},{"$f":"IF(D90=\"-\",1,0)*U$1","v":1},{"$f":"AND(U90=0,U$1=1)","v":false},{"$f":"IF(F90=\"-\",1,0)*W$1","v":1},{"$f":"AND(W90=0,W$1=1)","v":false},{"$f":"IF(H90=\"-\",1,0)*Y$1","v":1},{"$f":"AND(Y90=0,Y$1=1)","v":false},{"$f":"IF(J90=\"-\",1,0)*AA$1","v":1},{"$f":"AND(AA90=0,AA$1=1)","v":false},{"$f":"IF(L90=\"-\",1,0)*AC$1","v":1},{"$f":"AND(AC90=0,AC$1=1)","v":false}]
[88,null,"-","-",{"$f":"IF(D91=\"-\",0,D91)","v":0},"-",{"$f":"IF(F91=\"-\",0,F91)","v":0},"-",{"$f":"IF(H91=\"-\",0,H91)","v":0},"-",{"$f":"IF(J91=\"-\",0,J91)","v":0},"-",{"$f":"IF(L91=\"-\",0,L91)","v":0},null,{"$f":"E91+G91+I91+K91+M91","v":0},{"$f":"MAX(D91,F91,H91,J91,L91)","v":0},{"$f":"IF(S91=1,O91,IF(S91=0,(O91-P91),\"-\"))","v":"-"},{"$f":"COUNTIF(U91:AD91,\"=TRUE\")","v":0},{"$f":"AE$1-R91","v":5},{"$f":"IF(S91<2,\"Yes\",\"No\")","v":"No"},{"$f":"IF(D91=\"-\",1,0)*U$1","v":1},{"$f":"AND(U91=0,U$1=1)","v":false},{"$f":"IF(F91=\"-\",1,0)*W$1","v":1},{"$f":"AND(W91=0,W$1=1)","v":false},{"$f":"IF(H91=\"-\",1,0)*Y$1","v":1},{"$f":"AND(Y91=0,Y$1=1)","v":false},{"$f":"IF(J91=\"-\",1,0)*AA$1","v":1},{"$f":"AND(AA91=0,AA$1=1)","v":false},{"$f":"IF(L91=\"-\",1,0)*AC$1","v":1},{"$f":"AND(AC91=0,AC$1=1)","v":false}]
[89,null,"-","-",{"$f":"IF(D92=\"-\",0,D92)","v":0},"-",{"$f":"IF(F92=\"-\",0,F92)","v":0},"-",{"$f":"IF(H92=\"-\",0,H92)","v":0},"-",{"$f":"IF(J92=\"-\",0,J92)","v":0},"-",{"$f":"IF(L92=\"-\",0,L92)","v":0},null,{"$f":"E92+G92+I92+K92+M92","v":0},{"$f":"MAX(D92,F92,H92,J92,L92)","v":0},{"$f":"IF(S92=1,O92,IF(S92=0,(O92-P92),\"-\"))","v":"-"},{"$f":"COUNTIF(U92:AD92,\"=TRUE\")","v":0},{"$f":"AE$1-R92","v":5},{"$f":"IF(S92<2,\"Yes\",\"No\")","v":"No"},{"$f":"IF(D92=\"-\",1,0)*U$1","v":1},{"$f":"AND(U92=0,U$1=1)","v":false},{"$f":"IF(F92=\"-\",1,0)*W$1","v":1},{"$f":"AND(W92=0,W$1=1)","v":false},{"$f":"IF(H92=\"-\",1,0)*Y$1","v":1},{"$f":"AND(Y92=0,Y$1=1)","v":false},{"$f":"IF(J92=\"-\",1,0)*AA$1","v":1},{"$f":"AND(AA92=0,AA$1=1)","v":false},{"$f":"IF(L92=\"-\",1,0)*AC$1","v":1},{"$f":"AND(AC92=0,AC$1=1)","v":false}]
[90,null,"-","-",{"$f":"IF(D93=\"-\",0,D93)","v":0},"-",{"$f":"IF(F93=\"-\",0,F93)","v":0},"-",{"$f":"IF(H93=\"-\",0,H93)","v":0},"-",{"$f":"IF(J93=\"-\",0,J93)","v":0},"-",{"$f":"IF(L93=\"-\",0,L93)","v":0},null,{"$f":"E93+G93+I93+K93+M93","v":0},{"$f":"MAX(D93,F93,H93,J93,L93)","v":0},{"$f":"IF(S93=1,O93,IF(S93=0,(O93-P93),\"-\"))","v":"-"},{"$f":"COUNTIF(U93:AD93,\"=TRUE\")","v":0},{"$f":"AE$1-R93","v":5},{"$f":"IF(S93<2,\"Yes\",\"No\")","v":"No"},{"$f":"IF(D93=\"-\",1,0)*U$1","v":1},{"$f":"AND(U93=0,U$1=1)","v":false},{"$f":"IF(F93=\"-\",1,0)*W$1","v":1},{"$f":"AND(W93=0,W$1=1)","v":false},{"$f":"IF(H93=\"-\",1,0)*Y$1","v":1},{"$f":"AND(Y93=0,Y$1=1)","v":false},{"$f":"IF(J93=\"-\",1,0)*AA$1","v":1},{"$f":"AND(AA93=0,AA$1=1)","v":false},{"$f":"IF(L93=\"-\",1,0)*AC$1","v":1},{"$f":"AND(AC93=0,AC$1=1)","v":false}]
[91,null,"-","-",{"$f":"IF(D94=\"-\",0,D94)","v":0},"-",{"$f":"IF(F94=\"-\",0,F94)","v":0},"-",{"$f":"IF(H94=\"-\",0,H94)","v":0},"-",{"$f":"IF(J94=\"-\",0,J94)","v":0},"-",{"$f":"IF(L94=\"-\",0,L94)","v":0},null,{"$f":"E94+G94+I94+K94+M94","v":0},{"$f":"MAX(D94,F94,H94,J94,L94)","v":0},{"$f":"IF(S94=1,O94,IF(S94=0,(O94-P94),\"-\"))","v":"-"},{"$f":"COUNTIF(U94:AD94,\"=TRUE\")","v":0},{"$f":"AE$1-R94","v":5},{"$f":"IF(S94<2,\"Yes\",\"No\")","v":"No"},{"$f":"IF(D94=\"-\",1,0)*U$1","v":1},{"$f":"AND(U94=0,U$1=1)","v":false},{"$f":"IF(F94=\"-\",1,0)*W$1","v":1},{"$f":"AND(W94=0,W$1=1)","v":false},{"$f":"IF(H94=\"-\",1,0)*Y$1","v":1},{"$f":"AND(Y94=0,Y$1=1)","v":false},{"$f":"IF(J94=\"-\",1,0)*AA$1","v":1},{"$f":"AND(AA94=0,AA$1=1)","v":false},{"$f":"IF(L94=\"-\",1,0)*AC$1","v":1},{"$f":"AND(AC94=0,AC$1=1)","v":false}]
[92,null,"-","-",{"$f":"IF(D95=\"-\",0,D95)","v":0},"-",{"$f":"IF(F95=\"-\",0,F95)","v":0},"-",{"$f":"IF(H95=\"-\",0,H95)","v":0},"-",{"$f":"IF(J95=\"-\",0,J95)","v":0},"-",{"$f":"IF(L95=\"-\",0,L95)","v":0},null,{"$f":"E95+G95+I95+K95+M95","v":0},{"$f":"MAX(D95,F95,H95,J95,L95)","v":0},{"$f":"IF(S95=1,O95,IF(S95=0,(O95-P95),\"-\"))","v":"-"},{"$f":"COUNTIF(U95:AD95,\"=TRUE\")","v":0},{"$f":"AE$1-R95","v":5},{"$f":"IF(S95<2,\"Yes\",\"No\")","v":"No"},{"$f":"IF(D95=\"-\",1,0)*U$1","v":1},{"$f":"AND(U95=0,U$1=1)","v":false},{"$f":"IF(F95=\"-\",1,0)*W$1","v":1},{"$f":"AND(W95=0,W$1=1)","v":false},{"$f":"IF(H95=\"-\",1,0)*Y$1","v":1},{"$f":"AND(Y95=0,Y$1=1)","v":false},{"$f":"IF(J95=\"-\",1,0)*AA$1","v":1},{"$f":"AND(AA95=0,AA$1=1)","v":false},{"$f":"IF(L95=\"-\",1,0)*AC$1","v":1},{"$f":"AND(AC95=0,AC$1=1)","v":false}]
[93,null,"-","-",{"$f":"IF(D96=\"-\",0,D96)","v":0},"-",{"$f":"IF(F96=\"-\",0,F96)","v":0},"-",{"$f":"IF(H96=\"-\",0,H96)","v":0},"-",{"$f":"IF(J96=\"-\",0,J96)","v":0},"-",{"$f":"IF(L96=\"-\",0,L96)","v":0},null,{"$f":"E96+G96+I96+K96+M96","v":0},{"$f":"MAX(D96,F96,H96,J96,L96)","v":0},{"$f":"IF(S96=1,O96,IF(S96=0,(O96-P96),\"-\"))","v":"-"},{"$f":"COUNTIF(U96:AD96,\"=TRUE\")","v":0},{"$f":"AE$1-R96","v":5},{"$f":"IF(S96<2,\"Yes\",\"No\")","v":"No"},{"$f":"IF(D96=\"-\",1,0)*U$1","v":1},{"$f":"AND(U96=0,U$1=1)","v":false},{"$f":"IF(F96=\"-\",1,0)*W$1","v":1},{"$f":"AND(W96=0,W$1=1)","v":false},{"$f":"IF(H96=\"-\",1,0)*Y$1","v":1},{"$f":"AND(Y96=0,Y$1=1)","v":false},{"$f":"IF(J96=\"-\",1,0)*AA$1","v":1},{"$f":"AND(AA96=0,AA$1=1)","v":false},{"$f":"IF(L96=\"-\",1,0)*AC$1","v":1},{"$f":"AND(AC96=0,AC$1=1)","v":false}]
[94,null,"-","-",{"$f":"IF(D97=\"-\",0,D97)","v":0},"-",{"$f":"IF(F97=\"-\",0,F97)","v":0},"-",{"$f":"IF(H97=\"-\",0,H97)","v":0},"-",{"$f":"IF(J97=\"-\",0,J97)","v":0},"-",{"$f":"IF(L97=\"-\",0,L97)","v":0},null,{"$f":"E97+G97+I97+K97+M97","v":0},{"$f":"MAX(D97,F97,H97,J97,L97)","v":0},{"$f":"IF(S97=1,O97,IF(S97=0,(O97-P97),\"-\"))","v":"-"},{"$f":"COUNTIF(U97:AD97,\"=TRUE\")","v":0},{"$f":"AE$1-R97","v":5},{"$f":"IF(S97<2,\"Yes\",\"No\")","v":"No"},{"$f":"IF(D97=\"-\",1,0)*U$1","v":1},{"$f":"AND(U97=0,U$1=1)","v":false},{"$f":"IF(F97=\"-\",1,0)*W$1","v":1},{"$f":"AND(W97=0,W$1=1)","v":false},{"$f":"IF(H97=\"-\",1,0)*Y$1","v":1},{"$f":"AND(Y97=0,Y$1=1)","v":false},{"$f":"IF(J97=\"-\",1,0)*AA$1","v":1},{"$f":"AND(AA97=0,AA$1=1)","v":false},{"$f":"IF(L97=\"-\",1,0)*AC$1","v":1},{"$f":"AND(AC97=0,AC$1=1)","v":false}]
[95,null,"-","-",{"$f":"IF(D98=\"-\",0,D98)","v":0},"-",{"$f":"IF(F98=\"-\",0,F98)","v":0},"-",{"$f":"IF(H98=\"-\",0,H98)","v":0},"-",{"$f":"IF(J98=\"-\",0,J98)","v":0},"-",{"$f":"IF(L98=\"-\",0,L98)","v":0},null,{"$f":"E98+G98+I98+K98+M98","v":0},{"$f":"MAX(D98,F98,H98,J98,L98)","v":0},{"$f":"IF(S98=1,O98,IF(S98=0,(O98-P98),\"-\"))","v":"-"},{"$f":"COUNTIF(U98:AD98,\"=TRUE\")","v":0},{"$f":"AE$1-R98","v":5},{"$f":"IF(S98<2,\"Yes\",\"No\")","v":"No"},{"$f":"IF(D98=\"-\",1,0)*U$1","v":1},{"$f":"AND(U98=0,U$1=1)","v":false},{"$f":"IF(F98=\"-\",1,0)*W$1","v":1},{"$f":"AND(W98=0,W$1=1)","v":false},{"$f":"IF(H98=\"-\",1,0)*Y$1","v":1},{"$f":"AND(Y98=0,Y$1=1)","v":false},{"$f":"IF(J98=\"-\",1,0)*AA$1","v":1},{"$f":"AND(AA98=0,AA$1=1)","v":false},{"$f":"IF(L98=\"-\",1,0)*AC$1","v":1},{"$f":"AND(AC98=0,AC$1=1)","v":false}]
[96,null,"-","-",{"$f":"IF(D99=\"-\",0,D99)","v":0},"-",{"$f":"IF(F99=\"-\",0,F99)","v":0},"-",{"$f":"IF(H99=\"-\",0,H99)","v":0},"-",{"$f":"IF(J99=\"-\",0,J99)","v":0},"-",{"$f":"IF(L99=\"-\",0,L99)","v":0},null,{"$f":"E99+G99+I99+K99+M99","v":0},{"$f":"MAX(D99,F99,H99,J99,L99)","v":0},{"$f":"IF(S99=1,O99,IF(S99=0,(O99-P99),\"-\"))","v":"-"},{"$f":"COUNTIF(U99:AD99,\"=TRUE\")","v":0},{"$f":"AE$1-R99","v":5},{"$f":"IF(S99<2,\"Yes\",\"No\")","v":"No"},{"$f":"IF(D99=\"-\",1,0)*U$1","v":1},{"$f":"AND(U99=0,U$1=1)","v":false},{"$f":"IF(F99=\"-\",1,0)*W$1","v":1},{"$f":"AND(W99=0,W$1=1)","v":false},{"$f":"IF(H99=\"-\",1,0)*Y$1","v":1},{"$f":"AND(Y99=0,Y$1=1)","v":false},{"$f":"IF(J99=\"-\",1,0)*AA$1","v":1},{"$f":"AND(AA99=0,AA$1=1)","v":false},{"$f":"IF(L99=\"-\",1,0)*AC$1","v":1},{"$f":"AND(AC99=0,AC$1=1)","v":false}]
[97,null,"-","-",{"$f":"IF(D100=\"-\",0,D100)","v":0},"-",{"$f":"IF(F100=\"-\",0,F100)","v":0},"-",{"$f":"IF(H100=\"-\",0,H100)","v":0},"-",{"$f":"IF(J100=\"-\",0,J100)","v":0},"-",{"$f":"IF(L100=\"-\",0,L100)","v":0},null,{"$f":"E100+G100+I100+K100+M100","v":0},{"$f":"MAX(D100,F100,H100,J100,L100)","v":0},{"$f":"IF(S100=1,O100,IF(S100=0,(O100-P100),\"-\"))","v":"-"},{"$f":"COUNTIF(U100:AD100,\"=TRUE\")","v":0},{"$f":"AE$1-R100","v":5},{"$f":"IF(S100<2,\"Yes\",\"No\")","v":"No"},{"$f":"IF(D100=\"-\",1,0)*U$1","v":1},{"$f":"AND(U100=0,U$1=1)","v":false},{"$f":"IF(F100=\"-\",1,0)*W$1","v":1},{"$f":"AND(W100=0,W$1=1)","v":false},{"$f":"IF(H100=\"-\",1,0)*Y$1","v":1},{"$f":"AND(Y100=0,Y$1=1)","v":false},{"$f":"IF(J100=\"-\",1,0)*AA$1","v":1},{"$f":"AND(AA100=0,AA$1=1)","v":false},{"$f":"IF(L100=\"-\",1,0)*AC$1","v":1},{"$f":"AND(AC100=0,AC$1=1)","v":false}]
[98,null,"-","-",{"$f":"IF(D101=\"-\",0,D101)","v":0},"-",{"$f":"IF(F101=\"-\",0,F101)","v":0},"-",{"$f":"IF(H101=\"-\",0,H101)","v":0},"-",{"$f":"IF(J101=\"-\",0,J101)","v":0},"-",{"$f":"IF(L101=\"-\",0,L101)","v":0},null,{"$f":"E101+G101+I101+K101+M101","v":0},{"$f":"MAX(D101,F101,H101,J101,L101)","v":0},{"$f":"IF(S101=1,O101,IF(S101=0,(O101-P101),\"-\"))","v":"-"},{"$f":"COUNTIF(U101:AD101,\"=TRUE\")","v":0},{"$f":"AE$1-R101","v":5},{"$f":"IF(S101<2,\"Yes\",\"No\")","v":"No"},{"$f":"IF(D101=\"-\",1,0)*U$1","v":1},{"$f":"AND(U101=0,U$1=1)","v":false},{"$f":"IF(F101=\"-\",1,0)*W$1","v":1},{"$f":"AND(W101=0,W$1=1)","v":false},{"$f":"IF(H101=\"-\",1,0)*Y$1","v":1},{"$f":"AND(Y101=0,Y$1=1)","v":false},{"$f":"IF(J101=\"-\",1,0)*AA$1","v":1},{"$f":"AND(AA101=0,AA$1=1)","v":false},{"$f":"IF(L101=\"-\",1,0)*AC$1","v":1},{"$f":"AND(AC101=0,AC$1=1)","v":false}]
[99,null,"-","-",{"$f":"IF(D102=\"-\",0,D102)","v":0},"-",{"$f":"IF(F102=\"-\",0,F102)","v":0},"-",{"$f":"IF(H102=\"-\",0,H102)","v":0},"-",{"$f":"IF(J102=\"-\",0,J102)","v":0},"-",{"$f":"IF(L102=\"-\",0,L102)","v":0},null,{"$f":"E102+G102+I102+K102+M102","v":0},{"$f":"MAX(D102,F102,H102,J102,L102)","v":0},{"$f":"IF(S102=1,O102,IF(S102=0,(O102-P102),\"-\"))","v":"-"},{"$f":"COUNTIF(U102:AD102,\"=TRUE\")","v":0},{"$f":"AE$1-R102","v":5},{"$f":"IF(S102<2,\"Yes\",\"No\")","v":"No"},{"$f":"IF(D102=\"-\",1,0)*U$1","v":1},{"$f":"AND(U102=0,U$1=1)","v":false},{"$f":"IF(F102=\"-\",1,0)*W$1","v":1},{"$f":"AND(W102=0,W$1=1)","v":false},{"$f":"IF(H102=\"-\",1,0)*Y$1","v":1},{"$f":"AND(Y102=0,Y$1=1)","v":false},{"$f":"IF(J102=\"-\",1,0)*AA$1","v":1},{"$f":"AND(AA102=0,AA$1=1)","v":false},{"$f":"IF(L102=\"-\",1,0)*AC$1","v":1},{"$f":"AND(AC102=0,AC$1=1)","v":false}]
[100,null,"-","-",{"$f":"IF(D103=\"-\",0,D103)","v":0},"-",{"$f":"IF(F103=\"-\",0,F103)","v":0},"-",{"$f":"IF(H103=\"-\",0,H103)","v":0},"-",{"$f":"IF(J103=\"-\",0,J103)","v":0},"-",{"$f":"IF(L103=\"-\",0,L103)","v":0},null,{"$f":"E103+G103+I103+K103+M103","v":0},{"$f":"MAX(D103,F103,H103,J103,L103)","v":0},{"$f":"IF(S103=1,O103,IF(S103=0,(O103-P103),\"-\"))","v":"-"},{"$f":"COUNTIF(U103:AD103,\"=TRUE\")","v":0},{"$f":"AE$1-R103","v":5},{"$f":"IF(S103<2,\"Yes\",\"No\")","v":"No"},{"$f":"IF(D103=\"-\",1,0)*U$1","v":1},{"$f":"AND(U103=0,U$1=1)","v":false},{"$f":"IF(F103=\"-\",1,0)*W$1","v":1},{"$f":"AND(W103=0,W$1=1)","v":false},{"$f":"IF(H103=\"-\",1,0)*Y$1","v":1},{"$f":"AND(Y103=0,Y$1=1)","v":false},{"$f":"IF(J103=\"-\",1,0)*AA$1","v":1},{"$f":"AND(AA103=0,AA$1=1)","v":false},{"$f":"IF(L103=\"-\",1,0)*AC$1","v":1},{"$f":"AND(AC103=0,AC$1=1)","v":false}]
[101,null,"-","-",{"$f":"IF(D104=\"-\",0,D104)","v":0},"-",{"$f":"IF(F104=\"-\",0,F104)","v":0},"-",{"$f":"IF(H104=\"-\",0,H104)","v":0},"-",{"$f":"IF(J104=\"-\",0,J104)","v":0},"-",{"$f":"IF(L104=\"-\",0,L104)","v":0},null,{"$f":"E104+G104+I104+K104+M104","v":0},{"$f":"MAX(D104,F104,H104,J104,L104)","v":0},{"$f":"IF(S104=1,O104,IF(S104=0,(O104-P104),\"-\"))","v":"-"},{"$f":"COUNTIF(U104:AD104,\"=TRUE\")","v":0},{"$f":"AE$1-R104","v":5},{"$f":"IF(S104<2,\"Yes\",\"No\")","v":"No"},{"$f":"IF(D104=\"-\",1,0)*U$1","v":1},{"$f":"AND(U104=0,U$1=1)","v":false},{"$f":"IF(F104=\"-\",1,0)*W$1","v":1},{"$f":"AND(W104=0,W$1=1)","v":false},{"$f":"IF(H104=\"-\",1,0)*Y$1","v":1},{"$f":"AND(Y104=0,Y$1=1)","v":false},{"$f":"IF(J104=\"-\",1,0)*AA$1","v":1},{"$f":"AND(AA104=0,AA$1=1)","v":false},{"$f":"IF(L104=\"-\",1,0)*AC$1","v":1},{"$f":"AND(AC104=0,AC$1=1)","v":false}]
[102,null,"-","-",{"$f":"IF(D105=\"-\",0,D105)","v":0},"-",{"$f":"IF(F105=\"-\",0,F105)","v":0},"-",{"$f":"IF(H105=\"-\",0,H105)","v":0},"-",{"$f":"IF(J105=\"-\",0,J105)","v":0},"-",{"$f":"IF(L105=\"-\",0,L105)","v":0},null,{"$f":"E105+G105+I105+K105+M105","v":0},{"$f":"MAX(D105,F105,H105,J105,L105)","v":0},{"$f":"IF(S105=1,O105,IF(S105=0,(O105-P105),\"-\"))","v":"-"},{"$f":"COUNTIF(U105:AD105,\"=TRUE\")","v":0},{"$f":"AE$1-R105","v":5},{"$f":"IF(S105<2,\"Yes\",\"No\")","v":"No"},{"$f":"IF(D105=\"-\",1,0)*U$1","v":1},{"$f":"AND(U105=0,U$1=1)","v":false},{"$f":"IF(F105=\"-\",1,0)*W$1","v":1},{"$f":"AND(W105=0,W$1=1)","v":false},{"$f":"IF(H105=\"-\",1,0)*Y$1","v":1},{"$f":"AND(Y105=0,Y$1=1)","v":false},{"$f":"IF(J105=\"-\",1,0)*AA$1","v":1},{"$f":"AND(AA105=0,AA$1=1)","v":false},{"$f":"IF(L105=\"-\",1,0)*AC$1","v":1},{"$f":"AND(AC105=0,AC$1=1)","v":false}]
[103,null,"-","-",{"$f":"IF(D106=\"-\",0,D106)","v":0},"-",{"$f":"IF(F106=\"-\",0,F106)","v":0},"-",{"$f":"IF(H106=\"-\",0,H106)","v":0},"-",{"$f":"IF(J106=\"-\",0,J106)","v":0},"-",{"$f":"IF(L106=\"-\",0,L106)","v":0},null,{"$f":"E106+G106+I106+K106+M106","v":0},{"$f":"MAX(D106,F106,H106,J106,L106)","v":0},{"$f":"IF(S106=1,O106,IF(S106=0,(O106-P106),\"-\"))","v":"-"},{"$f":"COUNTIF(U106:AD106,\"=TRUE\")","v":0},{"$f":"AE$1-R106","v":5},{"$f":"IF(S106<2,\"Yes\",\"No\")","v":"No"},{"$f":"IF(D106=\"-\",1,0)*U$1","v":1},{"$f":"AND(U106=0,U$1=1)","v":false},{"$f":"IF(F106=\"-\",1,0)*W$1","v":1},{"$f":"AND(W106=0,W$1=1)","v":false},{"$f":"IF(H106=\"-\",1,0)*Y$1","v":1},{"$f":"AND(Y106=0,Y$1=1)","v":false},{"$f":"IF(J106=\"-\",1,0)*AA$1","v":1},{"$f":"AND(AA106=0,AA$1=1)","v":false},{"$f":"IF(L106=\"-\",1,0)*AC$1","v":1},{"$f":"AND(AC106=0,AC$1=1)","v":false}]
[104,null,"-","-",{"$f":"IF(D107=\"-\",0,D107)","v":0},"-",{"$f":"IF(F107=\"-\",0,F107)","v":0},"-",{"$f":"IF(H107=\"-\",0,H107)","v":0},"-",{"$f":"IF(J107=\"-\",0,J107)","v":0},"-",{"$f":"IF(L107=\"-\",0,L107)","v":0},null,{"$f":"E107+G107+I107+K107+M107","v":0},{"$f":"MAX(D107,F107,H107,J107,L107)","v":0},{"$f":"IF(S107=1,O107,IF(S107=0,(O107-P107),\"-\"))","v":"-"},{"$f":"COUNTIF(U107:AD107,\"=TRUE\")","v":0},{"$f":"AE$1-R107","v":5},{"$f":"IF(S107<2,\"Yes\",\"No\")","v":"No"},{"$f":"IF(D107=\"-\",1,0)*U$1","v":1},{"$f":"AND(U107=0,U$1=1)","v":false},{"$f":"IF(F107=\"-\",1,0)*W$1","v":1},{"$f":"AND(W107=0,W$1=1)","v":false},{"$f":"IF(H107=\"-\",1,0)*Y$1","v":1},{"$f":"AND(Y107=0,Y$1=1)","v":false},{"$f":"IF(J107=\"-\",1,0)*AA$1","v":1},{"$f":"AND(AA107=0,AA$1=1)","v":false},{"$f":"IF(L107=\"-\",1,0)*AC$1","v":1},{"$f":"AND(AC107=0,AC$1=1)","v":false}]
[105,null,"-","-",{"$f":"IF(D108=\"-\",0,D108)","v":0},"-",{"$f":"IF(F108=\"-\",0,F108)","v":0},"-",{"$f":"IF(H108=\"-\",0,H108)","v":0},"-",{"$f":"IF(J108=\"-\",0,J108)","v":0},"-",{"$f":"IF(L108=\"-\",0,L108)","v":0},null,{"$f":"E108+G108+I108+K108+M108","v":0},{"$f":"MAX(D108,F108,H108,J108,L108)","v":0},{"$f":"IF(S108=1,O108,IF(S108=0,(O108-P108),\"-\"))","v":"-"},{"$f":"COUNTIF(U108:AD108,\"=TRUE\")","v":0},{"$f":"AE$1-R108","v":5},{"$f":"IF(S108<2,\"Yes\",\"No\")","v":"No"},{"$f":"IF(D108=\"-\",1,0)*U$1","v":1},{"$f":"AND(U108=0,U$1=1)","v":false},{"$f":"IF(F108=\"-\",1,0)*W$1","v":1},{"$f":"AND(W108=0,W$1=1)","v":false},{"$f":"IF(H108=\"-\",1,0)*Y$1","v":1},{"$f":"AND(Y108=0,Y$1=1)","v":false},{"$f":"IF(J108=\"-\",1,0)*AA$1","v":1},{"$f":"AND(AA108=0,AA$1=1)","v":false},{"$f":"IF(L108=\"-\",1,0)*AC$1","v":1},{"$f":"AND(AC108=0,AC$1=1)","v":false}]
[106,null,"-","-",{"$f":"IF(D109=\"-\",0,D109)","v":0},"-",{"$f":"IF(F109=\"-\",0,F109)","v":0},"-",{"$f":"IF(H109=\"-\",0,H109)","v":0},"-",{"$f":"IF(J109=\"-\",0,J109)","v":0},"-",{"$f":"IF(L109=\"-\",0,L109)","v":0},null,{"$f":"E109+G109+I109+K109+M109","v":0},{"$f":"MAX(D109,F109,H109,J109,L109)","v":0},{"$f":"IF(S109=1,O109,IF(S109=0,(O109-P109),\"-\"))","v":"-"},{"$f":"COUNTIF(U109:AD109,\"=TRUE\")","v":0},{"$f":"AE$1-R109","v":5},{"$f":"IF(S109<2,\"Yes\",\"No\")","v":"No"},{"$f":"IF(D109=\"-\",1,0)*U$1","v":1},{"$f":"AND(U109=0,U$1=1)","v":false},{"$f":"IF(F109=\"-\",1,0)*W$1","v":1},{"$f":"AND(W109=0,W$1=1)","v":false},{"$f":"IF(H109=\"-\",1,0)*Y$1","v":1},{"$f":"AND(Y109=0,Y$1=1)","v":false},{"$f":"IF(J109=\"-\",1,0)*AA$1","v":1},{"$f":"AND(AA109=0,AA$1=1)","v":false},{"$f":"IF(L109=\"-\",1,0)*AC$1","v":1},{"$f":"AND(AC109=0,AC$1=1)","v":false}]
[107,null,"-","-",{"$f":"IF(D110=\"-\",0,D110)","v":0},"-",{"$f":"IF(F110=\"-\",0,F110)","v":0},"-",{"$f":"IF(H110=\"-\",0,H110)","v":0},"-",{"$f":"IF(J110=\"-\",0,J110)","v":0},"-",{"$f":"IF(L110=\"-\",0,L110)","v":0},null,{"$f":"E110+G110+I110+K110+M110","v":0},{"$f":"MAX(D110,F110,H110,J110,L110)","v":0},{"$f":"IF(S110=1,O110,IF(S110=0,(O110-P110),\"-\"))","v":"-"},{"$f":"COUNTIF(U110:AD110,\"=TRUE\")","v":0},{"$f":"AE$1-R110","v":5},{"$f":"IF(S110<2,\"Yes\",\"No\")","v":"No"},{"$f":"IF(D110=\"-\",1,0)*U$1","v":1},{"$f":"AND(U110=0,U$1=1)","v":false},{"$f":"IF(F110=\"-\",1,0)*W$1","v":1},{"$f":"AND(W110=0,W$1=1)","v":false},{"$f":"IF(H110=\"-\",1,0)*Y$1","v":1},{"$f":"AND(Y110=0,Y$1=1)","v":false},{"$f":"IF(J110=\"-\",1,0)*AA$1","v":1},{"$f":"AND(AA110=0,AA$1=1)","v":false},{"$f":"IF(L110=\"-\",1,0)*AC$1","v":1},{"$f":"AND(AC110=0,AC$1=1)","v":false}]
[108,null,"-","-",{"$f":"IF(D111=\"-\",0,D111)","v":0},"-",{"$f":"IF(F111=\"-\",0,F111)","v":0},"-",{"$f":"IF(H111=\"-\",0,H111)","v":0},"-",{"$f":"IF(J111=\"-\",0,J111)","v":0},"-",{"$f":"IF(L111=\"-\",0,L111)","v":0},null,{"$f":"E111+G111+I111+K111+M111","v":0},{"$f":"MAX(D111,F111,H111,J111,L111)","v":0},{"$f":"IF(S111=1,O111,IF(S111=0,(O111-P111),\"-\"))","v":"-"},{"$f":"COUNTIF(U111:AD111,\"=TRUE\")","v":0},{"$f":"AE$1-R111","v":5},{"$f":"IF(S111<2,\"Yes\",\"No\")","v":"No"},{"$f":"IF(D111=\"-\",1,0)*U$1","v":1},{"$f":"AND(U111=0,U$1=1)","v":false},{"$f":"IF(F111=\"-\",1,0)*W$1","v":1},{"$f":"AND(W111=0,W$1=1)","v":false},{"$f":"IF(H111=\"-\",1,0)*Y$1","v":1},{"$f":"AND(Y111=0,Y$1=1)","v":false},{"$f":"IF(J111=\"-\",1,0)*AA$1","v":1},{"$f":"AND(AA111=0,AA$1=1)","v":false},{"$f":"IF(L111=\"-\",1,0)*AC$1","v":1},{"$f":"AND(AC111=0,AC$1=1)","v":false}]
[109,null,"-","-",{"$f":"IF(D112=\"-\",0,D112)","v":0},"-",{"$f":"IF(F112=\"-\",0,F112)","v":0},"-",{"$f":"IF(H112=\"-\",0,H112)","v":0},"-",{"$f":"IF(J112=\"-\",0,J112)","v":0},"-",{"$f":"IF(L112=\"-\",0,L112)","v":0},null,{"$f":"E112+G112+I112+K112+M112","v":0},{"$f":"MAX(D112,F112,H112,J112,L112)","v":0},{"$f":"IF(S112=1,O112,IF(S112=0,(O112-P112),\"-\"))","v":"-"},{"$f":"COUNTIF(U112:AD112,\"=TRUE\")","v":0},{"$f":"AE$1-R112","v":5},{"$f":"IF(S112<2,\"Yes\",\"No\")","v":"No"},{"$f":"IF(D112=\"-\",1,0)*U$1","v":1},{"$f":"AND(U112=0,U$1=1)","v":false},{"$f":"IF(F112=\"-\",1,0)*W$1","v":1},{"$f":"AND(W112=0,W$1=1)","v":false},{"$f":"IF(H112=\"-\",1,0)*Y$1","v":1},{"$f":"AND(Y112=0,Y$1=1)","v":false},{"$f":"IF(J112=\"-\",1,0)*AA$1","v":1},{"$f":"AND(AA112=0,AA$1=1)","v":false},{"$f":"IF(L112=\"-\",1,0)*AC$1","v":1},{"$f":"AND(AC112=0,AC$1=1)","v":false}]
[110,null,"-","-",{"$f":"IF(D113=\"-\",0,D113)","v":0},"-",{"$f":"IF(F113=\"-\",0,F113)","v":0},"-",{"$f":"IF(H113=\"-\",0,H113)","v":0},"-",{"$f":"IF(J113=\"-\",0,J113)","v":0},"-",{"$f":"IF(L113=\"-\",0,L113)","v":0},null,{"$f":"E113+G113+I113+K113+M113","v":0},{"$f":"MAX(D113,F113,H113,J113,L113)","v":0},{"$f":"IF(S113=1,O113,IF(S113=0,(O113-P113),\"-\"))","v":"-"},{"$f":"COUNTIF(U113:AD113,\"=TRUE\")","v":0},{"$f":"AE$1-R113","v":5},{"$f":"IF(S113<2,\"Yes\",\"No\")","v":"No"},{"$f":"IF(D113=\"-\",1,0)*U$1","v":1},{"$f":"AND(U113=0,U$1=1)","v":false},{"$f":"IF(F113=\"-\",1,0)*W$1","v":1},{"$f":"AND(W113=0,W$1=1)","v":false},{"$f":"IF(H113=\"-\",1,0)*Y$1","v":1},{"$f":"AND(Y113=0,Y$1=1)","v":false},{"$f":"IF(J113=\"-\",1,0)*AA$1","v":1},{"$f":"AND(AA113=0,AA$1=1)","v":false},{"$f":"IF(L113=\"-\",1,0)*AC$1","v":1},{"$f":"AND(AC113=0,AC$1=1)","v":false}]
[111,null,"-","-",{"$f":"IF(D114=\"-\",0,D114)","v":0},"-",{"$f":"IF(F114=\"-\",0,F114)","v":0},"-",{"$f":"IF(H114=\"-\",0,H114)","v":0},"-",{"$f":"IF(J114=\"-\",0,J114)","v":0},"-",{"$f":"IF(L114=\"-\",0,L114)","v":0},null,{"$f":"E114+G114+I114+K114+M114","v":0},{"$f":"MAX(D114,F114,H114,J114,L114)","v":0},{"$f":"IF(S114=1,O114,IF(S114=0,(O114-P114),\"-\"))","v":"-"},{"$f":"COUNTIF(U114:AD114,\"=TRUE\")","v":0},{"$f":"AE$1-R114","v":5},{"$f":"IF(S114<2,\"Yes\",\"No\")","v":"No"},{"$f":"IF(D114=\"-\",1,0)*U$1","v":1},{"$f":"AND(U114=0,U$1=1)","v":false},{"$f":"IF(F114=\"-\",1,0)*W$1","v":1},{"$f":"AND(W114=0,W$1=1)","v":false},{"$f":"IF(H114=\"-\",1,0)*Y$1","v":1},{"$f":"AND(Y114=0,Y$1=1)","v":false},{"$f":"IF(J114=\"-\",1,0)*AA$1","v":1},{"$f":"AND(AA114=0,AA$1=1)","v":false},{"$f":"IF(L114=\"-\",1,0)*AC$1","v":1},{"$f":"AND(AC114=0,AC$1=1)","v":false}]
[112,null,"-","-",{"$f":"IF(D115=\"-\",0,D115)","v":0},"-",{"$f":"IF(F115=\"-\",0,F115)","v":0},"-",{"$f":"IF(H115=\"-\",0,H115)","v":0},"-",{"$f":"IF(J115=\"-\",0,J115)","v":0},"-",{"$f":"IF(L115=\"-\",0,L115)","v":0},null,{"$f":"E115+G115+I115+K115+M115","v":0},{"$f":"MAX(D115,F115,H115,J115,L115)","v":0},{"$f":"IF(S115=1,O115,IF(S115=0,(O115-P115),\"-\"))","v":"-"},{"$f":"COUNTIF(U115:AD115,\"=TRUE\")","v":0},{"$f":"AE$1-R115","v":5},{"$f":"IF(S115<2,\"Yes\",\"No\")","v":"No"},{"$f":"IF(D115=\"-\",1,0)*U$1","v":1},{"$f":"AND(U115=0,U$1=1)","v":false},{"$f":"IF(F115=\"-\",1,0)*W$1","v":1},{"$f":"AND(W115=0,W$1=1)","v":false},{"$f":"IF(H115=\"-\",1,0)*Y$1","v":1},{"$f":"AND(Y115=0,Y$1=1)","v":false},{"$f":"IF(J115=\"-\",1,0)*AA$1","v":1},{"$f":"AND(AA115=0,AA$1=1)","v":false},{"$f":"IF(L115=\"-\",1,0)*AC$1","v":1},{"$f":"AND(AC115=0,AC$1=1)","v":false}]
[113,null,"-","-",{"$f":"IF(D116=\"-\",0,D116)","v":0},"-",{"$f":"IF(F116=\"-\",0,F116)","v":0},"-",{"$f":"IF(H116=\"-\",0,H116)","v":0},"-",{"$f":"IF(J116=\"-\",0,J116)","v":0},"-",{"$f":"IF(L116=\"-\",0,L116)","v":0},null,{"$f":"E116+G116+I116+K116+M116","v":0},{"$f":"MAX(D116,F116,H116,J116,L116)","v":0},{"$f":"IF(S116=1,O116,IF(S116=0,(O116-P116),\"-\"))","v":"-"},{"$f":"COUNTIF(U116:AD116,\"=TRUE\")","v":0},{"$f":"AE$1-R116","v":5},{"$f":"IF(S116<2,\"Yes\",\"No\")","v":"No"},{"$f":"IF(D116=\"-\",1,0)*U$1","v":1},{"$f":"AND(U116=0,U$1=1)","v":false},{"$f":"IF(F116=\"-\",1,0)*W$1","v":1},{"$f":"AND(W116=0,W$1=1)","v":false},{"$f":"IF(H116=\"-\",1,0)*Y$1","v":1},{"$f":"AND(Y116=0,Y$1=1)","v":false},{"$f":"IF(J116=\"-\",1,0)*AA$1","v":1},{"$f":"AND(AA116=0,AA$1=1)","v":false},{"$f":"IF(L116=\"-\",1,0)*AC$1","v":1},{"$f":"AND(AC116=0,AC$1=1)","v":false}]
[114,null,"-","-",{"$f":"IF(D117=\"-\",0,D117)","v":0},"-",{"$f":"IF(F117=\"-\",0,F117)","v":0},"-",{"$f":"IF(H117=\"-\",0,H117)","v":0},"-",{"$f":"IF(J117=\"-\",0,J117)","v":0},"-",{"$f":"IF(L117=\"-\",0,L117)","v":0},null,{"$f":"E117+G117+I117+K117+M117","v":0},{"$f":"MAX(D117,F117,H117,J117,L117)","v":0},{"$f":"IF(S117=1,O117,IF(S117=0,(O117-P117),\"-\"))","v":"-"},{"$f":"COUNTIF(U117:AD117,\"=TRUE\")","v":0},{"$f":"AE$1-R117","v":5},{"$f":"IF(S117<2,\"Yes\",\"No\")","v":"No"},{"$f":"IF(D117=\"-\",1,0)*U$1","v":1},{"$f":"AND(U117=0,U$1=1)","v":false},{"$f":"IF(F117=\"-\",1,0)*W$1","v":1},{"$f":"AND(W117=0,W$1=1)","v":false},{"$f":"IF(H117=\"-\",1,0)*Y$1","v":1},{"$f":"AND(Y117=0,Y$1=1)","v":false},{"$f":"IF(J117=\"-\",1,0)*AA$1","v":1},{"$f":"AND(AA117=0,AA$1=1)","v":false},{"$f":"IF(L117=\"-\",1,0)*AC$1","v":1},{"$f":"AND(AC117=0,AC$1=1)","v":false}]
[115,null,"-","-",{"$f":"IF(D118=\"-\",0,D118)","v":0},"-",{"$f":"IF(F118=\"-\",0,F118)","v":0},"-",{"$f":"IF(H118=\"-\",0,H118)","v":0},"-",{"$f":"IF(J118=\"-\",0,J118)","v":0},"-",{"$f":"IF(L118=\"-\",0,L118)","v":0},null,{"$f":"E118+G118+I118+K118+M118","v":0},{"$f":"MAX(D118,F118,H118,J118,L118)","v":0},{"$f":"IF(S118=1,O118,IF(S118=0,(O118-P118),\"-\"))","v":"-"},{"$f":"COUNTIF(U118:AD118,\"=TRUE\")","v":0},{"$f":"AE$1-R118","v":5},{"$f":"IF(S118<2,\"Yes\",\"No\")","v":"No"},{"$f":"IF(D118=\"-\",1,0)*U$1","v":1},{"$f":"AND(U118=0,U$1=1)","v":false},{"$f":"IF(F118=\"-\",1,0)*W$1","v":1},{"$f":"AND(W118=0,W$1=1)","v":false},{"$f":"IF(H118=\"-\",1,0)*Y$1","v":1},{"$f":"AND(Y118=0,Y$1=1)","v":false},{"$f":"IF(J118=\"-\",1,0)*AA$1","v":1},{"$f":"AND(AA118=0,AA$1=1)","v":false},{"$f":"IF(L118=\"-\",1,0)*AC$1","v":1},{"$f":"AND(AC118=0,AC$1=1)","v":false}]
[116,null,"-","-",{"$f":"IF(D119=\"-\",0,D119)","v":0},"-",{"$f":"IF(F119=\"-\",0,F119)","v":0},"-",{"$f":"IF(H119=\"-\",0,H119)","v":0},"-",{"$f":"IF(J119=\"-\",0,J119)","v":0},"-",{"$f":"IF(L119=\"-\",0,L119)","v":0},null,{"$f":"E119+G119+I119+K119+M119","v":0},{"$f":"MAX(D119,F119,H119,J119,L119)","v":0},{"$f":"IF(S119=1,O119,IF(S119=0,(O119-P119),\"-\"))","v":"-"},{"$f":"COUNTIF(U119:AD119,\"=TRUE\")","v":0},{"$f":"AE$1-R119","v":5},{"$f":"IF(S119<2,\"Yes\",\"No\")","v":"No"},{"$f":"IF(D119=\"-\",1,0)*U$1","v":1},{"$f":"AND(U119=0,U$1=1)","v":false},{"$f":"IF(F119=\"-\",1,0)*W$1","v":1},{"$f":"AND(W119=0,W$1=1)","v":false},{"$f":"IF(H119=\"-\",1,0)*Y$1","v":1},{"$f":"AND(Y119=0,Y$1=1)","v":false},{"$f":"IF(J119=\"-\",1,0)*AA$1","v":1},{"$f":"AND(AA119=0,AA$1=1)","v":false},{"$f":"IF(L119=\"-\",1,0)*AC$1","v":1},{"$f":"AND(AC119=0,AC$1=1)","v":false}]
[117,null,"-","-",{"$f":"IF(D120=\"-\",0,D120)","v":0},"-",{"$f":"IF(F120=\"-\",0,F120)","v":0},"-",{"$f":"IF(H120=\"-\",0,H120)","v":0},"-",{"$f":"IF(J120=\"-\",0,J120)","v":0},"-",{"$f":"IF(L120=\"-\",0,L120)","v":0},null,{"$f":"E120+G120+I120+K120+M120","v":0},{"$f":"MAX(D120,F120,H120,J120,L120)","v":0},{"$f":"IF(S120=1,O120,IF(S120=0,(O120-P120),\"-\"))","v":"-"},{"$f":"COUNTIF(U120:AD120,\"=TRUE\")","v":0},{"$f":"AE$1-R120","v":5},{"$f":"IF(S120<2,\"Yes\",\"No\")","v":"No"},{"$f":"IF(D120=\"-\",1,0)*U$1","v":1},{"$f":"AND(U120=0,U$1=1)","v":false},{"$f":"IF(F120=\"-\",1,0)*W$1","v":1},{"$f":"AND(W120=0,W$1=1)","v":false},{"$f":"IF(H120=\"-\",1,0)*Y$1","v":1},{"$f":"AND(Y120=0,Y$1=1)","v":false},{"$f":"IF(J120=\"-\",1,0)*AA$1","v":1},{"$f":"AND(AA120=0,AA$1=1)","v":false},{"$f":"IF(L120=\"-\",1,0)*AC$1","v":1},{"$f":"AND(AC120=0,AC$1=1)","v":false}]
[118,null,"-","-",{"$f":"IF(D121=\"-\",0,D121)","v":0},"-",{"$f":"IF(F121=\"-\",0,F121)","v":0},"-",{"$f":"IF(H121=\"-\",0,H121)","v":0},"-",{"$f":"IF(J121=\"-\",0,J121)","v":0},"-",{"$f":"IF(L121=\"-\",0,L121)","v":0},null,{"$f":"E121+G121+I121+K121+M121","v":0},{"$f":"MAX(D121,F121,H121,J121,L121)","v":0},{"$f":"IF(S121=1,O121,IF(S121=0,(O121-P121),\"-\"))","v":"-"},{"$f":"COUNTIF(U121:AD121,\"=TRUE\")","v":0},{"$f":"AE$1-R121","v":5},{"$f":"IF(S121<2,\"Yes\",\"No\")","v":"No"},{"$f":"IF(D121=\"-\",1,0)*U$1","v":1},{"$f":"AND(U121=0,U$1=1)","v":false},{"$f":"IF(F121=\"-\",1,0)*W$1","v":1},{"$f":"AND(W121=0,W$1=1)","v":false},{"$f":"IF(H121=\"-\",1,0)*Y$1","v":1},{"$f":"AND(Y121=0,Y$1=1)","v":false},{"$f":"IF(J121=\"-\",1,0)*AA$1","v":1},{"$f":"AND(AA121=0,AA$1=1)","v":false},{"$f":"IF(L121=\"-\",1,0)*AC$1","v":1},{"$f":"AND(AC121=0,AC$1=1)","v":false}]
[119,null,"-","-",{"$f":"IF(D122=\"-\",0,D122)","v":0},"-",{"$f":"IF(F122=\"-\",0,F122)","v":0},"-",{"$f":"IF(H122=\"-\",0,H122)","v":0},"-",{"$f":"IF(J122=\"-\",0,J122)","v":0},"-",{"$f":"IF(L122=\"-\",0,L122)","v":0},null,{"$f":"E122+G122+I122+K122+M122","v":0},{"$f":"MAX(D122,F122,H122,J122,L122)","v":0},{"$f":"IF(S122=1,O122,IF(S122=0,(O122-P122),\"-\"))","v":"-"},{"$f":"COUNTIF(U122:AD122,\"=TRUE\")","v":0},{"$f":"AE$1-R122","v":5},{"$f":"IF(S122<2,\"Yes\",\"No\")","v":"No"},{"$f":"IF(D122=\"-\",1,0)*U$1","v":1},{"$f":"AND(U122=0,U$1=1)","v":false},{"$f":"IF(F122=\"-\",1,0)*W$1","v":1},{"$f":"AND(W122=0,W$1=1)","v":false},{"$f":"IF(H122=\"-\",1,0)*Y$1","v":1},{"$f":"AND(Y122=0,Y$1=1)","v":false},{"$f":"IF(J122=\"-\",1,0)*AA$1","v":1},{"$f":"AND(AA122=0,AA$1=1)","v":false},{"$f":"IF(L122=\"-\",1,0)*AC$1","v":1},{"$f":"AND(AC122=0,AC$1=1)","v":false}]
[120,null,"-","-",{"$f":"IF(D123=\"-\",0,D123)","v":0},"-",{"$f":"IF(F123=\"-\",0,F123)","v":0},"-",{"$f":"IF(H123=\"-\",0,H123)","v":0},"-",{"$f":"IF(J123=\"-\",0,J123)","v":0},"-",{"$f":"IF(L123=\"-\",0,L123)","v":0},null,{"$f":"E123+G123+I123+K123+M123","v":0},{"$f":"MAX(D123,F123,H123,J123,L123)","v":0},{"$f":"IF(S123=1,O123,IF(S123=0,(O123-P123),\"-\"))","v":"-"},{"$f":"COUNTIF(U123:AD123,\"=TRUE\")","v":0},{"$f":"AE$1-R123","v":5},{"$f":"IF(S123<2,\"Yes\",\"No\")","v":"No"},{"$f":"IF(D123=\"-\",1,0)*U$1","v":1},{"$f":"AND(U123=0,U$1=1)","v":false},{"$f":"IF(F123=\"-\",1,0)*W$1","v":1},{"$f":"AND(W123=0,W$1=1)","v":false},{"$f":"IF(H123=\"-\",1,0)*Y$1","v":1},{"$f":"AND(Y123=0,Y$1=1)","v":false},{"$f":"IF(J123=\"-\",1,0)*AA$1","v":1},{"$f":"AND(AA123=0,AA$1=1)","v":false},{"$f":"IF(L123=\"-\",1,0)*AC$1","v":1},{"$f":"AND(AC123=0,AC$1=1)","v":false}]
[121,null,"-","-",{"$f":"IF(D124=\"-\",0,D124)","v":0},"-",{"$f":"IF(F124=\"-\",0,F124)","v":0},"-",{"$f":"IF(H124=\"-\",0,H124)","v":0},"-",{"$f":"IF(J124=\"-\",0,J124)","v":0},"-",{"$f":"IF(L124=\"-\",0,L124)","v":0},null,{"$f":"E124+G124+I124+K124+M124","v":0},{"$f":"MAX(D124,F124,H124,J124,L124)","v":0},{"$f":"IF(S124=1,O124,IF(S124=0,(O124-P124),\"-\"))","v":"-"},{"$f":"COUNTIF(U124:AD124,\"=TRUE\")","v":0},{"$f":"AE$1-R124","v":5},{"$f":"IF(S124<2,\"Yes\",\"No\")","v":"No"},{"$f":"IF(D124=\"-\",1,0)*U$1","v":1},{"$f":"AND(U124=0,U$1=1)","v":false},{"$f":"IF(F124=\"-\",1,0)*W$1","v":1},{"$f":"AND(W124=0,W$1=1)","v":false},{"$f":"IF(H124=\"-\",1,0)*Y$1","v":1},{"$f":"AND(Y124=0,Y$1=1)","v":false},{"$f":"IF(J124=\"-\",1,0)*AA$1","v":1},{"$f":"AND(AA124=0,AA$1=1)","v":false},{"$f":"IF(L124=\"-\",1,0)*AC$1","v":1},{"$f":"AND(AC124=0,AC$1=1)","v":false}]
[122,null,"-","-",{"$f":"IF(D125=\"-\",0,D125)","v":0},"-",{"$f":"IF(F125=\"-\",0,F125)","v":0},"-",{"$f":"IF(H125=\"-\",0,H125)","v":0},"-",{"$f":"IF(J125=\"-\",0,J125)","v":0},"-",{"$f":"IF(L125=\"-\",0,L125)","v":0},null,{"$f":"E125+G125+I125+K125+M125","v":0},{"$f":"MAX(D125,F125,H125,J125,L125)","v":0},{"$f":"IF(S125=1,O125,IF(S125=0,(O125-P125),\"-\"))","v":"-"},{"$f":"COUNTIF(U125:AD125,\"=TRUE\")","v":0},{"$f":"AE$1-R125","v":5},{"$f":"IF(S125<2,\"Yes\",\"No\")","v":"No"},{"$f":"IF(D125=\"-\",1,0)*U$1","v":1},{"$f":"AND(U125=0,U$1=1)","v":false},{"$f":"IF(F125=\"-\",1,0)*W$1","v":1},{"$f":"AND(W125=0,W$1=1)","v":false},{"$f":"IF(H125=\"-\",1,0)*Y$1","v":1},{"$f":"AND(Y125=0,Y$1=1)","v":false},{"$f":"IF(J125=\"-\",1,0)*AA$1","v":1},{"$f":"AND(AA125=0,AA$1=1)","v":false},{"$f":"IF(L125=\"-\",1,0)*AC$1","v":1},{"$f":"AND(AC125=0,AC$1=1)","v":false}]
[123,null,"-","-",{"$f":"IF(D126=\"-\",0,D126)","v":0},"-",{"$f":"IF(F126=\"-\",0,F126)","v":0},"-",{"$f":"IF(H126=\"-\",0,H126)","v":0},"-",{"$f":"IF(J126=\"-\",0,J126)","v":0},"-",{"$f":"IF(L126=\"-\",0,L126)","v":0},null,{"$f":"E126+G126+I126+K126+M126","v":0},{"$f":"MAX(D126,F126,H126,J126,L126)","v":0},{"$f":"IF(S126=1,O126,IF(S126=0,(O126-P126),\"-\"))","v":"-"},{"$f":"COUNTIF(U126:AD126,\"=TRUE\")","v":0},{"$f":"AE$1-R126","v":5},{"$f":"IF(S126<2,\"Yes\",\"No\")","v":"No"},{"$f":"IF(D126=\"-\",1,0)*U$1","v":1},{"$f":"AND(U126=0,U$1=1)","v":false},{"$f":"IF(F126=\"-\",1,0)*W$1","v":1},{"$f":"AND(W126=0,W$1=1)","v":false},{"$f":"IF(H126=\"-\",1,0)*Y$1","v":1},{"$f":"AND(Y126=0,Y$1=1)","v":false},{"$f":"IF(J126=\"-\",1,0)*AA$1","v":1},{"$f":"AND(AA126=0,AA$1=1)","v":false},{"$f":"IF(L126=\"-\",1,0)*AC$1","v":1},{"$f":"AND(AC126=0,AC$1=1)","v":false}]
[124,null,"-","-",{"$f":"IF(D127=\"-\",0,D127)","v":0},"-",{"$f":"IF(F127=\"-\",0,F127)","v":0},"-",{"$f":"IF(H127=\"-\",0,H127)","v":0},"-",{"$f":"IF(J127=\"-\",0,J127)","v":0},"-",{"$f":"IF(L127=\"-\",0,L127)","v":0},null,{"$f":"E127+G127+I127+K127+M127","v":0},{"$f":"MAX(D127,F127,H127,J127,L127)","v":0},{"$f":"IF(S127=1,O127,IF(S127=0,(O127-P127),\"-\"))","v":"-"},{"$f":"COUNTIF(U127:AD127,\"=TRUE\")","v":0},{"$f":"AE$1-R127","v":5},{"$f":"IF(S127<2,\"Yes\",\"No\")","v":"No"},{"$f":"IF(D127=\"-\",1,0)*U$1","v":1},{"$f":"AND(U127=0,U$1=1)","v":false},{"$f":"IF(F127=\"-\",1,0)*W$1","v":1},{"$f":"AND(W127=0,W$1=1)","v":false},{"$f":"IF(H127=\"-\",1,0)*Y$1","v":1},{"$f":"AND(Y127=0,Y$1=1)","v":false},{"$f":"IF(J127=\"-\",1,0)*AA$1","v":1},{"$f":"AND(AA127=0,AA$1=1)","v":false},{"$f":"IF(L127=\"-\",1,0)*AC$1","v":1},{"$f":"AND(AC127=0,AC$1=1)","v":false}]
[125,null,"-","-",{"$f":"IF(D128=\"-\",0,D128)","v":0},"-",{"$f":"IF(F128=\"-\",0,F128)","v":0},"-",{"$f":"IF(H128=\"-\",0,H128)","v":0},"-",{"$f":"IF(J128=\"-\",0,J128)","v":0},"-",{"$f":"IF(L128=\"-\",0,L128)","v":0},null,{"$f":"E128+G128+I128+K128+M128","v":0},{"$f":"MAX(D128,F128,H128,J128,L128)","v":0},{"$f":"IF(S128=1,O128,IF(S128=0,(O128-P128),\"-\"))","v":"-"},{"$f":"COUNTIF(U128:AD128,\"=TRUE\")","v":0},{"$f":"AE$1-R128","v":5},{"$f":"IF(S128<2,\"Yes\",\"No\")","v":"No"},{"$f":"IF(D128=\"-\",1,0)*U$1","v":1},{"$f":"AND(U128=0,U$1=1)","v":false},{"$f":"IF(F128=\"-\",1,0)*W$1","v":1},{"$f":"AND(W128=0,W$1=1)","v":false},{"$f":"IF(H128=\"-\",1,0)*Y$1","v":1},{"$f":"AND(Y128=0,Y$1=1)","v":false},{"$f":"IF(J128=\"-\",1,0)*AA$1","v":1},{"$f":"AND(AA128=0,AA$1=1)","v":false},{"$f":"IF(L128=\"-\",1,0)*AC$1","v":1},{"$f":"AND(AC128=0,AC$1=1)","v":false}]
[126,null,"-","-",{"$f":"IF(D129=\"-\",0,D129)","v":0},"-",{"$f":"IF(F129=\"-\",0,F129)","v":0},"-",{"$f":"IF(H129=\"-\",0,H129)","v":0},"-",{"$f":"IF(J129=\"-\",0,J129)","v":0},"-",{"$f":"IF(L129=\"-\",0,L129)","v":0},null,{"$f":"E129+G129+I129+K129+M129","v":0},{"$f":"MAX(D129,F129,H129,J129,L129)","v":0},{"$f":"IF(S129=1,O129,IF(S129=0,(O129-P129),\"-\"))","v":"-"},{"$f":"COUNTIF(U129:AD129,\"=TRUE\")","v":0},{"$f":"AE$1-R129","v":5},{"$f":"IF(S129<2,\"Yes\",\"No\")","v":"No"},{"$f":"IF(D129=\"-\",1,0)*U$1","v":1},{"$f":"AND(U129=0,U$1=1)","v":false},{"$f":"IF(F129=\"-\",1,0)*W$1","v":1},{"$f":"AND(W129=0,W$1=1)","v":false},{"$f":"IF(H129=\"-\",1,0)*Y$1","v":1},{"$f":"AND(Y129=0,Y$1=1)","v":false},{"$f":"IF(J129=\"-\",1,0)*AA$1","v":1},{"$f":"AND(AA129=0,AA$1=1)","v":false},{"$f":"IF(L129=\"-\",1,0)*AC$1","v":1},{"$f":"AND(AC129=0,AC$1=1)","v":false}]
[127,null,"-","-",{"$f":"IF(D130=\"-\",0,D130)","v":0},"-",{"$f":"IF(F130=\"-\",0,F130)","v":0},"-",{"$f":"IF(H130=\"-\",0,H130)","v":0},"-",{"$f":"IF(J130=\"-\",0,J130)","v":0},"-",{"$f":"IF(L130=\"-\",0,L130)","v":0},null,{"$f":"E130+G130+I130+K130+M130","v":0},{"$f":"MAX(D130,F130,H130,J130,L130)","v":0},{"$f":"IF(S130=1,O130,IF(S130=0,(O130-P130),\"-\"))","v":"-"},{"$f":"COUNTIF(U130:AD130,\"=TRUE\")","v":0},{"$f":"AE$1-R130","v":5},{"$f":"IF(S130<2,\"Yes\",\"No\")","v":"No"},{"$f":"IF(D130=\"-\",1,0)*U$1","v":1},{"$f":"AND(U130=0,U$1=1)","v":false},{"$f":"IF(F130=\"-\",1,0)*W$1","v":1},{"$f":"AND(W130=0,W$1=1)","v":false},{"$f":"IF(H130=\"-\",1,0)*Y$1","v":1},{"$f":"AND(Y130=0,Y$1=1)","v":false},{"$f":"IF(J130=\"-\",1,0)*AA$1","v":1},{"$f":"AND(AA130=0,AA$1=1)","v":false},{"$f":"IF(L130=\"-\",1,0)*AC$1","v":1},{"$f":"AND(AC130=0,AC$1=1)","v":false}]
[128,null,"-","-",{"$f":"IF(D131=\"-\",0,D131)","v":0},"-",{"$f":"IF(F131=\"-\",0,F131)","v":0},"-",{"$f":"IF(H131=\"-\",0,H131)","v":0},"-",{"$f":"IF(J131=\"-\",0,J131)","v":0},"-",{"$f":"IF(L131=\"-\",0,L131)","v":0},null,{"$f":"E131+G131+I131+K131+M131","v":0},{"$f":"MAX(D131,F131,H131,J131,L131)","v":0},{"$f":"IF(S131=1,O131,IF(S131=0,(O131-P131),\"-\"))","v":"-"},{"$f":"COUNTIF(U131:AD131,\"=TRUE\")","v":0},{"$f":"AE$1-R131","v":5},{"$f":"IF(S131<2,\"Yes\",\"No\")","v":"No"},{"$f":"IF(D131=\"-\",1,0)*U$1","v":1},{"$f":"AND(U131=0,U$1=1)","v":false},{"$f":"IF(F131=\"-\",1,0)*W$1","v":1},{"$f":"AND(W131=0,W$1=1)","v":false},{"$f":"IF(H131=\"-\",1,0)*Y$1","v":1},{"$f":"AND(Y131=0,Y$1=1)","v":false},{"$f":"IF(J131=\"-\",1,0)*AA$1","v":1},{"$f":"AND(AA131=0,AA$1=1)","v":false},{"$f":"IF(L131=\"-\",1,0)*AC$1","v":1},{"$f":"AND(AC131=0,AC$1=1)","v":false}]
[129,null,"-","-",{"$f":"IF(D132=\"-\",0,D132)","v":0},"-",{"$f":"IF(F132=\"-\",0,F132)","v":0},"-",{"$f":"IF(H132=\"-\",0,H132)","v":0},"-",{"$f":"IF(J132=\"-\",0,J132)","v":0},"-",{"$f":"IF(L132=\"-\",0,L132)","v":0},null,{"$f":"E132+G132+I132+K132+M132","v":0},{"$f":"MAX(D132,F132,H132,J132,L132)","v":0},{"$f":"IF(S132=1,O132,IF(S132=0,(O132-P132),\"-\"))","v":"-"},{"$f":"COUNTIF(U132:AD132,\"=TRUE\")","v":0},{"$f":"AE$1-R132","v":5},{"$f":"IF(S132<2,\"Yes\",\"No\")","v":"No"},{"$f":"IF(D132=\"-\",1,0)*U$1","v":1},{"$f":"AND(U132=0,U$1=1)","v":false},{"$f":"IF(F132=\"-\",1,0)*W$1","v":1},{"$f":"AND(W132=0,W$1=1)","v":false},{"$f":"IF(H132=\"-\",1,0)*Y$1","v":1},{"$f":"AND(Y132=0,Y$1=1)","v":false},{"$f":"IF(J132=\"-\",1,0)*AA$1","v":1},{"$f":"AND(AA132=0,AA$1=1)","v":false},{"$f":"IF(L132=\"-\",1,0)*AC$1","v":1},{"$f":"AND(AC132=0,AC$1=1)","v":false}]
[130,null,"-","-",{"$f":"IF(D133=\"-\",0,D133)","v":0},"-",{"$f":"IF(F133=\"-\",0,F133)","v":0},"-",{"$f":"IF(H133=\"-\",0,H133)","v":0},"-",{"$f":"IF(J133=\"-\",0,J133)","v":0},"-",{"$f":"IF(L133=\"-\",0,L133)","v":0},null,{"$f":"E133+G133+I133+K133+M133","v":0},{"$f":"MAX(D133,F133,H133,J133,L133)","v":0},{"$f":"IF(S133=1,O133,IF(S133=0,(O133-P133),\"-\"))","v":"-"},{"$f":"COUNTIF(U133:AD133,\"=TRUE\")","v":0},{"$f":"AE$1-R133","v":5},{"$f":"IF(S133<2,\"Yes\",\"No\")","v":"No"},{"$f":"IF(D133=\"-\",1,0)*U$1","v":1},{"$f":"AND(U133=0,U$1=1)","v":false},{"$f":"IF(F133=\"-\",1,0)*W$1","v":1},{"$f":"AND(W133=0,W$1=1)","v":false},{"$f":"IF(H133=\"-\",1,0)*Y$1","v":1},{"$f":"AND(Y133=0,Y$1=1)","v":false},{"$f":"IF(J133=\"-\",1,0)*AA$1","v":1},{"$f":"AND(AA133=0,AA$1=1)","v":false},{"$f":"IF(L133=\"-\",1,0)*AC$1","v":1},{"$f":"AND(AC133=0,AC$1=1)","v":false}]
[131,null,"-","-",{"$f":"IF(D134=\"-\",0,D134)","v":0},"-",{"$f":"IF(F134=\"-\",0,F134)","v":0},"-",{"$f":"IF(H134=\"-\",0,H134)","v":0},"-",{"$f":"IF(J134=\"-\",0,J134)","v":0},"-",{"$f":"IF(L134=\"-\",0,L134)","v":0},null,{"$f":"E134+G134+I134+K134+M134","v":0},{"$f":"MAX(D134,F134,H134,J134,L134)","v":0},{"$f":"IF(S134=1,O134,IF(S134=0,(O134-P134),\"-\"))","v":"-"},{"$f":"COUNTIF(U134:AD134,\"=TRUE\")","v":0},{"$f":"AE$1-R134","v":5},{"$f":"IF(S134<2,\"Yes\",\"No\")","v":"No"},{"$f":"IF(D134=\"-\",1,0)*U$1","v":1},{"$f":"AND(U134=0,U$1=1)","v":false},{"$f":"IF(F134=\"-\",1,0)*W$1","v":1},{"$f":"AND(W134=0,W$1=1)","v":false},{"$f":"IF(H134=\"-\",1,0)*Y$1","v":1},{"$f":"AND(Y134=0,Y$1=1)","v":false},{"$f":"IF(J134=\"-\",1,0)*AA$1","v":1},{"$f":"AND(AA134=0,AA$1=1)","v":false},{"$f":"IF(L134=\"-\",1,0)*AC$1","v":1},{"$f":"AND(AC134=0,AC$1=1)","v":false}]
[132,null,"-","-",{"$f":"IF(D135=\"-\",0,D135)","v":0},"-",{"$f":"IF(F135=\"-\",0,F135)","v":0},"-",{"$f":"IF(H135=\"-\",0,H135)","v":0},"-",{"$f":"IF(J135=\"-\",0,J135)","v":0},"-",{"$f":"IF(L135=\"-\",0,L135)","v":0},null,{"$f":"E135+G135+I135+K135+M135","v":0},{"$f":"MAX(D135,F135,H135,J135,L135)","v":0},{"$f":"IF(S135=1,O135,IF(S135=0,(O135-P135),\"-\"))","v":"-"},{"$f":"COUNTIF(U135:AD135,\"=TRUE\")","v":0},{"$f":"AE$1-R135","v":5},{"$f":"IF(S135<2,\"Yes\",\"No\")","v":"No"},{"$f":"IF(D135=\"-\",1,0)*U$1","v":1},{"$f":"AND(U135=0,U$1=1)","v":false},{"$f":"IF(F135=\"-\",1,0)*W$1","v":1},{"$f":"AND(W135=0,W$1=1)","v":false},{"$f":"IF(H135=\"-\",1,0)*Y$1","v":1},{"$f":"AND(Y135=0,Y$1=1)","v":false},{"$f":"IF(J135=\"-\",1,0)*AA$1","v":1},{"$f":"AND(AA135=0,AA$1=1)","v":false},{"$f":"IF(L135=\"-\",1,0)*AC$1","v":1},{"$f":"AND(AC135=0,AC$1=1)","v":false}]
[133,null,"-","-",{"$f":"IF(D136=\"-\",0,D136)","v":0},"-",{"$f":"IF(F136=\"-\",0,F136)","v":0},"-",{"$f":"IF(H136=\"-\",0,H136)","v":0},"-",{"$f":"IF(J136=\"-\",0,J136)","v":0},"-",{"$f":"IF(L136=\"-\",0,L136)","v":0},null,{"$f":"E136+G136+I136+K136+M136","v":0},{"$f":"MAX(D136,F136,H136,J136,L136)","v":0},{"$f":"IF(S136=1,O136,IF(S136=0,(O136-P136),\"-\"))","v":"-"},{"$f":"COUNTIF(U136:AD136,\"=TRUE\")","v":0},{"$f":"AE$1-R136","v":5},{"$f":"IF(S136<2,\"Yes\",\"No\")","v":"No"},{"$f":"IF(D136=\"-\",1,0)*U$1","v":1},{"$f":"AND(U136=0,U$1=1)","v":false},{"$f":"IF(F136=\"-\",1,0)*W$1","v":1},{"$f":"AND(W136=0,W$1=1)","v":false},{"$f":"IF(H136=\"-\",1,0)*Y$1","v":1},{"$f":"AND(Y136=0,Y$1=1)","v":false},{"$f":"IF(J136=\"-\",1,0)*AA$1","v":1},{"$f":"AND(AA136=0,AA$1=1)","v":false},{"$f":"IF(L136=\"-\",1,0)*AC$1","v":1},{"$f":"AND(AC136=0,AC$1=1)","v":false}]
[134,null,"-","-",{"$f":"IF(D137=\"-\",0,D137)","v":0},"-",{"$f":"IF(F137=\"-\",0,F137)","v":0},"-",{"$f":"IF(H137=\"-\",0,H137)","v":0},"-",{"$f":"IF(J137=\"-\",0,J137)","v":0},"-",{"$f":"IF(L137=\"-\",0,L137)","v":0},null,{"$f":"E137+G137+I137+K137+M137","v":0},{"$f":"MAX(D137,F137,H137,J137,L137)","v":0},{"$f":"IF(S137=1,O137,IF(S137=0,(O137-P137),\"-\"))","v":"-"},{"$f":"COUNTIF(U137:AD137,\"=TRUE\")","v":0},{"$f":"AE$1-R137","v":5},{"$f":"IF(S137<2,\"Yes\",\"No\")","v":"No"},{"$f":"IF(D137=\"-\",1,0)*U$1","v":1},{"$f":"AND(U137=0,U$1=1)","v":false},{"$f":"IF(F137=\"-\",1,0)*W$1","v":1},{"$f":"AND(W137=0,W$1=1)","v":false},{"$f":"IF(H137=\"-\",1,0)*Y$1","v":1},{"$f":"AND(Y137=0,Y$1=1)","v":false},{"$f":"IF(J137=\"-\",1,0)*AA$1","v":1},{"$f":"AND(AA137=0,AA$1=1)","v":false},{"$f":"IF(L137=\"-\",1,0)*AC$1","v":1},{"$f":"AND(AC137=0,AC$1=1)","v":false}]
[135,null,"-","-",{"$f":"IF(D138=\"-\",0,D138)","v":0},"-",{"$f":"IF(F138=\"-\",0,F138)","v":0},"-",{"$f":"IF(H138=\"-\",0,H138)","v":0},"-",{"$f":"IF(J138=\"-\",0,J138)","v":0},"-",{"$f":"IF(L138=\"-\",0,L138)","v":0},null,{"$f":"E138+G138+I138+K138+M138","v":0},{"$f":"MAX(D138,F138,H138,J138,L138)","v":0},{"$f":"IF(S138=1,O138,IF(S138=0,(O138-P138),\"-\"))","v":"-"},{"$f":"COUNTIF(U138:AD138,\"=TRUE\")","v":0},{"$f":"AE$1-R138","v":5},{"$f":"IF(S138<2,\"Yes\",\"No\")","v":"No"},{"$f":"IF(D138=\"-\",1,0)*U$1","v":1},{"$f":"AND(U138=0,U$1=1)","v":false},{"$f":"IF(F138=\"-\",1,0)*W$1","v":1},{"$f":"AND(W138=0,W$1=1)","v":false},{"$f":"IF(H138=\"-\",1,0)*Y$1","v":1},{"$f":"AND(Y138=0,Y$1=1)","v":false},{"$f":"IF(J138=\"-\",1,0)*AA$1","v":1},{"$f":"AND(AA138=0,AA$1=1)","v":false},{"$f":"IF(L138=\"-\",1,0)*AC$1","v":1},{"$f":"AND(AC138=0,AC$1=1)","v":false}]
[136,null,"-","-",{"$f":"IF(D139=\"-\",0,D139)","v":0},"-",{"$f":"IF(F139=\"-\",0,F139)","v":0},"-",{"$f":"IF(H139=\"-\",0,H139)","v":0},"-",{"$f":"IF(J139=\"-\",0,J139)","v":0},"-",{"$f":"IF(L139=\"-\",0,L139)","v":0},null,{"$f":"E139+G139+I139+K139+M139","v":0},{"$f":"MAX(D139,F139,H139,J139,L139)","v":0},{"$f":"IF(S139=1,O139,IF(S139=0,(O139-P139),\"-\"))","v":"-"},{"$f":"COUNTIF(U139:AD139,\"=TRUE\")","v":0},{"$f":"AE$1-R139","v":5},{"$f":"IF(S139<2,\"Yes\",\"No\")","v":"No"},{"$f":"IF(D139=\"-\",1,0)*U$1","v":1},{"$f":"AND(U139=0,U$1=1)","v":false},{"$f":"IF(F139=\"-\",1,0)*W$1","v":1},{"$f":"AND(W139=0,W$1=1)","v":false},{"$f":"IF(H139=\"-\",1,0)*Y$1","v":1},{"$f":"AND(Y139=0,Y$1=1)","v":false},{"$f":"IF(J139=\"-\",1,0)*AA$1","v":1},{"$f":"AND(AA139=0,AA$1=1)","v":false},{"$f":"IF(L139=\"-\",1,0)*AC$1","v":1},{"$f":"AND(AC139=0,AC$1=1)","v":false}]
[137,null,"-","-",{"$f":"IF(D140=\"-\",0,D140)","v":0},"-",{"$f":"IF(F140=\"-\",0,F140)","v":0},"-",{"$f":"IF(H140=\"-\",0,H140)","v":0},"-",{"$f":"IF(J140=\"-\",0,J140)","v":0},"-",{"$f":"IF(L140=\"-\",0,L140)","v":0},null,{"$f":"E140+G140+I140+K140+M140","v":0},{"$f":"MAX(D140,F140,H140,J140,L140)","v":0},{"$f":"IF(S140=1,O140,IF(S140=0,(O140-P140),\"-\"))","v":"-"},{"$f":"COUNTIF(U140:AD140,\"=TRUE\")","v":0},{"$f":"AE$1-R140","v":5},{"$f":"IF(S140<2,\"Yes\",\"No\")","v":"No"},{"$f":"IF(D140=\"-\",1,0)*U$1","v":1},{"$f":"AND(U140=0,U$1=1)","v":false},{"$f":"IF(F140=\"-\",1,0)*W$1","v":1},{"$f":"AND(W140=0,W$1=1)","v":false},{"$f":"IF(H140=\"-\",1,0)*Y$1","v":1},{"$f":"AND(Y140=0,Y$1=1)","v":false},{"$f":"IF(J140=\"-\",1,0)*AA$1","v":1},{"$f":"AND(AA140=0,AA$1=1)","v":false},{"$f":"IF(L140=\"-\",1,0)*AC$1","v":1},{"$f":"AND(AC140=0,AC$1=1)","v":false}]
[138,null,"-","-",{"$f":"IF(D141=\"-\",0,D141)","v":0},"-",{"$f":"IF(F141=\"-\",0,F141)","v":0},"-",{"$f":"IF(H141=\"-\",0,H141)","v":0},"-",{"$f":"IF(J141=\"-\",0,J141)","v":0},"-",{"$f":"IF(L141=\"-\",0,L141)","v":0},null,{"$f":"E141+G141+I141+K141+M141","v":0},{"$f":"MAX(D141,F141,H141,J141,L141)","v":0},{"$f":"IF(S141=1,O141,IF(S141=0,(O141-P141),\"-\"))","v":"-"},{"$f":"COUNTIF(U141:AD141,\"=TRUE\")","v":0},{"$f":"AE$1-R141","v":5},{"$f":"IF(S141<2,\"Yes\",\"No\")","v":"No"},{"$f":"IF(D141=\"-\",1,0)*U$1","v":1},{"$f":"AND(U141=0,U$1=1)","v":false},{"$f":"IF(F141=\"-\",1,0)*W$1","v":1},{"$f":"AND(W141=0,W$1=1)","v":false},{"$f":"IF(H141=\"-\",1,0)*Y$1","v":1},{"$f":"AND(Y141=0,Y$1=1)","v":false},{"$f":"IF(J141=\"-\",1,0)*AA$1","v":1},{"$f":"AND(AA141=0,AA$1=1)","v":false},{"$f":"IF(L141=\"-\",1,0)*AC$1","v":1},{"$f":"AND(AC141=0,AC$1=1)","v":false}]
[139,null,"-","-",{"$f":"IF(D142=\"-\",0,D142)","v":0},"-",{"$f":"IF(F142=\"-\",0,F142)","v":0},"-",{"$f":"IF(H142=\"-\",0,H142)","v":0},"-",{"$f":"IF(J142=\"-\",0,J142)","v":0},"-",{"$f":"IF(L142=\"-\",0,L142)","v":0},null,{"$f":"E142+G142+I142+K142+M142","v":0},{"$f":"MAX(D142,F142,H142,J142,L142)","v":0},{"$f":"IF(S142=1,O142,IF(S142=0,(O142-P142),\"-\"))","v":"-"},{"$f":"COUNTIF(U142:AD142,\"=TRUE\")","v":0},{"$f":"AE$1-R142","v":5},{"$f":"IF(S142<2,\"Yes\",\"No\")","v":"No"},{"$f":"IF(D142=\"-\",1,0)*U$1","v":1},{"$f":"AND(U142=0,U$1=1)","v":false},{"$f":"IF(F142=\"-\",1,0)*W$1","v":1},{"$f":"AND(W142=0,W$1=1)","v":false},{"$f":"IF(H142=\"-\",1,0)*Y$1","v":1},{"$f":"AND(Y142=0,Y$1=1)","v":false},{"$f":"IF(J142=\"-\",1,0)*AA$1","v":1},{"$f":"AND(AA142=0,AA$1=1)","v":false},{"$f":"IF(L142=\"-\",1,0)*AC$1","v":1},{"$f":"AND(AC142=0,AC$1=1)","v":false}]
[140,null,"-","-",{"$f":"IF(D143=\"-\",0,D143)","v":0},"-",{"$f":"IF(F143=\"-\",0,F143)","v":0},"-",{"$f":"IF(H143=\"-\",0,H143)","v":0},"-",{"$f":"IF(J143=\"-\",0,J143)","v":0},"-",{"$f":"IF(L143=\"-\",0,L143)","v":0},null,{"$f":"E143+G143+I143+K143+M143","v":0},{"$f":"MAX(D143,F143,H143,J143,L143)","v":0},{"$f":"IF(S143=1,O143,IF(S143=0,(O143-P143),\"-\"))","v":"-"},{"$f":"COUNTIF(U143:AD143,\"=TRUE\")","v":0},{"$f":"AE$1-R143","v":5},{"$f":"IF(S143<2,\"Yes\",\"No\")","v":"No"},{"$f":"IF(D143=\"-\",1,0)*U$1","v":1},{"$f":"AND(U143=0,U$1=1)","v":false},{"$f":"IF(F143=\"-\",1,0)*W$1","v":1},{"$f":"AND(W143=0,W$1=1)","v":false},{"$f":"IF(H143=\"-\",1,0)*Y$1","v":1},{"$f":"AND(Y143=0,Y$1=1)","v":false},{"$f":"IF(J143=\"-\",1,0)*AA$1","v":1},{"$f":"AND(AA143=0,AA$1=1)","v":false},{"$f":"IF(L143=\"-\",1,0)*AC$1","v":1},{"$f":"AND(AC143=0,AC$1=1)","v":false}]
[141,null,"-","-",{"$f":"IF(D144=\"-\",0,D144)","v":0},"-",{"$f":"IF(F144=\"-\",0,F144)","v":0},"-",{"$f":"IF(H144=\"-\",0,H144)","v":0},"-",{"$f":"IF(J144=\"-\",0,J144)","v":0},"-",{"$f":"IF(L144=\"-\",0,L144)","v":0},null,{"$f":"E144+G144+I144+K144+M144","v":0},{"$f":"MAX(D144,F144,H144,J144,L144)","v":0},{"$f":"IF(S144=1,O144,IF(S144=0,(O144-P144),\"-\"))","v":"-"},{"$f":"COUNTIF(U144:AD144,\"=TRUE\")","v":0},{"$f":"AE$1-R144","v":5},{"$f":"IF(S144<2,\"Yes\",\"No\")","v":"No"},{"$f":"IF(D144=\"-\",1,0)*U$1","v":1},{"$f":"AND(U144=0,U$1=1)","v":false},{"$f":"IF(F144=\"-\",1,0)*W$1","v":1},{"$f":"AND(W144=0,W$1=1)","v":false},{"$f":"IF(H144=\"-\",1,0)*Y$1","v":1},{"$f":"AND(Y144=0,Y$1=1)","v":false},{"$f":"IF(J144=\"-\",1,0)*AA$1","v":1},{"$f":"AND(AA144=0,AA$1=1)","v":false},{"$f":"IF(L144=\"-\",1,0)*AC$1","v":1},{"$f":"AND(AC144=0,AC$1=1)","v":false}]
[142,null,"-","-",{"$f":"IF(D145=\"-\",0,D145)","v":0},"-",{"$f":"IF(F145=\"-\",0,F145)","v":0},"-",{"$f":"IF(H145=\"-\",0,H145)","v":0},"-",{"$f":"IF(J145=\"-\",0,J145)","v":0},"-",{"$f":"IF(L145=\"-\",0,L145)","v":0},null,{"$f":"E145+G145+I145+K145+M145","v":0},{"$f":"MAX(D145,F145,H145,J145,L145)","v":0},{"$f":"IF(S145=1,O145,IF(S145=0,(O145-P145),\"-\"))","v":"-"},{"$f":"COUNTIF(U145:AD145,\"=TRUE\")","v":0},{"$f":"AE$1-R145","v":5},{"$f":"IF(S145<2,\"Yes\",\"No\")","v":"No"},{"$f":"IF(D145=\"-\",1,0)*U$1","v":1},{"$f":"AND(U145=0,U$1=1)","v":false},{"$f":"IF(F145=\"-\",1,0)*W$1","v":1},{"$f":"AND(W145=0,W$1=1)","v":false},{"$f":"IF(H145=\"-\",1,0)*Y$1","v":1},{"$f":"AND(Y145=0,Y$1=1)","v":false},{"$f":"IF(J145=\"-\",1,0)*AA$1","v":1},{"$f":"AND(AA145=0,AA$1=1)","v":false},{"$f":"IF(L145=\"-\",1,0)*AC$1","v":1},{"$f":"AND(AC145=0,AC$1=1)","v":false}]
[143,null,"-","-",{"$f":"IF(D146=\"-\",0,D146)","v":0},"-",{"$f":"IF(F146=\"-\",0,F146)","v":0},"-",{"$f":"IF(H146=\"-\",0,H146)","v":0},"-",{"$f":"IF(J146=\"-\",0,J146)","v":0},"-",{"$f":"IF(L146=\"-\",0,L146)","v":0},null,{"$f":"E146+G146+I146+K146+M146","v":0},{"$f":"MAX(D146,F146,H146,J146,L146)","v":0},{"$f":"IF(S146=1,O146,IF(S146=0,(O146-P146),\"-\"))","v":"-"},{"$f":"COUNTIF(U146:AD146,\"=TRUE\")","v":0},{"$f":"AE$1-R146","v":5},{"$f":"IF(S146<2,\"Yes\",\"No\")","v":"No"},{"$f":"IF(D146=\"-\",1,0)*U$1","v":1},{"$f":"AND(U146=0,U$1=1)","v":false},{"$f":"IF(F146=\"-\",1,0)*W$1","v":1},{"$f":"AND(W146=0,W$1=1)","v":false},{"$f":"IF(H146=\"-\",1,0)*Y$1","v":1},{"$f":"AND(Y146=0,Y$1=1)","v":false},{"$f":"IF(J146=\"-\",1,0)*AA$1","v":1},{"$f":"AND(AA146=0,AA$1=1)","v":false},{"$f":"IF(L146=\"-\",1,0)*AC$1","v":1},{"$f":"AND(AC146=0,AC$1=1)","v":false}]
[144,null,"-","-",{"$f":"IF(D147=\"-\",0,D147)","v":0},"-",{"$f":"IF(F147=\"-\",0,F147)","v":0},"-",{"$f":"IF(H147=\"-\",0,H147)","v":0},"-",{"$f":"IF(J147=\"-\",0,J147)","v":0},"-",{"$f":"IF(L147=\"-\",0,L147)","v":0},null,{"$f":"E147+G147+I147+K147+M147","v":0},{"$f":"MAX(D147,F147,H147,J147,L147)","v":0},{"$f":"IF(S147=1,O147,IF(S147=0,(O147-P147),\"-\"))","v":"-"},{"$f":"COUNTIF(U147:AD147,\"=TRUE\")","v":0},{"$f":"AE$1-R147","v":5},{"$f":"IF(S147<2,\"Yes\",\"No\")","v":"No"},{"$f":"IF(D147=\"-\",1,0)*U$1","v":1},{"$f":"AND(U147=0,U$1=1)","v":false},{"$f":"IF(F147=\"-\",1,0)*W$1","v":1},{"$f":"AND(W147=0,W$1=1)","v":false},{"$f":"IF(H147=\"-\",1,0)*Y$1","v":1},{"$f":"AND(Y147=0,Y$1=1)","v":false},{"$f":"IF(J147=\"-\",1,0)*AA$1","v":1},{"$f":"AND(AA147=0,AA$1=1)","v":false},{"$f":"IF(L147=\"-\",1,0)*AC$1","v":1},{"$f":"AND(AC147=0,AC$1=1)","v":false}]
[145,null,"-","-",{"$f":"IF(D148=\"-\",0,D148)","v":0},"-",{"$f":"IF(F148=\"-\",0,F148)","v":0},"-",{"$f":"IF(H148=\"-\",0,H148)","v":0},"-",{"$f":"IF(J148=\"-\",0,J148)","v":0},"-",{"$f":"IF(L148=\"-\",0,L148)","v":0},null,{"$f":"E148+G148+I148+K148+M148","v":0},{"$f":"MAX(D148,F148,H148,J148,L148)","v":0},{"$f":"IF(S148=1,O148,IF(S148=0,(O148-P148),\"-\"))","v":"-"},{"$f":"COUNTIF(U148:AD148,\"=TRUE\")","v":0},{"$f":"AE$1-R148","v":5},{"$f":"IF(S148<2,\"Yes\",\"No\")","v":"No"},{"$f":"IF(D148=\"-\",1,0)*U$1","v":1},{"$f":"AND(U148=0,U$1=1)","v":false},{"$f":"IF(F148=\"-\",1,0)*W$1","v":1},{"$f":"AND(W148=0,W$1=1)","v":false},{"$f":"IF(H148=\"-\",1,0)*Y$1","v":1},{"$f":"AND(Y148=0,Y$1=1)","v":false},{"$f":"IF(J148=\"-\",1,0)*AA$1","v":1},{"$f":"AND(AA148=0,AA$1=1)","v":false},{"$f":"IF(L148=\"-\",1,0)*AC$1","v":1},{"$f":"AND(AC148=0,AC$1=1)","v":false}]
[146,null,"-","-",{"$f":"IF(D149=\"-\",0,D149)","v":0},"-",{"$f":"IF(F149=\"-\",0,F149)","v":0},"-",{"$f":"IF(H149=\"-\",0,H149)","v":0},"-",{"$f":"IF(J149=\"-\",0,J149)","v":0},"-",{"$f":"IF(L149=\"-\",0,L149)","v":0},null,{"$f":"E149+G149+I149+K149+M149","v":0},{"$f":"MAX(D149,F149,H149,J149,L149)","v":0},{"$f":"IF(S149=1,O149,IF(S149=0,(O149-P149),\"-\"))","v":"-"},{"$f":"COUNTIF(U149:AD149,\"=TRUE\")","v":0},{"$f":"AE$1-R149","v":5},{"$f":"IF(S149<2,\"Yes\",\"No\")","v":"No"},{"$f":"IF(D149=\"-\",1,0)*U$1","v":1},{"$f":"AND(U149=0,U$1=1)","v":false},{"$f":"IF(F149=\"-\",1,0)*W$1","v":1},{"$f":"AND(W149=0,W$1=1)","v":false},{"$f":"IF(H149=\"-\",1,0)*Y$1","v":1},{"$f":"AND(Y149=0,Y$1=1)","v":false},{"$f":"IF(J149=\"-\",1,0)*AA$1","v":1},{"$f":"AND(AA149=0,AA$1=1)","v":false},{"$f":"IF(L149=\"-\",1,0)*AC$1","v":1},{"$f":"AND(AC149=0,AC$1=1)","v":false}]
[147]
[148]
[149]
[150]

{"sheet":"Senior Boys Teams","index":15,"n_rows":19,"n_cols":25,"rows_kept":19,"cut":false,"hidden":false,"merged":[[2,1,2,4],[2,5,2,8],[2,9,2,12],[2,13,2,16],[2,17,2,20]]}
[null,"Claimed Last Place",null,"Y","N","-"]
[]
["Total Finishers",{"$f":"'Senior Boys'!D2","v":9},null,null,null,{"$f":"'Senior Boys'!G2","v":8},null,null,null,{"$f":"'Senior Boys'!H2","v":14},null,null,null,{"$f":"'Senior Boys'!J2","v":9},null,null,null,{"$f":"'Senior Boys'!L2","v":8}]
["Team","Race 1 Position",null,"Race 1 Points Total","Claimed Last Place?","Race 2 Postion",null,"Race 2 Points Total","Claimed Last Place?","Race 3 Postion",null,"Race 3 Points Total","Claimed Last Place?","Race 4 Postion",null,"Race 4 Points Total","Claimed Last Place?","Race 5 Postion",null,"Race 5 Points Total","Claimed Last Place?","Number of claimed last places","Number of Races Without","Number of Races Completed","Total (All Races)"]
["Loughborough Grammar School",1,{"$f":"IF(B5=\"-\",0,B5)","v":1},19,"N","-",{"$f":"IF(F5=\"-\",0,F5)","v":0},"-","-",4,{"$f":"IF(J5=\"-\",0,J5)","v":4},34,"N",2,{"$f":"IF(N5=\"-\",0,N5)","v":2},26,"Y",1,{"$f":"IF(R5=\"-\",0,R5)","v":1},21,"Y",{"$f":"COUNTIF(B5:U5,\"Y\")","v":2},{"$f":"COUNTIF(B5:U5,\"n\")","v":2},{"$f":"V5+W5","v":4},{"$f":"C5+G5+K5+O5+S5","v":8}]
["Beauchamp College",1,{"$f":"IF(B6=\"-\",0,B6)","v":1},19,"N","-",{"$f":"IF(F6=\"-\",0,F6)","v":0},"-","-",1,{"$f":"IF(J6=\"-\",0,J6)","v":1},23,"Y","-",{"$f":"IF(N6=\"-\",0,N6)","v":0},"-","-","-",{"$f":"IF(R6=\"-\",0,R6)","v":0},"-","-",{"$f":"COUNTIF(B6:U6,\"Y\")","v":1},{"$f":"COUNTIF(B6:U6,\"n\")","v":1},{"$f":"V6+W6","v":2},{"$f":"C6+G6+K6+O6+S6","v":2}]
["Bosworth Academy","-",0,"-","-",1,1,16,"Y",2,2,26,"Y",1,1,16,"Y",1,1,21,"Y",4,0,4,5]
["De Lisle College","-",0,"-","-","-",0,"-","-",3,3,31,"Y","-",0,"-","-","-",0,"-","-",1,0,1,3]
[null,"-",0,"-","-","-",0,"-","-","-",0,"-","-","-",0,"-","-","-",0,"-","-",0,0,0,0]
[null,"-",0,"-","-","-",0,"-","-","-",0,"-","-","-",0,"-","-","-",0,"-","-",0,0,0,0]
[null,"-",0,"-","-","-",0,"-","-","-",0,"-","-","-",0,"-","-","-",0,"-","-",0,0,0,0]
[null,"-",0,"-","-","-",0,"-","-","-",0,"-","-","-",0,"-","-","-",0,"-","-",0,0,0,0]
[null,"-",0,"-","-","-",0,"-","-","-",0,"-","-","-",0,"-","-","-",0,"-","-",0,0,0,0]
[null,"-",0,"-","-","-",0,"-","-","-",0,"-","-","-",0,"-","-","-",0,"-","-",0,0,0,0]
[null,"-",0,"-","-","-",0,"-","-","-",0,"-","-","-",0,"-","-","-",0,"-","-",0,0,0,0]
[null,"-",0,"-","-","-",0,"-","-","-",0,"-","-","-",0,"-","-","-",0,"-","-",0,0,0,0]
[null,"-",0,"-","-","-",0,"-","-","-",0,"-","-","-",0,"-","-","-",0,"-","-",0,0,0,0]
[null,"-",0,"-","-","-",0,"-","-","-",0,"-","-","-",0,"-","-","-",0,"-","-",0,0,0,0]
[null,"-",{"$f":"IF(B19=\"-\",0,B19)","v":0},"-","-","-",{"$f":"IF(F19=\"-\",0,F19)","v":0},"-","-","-",{"$f":"IF(J19=\"-\",0,J19)","v":0},"-",null,"-",{"$f":"IF(N19=\"-\",0,N19)","v":0},"-","-","-",{"$f":"IF(R19=\"-\",0,R19)","v":0},"-","-",0,0,0,0]

{"sheet":"Summary Sheet","index":16,"n_rows":11,"n_cols":11,"rows_kept":11,"cut":false,"hidden":false,"merged":[[2,3,2,10],[1,1,1,10],[2,1,3,1],[2,2,3,2]]}
[]
[null,"Summary Sheet"]
[null,"Race","Location","Number of runners"]
[null,null,null,"Y7G","Y7B","JG","JB","IG","IB","SG","SB"]
[null,1,"Groby",{"$f":"'Year 7 Girls '!D2","v":59},{"$f":"'Year 7 Boys'!D2","v":68},{"$f":"'Junior Girls'!D2","v":55},{"$f":"'Junior Boys'!D2","v":48},{"$f":"'Inter Girls'!D2","v":20},{"$f":"'Inter Boys'!D2","v":26},{"$f":"'Senior Girls'!D2","v":7},{"$f":"'Senior Boys'!D2","v":9}]
[null,2,"Rutland Water",{"$f":"'Year 7 Girls '!F2","v":50},{"$f":"'Year 7 Boys'!F2","v":66},{"$f":"'Junior Girls'!F2","v":56},{"$f":"'Junior Boys'!F2","v":62},{"$f":"'Inter Girls'!F2","v":14},{"$f":"'Inter Boys'!F2","v":35},{"$f":"'Senior Girls'!F2","v":8},{"$f":"'Senior Boys'!F2","v":8}]
[null,3,"Lutterworth",{"$f":"'Year 7 Girls '!H2","v":50},{"$f":"'Year 7 Boys'!H2","v":51},{"$f":"'Junior Girls'!H2","v":55},{"$f":"'Junior Boys'!H2","v":49},{"$f":"'Inter Girls'!H2","v":14},{"$f":"'Inter Boys'!H2","v":27},{"$f":"'Senior Girls'!H2","v":11},{"$f":"'Senior Boys'!H2","v":14}]
[null,4,"Melton Mowbray",{"$f":"'Year 7 Girls '!J2","v":39},{"$f":"'Year 7 Boys'!J2","v":46},{"$f":"'Junior Girls'!J2","v":42},{"$f":"'Junior Boys'!J2","v":39},{"$f":"'Inter Girls'!J2","v":13},{"$f":"'Inter Boys'!J2","v":23},{"$f":"'Senior Girls'!J2","v":9},{"$f":"'Senior Boys'!J2","v":9}]
[null,5,"Market Harborough",{"$f":"'Year 7 Girls '!L2","v":47},{"$f":"'Year 7 Boys'!L2","v":40},{"$f":"'Junior Girls'!L2","v":43},{"$f":"'Junior Boys'!L2","v":41},{"$f":"'Inter Girls'!L2","v":14},{"$f":"'Inter Boys'!L2","v":22},{"$f":"'Senior Girls'!L2","v":10},{"$f":"'Senior Boys'!L2","v":8}]
[]
[null,"Total number of runners","-",{"$f":"'Year 7 Girls '!B2","v":87},{"$f":"'Year 7 Boys'!B2","v":104},{"$f":"'Junior Girls'!B2","v":87},{"$f":"'Junior Boys'!B2","v":87},{"$f":"'Inter Girls'!B2","v":28},{"$f":"'Inter Boys'!B2","v":49},{"$f":"'Senior Girls'!B2","v":16},{"$f":"'Senior Boys'!B2","v":19}]

{"sheet":"Schools List","index":17,"n_rows":94,"n_cols":1,"rows_kept":94,"cut":false,"hidden":false,"merged":[]}
["Schools List"]
["-"]
["Abington Academy"]
["Ashby School"]
["Babington CC"]
["Beauchamp College"]
["Beaumont Leys School"]
["Belvoir High School"]
["Bosworth Academy"]
["Brockington College"]
["Brooksby Melton College"]
["Brookvale High School"]
["Bushloe High School"]
["Casterton B & E College"]
["Castle Donington CC"]
["Castle Rock High School"]
["Catmose College"]
["Charnwood College"]
["City of Leicester College"]
["Countesthorpe CC"]
["Crown Hills CC"]
["De Lisle College"]
["Dixie Grammar School"]
["English Martyrs Catholic School"]
["Fullhurst CC"]
["Gartree High School"]
["Gateway College"]
["Groby CC"]
["Guthlaxton College"]
["Hamilton CC"]
["Hastings High School"]
["Hind Leys College"]
["Humphrey Perkins School"]
["Ibstock CC"]
["Ivanhoe College"]
["John Cleveland College"]
["John Ferneley College"]
["Judge Meadows CC"]
["Kibworth High School"]
["King Edward VII College"]
["Leicester College"]
["Leicester Grammar School"]
["Leicester High School"]
["Leysland High School"]
["Limehurst Academy"]
["Long Field Academy"]
["Longslade CC"]
["Loughborough College"]
["Loughborough Grammar School"]
["Loughborough High School"]
["Lutterworth College"]
["Lutterworth High School"]
["Madani High School"]
["Manor High School"]
["Melton Vale Post 16 Centre"]
["Moat CC"]
["Mount Grace High School"]
["New College"]
["Newbridge High School"]
["Oakham School"]
["Our Lady's Convent"]
["Ratcliffe College"]
["Rawlins College"]
["Redmoor Academy"]
["Regent College"]
["Robert Smyth Academy"]
["Roundhill Academy"]
["Rushey Mead School"]
["Shepshed High School"]
["Sir Jonathon North CC"]
["Soar Valley College"]
["South Charnwood High School"]
["South Wigston High School"]
["St Crispins School"]
["St Martins"]
["St Pauls Catholic School"]
["Stonehill High School"]
["Stoneygate School"]
["The Heathfield Academy"]
["The Lancaster School"]
["The Market Bosworth School"]
["The Martin High School"]
["The Samworth Acadamy"]
["Thomas Estley CC"]
["UNCLAIMED"]
["Uppingham CC"]
["Uppingham School"]
["Welbeck College"]
["Welland Park Academy"]
["William Bradford CC"]
["Winstanley CC"]
["Woodbrook Vale School"]
["Wreake Valley Academy"]
["Wyggeston & QEI College"]